{"text_format":"1","workbook":"xlsx","n_sheets":21,"sheets":["a_Contents","b_Guidelines and conditions","A_MPversions","B_Operator&Inst.ID","C_InstallationDescription","D_CalculationBasedApproaches","E_SourceStreams","F_MeasurementBasedApproaches","G_Fall-backApproach","H_N2O","I_PFC","J_Transferred GHG","J2_PermCCU","K_ManagementControl","L_MS specific content","M_Accounting","UBA_Parameters","MSParameters","EUwideConstants","Translations","VersionDocumentation"],"not_rendered":{"charts":0,"images":0,"macros":1,"external_links":0,"defined_names":221,"comments":2,"pivot_tables":0},"unopened":[],"bounds":{"document_bytes":16777216,"sheet_cells":100000,"rows_first":2000,"rows_last":500,"rows_between":2000,"halvings":0,"cell_chars":16384,"cell_head_chars":4096},"cells_cut":0,"cells_raw":0,"read":"whole","date_system":"1900"}

{"sheet":"a_Contents","index":0,"n_rows":73,"n_cols":6,"rows_kept":73,"cut":false,"hidden":false,"merged":[[46,1,46,8],[44,2,44,8],[45,2,45,8],[31,2,31,8],[32,2,32,8],[35,2,35,8],[36,2,36,8],[43,2,43,8],[37,1,37,8],[38,2,38,8],[33,1,33,8],[39,1,39,8],[14,1,14,8],[17,1,17,8],[19,1,19,8],[21,1,21,8],[15,2,15,8],[16,2,16,8],[18,2,18,8],[20,2,20,8],[22,2,22,8],[26,2,26,8],[28,2,28,8],[30,2,30,8],[23,2,23,8],[24,2,24,8],[25,1,25,8],[27,1,27,8],[29,1,29,8],[9,2,9,8],[11,2,11,8],[12,2,12,8],[13,2,13,8],[10,1,10,8],[48,1,48,8],[6,1,6,8],[7,1,7,8],[72,1,72,4],[56,1,57,8],[64,1,64,3],[69,1,69,4],[70,1,70,4],[71,1,71,4],[63,1,63,3],[8,1,8,8],[47,2,47,8],[34,2,34,8],[40,2,40,8],[41,2,41,8],[42,2,42,8]]}
[null,{"$f":"Translations!$B$2","v":"MONITORINGKONZEPT FÜR JÄHRLICHE EMISSIONEN"}]
[]
[null,{"$f":"Translations!$B$3","v":"INHALT"}]
[]
[null,{"$f":"Translations!$B$4","v":"Die Namen der Arbeitsblätter sind fett, die Namen der einzelnen Abschnitte normal gedruckt."}]
[]
[null,{"$f":"Translations!$B$5","v":"a_Inhalt"}]
[null,{"$f":"Translations!$B$6","v":"b_Leitlinien und Modalitäten"}]
[null,{"$f":"Translations!$B$7","v":"A. Versionen des Monitoringkonzepts"}]
[null,1,{"$f":"Translations!$B$8","v":"Liste der Versionen des Monitoringkonzepts"}]
[null,{"$f":"Translations!$B$9","v":"B. Identität des Inhabers und der Anlage"}]
[null,2,{"$f":"Translations!$B$10","v":"Angaben zum Inhaber"}]
[null,3,{"$f":"Translations!$B$11","v":"Angaben zur Anlage"}]
[null,4,{"$f":"Translations!$B$12","v":"Kontaktangaben "}]
[null,{"$f":"Translations!$B$13","v":"C. Beschreibung der Anlage"}]
[null,5,{"$f":"Translations!$B$14","v":"Angaben zu den Tätigkeiten der Anlage"}]
[null,6,{"$f":"Translations!$B$15","v":"Angaben zu den Emissionen"}]
[null,{"$f":"Translations!$B$16","v":"D. Auf Berechnungen beruhende Methodiken"}]
[null,7,{"$f":"Translations!$B$17","v":"Berechnung: Für weitere Eingaben im nächsten Arbeitsblatt erforderliche Daten"}]
[null,{"$f":"Translations!$B$18","v":"E. Stoffströme"}]
[null,8,{"$f":"Translations!$B$19","v":"Angaben zu den auf die Aktivitätsdaten und Berechnungsfaktoren angewandten Ebenen"}]
[null,{"$f":"Translations!$B$20","v":"F. Auf Messungen beruhende Methodiken"}]
[null,9,{"$f":"Translations!$B$21","v":"Messung der CO2- und der N2O-Emissionen "}]
[null,10,{"$f":"Translations!$B$22","v":"Angaben zu den Messstellen"}]
[null,11,{"$f":"Translations!$B$23","v":"Verwaltung und Verfahren für auf Messungen beruhende Methodiken"}]
[null,{"$f":"Translations!$B$24","v":"G. Fall-back-Methodiken"}]
[null,12,{"$f":"Translations!$B$25","v":"Beschreibung der Fall-back-Methodik"}]
[null,{"$f":"Translations!$B$26","v":"H. N2O-Emissionen"}]
[null,13,{"$f":"Translations!$B$27","v":"Verwaltung und Verfahren für die Überwachung von N2O-Emissionen"}]
[null,{"$f":"Translations!$B$28","v":"I. Bestimmung von PFC-Emissionen aus der Primäraluminiumproduktion"}]
[null,14,{"$f":"Translations!$B$29","v":"Bestimmung von PFC-Emissionen"}]
[null,15,{"$f":"Translations!$B$30","v":"Einzelheiten zur Überwachung der Stoffströme von PFC-Emissionen"}]
[null,16,{"$f":"Translations!$B$31","v":"Management und schriftliche Verfahren für die Überwachung von PFC"}]
[null,{"$f":"Translations!$B$32","v":"J. Bestimmung von weitergeleitetem oder inhärentem CO2 "}]
[null,17,{"$f":"Translations!$B$33","v":"Bestimmung von inhärentem und weitergeleitetem CO2"}]
[null,18,{"$f":"Translations!$B$34","v":"Sachdienliche Angaben zu den für die Beförderung von CO2 genutzten Pipelinesystemen"}]
[null,19,{"$f":"Translations!$B$35","v":"Sachdienliche Angaben zu Anlagen für die geologische Speicherung von CO2 "}]
[null,{"$f":"J2_PermCCU!C6","v":"J2. In einem Produkt dauerhaft chemisch gebundenes CO2"}]
[null,"19a",{"$f":"J2_PermCCU!D10","v":"Bestimmung der Mengen an dauerhaft chemisch gebundenem CO2"}]
[null,{"$f":"Translations!$B$36","v":"K. Verwaltung und Kontrolle"}]
[null,20,{"$f":"Translations!$B$37","v":"Verwaltung "}]
[null,21,{"$f":"Translations!$B$38","v":"Datenflussaktivitäten"}]
[null,22,{"$f":"Translations!$B$39","v":"Kontrollaktivitäten"}]
[null,23,{"$f":"Translations!$B$40","v":"Liste der verwendeten Definitionen und Abkürzungen"}]
[null,24,{"$f":"Translations!$B$41","v":"Zusätzliche Informationen"}]
[null,25,{"$f":"Translations!$B$1152","v":"Weitere Verfahren"}]
[null,{"$f":"Translations!$B$43","v":"L. Weitere mitgliedstaatspezifische Angaben"}]
[null,26,{"$f":"Translations!$B$44","v":"Anmerkungen"}]
[null,{"$f":"Translations!$B$1153","v":"M. Accounting"}]
[]
[null,{"$f":"Translations!$B$45","v":"Informationen zu dieser Datei:"}]
[null,{"$f":"Translations!$B$46","v":"Einreicher dieses Monitoringkonzepts:"},null,null,null,{"$f":"IF(ISBLANK('B_Operator&Inst.ID'!I16),\"\",'B_Operator&Inst.ID'!I16)","v":""}]
[null,{"$f":"Translations!$B$47","v":"Name der Anlage:"},null,null,null,{"$f":"IF(ISBLANK('B_Operator&Inst.ID'!I29),\"\",'B_Operator&Inst.ID'!I29)","v":""}]
[null,{"$f":"Translations!$B$48","v":"Kennung der Anlage:"},null,null,null,{"$f":"IF(ISBLANK('B_Operator&Inst.ID'!I33),\"\",'B_Operator&Inst.ID'!I33)","v":""}]
[null,{"$f":"Translations!$B$49","v":"Nummer der Version dieses Monitoringkonzepts:"},null,null,null,{"$f":"IF(COUNTA(A_MPversions!E23:E48)=0,\"\",MAX(A_MPversions!E23:E48,1))","v":""}]
[]
[null,{"$f":"Translations!$B$50","v":"Wenn Ihre zuständige Behörde die Einreichung einer unterzeichneten Papierausfertigung des Monitoringkonzepts verlangt, nutzen Sie bitte den folgenden Platz für Datum und Unterschrift:"}]
[]
[]
[]
[]
[]
[]
[]
[null,{"$f":"Translations!$B$51","v":"Datum"},null,null,null,{"$f":"Translations!$B$52","v":"Name und Unterschrift der rechtlich zuständigen Person"}]
[]
[]
[]
[null,{"$f":"Translations!$B$53","v":"Angaben zur Version der Vorlage:"}]
[null,{"$f":"Translations!$B$54","v":"Ersteller der Vorlage:"},null,null,null,{"$f":"VersionDocumentation!B4","v":"Austria"}]
[null,{"$f":"Translations!$B$55","v":"Datum der Veröffentlichung:"},null,null,null,{"$f":"VersionDocumentation!B3","v":"2025-07-11"}]
[null,{"$f":"Translations!$B$56","v":"Sprachversion:"},null,null,null,{"$f":"VersionDocumentation!B5","v":"German"}]
[null,{"$f":"Translations!$B$57","v":"Referenzdateiname:"},null,null,null,{"$f":"VersionDocumentation!C3","v":"MP P4 Inst_AT_de_110725.xls"}]

{"sheet":"b_Guidelines and conditions","index":1,"n_rows":119,"n_cols":9,"rows_kept":119,"cut":false,"hidden":false,"merged":[[115,1,115,11],[107,1,107,11],[108,1,108,11],[109,1,109,11],[110,1,110,11],[111,1,111,11],[112,1,112,11],[113,1,113,11],[114,1,114,11],[97,1,97,11],[96,1,96,11],[94,1,94,11],[106,1,106,11],[88,1,88,11],[78,2,78,3],[78,4,78,11],[95,1,95,11],[87,1,87,11],[85,1,85,11],[83,1,83,11],[84,1,84,10],[89,1,89,11],[90,1,90,11],[93,1,93,11],[105,1,105,11],[101,1,101,11],[102,1,102,11],[99,1,99,11],[100,1,100,11],[103,1,103,11],[104,1,104,11],[98,1,98,11],[76,2,76,3],[76,4,76,11],[82,1,82,11],[77,4,77,11],[80,1,80,11],[68,1,68,11],[69,1,69,11],[71,4,71,11],[72,2,72,3],[75,4,75,11],[81,1,81,11],[77,2,77,3],[74,4,74,11],[75,2,75,3],[63,1,63,11],[64,1,64,11],[66,1,66,11],[71,2,71,3],[72,4,72,11],[74,2,74,3],[48,1,48,11],[49,1,49,11],[60,1,60,11],[67,1,67,11],[50,1,50,11],[52,1,52,11],[54,3,54,8],[58,3,58,8],[70,1,70,11],[73,2,73,3],[73,4,73,11],[25,1,25,11],[37,4,44,7],[46,1,46,11],[32,2,32,11],[33,2,33,11],[47,1,47,11],[35,1,35,11],[27,1,27,11],[61,1,61,11],[56,3,56,8],[118,3,118,9],[0,8,0,9],[0,10,0,11],[1,2,1,3],[1,4,1,5],[1,6,1,7],[1,8,1,9],[0,4,0,5],[0,6,0,7],[17,1,17,11],[1,10,1,11],[0,2,0,3],[23,1,23,11],[0,0,2,1],[2,8,2,9],[2,10,2,11],[2,4,2,5],[10,1,10,11],[13,1,13,11],[30,2,30,11],[31,2,31,11],[34,1,34,11],[26,1,26,11],[29,1,29,11],[2,6,2,7],[22,1,22,11],[2,2,2,3],[4,1,4,9],[5,1,5,11],[7,1,7,11],[12,1,12,11],[6,1,6,11],[11,1,11,11],[8,1,8,11],[14,1,14,11],[18,1,18,11],[19,1,19,11],[15,1,15,11],[16,1,16,11],[20,1,20,11],[21,1,21,11]]}
[{"$f":"Translations!$B$58","v":"b. \nGuide-lines"},null,{"$f":"Translations!$B$59","v":"Navigationsbereich:"},null,{"$f":"Translations!$B$60","v":"Inhaltsverzeichnis"},null,{"$f":"Translations!$B$61","v":"Vorheriges Blatt"},null,{"$f":"Translations!$B$62","v":"Nächstes Blatt"}]
[null,null,{"$f":"Translations!$B$63","v":"Blattanfang"}]
[null,null,{"$f":"Translations!$B$64","v":"Blattende"}]
[]
[null,{"$f":"Translations!$B$65","v":"LEITLINIEN UND MODALITÄTEN"}]
[]
[1,{"$f":"Translations!$B$66","v":"Gemäß Emissionszertifikategesetz (EZG 2011) müssen die Inhaber von Anlagen, die in das Europäische System für den Handel mit Treibhausgasemissionszertifikaten (EU-EHS) einbezogen sind, über eine gültige Genehmigung zur Emissionen von Treibhausgasen (THG) verfügen, die von der zuständigen Behörde erteilt wurde, und ihre Emissionen überwachen und darüber berichten. Diese Berichte müssen von einer unabhängigen, akkreditierten Prüfstelle geprüft werden."}]
[null,{"$f":"Translations!$B$67","v":"Die Richtlinie ist abrufbar unter:"}]
[null,"https://eur-lex.europa.eu/eli/dir/2003/87/2024-03-01"]
[]
[2,{"$f":"Translations!$B$1155","v":"In der Verordnung über die Überwachung und Berichterstattung (Durchführungsverordnung (EU) 2018/2066 der Kommission in der geänderten Fassung) („Monitoring-Verordnung“, im Folgenden „MVO“) sind die Überwachung und Berichterstattung näher geregelt. Die MVO ist abrufbar unter:"}]
[null,"http://data.europa.eu/eli/reg_impl/2018/2066/2025-01-01"]
[null,{"$f":"Translations!$B$71","v":"Artikel 12 MVO enthält die spezifischen Anforderungen an den Inhalt und die Übermittlung des Monitoringkonzepts und seiner Aktualisierungen. In Artikel 12 wird die Bedeutung des Monitoringkonzepts mit folgenden Worten betont:"}]
[null,{"$f":"Translations!$B$72","v":"„Das Monitoringkonzept besteht aus einer ausführlichen, vollständigen und transparenten Dokumentation der Überwachungsmethodik für eine bestimmte Anlage oder einen bestimmten Luftfahrzeugbetreiber und enthält mindestens die in Anhang I aufgeführten Angaben.“"}]
[null,{"$f":"Translations!$B$73","v":"Außerdem hat Artikel 74 Absatz 1 folgenden Wortlaut:"}]
[null,{"$f":"Translations!$B$74","v":"„Die Mitgliedstaaten können vorschreiben, dass die Anlagenbetreiber und Luftfahrzeugbetreiber für die Übermittlung von Monitoringkonzepten und Änderungen des Monitoringkonzepts sowie für die Übermittlung der jährlichen Emissionsberichte, der Tonnenkilometerberichte, der Prüfberichte und der Verbesserungsberichte elektronische Vorlagen oder spezifische Dateiformate verwenden müssen. \n Diese von den Mitgliedstaaten festgelegten Vorlagen und spezifischen Dateiformate enthalten mindestens die Informationen, die in den von der Kommission veröffentlichten elektronischen Vorlagen und Spezifikationen für ein Dateiformat enthalten sind.“"}]
[3,{"$f":"Translations!$B$75","v":"Bei der vorliegenden Datei handelt es sich um die von den Dienststellen der Europäischen Kommission erstellte Vorlage für die Monitoringkonzepte von Anlagen; sie entspricht den Anforderungen des Anhangs I und enthält weitere Anforderungen, die dem Inhaber helfen nachzuweisen, dass er die MVO beachtet. In bestimmten, im Folgenden näher beschriebenen Fällen kann die zuständige Behörde eines Mitgliedstaats in begrenztem Umfang Anpassungen für eigene Zwecke vorgenommen haben. "}]
[null,{"$f":"Translations!$B$1147","v":"Diese Vorlage für das Monitoringkonzept gibt die Ansichten der Kommissionsdienststellen zum Zeitpunkt ihrer Veröffentlichung wieder. "}]
[null,{"$f":"Translations!$B$1335","v":"Dies ist die aktualisierte Version der Vorlage für das Monitoringkonzept für stationäre Anlagen mit Stand vom 17. Dezember 2024."}]
[]
[4,{"$f":"Translations!$B$76","v":"Außerdem können die Mitgliedstaaten nach der MVO (Artikel 13) für „einfache“ Anlagen vereinfachte und standardisierte Vorlagen für Monitoringkonzepte entwickeln. "}]
[null,{"$f":"Translations!$B$1336","v":"Die Mitgliedstaaten können Anlagen- und Luftfahrzeugbetreibern unbeschadet des Artikels 12 Absatz 3 die Verwendung von standardisierten oder vereinfachten Monitoringkonzepten gestatten. \nZu diesem Zweck können die Mitgliedstaaten Vorlagen für diese Monitoringkonzepte, einschließlich einer Beschreibung der Datenfluss- und Kontrollverfahren gemäß den Artikeln 58 und 59, veröffentlichen, denen von der Kommission veröffentlichte Vorlagen und Leitfäden zugrunde liegen."}]
[null,{"$f":"Translations!$B$78","v":"Nach Maßgabe des Leitfadens Nr. 1 der Kommission („General guidance for installations“) sollten solche standardisierten Vorlagen bereitgestellt werden, indem gegebenenfalls Standardformulierungen in die vorliegende Vorlage eingebaut werden."}]
[null,{"$f":"Translations!$B$79","v":"Wenn Ihre Anlage in Einklang mit den Anforderungen des Leitfadens Nr. 1 für ein solches vereinfachtes und/oder standardisiertes Monitoringkonzept in Betracht kommt, konsultieren Sie bitte Ihre zuständige Behörde oder deren Website, um zu erfahren, ob Ihr Mitgliedstaat solche vereinfachten Vorlagen bereitstellt."}]
[]
[5,{"$f":"Translations!$B$80","v":"Alle Leitfäden der Kommission zur Verordnung über die Überwachung und Berichterstattung sind abrufbar unter:"}]
[null,"https://climate.ec.europa.eu/eu-action/eu-emissions-trading-system-eu-ets/monitoring-reporting-and-verification-eu-ets-emissions_en"]
[null,{"$f":"Translations!$B$1159","v":"Es wird empfohlen, mit dem „Quick guide for operators of stationary installations“ (Kurzleitfaden für Betreiber ortsfester Anlagen, in englischer Sprache) und dem Leitfaden Nr. 1 zu beginnen."}]
[]
[6,{"$f":"Translations!$B$82","v":"Vor Ausfüllen dieser Vorlage sollten Sie"}]
[null,"(a)",{"$f":"Translations!$B$83","v":"aufmerksam die Anweisungen lesen;"}]
[null,"(b)",{"$f":"Translations!$B$84","v":"feststellen, welche die für Ihre Anlage zuständige Behörde in dem Mitgliedstaat ist, in dem sich die Anlage befindet (ein Mitgliedstaat kann mehrere zuständige Behörden haben). „Mitgliedstaat“ bedeutet hier alle am EU-EHS beteiligten Staaten, nicht nur die EU-Mitgliedstaaten."}]
[null,"(c)",{"$f":"Translations!$B$85","v":"die Website der zuständigen Behörde konsultieren oder sich direkt an die zuständige Behörde wenden, um festzustellen, ob Ihnen die richtige Vorlagenversion vorliegt. Auf der ersten Seite dieser Datei ist die Version der Vorlage (und besonders der Name der Referenzunterlage) klar bezeichnet."}]
[null,"(d)",{"$f":"Translations!$B$86","v":"die Anforderungen Ihres Mitgliedstaats prüfen, da er möglicherweise verlangt, dass ein alternatives System, z. B. internetbasierte Formulare an Stelle von Kalkulationstabellen, verwendet wird."}]
[]
[7,{"$f":"Translations!$B$87","v":"Dieses Monitoringkonzept ist Ihrer zuständigen Behörde an folgende Anschrift zuzusenden:"}]
[]
[null,null,null,null,{"$f":"Translations!$B$88","v":"Ausführliche Adresse, vom Mitgliedstaat anzugeben"}]
[]
[]
[]
[]
[]
[]
[]
[]
[8,{"$f":"Translations!$B$89","v":"Die zuständige Behörde kann sich an Sie wenden, um Änderungen Ihres Monitoringkonzepts zu erörtern, damit die genaue und zuverlässige Überwachung und Berichterstattung betreffend die jährlichen Emissionen in Einklang mit den allgemeinen und besonderen Bestimmungen der MVO sichergestellt ist. Unbeschadet Artikel 16 Absatz 1 MVO verwenden Sie nach Mitteilung der Genehmigung durch die zuständige Behörde die letzte genehmigte Version des Monitoringkonzepts als die Methodik für die Bestimmung der jährlichen Emissionen und für die Umsetzung der Datenerfassungs- und Datenbearbeitungstätigkeiten sowie für Kontrollaktivitäten. Dieses Monitoringkonzept dient auch als Bezugsrahmen für die Überprüfung Ihres jährlichen Emissionsberichts."}]
[9,{"$f":"Translations!$B$90","v":"Sie müssen der zuständigen Behörde umgehend Vorschläge für erhebliche Änderungen des Monitoringkonzepts übermitteln. Jede erhebliche Änderung Ihrer Überwachungsmethodik bedarf gemäß den Artikeln 14 und 15 MVO der Genehmigung der zuständigen Behörde. Wenn Sie (in Einklang mit Artikel 15) vernünftigerweise davon ausgehen können, dass notwendige Aktualisierungen des Monitoringkonzepts nicht erheblich sind, können Sie (mit Zustimmung der zuständigen Behörde) der zuständigen Behörde diese Aktualisierungen gebündelt einmal im Jahr bis zu der in diesem Artikel genannten Frist übermitteln."}]
[10,{"$f":"Translations!$B$91","v":"Sie müssen alle Änderungen des Monitoringkonzepts in Einklang mit Artikel 16 MVO anwenden und Aufzeichnungen darüber führen."}]
[11,{"$f":"Translations!$B$92","v":"Wenden Sie sich an Ihre zuständige Behörde, wenn Sie Unterstützung bei der Erstellung Ihres Monitoringkonzepts benötigen. Einige Mitgliedstaaten haben Leitfäden erarbeitet, die Ihnen hierbei helfen können."}]
[12,{"$f":"Translations!$B$93","v":"Vertraulichkeitserklärung - Die Angaben in diesem Antrag können im Rahmen der Auskunftspflicht, unter anderem gemäß Richtlinie 2003/4/EG über den Zugang der Öffentlichkeit zu Umweltinformationen, öffentlich bekannt gegeben werden. Wenn Sie im Zusammenhang mit Ihrem Antrag gemachte Angaben als vertrauliche Geschäftsinformationen behandelt wissen möchten, teilen Sie dies bitte Ihrer zuständigen Behörde mit. Nach den Bestimmungen der Richtlinie 2003/4/EG kann die zuständige Behörde jedoch auch dann zur Offenlegung verpflichtet sein, wenn der Antragsteller um vertrauliche Behandlung seiner Angaben ersucht."}]
[]
[13,{"$f":"Translations!$B$94","v":"Informationsquellen:"}]
[null,{"$f":"Translations!$B$95","v":"EU-Websites:"}]
[null,{"$f":"Translations!$B$96","v":"EU-Recht:"},null,{"$f":"Translations!$B$97","v":"http://eur-lex.europa.eu/de/index.htm"}]
[null,{"$f":"Translations!$B$98","v":"Allgemeine Informationen zum EU-EHS:"}]
[null,null,null,{"$f":"Translations!$B$99","v":"https://climate.ec.europa.eu/eu-action/eu-emissions-trading-system-eu-ets_en"}]
[null,{"$f":"Translations!$B$100","v":"Überwachung und Berichterstattung im Rahmen des EU-EHS: "}]
[null,null,null,{"$f":"Translations!$B$81","v":"https://climate.ec.europa.eu/eu-action/eu-emissions-trading-system-eu-ets/monitoring-reporting-and-verification_en"}]
[null,{"$f":"Translations!$B$101","v":"Sonstige Websites:"}]
[null,{"$f":"Translations!$B$102","v":"https://www.bmluk.gv.at/themen/klima-und-umwelt/klima/eu_emissionshandel.html"}]
[]
[null,{"$f":"Translations!$B$103","v":"Helpdesk:"}]
[null,{"$f":"Translations!$B$104","v":"<vom Mitgliedstaat anzugeben, sofern vorhanden>"}]
[]
[]
[14,{"$f":"Translations!$B$105","v":"Hinweise zur Bearbeitung dieser Datei:"}]
[null,{"$f":"Translations!$B$106","v":"Diese Vorlage wurde entwickelt, um dem in der MVO verlangten Mindestinhalt eines Monitoringkonzepts gerecht zu werden. Die Inhaber sollten sich daher beim Ausfüllen auf die MVO und gegebenenfalls die zusätzlichen mitgliedstaatlichen Bestimmungen stützen."}]
[null,{"$f":"Translations!$B$107","v":"Es wird empfohlen, die Datei der Reihenfolge nach durchzuarbeiten. Einige Funktionen zur Unterstützung beim Ausfüllen des Formulars hängen von bereits eingegebenen Daten ab; zum Beispiel ändert sich die Farbe der Zellen, wenn keine Eingabe erforderlich ist (siehe nachstehende Erläuterung der Farbcodierung)."}]
[null,{"$f":"Translations!$B$108","v":"In einigen Feldern können Sie eine von mehreren vordefinierten Angaben auswählen. Für die Auswahl aus einer solchen „Drop-down-Liste“ klicken Sie entweder mit der Maus auf den kleinen Pfeil am rechten Rand der Zelle, oder Sie wählen die Zelle aus und drücken die Tastenkombination „Alt+Pfeil-nach-unten“. Bei einigen Feldern ist es trotz vorhandener Dropdown-Liste möglich, eigene Angaben einzugeben. Dies ist der Fall, wenn die Dropdown-Liste leere Listeneinträge enthält."}]
[null,{"$f":"Translations!$B$109","v":"Farbcodierung und Schriftarten:"}]
[null,null,{"$f":"Translations!$B$110","v":"Schwarzer Text in Fettdruck:"},null,{"$f":"Translations!$B$111","v":"Dieser Text gehört zur Vorlage der Kommission. Er sollte unverändert beibehalten werden."}]
[null,null,{"$f":"Translations!$B$112","v":"Kleinerer kursiver Text:"},null,{"$f":"Translations!$B$113","v":"Dieser Text enthält nähere Erläuterungen. Die Mitgliedstaaten können in mitgliedstaatspezifischen Versionen der Vorlage nähere Erklärungen hinzufügen."}]
[null,null,null,null,{"$f":"Translations!$B$114","v":"Gelbe Felder: obligatorische Angaben. Ist der Punkt für die Anlage nicht relevant, ist jedoch keine Eingabe erforderlich."}]
[null,null,null,null,{"$f":"Translations!$B$115","v":"Hellgelbe Felder: fakultative Angaben."}]
[null,null,null,null,{"$f":"Translations!$B$116","v":"Grüne Felder: automatisch berechnete Ergebnisse. Roter Text: Fehlermeldungen (fehlende Daten usw.)."}]
[null,null,null,null,{"$f":"Translations!$B$117","v":"Schraffierte Felder: keine Eingabe, da bereits in einem anderen Feld eine Eingabe vorgenommen wurde."}]
[null,null,null,null,{"$f":"Translations!$B$118","v":"Grau schattierte Bereiche: von den Mitgliedstaaten auszufüllen, bevor die landesspezifisch angepasste Version der Vorlage veröffentlicht wird."}]
[null,null,null,null,{"$f":"Translations!$B$119","v":"Hellgraue Bereiche: Navigation und Hyperlinks."}]
[]
[15,{"$f":"Translations!$B$120","v":"Die Navigationsleisten im oberen Bereich aller Arbeitsblätter enthalten Hyperlinks für schnelle Wechsel zu einzelnen Eingabeabschnitten. Die erste Zeile („Inhaltsverzeichnis“, „Vorheriges Arbeitsblatt“, „Nächstes Arbeitsblatt“, „Zusammenfassung“) sowie die Links „Zum Anfang des Arbeitsblatts“ und „Zum Ende des Arbeitsblatts“ sind für alle Arbeitsblätter identisch. Je nach Arbeitsblatt werden weitere Menüpunkte angezeigt."}]
[16,{"$f":"Translations!$B$121","v":"Mit Ausnahme der gelben Felder ist diese Vorlage für die Dateneingabe gesperrt. Aus Gründen der Transparenz wurde jedoch kein Passwort festgelegt. So können alle Formeln vollständig angezeigt werden. Wird diese Datei zur Dateneingabe verwendet, empfiehlt es sich, den Schutz aktiviert zu lassen. Die Arbeitsblätter sollten nur ungeschützt sein, wenn die Gültigkeit der Formeln überprüft werden soll. Es wird empfohlen, diese Überprüfung in einer separaten Datei durchzuführen."}]
[17,{"$f":"Translations!$B$122","v":"Um die Formeln gegen unbeabsichtigte Änderungen zu schützen, die in der Regel zu falschen und irreführenden Ergebnissen führen, \nist es äußerst wichtig, NICHT die Funktion AUSSCHNEIDEN UND EINFÜGEN zu VERWENDEN. \nWenn Sie Daten verschieben möchten, kopieren Sie sie zunächst mit der Funktion KOPIEREN und fügen Sie sie mit EINFÜGEN ein; danach löschen Sie die Daten im ursprünglichen (falschen) Feld."}]
[18,{"$f":"Translations!$B$123","v":"Die Datenfelder wurden nicht für spezielle Zahlen- oder andere Formate optimiert. Der Arbeitsblatt-Schutz wurde allerdings so eingerichtet, dass Sie Ihre eigenen Formate verwenden können. Insbesondere können Sie die Zahl der angezeigten Dezimalstellen festlegen. Die Zahl der angezeigten Dezimalstellen ist grundsätzlich unabhängig von der Genauigkeit der Berechnung. Die Option „Genauigkeit wie angezeigt“ von MS Excel sollte grundsätzlich deaktiviert sein. Weitere Einzelheiten zu diesem Thema finden Sie in der Hilfefunktion von MS Excel."}]
[]
[19,{"$f":"Translations!$B$124","v":"HAFTUNGSAUSSCHLUSS: Alle Formeln wurden sorgfältig erarbeitet. Fehler können jedoch nicht vollständig ausgeschlossen werden. \nWie bereits erwähnt, ist vollständige Transparenz für eine Überprüfung der Korrektheit der Berechnungen gewährleistet. Weder die Autoren dieser Datei noch die Europäische Kommission können für mögliche Schadensersatzansprüche aufgrund falscher oder irreführender Ergebnisse aus den bereitgestellten Berechnungen haftbar gemacht werden. \nDer Nutzer dieser Datei (d. h. der Inhaber von EU-EHS-Anlagen) allein ist dafür verantwortlich sicherzustellen, dass der zuständigen Behörde korrekte Daten mitgeteilt werden."}]
[]
[20,{"$f":"Translations!$B$125","v":"In vielen Fällen werden Sie in dieser Vorlage aufgefordert, Beschreibungen der Anlage, ihrer Funktionsweise und Ihrer speziellen Überwachungsmethodiken einzugeben. In diesen Fällen werden Textfelder für die Eingabe angeboten, die manchmal zu klein für die Angaben sein können, die sie eingeben wollen."}]
[21,{"$f":"Translations!$B$126","v":"In solchen Fällen fügen Sie Ihre Angaben (Text, Formeln, Referenzdaten, Diagramme und Zeichnungen) bitte als gesonderte Dateien bei, wenn Sie die Vorlage der zuständigen Behörde übermitteln. Sie werden dann aufgefordert, die Referenz der Datei anzugeben. Bitte geben Sie in solchen Fällen den Dateinamen der Anlage an. Es empfiehlt sich darüber hinaus, in die Referenz das Datum der letzten Änderung der Unterlage aufzunehmen und unmittelbar in die druckbare Datei einen deutlich lesbaren Hinweis auf dieses Datum einzufügen."}]
[22,{"$f":"Translations!$B$127","v":"Die zuständige Behörde kann die zulässigen Dateiformate einschränken. Bitte verwenden Sie nur die gängigsten Büro-Dateiarten wie .doc, .xls, .pdf. Über weitere zulässige Dateiformate erteilt die zuständige Behörde oder deren Website Auskunft."}]
[23,{"$f":"Translations!$B$128","v":"Diese Datei enthält Makros für einige Funktionen (Hinzufügen von Posten in Listen und Beispiele anzeigen bzw. nicht anzeigen). Wenn auf Ihrem Computer Makros deaktiviert sind, können Sie die Vorlage zwar verwenden, aber ohne diese Funktionen.  \nAls Nachweis dafür, dass die Makros keine Viren enthalten, wurden sie elektronisch signiert. Bitte informieren Sie sich auf der Website der Kommission oder der zuständigen Behörde darüber, wie sie die Authentizität der Vorlagendatei überprüfen können."}]
[]
[]
[24,{"$f":"Translations!$B$129","v":"Hier finden Sie mitgliedstaatenspezifische Anleitungen:"}]
[]
[]
[]
[]
[]
[]
[]
[]
[]
[]
[]
[]
[]
[]
[]
[]
[]
[]
[]
[]
[]
[]
[]
[]
[null,null,null,{"$f":"EUconst_MsgNextSheet","v":"<<< Hier klicken, um mit nächstem Blatt fortzufahren >>> "}]

{"sheet":"A_MPversions","index":2,"n_rows":54,"n_cols":16,"rows_kept":54,"cut":false,"hidden":false,"merged":[[47,6,47,7],[17,9,17,13],[18,9,18,13],[19,9,19,13],[20,9,20,13],[41,6,41,7],[42,6,42,7],[43,6,43,7],[44,6,44,7],[45,6,45,7],[46,6,46,7],[35,6,35,7],[36,6,36,7],[37,6,37,7],[38,6,38,7],[39,6,39,7],[25,6,25,7],[26,6,26,7],[27,6,27,7],[40,6,40,7],[29,6,29,7],[30,6,30,7],[31,6,31,7],[32,6,32,7],[33,6,33,7],[34,6,34,7],[20,6,20,7],[21,6,21,7],[22,6,22,7],[23,6,23,7],[24,6,24,7],[2,4,2,5],[2,10,2,11],[53,5,53,11],[49,6,51,10],[9,4,9,13],[10,4,10,13],[11,4,11,13],[12,4,12,13],[14,4,14,13],[13,4,13,13],[16,9,16,13],[16,6,16,7],[28,6,28,7],[17,6,17,7],[18,6,18,7],[19,6,19,7],[7,3,7,13],[3,4,3,5],[3,8,3,9],[1,4,1,5],[1,6,1,7],[1,12,1,13],[2,12,2,13],[5,2,5,13],[3,10,3,11],[3,12,3,13],[1,8,1,9],[1,10,1,11],[3,6,3,7],[1,1,3,3],[2,6,2,7],[2,8,2,9]]}
["ausblenden",null,null,null,null,null,null,null,null,null,null,null,null,null,null,"ausblenden"]
[null,{"$f":"Translations!$B$130","v":"A. \nMP Versions"},null,null,{"$f":"Translations!$B$59","v":"Navigationsbereich:"},null,{"$f":"Translations!$B$60","v":"Inhaltsverzeichnis"},null,{"$f":"Translations!$B$61","v":"Vorheriges Blatt"},null,{"$f":"Translations!$B$62","v":"Nächstes Blatt"}]
[null,null,null,null,{"$f":"Translations!$B$63","v":"Blattanfang"}]
[null,null,null,null,{"$f":"Translations!$B$64","v":"Blattende"}]
[]
[null,null,{"$f":"Translations!$B$7","v":"A. Versionen des Monitoringkonzepts"}]
[]
[null,null,1,{"$f":"Translations!$B$8","v":"Liste der Versionen des Monitoringkonzepts"}]
[]
[null,null,null,null,{"$f":"Translations!$B$1160","v":"Auf diesem Arbeitsblatt wird die aktuelle Version des Monitoringkonzepts ausgewiesen. Jede Version des Monitoringkonzepts muss eine eindeutige Versionsnummer (die nicht mit der Versionsnummer früherer Konzepte übereinstimmt) und ein Bezugsdatum haben."}]
[null,null,null,null,{"$f":"Translations!$B$132","v":"Je nach den Bestimmungen des Mitgliedstaats wird die Unterlage entweder in ihrer jeweils aktualisierten Version der zuständigen Behörde vorgelegt, oder der Inhaber erfasst allein die einzelnen Versionen. Der Inhaber sollte auf jeden Fall in seinen Akten eine Kopie jeder Version des Monitoringkonzepts aufbewahren."}]
[null,null,null,null,{"$f":"Translations!$B$133","v":"Der Status des Monitoringkonzepts am Bezugsdatum sollte in der Spalte „Status“ beschrieben werden. Statusmöglichkeiten sind unter anderem „der zuständigen Behörde vorgelegt“, „von der zuständigen Behörde genehmigt“, „Arbeitsentwurf“ usw."}]
[null,null,null,null,{"$f":"Translations!$B$134","v":"Bitte beachten Sie, dass die Emissionen Ihrer Anlage stets in Einklang mit der zuletzt genehmigten Version des Monitoringkonzepts überwacht werden müssen, ausgenommen die Fälle, in denen der zuständigen Behörde bereits eine Aktualisierung des Monitoringkonzepts vorgelegt wurde und die Genehmigung noch aussteht. Gemäß Artikel 16 Absatz 1 MVO muss in solchen Fällen die Überwachung parallel unter Anwendung sowohl des zuletzt genehmigten als auch des zuletzt zur Genehmigung vorgelegten Monitoringkonzepts vorgenommen werden."}]
[null,null,null,null,{"$f":"Translations!$B$1161","v":"In der Spalte „Datum der Anwendung“ ist das Datum einzutragen, ab dem die beschriebene Überwachungsmethodik angewandt wird (falls zutreffend)."}]
[null,null,null,null,{"$f":"Translations!$B$135","v":"Für die Anzeige/Unterdrückung von Beispielen drücken Sie bitte die Taste „Beispiele“ im Navigationsbereich."}]
[]
[null,null,null,null,{"$f":"Translations!$B$136","v":"Versionsnr."},{"$f":"Translations!$B$137","v":"Bezugsdatum"},{"$f":"Translations!$B$138","v":"Status am Bezugsdatum"},null,{"$f":"Translations!$B$1162","v":"Datum der Anwendung"},{"$f":"Translations!$B$139","v":"Kapitel, in denen Änderungen vorgenommen wurden.  \nKurze Erläuterung der Änderungen"}]
["HIDE_Example",null,null,null,1,"2020-06-30",{"$f":"Translations!$B$140","v":"der zuständigen Behörde vorgelegt"},null,"2021-01-01",{"$f":"Translations!$B$141","v":"Neues Monitoringkonzept, um den Bestimmungen der MVO nachzukommen."}]
["HIDE_Example",null,null,null,2,"2020-07-19",{"$f":"Translations!$B$142","v":"mit Anmerkungen zurückgeschickt"},null,null,{"$f":"Translations!$B$143","v":"Die zuständige Behörde hat für die Stoffströme 1 und 2 einige Berichtigungen vorgenommen. Die Datenflussverfahren sollten vor der Wiedereinreichung verbessert werden."}]
["HIDE_Example",null,null,null,3,"2020-08-07",{"$f":"Translations!$B$140","v":"der zuständigen Behörde vorgelegt"},null,"2021-01-01",{"$f":"Translations!$B$144","v":"Monitoringkonzept entsprechend den Vorschlägen der zuständigen Behörde geändert. Außerdem neuer Stoffstrom 4 eingefügt (Holzplattenabfälle, verunreinigt mit ca. 5 % fossilem Anteil)."}]
["HIDE_Example",null,null,null,4,"2020-09-07",{"$f":"Translations!$B$145","v":"von der zuständigen Behörde genehmigt"},null,"2021-01-01",{"$f":"Translations!$B$146","v":"Ohne Änderungen genehmigt. Der Inhaber hat die Papierfassung zusammen mit der aktualisierten Genehmigung erhalten, so dass die Authentizität des Inhalts der elektronisch zurückgeschickten Datei des Monitoringkonzepts sichergestellt ist."}]
["ausblenden"]
[]
[]
[]
[]
[]
[]
[]
[]
[]
[]
[]
[]
[]
[]
[]
[]
[]
[]
[]
[]
[]
[]
[]
[]
[]
["ausblenden"]
["ADD_MPVersion"]
[null,null,null,null,null,null,{"$f":"Translations!$B$147","v":"Auf „+“ klicken, um weitere Versionen des Monitoringkonzepts einzufügen"}]
[]
[]
[]
[null,null,null,null,null,{"$f":"EUconst_MsgNextSheet","v":"<<< Hier klicken, um mit nächstem Blatt fortzufahren >>> "}]

{"sheet":"B_Operator&Inst.ID","index":3,"n_rows":75,"n_cols":16,"rows_kept":75,"cut":false,"hidden":false,"merged":[[56,8,56,11],[57,8,57,11],[40,8,40,11],[36,4,36,13],[47,4,47,6],[47,8,47,11],[41,8,41,11],[48,4,48,13],[45,4,45,6],[45,8,45,11],[44,4,44,6],[44,8,44,11],[42,4,42,6],[42,8,42,11],[43,4,43,6],[43,8,43,11],[74,5,74,11],[52,4,52,11],[55,8,55,11],[50,3,50,13],[53,4,53,11],[64,8,64,11],[70,8,70,11],[71,8,71,11],[58,8,58,11],[69,8,69,11],[61,8,61,11],[60,8,60,11],[67,8,67,11],[65,8,65,11],[62,8,62,11],[66,8,66,11],[34,4,34,6],[32,8,32,11],[9,8,9,11],[11,8,11,11],[13,10,13,11],[13,4,13,6],[34,8,34,11],[17,4,17,6],[17,8,17,11],[18,4,18,6],[18,8,18,11],[30,8,30,11],[32,4,32,6],[20,4,20,6],[20,8,20,11],[21,4,21,6],[19,4,19,6],[19,8,19,11],[9,4,9,6],[11,4,11,6],[30,4,30,6],[21,8,21,11],[22,4,22,6],[22,8,22,11],[2,12,2,13],[1,8,1,9],[3,10,3,11],[3,12,3,13],[1,4,1,5],[3,4,3,5],[2,8,2,9],[2,4,2,5],[2,10,2,11],[2,6,2,7],[1,1,3,3],[5,2,5,13],[41,4,41,6],[7,3,7,13],[13,8,13,9],[15,8,15,11],[28,4,28,6],[28,8,28,11],[24,3,24,13],[1,12,1,13],[3,6,3,7],[1,6,1,7],[1,10,1,11],[3,8,3,9],[40,4,40,6],[38,4,38,9]]}
["ausblenden",null,null,null,null,null,null,null,null,null,null,null,null,null,null,"ausblenden"]
[null,{"$f":"Translations!$B$148","v":"B. \nOperatorInst ID"},null,null,{"$f":"Translations!$B$59","v":"Navigationsbereich:"},null,{"$f":"Translations!$B$60","v":"Inhaltsverzeichnis"},null,{"$f":"Translations!$B$61","v":"Vorheriges Blatt"},null,{"$f":"Translations!$B$62","v":"Nächstes Blatt"}]
[null,null,null,null,{"$f":"Translations!$B$63","v":"Blattanfang"},null,{"$f":"Translations!$B$149","v":"Inhaber"},null,{"$f":"Translations!$B$150","v":"Anlage"},null,{"$f":"Translations!$B$151","v":"Kontaktangaben"}]
[null,null,null,null,{"$f":"Translations!$B$64","v":"Blattende"}]
[]
[null,null,{"$f":"Translations!$B$9","v":"B. Identität des Inhabers und der Anlage"}]
[]
[null,null,2,{"$f":"Translations!$B$10","v":"Angaben zum Inhaber"}]
[]
[null,null,null,"(a)",{"$f":"Translations!$B$152","v":"Zuständige Behörde"}]
[]
[null,null,null,"(b)",{"$f":"Translations!$B$153","v":"Mitgliedstaat"}]
[]
[null,null,null,"(c) ",{"$f":"Translations!$B$154","v":"Nummer des Genehmigungsbescheides gemäß § 4 EZG"},null,null,null,{"$f":"Translations!$B$155","v":"Kennnummer des Mitgliedstaats/der zuständigen Behörde"}]
[]
[null,null,null,"(d)",{"$f":"Translations!$B$156","v":"Name des Inhabers"}]
[]
[null,null,null,"i.","Anschrift Zeile 1:"]
[null,null,null,"ii.","Anschrift Zeile 2:"]
[null,null,null,"iii.","Ort:"]
[null,null,null,"iv.","Bundesland:"]
[null,null,null,"v.","Postleitzahl:"]
[null,null,null,"vi.","Land:"]
[]
[null,null,3,{"$f":"Translations!$B$11","v":"Angaben zur Anlage"}]
[]
[null,null,null,"(a)",{"$f":"Translations!$B$159","v":"Name und Standort der Anlage:"}]
[]
[null,null,null,"i.",{"$f":"Translations!$B$47","v":"Name der Anlage:"}]
[]
[null,null,null,"ii.",{"$f":"Translations!$B$160","v":"Name der Anlage (falls Neuanlage):"}]
[]
[null,null,null,"iii.",{"$f":"Translations!$B$1276","v":"Kennung der Anlage:"}]
[]
[null,null,null,"iv.",{"$f":"Translations!$B$162","v":"EPRTR (wenn relevant):"}]
[]
[null,null,null,null,"Neuanlagen, deren NIM-Code nicht unter i. aufscheint, geben den vom BMLUK erhaltenen Code im Format \"BBBnnn\" (BBB=Branchenkürzel, nnn=3-stellige Zahl) ein."]
[]
[null,null,null,"(b)",{"$f":"Translations!$B$164","v":"Anschrift / Standort der Anlage:"}]
[]
[null,null,null,"i.",{"$f":"Translations!$B$165","v":"Anschrift Zeile 1:"}]
[null,null,null,"ii.",{"$f":"Translations!$B$166","v":"Anschrift Zeile 2:"}]
[null,null,null,"iii.",{"$f":"Translations!$B$167","v":"Ort:"}]
[null,null,null,"iv.",{"$f":"Translations!$B$168","v":"Bundesland:"}]
[null,null,null,"v.",{"$f":"Translations!$B$169","v":"Postleitzahl:"}]
[null,null,null,"vi.",{"$f":"Translations!$B$170","v":"Land:"}]
[]
[null,null,null,"vii.",{"$f":"Translations!$B$171","v":"Koordinaten des Haupteingangs zum Anlagengelände (optional):"}]
[null,null,null,null,{"$f":"Translations!$B$172","v":"Gegebenenfalls mitgliedstaatspezifische Anweisungen zu Koordinatenangaben."}]
[]
[null,null,4,{"$f":"Translations!$B$12","v":"Kontaktangaben "}]
[]
[null,null,null,null,{"$f":"Translations!$B$173","v":"Ansprechpartner für Ihr Monitoringkonzept:"}]
[null,null,null,null,{"$f":"Translations!$B$174","v":"Es wäre hilfreich, einen direkten Ansprechpartner zur Klärung etwaiger Fragen zu Ihrem Monitoringkonzept zu haben. Die von Ihnen angegebene Person sollte befugt sein, im Namen des Inhabers zu handeln. "}]
[]
[null,null,null,"(a)",{"$f":"Translations!$B$175","v":"Primärer Ansprechpartner:"},null,{"$f":"Translations!$B$176","v":"Titel:"}]
[null,null,null,null,null,null,{"$f":"Translations!$B$177","v":"Vorname:"}]
[null,null,null,null,null,null,{"$f":"Translations!$B$178","v":"Nachname:"}]
[null,null,null,null,null,null,{"$f":"Translations!$B$179","v":"Funktion:"}]
[null,null,null,null,null,null,{"$f":"Translations!$B$180","v":"Firmenname (Falls nicht mit Inhaber identisch):"}]
[]
[null,null,null,null,null,null,{"$f":"Translations!$B$181","v":"Telefonnummer:"}]
[null,null,null,null,null,null,{"$f":"Translations!$B$182","v":"E-Mail-Adresse:"}]
[]
[null,null,null,"(b)",{"$f":"Translations!$B$183","v":"Alternativer Ansprechpartner:"},null,{"$f":"Translations!$B$176","v":"Titel:"}]
[null,null,null,null,null,null,{"$f":"Translations!$B$177","v":"Vorname:"}]
[null,null,null,null,null,null,{"$f":"Translations!$B$178","v":"Nachname:"}]
[null,null,null,null,null,null,{"$f":"Translations!$B$179","v":"Funktion:"}]
[null,null,null,null,null,null,{"$f":"Translations!$B$180","v":"Firmenname (Falls nicht mit Inhaber identisch):"}]
[]
[null,null,null,null,null,null,{"$f":"Translations!$B$181","v":"Telefonnummer:"}]
[null,null,null,null,null,null,{"$f":"Translations!$B$182","v":"E-Mail-Adresse:"}]
[]
[]
[null,null,null,null,null,{"$f":"EUconst_MsgNextSheet","v":"<<< Hier klicken, um mit nächstem Blatt fortzufahren >>> "}]

{"sheet":"C_InstallationDescription","index":4,"n_rows":351,"n_cols":28,"rows_kept":351,"cut":false,"hidden":false,"merged":[[52,5,52,9],[69,4,69,7],[66,4,66,13],[132,4,132,13],[93,4,93,13],[87,3,87,13],[183,4,183,13],[162,4,162,13],[168,5,168,9],[152,6,154,10],[169,5,169,9],[171,5,171,9],[160,4,160,13],[156,11,156,13],[166,4,166,13],[138,5,138,10],[140,5,140,10],[139,5,139,10],[142,5,142,10],[141,5,141,10],[134,4,134,13],[137,5,137,10],[100,4,100,7],[100,9,100,13],[196,5,196,7],[214,5,214,13],[202,5,202,7],[201,5,201,7],[191,5,191,7],[156,4,156,10],[146,5,146,10],[143,5,143,10],[145,5,145,10],[187,4,187,13],[173,5,173,9],[188,4,188,13],[186,4,186,13],[157,10,157,13],[163,4,163,13],[164,4,164,13],[159,4,159,13],[170,5,170,9],[149,5,149,10],[144,5,144,10],[161,4,161,13],[147,5,147,10],[150,5,150,10],[148,5,148,10],[197,5,197,7],[200,5,200,7],[224,5,224,10],[229,5,229,10],[222,5,222,10],[203,5,203,7],[199,5,199,7],[223,5,223,10],[218,4,218,13],[215,5,215,13],[220,4,220,13],[217,4,217,13],[205,6,207,10],[225,5,225,10],[210,4,210,13],[216,5,216,13],[219,4,219,13],[199,8,199,9],[227,5,227,10],[200,8,200,9],[201,8,201,9],[228,5,228,10],[232,5,232,10],[248,5,248,7],[226,5,226,10],[235,5,235,10],[231,5,231,10],[230,5,230,10],[198,5,198,7],[213,4,213,13],[212,4,212,13],[202,8,202,9],[203,8,203,9],[251,11,251,13],[249,8,249,10],[251,8,251,10],[233,5,233,10],[248,11,248,13],[248,8,248,10],[239,10,239,13],[234,5,234,10],[243,4,243,13],[237,10,237,13],[250,8,250,10],[245,4,245,13],[246,4,246,13],[244,4,244,13],[241,10,241,13],[241,5,241,8],[259,11,259,13],[259,5,259,7],[257,5,257,7],[257,8,257,10],[258,8,258,10],[258,5,258,7],[257,11,257,13],[249,5,249,7],[250,5,250,7],[250,11,250,13],[256,8,256,10],[255,8,255,10],[252,8,252,10],[253,5,253,7],[256,5,256,7],[255,5,255,7],[252,5,252,7],[254,11,254,13],[253,11,253,13],[253,8,253,10],[254,8,254,10],[254,5,254,7],[249,11,249,13],[251,5,251,7],[41,4,41,13],[43,4,43,13],[133,4,133,13],[125,5,125,12],[98,4,98,7],[122,5,122,12],[53,5,53,9],[90,4,90,13],[92,4,92,13],[75,5,75,13],[95,9,95,13],[81,4,81,10],[121,5,121,12],[119,5,119,12],[117,5,117,12],[96,4,96,7],[97,9,97,13],[97,4,97,7],[99,4,99,7],[116,5,116,12],[42,4,42,13],[114,5,114,12],[124,5,124,12],[111,5,111,12],[267,4,267,8],[195,5,195,7],[174,5,174,9],[194,5,194,7],[165,4,165,13],[190,5,190,7],[175,5,175,9],[182,10,182,13],[177,6,179,10],[181,11,181,13],[181,4,181,10],[265,5,265,11],[184,4,184,13],[193,5,193,7],[192,5,192,7],[185,4,185,13],[211,4,211,13],[172,5,172,9],[261,6,263,10],[252,11,252,13],[259,8,259,10],[258,11,258,13],[256,11,256,13],[255,11,255,13],[113,5,113,12],[108,4,108,13],[135,4,135,13],[107,4,107,13],[106,4,106,13],[103,4,103,13],[127,6,129,10],[112,5,112,12],[118,5,118,12],[120,5,120,12],[109,4,109,13],[101,9,101,13],[123,5,123,12],[58,5,58,9],[76,5,76,13],[96,9,96,13],[65,4,65,13],[101,4,101,7],[98,9,98,13],[78,4,78,13],[59,5,59,9],[60,5,60,9],[83,4,83,13],[72,9,72,13],[82,4,82,13],[79,4,79,13],[62,5,62,9],[70,4,70,7],[67,4,67,13],[95,4,95,7],[74,4,74,13],[61,5,61,9],[84,4,84,13],[85,4,85,13],[115,5,115,12],[57,5,57,9],[39,4,39,13],[38,4,38,13],[99,9,99,13],[77,4,77,13],[64,4,64,9],[91,4,91,13],[50,4,50,13],[26,4,26,13],[32,4,32,13],[34,4,34,13],[44,4,44,13],[30,4,30,13],[37,10,37,13],[37,4,37,9],[45,5,45,13],[73,4,73,13],[46,5,46,13],[47,4,47,13],[49,4,49,13],[54,5,54,9],[55,5,55,9],[56,5,56,9],[48,4,48,13],[27,4,27,13],[33,4,33,13],[35,4,35,13],[7,3,7,13],[13,4,13,13],[10,3,10,13],[31,4,31,13],[12,4,12,13],[18,4,18,13],[28,4,28,13],[9,3,9,13],[16,4,16,13],[17,4,17,13],[23,4,23,13],[25,4,25,13],[19,4,19,13],[20,4,20,13],[21,4,21,13],[22,4,22,13],[14,4,14,13],[24,4,24,13],[29,4,29,13],[1,4,1,5],[1,6,1,7],[3,8,3,9],[2,4,2,5],[5,2,5,13],[1,10,1,11],[1,12,1,13],[1,1,3,3],[2,10,2,11],[1,8,1,9],[3,6,3,7],[2,8,2,9],[2,6,2,7],[3,4,3,5],[2,12,2,13],[3,12,3,13],[3,10,3,11],[190,8,190,9],[191,8,191,9],[192,8,192,9],[193,8,193,9],[194,8,194,9],[195,8,195,9],[196,8,196,9],[197,8,197,9],[198,8,198,9]]}
["ausblenden",null,null,null,null,null,null,null,null,null,null,null,null,null,null,"ausblenden","ausblenden","ausblenden","ausblenden","ausblenden","ausblenden","ausblenden","ausblenden","ausblenden","ausblenden","ausblenden","ausblenden","ausblenden"]
[null,{"$f":"Translations!$B$184","v":"C. \nInstallation Description"},null,null,{"$f":"Translations!$B$59","v":"Navigationsbereich:"},null,{"$f":"Translations!$B$60","v":"Inhaltsverzeichnis"},null,{"$f":"Translations!$B$61","v":"Vorheriges Blatt"},null,{"$f":"Translations!$B$62","v":"Nächstes Blatt"}]
[null,null,null,null,{"$f":"Translations!$B$63","v":"Blattanfang"},null,{"$f":"Translations!$B$185","v":"Anlagentätigkeiten"},null,{"$f":"Translations!$B$186","v":"Überwachungsmethodiken"},null,{"$f":"Translations!$B$187","v":"Emissionsquellen und -punkte"}]
[null,null,null,null,{"$f":"Translations!$B$64","v":"Blattende"},null,{"$f":"Translations!$B$188","v":"Messstellen"},null,{"$f":"Translations!$B$189","v":"Stoffströme"},null,{"$f":"Translations!$B$190","v":"Ausgeschlossene Tätigkeiten"}]
[]
[null,null,{"$f":"Translations!$B$13","v":"C. Beschreibung der Anlage"}]
[]
[null,null,5,{"$f":"Translations!$B$14","v":"Angaben zu den Tätigkeiten der Anlage"}]
[]
[null,null,null,{"$f":"Translations!$B$191","v":"Bitte beschreiben Sie Ihre Anlage in diesem Arbeitsblatt. Die hier eingegebenen Informationen schaffen die Grundlage für die notwendigen ausführlichen Eingaben in den folgenden Arbeitsblättern."}]
[null,null,null,{"$f":"Translations!$B$192","v":"So werden namentlich im Arbeitsblatt E_SourceStreams die Stoffströme und im Arbeitsblatt F_MeasurementBasedApproaches die Messstellen näher beschrieben."}]
[]
[null,null,null,"(a)",{"$f":"Translations!$B$193","v":"Beschreibung der Anlage und ihrer Tätigkeiten:"}]
[null,null,null,null,{"$f":"Translations!$B$194","v":"Beschreiben Sie hier kurz das Anlagengelände und die Anlage sowie den Standort der Anlage im Anlagengelände.  Diese Beschreibung sollte auch eine nichttechnische Zusammenfassung der in der Anlage ausgeführten Tätigkeiten umfassen, in der auf jede Tätigkeit und auf die im Rahmen jeder Tätigkeit genutzten technischen Einheiten kurz eingegangen wird.  Die Beschreibung sollte insbesondere Teile der Anlage identifizieren und erläutern, die nicht vom Antragsteller betrieben werden, oder Teile, für die angenommen wird, dass sie nicht unter das EU-EHS fallen."}]
[null,null,null,null,{"$f":"Translations!$B$195","v":"Diese Beschreibung sollte den Zusammenhang herstellen, der erforderlich ist, um zu verstehen, wie zur Berechnung der Emissionen auch auf Angaben in anderen Teilen dieser Vorlage zurückgegriffen wird. Sie kann so kurz sein wie das Beispiel in Abschnitt 7 Buchstabe a des Arbeitsblatts D_CalculationBasedApproaches."}]
[]
[]
[]
[]
[]
[]
[]
[]
[]
[]
[]
[]
[]
[]
[]
[]
[]
[]
[]
[]
[]
[]
[null,null,null,"(b) ",{"$f":"Translations!$B$196","v":"Name und Referenz der Unterlage mit dem Diagramm der Stoffströme:"}]
[null,null,null,null,{"$f":"Translations!$B$197","v":"Ein einfaches Diagramm der Emissionsquellen, Stoffströme, Probenahmestellen und Messgeräte kann für die Beschreibung der Tätigkeiten hilfreich sein.  Wenn Sie über ein solches Diagramm verfügen, geben Sie hier eine Referenz (Dateiname, Datum) an und fügen Sie eine Kopie bei, wenn Sie dieses Monitoringkonzept Ihrer zuständigen Behörde vorlegen."}]
[null,null,null,null,{"$f":"Translations!$B$198","v":"In einigen Fällen kann die zuständige Behörde dies spezifisch vorschreiben."}]
[]
[null,null,null,"(c)",{"$f":"Translations!$B$199","v":"Liste der in der Anlage durchgeführten Tätigkeiten gemäß Anhang I und III Emissionszertifikategesetz 2011:"}]
[null,null,null,null,{"$f":"Translations!$B$200","v":"Bitte geben Sie die folgenden technischen Einzelheiten zu jeder Tätigkeit gemäß Anhang I und III Emissionszertifikategesetz 2011 an, die in Ihrer Anlage durchgeführt wird."}]
[null,null,null,null,{"$f":"Translations!$B$201","v":"Bitte geben Sie auch die Kapazität jeder einschlägigen in Anhang I genannten Tätigkeit in Ihrer Anlage an."}]
[null,null,null,null,{"$f":"Translations!$B$202","v":"„Kapazität“ bedeutet in diesen Zusammenhang:"}]
[null,null,null,null,"-",{"$f":"Translations!$B$203","v":"die Feuerungswärmeleistung (für Tätigkeiten, deren Einbeziehung in das EU-EHS vom 20 MW-Schwellenwert abhängt) - das ist die Brennstoffmenge, die in der Anlage maximal im Dauerbetrieb verbrannt werden kann, multipliziert mit dem Heizwert des Brennstoffs, ausgedrückt in Megawatt Wärme -;"}]
[null,null,null,null,"-",{"$f":"Translations!$B$204","v":"die Produktionskapazität für diejenigen Tätigkeiten gemäß Anhang I, bei denen die Produktionskapazität ausschlaggebend für die Einbeziehung in das EU-EHS ist. "}]
[null,null,null,null,{"$f":"Translations!$B$205","v":"Bitte vergewissern Sie sich, dass die Grenzen der Anlage korrekt angegeben sind und mit Anhang I der EU-EHS-Richtlinie in Einklang stehen. Weitere Informationen finden Sie in den einschlägigen Abschnitten im Leitfaden der Kommission über die Interpretation von Anhang I unter:"}]
[null,null,null,null,"https://climate.ec.europa.eu/document/download/edc93136-82a0-482c-bf47-39ecaf13b318_en?filename=policy_ets_gd0_annex_i_euets_directive_en.pdf"]
[null,null,null,null,{"$f":"Translations!$B$207","v":"Die hier eingetragene Liste liegt in den nachfolgenden Tabellen als Drop-down-Liste vor, wenn für die Beschreibung der Anlage eine Bezugnahme auf die Tätigkeit erforderlich ist."}]
[null,null,null,null,{"$f":"Translations!$B$135","v":"Für die Anzeige/Unterdrückung von Beispielen drücken Sie bitte die Taste „Beispiele“ im Navigationsbereich."}]
[]
[null,null,null,null,{"$f":"Translations!$B$208","v":"Ref. der Tätigkeit      (T1, T2…)"},{"$f":"Translations!$B$209","v":"Tätigkeit gemäß Anhang I und III"},null,null,null,null,{"$f":"Translations!$B$210","v":"Gesamt-kapazität der Tätigkeit "},{"$f":"Translations!$B$211","v":"Kapazitäts-einheiten"},{"$f":"Translations!$B$1163","v":"Feuerungswärmeleistung in MWth (bei Kapazität in Tonnen)"},{"$f":"Translations!$B$212","v":"Emittierte THG"},null,null,null,null,null,null,"Sorting","Sorting","Sorting","Sorting","Sorting"]
["HIDE_Example",null,null,null,"T01",{"$f":"Translations!$B$213","v":"Herstellung von Zementklinker"},null,null,null,null,1500,{"$f":"Translations!$B$214","v":"Tonnen pro Tag"},230,{"$f":"IF(ISBLANK(F54),\"\",INDEX(EUConst_AnnexIListGHG,MATCH(F54,AnnexIActivities,0)))","v":"CO2"}]
["HIDE_Example",null,null,null,"T02",{"$f":"Translations!$B$215","v":"Verbrennung von Brennstoffen"},null,null,null,null,120,{"$f":"Translations!$B$216","v":"MW (Wärme)"},120,{"$f":"IF(ISBLANK(F55),\"\",INDEX(EUConst_AnnexIListGHG,MATCH(F55,AnnexIActivities,0)))","v":"CO2"},null,null,null,null,null,null,null,null,null,{"$f":"ADDRESS(ROW(X56),COLUMN())&\":\"&ADDRESS(ROW(X56)+MAX(0,COUNTA(X56:X63)-COUNTIF(X56:X63,EUconst_NA)-COUNTIF(X56:X63,\"\")),COLUMN())","v":"$X$56:$X$56"},{"$f":"ADDRESS(ROW(Y56),COLUMN())&\":\"&ADDRESS(ROW(Y56)+MAX(0,COUNTA(Y56:Y63)-COUNTIF(Y56:Y63,EUconst_NA)-COUNTIF(Y56:Y63,\"\")),COLUMN())","v":"$Y$56:$Y$56"},{"$f":"ADDRESS(ROW(Z56),COLUMN())&\":\"&ADDRESS(ROW(Z56)+MAX(0,COUNTA(Z56:Z63)-COUNTIF(Z56:Z63,EUconst_NA)-COUNTIF(Z56:Z63,\"\")),COLUMN())","v":"$Z$56:$Z$56"}]
[null,null,null,null,"T1",null,null,null,null,null,null,null,null,"",null,null,null,null,null,1,{"$f":"IF(ISBLANK(F56),\"\",E56)","v":""},{"$f":"IF(ISBLANK(F56),\"\",F56)","v":""},{"$f":"IF(V56=\"\",\"\",MAX(W$55:W55)+1)","v":""},{"$f":"IF(COUNTIF($W$56:$W$60,T56)=1,INDEX($U$56:$U$60,MATCH(T56,$W$56:$W$60,0)) & \": \" & INDEX($V$56:$V$60,MATCH(T56,$W$56:$W$60,0)),EUconst_NA)","v":"n.r."},{"$f":"IF(COUNTIF($W$56:$W$60,T56)=1,INDEX($V$56:$V$60,MATCH(T56,$W$56:$W$60,0)),EUconst_NA)","v":"n.r."},{"$f":"IF(F56=\"\",\"\",MATCH(F56,AnnexIActivities,0))","v":""}]
[null,null,null,null,"T2",null,null,null,null,null,null,null,null,"",null,null,null,null,null,2,"","",{"$f":"IF(V57=\"\",\"\",MAX(W$55:W56)+1)","v":""},"n.r.","n.r.",""]
[null,null,null,null,"T3",null,null,null,null,null,null,null,null,"",null,null,null,null,null,3,"","",{"$f":"IF(V58=\"\",\"\",MAX(W$55:W57)+1)","v":""},"n.r.","n.r.",""]
[null,null,null,null,"T4",null,null,null,null,null,null,null,null,"",null,null,null,null,null,4,"","",{"$f":"IF(V59=\"\",\"\",MAX(W$55:W58)+1)","v":""},"n.r.","n.r.",""]
[null,null,null,null,"T5",null,null,null,null,null,null,null,null,"",null,null,null,null,null,5,"","",{"$f":"IF(V60=\"\",\"\",MAX(W$55:W59)+1)","v":""},"n.r.","n.r.",""]
[null,null,null,null,"T6",null,null,null,null,null,null,null,null,{"$f":"IF(ISBLANK(F61),\"\",INDEX(EUConst_AnnexIListGHG,MATCH(F61,AnnexIActivities,0)))","v":""},null,null,null,null,null,6,"","",{"$f":"IF(V61=\"\",\"\",MAX(W$55:W60)+1)","v":""},"n.r.","n.r.",""]
[null,null,null,null,"T7",null,null,null,null,null,null,null,null,{"$f":"IF(ISBLANK(F62),\"\",INDEX(EUConst_AnnexIListGHG,MATCH(F62,AnnexIActivities,0)))","v":""},null,null,null,null,null,7,"","",{"$f":"IF(V62=\"\",\"\",MAX(W$55:W61)+1)","v":""},"n.r.","n.r.",""]
["ausblenden",null,null,null,null,null,null,null,null,null,null,null,null,""]
[]
[null,null,null,"(d) ",{"$f":"Translations!$B$217","v":"Geschätzte Jahresemissionen:"}]
[null,null,null,null,{"$f":"Translations!$B$1337","v":"Bitte geben Sie hier die durchschnittlichen Jahresemissionen Ihrer Anlage an. Diese Angabe ist für die Kategorisierung der Anlage gemäß Artikel 19 MVO notwendig. Verwenden sie die Daten zu den geprüften durchschnittlichen Jahresemissionen aus der vorigen Handelsperiode ODER, falls diese Daten nicht vorliegen oder nicht geeignet sind, eine konservative Schätzung der durchschnittlichen Jahresemissionen, einschließlich weitergeleitetes CO2, aber ohne CO2 aus Kohlenstoff der mit einem Emissionsfaktor von Null bewertet wird (Biomasse, RFNBO/RCF, SLCF). "}]
[null,null,null,null,{"$f":"Translations!$B$219","v":"Anhand der Kategorie, die sich daraus ergibt, werden die Mindestebenenanforderungen in Abschnitt 8 (Stoffströme) ermittelt."}]
[null,null,null,null,{"$f":"Translations!$B$1338","v":"Hinweis: In Fällen, in denen die Anlage keine Emissionen verursacht (d.h. nicht einmal durch ein Notstromaggregat, Heizkessel für Büroräume usw. und auch nicht durch Emissionen aus Biomasse, RFNBO/RCF, SCLF), sind die geschätzten Emissionen gleich Null und nur dieser Abschnitt und das Blatt „K_Management“ dieses Monitoringkonzepts müssen ausgefüllt werden."}]
[]
[null,null,null,null,{"$f":"Translations!$B$220","v":"Geschätzte Jahresemissionen"},null,null,null,null,"t CO2e"]
[null,null,null,null,{"$f":"Translations!$B$221","v":"Anlagenkategorie gemäß Artikel 19 MVO"},null,null,null,{"$f":"IF(ISBLANK(CNTR_TotalEmissions),\"\",IF(CNTR_TotalEmissions>500000,\"C\",IF(CNTR_TotalEmissions>50000,\"B\",\"A\")))","v":""}]
[null,null,null,null,null,null,null,null,null,null,null,null,null,null,null,null,null,null,null,null,null,null,null,null,null,null,null,"make grey?"]
[null,null,null,"(e)",{"$f":"Translations!$B$222","v":"Anlage mit geringen Emissionen?"},null,null,null,null,{"$f":"IF(ISBLANK(CNTR_SmallEmitter),\"\",IF(S73,IF(CNTR_SmallEmitter=TRUE,EUconst_ERR_NoN2OSmallEmitters,\"\"),IF(S74,EUconst_MsgSmallEmitters,\"\")))","v":""},null,null,null,null,null,null,null,null,{"$f":"OR(COUNTIF(Z56:Z60,19),COUNTIF(Z56:Z60,20),COUNTIF(Z56:Z60,21))","v":false},"Check N2O",null,null,null,null,null,null,null,{"$f":"AND(CNTR_Category<>\"\",CNTR_Category<>\"A\")","v":false}]
[null,null,null,null,{"$f":"Translations!$B$223","v":"Wenn die Anlage die Kriterien für Anlagen mit geringen Emissionen gemäß der Definition in Artikel 47 MVO erfüllt, wählen Sie hier bitte „WAHR“."},null,null,null,null,null,null,null,null,null,null,null,null,null,{"$f":"AND(ISNUMBER(CNTR_TotalEmissions),OR(AND(CNTR_SmallEmitter=TRUE,CNTR_TotalEmissions>25000),AND(CNTR_SmallEmitter=FALSE,CNTR_TotalEmissions<=25000)))","v":false},"Check >=25000 / Contradiction"]
[null,null,null,null,{"$f":"Translations!$B$224","v":"Gemäß dem genannten Artikel kann der Inhaber für eine Anlage, in der keine mit N2O-Emissionen verbundenen Tätigkeiten durchgeführt werden, ein vereinfachtes Monitoringkonzept vorlegen, wenn nachgewiesen werden kann, dass "}]
[null,null,null,null,"-",{"$f":"Translations!$B$225","v":"die geprüften durchschnittlichen Jahresemissionen der Anlage in der vorangegangenen Handelsperiode weniger als 25 000 Tonnen CO2(Äq) pro Jahr betrugen oder"}]
[null,null,null,null,"-",{"$f":"Translations!$B$226","v":"einer konservativen Schätzung zufolge die Emissionen in den kommenden fünf Jahren weniger als 25 000 Tonnen CO2(Äq) pro Jahr betragen werden."}]
[null,null,null,null,{"$f":"Translations!$B$1339","v":"Hinweis: Die vorgenannten Daten schließen weitergeleitetes CO2 ein, nicht jedoch CO2 das aus Kohlenstoff mit einem Emissionsfaktor von Null stammt."}]
[null,null,null,null,{"$f":"Translations!$B$228","v":"Sollte Ihre Wahl hier im Widerspruch zu der Menge der geschätzten Emissionen unter Buchstabe d stehen, erscheint eine entsprechende Meldung. Bitte tragen Sie unten eine angemessene Begründung ein."}]
[null,null,null,null,{"$f":"Translations!$B$229","v":"Wenn es sich bei Ihrer Anlage um eine Anlage mit geringen Emissionen gemäß Artikel 47 MVO handelt, gelten mehrere Vereinfachungen für das Monitoringkonzept."}]
[]
[null,null,null,"(f) ",{"$f":"Translations!$B$1164","v":"Beruhen die geschätzten Emissionen unter Buchstabe d bzw. e auf konservativen Schätzungen?"}]
[null,null,null,null,{"$f":"Translations!$B$1165","v":"Steht Ihre Einstufung der Anlage als Anlage mit geringen Emissionen im Widerspruch zu Ihren Angaben unter Buchstabe d oder beruhen die unter Buchstabe d angegebenen Zahlen nicht auf geprüften Emissionen, sondern auf einer konservativen Schätzung, wählen Sie bitte „WAHR“ aus und geben Sie hier eine kurze Begründung an."},null,null,null,null,null,null,null,null,null,null,null,null,null,null,null,null,null,null,null,null,null,null,"make grey?"]
[null,null,null,null,null,null,null,null,null,null,null,null,null,null,null,null,null,null,null,null,null,null,null,null,null,null,null,{"$f":"AND(L82<>\"\",L82=FALSE)","v":false}]
[]
[]
[]
[null,null,6,{"$f":"Translations!$B$15","v":"Angaben zu den Emissionen"}]
[]
[null,null,null,"(a)",{"$f":"Translations!$B$232","v":"Vorgeschlagene Überwachungsmethodiken:"}]
[null,null,null,null,{"$f":"Translations!$B$233","v":"Bitte bestätigen Sie, dass Sie vorschlagen, eine der folgenden Überwachungsmethodiken anzuwenden:"}]
[null,null,null,null,{"$f":"Translations!$B$234","v":"Gemäß Artikel 21 können die Emissionen entweder anhand einer auf Berechnungen beruhenden Methodik („Berechnung“) oder einer auf Messung beruhenden Methodik („Messung“) ermittelt werden, es sei denn, in der MVO ist die Verwendung einer bestimmten Methodik vorgeschrieben."}]
[null,null,null,null,{"$f":"Translations!$B$235","v":"Hinweis: Mit Billigung der zuständigen Behörde kann der Anlageninhaber für verschiedene Quellen auf Messung und auf Berechnung beruhende Methodiken kombinieren.  Der Inhaber muss sicherstellen und nachweisen, dass es dabei weder zu Lücken noch zu Doppelerfassungen von mitzuteilenden Emissionen kommt. "}]
[null,null,null,null,{"$f":"Translations!$B$236","v":"Bitte lassen Sie diese Felder keinesfalls leer, da die Eingaben hier bedingte Formatierungen bewirken, die Sie durch das gesamte Formular führen."}]
[]
[null,null,null,null,{"$f":"Translations!$B$237","v":"Auf Berechnungen beruhende Methodik für CO2:"},null,null,null,null,{"$f":"IF(CNTR_InstHasCalculation=TRUE,EUConst_RelSectionCalc,\"\")","v":""}]
[null,null,null,null,{"$f":"Translations!$B$238","v":"Auf Messungen beruhende Methodik für CO2:"},null,null,null,null,{"$f":"IF(CNTR_InstHasMeasurement=TRUE,EUConst_RelSectionMeasure,\"\")","v":""}]
[null,null,null,null,{"$f":"Translations!$B$239","v":"Fall-back-Methodik (Artikel 22):"},null,null,null,null,{"$f":"IF(CNTR_InstHasFallBack=TRUE,EUConst_RelSectionFallback,\"\")","v":""}]
[null,null,null,null,{"$f":"Translations!$B$240","v":"Überwachung von N2O-Emissionen:"},null,null,null,null,{"$f":"IF(CNTR_InstHasN2O=TRUE,EUConst_RelSectionN2O,\"\")","v":""}]
[null,null,null,null,{"$f":"Translations!$B$241","v":"Überwachung von PFC-Emissionen:"},null,null,null,null,{"$f":"IF(CNTR_InstHasPFC=TRUE,EUConst_RelSectionPFC,\"\")","v":""}]
[null,null,null,null,{"$f":"Translations!$B$242","v":"Überwachung von weitergeleitetem/inhärentem CO2 und CCS:"},null,null,null,null,{"$f":"IF(CNTR_InstHasTransferredCO2=TRUE,EUConst_RelSectionCCS,\"\")","v":""}]
[null,null,null,null,{"$f":"Translations!$B$1340","v":"Überwachung von „CCU für dauerhaft gebundenes CO2“ "},null,null,null,null,{"$f":"IF(CNTR_InstHasCCU=TRUE,EUConst_RelSectionCCU,\"\")","v":""}]
[]
[null,null,null,null,{"$f":"Translations!$B$243","v":"Bitte vergewissern Sie sich, dass Sie die die einzelnen Methodiken betreffenden Abschnitte dieses Arbeitsblatts vollständig ausgefüllt haben, bevor Sie zum Arbeitsblatt „K_ManagementControl“ (Abschnitte 20 bis 25) übergehen, das obligatorisch für alle Anlagen ausgefüllt werden muss."}]
[]
[null,null,null,"(b)",{"$f":"Translations!$B$244","v":"Emissionsquellen:"}]
[null,null,null,null,{"$f":"Translations!$B$245","v":"Gemäß Anhang I der MVO müssen die Monitoringkonzepte eine Beschreibung der zu überwachenden Anlage und ihrer zu überwachenden Tätigkeiten enthalten, einschließlich einer Liste der Emissionsquellen und Stoffströme.  Die Angaben in dieser Vorlage sollten sich auf eine einzige Anlage und auf die in dieser Anlage durchgeführten Tätigkeiten gemäß Anhang I beziehen. Bitte geben Sie in diesen Abschnitt jede Tätigkeit ein, die in Ihrer Anlage durchgeführt wird, und schließen Sie damit zusammenhängende Tätigkeiten aus, die von anderen Inhabern durchgeführt werden."}]
[null,null,null,null,{"$f":"Translations!$B$246","v":"Die Referenz der Tätigkeit in der letzten Spalte bezieht sich auf die Referenz der Tätigkeit in Abschnitt 5 Buchstabe c. Gehört eine Emissionsquelle zu mehr als einer Tätigkeit, geben Sie bitte je nach Fall „A1, A2“ oder „A1 – A3“ oder vergleichbare Angaben ein."}]
[null,null,null,null,{"$f":"Translations!$B$247","v":"Diese Liste erscheint in den folgenden Buchstaben (c, d und e) als Drop-down-Liste, wenn eine Bezugnahme auf die jeweiligen Emissionsquellen erforderlich ist."}]
[null,null,null,null,{"$f":"Translations!$B$135","v":"Für die Anzeige/Unterdrückung von Beispielen drücken Sie bitte die Taste „Beispiele“ im Navigationsbereich."}]
[]
[null,null,null,null,{"$f":"Translations!$B$248","v":"Ref. Emissions-quelle \nEQ1, EQ2, ..."},{"$f":"Translations!$B$249","v":"Emissionsquelle (Name, Beschreibung)"},null,null,null,null,null,null,null,{"$f":"Translations!$B$250","v":"Ref. Tätigkeit"},null,null,null,null,null,null,"Sorting","Sorting","Sorting"]
["HIDE_Example",null,null,null,"EQ01",{"$f":"Translations!$B$251","v":"Zementklinkerofen (Dekarbonisieren von Rohmehl, Verbrennung von Brennstoffen)"},null,null,null,null,null,null,null,"T01"]
["HIDE_Example",null,null,null,"EQ02",{"$f":"Translations!$B$252","v":"Kohlegefeuerter Kessel (Verbrennung von Brennstoffen)"},null,null,null,null,null,null,null,"T02"]
["HIDE_Example",null,null,null,"EQ03",{"$f":"Translations!$B$253","v":"Kohlegefeuerter Kessel (Zersetzung von Kalk für die Abgaswäsche)"},null,null,null,null,null,null,null,"T02",null,null,null,null,null,null,null,null,{"$f":"ADDRESS(ROW(W116),COLUMN())&\":\"&ADDRESS(ROW(W116)+MAX(0,COUNTA(W116:W126)-COUNTIF(W116:W126,EUconst_NA)-COUNTIF(W116:W126,\"\")),COLUMN())","v":"$W$116:$W$116"}]
[null,null,null,null,"EQ1",null,null,null,null,null,null,null,null,null,null,null,null,null,null,1,{"$f":"IF(ISBLANK(F116),\"\",E116)","v":""},{"$f":"IF(U116=\"\",\"\",MAX(V$115:V115)+1)","v":""},{"$f":"IF(COUNTIF($V$116:$V$126,T116)=1,INDEX($U$116:$U$126,MATCH(T116,$V$116:$V$126,0)) & \": \" & INDEX($F$116:$F$126,MATCH(T116,$V$116:$V$126,0)),EUconst_NA)","v":"n.r."}]
[null,null,null,null,"EQ2",null,null,null,null,null,null,null,null,null,null,null,null,null,null,2,{"$f":"IF(ISBLANK(F117),\"\",E117)","v":""},{"$f":"IF(U117=\"\",\"\",MAX(V$115:V116)+1)","v":""},"n.r."]
[null,null,null,null,"EQ3",null,null,null,null,null,null,null,null,null,null,null,null,null,null,3,"",{"$f":"IF(U118=\"\",\"\",MAX(V$115:V117)+1)","v":""},"n.r."]
[null,null,null,null,"EQ4",null,null,null,null,null,null,null,null,null,null,null,null,null,null,4,"",{"$f":"IF(U119=\"\",\"\",MAX(V$115:V118)+1)","v":""},"n.r."]
[null,null,null,null,"EQ5",null,null,null,null,null,null,null,null,null,null,null,null,null,null,5,"",{"$f":"IF(U120=\"\",\"\",MAX(V$115:V119)+1)","v":""},"n.r."]
[null,null,null,null,"EQ6",null,null,null,null,null,null,null,null,null,null,null,null,null,null,6,"",{"$f":"IF(U121=\"\",\"\",MAX(V$115:V120)+1)","v":""},"n.r."]
[null,null,null,null,"EQ7",null,null,null,null,null,null,null,null,null,null,null,null,null,null,7,"",{"$f":"IF(U122=\"\",\"\",MAX(V$115:V121)+1)","v":""},"n.r."]
[null,null,null,null,"EQ8",null,null,null,null,null,null,null,null,null,null,null,null,null,null,8,"",{"$f":"IF(U123=\"\",\"\",MAX(V$115:V122)+1)","v":""},"n.r."]
[null,null,null,null,"EQ9",null,null,null,null,null,null,null,null,null,null,null,null,null,null,9,"",{"$f":"IF(U124=\"\",\"\",MAX(V$115:V123)+1)","v":""},"n.r."]
[null,null,null,null,"EQ10",null,null,null,null,null,null,null,null,null,null,null,null,null,null,10,"",{"$f":"IF(U125=\"\",\"\",MAX(V$115:V124)+1)","v":""},{"$f":"IF(COUNTIF($V$116:$V$126,T125)=1,INDEX($U$116:$U$126,MATCH(T125,$V$116:$V$126,0)) & \": \" & INDEX($F$116:$F$126,MATCH(T125,$V$116:$V$126,0)),EUconst_NA)","v":"n.r."}]
["ausblenden",null,null,null,null,null,null,null,null,null,null,null,null,null,null,null,null,null,null,null,"",{"$f":"IF(U126=\"\",\"\",MAX(V$115:V125)+1)","v":""}]
["ADD_EmissionSource"]
[null,null,null,null,null,null,{"$f":"Translations!$B$254","v":"Auf „+“ klicken, um weitere Emissionsquellen einzufügen"}]
[]
[]
[]
[null,null,null,"(c)",{"$f":"Translations!$B$255","v":"Emissionspunkte und emittierte THG:"}]
[null,null,null,null,{"$f":"Translations!$B$256","v":"Bitte führen Sie alle einschlägigen Emissionspunkte (einschließlich diffuser Emissionsquellen) mit einer kurzen Beschreibung auf."}]
[null,null,null,null,{"$f":"Translations!$B$257","v":"Bitte wählen Sie auch die Anhang-I-Tätigkeiten, die Emissionsquellen und die emittierten THG aus den Drop-down-Listen aus, die sich auf die in Abschnitt 5 Buchstabe c eingegebenen Daten beziehen. Ist mehr als eine Tätigkeit oder Emissionsquelle betroffen, geben Sie bitte beispielsweise „A1, A2“ ein."}]
[null,null,null,null,{"$f":"Translations!$B$258","v":"Diese Liste erscheint in den folgenden Buchstaben d und e als Drop-down-Liste, wenn eine Bezugnahme auf den jeweiligen Emissionspunkt erforderlich ist."}]
[null,null,null,null,{"$f":"Translations!$B$135","v":"Für die Anzeige/Unterdrückung von Beispielen drücken Sie bitte die Taste „Beispiele“ im Navigationsbereich."}]
[]
[null,null,null,null,{"$f":"Translations!$B$259","v":"Ref. Emissions-punkt \nEP1, EP2, ..."},{"$f":"Translations!$B$260","v":"Beschreibung des Emissionspunkts"},null,null,null,null,null,{"$f":"Translations!$B$250","v":"Ref. Tätigkeit"},{"$f":"Translations!$B$261","v":"Ref.      Emissions-quelle"},{"$f":"Translations!$B$212","v":"Emittierte THG"},null,null,null,null,null,null,"Sorting","Sorting","Sorting",null,null,null,null,"make grey?"]
["HIDE_Example",null,null,null,"EP01",{"$f":"Translations!$B$262","v":"Kamin 1 (kohlegefeuerter Kessel)"},null,null,null,null,null,"T02","EQ02, EQ03","CO2"]
["HIDE_Example",null,null,null,"EP02",{"$f":"Translations!$B$263","v":"Kamin 2 (Zementofen)"},null,null,null,null,null,"T01","EQ01","CO2",null,null,null,null,null,null,null,null,{"$f":"ADDRESS(ROW(W141),COLUMN())&\":\"&ADDRESS(ROW(W141)+MAX(0,COUNTA(W141:W151)-COUNTIF(W141:W151,EUconst_NA)-COUNTIF(W141:W151,\"\")),COLUMN())","v":"$W$141:$W$141"}]
[null,null,null,null,"EP1",null,null,null,null,null,null,null,null,null,null,null,null,null,null,1,{"$f":"IF(ISBLANK(F141),\"\",E141)","v":""},{"$f":"IF(U141=\"\",\"\",MAX(V$140:V140)+1)","v":""},{"$f":"IF(COUNTIF($V$141:$V$151,T141)=1,INDEX($U$141:$U$151,MATCH(T141,$V$141:$V$151,0)) & \": \" & INDEX($F$141:$F$151,MATCH(T141,$V$141:$V$151,0)),EUconst_NA)","v":"n.r."},null,null,null,null,{"$f":"IF(OR(CNTR_InstHasMeasurement=TRUE,CNTR_InstHasN2O=TRUE,CNTR_InstHasTransferredCO2=TRUE),FALSE,IF(COUNTA(CNTR_ListRelevantSections)>0,TRUE,FALSE))","v":false}]
[null,null,null,null,"EP2",null,null,null,null,null,null,null,null,null,null,null,null,null,null,2,{"$f":"IF(ISBLANK(F142),\"\",E142)","v":""},{"$f":"IF(U142=\"\",\"\",MAX(V$140:V141)+1)","v":""},{"$f":"IF(COUNTIF($V$141:$V$151,T142)=1,INDEX($U$141:$U$151,MATCH(T142,$V$141:$V$151,0)) & \": \" & INDEX($F$141:$F$151,MATCH(T142,$V$141:$V$151,0)),EUconst_NA)","v":"n.r."},null,null,null,null,{"$f":"IF(OR(CNTR_InstHasMeasurement=TRUE,CNTR_InstHasN2O=TRUE,CNTR_InstHasTransferredCO2=TRUE),FALSE,IF(COUNTA(CNTR_ListRelevantSections)>0,TRUE,FALSE))","v":false}]
[null,null,null,null,"EP3",null,null,null,null,null,null,null,null,null,null,null,null,null,null,3,{"$f":"IF(ISBLANK(F143),\"\",E143)","v":""},{"$f":"IF(U143=\"\",\"\",MAX(V$140:V142)+1)","v":""},"n.r.",null,null,null,null,false]
[null,null,null,null,"EP4",null,null,null,null,null,null,null,null,null,null,null,null,null,null,4,"",{"$f":"IF(U144=\"\",\"\",MAX(V$140:V143)+1)","v":""},"n.r.",null,null,null,null,false]
[null,null,null,null,"EP5",null,null,null,null,null,null,null,null,null,null,null,null,null,null,5,"",{"$f":"IF(U145=\"\",\"\",MAX(V$140:V144)+1)","v":""},"n.r.",null,null,null,null,false]
[null,null,null,null,"EP6",null,null,null,null,null,null,null,null,null,null,null,null,null,null,6,"",{"$f":"IF(U146=\"\",\"\",MAX(V$140:V145)+1)","v":""},"n.r.",null,null,null,null,false]
[null,null,null,null,"EP7",null,null,null,null,null,null,null,null,null,null,null,null,null,null,7,"",{"$f":"IF(U147=\"\",\"\",MAX(V$140:V146)+1)","v":""},"n.r.",null,null,null,null,false]
[null,null,null,null,"EP8",null,null,null,null,null,null,null,null,null,null,null,null,null,null,8,"",{"$f":"IF(U148=\"\",\"\",MAX(V$140:V147)+1)","v":""},"n.r.",null,null,null,null,false]
[null,null,null,null,"EP9",null,null,null,null,null,null,null,null,null,null,null,null,null,null,9,"",{"$f":"IF(U149=\"\",\"\",MAX(V$140:V148)+1)","v":""},"n.r.",null,null,null,null,false]
[null,null,null,null,"EP10",null,null,null,null,null,null,null,null,null,null,null,null,null,null,10,"",{"$f":"IF(U150=\"\",\"\",MAX(V$140:V149)+1)","v":""},"n.r.",null,null,null,null,false]
["ausblenden",null,null,null,null,null,null,null,null,null,null,null,null,null,null,null,null,null,null,null,"",{"$f":"IF(U151=\"\",\"\",MAX(V$140:V150)+1)","v":""},null,null,null,null,null,false]
["ADD_EmissionPoint"]
[null,null,null,null,null,null,{"$f":"Translations!$B$264","v":"Auf „+“ klicken, um weitere Emissionspunkte einzufügen"}]
[]
[]
[]
[null,null,null,"(d)",{"$f":"Translations!$B$265","v":"Messstellen bei Systemen für kontinuierliche Messung:"},null,null,null,null,null,null,{"$f":"IF(OR(CNTR_InstHasMeasurement=TRUE,CNTR_InstHasN2O=TRUE,CNTR_InstHasTransferredCO2=TRUE),EUconst_Relevant,IF(COUNTA(CNTR_ListRelevantSections)>0,EUconst_NotRelevant,EUconst_Relevant))","v":"Relevant"}]
[null,null,null,null,null,null,null,null,null,null,{"$f":"IF(L157=EUconst_NotRelevant,HYPERLINK(R158,EUconst_MsgGoOn),HYPERLINK(\"\",EUconst_MsgEnterThisSection))","v":"Bitte machen Sie Angaben in diesem Abschnitt"},null,null,null,null,null,"Jump Address:",{"$f":"\"#\"&ADDRESS(ROW(D182),COLUMN(D182))","v":"#$D$182"}]
[]
[null,null,null,null,{"$f":"Translations!$B$266","v":"Damit in dieser Vorlage automatisch Emissionsquellenkategorien vorgeschlagen werden können, müssen zuerst alle Emissionsquellen bestimmt werden, auf die auf Messung beruhende Methodiken angewandt werden."}]
[null,null,null,null,{"$f":"Translations!$B$267","v":"Bitte führen Sie alle Messstellen, an denen THG durch Systeme für kontinuierliche Emissionsmessung gemessen werden, mit einer kurzen Beschreibung auf. Dies schließt Messstellen in Pipelinesystemen ein, über die CO2 zwecks geologischer Speicherung weitergeleitet wird."}]
[null,null,null,null,{"$f":"Translations!$B$268","v":"Haben Sie in Abschnitt 6 Buchstabe a angegeben, dass keine auf Messung basierenden Methodiken verwendet werden, sind keine Angaben erforderlich."}]
[null,null,null,null,{"$f":"Translations!$B$269","v":"Geben Sie zu jeder Messstelle auch einen Schätzwert für die jeweiligen Jahresemissionen an. Diese Angabe ist für die Bestimmung der anwendbaren Ebene erforderlich."}]
[null,null,null,null,{"$f":"Translations!B1273","v":"Gemäß Artikel 19 Absatz 4 kann für jede Emissionsquelle, aus der weniger als 5000 Tonnen CO2(Äq)/Jahr emittiert werden oder die für weniger als 10 % der jährlichen Gesamtemissionen der Anlage (bis zu einem Höchstwert von 100 000 Tonnen fossilem CO2(Äq)/Jahr) verantwortlich ist, wobei der jeweils absolut höhere Emissionswert maßgebend ist („kleine Emissionsquelle“), eine geringere Ebenenanforderung zugelassen werden."}]
[null,null,null,null,{"$f":"Translations!$B$271","v":"Die übrigen Emissionsquellen werden als emissionsstarke Emissionsquellen eingestuft."}]
[null,null,null,null,{"$f":"Translations!$B$272","v":"Wird eine auf Berechnungen beruhende Methodik angewandt, so sind diese geschätzten Emissionen auch für die Kategorisierung der berechneten Stoffströme unter Buchstabe f wichtig. "}]
[null,null,null,null,{"$f":"Translations!$B$135","v":"Für die Anzeige/Unterdrückung von Beispielen drücken Sie bitte die Taste „Beispiele“ im Navigationsbereich."}]
[]
[null,null,null,null,{"$f":"Translations!$B$273","v":"Ref. Messstelle\nM1, M2, …"},{"$f":"Translations!$B$274","v":"Beschreibung"},null,null,null,null,{"$f":"Translations!$B$275","v":"Ref. Emissionspunkt"},{"$f":"Translations!$B$276","v":"Geschätzte Emissionen           [t CO2Äq / Jahr]"},{"$f":"Translations!$B$277","v":"Mögliche Kategorie"},{"$f":"Translations!$B$278","v":"Gemessene THG"},null,null,null,null,null,null,null,null,"ABS",null,"minor",null,null,"make grey?"]
["HIDE_Example",null,null,null,"M01",{"$f":"Translations!$B$279","v":"Kamin eines kohlebefeuerten Kessels, Messplattform A"},null,null,null,null,"EP01",150000,{"$f":"IF(ISBLANK(L170),\"\",IF(L170<$Y$171,INDEX(SourceCategoryCEMS,2),INDEX(SourceCategoryCEMS,1)))","v":"Emissionsstark"},"CO2"]
[null,null,null,null,"M1",null,null,null,null,null,null,null,null,null,null,null,{"$f":"EUconst_CNTR_SourceCategory&E171","v":"SourceCategory_M1"},{"$f":"EUconst_CNTR_SourceCategory&M171","v":"SourceCategory_"},null,null,null,null,{"$f":"IF(ISBLANK(L171),\"\",ABS(L171))","v":""},"LIMIT",{"$f":"MAX(5000,MIN(0.1*$Y$242,100000))","v":5000},null,null,{"$f":"L157=EUconst_NotRelevant","v":false}]
[null,null,null,null,"M2",null,null,null,null,null,null,null,null,null,null,null,"SourceCategory_M2","SourceCategory_",null,null,null,null,"",null,null,null,null,{"$f":"AB171","v":false}]
[null,null,null,null,"M3",null,null,null,null,null,null,null,"",null,null,null,"SourceCategory_M3","SourceCategory_",null,null,null,null,"",null,null,null,null,{"$f":"AB172","v":false}]
[null,null,null,null,"M4",null,null,null,null,null,null,null,"",null,null,null,"SourceCategory_M4","SourceCategory_",null,null,null,null,"",null,null,null,null,{"$f":"AB173","v":false}]
[null,null,null,null,"M5",null,null,null,null,null,null,null,"",null,null,null,"SourceCategory_M5","SourceCategory_",null,null,null,null,"",null,null,null,null,{"$f":"AB174","v":false}]
["ausblenden",null,null,null,null,null,null,null,null,null,null,null,"",null,null,null,"SourceCategory_","SourceCategory_",null,null,null,null,"",null,null,null,null,{"$f":"AB175","v":false}]
["ADD_MeasurementPoint"]
[null,null,null,null,null,null,{"$f":"Translations!$B$280","v":"Auf „+“ klicken, um weitere Messstellen einzufügen"}]
[]
[]
[]
[null,null,null,"(e)",{"$f":"Translations!$B$281","v":"Relevante Stoffströme:"},null,null,null,null,null,null,{"$f":"IF(OR(CNTR_InstHasCalculation=TRUE,CNTR_InstHasPFC=TRUE),EUconst_Relevant,IF(COUNTA(CNTR_ListRelevantSections)>0,EUconst_NotRelevant,EUconst_Relevant))","v":"Relevant"}]
[null,null,null,null,null,null,null,null,null,null,{"$f":"IF(L182=EUconst_NotRelevant,HYPERLINK(R183,EUconst_MsgGoOn),HYPERLINK(\"\",EUconst_MsgEnterThisSection))","v":"Bitte machen Sie Angaben in diesem Abschnitt"},null,null,null,null,null,"Jump Address:",{"$f":"\"#\"&ADDRESS(ROW(D244),COLUMN(D244))","v":"#$D$244"}]
[null,null,null,null,{"$f":"Translations!$B$282","v":"Bitte führen Sie hier alle Stoffströme (Brennstoffe, Materialien, Produkte usw.) auf, die in Ihrer Anlage mit auf Berechnungen beruhenden Methodiken (Standardmethodik oder Massenbilanzmethodik) überwacht werden sollen. Die Definition des Begriffs „Stoffstrom“ finden Sie im Leitfaden Nr. 1 („General guidance for installations”). Die Definition von Stoffströmen im Zusammenhang mit PFC finden Sie unter Abschnitt 14 Buchstabe c des Arbeitsblatts \"I_PFC\"."}]
[null,null,null,null,{"$f":"Translations!$B$283","v":"Ordnen Sie als nächstes den Stoffstrom einer der angegebenen Kategorien zu und geben Sie zur genaueren Identifikation einen Namen für den Stoffstrom ein. Bei Brennstoffen wie z. B. \"Erdgas\" oder \"Heizöl Leicht\" kann die Eingabe entfallen. Die Stoffströme können Bezeichnungen erhalten wie z. B. \"Polnische Kohle\" bei der Kategorie \"Steinkohle\"."}]
[null,null,null,null,{"$f":"Translations!$B$284","v":"Der Stoffstromtyp ist als ein Regelwerk zu verstehen, das nach Maßgabe der MVO angewandt wird. Diese Einstufung bildet die Grundlage für weitere Verpflichtungen, z. B. die anzuwendenden Ebenen."}]
[null,null,null,null,{"$f":"Translations!$B$285","v":"Die Drop-down-Liste für die Auswahl der Art des Stoffstroms beruht auf den in Abschnitt 5 Buchstabe c ausgewählten Tätigkeiten. Die Eingabe hier ist erforderlich, um die anwendbare Mindestebene im Arbeitsblatt „E_SourceStreams“ zu bestimmen."}]
[null,null,null,null,{"$f":"Translations!$B$286","v":"Damit die zuständige Behörde die Funktionsweise Ihrer Anlage vollständig verstehen kann, wählen Sie bitte aus den jeweiligen Drop-down-Listen die Anhang-I-Tätigkeiten, die Emissionsquellen und die Emissionspunkte aus, die jedem Stoffstrom entsprechen. Ist mehr als eine Tätigkeit oder Emissionsquelle betroffen, geben Sie bitte beispielsweise „A1, A2“ ein."}]
[null,null,null,null,{"$f":"Translations!$B$135","v":"Für die Anzeige/Unterdrückung von Beispielen drücken Sie bitte die Taste „Beispiele“ im Navigationsbereich."}]
[]
[null,null,null,null,{"$f":"Translations!$B$287","v":"Ref. Stoffstrom S1, S2, …"},{"$f":"Translations!$B$289","v":"Stoffstromtyp"},null,null,"Stoffstromkategorie",null,{"$f":"Translations!$B$288","v":"Bezeichnung des Stoffstroms"},{"$f":"Translations!$B$250","v":"Ref. Tätigkeit"},{"$f":"Translations!$B$261","v":"Ref.      Emissions-quelle"},{"$f":"Translations!$B$275","v":"Ref. Emissionspunkt"}]
["HIDE_Example",null,null,null,"S01",{"$f":"Translations!$B$291","v":"Zementklinker: Ofen-Input-Betrachtung (Methode A)"},null,null,{"$f":"Translations!$B$290","v":"Rohmehl"},null,null,{"$f":"Translations!$B$292","v":"T01: Zementklinkerproduktion"},{"$f":"Translations!$B$293","v":"EQ01: Zementklinkerofen (Dekarbonisieren von Rohmehl, Verbrennung von Brennstoffen)"},{"$f":"Translations!$B$294","v":"EP02: Kamin 2 (Zementofen)"}]
["HIDE_Example",null,null,null,"S02",{"$f":"Translations!$B$296","v":"Verbrennung: Andere gasförmige und flüssige Brennstoffe"},null,null,{"$f":"Translations!$B$295","v":"Heizöl schwer"},null,null,{"$f":"Translations!$B$292","v":"T01: Zementklinkerproduktion"},{"$f":"Translations!$B$293","v":"EQ01: Zementklinkerofen (Dekarbonisieren von Rohmehl, Verbrennung von Brennstoffen)"},{"$f":"Translations!$B$294","v":"EP02: Kamin 2 (Zementofen)"},null,null,null,"Kategorie Adresse",null,null,"Check Kategorie erforderlich?","Check Name optional?",null,null,"E_SourceStreams","CNTR_CheckPFC","EP optional?"]
[null,null,null,null,"S1",null,null,null,null,null,null,null,null,null,null,null,null,{"$f":"IF(COUNTIF($G$280:$G$350,F194)=0,\"\",INDEX(MSPara_KategorieAdresse,MATCH(F194,$G$280:$G$350,0)))","v":""},{"$f":"EUconst_CNTR_SourceStreamName&F194","v":"SourceStreamName_"},{"$f":"EUconst_CNTR_SourceStreamClass&I194","v":"SourceStreamClass_"},{"$f":"IF(ISBLANK(F194),FALSE,IF(INDEX(MSPara_Kategorie,MATCH(F194,EUConst_TierActivityListNames,0))=EUconst_NA,TRUE,INDEX(MSPara_Kategorie,MATCH(F194,EUConst_TierActivityListNames,0))))","v":false},{"$f":"IFERROR(IF(OR(ISBLANK(F194),U194=TRUE),FALSE,INDEX(INDIRECT(U194 & \"_\" & \"Namen\"),MATCH(I194,INDIRECT(U194),0))),FALSE)","v":false},null,{"$f":"IF(ISBLANK(F194),\"\",F194& IF(ISBLANK(I194),\"\",\"; \" &I194) & IF(ISBLANK(K194),\"\",\"; \" & K194))","v":""},{"$f":"IF(ISBLANK(I194),\"\",I194) & IF(COUNTA(I194:K194)<2,\"\",\"; \") & IF(ISBLANK(K194),\"\",K194)","v":""},{"$f":"IF(I194=\"\",\"\",IF(COUNTIF(CNTR_PFCSourceStreams,I194)>0,MAX(Z$193:Z193)+1,\"\"))","v":""},{"$f":"AB141","v":false},{"$f":"L182=EUconst_NotRelevant","v":false}]
[null,null,null,null,"S2",null,null,null,null,null,null,null,null,null,null,null,null,"","SourceStreamName_","SourceStreamClass_",{"$f":"IF(ISBLANK(F195),FALSE,IF(INDEX(MSPara_Kategorie,MATCH(F195,EUConst_TierActivityListNames,0))=EUconst_NA,TRUE,INDEX(MSPara_Kategorie,MATCH(F195,EUConst_TierActivityListNames,0))))","v":false},{"$f":"IFERROR(IF(OR(ISBLANK(F195),U195=TRUE),FALSE,INDEX(INDIRECT(U195 & \"_\" & \"Namen\"),MATCH(I195,INDIRECT(U195),0))),FALSE)","v":false},null,{"$f":"IF(ISBLANK(F195),\"\",F195& IF(ISBLANK(I195),\"\",\"; \" &I195) & IF(ISBLANK(K195),\"\",\"; \" & K195))","v":""},{"$f":"IF(ISBLANK(I195),\"\",I195) & IF(COUNTA(I195:K195)<2,\"\",\"; \") & IF(ISBLANK(K195),\"\",K195)","v":""},{"$f":"IF(I195=\"\",\"\",IF(COUNTIF(CNTR_PFCSourceStreams,I195)>0,MAX(Z$193:Z194)+1,\"\"))","v":""},{"$f":"AA194","v":false},{"$f":"AB194","v":false}]
[null,null,null,null,"S3",null,null,null,null,null,null,null,null,null,null,null,null,"","SourceStreamName_","SourceStreamClass_",{"$f":"IF(ISBLANK(F196),FALSE,IF(INDEX(MSPara_Kategorie,MATCH(F196,EUConst_TierActivityListNames,0))=EUconst_NA,TRUE,INDEX(MSPara_Kategorie,MATCH(F196,EUConst_TierActivityListNames,0))))","v":false},false,null,"","",{"$f":"IF(I196=\"\",\"\",IF(COUNTIF(CNTR_PFCSourceStreams,I196)>0,MAX(Z$193:Z195)+1,\"\"))","v":""},{"$f":"AA195","v":false},{"$f":"AB195","v":false}]
[null,null,null,null,"S4",null,null,null,null,null,null,null,null,null,null,null,null,"","SourceStreamName_","SourceStreamClass_",false,false,null,"","",{"$f":"IF(I197=\"\",\"\",IF(COUNTIF(CNTR_PFCSourceStreams,I197)>0,MAX(Z$193:Z196)+1,\"\"))","v":""},false,false]
[null,null,null,null,"S5",null,null,null,null,null,null,null,null,null,null,null,null,"","SourceStreamName_","SourceStreamClass_",false,false,null,"","",{"$f":"IF(I198=\"\",\"\",IF(COUNTIF(CNTR_PFCSourceStreams,I198)>0,MAX(Z$193:Z197)+1,\"\"))","v":""},false,false]
[null,null,null,null,"S6",null,null,null,null,null,null,null,null,null,null,null,null,"","SourceStreamName_","SourceStreamClass_",false,false,null,"","",{"$f":"IF(I199=\"\",\"\",IF(COUNTIF(CNTR_PFCSourceStreams,I199)>0,MAX(Z$193:Z198)+1,\"\"))","v":""},false,false]
[null,null,null,null,"S7",null,null,null,null,null,null,null,null,null,null,null,null,"","SourceStreamName_","SourceStreamClass_",false,false,null,"","",{"$f":"IF(I200=\"\",\"\",IF(COUNTIF(CNTR_PFCSourceStreams,I200)>0,MAX(Z$193:Z199)+1,\"\"))","v":""},false,false]
[null,null,null,null,"S8",null,null,null,null,null,null,null,null,null,null,null,null,"","SourceStreamName_","SourceStreamClass_",false,false,null,"","",{"$f":"IF(I201=\"\",\"\",IF(COUNTIF(CNTR_PFCSourceStreams,I201)>0,MAX(Z$193:Z200)+1,\"\"))","v":""},false,false]
[null,null,null,null,"S9",null,null,null,null,null,null,null,null,null,null,null,null,"","SourceStreamName_","SourceStreamClass_",false,false,null,"","",{"$f":"IF(I202=\"\",\"\",IF(COUNTIF(CNTR_PFCSourceStreams,I202)>0,MAX(Z$193:Z201)+1,\"\"))","v":""},false,false]
[null,null,null,null,"S10",null,null,null,null,null,null,null,null,null,null,null,null,"","SourceStreamName_","SourceStreamClass_",false,false,null,"","",{"$f":"IF(I203=\"\",\"\",IF(COUNTIF(CNTR_PFCSourceStreams,I203)>0,MAX(Z$193:Z202)+1,\"\"))","v":""},false,false]
["ausblenden",null,null,null,null,null,null,null,null,null,null,null,null,null,null,null,null,"",{"$f":"EUconst_CNTR_SourceStreamName&F204","v":"SourceStreamName_"},{"$f":"EUconst_CNTR_SourceStreamClass&I204","v":"SourceStreamClass_"},false,false,null,"","",{"$f":"IF(I204=\"\",\"\",IF(COUNTIF(CNTR_PFCSourceStreams,I204)>0,MAX(Z$193:Z203)+1,\"\"))","v":""},false,{"$f":"AB203","v":false}]
["ADD_SourceStream"]
[null,null,null,null,null,null,{"$f":"Translations!$B$297","v":"Auf „+“ klicken, um weitere Stoffströme einzufügen"}]
[]
[]
[]
[null,null,null,"(f)",{"$f":"Translations!$B$298","v":"Geschätzte Emissionen und Stoffstromkategorien:"}]
[null,null,null,null,{"$f":"Translations!$B$299","v":"Bitte geben Sie hier zu jedem Stoffstrom (auf Berechnungen beruhende Methodik, einschließlich PFC) die geschätzten Emissionen ein und wählen sie eine geeignete Stoffstromkategorie. "}]
[null,null,null,null,{"$f":"Translations!$B$300","v":"Die Daten für die Stoffstromreferenzen und die vollständige Bezeichnung des Stoffstroms (Bezeichnung des Stoffstroms und Stoffstromtyp) werden automatisch aus Buchstabe b übernommen."}]
[null,null,null,null,{"$f":"Translations!$B$1341","v":"Im Falle von Stoffströmen, die aus einer Massenbilanz herausgehen,  müssen die Emissionen als negative Werte eingetragen werden. Geht Kohlenstoff mit einem Emissionsfaktor von Null in die Massenbilanz ein, gilt Artikel 25 Absatz 3."}]
[null,null,null,null,{"$f":"Translations!$B$302","v":"Hintergrund: Gemäß Artikel 19 Absatz 3 können Sie jeden Stoffstrom als „emissionsstarken“, „emissionsschwachen“ oder „De-minimis“-Stoffstrom einstufen."}]
[null,null,null,null,"-",{"$f":"Translations!$B$303","v":"„Emissionsschwache“ Stoffströme sind kumuliert für weniger als 5000 Tonnen an fossilem CO2 pro Jahr oder für weniger als 10 % (bis zu einem maximalen Gesamtanteil von 100 000 Tonnen fossilem CO2/Jahr) verantwortlich, wobei der jeweils absolut höhere Wert maßgebend ist."}]
[null,null,null,null,"-",{"$f":"Translations!$B$304","v":"„De-minimis“-Stoffströme sind kumuliert für weniger als 1000 Tonnen an fossilem CO2 pro Jahr oder für weniger als 2 % (bis zu einem maximalen Gesamtanteil von 20 000 Tonnen fossilem CO2/Jahr) verantwortlich, wobei der jeweils absolut höhere Wert maßgebend ist."}]
[null,null,null,null,"-",{"$f":"Translations!$B$305","v":"„Emissionsstarke“ Stoffströme sind alle Stoffströme, die nicht als „emissionsschwach“ oder „De-minimis“-Stoffstrom eingestuft werden."}]
[null,null,null,null,{"$f":"Translations!$B$306","v":"Für die Massenbilanz von Stoffströmen werden die absoluten Werte für die Einstufung berücksichtigt."}]
[null,null,null,null,{"$f":"Translations!$B$307","v":"Um die Auswahl der geeigneten Kategorie zu erleichtern, wird die mögliche Kategorie für jeden Stoffstrom automatisch in dem grünen Feld angezeigt."}]
[null,null,null,null,{"$f":"Translations!$B$308","v":"Diese automatische Anzeige stellt lediglich Informationen über die mögliche Kategorie jedes Stoffstroms für sich genommen bereit. Wird einer der vorstehend genannten Schwellenwerte überschritten, werden die möglichen Kategorien nicht geändert, es erscheint jedoch eine Fehlermeldung. In diesem Fall wählen Sie bitte zumindest die nächsthöhere Kategorie aus."}]
[null,null,null,null,{"$f":"Translations!$B$309","v":"Nachdem Sie die geschätzten Emissionen für alle Stoffströme eingegeben haben, wird die Summe mit den Jahresemissionen insgesamt in Abschnitt 5 Buchstabe d verglichen. Beträgt die Differenz zwischen den geschätzten Emissionen und den Jahresemissionen insgesamt mehr als 5 %, so erscheint automatisch eine Fehlermeldung. "}]
[]
[null,null,null,null,{"$f":"Translations!$B$287","v":"Ref. Stoffstrom S1, S2, …"},{"$f":"Translations!$B$310","v":"Vollständige Bezeichnung des Stoffstroms (Bezeichnung und Typ)"},null,null,null,null,null,{"$f":"Translations!$B$276","v":"Geschätzte Emissionen           [t CO2Äq / Jahr]"},{"$f":"Translations!$B$277","v":"Mögliche Kategorie"},{"$f":"Translations!$B$311","v":"Ausgewählte Kategorie"},null,null,null,null,"has entry?",null,null,null,"ABS",null,"minor","de-minimis"]
["HIDE_Example",null,null,null,"S01",{"$f":"Translations!$B$312","v":"Rohmehl; Zementklinker: Ofen-Input-Betrachtung (Methode A)"},null,null,null,null,null,98000,{"$f":"Translations!$B$313","v":"Emissionsstark"},{"$f":"Translations!$B$313","v":"Emissionsstark"}]
["HIDE_Example",null,null,null,"S02",{"$f":"Translations!$B$314","v":"Heizöl schwer; Verbrennung: Andere gasförmige und flüssige Brennstoffe"},null,null,null,null,null,19300,{"$f":"Translations!$B$313","v":"Emissionsstark"},{"$f":"Translations!$B$313","v":"Emissionsstark"}]
[null,null,null,null,{"$f":"IF(ISBLANK(F194),\"\",E194)","v":""},{"$f":"IF(COUNTA(F194:I194)<2,\"\",F194 & \"; \" &I194)","v":""},null,null,null,null,null,null,{"$f":"IF(W226=\"\",\"\",IF(W226<$Z$226,INDEX(SourceCategory,3),IF(W226<$Y$226,INDEX(SourceCategory,2),INDEX(SourceCategory,1))))","v":""},null,null,null,{"$f":"EUconst_CNTR_SourceCategory&E194","v":"SourceCategory_S1"},null,{"$f":"(F226<>\"\")","v":false},{"$f":"EUconst_CNTR_SourceCategory&N226","v":"SourceCategory_"},null,{"$f":"IF(I194=\"\",\"\",IFERROR(IF(AND(SUM(L226)<0,INDEX(EUwideConstants!$W$265:$W$334,MATCH(I194,EUConst_TierActivityListNames,0))),ABS(L226),\"\"),\"\"))","v":""},{"$f":"IF(ISBLANK(L226),\"\",ABS(L226))","v":""},"LIMIT",{"$f":"MAX(5000,MIN(0.1*$Y$242,100000))","v":5000},{"$f":"MAX(1000,MIN(0.02*$Y$242,20000))","v":1000},null,{"$f":"IF(COUNTIF($S$226:$S$236,TRUE)>0,NOT(S226),$L$182=EUconst_NotRelevant)","v":false}]
[null,null,null,null,"","",null,null,null,null,null,null,"",null,null,null,"SourceCategory_S2",null,{"$f":"(F227<>\"\")","v":false},"SourceCategory_",null,{"$f":"IF(I195=\"\",\"\",IFERROR(IF(AND(SUM(L227)<0,INDEX(EUwideConstants!$W$265:$W$334,MATCH(I195,EUConst_TierActivityListNames,0))),ABS(L227),\"\"),\"\"))","v":""},{"$f":"IF(ISBLANK(L227),\"\",ABS(L227))","v":""},"SUM",{"$f":"SUMIF(T$226:T236,EUconst_CNTR_SourceCategory&INDEX(SourceCategory,2),W$226:W236)","v":0},{"$f":"SUMIF(T$226:T236,EUconst_CNTR_SourceCategory&INDEX(SourceCategory,3),W$226:W236)","v":0},null,false]
[null,null,null,null,"","",null,null,null,null,null,null,"",null,null,null,"SourceCategory_S3",null,false,"SourceCategory_",null,{"$f":"IF(I196=\"\",\"\",IFERROR(IF(AND(SUM(L228)<0,INDEX(EUwideConstants!$W$265:$W$334,MATCH(I196,EUConst_TierActivityListNames,0))),ABS(L228),\"\"),\"\"))","v":""},"",null,null,null,null,false]
[null,null,null,null,"","",null,null,null,null,null,null,"",null,null,null,"SourceCategory_S4",null,false,"SourceCategory_",null,{"$f":"IF(I197=\"\",\"\",IFERROR(IF(AND(SUM(L229)<0,INDEX(EUwideConstants!$W$265:$W$334,MATCH(I197,EUConst_TierActivityListNames,0))),ABS(L229),\"\"),\"\"))","v":""},"",null,null,null,null,false]
[null,null,null,null,"","",null,null,null,null,null,null,"",null,null,null,"SourceCategory_S5",null,false,"SourceCategory_",null,{"$f":"IF(I198=\"\",\"\",IFERROR(IF(AND(SUM(L230)<0,INDEX(EUwideConstants!$W$265:$W$334,MATCH(I198,EUConst_TierActivityListNames,0))),ABS(L230),\"\"),\"\"))","v":""},"",null,null,null,null,false]
[null,null,null,null,"","",null,null,null,null,null,null,"",null,null,null,"SourceCategory_S6",null,{"$f":"(F231<>\"\")","v":false},{"$f":"EUconst_CNTR_SourceCategory&N231","v":"SourceCategory_"},null,{"$f":"IF(I199=\"\",\"\",IFERROR(IF(AND(SUM(L231)<0,INDEX(EUwideConstants!$W$265:$W$334,MATCH(I199,EUConst_TierActivityListNames,0))),ABS(L231),\"\"),\"\"))","v":""},"",null,null,null,null,false]
[null,null,null,null,"","",null,null,null,null,null,null,"",null,null,null,"SourceCategory_S7",null,false,"SourceCategory_",null,{"$f":"IF(I200=\"\",\"\",IFERROR(IF(AND(SUM(L232)<0,INDEX(EUwideConstants!$W$265:$W$334,MATCH(I200,EUConst_TierActivityListNames,0))),ABS(L232),\"\"),\"\"))","v":""},"",null,null,null,null,false]
[null,null,null,null,"","",null,null,null,null,null,null,"",null,null,null,"SourceCategory_S8",null,false,"SourceCategory_",null,{"$f":"IF(I201=\"\",\"\",IFERROR(IF(AND(SUM(L233)<0,INDEX(EUwideConstants!$W$265:$W$334,MATCH(I201,EUConst_TierActivityListNames,0))),ABS(L233),\"\"),\"\"))","v":""},"",null,null,null,null,false]
[null,null,null,null,"","",null,null,null,null,null,null,"",null,null,null,"SourceCategory_S9",null,false,"SourceCategory_",null,{"$f":"IF(I202=\"\",\"\",IFERROR(IF(AND(SUM(L234)<0,INDEX(EUwideConstants!$W$265:$W$334,MATCH(I202,EUConst_TierActivityListNames,0))),ABS(L234),\"\"),\"\"))","v":""},"",null,null,null,null,false]
[null,null,null,null,"","",null,null,null,null,null,null,"",null,null,null,"SourceCategory_S10",null,false,"SourceCategory_",null,{"$f":"IF(I203=\"\",\"\",IFERROR(IF(AND(SUM(L235)<0,INDEX(EUwideConstants!$W$265:$W$334,MATCH(I203,EUConst_TierActivityListNames,0))),ABS(L235),\"\"),\"\"))","v":""},"",null,null,null,null,false]
["ausblenden",null,null,null,{"$f":"IF(ISBLANK(F205),\"\",E205)","v":""},{"$f":"IF(COUNTA(F204:I204)<2,\"\",F204 & \"; \" &I204)","v":""},null,null,null,null,null,null,{"$f":"IF(W236=\"\",\"\",IF(W236<$Z$226,INDEX(SourceCategory,3),IF(W236<$Y$226,INDEX(SourceCategory,2),INDEX(SourceCategory,1))))","v":""},null,null,null,{"$f":"EUconst_CNTR_SourceCategory&E204","v":"SourceCategory_"},null,{"$f":"(F236<>\"\")","v":false},{"$f":"EUconst_CNTR_SourceCategory&N236","v":"SourceCategory_"},null,{"$f":"IF(I204=\"\",\"\",IFERROR(IF(AND(SUM(L236)<0,INDEX(EUwideConstants!$W$265:$W$334,MATCH(I204,EUConst_TierActivityListNames,0))),ABS(L236),\"\"),\"\"))","v":""},{"$f":"IF(ISBLANK(L236),\"\",ABS(L236))","v":""},null,null,null,null,false]
["ADD_SourceStream"]
[null,null,null,null,null,{"$f":"Translations!$B$315","v":"Fehlermeldung (Summe der emissionsschwachen Stoffströme):"},null,null,null,null,{"$f":"IF(Y238=TRUE,EUconst_ERR_ThreshholdMinor,\"\")","v":""},null,null,null,null,null,null,null,null,null,null,null,null,"error?",{"$f":"Y227>Y226","v":false}]
[]
[null,null,null,null,null,{"$f":"Translations!$B$316","v":"Fehlermeldung (Summe der De-minimis-Stoffströme):"},null,null,null,null,{"$f":"IF(Y240=TRUE,EUconst_ERR_ThreshholdDeminimis,\"\")","v":""},null,null,null,null,null,null,null,null,null,null,null,null,"error?",{"$f":"Z227>Z226","v":false}]
[]
[null,null,null,null,null,{"$f":"Translations!$B$317","v":"Fehlermeldung (Gesamtemissionen,\nDifferenz zu Abschnitt 5 Buchstabe d):"},null,null,null,{"$f":"IF(ISBLANK(CNTR_TotalEmissions),\"\",IF(COUNTIF(S226:S236,TRUE)<>COUNT(W226:W236),\"\",SUM(L171:L176,L226:L236,V226:V236)/CNTR_TotalEmissions-1))","v":""},{"$f":"IF(ISBLANK(CNTR_TotalEmissions),\"\",IF(COUNTIF(S226:S236,TRUE)<>COUNT(W226:W236),\"\",IF(OR(SUM(L171:L176,L226:L236,V226:V236)/CNTR_TotalEmissions<0.95,SUM(L171:L176,L226:L236,V226:V236)/CNTR_TotalEmissions>1.05),EUconst_ERR_CheckEstimatedEmissions,\"\")))","v":""},null,null,null,null,null,null,null,null,null,null,null,null,"SUM",{"$f":"SUM(W171:W236)","v":0}]
[]
[null,null,null,"(g)",{"$f":"Translations!$B$318","v":"Gegebenenfalls nicht in das EU-EHS einbezogene Teile und Tätigkeiten der Anlage:"}]
[null,null,null,null,{"$f":"Translations!$B$319","v":"Bitte machen Sie nähere Angabe zu etwa nicht in das EU-EHS einbezogenen Teilen oder Tätigkeiten der Anlage, wenn die für diese Tätigkeiten verwendeten Brennstoffe oder Materialien durch die Messgeräte erfasst werden, die auch für Anhang-I-Tätigkeiten eingesetzt werden."}]
[null,null,null,null,{"$f":"Translations!$B$320","v":"Weitere Informationen finden Sie unter den Buchstaben b, c und e. "}]
[null,null,null,null,{"$f":"Translations!$B$135","v":"Für die Anzeige/Unterdrückung von Beispielen drücken Sie bitte die Taste „Beispiele“ im Navigationsbereich."}]
[]
[null,null,null,null,{"$f":"Translations!$B$321","v":"Ref.\nEmissions-quelle"},{"$f":"Translations!$B$322","v":"Stoffströme (Brennstoffe/Materialien)"},null,null,{"$f":"Translations!$B$323","v":"Emissionsquellen"},null,null,{"$f":"Translations!$B$324","v":"Emissionspunkte"}]
["HIDE_Example",null,null,null,"S011",{"$f":"Translations!$B$325","v":"Erdgas (wird durch die Anlage zu einem externen Verbraucher geleitet)"},null,null,{"$f":"Translations!$B$326","v":"Verschiedene Kessel (jeweils < 3 MW Wärme)"},null,null,{"$f":"Translations!$B$327","v":"Kamin einer angebundenen Anlage (Heizung eines benachbarten Krankenhauses)"}]
[]
[]
[]
[]
[]
[]
[]
[]
[]
["ausblenden"]
["ADD_ActivitiesExcluded"]
[null,null,null,null,null,null,{"$f":"Translations!$B$328","v":"Auf „+“ klicken, um weitere vom EU-EHS ausgenommene Tätigkeiten einzufügen"}]
[]
[]
[]
[null,null,null,null,null,{"$f":"EUconst_MsgNextSheet","v":"<<< Hier klicken, um mit nächstem Blatt fortzufahren >>> "}]
[]
[null,null,null,null,null,10]
["ausblenden","End","End","End","End","End","End","End","End","End","End","End","End","End","End","End","End","End","End","End","End","End","End","End","End","End","End","End"]
["ausblenden"]
["ausblenden",null,null,null,null,{"$f":"Translations!$B$956","v":"Tätigkeit"},"Source Stream Types"]
["ausblenden",null,null,null,"Act. 1",{"$f":"IF(ISBLANK(F56),\"\",F56)","v":""},{"$f":"IF($F272=\"\",\"\",INDEX(EUwideConstants!E$230:E$258,MATCH($F272,AnnexIActivities,0)))","v":""},{"$f":"IF($F272=\"\",\"\",INDEX(EUwideConstants!F$230:F$258,MATCH($F272,AnnexIActivities,0)))","v":""},{"$f":"IF($F272=\"\",\"\",INDEX(EUwideConstants!G$230:G$258,MATCH($F272,AnnexIActivities,0)))","v":""},{"$f":"IF($F272=\"\",\"\",INDEX(EUwideConstants!H$230:H$258,MATCH($F272,AnnexIActivities,0)))","v":""},{"$f":"IF($F272=\"\",\"\",INDEX(EUwideConstants!I$230:I$258,MATCH($F272,AnnexIActivities,0)))","v":""},{"$f":"IF($F272=\"\",\"\",INDEX(EUwideConstants!J$230:J$258,MATCH($F272,AnnexIActivities,0)))","v":""},{"$f":"IF($F272=\"\",\"\",INDEX(EUwideConstants!K$230:K$258,MATCH($F272,AnnexIActivities,0)))","v":""}]
["ausblenden",null,null,null,"Act. 2",{"$f":"IF(ISBLANK(F57),\"\",F57)","v":""},{"$f":"IF($F273=\"\",\"\",INDEX(EUwideConstants!E$230:E$258,MATCH($F273,AnnexIActivities,0)))","v":""},{"$f":"IF($F273=\"\",\"\",INDEX(EUwideConstants!F$230:F$258,MATCH($F273,AnnexIActivities,0)))","v":""},{"$f":"IF($F273=\"\",\"\",INDEX(EUwideConstants!G$230:G$258,MATCH($F273,AnnexIActivities,0)))","v":""},{"$f":"IF($F273=\"\",\"\",INDEX(EUwideConstants!H$230:H$258,MATCH($F273,AnnexIActivities,0)))","v":""},{"$f":"IF($F273=\"\",\"\",INDEX(EUwideConstants!I$230:I$258,MATCH($F273,AnnexIActivities,0)))","v":""},{"$f":"IF($F273=\"\",\"\",INDEX(EUwideConstants!J$230:J$258,MATCH($F273,AnnexIActivities,0)))","v":""},{"$f":"IF($F273=\"\",\"\",INDEX(EUwideConstants!K$230:K$258,MATCH($F273,AnnexIActivities,0)))","v":""}]
["ausblenden",null,null,null,"Act. 3",{"$f":"IF(ISBLANK(F58),\"\",F58)","v":""},{"$f":"IF($F274=\"\",\"\",INDEX(EUwideConstants!E$230:E$258,MATCH($F274,AnnexIActivities,0)))","v":""},{"$f":"IF($F274=\"\",\"\",INDEX(EUwideConstants!F$230:F$258,MATCH($F274,AnnexIActivities,0)))","v":""},{"$f":"IF($F274=\"\",\"\",INDEX(EUwideConstants!G$230:G$258,MATCH($F274,AnnexIActivities,0)))","v":""},{"$f":"IF($F274=\"\",\"\",INDEX(EUwideConstants!H$230:H$258,MATCH($F274,AnnexIActivities,0)))","v":""},{"$f":"IF($F274=\"\",\"\",INDEX(EUwideConstants!I$230:I$258,MATCH($F274,AnnexIActivities,0)))","v":""},{"$f":"IF($F274=\"\",\"\",INDEX(EUwideConstants!J$230:J$258,MATCH($F274,AnnexIActivities,0)))","v":""},{"$f":"IF($F274=\"\",\"\",INDEX(EUwideConstants!K$230:K$258,MATCH($F274,AnnexIActivities,0)))","v":""}]
["ausblenden",null,null,null,"Act. 4",{"$f":"IF(ISBLANK(F59),\"\",F59)","v":""},{"$f":"IF($F275=\"\",\"\",INDEX(EUwideConstants!E$230:E$258,MATCH($F275,AnnexIActivities,0)))","v":""},{"$f":"IF($F275=\"\",\"\",INDEX(EUwideConstants!F$230:F$258,MATCH($F275,AnnexIActivities,0)))","v":""},{"$f":"IF($F275=\"\",\"\",INDEX(EUwideConstants!G$230:G$258,MATCH($F275,AnnexIActivities,0)))","v":""},{"$f":"IF($F275=\"\",\"\",INDEX(EUwideConstants!H$230:H$258,MATCH($F275,AnnexIActivities,0)))","v":""},{"$f":"IF($F275=\"\",\"\",INDEX(EUwideConstants!I$230:I$258,MATCH($F275,AnnexIActivities,0)))","v":""},{"$f":"IF($F275=\"\",\"\",INDEX(EUwideConstants!J$230:J$258,MATCH($F275,AnnexIActivities,0)))","v":""},{"$f":"IF($F275=\"\",\"\",INDEX(EUwideConstants!K$230:K$258,MATCH($F275,AnnexIActivities,0)))","v":""}]
["ausblenden",null,null,null,"Act. 5",{"$f":"IF(ISBLANK(F60),\"\",F60)","v":""},{"$f":"IF($F276=\"\",\"\",INDEX(EUwideConstants!E$230:E$258,MATCH($F276,AnnexIActivities,0)))","v":""},{"$f":"IF($F276=\"\",\"\",INDEX(EUwideConstants!F$230:F$258,MATCH($F276,AnnexIActivities,0)))","v":""},{"$f":"IF($F276=\"\",\"\",INDEX(EUwideConstants!G$230:G$258,MATCH($F276,AnnexIActivities,0)))","v":""},{"$f":"IF($F276=\"\",\"\",INDEX(EUwideConstants!H$230:H$258,MATCH($F276,AnnexIActivities,0)))","v":""},{"$f":"IF($F276=\"\",\"\",INDEX(EUwideConstants!I$230:I$258,MATCH($F276,AnnexIActivities,0)))","v":""},{"$f":"IF($F276=\"\",\"\",INDEX(EUwideConstants!J$230:J$258,MATCH($F276,AnnexIActivities,0)))","v":""},{"$f":"IF($F276=\"\",\"\",INDEX(EUwideConstants!K$230:K$258,MATCH($F276,AnnexIActivities,0)))","v":""}]
["ausblenden",null,null,null,"Act. 6",{"$f":"IF(ISBLANK(F63),\"\",F63)","v":""},{"$f":"IF($F277=\"\",\"\",INDEX(EUwideConstants!E$230:E$258,MATCH($F277,AnnexIActivities,0)))","v":""},{"$f":"IF($F277=\"\",\"\",INDEX(EUwideConstants!F$230:F$258,MATCH($F277,AnnexIActivities,0)))","v":""},{"$f":"IF($F277=\"\",\"\",INDEX(EUwideConstants!G$230:G$258,MATCH($F277,AnnexIActivities,0)))","v":""},{"$f":"IF($F277=\"\",\"\",INDEX(EUwideConstants!H$230:H$258,MATCH($F277,AnnexIActivities,0)))","v":""},{"$f":"IF($F277=\"\",\"\",INDEX(EUwideConstants!I$230:I$258,MATCH($F277,AnnexIActivities,0)))","v":""},{"$f":"IF($F277=\"\",\"\",INDEX(EUwideConstants!J$230:J$258,MATCH($F277,AnnexIActivities,0)))","v":""},{"$f":"IF($F277=\"\",\"\",INDEX(EUwideConstants!K$230:K$258,MATCH($F277,AnnexIActivities,0)))","v":""}]
["ausblenden"]
["ausblenden",null,null,null,null,null,null,null,"source stream",null,"source stream name",null,"Range"]
["ausblenden",null,null,null,null,1,{"$f":"INDEX(EUConst_TierActivityListNames,F280)","v":"Verbrennung: Kommerzielle Standardbrennstoffe"},{"$f":"F280","v":1},{"$f":"IF(ISERROR(INDEX($G$280:$G$350,MATCH(F280,$H$280:$H$350,0))),\"\",INDEX($G$280:$G$350,MATCH(F280,$H$280:$H$350,0)))","v":"Verbrennung: Kommerzielle Standardbrennstoffe"},null,null,null,{"$f":"\"$i$\" & ROW($I$280) & \":$i$\" & ROW($I$280)-1+MAX($H$280:$H$350)","v":"$i$280:$i$288"}]
["ausblenden",null,null,null,null,{"$f":"F280+1","v":2},{"$f":"INDEX(EUConst_TierActivityListNames,F281)","v":"Verbrennung: Andere gasförmige und flüssige Brennstoffe"},2,{"$f":"IF(ISERROR(INDEX($G$280:$G$350,MATCH(F281,$H$280:$H$350,0))),\"\",INDEX($G$280:$G$350,MATCH(F281,$H$280:$H$350,0)))","v":"Verbrennung: Andere gasförmige und flüssige Brennstoffe"}]
["ausblenden",null,null,null,null,{"$f":"F281+1","v":3},"Verbrennung: Feste Brennstoffe, ausgenommen Abfälle",3,"Verbrennung: Feste Brennstoffe, ausgenommen Abfälle"]
["ausblenden",null,null,null,null,4,"Verbrennung: Abfall",4,"Verbrennung: Abfall"]
["ausblenden",null,null,null,null,5,"Verbrennung: Gasaufbereitungsstationen",5,"Verbrennung: Gasaufbereitungsstationen"]
["ausblenden",null,null,null,null,6,"Verbrennung: Fackeln",6,"Verbrennung: Fackeln"]
["ausblenden",null,null,null,null,7,"Verbrennung: Abgaswäsche (Karbonat)",7,"Verbrennung: Abgaswäsche (Karbonat)"]
["ausblenden",null,null,null,null,8,"Verbrennung: Abgaswäsche (Gips)",8,"Verbrennung: Abgaswäsche (Gips)"]
["ausblenden",null,null,null,null,9,"Verbrennung: Abgaswäsche (Harnstoff)",9,"Verbrennung: Abgaswäsche (Harnstoff)"]
["ausblenden",null,null,null,null,10,{"$f":"INDEX(EUConst_TierActivityListNames,F289)","v":"Raffinerien: Massenbilanz"},{"$f":"IF(COUNTIF($G$272:$M$277,G289)>0,MAX(H$288:H288)+1,\"\")","v":""},""]
["ausblenden",null,null,null,null,11,"Raffinerien: Regeneration von katalytischen Crackern",{"$f":"IF(COUNTIF($G$272:$M$277,G290)>0,MAX(H$288:H289)+1,\"\")","v":""},""]
["ausblenden",null,null,null,null,12,"Raffinerien: Wasserstofferzeugung",{"$f":"IF(COUNTIF($G$272:$M$277,G291)>0,MAX(H$288:H290)+1,\"\")","v":""},""]
["ausblenden",null,null,null,null,13,"Koks: Brennstoff als Prozess-Input",{"$f":"IF(COUNTIF($G$272:$M$277,G292)>0,MAX(H$288:H291)+1,\"\")","v":""},""]
["ausblenden",null,null,null,null,14,"Koks: Prozess (Methode A): nur Karbonat",{"$f":"IF(COUNTIF($G$272:$M$277,G293)>0,MAX(H$288:H292)+1,\"\")","v":""},""]
["ausblenden",null,null,null,null,15,"Koks: Prozess (Methode A): Gemisch (Karbonat + Nicht-Karbonat)",{"$f":"IF(COUNTIF($G$272:$M$277,G294)>0,MAX(H$288:H293)+1,\"\")","v":""},""]
["ausblenden",null,null,null,null,16,"Koks: Prozess (Methode A): Nicht-Karbonat",{"$f":"IF(COUNTIF($G$272:$M$277,G295)>0,MAX(H$288:H294)+1,\"\")","v":""},""]
["ausblenden",null,null,null,null,17,"Koks: Prozess (Methode B): Oxid-Output",{"$f":"IF(COUNTIF($G$272:$M$277,G296)>0,MAX(H$288:H295)+1,\"\")","v":""},""]
["ausblenden",null,null,null,null,18,"Koks: Massenbilanz",{"$f":"IF(COUNTIF($G$272:$M$277,G297)>0,MAX(H$288:H296)+1,\"\")","v":""},""]
["ausblenden",null,null,null,null,19,"Metallerz: Prozess (Methode A): nur Karbonat",{"$f":"IF(COUNTIF($G$272:$M$277,G298)>0,MAX(H$288:H297)+1,\"\")","v":""},""]
["ausblenden",null,null,null,null,20,"Metallerz: Prozess (Methode A): Gemisch (Karbonat + Nicht-Karbonat)",{"$f":"IF(COUNTIF($G$272:$M$277,G299)>0,MAX(H$288:H298)+1,\"\")","v":""},""]
["ausblenden",null,null,null,null,21,"Metallerz: Prozess (Methode A): Nicht-Karbonat",{"$f":"IF(COUNTIF($G$272:$M$277,G300)>0,MAX(H$288:H299)+1,\"\")","v":""},""]
["ausblenden",null,null,null,null,22,"Metallerz: Prozess (Methode B): Oxid-Output",{"$f":"IF(COUNTIF($G$272:$M$277,G301)>0,MAX(H$288:H300)+1,\"\")","v":""},""]
["ausblenden",null,null,null,null,23,"Metallerz: Massenbilanz",{"$f":"IF(COUNTIF($G$272:$M$277,G302)>0,MAX(H$288:H301)+1,\"\")","v":""},""]
["ausblenden",null,null,null,null,24,"Eisen und Stahl: Brennstoff als Prozess-Input",{"$f":"IF(COUNTIF($G$272:$M$277,G303)>0,MAX(H$288:H302)+1,\"\")","v":""},""]
["ausblenden",null,null,null,null,25,"Eisen und Stahl: Prozess (Methode A): nur Karbonat",{"$f":"IF(COUNTIF($G$272:$M$277,G304)>0,MAX(H$288:H303)+1,\"\")","v":""},""]
["ausblenden",null,null,null,null,26,"Eisen und Stahl: Prozess (Methode A): Gemisch (Karbonat + Nicht-Karbonat)",{"$f":"IF(COUNTIF($G$272:$M$277,G305)>0,MAX(H$288:H304)+1,\"\")","v":""},""]
["ausblenden",null,null,null,null,27,"Eisen und Stahl: Prozess (Methode A): Nicht-Karbonat",{"$f":"IF(COUNTIF($G$272:$M$277,G306)>0,MAX(H$288:H305)+1,\"\")","v":""},""]
["ausblenden",null,null,null,null,28,"Eisen und Stahl: Prozess (Methode B): Oxid-Output",{"$f":"IF(COUNTIF($G$272:$M$277,G307)>0,MAX(H$288:H306)+1,\"\")","v":""},""]
["ausblenden",null,null,null,null,29,"Eisen und Stahl: Massenbilanz",{"$f":"IF(COUNTIF($G$272:$M$277,G308)>0,MAX(H$288:H307)+1,\"\")","v":""},""]
["ausblenden",null,null,null,null,30,"Zementklinker: Ofen-Input-Betrachtung (Methode A)",{"$f":"IF(COUNTIF($G$272:$M$277,G309)>0,MAX(H$288:H308)+1,\"\")","v":""},""]
["ausblenden",null,null,null,null,31,"Zementklinker: Klinker-Output (Methode B)",{"$f":"IF(COUNTIF($G$272:$M$277,G310)>0,MAX(H$288:H309)+1,\"\")","v":""},""]
["ausblenden",null,null,null,null,32,"Zementklinker: Zementofenstaub (CKD)",{"$f":"IF(COUNTIF($G$272:$M$277,G311)>0,MAX(H$288:H310)+1,\"\")","v":""},""]
["ausblenden",null,null,null,null,33,"Zementklinker: Nicht-karbonatischer Kohlenstoff",{"$f":"IF(COUNTIF($G$272:$M$277,G312)>0,MAX(H$288:H311)+1,\"\")","v":""},""]
["ausblenden",null,null,null,null,34,"Kalk / Dolomit / Magnesit: Prozess (Methode A): nur Karbonat",{"$f":"IF(COUNTIF($G$272:$M$277,G313)>0,MAX(H$288:H312)+1,\"\")","v":""},""]
["ausblenden",null,null,null,null,35,"Kalk / Dolomit / Magnesit: Prozess (Methode A): Gemisch (Karbonat + Nicht-Karbonat)",{"$f":"IF(COUNTIF($G$272:$M$277,G314)>0,MAX(H$288:H313)+1,\"\")","v":""},""]
["ausblenden",null,null,null,null,36,"Kalk / Dolomit / Magnesit: Prozess (Methode A): Nicht-Karbonat",{"$f":"IF(COUNTIF($G$272:$M$277,G315)>0,MAX(H$288:H314)+1,\"\")","v":""},""]
["ausblenden",null,null,null,null,37,"Kalk / Dolomit / Magnesit: Prozess (Methode B): Oxid-Output",{"$f":"IF(COUNTIF($G$272:$M$277,G316)>0,MAX(H$288:H315)+1,\"\")","v":""},""]
["ausblenden",null,null,null,null,38,"Kalk / Dolomit / Magnesit: Ofenstaub (Methode B)",{"$f":"IF(COUNTIF($G$272:$M$277,G317)>0,MAX(H$288:H316)+1,\"\")","v":""},""]
["ausblenden",null,null,null,null,39,"Glas und Mineralwolle: Prozess (Methode A): nur Karbonat",{"$f":"IF(COUNTIF($G$272:$M$277,G318)>0,MAX(H$288:H317)+1,\"\")","v":""},""]
["ausblenden",null,null,null,null,40,"Glas und Mineralwolle: Prozess (Methode A): Gemisch (Karbonat + Nicht-Karbonat)",{"$f":"IF(COUNTIF($G$272:$M$277,G319)>0,MAX(H$288:H318)+1,\"\")","v":""},""]
["ausblenden",null,null,null,null,41,"Glas und Mineralwolle: Prozess (Methode A): Nicht-Karbonat",{"$f":"IF(COUNTIF($G$272:$M$277,G320)>0,MAX(H$288:H319)+1,\"\")","v":""},""]
["ausblenden",null,null,null,null,42,"Keramische Erzeugnisse: Prozess (Methode A): nur Karbonat",{"$f":"IF(COUNTIF($G$272:$M$277,G321)>0,MAX(H$288:H320)+1,\"\")","v":""},""]
["ausblenden",null,null,null,null,43,"Keramische Erzeugnisse: Prozess (Methode A): Gemisch (Karbonat + Nicht-Karbonat)",{"$f":"IF(COUNTIF($G$272:$M$277,G322)>0,MAX(H$288:H321)+1,\"\")","v":""},""]
["ausblenden",null,null,null,null,44,"Keramische Erzeugnisse: Prozess (Methode A): Nicht-Karbonat",{"$f":"IF(COUNTIF($G$272:$M$277,G323)>0,MAX(H$288:H322)+1,\"\")","v":""},""]
["ausblenden",null,null,null,null,45,"Keramische Erzeugnisse: Prozess (Methode B): Oxid-Output",{"$f":"IF(COUNTIF($G$272:$M$277,G324)>0,MAX(H$288:H323)+1,\"\")","v":""},""]
["ausblenden",null,null,null,null,46,"Keramische Erzeugnisse: Abgaswäsche",{"$f":"IF(COUNTIF($G$272:$M$277,G325)>0,MAX(H$288:H324)+1,\"\")","v":""},""]
["ausblenden",null,null,null,null,47,"Papier und Zellstoff: Ergänzungschemikalien",{"$f":"IF(COUNTIF($G$272:$M$277,G326)>0,MAX(H$288:H325)+1,\"\")","v":""},""]
["ausblenden",null,null,null,null,48,"Industrieruß: Massenbilanzmethodik",{"$f":"IF(COUNTIF($G$272:$M$277,G327)>0,MAX(H$288:H326)+1,\"\")","v":""},""]
["ausblenden",null,null,null,null,49,"Ammoniak: Brennstoff als Prozess-Input",{"$f":"IF(COUNTIF($G$272:$M$277,G328)>0,MAX(H$288:H327)+1,\"\")","v":""},""]
["ausblenden",null,null,null,null,50,"Wasserstoff und Synthesegas: Brennstoff als Prozess-Input",{"$f":"IF(COUNTIF($G$272:$M$277,G329)>0,MAX(H$288:H328)+1,\"\")","v":""},""]
["ausblenden",null,null,null,null,51,"Wasserstoff und Synthesegas: Massenbilanzmethodik",{"$f":"IF(COUNTIF($G$272:$M$277,G330)>0,MAX(H$288:H329)+1,\"\")","v":""},""]
["ausblenden",null,null,null,null,52,"Organische Grundchemikalien: Massenbilanzmethodik",{"$f":"IF(COUNTIF($G$272:$M$277,G331)>0,MAX(H$288:H330)+1,\"\")","v":""},""]
["ausblenden",null,null,null,null,53,"(Nicht)-Eisen, Sek.-Aluminium: Prozess (Methode A): nur Karbonat",{"$f":"IF(COUNTIF($G$272:$M$277,G332)>0,MAX(H$288:H331)+1,\"\")","v":""},""]
["ausblenden",null,null,null,null,54,"(Nicht)-Eisen, Sek.-Aluminium: Prozess (Methode A): Gemisch (Karbonat + Nicht-Karbonat)",{"$f":"IF(COUNTIF($G$272:$M$277,G333)>0,MAX(H$288:H332)+1,\"\")","v":""},""]
["ausblenden",null,null,null,null,55,"(Nicht)-Eisen, Sek.-Aluminium: Prozess (Methode A): Nicht-Karbonat",{"$f":"IF(COUNTIF($G$272:$M$277,G334)>0,MAX(H$288:H333)+1,\"\")","v":""},""]
["ausblenden",null,null,null,null,56,"(Nicht)-Eisen, Sek.-Aluminium: Prozess (Methode B): Oxid-Output",{"$f":"IF(COUNTIF($G$272:$M$277,G335)>0,MAX(H$288:H334)+1,\"\")","v":""},""]
["ausblenden",null,null,null,null,57,"(Nicht)-Eisen, Sek.-Aluminium: Massenbilanzmethodik",{"$f":"IF(COUNTIF($G$272:$M$277,G336)>0,MAX(H$288:H335)+1,\"\")","v":""},""]
["ausblenden",null,null,null,null,58,"Soda / Natriumbicarbonat: Massenbilanzmethodik",{"$f":"IF(COUNTIF($G$272:$M$277,G337)>0,MAX(H$288:H336)+1,\"\")","v":""},""]
["ausblenden",null,null,null,null,59,"Primäraluminium: Massenbilanzmethodik",{"$f":"IF(COUNTIF($G$272:$M$277,G338)>0,MAX(H$288:H337)+1,\"\")","v":""},""]
["ausblenden",null,null,null,null,60,"Primäraluminium: PFC-Emissionen (Steigungsmethode)",{"$f":"IF(COUNTIF($G$272:$M$277,G339)>0,MAX(H$288:H338)+1,\"\")","v":""},""]
["ausblenden",null,null,null,null,61,{"$f":"INDEX(EUConst_TierActivityListNames,F340)","v":"Primäraluminium: PFC-Emissionen (Überspannungsmethode)"},{"$f":"IF(COUNTIF($G$272:$M$277,G340)>0,MAX(H$288:H339)+1,\"\")","v":""},""]
["ausblenden",null,null,null,null,62,"CCS: Abscheidung: Weitergeleitetes CO2",{"$f":"IF(COUNTIF($G$272:$M$277,G341)>0,MAX(H$288:H340)+1,\"\")","v":""},""]
["ausblenden",null,null,null,null,63,"CCS: Transport: Weitergeleitetes CO2",{"$f":"IF(COUNTIF($G$272:$M$277,G342)>0,MAX(H$288:H341)+1,\"\")","v":""},""]
["ausblenden",null,null,null,null,64,"CCS: Transport: CO2-Leckagen",{"$f":"IF(COUNTIF($G$272:$M$277,G343)>0,MAX(H$288:H342)+1,\"\")","v":""},""]
["ausblenden",null,null,null,null,65,"CCS: Transport: CO2-Ablass",{"$f":"IF(COUNTIF($G$272:$M$277,G344)>0,MAX(H$288:H343)+1,\"\")","v":""},""]
["ausblenden",null,null,null,null,66,"CCS: Transport: Diffuse CO2 Emissionen",{"$f":"IF(COUNTIF($G$272:$M$277,G345)>0,MAX(H$288:H344)+1,\"\")","v":""},{"$f":"IF(ISERROR(INDEX($G$280:$G$350,MATCH(F345,$H$280:$H$350,0))),\"\",INDEX($G$280:$G$350,MATCH(F345,$H$280:$H$350,0)))","v":""}]
["ausblenden",null,null,null,null,{"$f":"F345+1","v":67},"CCS: Speicherung: Weitergeleitetes CO2",{"$f":"IF(COUNTIF($G$272:$M$277,G346)>0,MAX(H$288:H345)+1,\"\")","v":""},""]
["ausblenden",null,null,null,null,{"$f":"F346+1","v":68},"CCS: Speicherung: CO2-Ablass",{"$f":"IF(COUNTIF($G$272:$M$277,G347)>0,MAX(H$288:H346)+1,\"\")","v":""},""]
["ausblenden",null,null,null,null,{"$f":"F347+1","v":69},"CCS: Speicherung: CO2-Leckagen",{"$f":"IF(COUNTIF($G$272:$M$277,G348)>0,MAX(H$288:H347)+1,\"\")","v":""},""]
["ausblenden",null,null,null,null,{"$f":"F348+1","v":70},{"$f":"INDEX(EUConst_TierActivityListNames,F349)","v":"CCS: Speicherung: Diffuse CO2 Emissionen"},{"$f":"IF(COUNTIF($G$272:$M$277,G349)>0,MAX(H$288:H348)+1,\"\")","v":""},""]
["ausblenden",null,null,null,"only for CCU:",{"$f":"F349+1","v":71},{"$f":"IF(CNTR_InstHasCCU=TRUE,EUwideConstants!$Q$769,\"\")","v":""},{"$f":"IF(G350<>\"\",MAX(H$288:H349)+1,\"\")","v":""},""]
["ausblenden"]

{"sheet":"D_CalculationBasedApproaches","index":5,"n_rows":318,"n_cols":23,"rows_kept":318,"cut":false,"hidden":false,"merged":[[176,6,176,13],[165,6,165,13],[139,8,139,10],[181,4,181,5],[182,4,182,5],[193,4,193,5],[180,6,180,13],[200,4,200,5],[191,6,191,13],[175,6,175,13],[177,4,177,5],[192,6,192,13],[195,6,195,13],[193,6,193,13],[178,6,178,13],[176,4,176,5],[199,4,199,5],[182,6,182,13],[178,4,178,5],[181,6,181,13],[179,6,179,13],[144,12,144,13],[146,8,146,10],[167,6,167,13],[277,4,277,5],[277,6,277,13],[278,6,278,13],[279,6,279,13],[137,5,137,6],[171,4,171,5],[177,6,177,13],[137,12,137,13],[152,12,152,13],[148,12,148,13],[140,12,140,13],[137,8,137,10],[140,8,140,10],[169,6,169,13],[171,6,171,13],[161,4,161,13],[141,5,141,6],[146,12,146,13],[143,8,143,10],[144,8,144,10],[143,12,143,13],[145,5,145,6],[146,5,146,6],[140,5,140,6],[302,6,302,13],[150,5,150,6],[150,8,150,10],[151,8,151,10],[78,5,79,6],[303,6,303,13],[305,6,305,13],[304,4,304,5],[304,6,304,13],[150,12,150,13],[167,4,167,5],[151,12,151,13],[302,4,302,5],[170,6,170,13],[152,5,152,6],[153,5,153,6],[166,4,166,5],[168,4,168,5],[275,6,275,13],[173,4,173,5],[151,5,151,6],[152,8,152,10],[160,4,160,13],[283,4,283,5],[310,4,310,5],[310,6,310,13],[307,4,307,5],[307,6,307,13],[309,4,309,5],[306,6,306,13],[309,6,309,13],[308,4,308,5],[308,6,308,13],[303,4,303,5],[14,4,14,13],[16,4,16,13],[32,4,32,13],[33,4,33,13],[34,4,34,13],[66,12,67,12],[66,13,67,13],[15,4,15,13],[17,4,17,13],[25,4,25,13],[80,12,81,12],[62,13,63,13],[39,4,39,13],[45,4,45,13],[49,4,49,13],[57,4,57,13],[46,4,46,13],[48,4,48,13],[52,4,52,13],[51,4,51,13],[149,8,149,10],[149,12,149,13],[138,8,138,10],[5,11,5,13],[7,10,7,13],[9,3,9,13],[30,4,30,13],[11,3,11,13],[28,4,28,13],[24,4,24,13],[21,4,21,13],[22,4,22,13],[12,3,12,13],[18,4,18,13],[27,4,27,13],[26,4,26,13],[20,4,20,13],[23,4,23,13],[29,4,29,13],[144,5,144,6],[143,5,143,6],[147,5,147,6],[147,8,147,10],[135,5,135,6],[118,5,118,13],[123,5,123,13],[131,4,131,13],[122,5,122,13],[119,5,119,13],[120,5,120,13],[135,8,135,10],[132,4,132,13],[136,5,136,6],[142,5,142,6],[142,8,142,10],[141,12,141,13],[139,12,139,13],[145,8,145,10],[147,12,147,13],[100,4,100,13],[94,4,94,13],[97,4,97,13],[86,18,87,18],[86,13,87,13],[98,4,98,13],[38,4,38,13],[31,4,31,13],[36,4,36,13],[37,4,37,13],[35,4,35,13],[55,4,55,13],[60,12,60,13],[62,12,63,12],[68,13,69,13],[64,12,65,12],[70,12,71,12],[68,12,69,12],[56,4,56,13],[60,8,60,10],[60,11,61,11],[60,5,61,6],[60,7,61,7],[60,4,61,4],[84,20,85,20],[84,18,85,18],[86,20,87,20],[84,8,85,8],[86,7,87,7],[86,8,87,8],[84,19,85,19],[80,8,81,8],[82,7,83,7],[82,8,83,8],[86,19,87,19],[80,5,81,6],[82,5,83,6],[84,5,85,6],[84,7,85,7],[104,5,104,13],[105,5,105,13],[101,4,101,13],[136,12,136,13],[138,5,138,6],[138,12,138,13],[136,8,136,10],[113,5,113,13],[112,5,112,13],[106,5,106,13],[107,5,107,13],[111,5,111,13],[93,4,93,8],[117,5,117,13],[115,5,115,13],[130,4,130,13],[129,4,129,13],[116,5,116,13],[135,12,135,13],[99,4,99,13],[165,4,165,5],[159,4,159,13],[175,4,175,5],[174,4,174,5],[148,8,148,10],[153,8,153,10],[153,12,153,13],[148,5,148,6],[149,5,149,6],[168,6,168,13],[174,6,174,13],[173,6,173,13],[172,6,172,13],[172,4,172,5],[166,6,166,13],[206,6,206,13],[216,4,216,13],[207,6,207,13],[210,4,210,5],[194,4,194,5],[191,4,191,5],[192,4,192,5],[209,6,209,13],[183,4,183,5],[204,6,204,13],[205,4,205,5],[204,4,204,5],[186,4,186,13],[184,6,184,13],[184,4,184,5],[211,4,211,5],[211,6,211,13],[225,4,225,5],[221,6,221,13],[225,6,225,13],[224,4,224,5],[223,6,223,13],[221,4,221,5],[219,4,219,5],[183,6,183,13],[194,6,194,13],[197,4,197,5],[199,6,199,13],[197,6,197,13],[208,6,208,13],[218,4,218,5],[220,6,220,13],[219,6,219,13],[206,4,206,5],[198,6,198,13],[187,4,187,13],[218,6,218,13],[212,6,212,13],[215,4,215,13],[198,4,198,5],[207,4,207,5],[72,8,73,8],[62,5,63,6],[64,5,65,6],[74,5,75,6],[76,5,77,6],[78,7,79,7],[70,19,71,19],[72,20,73,20],[74,20,75,20],[72,19,73,19],[74,19,75,19],[70,20,71,20],[70,13,71,13],[72,13,73,13],[74,12,75,12],[76,20,77,20],[76,19,77,19],[76,18,77,18],[78,18,79,18],[76,13,77,13],[74,13,75,13],[78,13,79,13],[72,18,73,18],[70,18,71,18],[66,20,67,20],[68,20,69,20],[68,18,69,18],[66,18,67,18],[66,19,67,19],[68,19,69,19],[66,5,67,6],[68,5,69,6],[70,5,71,6],[78,19,79,19],[78,20,79,20],[80,19,81,19],[74,18,75,18],[76,7,77,7],[80,13,81,13],[82,19,83,19],[82,20,83,20],[80,20,81,20],[82,18,83,18],[76,12,77,12],[74,7,75,7],[74,8,75,8],[80,18,81,18],[2,12,2,13],[2,8,2,9],[3,12,3,13],[3,8,3,9],[43,4,43,13],[2,10,2,11],[86,12,87,12],[155,6,157,10],[108,5,108,13],[145,12,145,13],[95,4,95,13],[141,8,141,10],[139,5,139,6],[125,6,127,10],[86,5,87,6],[93,9,93,13],[142,12,142,13],[76,8,77,8],[66,7,67,7],[3,4,3,5],[3,6,3,7],[2,4,2,5],[82,13,83,13],[78,12,79,12],[2,6,2,7],[1,1,3,3],[1,4,1,5],[1,6,1,7],[84,12,85,12],[84,13,85,13],[241,6,241,13],[114,5,114,13],[121,5,121,13],[109,5,109,13],[110,5,110,13],[89,6,91,10],[229,4,229,13],[232,4,232,5],[232,6,232,13],[233,4,233,5],[233,6,233,13],[196,6,196,13],[224,6,224,13],[1,8,1,9],[3,10,3,11],[163,4,163,13],[1,10,1,11],[1,12,1,13],[316,5,316,11],[5,2,5,10],[58,4,58,13],[102,4,102,13],[133,4,133,13],[82,12,83,12],[40,4,40,13],[41,4,41,13],[44,4,44,13],[42,4,42,13],[66,8,67,8],[68,7,69,7],[68,8,69,8],[70,7,71,7],[70,8,71,8],[78,8,79,8],[80,7,81,7],[54,4,54,13],[50,4,50,13],[53,4,53,13],[72,12,73,12],[72,5,73,6],[64,13,65,13],[72,7,73,7],[254,6,254,13],[255,4,255,5],[255,6,255,13],[257,4,257,13],[258,4,258,13],[301,4,301,5],[235,4,235,5],[235,6,235,13],[301,6,301,13],[243,4,243,13],[236,6,236,13],[238,4,238,5],[246,4,246,5],[246,6,246,13],[247,4,247,5],[260,4,260,5],[260,6,260,13],[261,4,261,5],[261,6,261,13],[262,4,262,5],[262,6,262,13],[263,4,263,5],[263,6,263,13],[268,4,268,5],[222,6,222,13],[226,4,226,5],[226,6,226,13],[312,6,314,10],[299,4,299,13],[237,6,237,13],[238,6,238,13],[239,4,239,5],[239,6,239,13],[240,4,240,5],[240,6,240,13],[241,4,241,5],[244,4,244,13],[249,4,249,5],[249,6,249,13],[250,6,250,13],[251,6,251,13],[252,4,252,5],[252,6,252,13],[253,4,253,5],[269,6,269,13],[264,6,264,13],[253,6,253,13],[254,4,254,5],[265,6,265,13],[266,4,266,5],[266,6,266,13],[267,4,267,5],[267,6,267,13],[227,4,227,5],[162,4,162,13],[188,4,188,13],[189,4,189,13],[234,4,234,5],[247,6,247,13],[248,4,248,5],[248,6,248,13],[200,6,200,13],[202,4,202,13],[205,6,205,13],[234,6,234,13],[230,4,230,13],[213,6,213,13],[210,6,210,13],[213,4,213,5],[212,4,212,5],[227,6,227,13],[220,4,220,5],[291,4,291,5],[291,6,291,13],[292,6,292,13],[293,6,293,13],[297,4,297,5],[297,6,297,13],[294,4,294,5],[294,6,294,13],[295,4,295,5],[295,6,295,13],[296,4,296,5],[296,6,296,13],[268,6,268,13],[269,4,269,5],[285,4,285,13],[286,4,286,13],[288,4,288,5],[288,6,288,13],[289,4,289,5],[289,6,289,13],[290,4,290,5],[290,6,290,13],[271,4,271,13],[272,4,272,13],[274,4,274,5],[274,6,274,13],[275,4,275,5],[283,6,283,13],[280,4,280,5],[280,6,280,13],[281,4,281,5],[281,6,281,13],[282,4,282,5],[282,6,282,13],[276,4,276,5],[276,6,276,13]]}
["ausblenden",null,null,null,null,null,null,null,null,null,null,null,null,null,null,"ausblenden","ausblenden","ausblenden","ausblenden","ausblenden","ausblenden","ausblenden","ausblenden"]
[null,{"$f":"Translations!$B$329","v":"D. \nCalculation Approach"},null,null,{"$f":"Translations!$B$59","v":"Navigationsbereich:"},null,{"$f":"Translations!$B$60","v":"Inhaltsverzeichnis"},null,{"$f":"Translations!$B$61","v":"Vorheriges Blatt"},null,{"$f":"Translations!$B$62","v":"Nächstes Blatt"}]
[null,null,null,null,{"$f":"Translations!$B$63","v":"Blattanfang"},null,{"$f":"Translations!$B$274","v":"Beschreibung"},null,{"$f":"Translations!$B$330","v":"Messgeräte"},null,{"$f":"Translations!$B$331","v":"Informationsquellen"}]
[null,null,null,null,{"$f":"Translations!$B$64","v":"Blattende"},null,{"$f":"Translations!$B$332","v":"Labors"},null,{"$f":"Translations!$B$333","v":"Verfahren"}]
[]
[null,null,{"$f":"Translations!$B$16","v":"D. Auf Berechnungen beruhende Methodiken"},null,null,null,null,null,null,null,null,{"$f":"IF(OR(CNTR_InstHasCalculation=TRUE,CNTR_InstHasPFC=TRUE),EUconst_Relevant,IF(COUNTA(CNTR_ListRelevantSections)>0,EUconst_NotRelevant,EUconst_Relevant))","v":"Relevant"}]
[]
[null,null,null,null,null,null,null,null,null,null,{"$f":"IF(L6=EUconst_NotRelevant,HYPERLINK(\"#JUMP_E_Top\",EUconst_MsgNextSheet),HYPERLINK(\"\",EUconst_MsgEnterThisSection))","v":"Bitte machen Sie Angaben in diesem Abschnitt"}]
[]
[null,null,7,{"$f":"Translations!$B$17","v":"Berechnung: Für weitere Eingaben im nächsten Arbeitsblatt erforderliche Daten"},null,null,null,null,null,null,null,null,null,null,null,null,null,null,null,null,null,null,"Name of this sheet:"]
[null,null,null,null,null,null,null,null,null,null,null,null,null,null,null,null,null,null,null,null,null,null,{"$f":"IF(ISERROR(CELL(\"filename\",X11)),\"D_CalculationBasedApproaches\",MID(CELL(\"filename\",X11),FIND(\"]\",CELL(\"filename\",X11))+1,1024))","v":"D_CalculationBasedApproaches"}]
[null,null,null,{"$f":"Translations!$B$334","v":"Bitte geben Sie in dieses Arbeitsblatt die Informationen ein, die für auf Berechnungen beruhende Methodiken erforderlich sind. Die hier eingegebenen Informationen werden für die detaillierten Eingaben im folgenden Arbeitsblatt (E_SourceStreams) als Referenz herangezogen."}]
[null,null,null,{"$f":"Translations!$B$335","v":"So sind namentlich die Liste der Messgeräte für die Überwachung der Tätigkeitsdaten und die Liste der Informationsquellen für die Bestimmung der Standardwerte der Berechnungsfaktoren gemäß Artikel 31 erforderlich. Die Analysemethoden werden herangezogen, wenn für die Bestimmung der Berechnungsfaktoren Analysen vorgenommen werden müssen."}]
[]
[null,null,null,"(a)",{"$f":"Translations!$B$336","v":"Gegebenenfalls Beschreibung der auf Berechnungen beruhenden Methodik für die Überwachung der CO2-Emissionen Ihrer Anlage:"}]
[null,null,null,null,{"$f":"Translations!$B$337","v":"Bitte beschreiben Sie in der Textbox kurz die auf Berechnungen beruhende Methodik, einschließlich Formeln, anhand der Sie Ihre jährlichen CO2-Emissionen bestimmen."}]
[null,null,null,null,{"$f":"Translations!$B$338","v":"Ist die Beschreibung zu komplex (z. B. komplexe Formeln), können Sie die Beschreibung in einer gesonderten Unterlage in einem von der zuständigen Behörde akzeptierten Format vorlegen. In diesem Fall geben Sie hier bitte die Referenz der Datei an (Dateiname und Datum)."}]
[null,null,null,null,{"$f":"Translations!$B$339","v":"Diese Beschreibung sollte die Zusammenhänge herstellen, die erforderlich sind, um zu verstehen, wie zur Berechnung der Emissionen auch auf Angaben in anderen Teilen dieser Vorlage zurückgegriffen wird. Sie kann so kurz sein wie das Beispiel."}]
[null,null,null,null,{"$f":"Translations!$B$1166","v":"Falls Prozessemissionen relevant sind, beschreiben Sie im Einklang mit Anhang II Abschnitt 4 der MVO bitte unmissverständlich, ob in der Berechnung anorganischer Kohlenstoff (Karbonate), organischer Kohlenstoff oder beides erfasst wird."},null,null,null,null,null,null,null,null,null,null,null,null,null,null,null,null,null,"Make grey?"]
[]
["HIDE_Example",null,null,null,{"$f":"Translations!$B$340","v":"Die in dieser Anlage verwendete, auf Berechnungen beruhende Methodik läuft grundsätzlich wie folgt ab:"}]
["HIDE_Example",null,null,null,{"$f":"Translations!$B$341","v":"a) werden für die Berechnungsfaktoren Standardwerte verwendet, so werden für jeden Stoffstrom (Erdgas, Heizöl schwer und alle emissionsschwachen Stoffströme) die Tätigkeitsdaten erst addiert, dann wird die Berechnungsformel gemäß Artikel 24 Absatz 1 angewandt;"}]
["HIDE_Example",null,null,null,{"$f":"Translations!$B$342","v":"b) werden für die Berechnungsfaktoren Analysewerte verwendet, so wird für jeden Stoffstrom (Kohle, Rohmehl) erst die Berechnungsformel gemäß Artikel 24 Absatz 1 auf die Tätigkeitsdaten und Berechnungsfaktoren jeder Charge angewandt, auf die sich die Analysen beziehen. Die so berechneten Emissionen je Charge werden dann addiert und ergeben den Jahresemissionswert des Stoffstroms;"}]
["HIDE_Example",null,null,null,{"$f":"Translations!$B$343","v":"c) in unter Buchstabe b genannten Fällen werden gewichtete Durchschnittsberechnungsfaktoren für die Berichterstattung bestimmt;"}]
["HIDE_Example",null,null,null,{"$f":"Translations!$B$344","v":"d) die Emissionen aller Stoffströme werden addiert und ergeben die Jahresemissionen der Anlage."}]
["HIDE_Example",null,null,null,{"$f":"Translations!$B$345","v":"Für feste Brennstoffe wird die Chargenmessung gemäß Artikel 27 Absatz 2 verwendet. Alle anderen Stoffströme werden durch kontinuierliche Messung überwacht."}]
["HIDE_Example",null,null,null,{"$f":"Translations!$B$346","v":"Alle Einzelheiten zu den Stoffströmen (Bestimmung der Tätigkeitsdaten, Bestimmung der Berechnungsfaktoren) werden in anderen Abschnitten dieses Monitoringkonzepts behandelt."}]
[null,null,null,null,null,null,null,null,null,null,null,null,null,null,null,null,null,null,null,null,null,null,{"$f":"IF(L6=EUconst_NotRelevant,TRUE,FALSE)","v":false}]
[]
[]
[]
[]
[]
[]
[]
[]
[]
[]
[]
[]
[]
[]
[]
[]
[]
[]
[]
[]
[null,null,null,"(b)",{"$f":"Translations!$B$347","v":"Spezifikation und Standort der Messsysteme für die Bestimmung der Tätigkeitsdaten für Stoffströme:"}]
[null,null,null,null,{"$f":"Translations!$B$348","v":"Bitte beschreiben Sie die Spezifikation und den Standort des für die einzelnen Stoffströme zu verwendenden Messsystems, wenn Emissionen durch Berechnung ermittelt werden."}]
[null,null,null,null,{"$f":"Translations!$B$349","v":"Unter „Standort“ sollten sie angeben, wo in der Anlage das Messgerät angebracht ist und wie es im Arbeitsablaufdiagramm ausgewiesen ist."}]
[null,null,null,null,{"$f":"Translations!$B$350","v":"Bitte geben Sie zu jedem Messgerät die angegebene Messunsicherheit ein, einschließlich des mit dieser Unsicherheit zusammenhängenden Messbereichs wie in den Spezifikationen des Herstellers angegeben. In einigen Fällen kann die Messunsicherheit für zwei verschiedene Messbereiche angegeben sein. Bitte geben Sie in diesem Fall beide ein."}]
[null,null,null,null,{"$f":"Translations!$B$351","v":"Der typische Arbeitsbereich bezieht sich auf den Bereich, für den das betreffende Messgerät in der Regel in Ihrer Anlage genutzt wird."}]
[null,null,null,null,{"$f":"Translations!$B$352","v":"Alle für die Emissionsüberwachung relevanten Messgeräte sollten beschrieben werden, einschließlich untergeordnete Messgeräte und Messgeräte, mit denen die Mengen abgezogen werden, die außerhalb der Anlagengrenzen verwendet werden. Die Messgeräte für die kontinuierliche Emissionsmessung sind in Abschnitt 9 Buchstabe c des Arbeitsblatts F_MeasurementBasedApproaches anzugeben. "}]
[null,null,null,null,{"$f":"Translations!$B$353","v":"„Messgerättyp“: Bitte wählen Sie den zutreffenden Typ aus der Drop-down-Liste aus oder geben Sie einen eher zutreffenden Typ ein."}]
[null,null,null,null,{"$f":"Translations!$B$354","v":"Die Liste der hier angegebenen Messgeräte wird unter Buchstabe b des Arbeitsblatts E_SourceStreams  für jeden Stoffstrom als Drop-down-Liste angezeigt, aus der die verwendeten Messgeräte auszuwählen sind."}]
[null,null,null,null,{"$f":"Translations!$B$355","v":"Im Fall von Gasdurchflussmessern beziehen Sie sich auf Nm3/h, wenn die Druck-Temperatur-Kompensation ins Gerät integriert ist, und auf m3 im Betriebszustand, wenn die Druck-Temperatur-Kompensation in einem gesonderten Gerät erfolgt. Im letztgenannten Fall führen Sie bitte auch diese gesonderten Geräte auf."}]
[null,null,null,null,{"$f":"Translations!$B$356","v":"Alle Geräte müssen anhand einer einmaligen Kennnummer (z. B. Seriennummer des Geräts) eindeutig identifizierbar sein. Der Austausch von Geräten (z. B. infolge einer Beschädigung) wird jedoch nicht als erhebliche Änderung des Monitoringkonzepts im Sinne von Artikel 15 Absatz 3 erachtet. Die einmalige Kennnummer sollte daher getrennt vom Monitoringkonzept dokumentiert werden. Bitte achten Sie darauf, für diesen Zweck ein geeignetes schriftliches Verfahren einzuführen."}]
[null,null,null,null,{"$f":"Translations!$B$135","v":"Für die Anzeige/Unterdrückung von Beispielen drücken Sie bitte die Taste „Beispiele“ im Navigationsbereich."}]
[]
[null,null,null,null,{"$f":"Translations!$B$357","v":"Ref."},{"$f":"Translations!$B$358","v":"Messgerättyp:"},null,{"$f":"Translations!$B$359","v":"Standort (interne Kennnummer)"},{"$f":"Translations!$B$360","v":"Messbereich"},null,null,{"$f":"Translations!$B$361","v":"Angegebene \nUnsicherheit \n(+/-%)"},{"$f":"Translations!$B$362","v":"Typischer Arbeitsbereich"}]
[null,null,null,null,null,null,null,null,{"$f":"Translations!$B$363","v":"Einheit"},{"$f":"Translations!$B$364","v":"Untergrenze"},{"$f":"Translations!$B$365","v":"Obergrenze"},null,{"$f":"Translations!$B$364","v":"Untergrenze"},{"$f":"Translations!$B$365","v":"Obergrenze"},null,null,null,null,"Sorting","Sorting","Sorting","Sorting"]
["HIDE_Example",null,null,null,"MG01","Drehkolbenzähler",null,"UBA RM-27","Nm³/h",0,250,3,500,750]
["HIDE_Example",null,null,null,null,null,null,null,null,250,1000,1.5]
["HIDE_Example",null,null,null,"MG02",{"$f":"Translations!$B$367","v":"Brückenwaage"},null,"WB-342","Kg",3000,40000,0.6,7500,40000]
["HIDE_Example",null,null,null,null,null,null,null,null,null,null,null,null,null,null,null,null,null,null,null,null,{"$f":"ADDRESS(ROW(V67),COLUMN(),,,$W$11)&\":\"&ADDRESS(ROW(V67)+MAX(0,COUNTA(V67:V88)-COUNTIF(CNTR_MeasurementInstrumentListMIx,EUconst_NA)-COUNTIF(CNTR_MeasurementInstrumentListMIx,\"\")),COLUMN())","v":"D_CalculationBasedApproaches!$V$67:$V$67"}]
[null,null,null,null,"MG1",null,null,null,null,null,null,null,null,null,null,null,null,1,1,{"$f":"IF(ISBLANK(F67),\"\",MAX(T$66:T66)+1)","v":""},{"$f":"IF(ISBLANK(F67),\"\",E67 & \": \" &F67)","v":""},{"$f":"IF(COUNTIF($T$67:$T$88,R67)=1,INDEX($U$67:$U$88,MATCH(R67,$T$67:$T$88,0)),EUconst_NA)","v":"n.r."}]
[null,null,null,null,null,null,null,null,null,null,null,null,null,null,null,null,null,2,null,null,null,"n.r."]
[null,null,null,null,"MG2",null,null,null,null,null,null,null,null,null,null,null,null,3,2,{"$f":"IF(ISBLANK(F69),\"\",MAX(T$66:T68)+1)","v":""},{"$f":"IF(ISBLANK(F69),\"\",E69 & \": \" &F69)","v":""},"n.r."]
[null,null,null,null,null,null,null,null,null,null,null,null,null,null,null,null,null,4,null,null,null,"n.r."]
[null,null,null,null,"MG3",null,null,null,null,null,null,null,null,null,null,null,null,5,3,{"$f":"IF(ISBLANK(F71),\"\",MAX(T$66:T70)+1)","v":""},{"$f":"IF(ISBLANK(F71),\"\",E71 & \": \" &F71)","v":""},"n.r."]
[null,null,null,null,null,null,null,null,null,null,null,null,null,null,null,null,null,6,null,null,null,"n.r."]
[null,null,null,null,"MG4",null,null,null,null,null,null,null,null,null,null,null,null,7,4,{"$f":"IF(ISBLANK(F73),\"\",MAX(T$66:T72)+1)","v":""},{"$f":"IF(ISBLANK(F73),\"\",E73 & \": \" &F73)","v":""},"n.r."]
[null,null,null,null,null,null,null,null,null,null,null,null,null,null,null,null,null,8,null,null,null,"n.r."]
[null,null,null,null,"MG5",null,null,null,null,null,null,null,null,null,null,null,null,9,5,{"$f":"IF(ISBLANK(F75),\"\",MAX(T$66:T74)+1)","v":""},{"$f":"IF(ISBLANK(F75),\"\",E75 & \": \" &F75)","v":""},"n.r."]
[null,null,null,null,null,null,null,null,null,null,null,null,null,null,null,null,null,10,null,null,null,"n.r."]
[null,null,null,null,"MG6",null,null,null,null,null,null,null,null,null,null,null,null,11,6,{"$f":"IF(ISBLANK(F77),\"\",MAX(T$66:T76)+1)","v":""},{"$f":"IF(ISBLANK(F77),\"\",E77 & \": \" &F77)","v":""},"n.r."]
[null,null,null,null,null,null,null,null,null,null,null,null,null,null,null,null,null,12,null,null,null,"n.r."]
[null,null,null,null,"MG7",null,null,null,null,null,null,null,null,null,null,null,null,13,7,{"$f":"IF(ISBLANK(F79),\"\",MAX(T$66:T78)+1)","v":""},{"$f":"IF(ISBLANK(F79),\"\",E79 & \": \" &F79)","v":""},"n.r."]
[null,null,null,null,null,null,null,null,null,null,null,null,null,null,null,null,null,14,null,null,null,"n.r."]
[null,null,null,null,"MG8",null,null,null,null,null,null,null,null,null,null,null,null,15,8,{"$f":"IF(ISBLANK(F81),\"\",MAX(T$66:T80)+1)","v":""},{"$f":"IF(ISBLANK(F81),\"\",E81 & \": \" &F81)","v":""},"n.r."]
[null,null,null,null,null,null,null,null,null,null,null,null,null,null,null,null,null,16,null,null,null,"n.r."]
[null,null,null,null,"MG9",null,null,null,null,null,null,null,null,null,null,null,null,17,9,{"$f":"IF(ISBLANK(F83),\"\",MAX(T$66:T82)+1)","v":""},{"$f":"IF(ISBLANK(F83),\"\",E83 & \": \" &F83)","v":""},"n.r."]
[null,null,null,null,null,null,null,null,null,null,null,null,null,null,null,null,null,18,null,null,null,"n.r."]
[null,null,null,null,"MG10",null,null,null,null,null,null,null,null,null,null,null,null,19,10,{"$f":"IF(ISBLANK(F85),\"\",MAX(T$66:T84)+1)","v":""},{"$f":"IF(ISBLANK(F85),\"\",E85 & \": \" &F85)","v":""},"n.r."]
[null,null,null,null,null,null,null,null,null,null,null,null,null,null,null,null,null,20,null,null,null,"n.r."]
["ausblenden",null,null,null,null,null,null,null,null,null,null,null,null,null,null,null,null,null,null,{"$f":"IF(ISBLANK(F87),\"\",MAX(T$66:T86)+1)","v":""},{"$f":"IF(ISBLANK(F87),\"\",E87 & \": \" &F87)","v":""},"n.r."]
["ausblenden",null,null,null,null,null,null,null,null,null,null,null,null,null,null,null,null,null,null,null,null,"n.r."]
["ADD_MeasurementInstrument"]
[null,null,null,null,null,null,{"$f":"Translations!$B$368","v":"Auf „+“ klicken, um weitere Messgeräte einzufügen"}]
[]
[]
[]
[null,null,null,"(c)",{"$f":"Translations!$B$369","v":"Name und Referenz der Unterlagen zur Unsicherheitsbewertung:"},null,null,null,null,null,null,null,null,null,null,null,null,null,null,null,null,null,{"$f":"CNTR_SmallEmitter=TRUE","v":false}]
[null,null,null,null,{"$f":"Translations!$B$370","v":"Gemäß Artikel 12 müssen Sie den Nachweis der Konformität der angewandten Ebenen erbringen. Bitte geben Sie hier Referenzen von Unsicherheitsberechnungen und/oder Schaubildern an. "}]
[null,null,null,null,{"$f":"Translations!$B$371","v":"Gemäß Artikel 47 Absatz 3 braucht eine Anlage mit geringen Emissionen der zuständigen Behörde diese Unterlage nicht zu übermitteln."}]
[]
[null,null,null,"(d)",{"$f":"Translations!$B$372","v":"Liste der Informationsquellen für Standardwerte der Berechnungsfaktoren:"}]
[null,null,null,null,{"$f":"Translations!$B$373","v":"Bitte geben Sie alle relevanten Informationsquellen an, aus denen Sie gemäß Artikel 31 Standardwerte für die Berechnungsfaktoren ableiten. "}]
[null,null,null,null,{"$f":"Translations!$B$374","v":"Diese Quellen sind in der Regel statisch, z. B. die nationale THG-Inventur, IPCC, Anhang VI MVO, Handbook of Chemistry and Physics usw."}]
[null,null,null,null,{"$f":"Translations!$B$375","v":"Ändern sich die Standardwerte von einem Jahr zum anderen, so gibt der Inhaber als maßgebliche Quelle für diesen Wert eine dynamische Quelle an, wie die Website der zuständigen Behörde."}]
[null,null,null,null,{"$f":"Translations!$B$376","v":"Diese Liste wird in Tabelle g des Arbeitsblatts E_SourceStreams als Drop-down-Liste angezeigt, damit die Informationsquellen den jeweiligen Berechnungsfaktoren für jeden Stoffstrom zugewiesen werden können."}]
[null,null,null,null,{"$f":"Translations!$B$135","v":"Für die Anzeige/Unterdrückung von Beispielen drücken Sie bitte die Taste „Beispiele“ im Navigationsbereich."}]
[]
[null,null,null,null,{"$f":"Translations!$B$377","v":"Ref. Informations-quelle"},{"$f":"Translations!$B$378","v":"Beschreibung der Informationsquelle "},null,null,null,null,null,null,null,null,null,null,null,null,null,"Sorting",null,"Sorting","Sorting"]
["HIDE_Example",null,null,null,"IQ01",{"$f":"Translations!$B$379","v":"Nationale THG-Inventur, wird jährlich aktualisiert (siehe http:/Dummy.address.test). Es wird der neueste, 2011 veröffentlichte Wert herangezogen."}]
["HIDE_Example",null,null,null,"IQ02",{"$f":"Translations!$B$380","v":"Handbook of Chemistry and Physics, 92. Ausgabe, http://www.hbcpnetbase.com/"}]
["HIDE_Example",null,null,null,"IQ03",{"$f":"Translations!$B$381","v":"Hu- und EF-Analyse des Stoffstroms „Heizöl schwer\" vom August 2011"},null,null,null,null,null,null,null,null,null,null,null,null,null,null,null,null,{"$f":"ADDRESS(ROW(W109),COLUMN(),,,$W$11)&\":\"&ADDRESS(ROW(W109)+MAX(0,COUNTA(CNTR_InformationSourceListISx)-COUNTIF(CNTR_InformationSourceListISx,EUconst_NA)-COUNTIF(CNTR_InformationSourceListISx,\"\")),COLUMN())","v":"D_CalculationBasedApproaches!$W$109:$W$109"}]
[null,null,null,null,"IQ1",null,null,null,null,null,null,null,null,null,null,null,null,null,null,1,null,{"$f":"IF(ISBLANK(F109),\"\",MAX(V$107:V107)+1)","v":""},{"$f":"IF(COUNTIF($V$109:$V$124,T109)=1,INDEX($E$109:$E$124,MATCH(T109,$V$109:$V$124,0)) & \": \" & INDEX($F$109:$F$124,MATCH(T109,$V$109:$V$124,0)),EUconst_NA)","v":"n.r."}]
[null,null,null,null,"IQ2",null,null,null,null,null,null,null,null,null,null,null,null,null,null,2,null,{"$f":"IF(ISBLANK(F110),\"\",MAX(V$107:V109)+1)","v":""},"n.r."]
[null,null,null,null,"IQ3",null,null,null,null,null,null,null,null,null,null,null,null,null,null,3,null,{"$f":"IF(ISBLANK(F111),\"\",MAX(V$107:V110)+1)","v":""},"n.r."]
[null,null,null,null,"IQ4",null,null,null,null,null,null,null,null,null,null,null,null,null,null,4,null,{"$f":"IF(ISBLANK(F112),\"\",MAX(V$107:V111)+1)","v":""},"n.r."]
[null,null,null,null,"IQ5",null,null,null,null,null,null,null,null,null,null,null,null,null,null,5,null,{"$f":"IF(ISBLANK(F113),\"\",MAX(V$107:V112)+1)","v":""},"n.r."]
[null,null,null,null,"IQ6",null,null,null,null,null,null,null,null,null,null,null,null,null,null,6,null,{"$f":"IF(ISBLANK(F114),\"\",MAX(V$107:V113)+1)","v":""},"n.r."]
[null,null,null,null,"IQ7",null,null,null,null,null,null,null,null,null,null,null,null,null,null,7,null,{"$f":"IF(ISBLANK(F115),\"\",MAX(V$107:V114)+1)","v":""},"n.r."]
[null,null,null,null,"IQ8",null,null,null,null,null,null,null,null,null,null,null,null,null,null,8,null,{"$f":"IF(ISBLANK(F116),\"\",MAX(V$107:V115)+1)","v":""},"n.r."]
[null,null,null,null,"IQ9",null,null,null,null,null,null,null,null,null,null,null,null,null,null,9,null,{"$f":"IF(ISBLANK(F117),\"\",MAX(V$107:V116)+1)","v":""},"n.r."]
[null,null,null,null,"IQ10",null,null,null,null,null,null,null,null,null,null,null,null,null,null,10,null,{"$f":"IF(ISBLANK(F118),\"\",MAX(V$107:V117)+1)","v":""},"n.r."]
[null,null,null,null,"IQ11",null,null,null,null,null,null,null,null,null,null,null,null,null,null,11,null,{"$f":"IF(ISBLANK(F119),\"\",MAX(V$107:V118)+1)","v":""},"n.r."]
[null,null,null,null,"IQ12",null,null,null,null,null,null,null,null,null,null,null,null,null,null,12,null,{"$f":"IF(ISBLANK(F120),\"\",MAX(V$107:V119)+1)","v":""},"n.r."]
[null,null,null,null,"IQ13",null,null,null,null,null,null,null,null,null,null,null,null,null,null,13,null,{"$f":"IF(ISBLANK(F121),\"\",MAX(V$107:V120)+1)","v":""},"n.r."]
[null,null,null,null,"IQ14",null,null,null,null,null,null,null,null,null,null,null,null,null,null,14,null,{"$f":"IF(ISBLANK(F122),\"\",MAX(V$107:V121)+1)","v":""},"n.r."]
[null,null,null,null,"IQ15",null,null,null,null,null,null,null,null,null,null,null,null,null,null,15,null,{"$f":"IF(ISBLANK(F123),\"\",MAX(V$107:V122)+1)","v":""},"n.r."]
["ausblenden",null,null,null,null,null,null,null,null,null,null,null,null,null,null,null,null,null,null,null,null,{"$f":"IF(ISBLANK(F124),\"\",MAX(V$107:V123)+1)","v":""},"n.r."]
["ADD_InformationSources"]
[null,null,null,null,null,null,{"$f":"Translations!$B$382","v":"Auf „+“ klicken, um weitere Informationsquellen einzufügen"}]
[]
[]
[]
[null,null,null,"(e)",{"$f":"Translations!$B$383","v":"Für Analysen für Berechnungsfaktoren herangezogene Laboratorien und Methoden:"}]
[null,null,null,null,{"$f":"Translations!$B$384","v":"Bitte geben Sie ein, welche Methoden gegebenenfalls, je nach gewählter Ebene, für die Analyse von Brennstoffen und Materialien zwecks Bestimmung aller Berechnungsfaktoren verwendet werden. Ist das Labor nicht gemäß EN ISO/IEC 17025 akkreditiert, müssen sie gemäß Artikel 34 den Nachweis erbringen, dass das Labor technisch kompetent ist. Bitte geben Sie hierfür die Referenz einer beiliegenden Unterlage an."}]
[null,null,null,null,{"$f":"Translations!$B$385","v":"Werden Online-Gaschromatographen oder extraktive oder nicht extraktive Gasanalysatoren verwendet, ist Artikel 32 zu beachten."}]
[null,null,null,null,{"$f":"Translations!$B$386","v":"Diese Liste wird in Tabelle g des Arbeitsblatts E_SourceStreams als Drop-down-Liste angezeigt, damit die Analyseverfahren den jeweiligen Berechnungsfaktoren für jeden Stoffstrom zugewiesen werden können."}]
[null,null,null,null,{"$f":"Translations!$B$135","v":"Für die Anzeige/Unterdrückung von Beispielen drücken Sie bitte die Taste „Beispiele“ im Navigationsbereich."}]
[]
[null,null,null,null,{"$f":"Translations!$B$387","v":"Ref. Lab."},{"$f":"Translations!$B$388","v":"Name des Labors"},null,{"$f":"Translations!$B$389","v":"Parameter"},{"$f":"Translations!$B$390","v":"Analyseverfahren \n(einschließlich Referenz des Verfahrens und kurzer Beschreibung der Methode)"},null,null,{"$f":"Translations!$B$391","v":"Ist das Labor gemäß EN ISO/IEC 17025 für diese Analyse akkreditiert?"},{"$f":"Translations!$B$392","v":"Falls nein, Referenz des vorzulegenden Nachweises angeben."},null,null,null,null,null,null,"Sorting",null,"Sorting","Sorting"]
["HIDE_Example",null,null,null,"L01",{"$f":"Translations!$B$393","v":"Beispiel Labor"},null,{"$f":"Translations!$B$394","v":"C-Gehalt"},{"$f":"Translations!$B$395","v":"EN 15104:2011. Siehe Verfahren ANA-1233/UBA"},null,null,true]
["HIDE_Example",null,null,null,"L02",{"$f":"Translations!$B$396","v":"Beispiel Labor 2"},null,{"$f":"Translations!$B$397","v":"Biomassegehalt"},{"$f":"Translations!$B$398","v":"EN 15440:2011 . einige Abweichungen in Bezug auf Probegröße und Behandlung. Siehe Verfahren ANA-1234/UBA"},null,null,false,{"$f":"Translations!$B$399","v":"Lab_competence.pdf, 2/3/2012"},null,null,null,null,null,null,null,null,null,{"$f":"ADDRESS(ROW(W139),COLUMN(),,,$W$11)&\":\"&ADDRESS(ROW(W139)+MAX(0,COUNTA(CNTR_LaboratoriesListLx)-COUNTIF(CNTR_LaboratoriesListLx,EUconst_NA)-COUNTIF(CNTR_LaboratoriesListLx,\"\")),COLUMN())","v":"D_CalculationBasedApproaches!$W$139:$W$139"}]
[null,null,null,null,"L1",null,null,null,null,null,null,null,null,null,null,null,null,null,null,1,null,{"$f":"IF(ISBLANK(F139),\"\",MAX(V$138:V138)+1)","v":""},{"$f":"IF(COUNTIF($V$139:$V$154,T139)=1,INDEX($E$139:$E$154,MATCH(T139,$V$139:$V$154,0))& \": \" &INDEX($F$139:$F$154,MATCH(T139,$V$139:$V$154,0)),EUconst_NA)","v":"n.r."}]
[null,null,null,null,"L2",null,null,null,null,null,null,null,null,null,null,null,null,null,null,2,null,{"$f":"IF(ISBLANK(F140),\"\",MAX(V$138:V139)+1)","v":""},"n.r."]
[null,null,null,null,"L3",null,null,null,null,null,null,null,null,null,null,null,null,null,null,3,null,{"$f":"IF(ISBLANK(F141),\"\",MAX(V$138:V140)+1)","v":""},"n.r."]
[null,null,null,null,"L4",null,null,null,null,null,null,null,null,null,null,null,null,null,null,4,null,{"$f":"IF(ISBLANK(F142),\"\",MAX(V$138:V141)+1)","v":""},"n.r."]
[null,null,null,null,"L5",null,null,null,null,null,null,null,null,null,null,null,null,null,null,5,null,{"$f":"IF(ISBLANK(F143),\"\",MAX(V$138:V142)+1)","v":""},"n.r."]
[null,null,null,null,"L6",null,null,null,null,null,null,null,null,null,null,null,null,null,null,6,null,{"$f":"IF(ISBLANK(F144),\"\",MAX(V$138:V143)+1)","v":""},"n.r."]
[null,null,null,null,"L7",null,null,null,null,null,null,null,null,null,null,null,null,null,null,7,null,{"$f":"IF(ISBLANK(F145),\"\",MAX(V$138:V144)+1)","v":""},"n.r."]
[null,null,null,null,"L8",null,null,null,null,null,null,null,null,null,null,null,null,null,null,8,null,{"$f":"IF(ISBLANK(F146),\"\",MAX(V$138:V145)+1)","v":""},"n.r."]
[null,null,null,null,"L9",null,null,null,null,null,null,null,null,null,null,null,null,null,null,9,null,{"$f":"IF(ISBLANK(F147),\"\",MAX(V$138:V146)+1)","v":""},"n.r."]
[null,null,null,null,"L10",null,null,null,null,null,null,null,null,null,null,null,null,null,null,10,null,{"$f":"IF(ISBLANK(F148),\"\",MAX(V$138:V147)+1)","v":""},"n.r."]
[null,null,null,null,"L11",null,null,null,null,null,null,null,null,null,null,null,null,null,null,11,null,{"$f":"IF(ISBLANK(F149),\"\",MAX(V$138:V148)+1)","v":""},"n.r."]
[null,null,null,null,"L12",null,null,null,null,null,null,null,null,null,null,null,null,null,null,12,null,{"$f":"IF(ISBLANK(F150),\"\",MAX(V$138:V149)+1)","v":""},"n.r."]
[null,null,null,null,"L13",null,null,null,null,null,null,null,null,null,null,null,null,null,null,13,null,{"$f":"IF(ISBLANK(F151),\"\",MAX(V$138:V150)+1)","v":""},"n.r."]
[null,null,null,null,"L14",null,null,null,null,null,null,null,null,null,null,null,null,null,null,14,null,{"$f":"IF(ISBLANK(F152),\"\",MAX(V$138:V151)+1)","v":""},"n.r."]
[null,null,null,null,"L15",null,null,null,null,null,null,null,null,null,null,null,null,null,null,15,null,{"$f":"IF(ISBLANK(F153),\"\",MAX(V$138:V152)+1)","v":""},"n.r."]
["ausblenden",null,null,null,null,null,null,null,null,null,null,null,null,null,null,null,null,null,null,null,null,{"$f":"IF(ISBLANK(F154),\"\",MAX(V$138:V153)+1)","v":""},"n.r."]
["ADD_Laboratories"]
[null,null,null,null,null,null,{"$f":"Translations!$B$400","v":"Auf „+“ klicken, um weitere Verfahren und Labors einzufügen"}]
[]
[]
[]
[null,null,null,"(f)",{"$f":"Translations!$B$401","v":"Beschreibung der schriftlichen Verfahren für Analysen:"}]
[null,null,null,null,{"$f":"Translations!$B$402","v":"Angaben zu den schriftlichen Verfahren für die in der Tabelle in Abschnitt 7 Buchstabe e aufgeführten Analysen. Die Beschreibung sollte die wesentlichen Parameter und durchgeführten Schritte enthalten."}]
[null,null,null,null,{"$f":"Translations!$B$403","v":"Werden mehrere Verfahren für ähnliche Zwecke, aber unterschiedliche Stoffströme oder Parameter verwendet, Angaben zum übergeordneten Verfahren, das die gemeinsamen Elemente und die Qualitätssicherung der angewandten Methoden umfasst. "}]
[null,null,null,null,{"$f":"Translations!$B$404","v":"Sie können hier dann entweder Verweise auf die einzelnen untergeordneten Verfahren angeben, oder jedes einschlägige Verfahren gesondert beschreiben. Im letzteren Fall verwenden Sie bitte die Schaltfläche „Verfahren einfügen“ am Ende dieses Arbeitsblatts. Bitte gewährleisten Sie, dass in Abschnitt 8 Tabelle g eindeutige Verweise auf das jeweilige (untergeordnete) Verfahren gegeben werden können."}]
[null,null,null,null,{"$f":"Translations!$B$135","v":"Für die Anzeige/Unterdrückung von Beispielen drücken Sie bitte die Taste „Beispiele“ im Navigationsbereich."}]
[]
["HIDE_Example",null,null,null,{"$f":"Translations!$B$405","v":"Bezeichnung des Verfahrens"},null,{"$f":"Translations!$B$406","v":"Analyse des Hu fester und flüssiger Brennstoffe."}]
["HIDE_Example",null,null,null,{"$f":"Translations!$B$407","v":"Referenz des Verfahrens"},null,{"$f":"Translations!$B$408","v":"Feste Brennstoffe: ANA 1-1/UBA; Flüssige Brennstoffe: ANA 1-2/UBA;  Vergleich durch externes (akkreditiertes) Laboratorium: ANA 1-3/ext"}]
["HIDE_Example",null,null,null,{"$f":"Translations!$B$409","v":"Referenz Diagramm (falls zutreffend)"},null,{"$f":"Translations!$B$410","v":"n.r."}]
["HIDE_Example",null,null,null,{"$f":"Translations!$B$411","v":"Kurzbeschreibung des Verfahrens"},null,{"$f":"Translations!$B$412","v":"Verwendung des Bomben-Kalorimeterverfahrens. Die geeignete Probengröße beruht auf der Erfahrung aus früheren Messungen vergleichbarer Materialien. \nDie Proben werden in trockenem Zustand (mindestens 6 Std. bei 120 °C getrocknet) verwendet. Hu wird durch Berechnung um Feuchtigkeitsgehalt berichtigt."}]
["HIDE_Example",null,null,null,null,null,{"$f":"Translations!$B$413","v":"Feste Brennstoffe: Standardverfahren. Flüssige Brennstoffe: Nur leicht angepasste Standardverfahren; Proben werden nicht getrocknet."}]
["HIDE_Example"]
["HIDE_Example",null,null,null,{"$f":"Translations!$B$414","v":"Für das Verfahren und damit generierte Daten zuständige Stelle oder Abteilung"},null,{"$f":"Translations!$B$415","v":"Firmenlabor – Abteilungsleiter. Vertretung: Betriebsverantwortlicher für Gesundheitsschutz, Arbeitssicherheit, Umweltmanagement und Qualitätsmanagement (HSEQ)."}]
["HIDE_Example",null,null,null,{"$f":"Translations!$B$416","v":"Aufbewahrungsort der Aufzeichnungen"},null,{"$f":"Translations!$B$417","v":"Papierfassung: Laborbüro, Regal 27/9, Ordner (EHS 01-ANA-yyyy“ (yyyy ist das laufende Jahr). \nElektronisch: “P:\\EHS_MRV\\labs\\EHS_01-ANA-yyyy.xls”"}]
["HIDE_Example",null,null,null,{"$f":"Translations!$B$418","v":"Bezeichnung des eingesetzten IT-Systems (soweit anwendbar)"},null,{"$f":"Translations!$B$419","v":"Internes Logbuch des Labors (Datenbank MS Access): Probennummern und Herkunft/Bezeichnung der Probe sind zusammen mit den Ergebnissen erfasst."}]
["HIDE_Example",null,null,null,{"$f":"Translations!$B$420","v":"Liste der angewandten EN oder anderer Normen (soweit zutreffend)"},null,{"$f":"Translations!$B$421","v":"EN 14918:2009 mit Anpassungen zwecks Anwendung auf Nicht-Biomasse und flüssige Brennstoffe."}]
[null,null,null,null,{"$f":"Translations!$B$405","v":"Bezeichnung des Verfahrens"}]
[null,null,null,null,{"$f":"Translations!$B$407","v":"Referenz des Verfahrens"}]
[null,null,null,null,{"$f":"Translations!$B$409","v":"Referenz Diagramm (falls zutreffend)"}]
[null,null,null,null,{"$f":"Translations!$B$411","v":"Kurzbeschreibung des Verfahrens"}]
[]
[]
[null,null,null,null,{"$f":"Translations!$B$414","v":"Für das Verfahren und damit generierte Daten zuständige Stelle oder Abteilung"}]
[null,null,null,null,{"$f":"Translations!$B$416","v":"Aufbewahrungsort der Aufzeichnungen"}]
[null,null,null,null,{"$f":"Translations!$B$418","v":"Bezeichnung des eingesetzten IT-Systems (soweit anwendbar)"}]
[null,null,null,null,{"$f":"Translations!$B$420","v":"Liste der angewandten EN oder anderer Normen (soweit zutreffend)"}]
[]
[null,null,null,"(g)",{"$f":"Translations!$B$422","v":"Beschreibung des Verfahrens für Probenahmepläne für Analysezwecke:"}]
[null,null,null,null,{"$f":"Translations!$B$423","v":"Die nachstehenden Verfahren sollten die Elemente eines Probenahmeplans gemäß Artikel 33 umfassen.  Eine Kopie des Verfahrens sollte der zuständigen Behörde zusammen mit dem Monitoringkonzept vorgelegt werden."}]
[null,null,null,null,{"$f":"Translations!$B$403","v":"Werden mehrere Verfahren für ähnliche Zwecke, aber unterschiedliche Stoffströme oder Parameter verwendet, Angaben zum übergeordneten Verfahren, das die gemeinsamen Elemente und die Qualitätssicherung der angewandten Methoden umfasst. "}]
[null,null,null,null,{"$f":"Translations!$B$404","v":"Sie können hier dann entweder Verweise auf die einzelnen untergeordneten Verfahren angeben, oder jedes einschlägige Verfahren gesondert beschreiben. Im letzteren Fall verwenden Sie bitte die Schaltfläche „Verfahren einfügen“ am Ende dieses Arbeitsblatts. Bitte gewährleisten Sie, dass in Abschnitt 8 Tabelle g eindeutige Verweise auf das jeweilige (untergeordnete) Verfahren gegeben werden können."}]
[]
[null,null,null,null,{"$f":"Translations!$B$405","v":"Bezeichnung des Verfahrens"}]
[null,null,null,null,{"$f":"Translations!$B$407","v":"Referenz des Verfahrens"}]
[null,null,null,null,{"$f":"Translations!$B$409","v":"Referenz Diagramm (falls zutreffend)"}]
[null,null,null,null,{"$f":"Translations!$B$411","v":"Kurzbeschreibung des Verfahrens"}]
[]
[]
[null,null,null,null,{"$f":"Translations!$B$414","v":"Für das Verfahren und damit generierte Daten zuständige Stelle oder Abteilung"}]
[null,null,null,null,{"$f":"Translations!$B$416","v":"Aufbewahrungsort der Aufzeichnungen"}]
[null,null,null,null,{"$f":"Translations!$B$418","v":"Bezeichnung des eingesetzten IT-Systems (soweit anwendbar)"}]
[null,null,null,null,{"$f":"Translations!$B$420","v":"Liste der angewandten EN oder anderer Normen (soweit zutreffend)"}]
[]
[null,null,null,"(h)",{"$f":"Translations!$B$424","v":"Beschreibung des Verfahrens zur Prüfung der Eignung des Probenahmeplans:"}]
[]
[null,null,null,null,{"$f":"Translations!$B$405","v":"Bezeichnung des Verfahrens"}]
[null,null,null,null,{"$f":"Translations!$B$407","v":"Referenz des Verfahrens"}]
[null,null,null,null,{"$f":"Translations!$B$409","v":"Referenz Diagramm (falls zutreffend)"}]
[null,null,null,null,{"$f":"Translations!$B$411","v":"Kurzbeschreibung des Verfahrens"}]
[]
[]
[null,null,null,null,{"$f":"Translations!$B$414","v":"Für das Verfahren und damit generierte Daten zuständige Stelle oder Abteilung"}]
[null,null,null,null,{"$f":"Translations!$B$416","v":"Aufbewahrungsort der Aufzeichnungen"}]
[null,null,null,null,{"$f":"Translations!$B$418","v":"Bezeichnung des eingesetzten IT-Systems (soweit anwendbar)"}]
[null,null,null,null,{"$f":"Translations!$B$420","v":"Liste der angewandten EN oder anderer Normen (soweit zutreffend)"}]
[]
[null,null,null,"(i)",{"$f":"Translations!$B$425","v":"Beschreibung des Verfahren für die Bestandsschätzung am Beginn/Ende des Berichtsjahrs (soweit anwendbar):"}]
[null,null,null,null,{"$f":"Translations!$B$426","v":"Bitte beschreiben Sie, nach welchem Verfahren Bestandsänderungen von Stoffströmen geschätzt werden, die mithilfe der Chargenmessung überwacht werden (z. B anhand von Rechnungen)."}]
[]
[null,null,null,null,{"$f":"Translations!$B$405","v":"Bezeichnung des Verfahrens"}]
[null,null,null,null,{"$f":"Translations!$B$407","v":"Referenz des Verfahrens"}]
[null,null,null,null,{"$f":"Translations!$B$409","v":"Referenz Diagramm (falls zutreffend)"}]
[null,null,null,null,{"$f":"Translations!$B$411","v":"Kurzbeschreibung des Verfahrens"}]
[]
[]
[null,null,null,null,{"$f":"Translations!$B$414","v":"Für das Verfahren und damit generierte Daten zuständige Stelle oder Abteilung"}]
[null,null,null,null,{"$f":"Translations!$B$416","v":"Aufbewahrungsort der Aufzeichnungen"}]
[null,null,null,null,{"$f":"Translations!$B$418","v":"Bezeichnung des eingesetzten IT-Systems (soweit anwendbar)"}]
[null,null,null,null,{"$f":"Translations!$B$420","v":"Liste der angewandten EN oder anderer Normen (soweit zutreffend)"}]
[]
[null,null,null,"(j)",{"$f":"Translations!$B$427","v":"Beschreibung des Verfahrens für die Erfassung von in der Anlage angebrachten Geräten für die Bestimmung von Tätigkeitsdaten:"}]
[null,null,null,null,{"$f":"Translations!$B$428","v":"Dieses Verfahren ist nur relevant, wenn der Inhaber Messgeräte unter seiner Kontrolle verwendet."}]
[]
[null,null,null,null,{"$f":"Translations!$B$405","v":"Bezeichnung des Verfahrens"}]
[null,null,null,null,{"$f":"Translations!$B$407","v":"Referenz des Verfahrens"}]
[null,null,null,null,{"$f":"Translations!$B$409","v":"Referenz Diagramm (falls zutreffend)"}]
[null,null,null,null,{"$f":"Translations!$B$411","v":"Kurzbeschreibung des Verfahrens"}]
[]
[]
[null,null,null,null,{"$f":"Translations!$B$414","v":"Für das Verfahren und damit generierte Daten zuständige Stelle oder Abteilung"}]
[null,null,null,null,{"$f":"Translations!$B$416","v":"Aufbewahrungsort der Aufzeichnungen"}]
[null,null,null,null,{"$f":"Translations!$B$418","v":"Bezeichnung des eingesetzten IT-Systems (soweit anwendbar)"}]
[null,null,null,null,{"$f":"Translations!$B$420","v":"Liste der angewandten EN oder anderer Normen (soweit zutreffend)"}]
[]
[null,null,null,"(k)",{"$f":"Translations!$B$1342","v":"Beschreibung des Verfahrens zur Bewertung, ob Biomasse oder andere Stoffströme mit einem Emissionsfaktor von Null Artikel 38 Absatz 5, Artikel 39a Absatz 3 oder Artikel 39a Absatz 4 entsprechen (falls zutreffend)"}]
[null,null,null,null,{"$f":"Translations!$B$1343","v":"Dieses Verfahren ist nur für Biomasse, RFNBOs (erneuerbare Brenn- bzw. Kraftstoffe nicht biogenen Ursprungs), RCFs (recycelte kohlenstoffhaltige Brenn- bzw. Kraftstoffe) und SLCF (synthetische kohlenstoffarme Brenn- bzw. Kraftstoffe) relevant, die den geltenden Nachhaltigkeits- und THG-Einsparkriterien der Erneuerbare-Energien-Richtlinie (2018/2001) unterliegen."}]
[]
[null,null,null,null,{"$f":"Translations!$B$405","v":"Bezeichnung des Verfahrens"}]
[null,null,null,null,{"$f":"Translations!$B$407","v":"Referenz des Verfahrens"}]
[null,null,null,null,{"$f":"Translations!$B$409","v":"Referenz Diagramm (falls zutreffend)"}]
[null,null,null,null,{"$f":"Translations!$B$411","v":"Kurzbeschreibung des Verfahrens"}]
[]
[]
[null,null,null,null,{"$f":"Translations!$B$414","v":"Für das Verfahren und damit generierte Daten zuständige Stelle oder Abteilung"}]
[null,null,null,null,{"$f":"Translations!$B$416","v":"Aufbewahrungsort der Aufzeichnungen"}]
[null,null,null,null,{"$f":"Translations!$B$418","v":"Bezeichnung des eingesetzten IT-Systems (soweit anwendbar)"}]
[null,null,null,null,{"$f":"Translations!$B$420","v":"Liste der angewandten EN oder anderer Normen (soweit zutreffend)"}]
[]
[null,null,null,"(l)",{"$f":"Translations!$B$1344","v":"Beschreibung des Verfahrens zur Bestimmung der Biogasmengen anhand von Rechnungsunterlagen gemäß Artikel 39 Absatz 4, bzw. RFNBO- oder RCF-Mengen mit einem Emissionsfaktor von Null gemäß Artikel 39a Absatz 5 (falls zutreffend)"}]
[null,null,null,null,{"$f":"Translations!$B$1345","v":"Dieses Verfahren ist nur relevant, wenn der Anlagenbetreiber die Verwendung von Biogas oder RFNBOs (erneuerbare Brenn- bzw. Kraftstoffe nicht biogenen Ursprungs)/RCFs (recycelte kohlenstoffhaltige Brenn- bzw. Kraftstoffe) aus einem (Erd-)Gasnetz geltend machen will."}]
[]
[null,null,null,null,{"$f":"Translations!$B$405","v":"Bezeichnung des Verfahrens"}]
[null,null,null,null,{"$f":"Translations!$B$407","v":"Referenz des Verfahrens"}]
[null,null,null,null,{"$f":"Translations!$B$409","v":"Referenz Diagramm (falls zutreffend)"}]
[null,null,null,null,{"$f":"Translations!$B$411","v":"Kurzbeschreibung des Verfahrens"}]
[]
[]
[null,null,null,null,{"$f":"Translations!$B$414","v":"Für das Verfahren und damit generierte Daten zuständige Stelle oder Abteilung"}]
[null,null,null,null,{"$f":"Translations!$B$416","v":"Aufbewahrungsort der Aufzeichnungen"}]
[null,null,null,null,{"$f":"Translations!$B$418","v":"Bezeichnung des eingesetzten IT-Systems (soweit anwendbar)"}]
[null,null,null,null,{"$f":"Translations!$B$420","v":"Liste der angewandten EN oder anderer Normen (soweit zutreffend)"}]
[]
[null,null,null,"(m)",{"$f":"Translations!$B$1346","v":"Beschreibung des Verfahrens zur Ermittlung der Informationen für jeden Erwerb gemäß Artikel 75v Absatz 2 und Anhang Xa."}]
[null,null,null,null,{"$f":"Translations!$B$1347","v":"In diesem Verfahren sollte beschrieben werden, wie die erworbenen Brennstoffe von jedem einzelnen Brennstofflieferanten, die jährlich für die unter Anhang I der Richtlinie fallenden Tätigkeiten verbrauchten Mengen, die aus dem Lager entnommenen/eingelagerten Mengen und die ausgeführten Mengen erfasst werden."}]
[]
[null,null,null,null,{"$f":"Translations!$B$405","v":"Bezeichnung des Verfahrens"}]
[null,null,null,null,{"$f":"Translations!$B$407","v":"Referenz des Verfahrens"}]
[null,null,null,null,{"$f":"Translations!$B$409","v":"Referenz Diagramm (falls zutreffend)"}]
[null,null,null,null,{"$f":"Translations!$B$411","v":"Kurzbeschreibung des Verfahrens"}]
[]
[]
[null,null,null,null,{"$f":"Translations!$B$414","v":"Für das Verfahren und damit generierte Daten zuständige Stelle oder Abteilung"}]
[null,null,null,null,{"$f":"Translations!$B$416","v":"Aufbewahrungsort der Aufzeichnungen"}]
[null,null,null,null,{"$f":"Translations!$B$418","v":"Bezeichnung des eingesetzten IT-Systems (soweit anwendbar)"}]
[null,null,null,null,{"$f":"Translations!$B$420","v":"Liste der angewandten EN oder anderer Normen (soweit zutreffend)"}]
[]
[null,null,null,"(n)",{"$f":"Translations!$B$1348","v":"Gegebenenfalls eine Beschreibung des Verfahrens, mit dem festgestellt wird, ob die Prozessemissionen eines Materials als Null eingestuft werden können, wenn die Anlage, die das Material herstellt, entsprechende CO2-Emissionen gemeldet hat."}]
[null,null,null,null,{"$f":"Translations!$B$1349","v":"Wo relevant (z. B. Soda, das in der Glasindustrie verwendet wird oder Harnstoff, der für DeNOx verwendet wird), beschreibt das Verfahren, wie diese Materialien die in Anhang II Abschnitt 4 letzter Unterabsatz aufgeführten Bedingungen erfüllen."}]
[]
[null,null,null,null,{"$f":"Translations!$B$405","v":"Bezeichnung des Verfahrens"}]
[null,null,null,null,{"$f":"Translations!$B$407","v":"Referenz des Verfahrens"}]
[null,null,null,null,{"$f":"Translations!$B$409","v":"Referenz Diagramm (falls zutreffend)"}]
[null,null,null,null,{"$f":"Translations!$B$411","v":"Kurzbeschreibung des Verfahrens"}]
[]
[]
[null,null,null,null,{"$f":"Translations!$B$414","v":"Für das Verfahren und damit generierte Daten zuständige Stelle oder Abteilung"}]
[null,null,null,null,{"$f":"Translations!$B$416","v":"Aufbewahrungsort der Aufzeichnungen"}]
[null,null,null,null,{"$f":"Translations!$B$418","v":"Bezeichnung des eingesetzten IT-Systems (soweit anwendbar)"}]
[null,null,null,null,{"$f":"Translations!$B$420","v":"Liste der angewandten EN oder anderer Normen (soweit zutreffend)"}]
["ausblenden"]
["ausblenden",null,null,null,{"$f":"Translations!$B$1150","v":"Weitere Verfahren des Betreibers"}]
["ausblenden"]
["ausblenden",null,null,null,{"$f":"Translations!$B$405","v":"Bezeichnung des Verfahrens"}]
["ausblenden",null,null,null,{"$f":"Translations!$B$407","v":"Referenz des Verfahrens"}]
["ausblenden",null,null,null,{"$f":"Translations!$B$409","v":"Referenz Diagramm (falls zutreffend)"}]
["ausblenden",null,null,null,{"$f":"Translations!$B$411","v":"Kurzbeschreibung des Verfahrens"}]
["ausblenden"]
["ausblenden"]
["ausblenden",null,null,null,{"$f":"Translations!$B$414","v":"Für das Verfahren und damit generierte Daten zuständige Stelle oder Abteilung"}]
["ausblenden",null,null,null,{"$f":"Translations!$B$416","v":"Aufbewahrungsort der Aufzeichnungen"}]
["ausblenden",null,null,null,{"$f":"Translations!$B$418","v":"Bezeichnung des eingesetzten IT-Systems (soweit anwendbar)"}]
["ausblenden",null,null,null,{"$f":"Translations!$B$420","v":"Liste der angewandten EN oder anderer Normen (soweit zutreffend)"}]
["ADD_Procedure"]
[null,null,null,null,null,null,{"$f":"Translations!$B$429","v":"Auf „+“ klicken, um weitere Verfahren einzufügen"}]
[]
[]
[]
[null,null,null,null,null,{"$f":"EUconst_MsgNextSheet","v":"<<< Hier klicken, um mit nächstem Blatt fortzufahren >>> "}]
["ausblenden",null,"end","end","end","end","end","end","end","end","end","end","end","end","end",null,"end","end","end","end","end","end","end"]

{"sheet":"E_SourceStreams","index":6,"n_rows":784,"n_cols":23,"rows_kept":784,"cut":false,"hidden":false,"merged":[[92,9,92,13],[219,9,219,13],[776,4,776,13],[777,4,777,13],[765,4,765,6],[766,4,766,6],[767,4,767,6],[768,4,768,6],[769,4,769,6],[771,3,771,13],[759,4,759,6],[759,9,759,13],[763,4,763,6],[764,4,764,6],[773,4,773,13],[775,4,775,13],[756,4,756,6],[756,9,756,13],[757,4,757,6],[757,9,757,13],[758,4,758,6],[758,9,758,13],[753,4,753,6],[753,9,753,13],[754,4,754,6],[754,9,754,13],[755,4,755,6],[755,9,755,13],[734,5,734,10],[736,5,736,10],[741,4,741,13],[742,4,742,13],[743,4,743,13],[749,3,749,13],[747,9,747,13],[745,8,745,13],[746,8,746,13],[724,4,724,13],[726,7,726,8],[728,5,728,9],[728,10,728,11],[730,7,730,8],[732,5,732,10],[717,4,717,6],[717,7,717,11],[718,4,718,6],[718,7,718,11],[720,4,720,13],[722,3,722,13],[710,4,710,13],[711,4,711,13],[714,3,714,6],[714,7,714,11],[714,12,714,13],[716,4,716,6],[716,7,716,11],[701,4,701,6],[702,4,702,6],[703,4,703,6],[705,3,705,13],[707,4,707,13],[709,4,709,13],[693,4,693,6],[693,9,693,13],[697,4,697,6],[698,4,698,6],[699,4,699,6],[700,4,700,6],[690,4,690,6],[690,9,690,13],[691,4,691,6],[691,9,691,13],[692,4,692,6],[692,9,692,13],[687,4,687,6],[687,9,687,13],[688,4,688,6],[688,9,688,13],[689,4,689,6],[689,9,689,13],[668,5,668,10],[670,5,670,10],[675,4,675,13],[676,4,676,13],[677,4,677,13],[683,3,683,13],[681,9,681,13],[679,8,679,13],[680,8,680,13],[658,4,658,13],[660,7,660,8],[662,5,662,9],[662,10,662,11],[664,7,664,8],[666,5,666,10],[651,4,651,6],[651,7,651,11],[652,4,652,6],[652,7,652,11],[654,4,654,13],[656,3,656,13],[644,4,644,13],[645,4,645,13],[648,3,648,6],[648,7,648,11],[648,12,648,13],[650,4,650,6],[650,7,650,11],[635,4,635,6],[636,4,636,6],[637,4,637,6],[639,3,639,13],[641,4,641,13],[643,4,643,13],[627,4,627,6],[627,9,627,13],[631,4,631,6],[632,4,632,6],[633,4,633,6],[634,4,634,6],[624,4,624,6],[624,9,624,13],[625,4,625,6],[625,9,625,13],[626,4,626,6],[626,9,626,13],[621,4,621,6],[621,9,621,13],[622,4,622,6],[622,9,622,13],[623,4,623,6],[623,9,623,13],[602,5,602,10],[604,5,604,10],[609,4,609,13],[610,4,610,13],[611,4,611,13],[617,3,617,13],[615,9,615,13],[613,8,613,13],[614,8,614,13],[592,4,592,13],[594,7,594,8],[596,5,596,9],[596,10,596,11],[598,7,598,8],[600,5,600,10],[585,4,585,6],[585,7,585,11],[586,4,586,6],[586,7,586,11],[588,4,588,13],[590,3,590,13],[578,4,578,13],[579,4,579,13],[582,3,582,6],[582,7,582,11],[582,12,582,13],[584,4,584,6],[584,7,584,11],[569,4,569,6],[570,4,570,6],[571,4,571,6],[573,3,573,13],[575,4,575,13],[577,4,577,13],[561,4,561,6],[561,9,561,13],[565,4,565,6],[566,4,566,6],[567,4,567,6],[568,4,568,6],[558,4,558,6],[558,9,558,13],[559,4,559,6],[559,9,559,13],[560,4,560,6],[560,9,560,13],[555,4,555,6],[555,9,555,13],[556,4,556,6],[556,9,556,13],[557,4,557,6],[557,9,557,13],[536,5,536,10],[538,5,538,10],[543,4,543,13],[544,4,544,13],[545,4,545,13],[551,3,551,13],[549,9,549,13],[547,8,547,13],[548,8,548,13],[526,4,526,13],[528,7,528,8],[530,5,530,9],[530,10,530,11],[532,7,532,8],[534,5,534,10],[519,4,519,6],[519,7,519,11],[520,4,520,6],[520,7,520,11],[522,4,522,13],[524,3,524,13],[512,4,512,13],[513,4,513,13],[516,3,516,6],[516,7,516,11],[516,12,516,13],[518,4,518,6],[518,7,518,11],[503,4,503,6],[504,4,504,6],[505,4,505,6],[507,3,507,13],[509,4,509,13],[511,4,511,13],[495,4,495,6],[495,9,495,13],[499,4,499,6],[500,4,500,6],[501,4,501,6],[502,4,502,6],[492,4,492,6],[492,9,492,13],[493,4,493,6],[493,9,493,13],[494,4,494,6],[494,9,494,13],[489,4,489,6],[489,9,489,13],[490,4,490,6],[490,9,490,13],[491,4,491,6],[491,9,491,13],[470,5,470,10],[472,5,472,10],[477,4,477,13],[478,4,478,13],[479,4,479,13],[485,3,485,13],[483,9,483,13],[481,8,481,13],[482,8,482,13],[460,4,460,13],[462,7,462,8],[464,5,464,9],[464,10,464,11],[466,7,466,8],[468,5,468,10],[453,4,453,6],[453,7,453,11],[454,4,454,6],[454,7,454,11],[456,4,456,13],[458,3,458,13],[446,4,446,13],[447,4,447,13],[450,3,450,6],[450,7,450,11],[450,12,450,13],[452,4,452,6],[452,7,452,11],[437,4,437,6],[438,4,438,6],[439,4,439,6],[441,3,441,13],[443,4,443,13],[445,4,445,13],[429,4,429,6],[429,9,429,13],[433,4,433,6],[434,4,434,6],[435,4,435,6],[436,4,436,6],[426,4,426,6],[426,9,426,13],[427,4,427,6],[427,9,427,13],[428,4,428,6],[428,9,428,13],[425,4,425,6],[425,9,425,13],[404,5,404,10],[406,5,406,10],[411,4,411,13],[412,4,412,13],[413,4,413,13],[419,3,419,13],[417,9,417,13],[416,8,416,13],[400,7,400,8],[402,5,402,10],[390,4,390,13],[392,3,392,13],[386,4,386,6],[386,7,386,11],[423,4,423,6],[423,9,423,13],[424,4,424,6],[424,9,424,13],[387,7,387,11],[388,4,388,6],[388,7,388,11],[394,4,394,13],[396,7,396,8],[398,5,398,9],[398,10,398,11],[387,4,387,6],[285,9,285,13],[351,9,351,13],[293,4,293,6],[293,9,293,13],[294,4,294,6],[294,9,294,13],[295,4,295,6],[362,4,362,6],[362,9,362,13],[330,7,330,8],[287,3,287,13],[291,4,291,6],[291,9,291,13],[311,4,311,13],[313,4,313,13],[295,9,295,13],[296,4,296,6],[296,9,296,13],[297,4,297,6],[297,9,297,13],[301,4,301,6],[302,4,302,6],[303,4,303,6],[304,4,304,6],[338,5,338,10],[340,5,340,10],[326,3,326,13],[328,4,328,13],[377,4,377,13],[247,4,247,13],[248,4,248,13],[249,4,249,13],[252,3,252,6],[252,7,252,11],[252,12,252,13],[262,4,262,13],[258,4,258,13],[260,3,260,13],[318,7,318,11],[318,12,318,13],[320,4,320,6],[320,7,320,11],[305,4,305,6],[306,4,306,6],[307,4,307,6],[358,4,358,6],[358,9,358,13],[309,3,309,13],[225,4,225,6],[225,9,225,13],[226,4,226,6],[226,9,226,13],[227,4,227,6],[227,9,227,13],[231,4,231,6],[231,9,231,13],[235,4,235,6],[228,4,228,6],[228,9,228,13],[229,4,229,6],[229,9,229,13],[230,4,230,6],[230,9,230,13],[238,4,238,6],[239,4,239,6],[292,4,292,6],[292,9,292,13],[274,5,274,10],[279,4,279,13],[280,4,280,13],[281,4,281,13],[255,7,255,11],[240,4,240,6],[241,4,241,6],[256,4,256,6],[256,7,256,11],[243,3,243,13],[245,4,245,13],[254,4,254,6],[254,7,254,11],[255,4,255,6],[264,7,264,8],[266,5,266,9],[266,10,266,11],[268,7,268,8],[270,5,270,10],[272,5,272,10],[206,5,206,10],[208,5,208,10],[345,4,345,13],[346,4,346,13],[347,4,347,13],[353,3,353,13],[332,5,332,9],[332,10,332,11],[334,7,334,8],[336,5,336,10],[213,4,213,13],[214,4,214,13],[215,4,215,13],[221,3,221,13],[321,4,321,6],[321,7,321,11],[322,4,322,6],[322,7,322,11],[324,4,324,13],[314,4,314,13],[315,4,315,13],[318,3,318,6],[236,4,236,6],[237,4,237,6],[384,3,384,6],[384,7,384,11],[384,12,384,13],[370,4,370,6],[371,4,371,6],[372,4,372,6],[373,4,373,6],[375,3,375,13],[367,4,367,6],[368,4,368,6],[369,4,369,6],[148,9,148,13],[146,9,146,13],[192,4,192,13],[363,4,363,6],[363,9,363,13],[138,9,138,13],[183,4,183,13],[380,4,380,13],[381,4,381,13],[194,3,194,13],[196,4,196,13],[198,7,198,8],[361,4,361,6],[361,9,361,13],[200,5,200,9],[200,10,200,11],[359,4,359,6],[359,9,359,13],[360,4,360,6],[360,9,360,13],[202,7,202,8],[204,5,204,10],[357,4,357,6],[357,9,357,13],[114,6,114,13],[102,4,102,13],[63,4,63,13],[121,5,121,13],[188,4,188,6],[188,7,188,11],[189,4,189,6],[189,7,189,11],[186,3,186,6],[186,7,186,11],[118,5,118,13],[120,5,120,13],[128,5,128,13],[123,6,123,13],[186,12,186,13],[137,9,137,13],[119,5,119,13],[126,5,126,13],[136,9,136,13],[137,4,137,6],[119,4,120,4],[132,4,132,13],[154,4,154,13],[131,4,131,13],[31,4,31,13],[18,12,18,13],[27,7,27,11],[49,4,49,13],[55,10,55,11],[58,5,58,13],[111,5,111,13],[82,4,82,13],[115,4,117,4],[117,6,117,13],[108,4,110,4],[70,5,70,10],[108,5,108,13],[60,7,60,8],[76,5,76,13],[81,4,81,13],[87,4,87,13],[77,5,77,13],[86,4,86,13],[100,5,100,13],[99,5,99,13],[101,4,101,13],[112,6,112,13],[113,6,113,13],[127,5,127,13],[125,6,125,13],[20,7,20,11],[27,4,27,6],[51,7,51,8],[2,8,2,9],[68,5,68,13],[67,5,67,13],[56,10,56,11],[61,7,61,8],[66,5,66,10],[57,5,57,13],[65,5,65,10],[55,5,55,9],[53,4,53,13],[32,4,32,13],[40,4,40,13],[38,5,38,13],[42,4,42,13],[36,4,36,13],[47,3,47,13],[39,5,39,13],[45,4,45,13],[52,7,52,8],[88,4,88,13],[162,4,162,6],[153,4,153,13],[147,9,147,13],[142,4,142,6],[104,3,104,13],[124,6,124,13],[146,4,146,6],[115,5,115,13],[144,4,144,6],[141,4,141,6],[140,9,140,13],[140,4,140,6],[161,4,161,6],[141,9,141,13],[160,4,160,6],[144,9,144,13],[111,4,114,4],[139,4,139,6],[106,4,106,13],[98,4,98,13],[97,4,97,13],[142,9,142,13],[149,9,149,13],[2,4,2,5],[2,6,2,7],[3,10,3,11],[3,12,3,13],[1,4,1,5],[1,12,1,13],[72,5,72,13],[85,4,85,13],[75,5,75,10],[74,5,74,10],[20,4,20,6],[24,3,24,6],[24,7,24,11],[26,4,26,6],[26,7,26,11],[28,7,28,11],[18,3,18,6],[18,7,18,11],[30,4,30,13],[21,4,21,6],[22,7,22,11],[21,7,21,11],[22,4,22,6],[28,4,28,6],[34,3,34,13],[37,5,37,13],[56,5,56,9],[15,3,15,13],[71,5,71,10],[1,10,1,11],[2,10,2,11],[3,6,3,7],[2,12,2,13],[5,11,5,13],[7,10,7,13],[14,3,14,13],[11,3,11,13],[12,3,12,13],[24,12,24,13],[62,4,62,13],[13,3,13,13],[9,3,9,13],[3,8,3,9],[1,1,3,3],[1,6,1,7],[1,8,1,9],[5,2,5,10],[3,4,3,5],[781,5,781,11],[138,4,138,6],[163,4,163,6],[171,4,171,6],[166,4,166,6],[164,4,164,6],[150,4,150,6],[170,4,170,6],[174,3,174,13],[169,4,169,6],[172,4,172,6],[179,4,179,13],[177,4,177,13],[176,4,176,13],[178,4,178,13],[182,4,182,13],[181,4,181,13],[167,4,167,6],[168,4,168,6],[139,9,139,13],[145,9,145,13],[190,4,190,6],[190,7,190,11],[379,4,379,13],[90,8,90,13],[91,8,91,13],[349,8,349,13],[350,8,350,13],[283,8,283,13],[284,8,284,13],[217,8,217,13],[218,8,218,13],[415,8,415,13],[116,6,116,13],[122,6,122,13],[136,4,136,6],[107,4,107,13],[159,4,159,6],[145,4,145,6],[152,4,152,13],[150,9,150,13],[147,4,147,6],[149,4,149,6],[158,4,158,6],[148,4,148,6],[110,6,110,13],[109,6,109,13],[121,4,125,4]]}
["ausblenden",null,null,null,null,null,null,null,null,null,null,null,null,null,null,"ausblenden","ausblenden","ausblenden","ausblenden","ausblenden","ausblenden","ausblenden","ausblenden"]
[null,{"$f":"Translations!$B$430","v":"E. \nSource streams"},null,null,{"$f":"Translations!$B$59","v":"Navigationsbereich:"},null,{"$f":"Translations!$B$60","v":"Inhaltsverzeichnis"},null,{"$f":"Translations!$B$61","v":"Vorheriges Blatt"},null,{"$f":"Translations!$B$62","v":"Nächstes Blatt"}]
[null,null,null,null,{"$f":"Translations!$B$63","v":"Blattanfang"},null,1,null,2,null,3]
[null,null,null,null,{"$f":"Translations!$B$64","v":"Blattende"},null,4,null,5,null,{"$f":"Translations!$B$431","v":"6 bis 10"}]
[]
[null,null,{"$f":"Translations!$B$432","v":"E. Stoffströme"},null,null,null,null,null,null,null,null,{"$f":"IF(AND(NOT(ISBLANK(CNTR_InstHasCalculation)), CNTR_InstHasCalculation=FALSE),EUconst_NotRelevant,EUconst_Relevant)","v":"Relevant"}]
[]
[null,null,null,null,null,null,null,null,null,null,{"$f":"IF(L6=EUconst_NotRelevant,HYPERLINK(\"#JUMP_F_Top\",EUconst_MsgNextSheet),HYPERLINK(\"\",EUconst_MsgEnterThisSection))","v":"Bitte machen Sie Angaben in diesem Abschnitt"}]
[]
[null,null,8,{"$f":"Translations!$B$19","v":"Angaben zu den auf die Aktivitätsdaten und Berechnungsfaktoren angewandten Ebenen"}]
[]
[null,null,null,{"$f":"Translations!$B$433","v":"Bitte beachten Sie, dass die Anweisungen nur für den ersten Stoffstrom angezeigt werden."}]
[null,null,null,{"$f":"Translations!$B$434","v":"Wenn Sie Daten für weitere Stoffströme anzeigen wollen, klicken Sie bitte auf die „+“‑Zeichen links (Datenkonsolidierungsfunktion)."}]
[null,null,null,{"$f":"Translations!$B$435","v":"Weitere Stoffströme können Sie mithilfe des Makros in Abschnitt 6 Buchstabe e des Arbeitsblatts C_InstallationDescription anfügen."}]
[null,null,null,{"$f":"Translations!$B$135","v":"Für die Anzeige/Unterdrückung von Beispielen drücken Sie bitte die Taste „Beispiele“ im Navigationsbereich."}]
[null,null,null,{"$f":"Translations!$B$436","v":"Das Beispiel ist in den ersten Stoffstrom integriert."},null,null,null,null,null,null,null,null,null,null,null,null,null,null,"Check source stream category","auto","manual"]
[]
[null,null,null,null,null,null,null,null,null,null,null,null,null,null,null,null,null,null,"Check source stream category","auto","manual"]
[null,null,{"$f":"\"S\"&Q19","v":"S1"},{"$f":"CONCATENATE(Euconst_SourceStream,\" \", Q19,\":\")","v":"Stoffstrom 1:"},null,null,null,{"$f":"IF(INDEX(C_InstallationDescription!$I$194:$I$204,MATCH(C19,C_InstallationDescription!$E$194:$E$204,0))>0,INDEX(C_InstallationDescription!$I$194:$I$204,MATCH(C19,C_InstallationDescription!$E$194:$E$204,0)),\"\")","v":""},null,null,null,null,{"$f":"IF(S19=TRUE,IF(U19=\"\",T19,U19),\"\")","v":""},null,null,null,1,null,{"$f":"IF(INDEX(C_InstallationDescription!$M:$M,MATCH(Q21,C_InstallationDescription!$Q:$Q,0))=\"\",FALSE,TRUE)","v":false},{"$f":"IF(S19=TRUE,INDEX(C_InstallationDescription!$M:$M,MATCH(Q21,C_InstallationDescription!$Q:$Q,0)),\"\")","v":""},{"$f":"IF(S19=TRUE,IF(ISBLANK(INDEX(C_InstallationDescription!$N:$N,MATCH(Q21,C_InstallationDescription!$Q:$Q,0))),\"\",INDEX(C_InstallationDescription!$N:$N,MATCH(Q21,C_InstallationDescription!$Q:$Q,0))),\"\")","v":""}]
[]
[null,null,null,null,{"$f":"Translations!$B$437","v":"Stoffstromtyp:"},null,null,{"$f":"IF(INDEX(C_InstallationDescription!$F$194:$F$204,MATCH(C19,C_InstallationDescription!$E$194:$E$204,0))>0,INDEX(C_InstallationDescription!$F$194:$F$204,MATCH(C19,C_InstallationDescription!$E$194:$E$204,0)),\"\")","v":""},null,null,null,null,null,null,null,null,{"$f":"EUconst_CNTR_SourceCategory&C19","v":"SourceCategory_S1"}]
[null,null,null,null,{"$f":"Translations!$B$438","v":"Anwendbares Verfahren gemäß MVO:"},null,null,{"$f":"IF(H21=\"\",\"\",INDEX(EUwideConstants!F:F,MATCH(H21,EUwideConstants!Q:Q,0)))","v":""}]
[null,null,null,null,{"$f":"Translations!$B$439","v":"Parameter, für die die Unsicherheit gilt:"},null,null,{"$f":"IF(H21=\"\",\"\",INDEX(EUwideConstants!E:E,MATCH(H21,EUwideConstants!Q:Q,0)))","v":""}]
[]
["HIDE_Example",null,null,{"$f":"Translations!$B$440","v":"Beispiel Stoffstrom:"},null,null,null,{"$f":"Translations!$B$295","v":"Heizöl schwer"},null,null,null,null,{"$f":"Translations!$B$313","v":"Emissionsstark"},null,null,null,1,null,{"$f":"IF(INDEX(C_InstallationDescription!$M:$M,MATCH(Q27,C_InstallationDescription!$Q:$Q,0))=\"\",FALSE,TRUE)","v":false},{"$f":"IF(S25=TRUE,INDEX(C_InstallationDescription!$M:$M,MATCH(Q27,C_InstallationDescription!$Q:$Q,0)),\"\")","v":""},{"$f":"IF(S25=TRUE,IF(ISBLANK(INDEX(C_InstallationDescription!$N:$N,MATCH(Q27,C_InstallationDescription!$Q:$Q,0))),\"\",INDEX(C_InstallationDescription!$N:$N,MATCH(Q27,C_InstallationDescription!$Q:$Q,0))),\"\")","v":""}]
["HIDE_Example"]
["HIDE_Example",null,null,null,{"$f":"Translations!$B$437","v":"Stoffstromtyp:"},null,null,{"$f":"Translations!$B$296","v":"Verbrennung: Andere gasförmige und flüssige Brennstoffe"},null,null,null,null,null,null,null,null,{"$f":"EUconst_CNTR_SourceCategory&C25","v":"SourceCategory_"}]
["HIDE_Example",null,null,null,{"$f":"Translations!$B$438","v":"Anwendbares Verfahren gemäß MVO:"},null,null,{"$f":"Translations!$B$441","v":"Standardmethodik: Brennstoff, Artikel 24 Absatz 1"}]
["HIDE_Example",null,null,null,{"$f":"Translations!$B$439","v":"Parameter, für die die Unsicherheit gilt:"},null,null,{"$f":"Translations!$B$442","v":"Brennstoffmenge [t] oder [Nm3]"}]
["HIDE_Example"]
[null,null,null,null,{"$f":"Translations!$B$443","v":"Der Name des Stoffstroms, der Stoffstromtyp und die Kategorie werden automatisch auf Basis Ihrer Angaben in Abschnitt 6 Buchstabe e des Datenblatts C_InstallationDescription eingesetzt."}]
[null,null,null,null,{"$f":"Translations!$B$444","v":"Wenn Sie den Stoffstrom nicht automatisch einer Kategorie (emissionsstark, emissionsschwach, De-minimis) zugeordnet haben, wird die Kategorie verwendet, die in diesem Abschnitt automatisch angezeigt wird. Ist dies der Fall, kann die Vorlage die anwendbaren Ebenen nicht korrekt angeben. Vergewissern Sie sich daher, dass Sie in dem genannten Abschnitt die richtige anwendbare Kategorie ausgewählt haben."}]
[null,null,null,null,{"$f":"Translations!$B$445","v":"Da der Stoffstromtyp eindeutig einer gemäß der MVO anwendbaren Überwachungsmethodik (Artikel 24 und 25) und den Parametern, für die die Unsicherheit der Tätigkeitsdaten gilt (Anhang II), zugewiesen werden kann, werden diese Angaben automatisch auf der Grundlage der MVO eingesetzt."}]
[]
[null,null,null,{"$f":"Translations!$B$446","v":"Automatische Anleitung zu den anwendbaren Ebenen:"}]
[]
[null,null,null,null,{"$f":"Translations!$B$447","v":"Unter den Buchstaben c und f werden die vorgeschriebenen Ebenen für Tätigkeitsdaten und Berechnungsfaktoren in den grünen Feldern auf Basis Ihrer Angaben in Abschnitt 5 Buchstaben d und e und Abschnitt 6 Buchstaben e und f angezeigt. Dies sind die Mindestebenen für emissionsstarke Stoffströme. Geringere Anforderungen können jedoch zugelassen werden. Abhängig von den nachstehend genannten Faktoren werden in der grünen Textbox geeignete Hinweise angezeigt:"}]
[null,null,null,null,"-",{"$f":"Translations!$B$448","v":"An Anlagen mit geringen Emissionen gemäß Artikel 47 Absatz 2 werden geringere Anforderungen gerichtet;"}]
[null,null,null,null,"-",{"$f":"Translations!$B$449","v":"die Anlagenkategorie (A, B oder C) gemäß Artikel 19;"}]
[null,null,null,null,"-",{"$f":"Translations!$B$450","v":"an als emissionsschwache oder De-minimis-Stoffströme gemäß Artikel 19 Absatz 3 eingestufte Stoffströme werden geringere Anforderungen gerichtet."}]
[null,null,null,null,{"$f":"Translations!$B$451","v":"Die Meldung zu den anwendbaren Ebenen ist für die Tätigkeitsdaten und für alle Berechnungsfaktoren wichtig."}]
[]
[null,null,null,null,{"$f":"IF(H19=\"\",\"\",INDEX(EUconst_SmallEmiSouStreamMsg,MATCH(Q43,EUconst_SmallEmiSouStream,0)))","v":""},null,null,null,null,null,null,null,null,null,null,null,{"$f":"IF(CNTR_SmallEmitter=TRUE,EUconst_CNTR_SmallEmitter,EUconst_CNTR_NoSmallEmitter) & IF((CNTR_Category)=\"\",\"C\",CNTR_Category) & \"_\" & IF(M19=\"\",1,MATCH(M19,SourceCategory,0))","v":"NoSmallEmitter_C_1"}]
["HIDE_Example"]
["HIDE_Example",null,null,{"$f":"Translations!$B$452","v":"Beispieldaten:"}]
["HIDE_Example",null,null,null,{"$f":"Translations!$B$453","v":"Artikel 26 Absatz 1: Es sind mindestens die angezeigten Mindestebenen anwendbar. \nSie können jedoch eine Ebene um bis zu zwei Stufen unterhalb der jeweiligen Ebene anwenden (mit Ebene 1 als Minimum), wenn Sie der zuständigen Behörde zu deren Zufriedenheit nachweisen können, dass die gemäß Unterabsatz 1 vorgeschriebene Ebene technisch nicht machbar ist oder zu unverhältnismäßigen Kosten führen wird."}]
[]
[null,null,null,{"$f":"Translations!$B$454","v":"Tätigkeitsdaten:"}]
[]
[null,null,null,"(a)",{"$f":"Translations!$B$455","v":"Verfahren zur Bestimmung der Tätigkeitsdaten:"}]
[]
[null,null,null,"i.",{"$f":"Translations!$B$456","v":"Bestimmungsverfahren:"},null,null,null,null,null,null,null,null,null,null,null,null,null,null,null,null,null,{"$f":"IF(M19=\"\",\"\",IF(M19=INDEX(SourceCategory,3),1,IF(CNTR_InstHasCalculation=FALSE,0,2)))","v":""}]
["HIDE_Example",null,null,null,null,null,null,{"$f":"Translations!$B$457","v":"Kontinuierliche Messung"},null,null,null,null,null,null,null,null,null,null,null,null,null,null,{"$f":"IF(M28=\"\",\"\",IF(M28=INDEX(SourceCategory,3),1,IF(CNTR_InstHasCalculation=FALSE,0,2)))","v":""}]
[null,null,null,null,{"$f":"Translations!$B$458","v":"Gemäß Artikel 27 Absatz 1 können die Tätigkeitsdaten für einen Stoffstrom a) durch kontinuierliche Messung am Prozess, der die Emissionen verursacht, oder b) durch Aggregation von gesondert vorgenommenen Mengenmessungen unter Berücksichtigung relevanter Bestandsveränderungen (Chargenmessung) bestimmt werden."}]
[]
[null,null,null,null,null,{"$f":"Translations!$B$459","v":"Verweis auf Verfahren für die Bestandsbestimmung am Jahresende:"},null,null,null,null,null,null,null,null,null,null,null,null,null,null,null,{"$f":"IF(OR(H19=\"\",ISBLANK(H52)),FALSE,IF(MATCH(H52,EUconst_ActivityDeterminationMethod,0)=2,TRUE,FALSE))","v":false},{"$f":"IF(V56=TRUE,0,W52)","v":""}]
["HIDE_Example",null,null,null,null,null,null,null,null,null,null,null,null,null,null,null,null,null,null,null,null,{"$f":"IF(OR(H29=\"\",ISBLANK(H54)),FALSE,IF(MATCH(H54,EUconst_ActivityDeterminationMethod,0)=2,TRUE,FALSE))","v":false},{"$f":"IF(V57=TRUE,0,W54)","v":0}]
[null,null,null,null,null,{"$f":"Translations!$B$460","v":"Dies ist nur relevant, wenn Sie „Chargenmessung“ als Bestimmungsverfahren gewählt haben. Bitte beachten Sie das in Abschnitt 7 Buchstabe i beschriebene Verfahren. "}]
[null,null,null,null,null,{"$f":"Translations!$B$461","v":"Anlagen mit geringen Emissionen (Abschnitt 5 Buchstabe e) brauchen die Bestandsbestimmung nicht in ihre Unsicherheitsbewertung einzubeziehen (Artikel 47 Absatz 5)."}]
[]
[null,null,null,"ii.",{"$f":"Translations!$B$462","v":"Gerät unter Kontrolle des "},null,null,null,null,null,null,null,null,null,null,null,null,null,null,null,null,null,{"$f":"W52","v":""}]
["HIDE_Example",null,null,null,null,null,null,{"$f":"Translations!$B$149","v":"Inhaber"},null,null,null,null,null,null,null,null,null,null,null,null,null,null,{"$f":"W55","v":0}]
[null,null,null,null,{"$f":"Translations!$B$463","v":"Bitte wählen Sie „Inhabers“, wenn das Messgerät unter Ihrer Kontrolle steht, und „Handelspartners“, wenn es nicht unter Ihrer Kontrolle steht."}]
[null,null,null,null,{"$f":"Translations!$B$464","v":"Ist mehr als ein Gerät relevant, wählen Sie bitte „Handelspartners\", wenn dies bei zumindest einem der für diesen Stoffstrom eingesetzten Geräte der Fall ist. Geben Sie in die Textbox unter Buchstabe b bitte jeweils an, welche Geräte unter Ihrer und welche unter der Kontrolle des Handelspartners stehen."}]
[]
[null,null,null,null,"a.",{"$f":"Translations!$B$465","v":"Bitte bestätigen Sie, dass die Bedingungen des Artikels 29 Absatz 2 erfüllt sind:"},null,null,null,null,null,null,null,null,null,null,null,null,null,null,null,{"$f":"IF(OR(H19=\"\",ISBLANK(H61)),FALSE,IF(MATCH(H61,EUconst_OwnerInstrument,0)=1,TRUE,FALSE))","v":false},{"$f":"IF(V66=TRUE,0,W52)","v":""}]
["HIDE_Example",null,null,null,null,null,null,null,null,null,null,null,null,null,null,null,null,null,null,null,null,{"$f":"IF(OR(H31=\"\",ISBLANK(H63)),FALSE,IF(MATCH(H63,EUconst_OwnerInstrument,0)=1,TRUE,FALSE))","v":false},{"$f":"IF(V67=TRUE,0,W56)","v":""}]
[null,null,null,null,null,{"$f":"Translations!$B$466","v":"Dies ist nur relevant, wenn Sie nicht der Eigner des Messgeräts sind."}]
[null,null,null,null,null,{"$f":"Translations!$B$467","v":"Gemäß Artikel 29 Absatz 1 dürfen Sie sich nur dann auf Geräte verlassen, die außerhalb Ihrer Kontrolle sind, wenn die Geräte die Einhaltung einer mindestens ebenso hohen Ebene wie ihre eigenen Geräte ermöglichen, verlässlichere Ergebnisse zeigen und weniger anfällig für Kontrollrisiken sind."}]
[]
[null,null,null,null,"b.",{"$f":"Translations!$B$468","v":"Bestimmen Sie die Brennstoff- oder Materialienmenge anhand von Rechnungen?"},null,null,null,null,null,null,null,null,null,null,null,null,null,null,null,{"$f":"IF(OR(H19=\"\",ISBLANK(H61)),FALSE,IF(MATCH(H61,EUconst_OwnerInstrument,0)=1,TRUE,FALSE))","v":false},{"$f":"IF(V71=TRUE,0,W52)","v":""}]
["HIDE_Example",null,null,null,null,null,null,null,null,null,null,null,null,null,null,null,null,null,null,null,null,{"$f":"IF(OR(H36=\"\",ISBLANK(H68)),FALSE,IF(MATCH(H68,EUconst_OwnerInstrument,0)=1,TRUE,FALSE))","v":false},{"$f":"IF(V72=TRUE,0,W61)","v":""}]
[null,null,null,null,null,{"$f":"Translations!$B$466","v":"Dies ist nur relevant, wenn Sie nicht der Eigner des Messgeräts sind."}]
[]
[null,null,null,null,"c.",{"$f":"Translations!$B$469","v":"Bitte bestätigen Sie, dass Handelspartner und Inhaber voneinander unabhängig sind:"},null,null,null,null,null,null,null,null,null,null,null,null,null,null,null,{"$f":"IF(OR(H19=\"\",ISBLANK(H61)),FALSE,IF(MATCH(H61,EUconst_OwnerInstrument,0)=1,TRUE,FALSE))","v":false},{"$f":"IF(V75=TRUE,0,W52)","v":""}]
["HIDE_Example",null,null,null,null,null,null,null,null,null,null,null,null,null,null,null,null,null,null,null,null,{"$f":"IF(OR(H40=\"\",ISBLANK(H72)),FALSE,IF(MATCH(H72,EUconst_OwnerInstrument,0)=1,TRUE,FALSE))","v":false},{"$f":"IF(V76=TRUE,0,W65)","v":0}]
[null,null,null,null,null,{"$f":"Translations!$B$470","v":"Dies ist nur relevant, wenn Sie nicht der Eigner des Messgeräts sind. "}]
[null,null,null,null,null,{"$f":"Translations!$B$471","v":"Gemäß Artikel 29 Absatz 1 Buchstabe a dürfen Sie nur dann auf Rechnungen zurückgreifen, wenn die Handelspartner unabhängig voneinander sind."}]
[]
[null,null,null,"(b)",{"$f":"Translations!$B$472","v":"Verwendete Messgeräte:"}]
["HIDE_Example",null,null,null,null,null,null,"MG01","MG03"]
[null,null,null,null,{"$f":"Translations!$B$473","v":"Bitte wählen Sie hier eines oder mehrere der Geräte aus, die Sie in Abschnitt 7 Buchstabe b angegeben haben. "}]
[null,null,null,null,{"$f":"Translations!$B$474","v":"Werden für diesen Stoffstrom mehr als fünf Messgeräte verwendet, beispielsweise, wenn die Druck-Temperatur-Kompensation in gesonderten Geräten vorgenommen wird, erläutern Sie dies bitte in der Textbox."}]
[]
[null,null,null,null,{"$f":"Translations!$B$475","v":"Anmerkung / Beschreibung des Vorgehens, wenn mehrere Geräte verwendet werden:"}]
[null,null,null,null,{"$f":"Translations!$B$476","v":"Bitte erläutern Sie, warum und inwieweit mehr als ein Gerät relevant sind (soweit zutreffend). Es ist z. B. möglich, dass ein Gerät erforderlich ist, um einen Nicht-EHS-Teil des Brennstoffs abzuziehen. Wiegegeräte können alternativ oder zur Bestätigung eingesetzt werden."}]
[]
[]
[]
[]
[null,null,null,"(c)",{"$f":"Translations!$B$477","v":"Vorgeschriebene Ebene Tätigkeitsdaten:"},null,null,{"$f":"IF(H21=\"\",\"\",IF(CNTR_Category=\"A\",INDEX(EUwideConstants!$G:$G,MATCH(Q91,EUwideConstants!$S:$S,0)),INDEX(EUwideConstants!$P:$P,MATCH(Q91,EUwideConstants!$S:$S,0))))","v":""},{"$f":"IF(H91=\"\",\"\",IF(S91=0,EUconst_NA,IF(ISERROR(S91),\"\",EUconst_MsgTierActivityLevel & \" \" &S91)))","v":""},null,null,null,null,null,null,null,{"$f":"EUconst_CNTR_ActivityData&H21","v":"ActivityData_"},null,{"$f":"IF(H91=\"\",\"\",IF(H91=EUconst_NA,\"\",INDEX(EUwideConstants!$H:$O,MATCH(Q91,EUwideConstants!$S:$S,0),MATCH(H91,CNTR_TierList,0))))","v":""}]
[null,null,null,"(d)",{"$f":"Translations!$B$478","v":"Angewandte Ebene Tätigkeitsdaten:"},null,null,null,{"$f":"IF(OR(ISBLANK(H92),H92=EUconst_NoTier),\"\",IF(S92=0,EUconst_NA,IF(ISERROR(S92),\"\",EUconst_MsgTierActivityLevel & \" \" &S92)))","v":""},null,null,null,null,null,null,null,{"$f":"EUconst_CNTR_ActivityData&H21","v":"ActivityData_"},null,{"$f":"IF(ISBLANK(H92),\"\",IF(H92=EUconst_NA,\"\",INDEX(EUwideConstants!$H:$O,MATCH(Q92,EUwideConstants!$S:$S,0),MATCH(H92,CNTR_TierList,0))))","v":""}]
[null,null,null,"(e)",{"$f":"Translations!$B$479","v":"Erreichte Unsicherheit:"},null,null,null,{"$f":"Translations!$B$480","v":"Anmerkung:"}]
["HIDE_Example",null,null,{"$f":"Translations!$B$452","v":"Beispieldaten:"}]
["HIDE_Example",null,null,"(c)",{"$f":"Translations!$B$477","v":"Vorgeschriebene Ebene Tätigkeitsdaten:"},null,null,2,{"$f":"Translations!$B$481","v":"Die Unsicherheit darf nicht mehr als ± 5,0 % betragen."}]
["HIDE_Example",null,null,"(d)",{"$f":"Translations!$B$478","v":"Angewandte Ebene Tätigkeitsdaten:"},null,null,3,{"$f":"Translations!$B$482","v":"Die Unsicherheit darf nicht mehr als ± 2,5 % betragen."}]
["HIDE_Example",null,null,"(e)",{"$f":"Translations!$B$479","v":"Erreichte Unsicherheit:"},null,null,2.2499999999999999E-2,{"$f":"Translations!$B$480","v":"Anmerkung:"},{"$f":"Translations!$B$483","v":"Geeicht gemäß Maß- und Eichgesetz --> Verkehrsfehlergrenze"}]
[null,null,null,null,{"$f":"Translations!$B$484","v":"Bitte geben Sie hier die im gesamten Berichtszeitraum im Betrieb erzielte Unsicherheit in Bezug auf die vorgegebene und die angewandte Ebene an."}]
[null,null,null,null,{"$f":"Translations!$B$485","v":"Dieser Wert sollte in der Regel das Ergebnis einer Unsicherheitsbewertung sein (siehe Abschnitt 7 Buchstabe c). Gemäß Artikel 28 Absätze 2 und 3 und Artikel 29 Absatz 2 sind mehrere Vereinfachungen zulässig:"}]
[null,null,null,null,"-",{"$f":"Translations!$B$486","v":"Sie können die für das Messgerät angegebenen Verkehrsfehler des Messgeräts oder – falls niedriger – die Unsicherheit bei der Kalibrierung, multipliziert mit einem konservativen Anpassungsfaktor, verwenden, um dem Einfluss der Unsicherheit im Betrieb Rechnung zu tragen, sofern die betreffenden Messgeräte in eine für ihre Betriebsspezifikationen geeignete Umgebung eingebaut sind, oder"}]
[null,null,null,null,"-",{"$f":"Translations!$B$487","v":"Sie können die Verkehrsfehlergrenzen des Messgeräts als Unsicherheitswert verwenden, sofern das Messgerät gemäß Maß- und Eichgesetz geeicht ist."}]
[null,null,null,null,{"$f":"Translations!$B$488","v":"Bitte beschreiben Sie in der Textbox unter Buchstabe h wie die über den gesamten Berichtszeitraum ermittelte Unsicherheit bestimmt wird."}]
[null,null,null,null,{"$f":"Translations!$B$1171","v":"Weitere Informationen sind den Artikeln 28 und 29 MVO und Leitfaden Nr. 4 zu entnehmen; außerdem kann das „Tool for Uncertainty Assessment“ verwendet werden."}]
[]
[null,null,null,{"$f":"Translations!$B$490","v":"Berechnungsfaktoren:"}]
[]
[null,null,null,null,{"$f":"Translations!$B$491","v":"Gemäß Artikel 30 Absatz 1 können Berechnungsfaktoren entweder als Standardwerte oder als Analysewerte bestimmt werden. Welche der beiden Optionen herangezogen wird, wird durch die anwendbare Ebene bestimmt."}]
[null,null,null,null,{"$f":"Translations!$B$492","v":"Als Richtschnur für Sie werden die folgenden Ebenenkategorien verwendet (in Einklang mit Leitfaden Nr. 1):"}]
[null,null,null,null,{"$f":"Translations!$B$1172","v":"Standardwerte Typ I (Ebene 1):"},{"$f":"Translations!$B$1173","v":"Die Standardwerte Typ I umfassen eine der folgenden Methoden:"}]
[null,null,null,null,null,"-",{"$f":"Translations!$B$1174","v":"Verwendung der in Anhang VI aufgeführten Standardfaktoren (d. h. grundsätzlich IPCC-Werte) oder "}]
[null,null,null,null,null,"-",{"$f":"Translations!$B$1175","v":"Sind solche Standardfaktoren nicht verfügbar, sind andere konstante Werte nach Artikel 31 Absatz 1 Buchstabe e zu verwenden, d. h. durch früher durchgeführte, aber noch gültige Analysen ermittelte Werte."}]
[null,null,null,null,{"$f":"Translations!$B$1176","v":"Standardwerte Typ II (Ebene 2):"},{"$f":"Translations!$B$1177","v":"Die Standardwerte des Typs II umfassen eine der folgenden Methoden, die als äquivalent betrachtet werden:"}]
[null,null,null,null,null,"-",{"$f":"Translations!$B$1178","v":"Verwendung landesspezifischer Emissionsfaktoren nach Artikel 31 Absatz 1 Buchstabe b, d. h. die für die nationale THG-Inventur verwendeten Werte, oder "}]
[null,null,null,null,null,"-",{"$f":"Translations!$B$1179","v":"Verwendung anderer von der zuständigen Behörde veröffentlichter Werte für weniger stark aggregierte Brennstoffarten nach Artikel 31 Absatz 1 Buchstabe c oder anderer mit der zuständigen Behörde vereinbarter Literaturwerte oder "}]
[null,null,null,null,null,"-",{"$f":"Translations!$B$1180","v":"Verwendung anderer konstanter Werte nach Artikel 31 Absatz 1 Buchstabe d, d. h. die vom Lieferanten garantierten Werte mit einem Kohlenstoffgehalt von höchstens 1 % Unsicherheit."}]
[null,null,null,null,{"$f":"Translations!$B$1181","v":"Ermittelte Proxywerte (Ebene 2b): "},{"$f":"Translations!$B$498","v":"Diese Verfahren beruhen auf empirischen Korrelationen, die mindestens einmal jährlich in Einklang mit den Bestimmungen für Laboranalysen bestimmt werden. Diese Analysen werden allerdings nur einmal jährlich durchgeführt, weshalb diese Ebene als eine niedrigere Stufe gilt als vollständige Analysen. Die Proxy-Korrelationen können beruhen auf"}]
[null,null,null,null,null,"-",{"$f":"Translations!$B$499","v":"einer Dichtemessung bestimmter Öle oder Gase, einschließlich solcher, die üblicherweise in Raffinerien oder in der Stahlindustrie eingesetzt werden, oder"}]
[null,null,null,null,null,"-",{"$f":"Translations!$B$500","v":"dem unteren Heizwert bestimmter Kohlearten."}]
[null,null,null,null,{"$f":"Translations!$B$1182","v":"Rechnungsunterlagen (Ebene 2b): "},{"$f":"Translations!$B$502","v":"Der untere Heizwert kann aus den vom Treibstofflieferanten vorgelegten Rechnungsunterlagen hergeleitet werden, sofern er auf Basis von akzeptierten einzelstaatlichen oder internationalen Normen ermittelt wurde (gilt nur im Fall marktgängiger Brennstoffe)."}]
[null,null,null,null,{"$f":"Translations!$B$1183","v":"Laboranalysen (höchste Ebene): "},{"$f":"Translations!$B$1184","v":"In diesem Fall sind die Anforderungen der Artikel 32 bis 35 in Bezug auf Analysen uneingeschränkt anwendbar, einschließlich der Verwendung der „ermittelten Proxywerte“, sofern die Unsicherheit der empirischen Korrelation nicht mehr als 1/3 des Unsicherheitswerts für die anzuwendende Ebene für Tätigkeitsdaten beträgt. "}]
[null,null,null,null,null,{"$f":"Translations!$B$1185","v":"Bei reinen chemischen Stoffen kann die zuständige Behörde akzeptieren, dass der stöchiometrische Kohlenstoffgehalt als Einhaltung der Anforderungen einer Ebene betrachtet wird, die andernfalls Analysen erfordern würde, sofern der Anlagenbetreiber nachweisen kann, dass die Analysen zu unverhältnismäßigen Kosten und die Verwendung des stöchiometrischen Wertes nicht zur Unterschätzung der Emissionen führt."}]
[null,null,null,null,{"$f":"Translations!$B$1186","v":"Biomasseanteil Typ I (Ebene 1):"},{"$f":"Translations!$B$1187","v":"Es ist eine der beiden folgenden Methoden anzuwenden, die als äquivalent erachtet werden:"}]
[null,null,null,null,null,"-",{"$f":"Translations!$B$1188","v":"Verwendung der Werte, die von der zuständigen Behörde oder der Kommission für diese Art von Brennstoff oder Material veröffentlicht wurden, oder"}]
[null,null,null,null,null,"-",{"$f":"Translations!$B$1189","v":"Verwendung der Werte nach Artikel 31 Absatz 1, d. h. einen Standardwert Typ I."}]
[null,null,null,null,null,"-",{"$f":"Translations!$B$1190","v":"Alternativ kann der Betreiber durchgängig einen fossilen Anteil von 100 % annehmen. In diesem Fall wird keine Ebenenmethodik angewandt und es gilt ein Standardwert von 0 % Biomasseanteil. "}]
[null,null,null,null,null,"-",{"$f":"Translations!$B$1350","v":"Anwendung des Artikels 39 Absätze 3, 4 und 5 im Fall von Erdgasnetzen, in die Biogas oder RFNBO/RCF injiziert wird, d. h., wenn es die zuständige Behörde gestattet, für den Anteil mit einem Emissionsfaktor von Null anhand von Rechnungsunterlagen für Biogas oder RFNBO/RCF mit gleichwertigem Energiegehalt zu bestimmen."}]
[null,null,null,null,{"$f":"Translations!$B$1192","v":"Biomasseanteil Typ II (Ebene 2):"},{"$f":"Translations!$B$1351","v":"Der Biomasseanteil wird auf der Grundlage einer Schätzmethode in Einklang mit Artikel 39 Absatz 2 Unterabsatz 2 bestimmt, die der zuständigen Behörde zur Genehmigung vorgelegt wird, wobei alle von der Kommission veröffentlichte Leitlinien für weitere anwendbare Schätzmethoden zu berücksichtigen sind (siehe Leitfaden Nr. 3)."}]
[null,null,null,null,{"$f":"Translations!$B$1352","v":"Analyse des Biomasseanteils (Ebene 3a):"},{"$f":"Translations!$B$1197","v":"In diesem Fall sind Laboranalysen im Einklang mit Artikel 39 Absatz 2 Unterabsatz 1 und den Artikeln 32 bis 35 durchzuführen."}]
[null,null,null,null,{"$f":"Translations!$B$1353","v":"Massenbilanz für den Biomasseanteil (Ebene 3b):"},{"$f":"Translations!$B$1354","v":"Biomasse: Für Brennstoffe oder Materialien aus einem Produktionsprozess mit definierten und rückverfolgbaren Input-Stoffströmen kann der Anlagenbetreiber die Schätzung auf der Grundlage einer Massenbilanz des in den Prozess eingehenden oder ihn verlassenden fossilen und Biomassekohlenstoffs vornehmen, z. B. unter Verwendung des Massenbilanzsystem gemäß Artikel 30 Absatz 1 der Richtlinie (EU) 2018/2001."}]
[]
[null,null,null,null,{"$f":"Translations!$B$512","v":"Hinweis:"}]
[null,null,null,null,{"$f":"Translations!$B$513","v":"Die in nachstehender Tabelle vorgeschriebenen Ebenen betreffen stets emissionsstarke Stoffströme. Bitte entnehmen Sie der Textbox mit dem Ebenenhinweis im Kopfteil dieses Stoffstroms, ob geringere Anforderungen zulässig sind."}]
[null,null,null,null,{"$f":"Translations!$B$514","v":"In Einklang mit Artikel 26 Absatz 4 wendet der Inhaber für den Oxidationsfaktor und den Umsetzungsfaktor als Minimum die niedrigsten in Anhang II aufgeführten Ebenen an."}]
[]
[null,null,null,"(f)",{"$f":"Translations!$B$515","v":"Für die Berechnungsfaktoren angewandte Ebenen:"}]
[]
[null,null,null,null,{"$f":"Translations!$B$516","v":"Berechnungsfaktoren"},null,null,{"$f":"Translations!$B$517","v":"vorgeschrie-bene Ebene"},{"$f":"Translations!$B$518","v":"angewandte Ebene"},{"$f":"Translations!$B$519","v":"vollständiger Text für angewandte Ebene"},null,null,null,null,null,null,null,null,"full text tier",null,null,null,"cond. form."]
[null,null,null,"i.",{"$f":"Translations!$B$520","v":"Unterer Heizwert (Hu)"},null,null,{"$f":"IF(H21=\"\",\"\",IF(CNTR_Category=\"A\",INDEX(EUwideConstants!$G:$G,MATCH(Q138,EUwideConstants!$S:$S,0)),INDEX(EUwideConstants!$P:$P,MATCH(Q138,EUwideConstants!$S:$S,0))))","v":""},null,{"$f":"IF(OR(ISBLANK(I138),I138=EUconst_NoTier),\"\",IF(S138=0,EUconst_NotApplicable,IF(ISERROR(S138),\"\",S138)))","v":""},null,null,null,null,null,null,{"$f":"EUconst_CNTR_NCV&H21","v":"NCV_"},null,{"$f":"IF(ISBLANK(I138),\"\",IF(I138=EUconst_NA,\"\",INDEX(EUwideConstants!$H:$O,MATCH(Q138,EUwideConstants!$S:$S,0),MATCH(I138,CNTR_TierList,0))))","v":""},null,null,null,{"$f":"(H138=EUconst_NA)","v":false}]
[null,null,null,"ii.",{"$f":"Translations!$B$521","v":"(vorläufiger) Emissionsfaktor"},null,null,{"$f":"IF(H21=\"\",\"\",IF(CNTR_Category=\"A\",INDEX(EUwideConstants!$G:$G,MATCH(Q139,EUwideConstants!$S:$S,0)),INDEX(EUwideConstants!$P:$P,MATCH(Q139,EUwideConstants!$S:$S,0))))","v":""},null,"",null,null,null,null,null,null,{"$f":"EUconst_CNTR_EF&H21","v":"EF_"},null,{"$f":"IF(ISBLANK(I139),\"\",IF(I139=EUconst_NA,\"\",INDEX(EUwideConstants!$H:$O,MATCH(Q139,EUwideConstants!$S:$S,0),MATCH(I139,CNTR_TierList,0))))","v":""},null,null,null,false]
[null,null,null,"iii.",{"$f":"Translations!$B$522","v":"Oxidationsfaktor"},null,null,{"$f":"IF(H21=\"\",\"\",IF(CNTR_Category=\"A\",INDEX(EUwideConstants!$G:$G,MATCH(Q140,EUwideConstants!$S:$S,0)),INDEX(EUwideConstants!$P:$P,MATCH(Q140,EUwideConstants!$S:$S,0))))","v":""},null,"",null,null,null,null,null,null,{"$f":"EUconst_CNTR_OxidationFactor&H21","v":"OxF_"},null,{"$f":"IF(ISBLANK(I140),\"\",IF(I140=EUconst_NA,\"\",INDEX(EUwideConstants!$H:$O,MATCH(Q140,EUwideConstants!$S:$S,0),MATCH(I140,CNTR_TierList,0))))","v":""},null,null,null,false]
[null,null,null,"iv.",{"$f":"Translations!$B$523","v":"Umsetzungsfaktor"},null,null,{"$f":"IF(H21=\"\",\"\",IF(CNTR_Category=\"A\",INDEX(EUwideConstants!$G:$G,MATCH(Q141,EUwideConstants!$S:$S,0)),INDEX(EUwideConstants!$P:$P,MATCH(Q141,EUwideConstants!$S:$S,0))))","v":""},null,"",null,null,null,null,null,null,{"$f":"EUconst_CNTR_ConversionFactor&H21","v":"ConvF_"},null,{"$f":"IF(ISBLANK(I141),\"\",IF(I141=EUconst_NA,\"\",INDEX(EUwideConstants!$H:$O,MATCH(Q141,EUwideConstants!$S:$S,0),MATCH(I141,CNTR_TierList,0))))","v":""},null,null,null,false]
[null,null,null,"v.",{"$f":"Translations!$B$524","v":"Kohlenstoffgehalt"},null,null,{"$f":"IF(H21=\"\",\"\",IF(CNTR_Category=\"A\",INDEX(EUwideConstants!$G:$G,MATCH(Q142,EUwideConstants!$S:$S,0)),INDEX(EUwideConstants!$P:$P,MATCH(Q142,EUwideConstants!$S:$S,0))))","v":""},null,"",null,null,null,null,null,null,{"$f":"EUconst_CNTR_CarbonContent&H21","v":"CarbC_"},null,{"$f":"IF(ISBLANK(I142),\"\",IF(I142=EUconst_NA,\"\",INDEX(EUwideConstants!$H:$O,MATCH(Q142,EUwideConstants!$S:$S,0),MATCH(I142,CNTR_TierList,0))))","v":""},null,null,null,false]
[null,null,null,"vi.",{"$f":"Translations!$B$525","v":"Biomasseanteil (soweit zutreffend)"},null,null,{"$f":"IF(H21=\"\",\"\",IF(CNTR_Category=\"A\",INDEX(EUwideConstants!$G:$G,MATCH(Q143,EUwideConstants!$S:$S,0)),INDEX(EUwideConstants!$P:$P,MATCH(Q143,EUwideConstants!$S:$S,0))))","v":""},null,"",null,null,null,null,null,null,{"$f":"EUconst_CNTR_BiomassContent&H21","v":"BioC_"},null,{"$f":"IF(ISBLANK(I143),\"\",IF(I143=EUconst_NA,\"\",INDEX(EUwideConstants!$H:$O,MATCH(Q143,EUwideConstants!$S:$S,0),MATCH(I143,CNTR_TierList,0))))","v":""},null,null,null,false]
["HIDE_Example",null,null,{"$f":"Translations!$B$452","v":"Beispieldaten:"}]
["HIDE_Example",null,null,null,{"$f":"Translations!$B$516","v":"Berechnungsfaktoren"},null,null,{"$f":"Translations!$B$517","v":"vorgeschrie-bene Ebene"},{"$f":"Translations!$B$518","v":"angewandte Ebene"},{"$f":"Translations!$B$526","v":"vollständiger Text für angewandte Ebene"},null,null,null,null,null,null,null,null,"full text tier",null,null,null,"cond. form."]
["HIDE_Example",null,null,"i.",{"$f":"Translations!$B$520","v":"Unterer Heizwert (Hu)"},null,null,"2a/2b",3,{"$f":"Translations!$B$527","v":"Laboranalysen"},null,null,null,null,null,null,null,null,null,null,null,null,{"$f":"(H146=EUconst_NA)","v":false}]
["HIDE_Example",null,null,"ii.",{"$f":"Translations!$B$521","v":"(vorläufiger) Emissionsfaktor"},null,null,"2a/2b",3,{"$f":"Translations!$B$527","v":"Laboranalysen"},null,null,null,null,null,null,null,null,null,null,null,null,false]
["HIDE_Example",null,null,"iii.",{"$f":"Translations!$B$522","v":"Oxidationsfaktor"},null,null,1,1,{"$f":"Translations!$B$529","v":"Standardwert OF = 1 "},null,null,null,null,null,null,null,null,null,null,null,null,false]
["HIDE_Example",null,null,"iv.",{"$f":"Translations!$B$523","v":"Umsetzungsfaktor"},null,null,{"$f":"Translations!$B$530","v":"n.r."},null,"",null,null,null,null,null,null,null,null,null,null,null,null,true]
["HIDE_Example",null,null,"v.",{"$f":"Translations!$B$524","v":"Kohlenstoffgehalt"},null,null,{"$f":"Translations!$B$530","v":"n.r."},null,"",null,null,null,null,null,null,null,null,null,null,null,null,true]
["HIDE_Example",null,null,"vi.",{"$f":"Translations!$B$525","v":"Biomasseanteil (soweit zutreffend)"},null,null,"",{"$f":"Translations!$B$530","v":"n.r."},"",null,null,null,null,null,null,null,null,null,null,null,null,false]
[]
[null,null,null,null,{"$f":"Translations!$B$531","v":"Je nach der gewählten Ebene (Standardwerte oder Laboranalysen) müssen Sie gegebenenfalls zu jedem Berechnungsfaktor folgende Angaben machen:"}]
[null,null,null,null,{"$f":"Translations!$B$532","v":"Bei Verwendung eines Standardwerts geben Sie bitte den Wert, die Einheit und die Literaturquelle mit Verweis auf die Tabelle in Abschnitt 7 Buchstabe d des vorherigen Arbeitsblattes an. Der Wert sollte den konstanten Wert zum Zeitpunkt der Übermittlung des Monitoringkonzepts widerspiegeln."}]
[null,null,null,null,{"$f":"Translations!$B$533","v":"Ist eine Laboranalyse erforderlich, geben Sie bitte das Analyseverfahren bzw. das Labor mit Verweis auf die Tabelle in Abschnitt 7 Buchstabe e des vorherigen Arbeitsblattes, einen Verweis auf Ihren Probenahmeplan und die anzuwendende Analysehäufigkeit an."}]
[]
[null,null,null,"(g)",{"$f":"Translations!$B$534","v":"Einzelheiten zu den Berechnungsfaktoren:"}]
[]
[null,null,null,null,{"$f":"E137","v":"Berechnungsfaktoren"},null,null,{"$f":"I137","v":"angewandte Ebene"},{"$f":"Translations!$B$535","v":"Standard-wert"},{"$f":"Translations!$B$536","v":"Einheit"},{"$f":"Translations!$B$537","v":"Ref. Quelle"},{"$f":"Translations!$B$538","v":"Ref. Analyse"},{"$f":"Translations!$B$539","v":"Ref. Probenahmeplan"},{"$f":"Translations!$B$540","v":"Analyse-häufigkeit"},null,null,null,null,"default value or lab",null,null,null,"cond. form."]
[null,null,null,"i.","Unterer Heizwert (Hu)",null,null,{"$f":"IF(OR(ISBLANK(I138),I138=EUconst_NA),\"\",I138)","v":""},null,null,null,null,null,null,null,null,null,null,{"$f":"IF(H160=\"\",\"\",IF(I138=EUconst_NA,\"\",INDEX(EUwideConstants!$AL:$AR,MATCH(Q138,EUwideConstants!$S:$S,0),MATCH(I138,CNTR_TierList,0))))","v":""},null,null,null,{"$f":"OR(H160=\"\",H160=EUconst_NA,J138=EUconst_NotApplicable)","v":true}]
[null,null,null,"ii.","(vorläufiger) Emissionsfaktor",null,null,"",null,null,null,null,null,null,null,null,null,null,{"$f":"IF(H161=\"\",\"\",IF(I139=EUconst_NA,\"\",INDEX(EUwideConstants!$AL:$AR,MATCH(Q139,EUwideConstants!$S:$S,0),MATCH(I139,CNTR_TierList,0))))","v":""},null,null,null,true]
[null,null,null,"iii.","Oxidationsfaktor",null,null,"",null,null,null,null,null,null,null,null,null,null,{"$f":"IF(H162=\"\",\"\",IF(I140=EUconst_NA,\"\",INDEX(EUwideConstants!$AL:$AR,MATCH(Q140,EUwideConstants!$S:$S,0),MATCH(I140,CNTR_TierList,0))))","v":""},null,null,null,true]
[null,null,null,"iv.","Umsetzungsfaktor",null,null,"",null,null,null,null,null,null,null,null,null,null,{"$f":"IF(H163=\"\",\"\",IF(I141=EUconst_NA,\"\",INDEX(EUwideConstants!$AL:$AR,MATCH(Q141,EUwideConstants!$S:$S,0),MATCH(I141,CNTR_TierList,0))))","v":""},null,null,null,true]
[null,null,null,"v.","Kohlenstoffgehalt",null,null,"",null,null,null,null,null,null,null,null,null,null,{"$f":"IF(H164=\"\",\"\",IF(I142=EUconst_NA,\"\",INDEX(EUwideConstants!$AL:$AR,MATCH(Q142,EUwideConstants!$S:$S,0),MATCH(I142,CNTR_TierList,0))))","v":""},null,null,null,true]
[null,null,null,"vi.","Biomasseanteil (soweit zutreffend)",null,null,"",null,null,null,null,null,null,null,null,null,null,{"$f":"IF(H165=\"\",\"\",IF(I143=EUconst_NA,\"\",INDEX(EUwideConstants!$AL:$AR,MATCH(Q143,EUwideConstants!$S:$S,0),MATCH(I143,CNTR_TierList,0))))","v":""},null,null,null,true]
["HIDE_Example",null,null,{"$f":"Translations!$B$452","v":"Beispieldaten:"}]
["HIDE_Example",null,null,null,{"$f":"E159","v":"Berechnungsfaktoren"},null,null,{"$f":"H159","v":"angewandte Ebene"},{"$f":"I159","v":"Standard-wert"},"Einheit","Ref. Quelle","Ref. Analyse","Ref. Probenahmeplan","Analyse-häufigkeit",null,null,null,null,null,null,null,null,"cond. form."]
["HIDE_Example",null,null,"i.",{"$f":"E160","v":"Unterer Heizwert (Hu)"},null,null,3,null,null,null,"L1, L3",{"$f":"Translations!$B$541","v":"HU_Probe"},{"$f":"Translations!$B$542","v":"Wöchentlich"},null,null,null,null,null,null,null,null,{"$f":"OR(H168=\"\",H168=EUconst_NA,J154=EUconst_NotApplicable)","v":false}]
["HIDE_Example",null,null,"ii.","(vorläufiger) Emissionsfaktor",null,null,"2a","74.1","t CO2 / TJ",{"$f":"Translations!$B$543","v":"IQ5: IPCC"},null,null,null,null,null,null,null,null,null,null,null,false]
["HIDE_Example",null,null,"iii.","Oxidationsfaktor",null,null,1,100,"%",{"$f":"Translations!$B$544","v":"IQ1: MVO"},null,null,null,null,null,null,null,null,null,null,null,false]
["HIDE_Example",null,null,"iv.","Umsetzungsfaktor",null,null,null,null,null,null,null,null,null,null,null,null,null,null,null,null,null,true]
["HIDE_Example",null,null,"v.","Kohlenstoffgehalt",null,null,null,null,null,null,null,null,null,null,null,null,null,null,null,null,null,true]
["HIDE_Example",null,null,"vi.","Biomasseanteil (soweit zutreffend)",null,null,null,null,null,null,null,null,null,null,null,null,null,null,null,null,null,true]
[]
[null,null,null,{"$f":"Translations!$B$545","v":"Anmerkungen und Erklärungen:"}]
[]
[null,null,null,"(h)",{"$f":"Translations!$B$1198","v":"Anmerkungen oder Begründung für Nichtanwendung der vorgeschriebenen Ebene:"}]
[null,null,null,null,{"$f":"Translations!$B$1199","v":"Bitte geben Sie hier sachdienliche Anmerkungen ein. Erklärungen können insbesondere erforderlich sein in Bezug auf die Methodik zur Schätzung des Biomasseanteils, die Proxymethodik (Korrelation), die Anwendung von Artikel 31 Absatz 4, Artikel 37 Absatz 2 usw."}]
[null,null,null,null,{"$f":"Translations!$B$549","v":"Wird eine der gemäß Artikel 26 vorgeschriebenen Ebenen für Tätigkeitsdaten oder einen anwendbaren Berechnungsfaktor nicht angewandt, begründen Sie hier bitte, warum."}]
[null,null,null,null,{"$f":"Translations!$B$550","v":"Ist gemäß Artikel 26 ein Verbesserungsplan erforderlich, so sollte dieser zusammen mit diesem Monitoringkonzept und den Anlagen eingereicht werden. Werden gemäß Artikel 18 als Begründung unverhältnismäßige Kosten angeführt, so sollte deren Berechnung zusammen mit diesem Monitoringkonzept eingereicht und in der Begründung darauf Bezug genommen werden."}]
[]
[]
[]
[]
[]
[null,null,null,null,null,null,null,null,null,null,null,null,null,null,null,null,null,null,"Check source stream category","auto","manual"]
[null,null,{"$f":"\"S\"&Q187","v":"S2"},{"$f":"CONCATENATE(Euconst_SourceStream,\" \", Q187,\":\")","v":"Stoffstrom 2:"},null,null,null,{"$f":"IF(INDEX(C_InstallationDescription!$I$194:$I$204,MATCH(C187,C_InstallationDescription!$E$194:$E$204,0))>0,INDEX(C_InstallationDescription!$I$194:$I$204,MATCH(C187,C_InstallationDescription!$E$194:$E$204,0)),\"\")","v":""},null,null,null,null,{"$f":"IF(S187=TRUE,IF(U187=\"\",T187,U187),\"\")","v":""},null,null,null,{"$f":"Q19+1","v":2},null,{"$f":"IF(INDEX(C_InstallationDescription!$M:$M,MATCH(Q189,C_InstallationDescription!$Q:$Q,0))=\"\",FALSE,TRUE)","v":false},{"$f":"IF(S187=TRUE,INDEX(C_InstallationDescription!$M:$M,MATCH(Q189,C_InstallationDescription!$Q:$Q,0)),\"\")","v":""},{"$f":"IF(S187=TRUE,IF(ISBLANK(INDEX(C_InstallationDescription!$N:$N,MATCH(Q189,C_InstallationDescription!$Q:$Q,0))),\"\",INDEX(C_InstallationDescription!$N:$N,MATCH(Q189,C_InstallationDescription!$Q:$Q,0))),\"\")","v":""}]
[]
[null,null,null,null,{"$f":"Translations!$B$437","v":"Stoffstromtyp:"},null,null,{"$f":"IF(INDEX(C_InstallationDescription!$F$194:$F$204,MATCH(C187,C_InstallationDescription!$E$194:$E$204,0))>0,INDEX(C_InstallationDescription!$F$194:$F$204,MATCH(C187,C_InstallationDescription!$E$194:$E$204,0)),\"\")","v":""},null,null,null,null,null,null,null,null,{"$f":"EUconst_CNTR_SourceCategory&C187","v":"SourceCategory_S2"}]
[null,null,null,null,{"$f":"Translations!$B$438","v":"Anwendbares Verfahren gemäß MVO:"},null,null,{"$f":"IF(H189=\"\",\"\",INDEX(EUwideConstants!F:F,MATCH(H189,EUwideConstants!Q:Q,0)))","v":""}]
[null,null,null,null,{"$f":"Translations!$B$439","v":"Parameter, für die die Unsicherheit gilt:"},null,null,{"$f":"IF(H189=\"\",\"\",INDEX(EUwideConstants!E:E,MATCH(H189,EUwideConstants!Q:Q,0)))","v":""}]
[]
[null,null,null,null,{"$f":"IF(H187=\"\",\"\",INDEX(EUconst_SmallEmiSouStreamMsg,MATCH(Q193,EUconst_SmallEmiSouStream,0)))","v":""},null,null,null,null,null,null,null,null,null,null,null,{"$f":"IF(CNTR_SmallEmitter=TRUE,EUconst_CNTR_SmallEmitter,EUconst_CNTR_NoSmallEmitter) & IF((CNTR_Category)=\"\",\"C\",CNTR_Category) & \"_\" & IF(M187=\"\",1,MATCH(M187,SourceCategory,0))","v":"NoSmallEmitter_C_1"}]
[]
[null,null,null,{"$f":"Translations!$B$454","v":"Tätigkeitsdaten:"}]
[]
[null,null,null,"(a)",{"$f":"Translations!$B$455","v":"Verfahren zur Bestimmung der Tätigkeitsdaten:"}]
[]
[null,null,null,"i.",{"$f":"Translations!$B$456","v":"Bestimmungsverfahren:"},null,null,null,null,null,null,null,null,null,null,null,null,null,null,null,null,null,{"$f":"IF(M187=\"\",\"\",IF(M187=INDEX(SourceCategory,3),1,IF(CNTR_InstHasCalculation=FALSE,0,2)))","v":""}]
[]
[null,null,null,null,null,{"$f":"Translations!$B$459","v":"Verweis auf Verfahren für die Bestandsbestimmung am Jahresende:"},null,null,null,null,null,null,null,null,null,null,null,null,null,null,null,{"$f":"IF(OR(H187=\"\",ISBLANK(H199)),FALSE,IF(MATCH(H199,EUconst_ActivityDeterminationMethod,0)=2,TRUE,FALSE))","v":false},{"$f":"IF(V201=TRUE,0,W199)","v":""}]
[]
[null,null,null,"ii.",{"$f":"Translations!$B$462","v":"Gerät unter Kontrolle des "},null,null,null,null,null,null,null,null,null,null,null,null,null,null,null,null,null,{"$f":"W199","v":""}]
[]
[null,null,null,null,"a.",{"$f":"Translations!$B$465","v":"Bitte bestätigen Sie, dass die Bedingungen des Artikels 29 Absatz 2 erfüllt sind:"},null,null,null,null,null,null,null,null,null,null,null,null,null,null,null,{"$f":"IF(OR(H187=\"\",ISBLANK(H203)),FALSE,IF(MATCH(H203,EUconst_OwnerInstrument,0)=1,TRUE,FALSE))","v":false},{"$f":"IF(V205=TRUE,0,W199)","v":""}]
[]
[null,null,null,null,"b.",{"$f":"Translations!$B$468","v":"Bestimmen Sie die Brennstoff- oder Materialienmenge anhand von Rechnungen?"},null,null,null,null,null,null,null,null,null,null,null,null,null,null,null,{"$f":"IF(OR(H187=\"\",ISBLANK(H203)),FALSE,IF(MATCH(H203,EUconst_OwnerInstrument,0)=1,TRUE,FALSE))","v":false},{"$f":"IF(V207=TRUE,0,W199)","v":""}]
[]
[null,null,null,null,"c.",{"$f":"Translations!$B$469","v":"Bitte bestätigen Sie, dass Handelspartner und Inhaber voneinander unabhängig sind:"},null,null,null,null,null,null,null,null,null,null,null,null,null,null,null,{"$f":"IF(OR(H187=\"\",ISBLANK(H203)),FALSE,IF(MATCH(H203,EUconst_OwnerInstrument,0)=1,TRUE,FALSE))","v":false},{"$f":"IF(V209=TRUE,0,W199)","v":""}]
[]
[null,null,null,"(b)",{"$f":"Translations!$B$472","v":"Verwendete Messgeräte:"}]
[]
[null,null,null,null,{"$f":"Translations!$B$475","v":"Anmerkung / Beschreibung des Vorgehens, wenn mehrere Geräte verwendet werden:"}]
[]
[]
[]
[]
[null,null,null,"(c)",{"$f":"Translations!$B$477","v":"Vorgeschriebene Ebene Tätigkeitsdaten:"},null,null,{"$f":"IF(H189=\"\",\"\",IF(CNTR_Category=\"A\",INDEX(EUwideConstants!$G:$G,MATCH(Q218,EUwideConstants!$S:$S,0)),INDEX(EUwideConstants!$P:$P,MATCH(Q218,EUwideConstants!$S:$S,0))))","v":""},{"$f":"IF(H218=\"\",\"\",IF(S218=0,EUconst_NA,IF(ISERROR(S218),\"\",EUconst_MsgTierActivityLevel & \" \" &S218)))","v":""},null,null,null,null,null,null,null,{"$f":"EUconst_CNTR_ActivityData&H189","v":"ActivityData_"},null,{"$f":"IF(H218=\"\",\"\",IF(H218=EUconst_NA,\"\",INDEX(EUwideConstants!$H:$O,MATCH(Q218,EUwideConstants!$S:$S,0),MATCH(H218,CNTR_TierList,0))))","v":""}]
[null,null,null,"(d)",{"$f":"Translations!$B$478","v":"Angewandte Ebene Tätigkeitsdaten:"},null,null,null,{"$f":"IF(OR(ISBLANK(H219),H219=EUconst_NoTier),\"\",IF(S219=0,EUconst_NA,IF(ISERROR(S219),\"\",EUconst_MsgTierActivityLevel & \" \" &S219)))","v":""},null,null,null,null,null,null,null,{"$f":"EUconst_CNTR_ActivityData&H189","v":"ActivityData_"},null,{"$f":"IF(ISBLANK(H219),\"\",IF(H219=EUconst_NA,\"\",INDEX(EUwideConstants!$H:$O,MATCH(Q219,EUwideConstants!$S:$S,0),MATCH(H219,CNTR_TierList,0))))","v":""}]
[null,null,null,"(e)",{"$f":"Translations!$B$479","v":"Erreichte Unsicherheit:"},null,null,null,{"$f":"Translations!$B$480","v":"Anmerkung:"}]
[]
[null,null,null,{"$f":"Translations!$B$490","v":"Berechnungsfaktoren:"}]
[]
[null,null,null,"(f)",{"$f":"Translations!$B$515","v":"Für die Berechnungsfaktoren angewandte Ebenen:"}]
[]
[null,null,null,null,{"$f":"Translations!$B$516","v":"Berechnungsfaktoren"},null,null,{"$f":"Translations!$B$517","v":"vorgeschrie-bene Ebene"},{"$f":"Translations!$B$518","v":"angewandte Ebene"},{"$f":"Translations!$B$519","v":"vollständiger Text für angewandte Ebene"},null,null,null,null,null,null,null,null,"full text tier",null,null,null,"cond. form."]
[null,null,null,"i.",{"$f":"Translations!$B$520","v":"Unterer Heizwert (Hu)"},null,null,{"$f":"IF(H189=\"\",\"\",IF(CNTR_Category=\"A\",INDEX(EUwideConstants!$G:$G,MATCH(Q227,EUwideConstants!$S:$S,0)),INDEX(EUwideConstants!$P:$P,MATCH(Q227,EUwideConstants!$S:$S,0))))","v":""},null,{"$f":"IF(OR(ISBLANK(I227),I227=EUconst_NoTier),\"\",IF(S227=0,EUconst_NotApplicable,IF(ISERROR(S227),\"\",S227)))","v":""},null,null,null,null,null,null,{"$f":"EUconst_CNTR_NCV&H189","v":"NCV_"},null,{"$f":"IF(ISBLANK(I227),\"\",IF(I227=EUconst_NA,\"\",INDEX(EUwideConstants!$H:$O,MATCH(Q227,EUwideConstants!$S:$S,0),MATCH(I227,CNTR_TierList,0))))","v":""},null,null,null,{"$f":"(H227=EUconst_NA)","v":false}]
[null,null,null,"ii.",{"$f":"Translations!$B$521","v":"(vorläufiger) Emissionsfaktor"},null,null,{"$f":"IF(H189=\"\",\"\",IF(CNTR_Category=\"A\",INDEX(EUwideConstants!$G:$G,MATCH(Q228,EUwideConstants!$S:$S,0)),INDEX(EUwideConstants!$P:$P,MATCH(Q228,EUwideConstants!$S:$S,0))))","v":""},null,"",null,null,null,null,null,null,{"$f":"EUconst_CNTR_EF&H189","v":"EF_"},null,{"$f":"IF(ISBLANK(I228),\"\",IF(I228=EUconst_NA,\"\",INDEX(EUwideConstants!$H:$O,MATCH(Q228,EUwideConstants!$S:$S,0),MATCH(I228,CNTR_TierList,0))))","v":""},null,null,null,false]
[null,null,null,"iii.",{"$f":"Translations!$B$522","v":"Oxidationsfaktor"},null,null,{"$f":"IF(H189=\"\",\"\",IF(CNTR_Category=\"A\",INDEX(EUwideConstants!$G:$G,MATCH(Q229,EUwideConstants!$S:$S,0)),INDEX(EUwideConstants!$P:$P,MATCH(Q229,EUwideConstants!$S:$S,0))))","v":""},null,"",null,null,null,null,null,null,{"$f":"EUconst_CNTR_OxidationFactor&H189","v":"OxF_"},null,{"$f":"IF(ISBLANK(I229),\"\",IF(I229=EUconst_NA,\"\",INDEX(EUwideConstants!$H:$O,MATCH(Q229,EUwideConstants!$S:$S,0),MATCH(I229,CNTR_TierList,0))))","v":""},null,null,null,false]
[null,null,null,"iv.",{"$f":"Translations!$B$523","v":"Umsetzungsfaktor"},null,null,{"$f":"IF(H189=\"\",\"\",IF(CNTR_Category=\"A\",INDEX(EUwideConstants!$G:$G,MATCH(Q230,EUwideConstants!$S:$S,0)),INDEX(EUwideConstants!$P:$P,MATCH(Q230,EUwideConstants!$S:$S,0))))","v":""},null,"",null,null,null,null,null,null,{"$f":"EUconst_CNTR_ConversionFactor&H189","v":"ConvF_"},null,{"$f":"IF(ISBLANK(I230),\"\",IF(I230=EUconst_NA,\"\",INDEX(EUwideConstants!$H:$O,MATCH(Q230,EUwideConstants!$S:$S,0),MATCH(I230,CNTR_TierList,0))))","v":""},null,null,null,false]
[null,null,null,"v.",{"$f":"Translations!$B$524","v":"Kohlenstoffgehalt"},null,null,{"$f":"IF(H189=\"\",\"\",IF(CNTR_Category=\"A\",INDEX(EUwideConstants!$G:$G,MATCH(Q231,EUwideConstants!$S:$S,0)),INDEX(EUwideConstants!$P:$P,MATCH(Q231,EUwideConstants!$S:$S,0))))","v":""},null,"",null,null,null,null,null,null,{"$f":"EUconst_CNTR_CarbonContent&H189","v":"CarbC_"},null,{"$f":"IF(ISBLANK(I231),\"\",IF(I231=EUconst_NA,\"\",INDEX(EUwideConstants!$H:$O,MATCH(Q231,EUwideConstants!$S:$S,0),MATCH(I231,CNTR_TierList,0))))","v":""},null,null,null,false]
[null,null,null,"vi.",{"$f":"Translations!$B$525","v":"Biomasseanteil (soweit zutreffend)"},null,null,{"$f":"IF(H189=\"\",\"\",IF(CNTR_Category=\"A\",INDEX(EUwideConstants!$G:$G,MATCH(Q232,EUwideConstants!$S:$S,0)),INDEX(EUwideConstants!$P:$P,MATCH(Q232,EUwideConstants!$S:$S,0))))","v":""},null,"",null,null,null,null,null,null,{"$f":"EUconst_CNTR_BiomassContent&H189","v":"BioC_"},null,{"$f":"IF(ISBLANK(I232),\"\",IF(I232=EUconst_NA,\"\",INDEX(EUwideConstants!$H:$O,MATCH(Q232,EUwideConstants!$S:$S,0),MATCH(I232,CNTR_TierList,0))))","v":""},null,null,null,false]
[]
[null,null,null,"(g)",{"$f":"Translations!$B$534","v":"Einzelheiten zu den Berechnungsfaktoren:"}]
[]
[null,null,null,null,{"$f":"E226","v":"Berechnungsfaktoren"},null,null,{"$f":"I226","v":"angewandte Ebene"},{"$f":"Translations!$B$535","v":"Standard-wert"},{"$f":"Translations!$B$536","v":"Einheit"},{"$f":"Translations!$B$537","v":"Ref. Quelle"},{"$f":"Translations!$B$538","v":"Ref. Analyse"},{"$f":"Translations!$B$539","v":"Ref. Probenahmeplan"},{"$f":"Translations!$B$540","v":"Analyse-häufigkeit"},null,null,null,null,"default value or lab",null,null,null,"cond. form."]
[null,null,null,"i.","Unterer Heizwert (Hu)",null,null,{"$f":"IF(OR(ISBLANK(I227),I227=EUconst_NA),\"\",I227)","v":""},null,null,null,null,null,null,null,null,null,null,{"$f":"IF(H237=\"\",\"\",IF(I227=EUconst_NA,\"\",INDEX(EUwideConstants!$AL:$AR,MATCH(Q227,EUwideConstants!$S:$S,0),MATCH(I227,CNTR_TierList,0))))","v":""},null,null,null,{"$f":"OR(H237=\"\",H237=EUconst_NA,J227=EUconst_NotApplicable)","v":true}]
[null,null,null,"ii.","(vorläufiger) Emissionsfaktor",null,null,"",null,null,null,null,null,null,null,null,null,null,{"$f":"IF(H238=\"\",\"\",IF(I228=EUconst_NA,\"\",INDEX(EUwideConstants!$AL:$AR,MATCH(Q228,EUwideConstants!$S:$S,0),MATCH(I228,CNTR_TierList,0))))","v":""},null,null,null,true]
[null,null,null,"iii.","Oxidationsfaktor",null,null,"",null,null,null,null,null,null,null,null,null,null,{"$f":"IF(H239=\"\",\"\",IF(I229=EUconst_NA,\"\",INDEX(EUwideConstants!$AL:$AR,MATCH(Q229,EUwideConstants!$S:$S,0),MATCH(I229,CNTR_TierList,0))))","v":""},null,null,null,true]
[null,null,null,"iv.","Umsetzungsfaktor",null,null,"",null,null,null,null,null,null,null,null,null,null,{"$f":"IF(H240=\"\",\"\",IF(I230=EUconst_NA,\"\",INDEX(EUwideConstants!$AL:$AR,MATCH(Q230,EUwideConstants!$S:$S,0),MATCH(I230,CNTR_TierList,0))))","v":""},null,null,null,true]
[null,null,null,"v.","Kohlenstoffgehalt",null,null,"",null,null,null,null,null,null,null,null,null,null,{"$f":"IF(H241=\"\",\"\",IF(I231=EUconst_NA,\"\",INDEX(EUwideConstants!$AL:$AR,MATCH(Q231,EUwideConstants!$S:$S,0),MATCH(I231,CNTR_TierList,0))))","v":""},null,null,null,true]
[null,null,null,"vi.","Biomasseanteil (soweit zutreffend)",null,null,"",null,null,null,null,null,null,null,null,null,null,{"$f":"IF(H242=\"\",\"\",IF(I232=EUconst_NA,\"\",INDEX(EUwideConstants!$AL:$AR,MATCH(Q232,EUwideConstants!$S:$S,0),MATCH(I232,CNTR_TierList,0))))","v":""},null,null,null,true]
[]
[null,null,null,{"$f":"Translations!$B$545","v":"Anmerkungen und Erklärungen:"}]
[]
[null,null,null,"(h)",{"$f":"Translations!$B$1198","v":"Anmerkungen oder Begründung für Nichtanwendung der vorgeschriebenen Ebene:"}]
[]
[]
[]
[]
[]
[null,null,null,null,null,null,null,null,null,null,null,null,null,null,null,null,null,null,"Check source stream category","auto","manual"]
[null,null,{"$f":"\"S\"&Q253","v":"S3"},{"$f":"CONCATENATE(Euconst_SourceStream,\" \", Q253,\":\")","v":"Stoffstrom 3:"},null,null,null,{"$f":"IF(INDEX(C_InstallationDescription!$I$194:$I$204,MATCH(C253,C_InstallationDescription!$E$194:$E$204,0))>0,INDEX(C_InstallationDescription!$I$194:$I$204,MATCH(C253,C_InstallationDescription!$E$194:$E$204,0)),\"\")","v":""},null,null,null,null,{"$f":"IF(S253=TRUE,IF(U253=\"\",T253,U253),\"\")","v":""},null,null,null,{"$f":"Q187+1","v":3},null,{"$f":"IF(INDEX(C_InstallationDescription!$M:$M,MATCH(Q255,C_InstallationDescription!$Q:$Q,0))=\"\",FALSE,TRUE)","v":false},{"$f":"IF(S253=TRUE,INDEX(C_InstallationDescription!$M:$M,MATCH(Q255,C_InstallationDescription!$Q:$Q,0)),\"\")","v":""},{"$f":"IF(S253=TRUE,IF(ISBLANK(INDEX(C_InstallationDescription!$N:$N,MATCH(Q255,C_InstallationDescription!$Q:$Q,0))),\"\",INDEX(C_InstallationDescription!$N:$N,MATCH(Q255,C_InstallationDescription!$Q:$Q,0))),\"\")","v":""}]
[]
[null,null,null,null,{"$f":"Translations!$B$437","v":"Stoffstromtyp:"},null,null,{"$f":"IF(INDEX(C_InstallationDescription!$F$194:$F$204,MATCH(C253,C_InstallationDescription!$E$194:$E$204,0))>0,INDEX(C_InstallationDescription!$F$194:$F$204,MATCH(C253,C_InstallationDescription!$E$194:$E$204,0)),\"\")","v":""},null,null,null,null,null,null,null,null,{"$f":"EUconst_CNTR_SourceCategory&C253","v":"SourceCategory_S3"}]
[null,null,null,null,{"$f":"Translations!$B$438","v":"Anwendbares Verfahren gemäß MVO:"},null,null,{"$f":"IF(H255=\"\",\"\",INDEX(EUwideConstants!F:F,MATCH(H255,EUwideConstants!Q:Q,0)))","v":""}]
[null,null,null,null,{"$f":"Translations!$B$439","v":"Parameter, für die die Unsicherheit gilt:"},null,null,{"$f":"IF(H255=\"\",\"\",INDEX(EUwideConstants!E:E,MATCH(H255,EUwideConstants!Q:Q,0)))","v":""}]
[]
[null,null,null,null,{"$f":"IF(H253=\"\",\"\",INDEX(EUconst_SmallEmiSouStreamMsg,MATCH(Q259,EUconst_SmallEmiSouStream,0)))","v":""},null,null,null,null,null,null,null,null,null,null,null,{"$f":"IF(CNTR_SmallEmitter=TRUE,EUconst_CNTR_SmallEmitter,EUconst_CNTR_NoSmallEmitter) & IF((CNTR_Category)=\"\",\"C\",CNTR_Category) & \"_\" & IF(M253=\"\",1,MATCH(M253,SourceCategory,0))","v":"NoSmallEmitter_C_1"}]
[]
[null,null,null,{"$f":"Translations!$B$454","v":"Tätigkeitsdaten:"}]
[]
[null,null,null,"(a)",{"$f":"Translations!$B$455","v":"Verfahren zur Bestimmung der Tätigkeitsdaten:"}]
[]
[null,null,null,"i.",{"$f":"Translations!$B$456","v":"Bestimmungsverfahren:"},null,null,null,null,null,null,null,null,null,null,null,null,null,null,null,null,null,{"$f":"IF(M253=\"\",\"\",IF(M253=INDEX(SourceCategory,3),1,IF(CNTR_InstHasCalculation=FALSE,0,2)))","v":""}]
[]
[null,null,null,null,null,{"$f":"Translations!$B$459","v":"Verweis auf Verfahren für die Bestandsbestimmung am Jahresende:"},null,null,null,null,null,null,null,null,null,null,null,null,null,null,null,{"$f":"IF(OR(H253=\"\",ISBLANK(H265)),FALSE,IF(MATCH(H265,EUconst_ActivityDeterminationMethod,0)=2,TRUE,FALSE))","v":false},{"$f":"IF(V267=TRUE,0,W265)","v":""}]
[]
[null,null,null,"ii.",{"$f":"Translations!$B$462","v":"Gerät unter Kontrolle des "},null,null,null,null,null,null,null,null,null,null,null,null,null,null,null,null,null,{"$f":"W265","v":""}]
[]
[null,null,null,null,"a.",{"$f":"Translations!$B$465","v":"Bitte bestätigen Sie, dass die Bedingungen des Artikels 29 Absatz 2 erfüllt sind:"},null,null,null,null,null,null,null,null,null,null,null,null,null,null,null,{"$f":"IF(OR(H253=\"\",ISBLANK(H269)),FALSE,IF(MATCH(H269,EUconst_OwnerInstrument,0)=1,TRUE,FALSE))","v":false},{"$f":"IF(V271=TRUE,0,W265)","v":""}]
[]
[null,null,null,null,"b.",{"$f":"Translations!$B$468","v":"Bestimmen Sie die Brennstoff- oder Materialienmenge anhand von Rechnungen?"},null,null,null,null,null,null,null,null,null,null,null,null,null,null,null,{"$f":"IF(OR(H253=\"\",ISBLANK(H269)),FALSE,IF(MATCH(H269,EUconst_OwnerInstrument,0)=1,TRUE,FALSE))","v":false},{"$f":"IF(V273=TRUE,0,W265)","v":""}]
[]
[null,null,null,null,"c.",{"$f":"Translations!$B$469","v":"Bitte bestätigen Sie, dass Handelspartner und Inhaber voneinander unabhängig sind:"},null,null,null,null,null,null,null,null,null,null,null,null,null,null,null,{"$f":"IF(OR(H253=\"\",ISBLANK(H269)),FALSE,IF(MATCH(H269,EUconst_OwnerInstrument,0)=1,TRUE,FALSE))","v":false},{"$f":"IF(V275=TRUE,0,W265)","v":""}]
[]
[null,null,null,"(b)",{"$f":"Translations!$B$472","v":"Verwendete Messgeräte:"}]
[]
[null,null,null,null,{"$f":"Translations!$B$475","v":"Anmerkung / Beschreibung des Vorgehens, wenn mehrere Geräte verwendet werden:"}]
[]
[]
[]
[]
[null,null,null,"(c)",{"$f":"Translations!$B$477","v":"Vorgeschriebene Ebene Tätigkeitsdaten:"},null,null,{"$f":"IF(H255=\"\",\"\",IF(CNTR_Category=\"A\",INDEX(EUwideConstants!$G:$G,MATCH(Q284,EUwideConstants!$S:$S,0)),INDEX(EUwideConstants!$P:$P,MATCH(Q284,EUwideConstants!$S:$S,0))))","v":""},{"$f":"IF(H284=\"\",\"\",IF(S284=0,EUconst_NA,IF(ISERROR(S284),\"\",EUconst_MsgTierActivityLevel & \" \" &S284)))","v":""},null,null,null,null,null,null,null,{"$f":"EUconst_CNTR_ActivityData&H255","v":"ActivityData_"},null,{"$f":"IF(H284=\"\",\"\",IF(H284=EUconst_NA,\"\",INDEX(EUwideConstants!$H:$O,MATCH(Q284,EUwideConstants!$S:$S,0),MATCH(H284,CNTR_TierList,0))))","v":""}]
[null,null,null,"(d)",{"$f":"Translations!$B$478","v":"Angewandte Ebene Tätigkeitsdaten:"},null,null,null,{"$f":"IF(OR(ISBLANK(H285),H285=EUconst_NoTier),\"\",IF(S285=0,EUconst_NA,IF(ISERROR(S285),\"\",EUconst_MsgTierActivityLevel & \" \" &S285)))","v":""},null,null,null,null,null,null,null,{"$f":"EUconst_CNTR_ActivityData&H255","v":"ActivityData_"},null,{"$f":"IF(ISBLANK(H285),\"\",IF(H285=EUconst_NA,\"\",INDEX(EUwideConstants!$H:$O,MATCH(Q285,EUwideConstants!$S:$S,0),MATCH(H285,CNTR_TierList,0))))","v":""}]
[null,null,null,"(e)",{"$f":"Translations!$B$479","v":"Erreichte Unsicherheit:"},null,null,null,{"$f":"Translations!$B$480","v":"Anmerkung:"}]
[]
[null,null,null,{"$f":"Translations!$B$490","v":"Berechnungsfaktoren:"}]
[]
[null,null,null,"(f)",{"$f":"Translations!$B$515","v":"Für die Berechnungsfaktoren angewandte Ebenen:"}]
[]
[null,null,null,null,{"$f":"Translations!$B$516","v":"Berechnungsfaktoren"},null,null,{"$f":"Translations!$B$517","v":"vorgeschrie-bene Ebene"},{"$f":"Translations!$B$518","v":"angewandte Ebene"},{"$f":"Translations!$B$519","v":"vollständiger Text für angewandte Ebene"},null,null,null,null,null,null,null,null,"full text tier",null,null,null,"cond. form."]
[null,null,null,"i.",{"$f":"Translations!$B$520","v":"Unterer Heizwert (Hu)"},null,null,{"$f":"IF(H255=\"\",\"\",IF(CNTR_Category=\"A\",INDEX(EUwideConstants!$G:$G,MATCH(Q293,EUwideConstants!$S:$S,0)),INDEX(EUwideConstants!$P:$P,MATCH(Q293,EUwideConstants!$S:$S,0))))","v":""},null,{"$f":"IF(OR(ISBLANK(I293),I293=EUconst_NoTier),\"\",IF(S293=0,EUconst_NotApplicable,IF(ISERROR(S293),\"\",S293)))","v":""},null,null,null,null,null,null,{"$f":"EUconst_CNTR_NCV&H255","v":"NCV_"},null,{"$f":"IF(ISBLANK(I293),\"\",IF(I293=EUconst_NA,\"\",INDEX(EUwideConstants!$H:$O,MATCH(Q293,EUwideConstants!$S:$S,0),MATCH(I293,CNTR_TierList,0))))","v":""},null,null,null,{"$f":"(H293=EUconst_NA)","v":false}]
[null,null,null,"ii.",{"$f":"Translations!$B$521","v":"(vorläufiger) Emissionsfaktor"},null,null,{"$f":"IF(H255=\"\",\"\",IF(CNTR_Category=\"A\",INDEX(EUwideConstants!$G:$G,MATCH(Q294,EUwideConstants!$S:$S,0)),INDEX(EUwideConstants!$P:$P,MATCH(Q294,EUwideConstants!$S:$S,0))))","v":""},null,"",null,null,null,null,null,null,{"$f":"EUconst_CNTR_EF&H255","v":"EF_"},null,{"$f":"IF(ISBLANK(I294),\"\",IF(I294=EUconst_NA,\"\",INDEX(EUwideConstants!$H:$O,MATCH(Q294,EUwideConstants!$S:$S,0),MATCH(I294,CNTR_TierList,0))))","v":""},null,null,null,false]
[null,null,null,"iii.",{"$f":"Translations!$B$522","v":"Oxidationsfaktor"},null,null,{"$f":"IF(H255=\"\",\"\",IF(CNTR_Category=\"A\",INDEX(EUwideConstants!$G:$G,MATCH(Q295,EUwideConstants!$S:$S,0)),INDEX(EUwideConstants!$P:$P,MATCH(Q295,EUwideConstants!$S:$S,0))))","v":""},null,"",null,null,null,null,null,null,{"$f":"EUconst_CNTR_OxidationFactor&H255","v":"OxF_"},null,{"$f":"IF(ISBLANK(I295),\"\",IF(I295=EUconst_NA,\"\",INDEX(EUwideConstants!$H:$O,MATCH(Q295,EUwideConstants!$S:$S,0),MATCH(I295,CNTR_TierList,0))))","v":""},null,null,null,false]
[null,null,null,"iv.",{"$f":"Translations!$B$523","v":"Umsetzungsfaktor"},null,null,{"$f":"IF(H255=\"\",\"\",IF(CNTR_Category=\"A\",INDEX(EUwideConstants!$G:$G,MATCH(Q296,EUwideConstants!$S:$S,0)),INDEX(EUwideConstants!$P:$P,MATCH(Q296,EUwideConstants!$S:$S,0))))","v":""},null,"",null,null,null,null,null,null,{"$f":"EUconst_CNTR_ConversionFactor&H255","v":"ConvF_"},null,{"$f":"IF(ISBLANK(I296),\"\",IF(I296=EUconst_NA,\"\",INDEX(EUwideConstants!$H:$O,MATCH(Q296,EUwideConstants!$S:$S,0),MATCH(I296,CNTR_TierList,0))))","v":""},null,null,null,false]
[null,null,null,"v.",{"$f":"Translations!$B$524","v":"Kohlenstoffgehalt"},null,null,{"$f":"IF(H255=\"\",\"\",IF(CNTR_Category=\"A\",INDEX(EUwideConstants!$G:$G,MATCH(Q297,EUwideConstants!$S:$S,0)),INDEX(EUwideConstants!$P:$P,MATCH(Q297,EUwideConstants!$S:$S,0))))","v":""},null,"",null,null,null,null,null,null,{"$f":"EUconst_CNTR_CarbonContent&H255","v":"CarbC_"},null,{"$f":"IF(ISBLANK(I297),\"\",IF(I297=EUconst_NA,\"\",INDEX(EUwideConstants!$H:$O,MATCH(Q297,EUwideConstants!$S:$S,0),MATCH(I297,CNTR_TierList,0))))","v":""},null,null,null,false]
[null,null,null,"vi.",{"$f":"Translations!$B$525","v":"Biomasseanteil (soweit zutreffend)"},null,null,{"$f":"IF(H255=\"\",\"\",IF(CNTR_Category=\"A\",INDEX(EUwideConstants!$G:$G,MATCH(Q298,EUwideConstants!$S:$S,0)),INDEX(EUwideConstants!$P:$P,MATCH(Q298,EUwideConstants!$S:$S,0))))","v":""},null,"",null,null,null,null,null,null,{"$f":"EUconst_CNTR_BiomassContent&H255","v":"BioC_"},null,{"$f":"IF(ISBLANK(I298),\"\",IF(I298=EUconst_NA,\"\",INDEX(EUwideConstants!$H:$O,MATCH(Q298,EUwideConstants!$S:$S,0),MATCH(I298,CNTR_TierList,0))))","v":""},null,null,null,false]
[]
[null,null,null,"(g)",{"$f":"Translations!$B$534","v":"Einzelheiten zu den Berechnungsfaktoren:"}]
[]
[null,null,null,null,{"$f":"E292","v":"Berechnungsfaktoren"},null,null,{"$f":"I292","v":"angewandte Ebene"},{"$f":"Translations!$B$535","v":"Standard-wert"},{"$f":"Translations!$B$536","v":"Einheit"},{"$f":"Translations!$B$537","v":"Ref. Quelle"},{"$f":"Translations!$B$538","v":"Ref. Analyse"},{"$f":"Translations!$B$539","v":"Ref. Probenahmeplan"},{"$f":"Translations!$B$540","v":"Analyse-häufigkeit"},null,null,null,null,"default value or lab",null,null,null,"cond. form."]
[null,null,null,"i.","Unterer Heizwert (Hu)",null,null,{"$f":"IF(OR(ISBLANK(I293),I293=EUconst_NA),\"\",I293)","v":""},null,null,null,null,null,null,null,null,null,null,{"$f":"IF(H303=\"\",\"\",IF(I293=EUconst_NA,\"\",INDEX(EUwideConstants!$AL:$AR,MATCH(Q293,EUwideConstants!$S:$S,0),MATCH(I293,CNTR_TierList,0))))","v":""},null,null,null,{"$f":"OR(H303=\"\",H303=EUconst_NA,J293=EUconst_NotApplicable)","v":true}]
[null,null,null,"ii.","(vorläufiger) Emissionsfaktor",null,null,"",null,null,null,null,null,null,null,null,null,null,{"$f":"IF(H304=\"\",\"\",IF(I294=EUconst_NA,\"\",INDEX(EUwideConstants!$AL:$AR,MATCH(Q294,EUwideConstants!$S:$S,0),MATCH(I294,CNTR_TierList,0))))","v":""},null,null,null,true]
[null,null,null,"iii.","Oxidationsfaktor",null,null,"",null,null,null,null,null,null,null,null,null,null,{"$f":"IF(H305=\"\",\"\",IF(I295=EUconst_NA,\"\",INDEX(EUwideConstants!$AL:$AR,MATCH(Q295,EUwideConstants!$S:$S,0),MATCH(I295,CNTR_TierList,0))))","v":""},null,null,null,true]
[null,null,null,"iv.","Umsetzungsfaktor",null,null,"",null,null,null,null,null,null,null,null,null,null,{"$f":"IF(H306=\"\",\"\",IF(I296=EUconst_NA,\"\",INDEX(EUwideConstants!$AL:$AR,MATCH(Q296,EUwideConstants!$S:$S,0),MATCH(I296,CNTR_TierList,0))))","v":""},null,null,null,true]
[null,null,null,"v.","Kohlenstoffgehalt",null,null,"",null,null,null,null,null,null,null,null,null,null,{"$f":"IF(H307=\"\",\"\",IF(I297=EUconst_NA,\"\",INDEX(EUwideConstants!$AL:$AR,MATCH(Q297,EUwideConstants!$S:$S,0),MATCH(I297,CNTR_TierList,0))))","v":""},null,null,null,true]
[null,null,null,"vi.","Biomasseanteil (soweit zutreffend)",null,null,"",null,null,null,null,null,null,null,null,null,null,{"$f":"IF(H308=\"\",\"\",IF(I298=EUconst_NA,\"\",INDEX(EUwideConstants!$AL:$AR,MATCH(Q298,EUwideConstants!$S:$S,0),MATCH(I298,CNTR_TierList,0))))","v":""},null,null,null,true]
[]
[null,null,null,{"$f":"Translations!$B$545","v":"Anmerkungen und Erklärungen:"}]
[]
[null,null,null,"(h)",{"$f":"Translations!$B$1198","v":"Anmerkungen oder Begründung für Nichtanwendung der vorgeschriebenen Ebene:"}]
[]
[]
[]
[]
[]
[null,null,null,null,null,null,null,null,null,null,null,null,null,null,null,null,null,null,"Check source stream category","auto","manual"]
[null,null,{"$f":"\"S\"&Q319","v":"S4"},{"$f":"CONCATENATE(Euconst_SourceStream,\" \", Q319,\":\")","v":"Stoffstrom 4:"},null,null,null,{"$f":"IF(INDEX(C_InstallationDescription!$I$194:$I$204,MATCH(C319,C_InstallationDescription!$E$194:$E$204,0))>0,INDEX(C_InstallationDescription!$I$194:$I$204,MATCH(C319,C_InstallationDescription!$E$194:$E$204,0)),\"\")","v":""},null,null,null,null,{"$f":"IF(S319=TRUE,IF(U319=\"\",T319,U319),\"\")","v":""},null,null,null,{"$f":"Q253+1","v":4},null,{"$f":"IF(INDEX(C_InstallationDescription!$M:$M,MATCH(Q321,C_InstallationDescription!$Q:$Q,0))=\"\",FALSE,TRUE)","v":false},{"$f":"IF(S319=TRUE,INDEX(C_InstallationDescription!$M:$M,MATCH(Q321,C_InstallationDescription!$Q:$Q,0)),\"\")","v":""},{"$f":"IF(S319=TRUE,IF(ISBLANK(INDEX(C_InstallationDescription!$N:$N,MATCH(Q321,C_InstallationDescription!$Q:$Q,0))),\"\",INDEX(C_InstallationDescription!$N:$N,MATCH(Q321,C_InstallationDescription!$Q:$Q,0))),\"\")","v":""}]
[]
[null,null,null,null,{"$f":"Translations!$B$437","v":"Stoffstromtyp:"},null,null,{"$f":"IF(INDEX(C_InstallationDescription!$F$194:$F$204,MATCH(C319,C_InstallationDescription!$E$194:$E$204,0))>0,INDEX(C_InstallationDescription!$F$194:$F$204,MATCH(C319,C_InstallationDescription!$E$194:$E$204,0)),\"\")","v":""},null,null,null,null,null,null,null,null,{"$f":"EUconst_CNTR_SourceCategory&C319","v":"SourceCategory_S4"}]
[null,null,null,null,{"$f":"Translations!$B$438","v":"Anwendbares Verfahren gemäß MVO:"},null,null,{"$f":"IF(H321=\"\",\"\",INDEX(EUwideConstants!F:F,MATCH(H321,EUwideConstants!Q:Q,0)))","v":""}]
[null,null,null,null,{"$f":"Translations!$B$439","v":"Parameter, für die die Unsicherheit gilt:"},null,null,{"$f":"IF(H321=\"\",\"\",INDEX(EUwideConstants!E:E,MATCH(H321,EUwideConstants!Q:Q,0)))","v":""}]
[]
[null,null,null,null,{"$f":"IF(H319=\"\",\"\",INDEX(EUconst_SmallEmiSouStreamMsg,MATCH(Q325,EUconst_SmallEmiSouStream,0)))","v":""},null,null,null,null,null,null,null,null,null,null,null,{"$f":"IF(CNTR_SmallEmitter=TRUE,EUconst_CNTR_SmallEmitter,EUconst_CNTR_NoSmallEmitter) & IF((CNTR_Category)=\"\",\"C\",CNTR_Category) & \"_\" & IF(M319=\"\",1,MATCH(M319,SourceCategory,0))","v":"NoSmallEmitter_C_1"}]
[]
[null,null,null,{"$f":"Translations!$B$454","v":"Tätigkeitsdaten:"}]
[]
[null,null,null,"(a)",{"$f":"Translations!$B$455","v":"Verfahren zur Bestimmung der Tätigkeitsdaten:"}]
[]
[null,null,null,"i.",{"$f":"Translations!$B$456","v":"Bestimmungsverfahren:"},null,null,null,null,null,null,null,null,null,null,null,null,null,null,null,null,null,{"$f":"IF(M319=\"\",\"\",IF(M319=INDEX(SourceCategory,3),1,IF(CNTR_InstHasCalculation=FALSE,0,2)))","v":""}]
[]
[null,null,null,null,null,{"$f":"Translations!$B$459","v":"Verweis auf Verfahren für die Bestandsbestimmung am Jahresende:"},null,null,null,null,null,null,null,null,null,null,null,null,null,null,null,{"$f":"IF(OR(H319=\"\",ISBLANK(H331)),FALSE,IF(MATCH(H331,EUconst_ActivityDeterminationMethod,0)=2,TRUE,FALSE))","v":false},{"$f":"IF(V333=TRUE,0,W331)","v":""}]
[]
[null,null,null,"ii.",{"$f":"Translations!$B$462","v":"Gerät unter Kontrolle des "},null,null,null,null,null,null,null,null,null,null,null,null,null,null,null,null,null,{"$f":"W331","v":""}]
[]
[null,null,null,null,"a.",{"$f":"Translations!$B$465","v":"Bitte bestätigen Sie, dass die Bedingungen des Artikels 29 Absatz 2 erfüllt sind:"},null,null,null,null,null,null,null,null,null,null,null,null,null,null,null,{"$f":"IF(OR(H319=\"\",ISBLANK(H335)),FALSE,IF(MATCH(H335,EUconst_OwnerInstrument,0)=1,TRUE,FALSE))","v":false},{"$f":"IF(V337=TRUE,0,W331)","v":""}]
[]
[null,null,null,null,"b.",{"$f":"Translations!$B$468","v":"Bestimmen Sie die Brennstoff- oder Materialienmenge anhand von Rechnungen?"},null,null,null,null,null,null,null,null,null,null,null,null,null,null,null,{"$f":"IF(OR(H319=\"\",ISBLANK(H335)),FALSE,IF(MATCH(H335,EUconst_OwnerInstrument,0)=1,TRUE,FALSE))","v":false},{"$f":"IF(V339=TRUE,0,W331)","v":""}]
[]
[null,null,null,null,"c.",{"$f":"Translations!$B$469","v":"Bitte bestätigen Sie, dass Handelspartner und Inhaber voneinander unabhängig sind:"},null,null,null,null,null,null,null,null,null,null,null,null,null,null,null,{"$f":"IF(OR(H319=\"\",ISBLANK(H335)),FALSE,IF(MATCH(H335,EUconst_OwnerInstrument,0)=1,TRUE,FALSE))","v":false},{"$f":"IF(V341=TRUE,0,W331)","v":""}]
[]
[null,null,null,"(b)",{"$f":"Translations!$B$472","v":"Verwendete Messgeräte:"}]
[]
[null,null,null,null,{"$f":"Translations!$B$475","v":"Anmerkung / Beschreibung des Vorgehens, wenn mehrere Geräte verwendet werden:"}]
[]
[]
[]
[]
[null,null,null,"(c)",{"$f":"Translations!$B$477","v":"Vorgeschriebene Ebene Tätigkeitsdaten:"},null,null,{"$f":"IF(H321=\"\",\"\",IF(CNTR_Category=\"A\",INDEX(EUwideConstants!$G:$G,MATCH(Q350,EUwideConstants!$S:$S,0)),INDEX(EUwideConstants!$P:$P,MATCH(Q350,EUwideConstants!$S:$S,0))))","v":""},{"$f":"IF(H350=\"\",\"\",IF(S350=0,EUconst_NA,IF(ISERROR(S350),\"\",EUconst_MsgTierActivityLevel & \" \" &S350)))","v":""},null,null,null,null,null,null,null,{"$f":"EUconst_CNTR_ActivityData&H321","v":"ActivityData_"},null,{"$f":"IF(H350=\"\",\"\",IF(H350=EUconst_NA,\"\",INDEX(EUwideConstants!$H:$O,MATCH(Q350,EUwideConstants!$S:$S,0),MATCH(H350,CNTR_TierList,0))))","v":""}]
[null,null,null,"(d)",{"$f":"Translations!$B$478","v":"Angewandte Ebene Tätigkeitsdaten:"},null,null,null,{"$f":"IF(OR(ISBLANK(H351),H351=EUconst_NoTier),\"\",IF(S351=0,EUconst_NA,IF(ISERROR(S351),\"\",EUconst_MsgTierActivityLevel & \" \" &S351)))","v":""},null,null,null,null,null,null,null,{"$f":"EUconst_CNTR_ActivityData&H321","v":"ActivityData_"},null,{"$f":"IF(ISBLANK(H351),\"\",IF(H351=EUconst_NA,\"\",INDEX(EUwideConstants!$H:$O,MATCH(Q351,EUwideConstants!$S:$S,0),MATCH(H351,CNTR_TierList,0))))","v":""}]
[null,null,null,"(e)",{"$f":"Translations!$B$479","v":"Erreichte Unsicherheit:"},null,null,null,{"$f":"Translations!$B$480","v":"Anmerkung:"}]
[]
[null,null,null,{"$f":"Translations!$B$490","v":"Berechnungsfaktoren:"}]
[]
[null,null,null,"(f)",{"$f":"Translations!$B$515","v":"Für die Berechnungsfaktoren angewandte Ebenen:"}]
[]
[null,null,null,null,{"$f":"Translations!$B$516","v":"Berechnungsfaktoren"},null,null,{"$f":"Translations!$B$517","v":"vorgeschrie-bene Ebene"},{"$f":"Translations!$B$518","v":"angewandte Ebene"},{"$f":"Translations!$B$519","v":"vollständiger Text für angewandte Ebene"},null,null,null,null,null,null,null,null,"full text tier",null,null,null,"cond. form."]
[null,null,null,"i.",{"$f":"Translations!$B$520","v":"Unterer Heizwert (Hu)"},null,null,{"$f":"IF(H321=\"\",\"\",IF(CNTR_Category=\"A\",INDEX(EUwideConstants!$G:$G,MATCH(Q359,EUwideConstants!$S:$S,0)),INDEX(EUwideConstants!$P:$P,MATCH(Q359,EUwideConstants!$S:$S,0))))","v":""},null,{"$f":"IF(OR(ISBLANK(I359),I359=EUconst_NoTier),\"\",IF(S359=0,EUconst_NotApplicable,IF(ISERROR(S359),\"\",S359)))","v":""},null,null,null,null,null,null,{"$f":"EUconst_CNTR_NCV&H321","v":"NCV_"},null,{"$f":"IF(ISBLANK(I359),\"\",IF(I359=EUconst_NA,\"\",INDEX(EUwideConstants!$H:$O,MATCH(Q359,EUwideConstants!$S:$S,0),MATCH(I359,CNTR_TierList,0))))","v":""},null,null,null,{"$f":"(H359=EUconst_NA)","v":false}]
[null,null,null,"ii.",{"$f":"Translations!$B$521","v":"(vorläufiger) Emissionsfaktor"},null,null,{"$f":"IF(H321=\"\",\"\",IF(CNTR_Category=\"A\",INDEX(EUwideConstants!$G:$G,MATCH(Q360,EUwideConstants!$S:$S,0)),INDEX(EUwideConstants!$P:$P,MATCH(Q360,EUwideConstants!$S:$S,0))))","v":""},null,"",null,null,null,null,null,null,{"$f":"EUconst_CNTR_EF&H321","v":"EF_"},null,{"$f":"IF(ISBLANK(I360),\"\",IF(I360=EUconst_NA,\"\",INDEX(EUwideConstants!$H:$O,MATCH(Q360,EUwideConstants!$S:$S,0),MATCH(I360,CNTR_TierList,0))))","v":""},null,null,null,false]
[null,null,null,"iii.",{"$f":"Translations!$B$522","v":"Oxidationsfaktor"},null,null,{"$f":"IF(H321=\"\",\"\",IF(CNTR_Category=\"A\",INDEX(EUwideConstants!$G:$G,MATCH(Q361,EUwideConstants!$S:$S,0)),INDEX(EUwideConstants!$P:$P,MATCH(Q361,EUwideConstants!$S:$S,0))))","v":""},null,"",null,null,null,null,null,null,{"$f":"EUconst_CNTR_OxidationFactor&H321","v":"OxF_"},null,{"$f":"IF(ISBLANK(I361),\"\",IF(I361=EUconst_NA,\"\",INDEX(EUwideConstants!$H:$O,MATCH(Q361,EUwideConstants!$S:$S,0),MATCH(I361,CNTR_TierList,0))))","v":""},null,null,null,false]
[null,null,null,"iv.",{"$f":"Translations!$B$523","v":"Umsetzungsfaktor"},null,null,{"$f":"IF(H321=\"\",\"\",IF(CNTR_Category=\"A\",INDEX(EUwideConstants!$G:$G,MATCH(Q362,EUwideConstants!$S:$S,0)),INDEX(EUwideConstants!$P:$P,MATCH(Q362,EUwideConstants!$S:$S,0))))","v":""},null,"",null,null,null,null,null,null,{"$f":"EUconst_CNTR_ConversionFactor&H321","v":"ConvF_"},null,{"$f":"IF(ISBLANK(I362),\"\",IF(I362=EUconst_NA,\"\",INDEX(EUwideConstants!$H:$O,MATCH(Q362,EUwideConstants!$S:$S,0),MATCH(I362,CNTR_TierList,0))))","v":""},null,null,null,false]
[null,null,null,"v.",{"$f":"Translations!$B$524","v":"Kohlenstoffgehalt"},null,null,{"$f":"IF(H321=\"\",\"\",IF(CNTR_Category=\"A\",INDEX(EUwideConstants!$G:$G,MATCH(Q363,EUwideConstants!$S:$S,0)),INDEX(EUwideConstants!$P:$P,MATCH(Q363,EUwideConstants!$S:$S,0))))","v":""},null,"",null,null,null,null,null,null,{"$f":"EUconst_CNTR_CarbonContent&H321","v":"CarbC_"},null,{"$f":"IF(ISBLANK(I363),\"\",IF(I363=EUconst_NA,\"\",INDEX(EUwideConstants!$H:$O,MATCH(Q363,EUwideConstants!$S:$S,0),MATCH(I363,CNTR_TierList,0))))","v":""},null,null,null,false]
[null,null,null,"vi.",{"$f":"Translations!$B$525","v":"Biomasseanteil (soweit zutreffend)"},null,null,{"$f":"IF(H321=\"\",\"\",IF(CNTR_Category=\"A\",INDEX(EUwideConstants!$G:$G,MATCH(Q364,EUwideConstants!$S:$S,0)),INDEX(EUwideConstants!$P:$P,MATCH(Q364,EUwideConstants!$S:$S,0))))","v":""},null,"",null,null,null,null,null,null,{"$f":"EUconst_CNTR_BiomassContent&H321","v":"BioC_"},null,{"$f":"IF(ISBLANK(I364),\"\",IF(I364=EUconst_NA,\"\",INDEX(EUwideConstants!$H:$O,MATCH(Q364,EUwideConstants!$S:$S,0),MATCH(I364,CNTR_TierList,0))))","v":""},null,null,null,false]
[]
[null,null,null,"(g)",{"$f":"Translations!$B$534","v":"Einzelheiten zu den Berechnungsfaktoren:"}]
[]
[null,null,null,null,{"$f":"E358","v":"Berechnungsfaktoren"},null,null,{"$f":"I358","v":"angewandte Ebene"},{"$f":"Translations!$B$535","v":"Standard-wert"},{"$f":"Translations!$B$536","v":"Einheit"},{"$f":"Translations!$B$537","v":"Ref. Quelle"},{"$f":"Translations!$B$538","v":"Ref. Analyse"},{"$f":"Translations!$B$539","v":"Ref. Probenahmeplan"},{"$f":"Translations!$B$540","v":"Analyse-häufigkeit"},null,null,null,null,"default value or lab",null,null,null,"cond. form."]
[null,null,null,"i.","Unterer Heizwert (Hu)",null,null,{"$f":"IF(OR(ISBLANK(I359),I359=EUconst_NA),\"\",I359)","v":""},null,null,null,null,null,null,null,null,null,null,{"$f":"IF(H369=\"\",\"\",IF(I359=EUconst_NA,\"\",INDEX(EUwideConstants!$AL:$AR,MATCH(Q359,EUwideConstants!$S:$S,0),MATCH(I359,CNTR_TierList,0))))","v":""},null,null,null,{"$f":"OR(H369=\"\",H369=EUconst_NA,J359=EUconst_NotApplicable)","v":true}]
[null,null,null,"ii.","(vorläufiger) Emissionsfaktor",null,null,"",null,null,null,null,null,null,null,null,null,null,{"$f":"IF(H370=\"\",\"\",IF(I360=EUconst_NA,\"\",INDEX(EUwideConstants!$AL:$AR,MATCH(Q360,EUwideConstants!$S:$S,0),MATCH(I360,CNTR_TierList,0))))","v":""},null,null,null,true]
[null,null,null,"iii.","Oxidationsfaktor",null,null,"",null,null,null,null,null,null,null,null,null,null,{"$f":"IF(H371=\"\",\"\",IF(I361=EUconst_NA,\"\",INDEX(EUwideConstants!$AL:$AR,MATCH(Q361,EUwideConstants!$S:$S,0),MATCH(I361,CNTR_TierList,0))))","v":""},null,null,null,true]
[null,null,null,"iv.","Umsetzungsfaktor",null,null,"",null,null,null,null,null,null,null,null,null,null,{"$f":"IF(H372=\"\",\"\",IF(I362=EUconst_NA,\"\",INDEX(EUwideConstants!$AL:$AR,MATCH(Q362,EUwideConstants!$S:$S,0),MATCH(I362,CNTR_TierList,0))))","v":""},null,null,null,true]
[null,null,null,"v.","Kohlenstoffgehalt",null,null,"",null,null,null,null,null,null,null,null,null,null,{"$f":"IF(H373=\"\",\"\",IF(I363=EUconst_NA,\"\",INDEX(EUwideConstants!$AL:$AR,MATCH(Q363,EUwideConstants!$S:$S,0),MATCH(I363,CNTR_TierList,0))))","v":""},null,null,null,true]
[null,null,null,"vi.","Biomasseanteil (soweit zutreffend)",null,null,"",null,null,null,null,null,null,null,null,null,null,{"$f":"IF(H374=\"\",\"\",IF(I364=EUconst_NA,\"\",INDEX(EUwideConstants!$AL:$AR,MATCH(Q364,EUwideConstants!$S:$S,0),MATCH(I364,CNTR_TierList,0))))","v":""},null,null,null,true]
[]
[null,null,null,{"$f":"Translations!$B$545","v":"Anmerkungen und Erklärungen:"}]
[]
[null,null,null,"(h)",{"$f":"Translations!$B$1198","v":"Anmerkungen oder Begründung für Nichtanwendung der vorgeschriebenen Ebene:"}]
[]
[]
[]
[]
[]
[null,null,null,null,null,null,null,null,null,null,null,null,null,null,null,null,null,null,"Check source stream category","auto","manual"]
[null,null,{"$f":"\"S\"&Q385","v":"S5"},{"$f":"CONCATENATE(Euconst_SourceStream,\" \", Q385,\":\")","v":"Stoffstrom 5:"},null,null,null,{"$f":"IF(INDEX(C_InstallationDescription!$I$194:$I$204,MATCH(C385,C_InstallationDescription!$E$194:$E$204,0))>0,INDEX(C_InstallationDescription!$I$194:$I$204,MATCH(C385,C_InstallationDescription!$E$194:$E$204,0)),\"\")","v":""},null,null,null,null,{"$f":"IF(S385=TRUE,IF(U385=\"\",T385,U385),\"\")","v":""},null,null,null,{"$f":"Q319+1","v":5},null,{"$f":"IF(INDEX(C_InstallationDescription!$M:$M,MATCH(Q387,C_InstallationDescription!$Q:$Q,0))=\"\",FALSE,TRUE)","v":false},{"$f":"IF(S385=TRUE,INDEX(C_InstallationDescription!$M:$M,MATCH(Q387,C_InstallationDescription!$Q:$Q,0)),\"\")","v":""},{"$f":"IF(S385=TRUE,IF(ISBLANK(INDEX(C_InstallationDescription!$N:$N,MATCH(Q387,C_InstallationDescription!$Q:$Q,0))),\"\",INDEX(C_InstallationDescription!$N:$N,MATCH(Q387,C_InstallationDescription!$Q:$Q,0))),\"\")","v":""}]
[]
[null,null,null,null,{"$f":"Translations!$B$437","v":"Stoffstromtyp:"},null,null,{"$f":"IF(INDEX(C_InstallationDescription!$F$194:$F$204,MATCH(C385,C_InstallationDescription!$E$194:$E$204,0))>0,INDEX(C_InstallationDescription!$F$194:$F$204,MATCH(C385,C_InstallationDescription!$E$194:$E$204,0)),\"\")","v":""},null,null,null,null,null,null,null,null,{"$f":"EUconst_CNTR_SourceCategory&C385","v":"SourceCategory_S5"}]
[null,null,null,null,{"$f":"Translations!$B$438","v":"Anwendbares Verfahren gemäß MVO:"},null,null,{"$f":"IF(H387=\"\",\"\",INDEX(EUwideConstants!F:F,MATCH(H387,EUwideConstants!Q:Q,0)))","v":""}]
[null,null,null,null,{"$f":"Translations!$B$439","v":"Parameter, für die die Unsicherheit gilt:"},null,null,{"$f":"IF(H387=\"\",\"\",INDEX(EUwideConstants!E:E,MATCH(H387,EUwideConstants!Q:Q,0)))","v":""}]
[]
[null,null,null,null,{"$f":"IF(H385=\"\",\"\",INDEX(EUconst_SmallEmiSouStreamMsg,MATCH(Q391,EUconst_SmallEmiSouStream,0)))","v":""},null,null,null,null,null,null,null,null,null,null,null,{"$f":"IF(CNTR_SmallEmitter=TRUE,EUconst_CNTR_SmallEmitter,EUconst_CNTR_NoSmallEmitter) & IF((CNTR_Category)=\"\",\"C\",CNTR_Category) & \"_\" & IF(M385=\"\",1,MATCH(M385,SourceCategory,0))","v":"NoSmallEmitter_C_1"}]
[]
[null,null,null,{"$f":"Translations!$B$454","v":"Tätigkeitsdaten:"}]
[]
[null,null,null,"(a)",{"$f":"Translations!$B$455","v":"Verfahren zur Bestimmung der Tätigkeitsdaten:"}]
[]
[null,null,null,"i.",{"$f":"Translations!$B$456","v":"Bestimmungsverfahren:"},null,null,null,null,null,null,null,null,null,null,null,null,null,null,null,null,null,{"$f":"IF(M385=\"\",\"\",IF(M385=INDEX(SourceCategory,3),1,IF(CNTR_InstHasCalculation=FALSE,0,2)))","v":""}]
[]
[null,null,null,null,null,{"$f":"Translations!$B$459","v":"Verweis auf Verfahren für die Bestandsbestimmung am Jahresende:"},null,null,null,null,null,null,null,null,null,null,null,null,null,null,null,{"$f":"IF(OR(H385=\"\",ISBLANK(H397)),FALSE,IF(MATCH(H397,EUconst_ActivityDeterminationMethod,0)=2,TRUE,FALSE))","v":false},{"$f":"IF(V399=TRUE,0,W397)","v":""}]
[]
[null,null,null,"ii.",{"$f":"Translations!$B$462","v":"Gerät unter Kontrolle des "},null,null,null,null,null,null,null,null,null,null,null,null,null,null,null,null,null,{"$f":"W397","v":""}]
[]
[null,null,null,null,"a.",{"$f":"Translations!$B$465","v":"Bitte bestätigen Sie, dass die Bedingungen des Artikels 29 Absatz 2 erfüllt sind:"},null,null,null,null,null,null,null,null,null,null,null,null,null,null,null,{"$f":"IF(OR(H385=\"\",ISBLANK(H401)),FALSE,IF(MATCH(H401,EUconst_OwnerInstrument,0)=1,TRUE,FALSE))","v":false},{"$f":"IF(V403=TRUE,0,W397)","v":""}]
[]
[null,null,null,null,"b.",{"$f":"Translations!$B$468","v":"Bestimmen Sie die Brennstoff- oder Materialienmenge anhand von Rechnungen?"},null,null,null,null,null,null,null,null,null,null,null,null,null,null,null,{"$f":"IF(OR(H385=\"\",ISBLANK(H401)),FALSE,IF(MATCH(H401,EUconst_OwnerInstrument,0)=1,TRUE,FALSE))","v":false},{"$f":"IF(V405=TRUE,0,W397)","v":""}]
[]
[null,null,null,null,"c.",{"$f":"Translations!$B$469","v":"Bitte bestätigen Sie, dass Handelspartner und Inhaber voneinander unabhängig sind:"},null,null,null,null,null,null,null,null,null,null,null,null,null,null,null,{"$f":"IF(OR(H385=\"\",ISBLANK(H401)),FALSE,IF(MATCH(H401,EUconst_OwnerInstrument,0)=1,TRUE,FALSE))","v":false},{"$f":"IF(V407=TRUE,0,W397)","v":""}]
[]
[null,null,null,"(b)",{"$f":"Translations!$B$472","v":"Verwendete Messgeräte:"}]
[]
[null,null,null,null,{"$f":"Translations!$B$475","v":"Anmerkung / Beschreibung des Vorgehens, wenn mehrere Geräte verwendet werden:"}]
[]
[]
[]
[]
[null,null,null,"(c)",{"$f":"Translations!$B$477","v":"Vorgeschriebene Ebene Tätigkeitsdaten:"},null,null,{"$f":"IF(H387=\"\",\"\",IF(CNTR_Category=\"A\",INDEX(EUwideConstants!$G:$G,MATCH(Q416,EUwideConstants!$S:$S,0)),INDEX(EUwideConstants!$P:$P,MATCH(Q416,EUwideConstants!$S:$S,0))))","v":""},{"$f":"IF(H416=\"\",\"\",IF(S416=0,EUconst_NA,IF(ISERROR(S416),\"\",EUconst_MsgTierActivityLevel & \" \" &S416)))","v":""},null,null,null,null,null,null,null,{"$f":"EUconst_CNTR_ActivityData&H387","v":"ActivityData_"},null,{"$f":"IF(H416=\"\",\"\",IF(H416=EUconst_NA,\"\",INDEX(EUwideConstants!$H:$O,MATCH(Q416,EUwideConstants!$S:$S,0),MATCH(H416,CNTR_TierList,0))))","v":""}]
[null,null,null,"(d)",{"$f":"Translations!$B$478","v":"Angewandte Ebene Tätigkeitsdaten:"},null,null,null,{"$f":"IF(OR(ISBLANK(H417),H417=EUconst_NoTier),\"\",IF(S417=0,EUconst_NA,IF(ISERROR(S417),\"\",EUconst_MsgTierActivityLevel & \" \" &S417)))","v":""},null,null,null,null,null,null,null,{"$f":"EUconst_CNTR_ActivityData&H387","v":"ActivityData_"},null,{"$f":"IF(ISBLANK(H417),\"\",IF(H417=EUconst_NA,\"\",INDEX(EUwideConstants!$H:$O,MATCH(Q417,EUwideConstants!$S:$S,0),MATCH(H417,CNTR_TierList,0))))","v":""}]
[null,null,null,"(e)",{"$f":"Translations!$B$479","v":"Erreichte Unsicherheit:"},null,null,null,{"$f":"Translations!$B$480","v":"Anmerkung:"}]
[]
[null,null,null,{"$f":"Translations!$B$490","v":"Berechnungsfaktoren:"}]
[]
[null,null,null,"(f)",{"$f":"Translations!$B$515","v":"Für die Berechnungsfaktoren angewandte Ebenen:"}]
[]
[null,null,null,null,{"$f":"Translations!$B$516","v":"Berechnungsfaktoren"},null,null,{"$f":"Translations!$B$517","v":"vorgeschrie-bene Ebene"},{"$f":"Translations!$B$518","v":"angewandte Ebene"},{"$f":"Translations!$B$519","v":"vollständiger Text für angewandte Ebene"},null,null,null,null,null,null,null,null,"full text tier",null,null,null,"cond. form."]
[null,null,null,"i.",{"$f":"Translations!$B$520","v":"Unterer Heizwert (Hu)"},null,null,{"$f":"IF(H387=\"\",\"\",IF(CNTR_Category=\"A\",INDEX(EUwideConstants!$G:$G,MATCH(Q425,EUwideConstants!$S:$S,0)),INDEX(EUwideConstants!$P:$P,MATCH(Q425,EUwideConstants!$S:$S,0))))","v":""},null,{"$f":"IF(OR(ISBLANK(I425),I425=EUconst_NoTier),\"\",IF(S425=0,EUconst_NotApplicable,IF(ISERROR(S425),\"\",S425)))","v":""},null,null,null,null,null,null,{"$f":"EUconst_CNTR_NCV&H387","v":"NCV_"},null,{"$f":"IF(ISBLANK(I425),\"\",IF(I425=EUconst_NA,\"\",INDEX(EUwideConstants!$H:$O,MATCH(Q425,EUwideConstants!$S:$S,0),MATCH(I425,CNTR_TierList,0))))","v":""},null,null,null,{"$f":"(H425=EUconst_NA)","v":false}]
[null,null,null,"ii.",{"$f":"Translations!$B$521","v":"(vorläufiger) Emissionsfaktor"},null,null,{"$f":"IF(H387=\"\",\"\",IF(CNTR_Category=\"A\",INDEX(EUwideConstants!$G:$G,MATCH(Q426,EUwideConstants!$S:$S,0)),INDEX(EUwideConstants!$P:$P,MATCH(Q426,EUwideConstants!$S:$S,0))))","v":""},null,"",null,null,null,null,null,null,{"$f":"EUconst_CNTR_EF&H387","v":"EF_"},null,{"$f":"IF(ISBLANK(I426),\"\",IF(I426=EUconst_NA,\"\",INDEX(EUwideConstants!$H:$O,MATCH(Q426,EUwideConstants!$S:$S,0),MATCH(I426,CNTR_TierList,0))))","v":""},null,null,null,false]
[null,null,null,"iii.",{"$f":"Translations!$B$522","v":"Oxidationsfaktor"},null,null,{"$f":"IF(H387=\"\",\"\",IF(CNTR_Category=\"A\",INDEX(EUwideConstants!$G:$G,MATCH(Q427,EUwideConstants!$S:$S,0)),INDEX(EUwideConstants!$P:$P,MATCH(Q427,EUwideConstants!$S:$S,0))))","v":""},null,"",null,null,null,null,null,null,{"$f":"EUconst_CNTR_OxidationFactor&H387","v":"OxF_"},null,{"$f":"IF(ISBLANK(I427),\"\",IF(I427=EUconst_NA,\"\",INDEX(EUwideConstants!$H:$O,MATCH(Q427,EUwideConstants!$S:$S,0),MATCH(I427,CNTR_TierList,0))))","v":""},null,null,null,false]
[null,null,null,"iv.",{"$f":"Translations!$B$523","v":"Umsetzungsfaktor"},null,null,{"$f":"IF(H387=\"\",\"\",IF(CNTR_Category=\"A\",INDEX(EUwideConstants!$G:$G,MATCH(Q428,EUwideConstants!$S:$S,0)),INDEX(EUwideConstants!$P:$P,MATCH(Q428,EUwideConstants!$S:$S,0))))","v":""},null,"",null,null,null,null,null,null,{"$f":"EUconst_CNTR_ConversionFactor&H387","v":"ConvF_"},null,{"$f":"IF(ISBLANK(I428),\"\",IF(I428=EUconst_NA,\"\",INDEX(EUwideConstants!$H:$O,MATCH(Q428,EUwideConstants!$S:$S,0),MATCH(I428,CNTR_TierList,0))))","v":""},null,null,null,false]
[null,null,null,"v.",{"$f":"Translations!$B$524","v":"Kohlenstoffgehalt"},null,null,{"$f":"IF(H387=\"\",\"\",IF(CNTR_Category=\"A\",INDEX(EUwideConstants!$G:$G,MATCH(Q429,EUwideConstants!$S:$S,0)),INDEX(EUwideConstants!$P:$P,MATCH(Q429,EUwideConstants!$S:$S,0))))","v":""},null,"",null,null,null,null,null,null,{"$f":"EUconst_CNTR_CarbonContent&H387","v":"CarbC_"},null,{"$f":"IF(ISBLANK(I429),\"\",IF(I429=EUconst_NA,\"\",INDEX(EUwideConstants!$H:$O,MATCH(Q429,EUwideConstants!$S:$S,0),MATCH(I429,CNTR_TierList,0))))","v":""},null,null,null,false]
[null,null,null,"vi.",{"$f":"Translations!$B$525","v":"Biomasseanteil (soweit zutreffend)"},null,null,{"$f":"IF(H387=\"\",\"\",IF(CNTR_Category=\"A\",INDEX(EUwideConstants!$G:$G,MATCH(Q430,EUwideConstants!$S:$S,0)),INDEX(EUwideConstants!$P:$P,MATCH(Q430,EUwideConstants!$S:$S,0))))","v":""},null,"",null,null,null,null,null,null,{"$f":"EUconst_CNTR_BiomassContent&H387","v":"BioC_"},null,{"$f":"IF(ISBLANK(I430),\"\",IF(I430=EUconst_NA,\"\",INDEX(EUwideConstants!$H:$O,MATCH(Q430,EUwideConstants!$S:$S,0),MATCH(I430,CNTR_TierList,0))))","v":""},null,null,null,false]
[]
[null,null,null,"(g)",{"$f":"Translations!$B$534","v":"Einzelheiten zu den Berechnungsfaktoren:"}]
[]
[null,null,null,null,{"$f":"E424","v":"Berechnungsfaktoren"},null,null,{"$f":"I424","v":"angewandte Ebene"},{"$f":"Translations!$B$535","v":"Standard-wert"},{"$f":"Translations!$B$536","v":"Einheit"},{"$f":"Translations!$B$537","v":"Ref. Quelle"},{"$f":"Translations!$B$538","v":"Ref. Analyse"},{"$f":"Translations!$B$539","v":"Ref. Probenahmeplan"},{"$f":"Translations!$B$540","v":"Analyse-häufigkeit"},null,null,null,null,"default value or lab",null,null,null,"cond. form."]
[null,null,null,"i.","Unterer Heizwert (Hu)",null,null,{"$f":"IF(OR(ISBLANK(I425),I425=EUconst_NA),\"\",I425)","v":""},null,null,null,null,null,null,null,null,null,null,{"$f":"IF(H435=\"\",\"\",IF(I425=EUconst_NA,\"\",INDEX(EUwideConstants!$AL:$AR,MATCH(Q425,EUwideConstants!$S:$S,0),MATCH(I425,CNTR_TierList,0))))","v":""},null,null,null,{"$f":"OR(H435=\"\",H435=EUconst_NA,J425=EUconst_NotApplicable)","v":true}]
[null,null,null,"ii.","(vorläufiger) Emissionsfaktor",null,null,"",null,null,null,null,null,null,null,null,null,null,{"$f":"IF(H436=\"\",\"\",IF(I426=EUconst_NA,\"\",INDEX(EUwideConstants!$AL:$AR,MATCH(Q426,EUwideConstants!$S:$S,0),MATCH(I426,CNTR_TierList,0))))","v":""},null,null,null,true]
[null,null,null,"iii.","Oxidationsfaktor",null,null,"",null,null,null,null,null,null,null,null,null,null,{"$f":"IF(H437=\"\",\"\",IF(I427=EUconst_NA,\"\",INDEX(EUwideConstants!$AL:$AR,MATCH(Q427,EUwideConstants!$S:$S,0),MATCH(I427,CNTR_TierList,0))))","v":""},null,null,null,true]
[null,null,null,"iv.","Umsetzungsfaktor",null,null,"",null,null,null,null,null,null,null,null,null,null,{"$f":"IF(H438=\"\",\"\",IF(I428=EUconst_NA,\"\",INDEX(EUwideConstants!$AL:$AR,MATCH(Q428,EUwideConstants!$S:$S,0),MATCH(I428,CNTR_TierList,0))))","v":""},null,null,null,true]
[null,null,null,"v.","Kohlenstoffgehalt",null,null,"",null,null,null,null,null,null,null,null,null,null,{"$f":"IF(H439=\"\",\"\",IF(I429=EUconst_NA,\"\",INDEX(EUwideConstants!$AL:$AR,MATCH(Q429,EUwideConstants!$S:$S,0),MATCH(I429,CNTR_TierList,0))))","v":""},null,null,null,true]
[null,null,null,"vi.","Biomasseanteil (soweit zutreffend)",null,null,"",null,null,null,null,null,null,null,null,null,null,{"$f":"IF(H440=\"\",\"\",IF(I430=EUconst_NA,\"\",INDEX(EUwideConstants!$AL:$AR,MATCH(Q430,EUwideConstants!$S:$S,0),MATCH(I430,CNTR_TierList,0))))","v":""},null,null,null,true]
[]
[null,null,null,{"$f":"Translations!$B$545","v":"Anmerkungen und Erklärungen:"}]
[]
[null,null,null,"(h)",{"$f":"Translations!$B$1198","v":"Anmerkungen oder Begründung für Nichtanwendung der vorgeschriebenen Ebene:"}]
[]
[]
[]
[]
[]
[null,null,null,null,null,null,null,null,null,null,null,null,null,null,null,null,null,null,"Check source stream category","auto","manual"]
[null,null,{"$f":"\"S\"&Q451","v":"S6"},{"$f":"CONCATENATE(Euconst_SourceStream,\" \", Q451,\":\")","v":"Stoffstrom 6:"},null,null,null,{"$f":"IF(INDEX(C_InstallationDescription!$I$194:$I$204,MATCH(C451,C_InstallationDescription!$E$194:$E$204,0))>0,INDEX(C_InstallationDescription!$I$194:$I$204,MATCH(C451,C_InstallationDescription!$E$194:$E$204,0)),\"\")","v":""},null,null,null,null,{"$f":"IF(S451=TRUE,IF(U451=\"\",T451,U451),\"\")","v":""},null,null,null,{"$f":"Q385+1","v":6},null,{"$f":"IF(INDEX(C_InstallationDescription!$M:$M,MATCH(Q453,C_InstallationDescription!$Q:$Q,0))=\"\",FALSE,TRUE)","v":false},{"$f":"IF(S451=TRUE,INDEX(C_InstallationDescription!$M:$M,MATCH(Q453,C_InstallationDescription!$Q:$Q,0)),\"\")","v":""},{"$f":"IF(S451=TRUE,IF(ISBLANK(INDEX(C_InstallationDescription!$N:$N,MATCH(Q453,C_InstallationDescription!$Q:$Q,0))),\"\",INDEX(C_InstallationDescription!$N:$N,MATCH(Q453,C_InstallationDescription!$Q:$Q,0))),\"\")","v":""}]
[]
[null,null,null,null,{"$f":"Translations!$B$437","v":"Stoffstromtyp:"},null,null,{"$f":"IF(INDEX(C_InstallationDescription!$F$194:$F$204,MATCH(C451,C_InstallationDescription!$E$194:$E$204,0))>0,INDEX(C_InstallationDescription!$F$194:$F$204,MATCH(C451,C_InstallationDescription!$E$194:$E$204,0)),\"\")","v":""},null,null,null,null,null,null,null,null,{"$f":"EUconst_CNTR_SourceCategory&C451","v":"SourceCategory_S6"}]
[null,null,null,null,{"$f":"Translations!$B$438","v":"Anwendbares Verfahren gemäß MVO:"},null,null,{"$f":"IF(H453=\"\",\"\",INDEX(EUwideConstants!F:F,MATCH(H453,EUwideConstants!Q:Q,0)))","v":""}]
[null,null,null,null,{"$f":"Translations!$B$439","v":"Parameter, für die die Unsicherheit gilt:"},null,null,{"$f":"IF(H453=\"\",\"\",INDEX(EUwideConstants!E:E,MATCH(H453,EUwideConstants!Q:Q,0)))","v":""}]
[]
[null,null,null,null,{"$f":"IF(H451=\"\",\"\",INDEX(EUconst_SmallEmiSouStreamMsg,MATCH(Q457,EUconst_SmallEmiSouStream,0)))","v":""},null,null,null,null,null,null,null,null,null,null,null,{"$f":"IF(CNTR_SmallEmitter=TRUE,EUconst_CNTR_SmallEmitter,EUconst_CNTR_NoSmallEmitter) & IF((CNTR_Category)=\"\",\"C\",CNTR_Category) & \"_\" & IF(M451=\"\",1,MATCH(M451,SourceCategory,0))","v":"NoSmallEmitter_C_1"}]
[]
[null,null,null,{"$f":"Translations!$B$454","v":"Tätigkeitsdaten:"}]
[]
[null,null,null,"(a)",{"$f":"Translations!$B$455","v":"Verfahren zur Bestimmung der Tätigkeitsdaten:"}]
[]
[null,null,null,"i.",{"$f":"Translations!$B$456","v":"Bestimmungsverfahren:"},null,null,null,null,null,null,null,null,null,null,null,null,null,null,null,null,null,{"$f":"IF(M451=\"\",\"\",IF(M451=INDEX(SourceCategory,3),1,IF(CNTR_InstHasCalculation=FALSE,0,2)))","v":""}]
[]
[null,null,null,null,null,{"$f":"Translations!$B$459","v":"Verweis auf Verfahren für die Bestandsbestimmung am Jahresende:"},null,null,null,null,null,null,null,null,null,null,null,null,null,null,null,{"$f":"IF(OR(H451=\"\",ISBLANK(H463)),FALSE,IF(MATCH(H463,EUconst_ActivityDeterminationMethod,0)=2,TRUE,FALSE))","v":false},{"$f":"IF(V465=TRUE,0,W463)","v":""}]
[]
[null,null,null,"ii.",{"$f":"Translations!$B$462","v":"Gerät unter Kontrolle des "},null,null,null,null,null,null,null,null,null,null,null,null,null,null,null,null,null,{"$f":"W463","v":""}]
[]
[null,null,null,null,"a.",{"$f":"Translations!$B$465","v":"Bitte bestätigen Sie, dass die Bedingungen des Artikels 29 Absatz 2 erfüllt sind:"},null,null,null,null,null,null,null,null,null,null,null,null,null,null,null,{"$f":"IF(OR(H451=\"\",ISBLANK(H467)),FALSE,IF(MATCH(H467,EUconst_OwnerInstrument,0)=1,TRUE,FALSE))","v":false},{"$f":"IF(V469=TRUE,0,W463)","v":""}]
[]
[null,null,null,null,"b.",{"$f":"Translations!$B$468","v":"Bestimmen Sie die Brennstoff- oder Materialienmenge anhand von Rechnungen?"},null,null,null,null,null,null,null,null,null,null,null,null,null,null,null,{"$f":"IF(OR(H451=\"\",ISBLANK(H467)),FALSE,IF(MATCH(H467,EUconst_OwnerInstrument,0)=1,TRUE,FALSE))","v":false},{"$f":"IF(V471=TRUE,0,W463)","v":""}]
[]
[null,null,null,null,"c.",{"$f":"Translations!$B$469","v":"Bitte bestätigen Sie, dass Handelspartner und Inhaber voneinander unabhängig sind:"},null,null,null,null,null,null,null,null,null,null,null,null,null,null,null,{"$f":"IF(OR(H451=\"\",ISBLANK(H467)),FALSE,IF(MATCH(H467,EUconst_OwnerInstrument,0)=1,TRUE,FALSE))","v":false},{"$f":"IF(V473=TRUE,0,W463)","v":""}]
[]
[null,null,null,"(b)",{"$f":"Translations!$B$472","v":"Verwendete Messgeräte:"}]
[]
[null,null,null,null,{"$f":"Translations!$B$475","v":"Anmerkung / Beschreibung des Vorgehens, wenn mehrere Geräte verwendet werden:"}]
[]
[]
[]
[]
[null,null,null,"(c)",{"$f":"Translations!$B$477","v":"Vorgeschriebene Ebene Tätigkeitsdaten:"},null,null,{"$f":"IF(H453=\"\",\"\",IF(CNTR_Category=\"A\",INDEX(EUwideConstants!$G:$G,MATCH(Q482,EUwideConstants!$S:$S,0)),INDEX(EUwideConstants!$P:$P,MATCH(Q482,EUwideConstants!$S:$S,0))))","v":""},{"$f":"IF(H482=\"\",\"\",IF(S482=0,EUconst_NA,IF(ISERROR(S482),\"\",EUconst_MsgTierActivityLevel & \" \" &S482)))","v":""},null,null,null,null,null,null,null,{"$f":"EUconst_CNTR_ActivityData&H453","v":"ActivityData_"},null,{"$f":"IF(H482=\"\",\"\",IF(H482=EUconst_NA,\"\",INDEX(EUwideConstants!$H:$O,MATCH(Q482,EUwideConstants!$S:$S,0),MATCH(H482,CNTR_TierList,0))))","v":""}]
[null,null,null,"(d)",{"$f":"Translations!$B$478","v":"Angewandte Ebene Tätigkeitsdaten:"},null,null,null,{"$f":"IF(OR(ISBLANK(H483),H483=EUconst_NoTier),\"\",IF(S483=0,EUconst_NA,IF(ISERROR(S483),\"\",EUconst_MsgTierActivityLevel & \" \" &S483)))","v":""},null,null,null,null,null,null,null,{"$f":"EUconst_CNTR_ActivityData&H453","v":"ActivityData_"},null,{"$f":"IF(ISBLANK(H483),\"\",IF(H483=EUconst_NA,\"\",INDEX(EUwideConstants!$H:$O,MATCH(Q483,EUwideConstants!$S:$S,0),MATCH(H483,CNTR_TierList,0))))","v":""}]
[null,null,null,"(e)",{"$f":"Translations!$B$479","v":"Erreichte Unsicherheit:"},null,null,null,{"$f":"Translations!$B$480","v":"Anmerkung:"}]
[]
[null,null,null,{"$f":"Translations!$B$490","v":"Berechnungsfaktoren:"}]
[]
[null,null,null,"(f)",{"$f":"Translations!$B$515","v":"Für die Berechnungsfaktoren angewandte Ebenen:"}]
[]
[null,null,null,null,{"$f":"Translations!$B$516","v":"Berechnungsfaktoren"},null,null,{"$f":"Translations!$B$517","v":"vorgeschrie-bene Ebene"},{"$f":"Translations!$B$518","v":"angewandte Ebene"},{"$f":"Translations!$B$519","v":"vollständiger Text für angewandte Ebene"},null,null,null,null,null,null,null,null,"full text tier",null,null,null,"cond. form."]
[null,null,null,"i.",{"$f":"Translations!$B$520","v":"Unterer Heizwert (Hu)"},null,null,{"$f":"IF(H453=\"\",\"\",IF(CNTR_Category=\"A\",INDEX(EUwideConstants!$G:$G,MATCH(Q491,EUwideConstants!$S:$S,0)),INDEX(EUwideConstants!$P:$P,MATCH(Q491,EUwideConstants!$S:$S,0))))","v":""},null,{"$f":"IF(OR(ISBLANK(I491),I491=EUconst_NoTier),\"\",IF(S491=0,EUconst_NotApplicable,IF(ISERROR(S491),\"\",S491)))","v":""},null,null,null,null,null,null,{"$f":"EUconst_CNTR_NCV&H453","v":"NCV_"},null,{"$f":"IF(ISBLANK(I491),\"\",IF(I491=EUconst_NA,\"\",INDEX(EUwideConstants!$H:$O,MATCH(Q491,EUwideConstants!$S:$S,0),MATCH(I491,CNTR_TierList,0))))","v":""},null,null,null,{"$f":"(H491=EUconst_NA)","v":false}]
[null,null,null,"ii.",{"$f":"Translations!$B$521","v":"(vorläufiger) Emissionsfaktor"},null,null,{"$f":"IF(H453=\"\",\"\",IF(CNTR_Category=\"A\",INDEX(EUwideConstants!$G:$G,MATCH(Q492,EUwideConstants!$S:$S,0)),INDEX(EUwideConstants!$P:$P,MATCH(Q492,EUwideConstants!$S:$S,0))))","v":""},null,"",null,null,null,null,null,null,{"$f":"EUconst_CNTR_EF&H453","v":"EF_"},null,{"$f":"IF(ISBLANK(I492),\"\",IF(I492=EUconst_NA,\"\",INDEX(EUwideConstants!$H:$O,MATCH(Q492,EUwideConstants!$S:$S,0),MATCH(I492,CNTR_TierList,0))))","v":""},null,null,null,false]
[null,null,null,"iii.",{"$f":"Translations!$B$522","v":"Oxidationsfaktor"},null,null,{"$f":"IF(H453=\"\",\"\",IF(CNTR_Category=\"A\",INDEX(EUwideConstants!$G:$G,MATCH(Q493,EUwideConstants!$S:$S,0)),INDEX(EUwideConstants!$P:$P,MATCH(Q493,EUwideConstants!$S:$S,0))))","v":""},null,"",null,null,null,null,null,null,{"$f":"EUconst_CNTR_OxidationFactor&H453","v":"OxF_"},null,{"$f":"IF(ISBLANK(I493),\"\",IF(I493=EUconst_NA,\"\",INDEX(EUwideConstants!$H:$O,MATCH(Q493,EUwideConstants!$S:$S,0),MATCH(I493,CNTR_TierList,0))))","v":""},null,null,null,false]
[null,null,null,"iv.",{"$f":"Translations!$B$523","v":"Umsetzungsfaktor"},null,null,{"$f":"IF(H453=\"\",\"\",IF(CNTR_Category=\"A\",INDEX(EUwideConstants!$G:$G,MATCH(Q494,EUwideConstants!$S:$S,0)),INDEX(EUwideConstants!$P:$P,MATCH(Q494,EUwideConstants!$S:$S,0))))","v":""},null,"",null,null,null,null,null,null,{"$f":"EUconst_CNTR_ConversionFactor&H453","v":"ConvF_"},null,{"$f":"IF(ISBLANK(I494),\"\",IF(I494=EUconst_NA,\"\",INDEX(EUwideConstants!$H:$O,MATCH(Q494,EUwideConstants!$S:$S,0),MATCH(I494,CNTR_TierList,0))))","v":""},null,null,null,false]
[null,null,null,"v.",{"$f":"Translations!$B$524","v":"Kohlenstoffgehalt"},null,null,{"$f":"IF(H453=\"\",\"\",IF(CNTR_Category=\"A\",INDEX(EUwideConstants!$G:$G,MATCH(Q495,EUwideConstants!$S:$S,0)),INDEX(EUwideConstants!$P:$P,MATCH(Q495,EUwideConstants!$S:$S,0))))","v":""},null,"",null,null,null,null,null,null,{"$f":"EUconst_CNTR_CarbonContent&H453","v":"CarbC_"},null,{"$f":"IF(ISBLANK(I495),\"\",IF(I495=EUconst_NA,\"\",INDEX(EUwideConstants!$H:$O,MATCH(Q495,EUwideConstants!$S:$S,0),MATCH(I495,CNTR_TierList,0))))","v":""},null,null,null,false]
[null,null,null,"vi.",{"$f":"Translations!$B$525","v":"Biomasseanteil (soweit zutreffend)"},null,null,{"$f":"IF(H453=\"\",\"\",IF(CNTR_Category=\"A\",INDEX(EUwideConstants!$G:$G,MATCH(Q496,EUwideConstants!$S:$S,0)),INDEX(EUwideConstants!$P:$P,MATCH(Q496,EUwideConstants!$S:$S,0))))","v":""},null,"",null,null,null,null,null,null,{"$f":"EUconst_CNTR_BiomassContent&H453","v":"BioC_"},null,{"$f":"IF(ISBLANK(I496),\"\",IF(I496=EUconst_NA,\"\",INDEX(EUwideConstants!$H:$O,MATCH(Q496,EUwideConstants!$S:$S,0),MATCH(I496,CNTR_TierList,0))))","v":""},null,null,null,false]
[]
[null,null,null,"(g)",{"$f":"Translations!$B$534","v":"Einzelheiten zu den Berechnungsfaktoren:"}]
[]
[null,null,null,null,{"$f":"E490","v":"Berechnungsfaktoren"},null,null,{"$f":"I490","v":"angewandte Ebene"},{"$f":"Translations!$B$535","v":"Standard-wert"},{"$f":"Translations!$B$536","v":"Einheit"},{"$f":"Translations!$B$537","v":"Ref. Quelle"},{"$f":"Translations!$B$538","v":"Ref. Analyse"},{"$f":"Translations!$B$539","v":"Ref. Probenahmeplan"},{"$f":"Translations!$B$540","v":"Analyse-häufigkeit"},null,null,null,null,"default value or lab",null,null,null,"cond. form."]
[null,null,null,"i.","Unterer Heizwert (Hu)",null,null,{"$f":"IF(OR(ISBLANK(I491),I491=EUconst_NA),\"\",I491)","v":""},null,null,null,null,null,null,null,null,null,null,{"$f":"IF(H501=\"\",\"\",IF(I491=EUconst_NA,\"\",INDEX(EUwideConstants!$AL:$AR,MATCH(Q491,EUwideConstants!$S:$S,0),MATCH(I491,CNTR_TierList,0))))","v":""},null,null,null,{"$f":"OR(H501=\"\",H501=EUconst_NA,J491=EUconst_NotApplicable)","v":true}]
[null,null,null,"ii.","(vorläufiger) Emissionsfaktor",null,null,"",null,null,null,null,null,null,null,null,null,null,{"$f":"IF(H502=\"\",\"\",IF(I492=EUconst_NA,\"\",INDEX(EUwideConstants!$AL:$AR,MATCH(Q492,EUwideConstants!$S:$S,0),MATCH(I492,CNTR_TierList,0))))","v":""},null,null,null,true]
[null,null,null,"iii.","Oxidationsfaktor",null,null,"",null,null,null,null,null,null,null,null,null,null,{"$f":"IF(H503=\"\",\"\",IF(I493=EUconst_NA,\"\",INDEX(EUwideConstants!$AL:$AR,MATCH(Q493,EUwideConstants!$S:$S,0),MATCH(I493,CNTR_TierList,0))))","v":""},null,null,null,true]
[null,null,null,"iv.","Umsetzungsfaktor",null,null,"",null,null,null,null,null,null,null,null,null,null,{"$f":"IF(H504=\"\",\"\",IF(I494=EUconst_NA,\"\",INDEX(EUwideConstants!$AL:$AR,MATCH(Q494,EUwideConstants!$S:$S,0),MATCH(I494,CNTR_TierList,0))))","v":""},null,null,null,true]
[null,null,null,"v.","Kohlenstoffgehalt",null,null,"",null,null,null,null,null,null,null,null,null,null,{"$f":"IF(H505=\"\",\"\",IF(I495=EUconst_NA,\"\",INDEX(EUwideConstants!$AL:$AR,MATCH(Q495,EUwideConstants!$S:$S,0),MATCH(I495,CNTR_TierList,0))))","v":""},null,null,null,true]
[null,null,null,"vi.","Biomasseanteil (soweit zutreffend)",null,null,"",null,null,null,null,null,null,null,null,null,null,{"$f":"IF(H506=\"\",\"\",IF(I496=EUconst_NA,\"\",INDEX(EUwideConstants!$AL:$AR,MATCH(Q496,EUwideConstants!$S:$S,0),MATCH(I496,CNTR_TierList,0))))","v":""},null,null,null,true]
[]
[null,null,null,{"$f":"Translations!$B$545","v":"Anmerkungen und Erklärungen:"}]
[]
[null,null,null,"(h)",{"$f":"Translations!$B$1198","v":"Anmerkungen oder Begründung für Nichtanwendung der vorgeschriebenen Ebene:"}]
[]
[]
[]
[]
[]
[null,null,null,null,null,null,null,null,null,null,null,null,null,null,null,null,null,null,"Check source stream category","auto","manual"]
[null,null,{"$f":"\"S\"&Q517","v":"S7"},{"$f":"CONCATENATE(Euconst_SourceStream,\" \", Q517,\":\")","v":"Stoffstrom 7:"},null,null,null,{"$f":"IF(INDEX(C_InstallationDescription!$I$194:$I$204,MATCH(C517,C_InstallationDescription!$E$194:$E$204,0))>0,INDEX(C_InstallationDescription!$I$194:$I$204,MATCH(C517,C_InstallationDescription!$E$194:$E$204,0)),\"\")","v":""},null,null,null,null,{"$f":"IF(S517=TRUE,IF(U517=\"\",T517,U517),\"\")","v":""},null,null,null,{"$f":"Q451+1","v":7},null,{"$f":"IF(INDEX(C_InstallationDescription!$M:$M,MATCH(Q519,C_InstallationDescription!$Q:$Q,0))=\"\",FALSE,TRUE)","v":false},{"$f":"IF(S517=TRUE,INDEX(C_InstallationDescription!$M:$M,MATCH(Q519,C_InstallationDescription!$Q:$Q,0)),\"\")","v":""},{"$f":"IF(S517=TRUE,IF(ISBLANK(INDEX(C_InstallationDescription!$N:$N,MATCH(Q519,C_InstallationDescription!$Q:$Q,0))),\"\",INDEX(C_InstallationDescription!$N:$N,MATCH(Q519,C_InstallationDescription!$Q:$Q,0))),\"\")","v":""}]
[]
[null,null,null,null,{"$f":"Translations!$B$437","v":"Stoffstromtyp:"},null,null,{"$f":"IF(INDEX(C_InstallationDescription!$F$194:$F$204,MATCH(C517,C_InstallationDescription!$E$194:$E$204,0))>0,INDEX(C_InstallationDescription!$F$194:$F$204,MATCH(C517,C_InstallationDescription!$E$194:$E$204,0)),\"\")","v":""},null,null,null,null,null,null,null,null,{"$f":"EUconst_CNTR_SourceCategory&C517","v":"SourceCategory_S7"}]
[null,null,null,null,{"$f":"Translations!$B$438","v":"Anwendbares Verfahren gemäß MVO:"},null,null,{"$f":"IF(H519=\"\",\"\",INDEX(EUwideConstants!F:F,MATCH(H519,EUwideConstants!Q:Q,0)))","v":""}]
[null,null,null,null,{"$f":"Translations!$B$439","v":"Parameter, für die die Unsicherheit gilt:"},null,null,{"$f":"IF(H519=\"\",\"\",INDEX(EUwideConstants!E:E,MATCH(H519,EUwideConstants!Q:Q,0)))","v":""}]
[]
[null,null,null,null,{"$f":"IF(H517=\"\",\"\",INDEX(EUconst_SmallEmiSouStreamMsg,MATCH(Q523,EUconst_SmallEmiSouStream,0)))","v":""},null,null,null,null,null,null,null,null,null,null,null,{"$f":"IF(CNTR_SmallEmitter=TRUE,EUconst_CNTR_SmallEmitter,EUconst_CNTR_NoSmallEmitter) & IF((CNTR_Category)=\"\",\"C\",CNTR_Category) & \"_\" & IF(M517=\"\",1,MATCH(M517,SourceCategory,0))","v":"NoSmallEmitter_C_1"}]
[]
[null,null,null,{"$f":"Translations!$B$454","v":"Tätigkeitsdaten:"}]
[]
[null,null,null,"(a)",{"$f":"Translations!$B$455","v":"Verfahren zur Bestimmung der Tätigkeitsdaten:"}]
[]
[null,null,null,"i.",{"$f":"Translations!$B$456","v":"Bestimmungsverfahren:"},null,null,null,null,null,null,null,null,null,null,null,null,null,null,null,null,null,{"$f":"IF(M517=\"\",\"\",IF(M517=INDEX(SourceCategory,3),1,IF(CNTR_InstHasCalculation=FALSE,0,2)))","v":""}]
[]
[null,null,null,null,null,{"$f":"Translations!$B$459","v":"Verweis auf Verfahren für die Bestandsbestimmung am Jahresende:"},null,null,null,null,null,null,null,null,null,null,null,null,null,null,null,{"$f":"IF(OR(H517=\"\",ISBLANK(H529)),FALSE,IF(MATCH(H529,EUconst_ActivityDeterminationMethod,0)=2,TRUE,FALSE))","v":false},{"$f":"IF(V531=TRUE,0,W529)","v":""}]
[]
[null,null,null,"ii.",{"$f":"Translations!$B$462","v":"Gerät unter Kontrolle des "},null,null,null,null,null,null,null,null,null,null,null,null,null,null,null,null,null,{"$f":"W529","v":""}]
[]
[null,null,null,null,"a.",{"$f":"Translations!$B$465","v":"Bitte bestätigen Sie, dass die Bedingungen des Artikels 29 Absatz 2 erfüllt sind:"},null,null,null,null,null,null,null,null,null,null,null,null,null,null,null,{"$f":"IF(OR(H517=\"\",ISBLANK(H533)),FALSE,IF(MATCH(H533,EUconst_OwnerInstrument,0)=1,TRUE,FALSE))","v":false},{"$f":"IF(V535=TRUE,0,W529)","v":""}]
[]
[null,null,null,null,"b.",{"$f":"Translations!$B$468","v":"Bestimmen Sie die Brennstoff- oder Materialienmenge anhand von Rechnungen?"},null,null,null,null,null,null,null,null,null,null,null,null,null,null,null,{"$f":"IF(OR(H517=\"\",ISBLANK(H533)),FALSE,IF(MATCH(H533,EUconst_OwnerInstrument,0)=1,TRUE,FALSE))","v":false},{"$f":"IF(V537=TRUE,0,W529)","v":""}]
[]
[null,null,null,null,"c.",{"$f":"Translations!$B$469","v":"Bitte bestätigen Sie, dass Handelspartner und Inhaber voneinander unabhängig sind:"},null,null,null,null,null,null,null,null,null,null,null,null,null,null,null,{"$f":"IF(OR(H517=\"\",ISBLANK(H533)),FALSE,IF(MATCH(H533,EUconst_OwnerInstrument,0)=1,TRUE,FALSE))","v":false},{"$f":"IF(V539=TRUE,0,W529)","v":""}]
[]
[null,null,null,"(b)",{"$f":"Translations!$B$472","v":"Verwendete Messgeräte:"}]
[]
[null,null,null,null,{"$f":"Translations!$B$475","v":"Anmerkung / Beschreibung des Vorgehens, wenn mehrere Geräte verwendet werden:"}]
[]
[]
[]
[]
[null,null,null,"(c)",{"$f":"Translations!$B$477","v":"Vorgeschriebene Ebene Tätigkeitsdaten:"},null,null,{"$f":"IF(H519=\"\",\"\",IF(CNTR_Category=\"A\",INDEX(EUwideConstants!$G:$G,MATCH(Q548,EUwideConstants!$S:$S,0)),INDEX(EUwideConstants!$P:$P,MATCH(Q548,EUwideConstants!$S:$S,0))))","v":""},{"$f":"IF(H548=\"\",\"\",IF(S548=0,EUconst_NA,IF(ISERROR(S548),\"\",EUconst_MsgTierActivityLevel & \" \" &S548)))","v":""},null,null,null,null,null,null,null,{"$f":"EUconst_CNTR_ActivityData&H519","v":"ActivityData_"},null,{"$f":"IF(H548=\"\",\"\",IF(H548=EUconst_NA,\"\",INDEX(EUwideConstants!$H:$O,MATCH(Q548,EUwideConstants!$S:$S,0),MATCH(H548,CNTR_TierList,0))))","v":""}]
[null,null,null,"(d)",{"$f":"Translations!$B$478","v":"Angewandte Ebene Tätigkeitsdaten:"},null,null,null,{"$f":"IF(OR(ISBLANK(H549),H549=EUconst_NoTier),\"\",IF(S549=0,EUconst_NA,IF(ISERROR(S549),\"\",EUconst_MsgTierActivityLevel & \" \" &S549)))","v":""},null,null,null,null,null,null,null,{"$f":"EUconst_CNTR_ActivityData&H519","v":"ActivityData_"},null,{"$f":"IF(ISBLANK(H549),\"\",IF(H549=EUconst_NA,\"\",INDEX(EUwideConstants!$H:$O,MATCH(Q549,EUwideConstants!$S:$S,0),MATCH(H549,CNTR_TierList,0))))","v":""}]
[null,null,null,"(e)",{"$f":"Translations!$B$479","v":"Erreichte Unsicherheit:"},null,null,null,{"$f":"Translations!$B$480","v":"Anmerkung:"}]
[]
[null,null,null,{"$f":"Translations!$B$490","v":"Berechnungsfaktoren:"}]
[]
[null,null,null,"(f)",{"$f":"Translations!$B$515","v":"Für die Berechnungsfaktoren angewandte Ebenen:"}]
[]
[null,null,null,null,{"$f":"Translations!$B$516","v":"Berechnungsfaktoren"},null,null,{"$f":"Translations!$B$517","v":"vorgeschrie-bene Ebene"},{"$f":"Translations!$B$518","v":"angewandte Ebene"},{"$f":"Translations!$B$519","v":"vollständiger Text für angewandte Ebene"},null,null,null,null,null,null,null,null,"full text tier",null,null,null,"cond. form."]
[null,null,null,"i.",{"$f":"Translations!$B$520","v":"Unterer Heizwert (Hu)"},null,null,{"$f":"IF(H519=\"\",\"\",IF(CNTR_Category=\"A\",INDEX(EUwideConstants!$G:$G,MATCH(Q557,EUwideConstants!$S:$S,0)),INDEX(EUwideConstants!$P:$P,MATCH(Q557,EUwideConstants!$S:$S,0))))","v":""},null,{"$f":"IF(OR(ISBLANK(I557),I557=EUconst_NoTier),\"\",IF(S557=0,EUconst_NotApplicable,IF(ISERROR(S557),\"\",S557)))","v":""},null,null,null,null,null,null,{"$f":"EUconst_CNTR_NCV&H519","v":"NCV_"},null,{"$f":"IF(ISBLANK(I557),\"\",IF(I557=EUconst_NA,\"\",INDEX(EUwideConstants!$H:$O,MATCH(Q557,EUwideConstants!$S:$S,0),MATCH(I557,CNTR_TierList,0))))","v":""},null,null,null,{"$f":"(H557=EUconst_NA)","v":false}]
[null,null,null,"ii.",{"$f":"Translations!$B$521","v":"(vorläufiger) Emissionsfaktor"},null,null,{"$f":"IF(H519=\"\",\"\",IF(CNTR_Category=\"A\",INDEX(EUwideConstants!$G:$G,MATCH(Q558,EUwideConstants!$S:$S,0)),INDEX(EUwideConstants!$P:$P,MATCH(Q558,EUwideConstants!$S:$S,0))))","v":""},null,"",null,null,null,null,null,null,{"$f":"EUconst_CNTR_EF&H519","v":"EF_"},null,{"$f":"IF(ISBLANK(I558),\"\",IF(I558=EUconst_NA,\"\",INDEX(EUwideConstants!$H:$O,MATCH(Q558,EUwideConstants!$S:$S,0),MATCH(I558,CNTR_TierList,0))))","v":""},null,null,null,false]
[null,null,null,"iii.",{"$f":"Translations!$B$522","v":"Oxidationsfaktor"},null,null,{"$f":"IF(H519=\"\",\"\",IF(CNTR_Category=\"A\",INDEX(EUwideConstants!$G:$G,MATCH(Q559,EUwideConstants!$S:$S,0)),INDEX(EUwideConstants!$P:$P,MATCH(Q559,EUwideConstants!$S:$S,0))))","v":""},null,"",null,null,null,null,null,null,{"$f":"EUconst_CNTR_OxidationFactor&H519","v":"OxF_"},null,{"$f":"IF(ISBLANK(I559),\"\",IF(I559=EUconst_NA,\"\",INDEX(EUwideConstants!$H:$O,MATCH(Q559,EUwideConstants!$S:$S,0),MATCH(I559,CNTR_TierList,0))))","v":""},null,null,null,false]
[null,null,null,"iv.",{"$f":"Translations!$B$523","v":"Umsetzungsfaktor"},null,null,{"$f":"IF(H519=\"\",\"\",IF(CNTR_Category=\"A\",INDEX(EUwideConstants!$G:$G,MATCH(Q560,EUwideConstants!$S:$S,0)),INDEX(EUwideConstants!$P:$P,MATCH(Q560,EUwideConstants!$S:$S,0))))","v":""},null,"",null,null,null,null,null,null,{"$f":"EUconst_CNTR_ConversionFactor&H519","v":"ConvF_"},null,{"$f":"IF(ISBLANK(I560),\"\",IF(I560=EUconst_NA,\"\",INDEX(EUwideConstants!$H:$O,MATCH(Q560,EUwideConstants!$S:$S,0),MATCH(I560,CNTR_TierList,0))))","v":""},null,null,null,false]
[null,null,null,"v.",{"$f":"Translations!$B$524","v":"Kohlenstoffgehalt"},null,null,{"$f":"IF(H519=\"\",\"\",IF(CNTR_Category=\"A\",INDEX(EUwideConstants!$G:$G,MATCH(Q561,EUwideConstants!$S:$S,0)),INDEX(EUwideConstants!$P:$P,MATCH(Q561,EUwideConstants!$S:$S,0))))","v":""},null,"",null,null,null,null,null,null,{"$f":"EUconst_CNTR_CarbonContent&H519","v":"CarbC_"},null,{"$f":"IF(ISBLANK(I561),\"\",IF(I561=EUconst_NA,\"\",INDEX(EUwideConstants!$H:$O,MATCH(Q561,EUwideConstants!$S:$S,0),MATCH(I561,CNTR_TierList,0))))","v":""},null,null,null,false]
[null,null,null,"vi.",{"$f":"Translations!$B$525","v":"Biomasseanteil (soweit zutreffend)"},null,null,{"$f":"IF(H519=\"\",\"\",IF(CNTR_Category=\"A\",INDEX(EUwideConstants!$G:$G,MATCH(Q562,EUwideConstants!$S:$S,0)),INDEX(EUwideConstants!$P:$P,MATCH(Q562,EUwideConstants!$S:$S,0))))","v":""},null,"",null,null,null,null,null,null,{"$f":"EUconst_CNTR_BiomassContent&H519","v":"BioC_"},null,{"$f":"IF(ISBLANK(I562),\"\",IF(I562=EUconst_NA,\"\",INDEX(EUwideConstants!$H:$O,MATCH(Q562,EUwideConstants!$S:$S,0),MATCH(I562,CNTR_TierList,0))))","v":""},null,null,null,false]
[]
[null,null,null,"(g)",{"$f":"Translations!$B$534","v":"Einzelheiten zu den Berechnungsfaktoren:"}]
[]
[null,null,null,null,{"$f":"E556","v":"Berechnungsfaktoren"},null,null,{"$f":"I556","v":"angewandte Ebene"},{"$f":"Translations!$B$535","v":"Standard-wert"},{"$f":"Translations!$B$536","v":"Einheit"},{"$f":"Translations!$B$537","v":"Ref. Quelle"},{"$f":"Translations!$B$538","v":"Ref. Analyse"},{"$f":"Translations!$B$539","v":"Ref. Probenahmeplan"},{"$f":"Translations!$B$540","v":"Analyse-häufigkeit"},null,null,null,null,"default value or lab",null,null,null,"cond. form."]
[null,null,null,"i.","Unterer Heizwert (Hu)",null,null,{"$f":"IF(OR(ISBLANK(I557),I557=EUconst_NA),\"\",I557)","v":""},null,null,null,null,null,null,null,null,null,null,{"$f":"IF(H567=\"\",\"\",IF(I557=EUconst_NA,\"\",INDEX(EUwideConstants!$AL:$AR,MATCH(Q557,EUwideConstants!$S:$S,0),MATCH(I557,CNTR_TierList,0))))","v":""},null,null,null,{"$f":"OR(H567=\"\",H567=EUconst_NA,J557=EUconst_NotApplicable)","v":true}]
[null,null,null,"ii.","(vorläufiger) Emissionsfaktor",null,null,"",null,null,null,null,null,null,null,null,null,null,{"$f":"IF(H568=\"\",\"\",IF(I558=EUconst_NA,\"\",INDEX(EUwideConstants!$AL:$AR,MATCH(Q558,EUwideConstants!$S:$S,0),MATCH(I558,CNTR_TierList,0))))","v":""},null,null,null,true]
[null,null,null,"iii.","Oxidationsfaktor",null,null,"",null,null,null,null,null,null,null,null,null,null,{"$f":"IF(H569=\"\",\"\",IF(I559=EUconst_NA,\"\",INDEX(EUwideConstants!$AL:$AR,MATCH(Q559,EUwideConstants!$S:$S,0),MATCH(I559,CNTR_TierList,0))))","v":""},null,null,null,true]
[null,null,null,"iv.","Umsetzungsfaktor",null,null,"",null,null,null,null,null,null,null,null,null,null,{"$f":"IF(H570=\"\",\"\",IF(I560=EUconst_NA,\"\",INDEX(EUwideConstants!$AL:$AR,MATCH(Q560,EUwideConstants!$S:$S,0),MATCH(I560,CNTR_TierList,0))))","v":""},null,null,null,true]
[null,null,null,"v.","Kohlenstoffgehalt",null,null,"",null,null,null,null,null,null,null,null,null,null,{"$f":"IF(H571=\"\",\"\",IF(I561=EUconst_NA,\"\",INDEX(EUwideConstants!$AL:$AR,MATCH(Q561,EUwideConstants!$S:$S,0),MATCH(I561,CNTR_TierList,0))))","v":""},null,null,null,true]
[null,null,null,"vi.","Biomasseanteil (soweit zutreffend)",null,null,"",null,null,null,null,null,null,null,null,null,null,{"$f":"IF(H572=\"\",\"\",IF(I562=EUconst_NA,\"\",INDEX(EUwideConstants!$AL:$AR,MATCH(Q562,EUwideConstants!$S:$S,0),MATCH(I562,CNTR_TierList,0))))","v":""},null,null,null,true]
[]
[null,null,null,{"$f":"Translations!$B$545","v":"Anmerkungen und Erklärungen:"}]
[]
[null,null,null,"(h)",{"$f":"Translations!$B$1198","v":"Anmerkungen oder Begründung für Nichtanwendung der vorgeschriebenen Ebene:"}]
[]
[]
[]
[]
[]
[null,null,null,null,null,null,null,null,null,null,null,null,null,null,null,null,null,null,"Check source stream category","auto","manual"]
[null,null,{"$f":"\"S\"&Q583","v":"S8"},{"$f":"CONCATENATE(Euconst_SourceStream,\" \", Q583,\":\")","v":"Stoffstrom 8:"},null,null,null,{"$f":"IF(INDEX(C_InstallationDescription!$I$194:$I$204,MATCH(C583,C_InstallationDescription!$E$194:$E$204,0))>0,INDEX(C_InstallationDescription!$I$194:$I$204,MATCH(C583,C_InstallationDescription!$E$194:$E$204,0)),\"\")","v":""},null,null,null,null,{"$f":"IF(S583=TRUE,IF(U583=\"\",T583,U583),\"\")","v":""},null,null,null,{"$f":"Q517+1","v":8},null,{"$f":"IF(INDEX(C_InstallationDescription!$M:$M,MATCH(Q585,C_InstallationDescription!$Q:$Q,0))=\"\",FALSE,TRUE)","v":false},{"$f":"IF(S583=TRUE,INDEX(C_InstallationDescription!$M:$M,MATCH(Q585,C_InstallationDescription!$Q:$Q,0)),\"\")","v":""},{"$f":"IF(S583=TRUE,IF(ISBLANK(INDEX(C_InstallationDescription!$N:$N,MATCH(Q585,C_InstallationDescription!$Q:$Q,0))),\"\",INDEX(C_InstallationDescription!$N:$N,MATCH(Q585,C_InstallationDescription!$Q:$Q,0))),\"\")","v":""}]
[]
[null,null,null,null,{"$f":"Translations!$B$437","v":"Stoffstromtyp:"},null,null,{"$f":"IF(INDEX(C_InstallationDescription!$F$194:$F$204,MATCH(C583,C_InstallationDescription!$E$194:$E$204,0))>0,INDEX(C_InstallationDescription!$F$194:$F$204,MATCH(C583,C_InstallationDescription!$E$194:$E$204,0)),\"\")","v":""},null,null,null,null,null,null,null,null,{"$f":"EUconst_CNTR_SourceCategory&C583","v":"SourceCategory_S8"}]
[null,null,null,null,{"$f":"Translations!$B$438","v":"Anwendbares Verfahren gemäß MVO:"},null,null,{"$f":"IF(H585=\"\",\"\",INDEX(EUwideConstants!F:F,MATCH(H585,EUwideConstants!Q:Q,0)))","v":""}]
[null,null,null,null,{"$f":"Translations!$B$439","v":"Parameter, für die die Unsicherheit gilt:"},null,null,{"$f":"IF(H585=\"\",\"\",INDEX(EUwideConstants!E:E,MATCH(H585,EUwideConstants!Q:Q,0)))","v":""}]
[]
[null,null,null,null,{"$f":"IF(H583=\"\",\"\",INDEX(EUconst_SmallEmiSouStreamMsg,MATCH(Q589,EUconst_SmallEmiSouStream,0)))","v":""},null,null,null,null,null,null,null,null,null,null,null,{"$f":"IF(CNTR_SmallEmitter=TRUE,EUconst_CNTR_SmallEmitter,EUconst_CNTR_NoSmallEmitter) & IF((CNTR_Category)=\"\",\"C\",CNTR_Category) & \"_\" & IF(M583=\"\",1,MATCH(M583,SourceCategory,0))","v":"NoSmallEmitter_C_1"}]
[]
[null,null,null,{"$f":"Translations!$B$454","v":"Tätigkeitsdaten:"}]
[]
[null,null,null,"(a)",{"$f":"Translations!$B$455","v":"Verfahren zur Bestimmung der Tätigkeitsdaten:"}]
[]
[null,null,null,"i.",{"$f":"Translations!$B$456","v":"Bestimmungsverfahren:"},null,null,null,null,null,null,null,null,null,null,null,null,null,null,null,null,null,{"$f":"IF(M583=\"\",\"\",IF(M583=INDEX(SourceCategory,3),1,IF(CNTR_InstHasCalculation=FALSE,0,2)))","v":""}]
[]
[null,null,null,null,null,{"$f":"Translations!$B$459","v":"Verweis auf Verfahren für die Bestandsbestimmung am Jahresende:"},null,null,null,null,null,null,null,null,null,null,null,null,null,null,null,{"$f":"IF(OR(H583=\"\",ISBLANK(H595)),FALSE,IF(MATCH(H595,EUconst_ActivityDeterminationMethod,0)=2,TRUE,FALSE))","v":false},{"$f":"IF(V597=TRUE,0,W595)","v":""}]
[]
[null,null,null,"ii.",{"$f":"Translations!$B$462","v":"Gerät unter Kontrolle des "},null,null,null,null,null,null,null,null,null,null,null,null,null,null,null,null,null,{"$f":"W595","v":""}]
[]
[null,null,null,null,"a.",{"$f":"Translations!$B$465","v":"Bitte bestätigen Sie, dass die Bedingungen des Artikels 29 Absatz 2 erfüllt sind:"},null,null,null,null,null,null,null,null,null,null,null,null,null,null,null,{"$f":"IF(OR(H583=\"\",ISBLANK(H599)),FALSE,IF(MATCH(H599,EUconst_OwnerInstrument,0)=1,TRUE,FALSE))","v":false},{"$f":"IF(V601=TRUE,0,W595)","v":""}]
[]
[null,null,null,null,"b.",{"$f":"Translations!$B$468","v":"Bestimmen Sie die Brennstoff- oder Materialienmenge anhand von Rechnungen?"},null,null,null,null,null,null,null,null,null,null,null,null,null,null,null,{"$f":"IF(OR(H583=\"\",ISBLANK(H599)),FALSE,IF(MATCH(H599,EUconst_OwnerInstrument,0)=1,TRUE,FALSE))","v":false},{"$f":"IF(V603=TRUE,0,W595)","v":""}]
[]
[null,null,null,null,"c.",{"$f":"Translations!$B$469","v":"Bitte bestätigen Sie, dass Handelspartner und Inhaber voneinander unabhängig sind:"},null,null,null,null,null,null,null,null,null,null,null,null,null,null,null,{"$f":"IF(OR(H583=\"\",ISBLANK(H599)),FALSE,IF(MATCH(H599,EUconst_OwnerInstrument,0)=1,TRUE,FALSE))","v":false},{"$f":"IF(V605=TRUE,0,W595)","v":""}]
[]
[null,null,null,"(b)",{"$f":"Translations!$B$472","v":"Verwendete Messgeräte:"}]
[]
[null,null,null,null,{"$f":"Translations!$B$475","v":"Anmerkung / Beschreibung des Vorgehens, wenn mehrere Geräte verwendet werden:"}]
[]
[]
[]
[]
[null,null,null,"(c)",{"$f":"Translations!$B$477","v":"Vorgeschriebene Ebene Tätigkeitsdaten:"},null,null,{"$f":"IF(H585=\"\",\"\",IF(CNTR_Category=\"A\",INDEX(EUwideConstants!$G:$G,MATCH(Q614,EUwideConstants!$S:$S,0)),INDEX(EUwideConstants!$P:$P,MATCH(Q614,EUwideConstants!$S:$S,0))))","v":""},{"$f":"IF(H614=\"\",\"\",IF(S614=0,EUconst_NA,IF(ISERROR(S614),\"\",EUconst_MsgTierActivityLevel & \" \" &S614)))","v":""},null,null,null,null,null,null,null,{"$f":"EUconst_CNTR_ActivityData&H585","v":"ActivityData_"},null,{"$f":"IF(H614=\"\",\"\",IF(H614=EUconst_NA,\"\",INDEX(EUwideConstants!$H:$O,MATCH(Q614,EUwideConstants!$S:$S,0),MATCH(H614,CNTR_TierList,0))))","v":""}]
[null,null,null,"(d)",{"$f":"Translations!$B$478","v":"Angewandte Ebene Tätigkeitsdaten:"},null,null,null,{"$f":"IF(OR(ISBLANK(H615),H615=EUconst_NoTier),\"\",IF(S615=0,EUconst_NA,IF(ISERROR(S615),\"\",EUconst_MsgTierActivityLevel & \" \" &S615)))","v":""},null,null,null,null,null,null,null,{"$f":"EUconst_CNTR_ActivityData&H585","v":"ActivityData_"},null,{"$f":"IF(ISBLANK(H615),\"\",IF(H615=EUconst_NA,\"\",INDEX(EUwideConstants!$H:$O,MATCH(Q615,EUwideConstants!$S:$S,0),MATCH(H615,CNTR_TierList,0))))","v":""}]
[null,null,null,"(e)",{"$f":"Translations!$B$479","v":"Erreichte Unsicherheit:"},null,null,null,{"$f":"Translations!$B$480","v":"Anmerkung:"}]
[]
[null,null,null,{"$f":"Translations!$B$490","v":"Berechnungsfaktoren:"}]
[]
[null,null,null,"(f)",{"$f":"Translations!$B$515","v":"Für die Berechnungsfaktoren angewandte Ebenen:"}]
[]
[null,null,null,null,{"$f":"Translations!$B$516","v":"Berechnungsfaktoren"},null,null,{"$f":"Translations!$B$517","v":"vorgeschrie-bene Ebene"},{"$f":"Translations!$B$518","v":"angewandte Ebene"},{"$f":"Translations!$B$519","v":"vollständiger Text für angewandte Ebene"},null,null,null,null,null,null,null,null,"full text tier",null,null,null,"cond. form."]
[null,null,null,"i.",{"$f":"Translations!$B$520","v":"Unterer Heizwert (Hu)"},null,null,{"$f":"IF(H585=\"\",\"\",IF(CNTR_Category=\"A\",INDEX(EUwideConstants!$G:$G,MATCH(Q623,EUwideConstants!$S:$S,0)),INDEX(EUwideConstants!$P:$P,MATCH(Q623,EUwideConstants!$S:$S,0))))","v":""},null,{"$f":"IF(OR(ISBLANK(I623),I623=EUconst_NoTier),\"\",IF(S623=0,EUconst_NotApplicable,IF(ISERROR(S623),\"\",S623)))","v":""},null,null,null,null,null,null,{"$f":"EUconst_CNTR_NCV&H585","v":"NCV_"},null,{"$f":"IF(ISBLANK(I623),\"\",IF(I623=EUconst_NA,\"\",INDEX(EUwideConstants!$H:$O,MATCH(Q623,EUwideConstants!$S:$S,0),MATCH(I623,CNTR_TierList,0))))","v":""},null,null,null,{"$f":"(H623=EUconst_NA)","v":false}]
[null,null,null,"ii.",{"$f":"Translations!$B$521","v":"(vorläufiger) Emissionsfaktor"},null,null,{"$f":"IF(H585=\"\",\"\",IF(CNTR_Category=\"A\",INDEX(EUwideConstants!$G:$G,MATCH(Q624,EUwideConstants!$S:$S,0)),INDEX(EUwideConstants!$P:$P,MATCH(Q624,EUwideConstants!$S:$S,0))))","v":""},null,"",null,null,null,null,null,null,{"$f":"EUconst_CNTR_EF&H585","v":"EF_"},null,{"$f":"IF(ISBLANK(I624),\"\",IF(I624=EUconst_NA,\"\",INDEX(EUwideConstants!$H:$O,MATCH(Q624,EUwideConstants!$S:$S,0),MATCH(I624,CNTR_TierList,0))))","v":""},null,null,null,false]
[null,null,null,"iii.",{"$f":"Translations!$B$522","v":"Oxidationsfaktor"},null,null,{"$f":"IF(H585=\"\",\"\",IF(CNTR_Category=\"A\",INDEX(EUwideConstants!$G:$G,MATCH(Q625,EUwideConstants!$S:$S,0)),INDEX(EUwideConstants!$P:$P,MATCH(Q625,EUwideConstants!$S:$S,0))))","v":""},null,"",null,null,null,null,null,null,{"$f":"EUconst_CNTR_OxidationFactor&H585","v":"OxF_"},null,{"$f":"IF(ISBLANK(I625),\"\",IF(I625=EUconst_NA,\"\",INDEX(EUwideConstants!$H:$O,MATCH(Q625,EUwideConstants!$S:$S,0),MATCH(I625,CNTR_TierList,0))))","v":""},null,null,null,false]
[null,null,null,"iv.",{"$f":"Translations!$B$523","v":"Umsetzungsfaktor"},null,null,{"$f":"IF(H585=\"\",\"\",IF(CNTR_Category=\"A\",INDEX(EUwideConstants!$G:$G,MATCH(Q626,EUwideConstants!$S:$S,0)),INDEX(EUwideConstants!$P:$P,MATCH(Q626,EUwideConstants!$S:$S,0))))","v":""},null,"",null,null,null,null,null,null,{"$f":"EUconst_CNTR_ConversionFactor&H585","v":"ConvF_"},null,{"$f":"IF(ISBLANK(I626),\"\",IF(I626=EUconst_NA,\"\",INDEX(EUwideConstants!$H:$O,MATCH(Q626,EUwideConstants!$S:$S,0),MATCH(I626,CNTR_TierList,0))))","v":""},null,null,null,false]
[null,null,null,"v.",{"$f":"Translations!$B$524","v":"Kohlenstoffgehalt"},null,null,{"$f":"IF(H585=\"\",\"\",IF(CNTR_Category=\"A\",INDEX(EUwideConstants!$G:$G,MATCH(Q627,EUwideConstants!$S:$S,0)),INDEX(EUwideConstants!$P:$P,MATCH(Q627,EUwideConstants!$S:$S,0))))","v":""},null,"",null,null,null,null,null,null,{"$f":"EUconst_CNTR_CarbonContent&H585","v":"CarbC_"},null,{"$f":"IF(ISBLANK(I627),\"\",IF(I627=EUconst_NA,\"\",INDEX(EUwideConstants!$H:$O,MATCH(Q627,EUwideConstants!$S:$S,0),MATCH(I627,CNTR_TierList,0))))","v":""},null,null,null,false]
[null,null,null,"vi.",{"$f":"Translations!$B$525","v":"Biomasseanteil (soweit zutreffend)"},null,null,{"$f":"IF(H585=\"\",\"\",IF(CNTR_Category=\"A\",INDEX(EUwideConstants!$G:$G,MATCH(Q628,EUwideConstants!$S:$S,0)),INDEX(EUwideConstants!$P:$P,MATCH(Q628,EUwideConstants!$S:$S,0))))","v":""},null,"",null,null,null,null,null,null,{"$f":"EUconst_CNTR_BiomassContent&H585","v":"BioC_"},null,{"$f":"IF(ISBLANK(I628),\"\",IF(I628=EUconst_NA,\"\",INDEX(EUwideConstants!$H:$O,MATCH(Q628,EUwideConstants!$S:$S,0),MATCH(I628,CNTR_TierList,0))))","v":""},null,null,null,false]
[]
[null,null,null,"(g)",{"$f":"Translations!$B$534","v":"Einzelheiten zu den Berechnungsfaktoren:"}]
[]
[null,null,null,null,{"$f":"E622","v":"Berechnungsfaktoren"},null,null,{"$f":"I622","v":"angewandte Ebene"},{"$f":"Translations!$B$535","v":"Standard-wert"},{"$f":"Translations!$B$536","v":"Einheit"},{"$f":"Translations!$B$537","v":"Ref. Quelle"},{"$f":"Translations!$B$538","v":"Ref. Analyse"},{"$f":"Translations!$B$539","v":"Ref. Probenahmeplan"},{"$f":"Translations!$B$540","v":"Analyse-häufigkeit"},null,null,null,null,"default value or lab",null,null,null,"cond. form."]
[null,null,null,"i.","Unterer Heizwert (Hu)",null,null,{"$f":"IF(OR(ISBLANK(I623),I623=EUconst_NA),\"\",I623)","v":""},null,null,null,null,null,null,null,null,null,null,{"$f":"IF(H633=\"\",\"\",IF(I623=EUconst_NA,\"\",INDEX(EUwideConstants!$AL:$AR,MATCH(Q623,EUwideConstants!$S:$S,0),MATCH(I623,CNTR_TierList,0))))","v":""},null,null,null,{"$f":"OR(H633=\"\",H633=EUconst_NA,J623=EUconst_NotApplicable)","v":true}]
[null,null,null,"ii.","(vorläufiger) Emissionsfaktor",null,null,"",null,null,null,null,null,null,null,null,null,null,{"$f":"IF(H634=\"\",\"\",IF(I624=EUconst_NA,\"\",INDEX(EUwideConstants!$AL:$AR,MATCH(Q624,EUwideConstants!$S:$S,0),MATCH(I624,CNTR_TierList,0))))","v":""},null,null,null,true]
[null,null,null,"iii.","Oxidationsfaktor",null,null,"",null,null,null,null,null,null,null,null,null,null,{"$f":"IF(H635=\"\",\"\",IF(I625=EUconst_NA,\"\",INDEX(EUwideConstants!$AL:$AR,MATCH(Q625,EUwideConstants!$S:$S,0),MATCH(I625,CNTR_TierList,0))))","v":""},null,null,null,true]
[null,null,null,"iv.","Umsetzungsfaktor",null,null,"",null,null,null,null,null,null,null,null,null,null,{"$f":"IF(H636=\"\",\"\",IF(I626=EUconst_NA,\"\",INDEX(EUwideConstants!$AL:$AR,MATCH(Q626,EUwideConstants!$S:$S,0),MATCH(I626,CNTR_TierList,0))))","v":""},null,null,null,true]
[null,null,null,"v.","Kohlenstoffgehalt",null,null,"",null,null,null,null,null,null,null,null,null,null,{"$f":"IF(H637=\"\",\"\",IF(I627=EUconst_NA,\"\",INDEX(EUwideConstants!$AL:$AR,MATCH(Q627,EUwideConstants!$S:$S,0),MATCH(I627,CNTR_TierList,0))))","v":""},null,null,null,true]
[null,null,null,"vi.","Biomasseanteil (soweit zutreffend)",null,null,"",null,null,null,null,null,null,null,null,null,null,{"$f":"IF(H638=\"\",\"\",IF(I628=EUconst_NA,\"\",INDEX(EUwideConstants!$AL:$AR,MATCH(Q628,EUwideConstants!$S:$S,0),MATCH(I628,CNTR_TierList,0))))","v":""},null,null,null,true]
[]
[null,null,null,{"$f":"Translations!$B$545","v":"Anmerkungen und Erklärungen:"}]
[]
[null,null,null,"(h)",{"$f":"Translations!$B$1198","v":"Anmerkungen oder Begründung für Nichtanwendung der vorgeschriebenen Ebene:"}]
[]
[]
[]
[]
[]
[null,null,null,null,null,null,null,null,null,null,null,null,null,null,null,null,null,null,"Check source stream category","auto","manual"]
[null,null,{"$f":"\"S\"&Q649","v":"S9"},{"$f":"CONCATENATE(Euconst_SourceStream,\" \", Q649,\":\")","v":"Stoffstrom 9:"},null,null,null,{"$f":"IF(INDEX(C_InstallationDescription!$I$194:$I$204,MATCH(C649,C_InstallationDescription!$E$194:$E$204,0))>0,INDEX(C_InstallationDescription!$I$194:$I$204,MATCH(C649,C_InstallationDescription!$E$194:$E$204,0)),\"\")","v":""},null,null,null,null,{"$f":"IF(S649=TRUE,IF(U649=\"\",T649,U649),\"\")","v":""},null,null,null,{"$f":"Q583+1","v":9},null,{"$f":"IF(INDEX(C_InstallationDescription!$M:$M,MATCH(Q651,C_InstallationDescription!$Q:$Q,0))=\"\",FALSE,TRUE)","v":false},{"$f":"IF(S649=TRUE,INDEX(C_InstallationDescription!$M:$M,MATCH(Q651,C_InstallationDescription!$Q:$Q,0)),\"\")","v":""},{"$f":"IF(S649=TRUE,IF(ISBLANK(INDEX(C_InstallationDescription!$N:$N,MATCH(Q651,C_InstallationDescription!$Q:$Q,0))),\"\",INDEX(C_InstallationDescription!$N:$N,MATCH(Q651,C_InstallationDescription!$Q:$Q,0))),\"\")","v":""}]
[]
[null,null,null,null,{"$f":"Translations!$B$437","v":"Stoffstromtyp:"},null,null,{"$f":"IF(INDEX(C_InstallationDescription!$F$194:$F$204,MATCH(C649,C_InstallationDescription!$E$194:$E$204,0))>0,INDEX(C_InstallationDescription!$F$194:$F$204,MATCH(C649,C_InstallationDescription!$E$194:$E$204,0)),\"\")","v":""},null,null,null,null,null,null,null,null,{"$f":"EUconst_CNTR_SourceCategory&C649","v":"SourceCategory_S9"}]
[null,null,null,null,{"$f":"Translations!$B$438","v":"Anwendbares Verfahren gemäß MVO:"},null,null,{"$f":"IF(H651=\"\",\"\",INDEX(EUwideConstants!F:F,MATCH(H651,EUwideConstants!Q:Q,0)))","v":""}]
[null,null,null,null,{"$f":"Translations!$B$439","v":"Parameter, für die die Unsicherheit gilt:"},null,null,{"$f":"IF(H651=\"\",\"\",INDEX(EUwideConstants!E:E,MATCH(H651,EUwideConstants!Q:Q,0)))","v":""}]
[]
[null,null,null,null,{"$f":"IF(H649=\"\",\"\",INDEX(EUconst_SmallEmiSouStreamMsg,MATCH(Q655,EUconst_SmallEmiSouStream,0)))","v":""},null,null,null,null,null,null,null,null,null,null,null,{"$f":"IF(CNTR_SmallEmitter=TRUE,EUconst_CNTR_SmallEmitter,EUconst_CNTR_NoSmallEmitter) & IF((CNTR_Category)=\"\",\"C\",CNTR_Category) & \"_\" & IF(M649=\"\",1,MATCH(M649,SourceCategory,0))","v":"NoSmallEmitter_C_1"}]
[]
[null,null,null,{"$f":"Translations!$B$454","v":"Tätigkeitsdaten:"}]
[]
[null,null,null,"(a)",{"$f":"Translations!$B$455","v":"Verfahren zur Bestimmung der Tätigkeitsdaten:"}]
[]
[null,null,null,"i.",{"$f":"Translations!$B$456","v":"Bestimmungsverfahren:"},null,null,null,null,null,null,null,null,null,null,null,null,null,null,null,null,null,{"$f":"IF(M649=\"\",\"\",IF(M649=INDEX(SourceCategory,3),1,IF(CNTR_InstHasCalculation=FALSE,0,2)))","v":""}]
[]
[null,null,null,null,null,{"$f":"Translations!$B$459","v":"Verweis auf Verfahren für die Bestandsbestimmung am Jahresende:"},null,null,null,null,null,null,null,null,null,null,null,null,null,null,null,{"$f":"IF(OR(H649=\"\",ISBLANK(H661)),FALSE,IF(MATCH(H661,EUconst_ActivityDeterminationMethod,0)=2,TRUE,FALSE))","v":false},{"$f":"IF(V663=TRUE,0,W661)","v":""}]
[]
[null,null,null,"ii.",{"$f":"Translations!$B$462","v":"Gerät unter Kontrolle des "},null,null,null,null,null,null,null,null,null,null,null,null,null,null,null,null,null,{"$f":"W661","v":""}]
[]
[null,null,null,null,"a.",{"$f":"Translations!$B$465","v":"Bitte bestätigen Sie, dass die Bedingungen des Artikels 29 Absatz 2 erfüllt sind:"},null,null,null,null,null,null,null,null,null,null,null,null,null,null,null,{"$f":"IF(OR(H649=\"\",ISBLANK(H665)),FALSE,IF(MATCH(H665,EUconst_OwnerInstrument,0)=1,TRUE,FALSE))","v":false},{"$f":"IF(V667=TRUE,0,W661)","v":""}]
[]
[null,null,null,null,"b.",{"$f":"Translations!$B$468","v":"Bestimmen Sie die Brennstoff- oder Materialienmenge anhand von Rechnungen?"},null,null,null,null,null,null,null,null,null,null,null,null,null,null,null,{"$f":"IF(OR(H649=\"\",ISBLANK(H665)),FALSE,IF(MATCH(H665,EUconst_OwnerInstrument,0)=1,TRUE,FALSE))","v":false},{"$f":"IF(V669=TRUE,0,W661)","v":""}]
[]
[null,null,null,null,"c.",{"$f":"Translations!$B$469","v":"Bitte bestätigen Sie, dass Handelspartner und Inhaber voneinander unabhängig sind:"},null,null,null,null,null,null,null,null,null,null,null,null,null,null,null,{"$f":"IF(OR(H649=\"\",ISBLANK(H665)),FALSE,IF(MATCH(H665,EUconst_OwnerInstrument,0)=1,TRUE,FALSE))","v":false},{"$f":"IF(V671=TRUE,0,W661)","v":""}]
[]
[null,null,null,"(b)",{"$f":"Translations!$B$472","v":"Verwendete Messgeräte:"}]
[]
[null,null,null,null,{"$f":"Translations!$B$475","v":"Anmerkung / Beschreibung des Vorgehens, wenn mehrere Geräte verwendet werden:"}]
[]
[]
[]
[]
[null,null,null,"(c)",{"$f":"Translations!$B$477","v":"Vorgeschriebene Ebene Tätigkeitsdaten:"},null,null,{"$f":"IF(H651=\"\",\"\",IF(CNTR_Category=\"A\",INDEX(EUwideConstants!$G:$G,MATCH(Q680,EUwideConstants!$S:$S,0)),INDEX(EUwideConstants!$P:$P,MATCH(Q680,EUwideConstants!$S:$S,0))))","v":""},{"$f":"IF(H680=\"\",\"\",IF(S680=0,EUconst_NA,IF(ISERROR(S680),\"\",EUconst_MsgTierActivityLevel & \" \" &S680)))","v":""},null,null,null,null,null,null,null,{"$f":"EUconst_CNTR_ActivityData&H651","v":"ActivityData_"},null,{"$f":"IF(H680=\"\",\"\",IF(H680=EUconst_NA,\"\",INDEX(EUwideConstants!$H:$O,MATCH(Q680,EUwideConstants!$S:$S,0),MATCH(H680,CNTR_TierList,0))))","v":""}]
[null,null,null,"(d)",{"$f":"Translations!$B$478","v":"Angewandte Ebene Tätigkeitsdaten:"},null,null,null,{"$f":"IF(OR(ISBLANK(H681),H681=EUconst_NoTier),\"\",IF(S681=0,EUconst_NA,IF(ISERROR(S681),\"\",EUconst_MsgTierActivityLevel & \" \" &S681)))","v":""},null,null,null,null,null,null,null,{"$f":"EUconst_CNTR_ActivityData&H651","v":"ActivityData_"},null,{"$f":"IF(ISBLANK(H681),\"\",IF(H681=EUconst_NA,\"\",INDEX(EUwideConstants!$H:$O,MATCH(Q681,EUwideConstants!$S:$S,0),MATCH(H681,CNTR_TierList,0))))","v":""}]
[null,null,null,"(e)",{"$f":"Translations!$B$479","v":"Erreichte Unsicherheit:"},null,null,null,{"$f":"Translations!$B$480","v":"Anmerkung:"}]
[]
[null,null,null,{"$f":"Translations!$B$490","v":"Berechnungsfaktoren:"}]
[]
[null,null,null,"(f)",{"$f":"Translations!$B$515","v":"Für die Berechnungsfaktoren angewandte Ebenen:"}]
[]
[null,null,null,null,{"$f":"Translations!$B$516","v":"Berechnungsfaktoren"},null,null,{"$f":"Translations!$B$517","v":"vorgeschrie-bene Ebene"},{"$f":"Translations!$B$518","v":"angewandte Ebene"},{"$f":"Translations!$B$519","v":"vollständiger Text für angewandte Ebene"},null,null,null,null,null,null,null,null,"full text tier",null,null,null,"cond. form."]
[null,null,null,"i.",{"$f":"Translations!$B$520","v":"Unterer Heizwert (Hu)"},null,null,{"$f":"IF(H651=\"\",\"\",IF(CNTR_Category=\"A\",INDEX(EUwideConstants!$G:$G,MATCH(Q689,EUwideConstants!$S:$S,0)),INDEX(EUwideConstants!$P:$P,MATCH(Q689,EUwideConstants!$S:$S,0))))","v":""},null,{"$f":"IF(OR(ISBLANK(I689),I689=EUconst_NoTier),\"\",IF(S689=0,EUconst_NotApplicable,IF(ISERROR(S689),\"\",S689)))","v":""},null,null,null,null,null,null,{"$f":"EUconst_CNTR_NCV&H651","v":"NCV_"},null,{"$f":"IF(ISBLANK(I689),\"\",IF(I689=EUconst_NA,\"\",INDEX(EUwideConstants!$H:$O,MATCH(Q689,EUwideConstants!$S:$S,0),MATCH(I689,CNTR_TierList,0))))","v":""},null,null,null,{"$f":"(H689=EUconst_NA)","v":false}]
[null,null,null,"ii.",{"$f":"Translations!$B$521","v":"(vorläufiger) Emissionsfaktor"},null,null,{"$f":"IF(H651=\"\",\"\",IF(CNTR_Category=\"A\",INDEX(EUwideConstants!$G:$G,MATCH(Q690,EUwideConstants!$S:$S,0)),INDEX(EUwideConstants!$P:$P,MATCH(Q690,EUwideConstants!$S:$S,0))))","v":""},null,"",null,null,null,null,null,null,{"$f":"EUconst_CNTR_EF&H651","v":"EF_"},null,{"$f":"IF(ISBLANK(I690),\"\",IF(I690=EUconst_NA,\"\",INDEX(EUwideConstants!$H:$O,MATCH(Q690,EUwideConstants!$S:$S,0),MATCH(I690,CNTR_TierList,0))))","v":""},null,null,null,false]
[null,null,null,"iii.",{"$f":"Translations!$B$522","v":"Oxidationsfaktor"},null,null,{"$f":"IF(H651=\"\",\"\",IF(CNTR_Category=\"A\",INDEX(EUwideConstants!$G:$G,MATCH(Q691,EUwideConstants!$S:$S,0)),INDEX(EUwideConstants!$P:$P,MATCH(Q691,EUwideConstants!$S:$S,0))))","v":""},null,"",null,null,null,null,null,null,{"$f":"EUconst_CNTR_OxidationFactor&H651","v":"OxF_"},null,{"$f":"IF(ISBLANK(I691),\"\",IF(I691=EUconst_NA,\"\",INDEX(EUwideConstants!$H:$O,MATCH(Q691,EUwideConstants!$S:$S,0),MATCH(I691,CNTR_TierList,0))))","v":""},null,null,null,false]
[null,null,null,"iv.",{"$f":"Translations!$B$523","v":"Umsetzungsfaktor"},null,null,{"$f":"IF(H651=\"\",\"\",IF(CNTR_Category=\"A\",INDEX(EUwideConstants!$G:$G,MATCH(Q692,EUwideConstants!$S:$S,0)),INDEX(EUwideConstants!$P:$P,MATCH(Q692,EUwideConstants!$S:$S,0))))","v":""},null,"",null,null,null,null,null,null,{"$f":"EUconst_CNTR_ConversionFactor&H651","v":"ConvF_"},null,{"$f":"IF(ISBLANK(I692),\"\",IF(I692=EUconst_NA,\"\",INDEX(EUwideConstants!$H:$O,MATCH(Q692,EUwideConstants!$S:$S,0),MATCH(I692,CNTR_TierList,0))))","v":""},null,null,null,false]
[null,null,null,"v.",{"$f":"Translations!$B$524","v":"Kohlenstoffgehalt"},null,null,{"$f":"IF(H651=\"\",\"\",IF(CNTR_Category=\"A\",INDEX(EUwideConstants!$G:$G,MATCH(Q693,EUwideConstants!$S:$S,0)),INDEX(EUwideConstants!$P:$P,MATCH(Q693,EUwideConstants!$S:$S,0))))","v":""},null,"",null,null,null,null,null,null,{"$f":"EUconst_CNTR_CarbonContent&H651","v":"CarbC_"},null,{"$f":"IF(ISBLANK(I693),\"\",IF(I693=EUconst_NA,\"\",INDEX(EUwideConstants!$H:$O,MATCH(Q693,EUwideConstants!$S:$S,0),MATCH(I693,CNTR_TierList,0))))","v":""},null,null,null,false]
[null,null,null,"vi.",{"$f":"Translations!$B$525","v":"Biomasseanteil (soweit zutreffend)"},null,null,{"$f":"IF(H651=\"\",\"\",IF(CNTR_Category=\"A\",INDEX(EUwideConstants!$G:$G,MATCH(Q694,EUwideConstants!$S:$S,0)),INDEX(EUwideConstants!$P:$P,MATCH(Q694,EUwideConstants!$S:$S,0))))","v":""},null,"",null,null,null,null,null,null,{"$f":"EUconst_CNTR_BiomassContent&H651","v":"BioC_"},null,{"$f":"IF(ISBLANK(I694),\"\",IF(I694=EUconst_NA,\"\",INDEX(EUwideConstants!$H:$O,MATCH(Q694,EUwideConstants!$S:$S,0),MATCH(I694,CNTR_TierList,0))))","v":""},null,null,null,false]
[]
[null,null,null,"(g)",{"$f":"Translations!$B$534","v":"Einzelheiten zu den Berechnungsfaktoren:"}]
[]
[null,null,null,null,{"$f":"E688","v":"Berechnungsfaktoren"},null,null,{"$f":"I688","v":"angewandte Ebene"},{"$f":"Translations!$B$535","v":"Standard-wert"},{"$f":"Translations!$B$536","v":"Einheit"},{"$f":"Translations!$B$537","v":"Ref. Quelle"},{"$f":"Translations!$B$538","v":"Ref. Analyse"},{"$f":"Translations!$B$539","v":"Ref. Probenahmeplan"},{"$f":"Translations!$B$540","v":"Analyse-häufigkeit"},null,null,null,null,"default value or lab",null,null,null,"cond. form."]
[null,null,null,"i.","Unterer Heizwert (Hu)",null,null,{"$f":"IF(OR(ISBLANK(I689),I689=EUconst_NA),\"\",I689)","v":""},null,null,null,null,null,null,null,null,null,null,{"$f":"IF(H699=\"\",\"\",IF(I689=EUconst_NA,\"\",INDEX(EUwideConstants!$AL:$AR,MATCH(Q689,EUwideConstants!$S:$S,0),MATCH(I689,CNTR_TierList,0))))","v":""},null,null,null,{"$f":"OR(H699=\"\",H699=EUconst_NA,J689=EUconst_NotApplicable)","v":true}]
[null,null,null,"ii.","(vorläufiger) Emissionsfaktor",null,null,"",null,null,null,null,null,null,null,null,null,null,{"$f":"IF(H700=\"\",\"\",IF(I690=EUconst_NA,\"\",INDEX(EUwideConstants!$AL:$AR,MATCH(Q690,EUwideConstants!$S:$S,0),MATCH(I690,CNTR_TierList,0))))","v":""},null,null,null,true]
[null,null,null,"iii.","Oxidationsfaktor",null,null,"",null,null,null,null,null,null,null,null,null,null,{"$f":"IF(H701=\"\",\"\",IF(I691=EUconst_NA,\"\",INDEX(EUwideConstants!$AL:$AR,MATCH(Q691,EUwideConstants!$S:$S,0),MATCH(I691,CNTR_TierList,0))))","v":""},null,null,null,true]
[null,null,null,"iv.","Umsetzungsfaktor",null,null,"",null,null,null,null,null,null,null,null,null,null,{"$f":"IF(H702=\"\",\"\",IF(I692=EUconst_NA,\"\",INDEX(EUwideConstants!$AL:$AR,MATCH(Q692,EUwideConstants!$S:$S,0),MATCH(I692,CNTR_TierList,0))))","v":""},null,null,null,true]
[null,null,null,"v.","Kohlenstoffgehalt",null,null,"",null,null,null,null,null,null,null,null,null,null,{"$f":"IF(H703=\"\",\"\",IF(I693=EUconst_NA,\"\",INDEX(EUwideConstants!$AL:$AR,MATCH(Q693,EUwideConstants!$S:$S,0),MATCH(I693,CNTR_TierList,0))))","v":""},null,null,null,true]
[null,null,null,"vi.","Biomasseanteil (soweit zutreffend)",null,null,"",null,null,null,null,null,null,null,null,null,null,{"$f":"IF(H704=\"\",\"\",IF(I694=EUconst_NA,\"\",INDEX(EUwideConstants!$AL:$AR,MATCH(Q694,EUwideConstants!$S:$S,0),MATCH(I694,CNTR_TierList,0))))","v":""},null,null,null,true]
[]
[null,null,null,{"$f":"Translations!$B$545","v":"Anmerkungen und Erklärungen:"}]
[]
[null,null,null,"(h)",{"$f":"Translations!$B$1198","v":"Anmerkungen oder Begründung für Nichtanwendung der vorgeschriebenen Ebene:"}]
[]
[]
[]
[]
[]
["ADD_CompleteSourceStream",null,null,null,null,null,null,null,null,null,null,null,null,null,null,null,null,null,"Check source stream category","auto","manual"]
[null,null,{"$f":"\"S\"&Q715","v":"S10"},{"$f":"CONCATENATE(Euconst_SourceStream,\" \", Q715,\":\")","v":"Stoffstrom 10:"},null,null,null,{"$f":"IF(INDEX(C_InstallationDescription!$I$194:$I$204,MATCH(C715,C_InstallationDescription!$E$194:$E$204,0))>0,INDEX(C_InstallationDescription!$I$194:$I$204,MATCH(C715,C_InstallationDescription!$E$194:$E$204,0)),\"\")","v":""},null,null,null,null,{"$f":"IF(S715=TRUE,IF(U715=\"\",T715,U715),\"\")","v":""},null,null,null,{"$f":"Q649+1","v":10},null,{"$f":"IF(INDEX(C_InstallationDescription!$M:$M,MATCH(Q717,C_InstallationDescription!$Q:$Q,0))=\"\",FALSE,TRUE)","v":false},{"$f":"IF(S715=TRUE,INDEX(C_InstallationDescription!$M:$M,MATCH(Q717,C_InstallationDescription!$Q:$Q,0)),\"\")","v":""},{"$f":"IF(S715=TRUE,IF(ISBLANK(INDEX(C_InstallationDescription!$N:$N,MATCH(Q717,C_InstallationDescription!$Q:$Q,0))),\"\",INDEX(C_InstallationDescription!$N:$N,MATCH(Q717,C_InstallationDescription!$Q:$Q,0))),\"\")","v":""}]
[]
[null,null,null,null,{"$f":"Translations!$B$437","v":"Stoffstromtyp:"},null,null,{"$f":"IF(INDEX(C_InstallationDescription!$F$194:$F$204,MATCH(C715,C_InstallationDescription!$E$194:$E$204,0))>0,INDEX(C_InstallationDescription!$F$194:$F$204,MATCH(C715,C_InstallationDescription!$E$194:$E$204,0)),\"\")","v":""},null,null,null,null,null,null,null,null,{"$f":"EUconst_CNTR_SourceCategory&C715","v":"SourceCategory_S10"}]
[null,null,null,null,{"$f":"Translations!$B$438","v":"Anwendbares Verfahren gemäß MVO:"},null,null,{"$f":"IF(H717=\"\",\"\",INDEX(EUwideConstants!$F$265:$F$335,MATCH(H717,EUConst_TierActivityListNames,0)))","v":""}]
[null,null,null,null,{"$f":"Translations!$B$439","v":"Parameter, für die die Unsicherheit gilt:"},null,null,{"$f":"IF(H717=\"\",\"\",INDEX(EUwideConstants!$E$265:$E$335,MATCH(H717,EUConst_TierActivityListNames,0)))","v":""}]
[]
[null,null,null,null,{"$f":"IF(H715=\"\",\"\",INDEX(EUconst_SmallEmiSouStreamMsg,MATCH(Q721,EUconst_SmallEmiSouStream,0)))","v":""},null,null,null,null,null,null,null,null,null,null,null,{"$f":"IF(CNTR_SmallEmitter=TRUE,EUconst_CNTR_SmallEmitter,EUconst_CNTR_NoSmallEmitter) & IF((CNTR_Category)=\"\",\"C\",CNTR_Category) & \"_\" & IF(M715=\"\",1,MATCH(M715,SourceCategory,0))","v":"NoSmallEmitter_C_1"}]
[]
[null,null,null,{"$f":"Translations!$B$454","v":"Tätigkeitsdaten:"}]
[]
[null,null,null,"(a)",{"$f":"Translations!$B$455","v":"Verfahren zur Bestimmung der Tätigkeitsdaten:"}]
[]
[null,null,null,"i.",{"$f":"Translations!$B$456","v":"Bestimmungsverfahren:"},null,null,null,null,null,null,null,null,null,null,null,null,null,null,null,null,null,{"$f":"IF(M715=\"\",\"\",IF(M715=INDEX(SourceCategory,3),1,IF(CNTR_InstHasCalculation=FALSE,0,2)))","v":""}]
[]
[null,null,null,null,null,{"$f":"Translations!$B$459","v":"Verweis auf Verfahren für die Bestandsbestimmung am Jahresende:"},null,null,null,null,null,null,null,null,null,null,null,null,null,null,null,{"$f":"IF(OR(H715=\"\",ISBLANK(H727)),FALSE,IF(MATCH(H727,EUconst_ActivityDeterminationMethod,0)=2,TRUE,FALSE))","v":false},{"$f":"IF(V729=TRUE,0,W727)","v":""}]
[]
[null,null,null,"ii.",{"$f":"Translations!$B$462","v":"Gerät unter Kontrolle des "},null,null,null,null,null,null,null,null,null,null,null,null,null,null,null,null,null,{"$f":"W727","v":""}]
[]
[null,null,null,null,"a.",{"$f":"Translations!$B$465","v":"Bitte bestätigen Sie, dass die Bedingungen des Artikels 29 Absatz 2 erfüllt sind:"},null,null,null,null,null,null,null,null,null,null,null,null,null,null,null,{"$f":"IF(OR(H715=\"\",ISBLANK(H731)),FALSE,IF(MATCH(H731,EUconst_OwnerInstrument,0)=1,TRUE,FALSE))","v":false},{"$f":"IF(V733=TRUE,0,W727)","v":""}]
[]
[null,null,null,null,"b.",{"$f":"Translations!$B$468","v":"Bestimmen Sie die Brennstoff- oder Materialienmenge anhand von Rechnungen?"},null,null,null,null,null,null,null,null,null,null,null,null,null,null,null,{"$f":"IF(OR(H715=\"\",ISBLANK(H731)),FALSE,IF(MATCH(H731,EUconst_OwnerInstrument,0)=1,TRUE,FALSE))","v":false},{"$f":"IF(V735=TRUE,0,W727)","v":""}]
[]
[null,null,null,null,"c.",{"$f":"Translations!$B$469","v":"Bitte bestätigen Sie, dass Handelspartner und Inhaber voneinander unabhängig sind:"},null,null,null,null,null,null,null,null,null,null,null,null,null,null,null,{"$f":"IF(OR(H715=\"\",ISBLANK(H731)),FALSE,IF(MATCH(H731,EUconst_OwnerInstrument,0)=1,TRUE,FALSE))","v":false},{"$f":"IF(V737=TRUE,0,W727)","v":""}]
[]
[null,null,null,"(b)",{"$f":"Translations!$B$472","v":"Verwendete Messgeräte:"}]
[]
[null,null,null,null,{"$f":"Translations!$B$475","v":"Anmerkung / Beschreibung des Vorgehens, wenn mehrere Geräte verwendet werden:"}]
[]
[]
[]
[]
[null,null,null,"(c)",{"$f":"Translations!$B$477","v":"Vorgeschriebene Ebene Tätigkeitsdaten:"},null,null,{"$f":"IF(H717=\"\",\"\",IF(CNTR_Category=\"A\",INDEX(EUwideConstants!$G:$G,MATCH(Q746,EUwideConstants!$S:$S,0)),INDEX(EUwideConstants!$P:$P,MATCH(Q746,EUwideConstants!$S:$S,0))))","v":""},{"$f":"IF(H746=\"\",\"\",IF(S746=0,EUconst_NA,IF(ISERROR(S746),\"\",EUconst_MsgTierActivityLevel & \" \" &S746)))","v":""},null,null,null,null,null,null,null,{"$f":"EUconst_CNTR_ActivityData&H717","v":"ActivityData_"},null,{"$f":"IF(H746=\"\",\"\",IF(H746=EUconst_NA,\"\",INDEX(EUwideConstants!$H:$O,MATCH(Q746,EUwideConstants!$S:$S,0),MATCH(H746,CNTR_TierList,0))))","v":""}]
[null,null,null,"(d)",{"$f":"Translations!$B$478","v":"Angewandte Ebene Tätigkeitsdaten:"},null,null,null,{"$f":"IF(OR(ISBLANK(H747),H747=EUconst_NoTier),\"\",IF(S747=0,EUconst_NA,IF(ISERROR(S747),\"\",EUconst_MsgTierActivityLevel & \" \" &S747)))","v":""},null,null,null,null,null,null,null,{"$f":"EUconst_CNTR_ActivityData&H717","v":"ActivityData_"},null,{"$f":"IF(ISBLANK(H747),\"\",IF(H747=EUconst_NA,\"\",INDEX(EUwideConstants!$H:$O,MATCH(Q747,EUwideConstants!$S:$S,0),MATCH(H747,CNTR_TierList,0))))","v":""}]
[null,null,null,"(e)",{"$f":"Translations!$B$479","v":"Erreichte Unsicherheit:"},null,null,null,{"$f":"Translations!$B$480","v":"Anmerkung:"}]
[]
[null,null,null,{"$f":"Translations!$B$490","v":"Berechnungsfaktoren:"}]
[]
[null,null,null,"(f)",{"$f":"Translations!$B$515","v":"Für die Berechnungsfaktoren angewandte Ebenen:"}]
[]
[null,null,null,null,{"$f":"Translations!$B$516","v":"Berechnungsfaktoren"},null,null,{"$f":"Translations!$B$517","v":"vorgeschrie-bene Ebene"},{"$f":"Translations!$B$518","v":"angewandte Ebene"},{"$f":"Translations!$B$519","v":"vollständiger Text für angewandte Ebene"},null,null,null,null,null,null,null,null,"full text tier",null,null,null,"cond. form."]
[null,null,null,"i.",{"$f":"Translations!$B$520","v":"Unterer Heizwert (Hu)"},null,null,{"$f":"IF(H717=\"\",\"\",IF(CNTR_Category=\"A\",INDEX(EUwideConstants!$G:$G,MATCH(Q755,EUwideConstants!$S:$S,0)),INDEX(EUwideConstants!$P:$P,MATCH(Q755,EUwideConstants!$S:$S,0))))","v":""},null,{"$f":"IF(OR(ISBLANK(I755),I755=EUconst_NoTier),\"\",IF(S755=0,EUconst_NotApplicable,IF(ISERROR(S755),\"\",S755)))","v":""},null,null,null,null,null,null,{"$f":"EUconst_CNTR_NCV&H717","v":"NCV_"},null,{"$f":"IF(ISBLANK(I755),\"\",IF(I755=EUconst_NA,\"\",INDEX(EUwideConstants!$H:$O,MATCH(Q755,EUwideConstants!$S:$S,0),MATCH(I755,CNTR_TierList,0))))","v":""},null,null,null,{"$f":"(H755=EUconst_NA)","v":false}]
[null,null,null,"ii.",{"$f":"Translations!$B$521","v":"(vorläufiger) Emissionsfaktor"},null,null,{"$f":"IF(H717=\"\",\"\",IF(CNTR_Category=\"A\",INDEX(EUwideConstants!$G:$G,MATCH(Q756,EUwideConstants!$S:$S,0)),INDEX(EUwideConstants!$P:$P,MATCH(Q756,EUwideConstants!$S:$S,0))))","v":""},null,"",null,null,null,null,null,null,{"$f":"EUconst_CNTR_EF&H717","v":"EF_"},null,{"$f":"IF(ISBLANK(I756),\"\",IF(I756=EUconst_NA,\"\",INDEX(EUwideConstants!$H:$O,MATCH(Q756,EUwideConstants!$S:$S,0),MATCH(I756,CNTR_TierList,0))))","v":""},null,null,null,false]
[null,null,null,"iii.",{"$f":"Translations!$B$522","v":"Oxidationsfaktor"},null,null,{"$f":"IF(H717=\"\",\"\",IF(CNTR_Category=\"A\",INDEX(EUwideConstants!$G:$G,MATCH(Q757,EUwideConstants!$S:$S,0)),INDEX(EUwideConstants!$P:$P,MATCH(Q757,EUwideConstants!$S:$S,0))))","v":""},null,"",null,null,null,null,null,null,{"$f":"EUconst_CNTR_OxidationFactor&H717","v":"OxF_"},null,{"$f":"IF(ISBLANK(I757),\"\",IF(I757=EUconst_NA,\"\",INDEX(EUwideConstants!$H:$O,MATCH(Q757,EUwideConstants!$S:$S,0),MATCH(I757,CNTR_TierList,0))))","v":""},null,null,null,false]
[null,null,null,"iv.",{"$f":"Translations!$B$523","v":"Umsetzungsfaktor"},null,null,{"$f":"IF(H717=\"\",\"\",IF(CNTR_Category=\"A\",INDEX(EUwideConstants!$G:$G,MATCH(Q758,EUwideConstants!$S:$S,0)),INDEX(EUwideConstants!$P:$P,MATCH(Q758,EUwideConstants!$S:$S,0))))","v":""},null,"",null,null,null,null,null,null,{"$f":"EUconst_CNTR_ConversionFactor&H717","v":"ConvF_"},null,{"$f":"IF(ISBLANK(I758),\"\",IF(I758=EUconst_NA,\"\",INDEX(EUwideConstants!$H:$O,MATCH(Q758,EUwideConstants!$S:$S,0),MATCH(I758,CNTR_TierList,0))))","v":""},null,null,null,false]
[null,null,null,"v.",{"$f":"Translations!$B$524","v":"Kohlenstoffgehalt"},null,null,{"$f":"IF(H717=\"\",\"\",IF(CNTR_Category=\"A\",INDEX(EUwideConstants!$G:$G,MATCH(Q759,EUwideConstants!$S:$S,0)),INDEX(EUwideConstants!$P:$P,MATCH(Q759,EUwideConstants!$S:$S,0))))","v":""},null,"",null,null,null,null,null,null,{"$f":"EUconst_CNTR_CarbonContent&H717","v":"CarbC_"},null,{"$f":"IF(ISBLANK(I759),\"\",IF(I759=EUconst_NA,\"\",INDEX(EUwideConstants!$H:$O,MATCH(Q759,EUwideConstants!$S:$S,0),MATCH(I759,CNTR_TierList,0))))","v":""},null,null,null,false]
[null,null,null,"vi.",{"$f":"Translations!$B$525","v":"Biomasseanteil (soweit zutreffend)"},null,null,{"$f":"IF(H717=\"\",\"\",IF(CNTR_Category=\"A\",INDEX(EUwideConstants!$G:$G,MATCH(Q760,EUwideConstants!$S:$S,0)),INDEX(EUwideConstants!$P:$P,MATCH(Q760,EUwideConstants!$S:$S,0))))","v":""},null,"",null,null,null,null,null,null,{"$f":"EUconst_CNTR_BiomassContent&H717","v":"BioC_"},null,{"$f":"IF(ISBLANK(I760),\"\",IF(I760=EUconst_NA,\"\",INDEX(EUwideConstants!$H:$O,MATCH(Q760,EUwideConstants!$S:$S,0),MATCH(I760,CNTR_TierList,0))))","v":""},null,null,null,false]
[]
[null,null,null,"(g)",{"$f":"Translations!$B$534","v":"Einzelheiten zu den Berechnungsfaktoren:"}]
[]
[null,null,null,null,{"$f":"E754","v":"Berechnungsfaktoren"},null,null,{"$f":"I754","v":"angewandte Ebene"},{"$f":"Translations!$B$535","v":"Standard-wert"},{"$f":"Translations!$B$536","v":"Einheit"},{"$f":"Translations!$B$537","v":"Ref. Quelle"},{"$f":"Translations!$B$538","v":"Ref. Analyse"},{"$f":"Translations!$B$539","v":"Ref. Probenahmeplan"},{"$f":"Translations!$B$540","v":"Analyse-häufigkeit"},null,null,null,null,"default value or lab",null,null,null,"cond. form."]
[null,null,null,"i.","Unterer Heizwert (Hu)",null,null,{"$f":"IF(OR(ISBLANK(I755),I755=EUconst_NA),\"\",I755)","v":""},null,null,null,null,null,null,null,null,null,null,{"$f":"IF(H765=\"\",\"\",IF(I755=EUconst_NA,\"\",INDEX(EUwideConstants!$AL:$AR,MATCH(Q755,EUwideConstants!$S:$S,0),MATCH(I755,CNTR_TierList,0))))","v":""},null,null,null,{"$f":"OR(H765=\"\",H765=EUconst_NA,J755=EUconst_NotApplicable)","v":true}]
[null,null,null,"ii.","(vorläufiger) Emissionsfaktor",null,null,"",null,null,null,null,null,null,null,null,null,null,{"$f":"IF(H766=\"\",\"\",IF(I756=EUconst_NA,\"\",INDEX(EUwideConstants!$AL:$AR,MATCH(Q756,EUwideConstants!$S:$S,0),MATCH(I756,CNTR_TierList,0))))","v":""},null,null,null,true]
[null,null,null,"iii.","Oxidationsfaktor",null,null,"",null,null,null,null,null,null,null,null,null,null,{"$f":"IF(H767=\"\",\"\",IF(I757=EUconst_NA,\"\",INDEX(EUwideConstants!$AL:$AR,MATCH(Q757,EUwideConstants!$S:$S,0),MATCH(I757,CNTR_TierList,0))))","v":""},null,null,null,true]
[null,null,null,"iv.","Umsetzungsfaktor",null,null,"",null,null,null,null,null,null,null,null,null,null,{"$f":"IF(H768=\"\",\"\",IF(I758=EUconst_NA,\"\",INDEX(EUwideConstants!$AL:$AR,MATCH(Q758,EUwideConstants!$S:$S,0),MATCH(I758,CNTR_TierList,0))))","v":""},null,null,null,true]
[null,null,null,"v.","Kohlenstoffgehalt",null,null,"",null,null,null,null,null,null,null,null,null,null,{"$f":"IF(H769=\"\",\"\",IF(I759=EUconst_NA,\"\",INDEX(EUwideConstants!$AL:$AR,MATCH(Q759,EUwideConstants!$S:$S,0),MATCH(I759,CNTR_TierList,0))))","v":""},null,null,null,true]
[null,null,null,"vi.","Biomasseanteil (soweit zutreffend)",null,null,"",null,null,null,null,null,null,null,null,null,null,{"$f":"IF(H770=\"\",\"\",IF(I760=EUconst_NA,\"\",INDEX(EUwideConstants!$AL:$AR,MATCH(Q760,EUwideConstants!$S:$S,0),MATCH(I760,CNTR_TierList,0))))","v":""},null,null,null,true]
[]
[null,null,null,{"$f":"Translations!$B$545","v":"Anmerkungen und Erklärungen:"}]
[]
[null,null,null,"(h)",{"$f":"Translations!$B$1198","v":"Anmerkungen oder Begründung für Nichtanwendung der vorgeschriebenen Ebene:"}]
[]
[]
[]
[]
[]
["ADD_CompleteSourceStream"]
[]
[null,null,null,null,null,{"$f":"EUconst_MsgNextSheet","v":"<<< Hier klicken, um mit nächstem Blatt fortzufahren >>> "}]
[]
["ausblenden","End","End","End","End","End","End","End","End","End","End","End","End","End","End",null,"End","End","End","End","End","End","End"]

{"sheet":"F_MeasurementBasedApproaches","index":7,"n_rows":526,"n_cols":25,"rows_kept":526,"cut":false,"hidden":false,"merged":[[446,4,446,13],[437,5,437,13],[438,5,438,13],[440,3,440,13],[442,4,442,13],[444,4,444,13],[445,4,445,13],[428,5,428,13],[429,5,429,13],[431,5,431,13],[432,5,432,13],[434,5,434,13],[435,5,435,13],[391,12,391,13],[419,4,419,13],[420,4,420,13],[421,4,421,13],[423,4,423,13],[425,5,425,13],[426,5,426,13],[406,4,406,13],[407,4,407,13],[408,4,408,13],[414,3,414,13],[416,4,416,13],[417,4,417,13],[333,12,333,13],[316,5,316,13],[318,5,318,13],[319,5,319,13],[321,5,321,13],[322,5,322,13],[324,3,324,13],[377,5,377,13],[365,4,365,13],[373,5,373,13],[374,5,374,13],[376,5,376,13],[358,4,358,13],[359,4,359,13],[367,5,367,13],[368,5,368,13],[370,5,370,13],[371,5,371,13],[361,4,361,13],[362,4,362,13],[363,4,363,13],[350,4,350,13],[290,4,290,13],[291,4,291,13],[292,4,292,13],[335,4,335,6],[335,7,335,9],[335,12,335,13],[307,4,307,13],[309,5,309,13],[310,5,310,13],[312,5,312,13],[313,5,313,13],[315,5,315,13],[298,3,298,13],[300,4,300,13],[301,4,301,13],[303,4,303,13],[304,4,304,13],[305,4,305,13],[326,4,326,13],[328,4,328,13],[329,4,329,13],[330,4,330,13],[333,3,333,6],[333,7,333,11],[249,4,249,13],[251,5,251,13],[252,5,252,13],[254,5,254,13],[255,5,255,13],[337,3,337,13],[257,5,257,13],[258,5,258,13],[260,5,260,13],[261,5,261,13],[272,4,272,13],[275,3,275,6],[275,7,275,11],[275,12,275,13],[277,4,277,6],[277,7,277,9],[277,12,277,13],[263,5,263,13],[264,5,264,13],[266,3,266,13],[268,4,268,13],[270,4,270,13],[271,4,271,13],[284,3,284,13],[233,4,233,13],[234,4,234,13],[340,4,340,13],[342,3,342,13],[348,4,348,13],[349,4,349,13],[217,3,217,6],[217,7,217,11],[217,12,217,13],[219,4,219,6],[219,7,219,9],[219,12,219,13],[221,3,221,13],[224,4,224,13],[240,3,240,13],[242,4,242,13],[243,4,243,13],[245,4,245,13],[246,4,246,13],[247,4,247,13],[226,3,226,13],[232,4,232,13],[279,3,279,13],[282,4,282,13],[505,6,505,13],[516,6,516,13],[506,4,506,5],[519,4,519,5],[519,6,519,13],[511,6,511,13],[517,4,517,5],[510,6,510,13],[356,3,356,13],[379,5,379,13],[380,5,380,13],[393,4,393,6],[393,7,393,9],[393,12,393,13],[395,3,395,13],[398,4,398,13],[400,3,400,13],[382,3,382,13],[384,4,384,13],[386,4,386,13],[387,4,387,13],[388,4,388,13],[391,3,391,6],[391,7,391,11],[509,4,509,13],[508,4,508,13],[512,4,512,5],[504,6,504,13],[521,6,523,10],[499,6,499,13],[518,4,518,5],[518,6,518,13],[502,6,502,13],[513,4,513,5],[512,6,512,13],[515,6,515,13],[503,4,503,5],[504,4,504,5],[516,4,516,5],[505,4,505,5],[511,4,511,5],[513,6,513,13],[506,6,506,13],[514,6,514,13],[510,4,510,5],[517,6,517,13],[501,6,501,13],[503,6,503,13],[502,4,502,5],[501,4,501,5],[496,4,496,5],[494,4,494,5],[486,6,486,13],[495,4,495,5],[493,4,493,5],[490,4,490,5],[492,4,492,5],[488,4,488,13],[493,6,493,13],[500,4,500,5],[495,6,495,13],[496,6,496,13],[500,6,500,13],[453,4,453,13],[525,5,525,11],[467,4,467,13],[471,6,471,13],[470,6,470,13],[485,6,485,13],[460,4,460,5],[492,6,492,13],[482,4,482,5],[457,4,457,5],[491,4,491,5],[491,6,491,13],[490,6,490,13],[489,4,489,5],[489,6,489,13],[483,4,483,5],[480,4,480,5],[484,4,484,5],[481,4,481,5],[486,4,486,5],[494,6,494,13],[499,4,499,5],[484,6,484,13],[498,4,498,13],[140,12,140,13],[159,4,159,13],[164,4,164,13],[140,7,140,9],[148,5,148,13],[191,5,191,13],[179,3,179,13],[208,4,208,13],[212,4,212,13],[140,4,140,6],[189,4,189,13],[200,5,200,13],[182,4,182,13],[192,5,192,13],[177,4,177,13],[204,5,204,13],[210,4,210,13],[169,9,169,13],[167,8,167,13],[168,8,168,13],[102,12,102,13],[116,12,116,13],[106,8,106,10],[115,5,115,6],[104,8,104,10],[105,8,105,10],[110,12,110,13],[109,8,109,10],[134,3,134,6],[110,5,110,6],[107,8,107,10],[111,5,111,6],[109,12,109,13],[111,12,111,13],[111,8,111,10],[108,8,108,10],[109,5,109,6],[128,3,128,13],[134,7,134,11],[110,8,110,10],[116,5,116,6],[107,5,107,6],[73,2,74,3],[73,12,74,12],[108,12,108,13],[117,5,117,6],[105,12,105,13],[107,12,107,13],[108,5,108,6],[94,4,94,13],[114,5,114,6],[114,8,114,10],[114,12,114,13],[115,8,115,10],[102,8,102,10],[99,12,99,13],[100,5,100,6],[97,4,97,13],[99,8,99,10],[96,4,96,13],[99,5,99,6],[104,5,104,6],[113,12,113,13],[115,12,115,13],[106,5,106,6],[113,5,113,6],[71,19,72,19],[75,13,76,13],[71,12,72,12],[71,13,72,13],[75,12,76,12],[75,18,76,18],[75,19,76,19],[73,13,74,13],[136,4,136,6],[119,6,121,10],[73,18,74,18],[73,19,74,19],[127,3,127,13],[113,8,113,10],[106,12,106,13],[100,8,100,10],[100,12,100,13],[95,4,95,13],[101,5,101,6],[101,8,101,10],[101,12,101,13],[103,8,103,10],[103,12,103,13],[102,5,102,6],[61,12,62,12],[69,4,70,5],[73,4,74,5],[75,4,76,5],[69,13,70,13],[69,11,70,11],[61,6,62,6],[61,11,62,11],[59,7,60,7],[59,11,60,11],[57,11,57,12],[61,4,62,5],[71,20,72,20],[69,19,70,19],[71,18,72,18],[69,18,70,18],[69,20,70,20],[69,12,70,12],[67,13,68,13],[67,19,68,19],[65,12,66,12],[65,20,66,20],[65,19,66,19],[67,12,68,12],[71,7,72,7],[71,11,72,11],[59,12,60,12],[65,4,66,5],[67,4,68,5],[61,13,62,13],[59,6,60,6],[59,4,60,5],[63,12,64,12],[67,7,68,7],[31,4,31,13],[33,4,33,13],[30,4,30,13],[32,4,32,13],[54,4,54,13],[48,4,48,13],[49,4,49,13],[67,20,68,20],[63,19,64,19],[63,13,64,13],[63,18,64,18],[65,18,66,18],[67,18,68,18],[65,13,66,13],[57,7,57,9],[57,13,58,13],[63,7,64,7],[67,6,68,6],[63,6,64,6],[63,11,64,11],[63,20,64,20],[57,4,58,5],[61,7,62,7],[57,10,58,10],[79,12,80,12],[79,13,80,13],[79,7,80,7],[77,11,78,11],[77,12,78,12],[77,7,78,7],[65,7,66,7],[65,6,66,6],[67,11,68,11],[69,6,70,6],[69,7,70,7],[65,11,66,11],[75,7,76,7],[75,11,76,11],[73,7,74,7],[73,11,74,11],[43,4,43,13],[46,4,46,13],[51,4,51,13],[52,4,52,13],[53,4,53,13],[55,4,55,13],[25,4,25,13],[77,13,78,13],[28,4,28,13],[26,4,26,13],[40,4,40,13],[50,4,50,13],[47,4,47,13],[45,4,45,13],[42,9,42,13],[39,4,39,13],[36,4,36,13],[27,4,27,13],[42,4,42,8],[35,4,35,13],[29,4,29,13],[34,4,34,13],[38,4,38,13],[37,4,37,13],[7,10,7,13],[12,4,12,13],[11,4,11,13],[24,4,24,13],[3,6,3,7],[3,8,3,9],[14,4,14,13],[23,4,23,13],[19,4,19,13],[15,4,15,13],[21,4,21,13],[22,4,22,13],[5,2,5,10],[5,11,5,13],[9,3,9,13],[16,4,16,13],[17,4,17,13],[18,4,18,13],[2,4,2,5],[2,8,2,9],[1,1,3,3],[1,10,1,11],[3,10,3,11],[1,12,1,13],[1,8,1,9],[3,12,3,13],[3,4,3,5],[1,4,1,5],[1,6,1,7],[2,6,2,7],[2,10,2,11],[2,12,2,13],[57,2,58,3],[59,13,60,13],[57,6,58,6],[112,5,112,6],[112,8,112,10],[112,12,112,13],[104,12,104,13],[63,2,64,3],[65,2,66,3],[71,2,72,3],[59,2,60,3],[105,5,105,6],[75,2,76,3],[61,2,62,3],[71,6,72,6],[75,6,76,6],[79,2,80,3],[63,4,64,5],[67,2,68,3],[69,2,70,3],[71,4,72,5],[77,2,78,3],[81,4,82,5],[81,2,82,3],[83,20,84,20],[83,11,84,11],[90,4,90,8],[90,9,90,13],[83,18,84,18],[86,6,88,10],[470,4,470,5],[126,3,126,13],[116,8,116,10],[83,19,84,19],[91,4,91,13],[83,13,84,13],[83,6,84,6],[83,4,84,5],[454,4,454,13],[83,2,84,3],[170,3,170,6],[203,5,203,13],[176,4,176,13],[195,5,195,13],[181,4,181,13],[175,4,175,13],[184,4,184,13],[201,5,201,13],[81,20,82,20],[81,7,82,7],[92,4,92,13],[73,20,74,20],[75,20,76,20],[77,19,78,19],[77,20,78,20],[79,11,80,11],[81,18,82,18],[79,19,80,19],[79,20,80,20],[77,18,78,18],[79,18,80,18],[77,4,78,5],[77,6,78,6],[73,6,74,6],[79,4,80,5],[79,6,80,6],[81,19,82,19],[83,7,84,7],[83,12,84,12],[81,11,82,11],[81,12,82,12],[81,13,82,13],[81,6,82,6],[103,5,103,6],[165,4,165,13],[153,3,153,13],[129,3,129,13],[124,3,124,13],[158,4,158,13],[150,4,150,13],[136,7,136,9],[138,12,138,13],[134,12,134,13],[163,4,163,13],[136,12,136,13],[143,4,143,13],[142,4,142,13],[145,3,145,13],[117,8,117,10],[117,12,117,13],[130,3,130,13],[138,3,138,6],[138,7,138,11],[147,4,147,13],[151,4,151,13],[156,3,156,6],[214,4,214,13],[185,4,185,13],[198,5,198,13],[186,4,186,13],[194,5,194,13],[188,4,188,13],[206,3,206,13],[209,4,209,13],[197,5,197,13],[213,4,213,13],[482,6,482,13],[472,6,472,13],[483,6,483,13],[475,4,475,5],[473,4,473,5],[479,6,479,13],[473,6,473,13],[479,4,479,5],[476,4,476,5],[475,6,475,13],[478,4,478,13],[476,6,476,13],[457,6,457,13],[459,4,459,5],[474,4,474,5],[459,6,459,13],[464,6,464,13],[460,6,460,13],[462,6,462,13],[462,4,462,5],[474,6,474,13],[471,4,471,5],[458,4,458,5],[461,6,461,13],[464,4,464,5],[463,6,463,13],[472,4,472,5],[463,4,463,5],[458,6,458,13],[514,4,514,5],[515,4,515,5],[236,8,236,13],[237,8,237,13],[294,8,294,13],[295,8,295,13],[352,8,352,13],[353,8,353,13],[410,8,410,13],[411,8,411,13],[238,9,238,13],[296,9,296,13],[354,9,354,13],[412,9,412,13],[452,4,452,13],[485,4,485,5],[480,6,480,13],[450,3,450,13],[481,6,481,13],[469,6,469,13],[469,4,469,5],[466,4,466,13],[461,4,461,5],[455,4,455,13]]}
["ausblenden",null,null,null,null,null,null,null,null,null,null,null,null,null,null,"ausblenden","ausblenden","ausblenden","ausblenden","ausblenden","ausblenden","ausblenden","ausblenden","ausblenden","ausblenden"]
[null,{"$f":"Translations!$B$551","v":"F. \nMeasurement Approach"},null,null,{"$f":"Translations!$B$59","v":"Navigationsbereich:"},null,{"$f":"Translations!$B$60","v":"Inhaltsverzeichnis"},null,{"$f":"Translations!$B$61","v":"Vorheriges Blatt"},null,{"$f":"Translations!$B$62","v":"Nächstes Blatt"}]
[null,null,null,null,{"$f":"Translations!$B$63","v":"Blattanfang"},null,{"$f":"Translations!$B$552","v":"Emissionsmessung"},null,{"$f":"Translations!$B$188","v":"Messstellen"}]
[null,null,null,null,{"$f":"Translations!$B$64","v":"Blattende"},null,{"$f":"Translations!$B$553","v":"Verwaltung und Verfahren"}]
[null,null,null,null,null,null,null,null,null,null,null,null,null,null,null,null,null,null,null,null,null,null,null,null,"Make grey?"]
[null,null,{"$f":"Translations!$B$20","v":"F. Auf Messungen beruhende Methodiken"},null,null,null,null,null,null,null,null,{"$f":"IF(OR(CNTR_InstHasMeasurement=TRUE,CNTR_InstHasN2O=TRUE),EUconst_Relevant,IF(COUNTA(CNTR_ListRelevantSections)>0,EUconst_NotRelevant,EUconst_Relevant))","v":"Relevant"},null,null,null,null,null,null,null,null,null,null,null,null,{"$f":"IF(L6=EUconst_NotRelevant,TRUE,FALSE)","v":false}]
[]
[null,null,null,null,null,null,null,null,null,null,{"$f":"IF(L6=EUconst_NotRelevant,HYPERLINK(\"#JUMP_G_Top\",EUconst_MsgNextSheet),HYPERLINK(\"\",EUconst_MsgEnterThisSection))","v":"Bitte machen Sie Angaben in diesem Abschnitt"}]
[]
[null,null,9,{"$f":"Translations!$B$21","v":"Messung der CO2- und der N2O-Emissionen "}]
[]
[null,null,null,null,{"$f":"Translations!$B$554","v":"Hinweis: Dieser Abschnitt ist in Bezug auf die kontinuierliche Messung sowohl von CO2-Emissionen als auch von N2O-Emissionen auszufüllen."}]
[null,null,null,null,{"$f":"Translations!$B$1200","v":"Außerdem sind hier einige der erforderlichen Angaben für die Überwachung von weitergeleitetem CO2 und N2O sowie von inhärentem CO2 zu machen."}]
[]
[null,null,null,"(a)",{"$f":"Translations!$B$556","v":"Beschreibung der auf Messung beruhenden Methodik"}]
[null,null,null,null,{"$f":"Translations!$B$557","v":"Bitte beschreiben Sie in der Textbox kurz die auf Messung beruhende Methodik, anhand deren Sie Ihre jährlichen CO2- oder N2O-Emissionen bestimmen. Wird N2O gemessen, beschreiben Sie bitte auch die Methodik, nach der diese Emissionen in CO2(Äq)–Daten konvertiert werden."}]
[null,null,null,null,{"$f":"Translations!$B$558","v":"Aus Ihrer Beschreibung sollten der Typ der eingesetzten Geräte, die Messbedingungen (trocken oder feucht) und die Formeln für die Anwendung von Berichtigungsfaktoren (Druck (p), Temperatur (T), O2 und H2O) hervorgehen. Gilt die Norm EN 14181, sind die für die QAL2-Verfahren erforderlichen Kalibrierfaktoren anzugeben. Wird das Abgasvolumen berechnet, beschreiben Sie bitte kurz, nach welcher Methodik Sie das Abgasvolumen bestimmen. "}]
[null,null,null,null,{"$f":"Translations!$B$559","v":"Bitte beschreiben Sie, wie die Jahresemissionen anhand von Konzentration und Abgasstromdaten bestimmt werden; tragen Sie dabei der Frequenz der Bestimmung der Konzentration und des Abgasstromes Rechnung. Beschreiben Sie bitte auch, wie Daten ersetzt werden, wenn keine gültigen Messstundenwerte bestimmt werden können."}]
[null,null,null,null,{"$f":"Translations!$B$1355","v":"Beschreiben Sie gegebenenfalls auch die Methodik, mit der, die Emissionen aus Brennstoffen mit einem Emmissionsfaktor von Null, eingestuft (Artikel 43 Absätze 4 bis 4c) und von den Gesamtemissionen abgezogen werden."}]
[null,null,null,null,{"$f":"Translations!$B$195","v":"Diese Beschreibung sollte den Zusammenhang herstellen, der erforderlich ist, um zu verstehen, wie zur Berechnung der Emissionen auch auf Angaben in anderen Teilen dieser Vorlage zurückgegriffen wird. Sie kann so kurz sein wie das Beispiel in Abschnitt 7 Buchstabe a des Arbeitsblatts D_CalculationBasedApproaches."}]
[]
[]
[]
[]
[]
[]
[]
[]
[]
[]
[]
[]
[]
[]
[]
[]
[]
[]
[]
[]
[]
[]
[null,null,null,"(b)",{"$f":"Translations!$B$561","v":"Prozessdiagramm, wenn von der zuständigen Behörde verlangt:"},null,null,null,null,null,null,null,null,null,null,null,null,null,null,null,null,null,null,null,{"$f":"CNTR_SmallEmitter=TRUE","v":false}]
[null,null,null,null,{"$f":"Translations!$B$562","v":"Bitte fügen Sie ein Prozessdiagramm mit einer Liste aller relevanten Emissionspunkte bei Normbetrieb und bei Ausnahmesituationen, d. h., bei eingeschränktem Betrieb und in Übergangsphasen, einschließlich Ausfallperioden oder Phasen der Inbetriebnahme bei."}]
[]
[null,null,null,"(c)",{"$f":"Translations!$B$563","v":"Spezifikation und Ort der Messsysteme für Messpunkte:"}]
[null,null,null,null,{"$f":"Translations!$B$564","v":"Bitte beschreiben Sie die Spezifikation und den Ort des  Messsystems, das bei Bestimmung der Emissionen durch Messung für die einzelnen Emissionsquellen und sonst für Messpunkte für die Weiterleitung von CO2 eingesetzt wird."}]
[null,null,null,null,{"$f":"Translations!$B$565","v":"Gehen Sie auch auf Instrumente für Hilfsparameter ein, wie beispielsweise O2-Gehalt und Feuchte, und im Fall indirekter Messungen außerdem auf Geräte für die Messung der Konzentration anderer Gasbestandteile als CO2."}]
[null,null,null,null,{"$f":"Translations!$B$349","v":"Unter „Standort“ sollten sie angeben, wo in der Anlage das Messgerät angebracht ist und wie es im Arbeitsablaufdiagramm ausgewiesen ist."}]
[null,null,null,null,{"$f":"Translations!$B$356","v":"Alle Geräte müssen anhand einer einmaligen Kennnummer (z. B. Seriennummer des Geräts) eindeutig identifizierbar sein. Der Austausch von Geräten (z. B. infolge einer Beschädigung) wird jedoch nicht als erhebliche Änderung des Monitoringkonzepts im Sinne von Artikel 15 Absatz 3 erachtet. Die einmalige Kennnummer sollte daher getrennt vom Monitoringkonzept dokumentiert werden. Bitte achten Sie darauf, für diesen Zweck ein geeignetes schriftliches Verfahren einzuführen."}]
[null,null,null,null,{"$f":"Translations!$B$350","v":"Bitte geben Sie zu jedem Messgerät die angegebene Messunsicherheit ein, einschließlich des mit dieser Unsicherheit zusammenhängenden Messbereichs wie in den Spezifikationen des Herstellers angegeben. In einigen Fällen kann die Messunsicherheit für zwei verschiedene Messbereiche angegeben sein. Bitte geben Sie in diesem Fall beide ein."}]
[null,null,null,null,{"$f":"Translations!$B$351","v":"Der typische Arbeitsbereich bezieht sich auf den Bereich, für den das betreffende Messgerät in der Regel in Ihrer Anlage genutzt wird."}]
[null,null,null,null,{"$f":"Translations!$B$353","v":"„Messgerättyp“: Bitte wählen Sie den zutreffenden Typ aus der Drop-down-Liste aus oder geben Sie einen eher zutreffenden Typ ein."}]
[null,null,null,null,{"$f":"Translations!$B$566","v":"Die Liste der hier angegebenen Messgeräte wird in Abschnitt 10 für jede Emissionsquelle als Drop-down-Liste angezeigt, aus der die verwendeten Messgeräte auszuwählen sind."}]
[null,null,null,null,{"$f":"Translations!$B$355","v":"Im Fall von Gasdurchflussmessern beziehen Sie sich auf Nm3/h, wenn die Druck-Temperatur-Kompensation ins Gerät integriert ist, und auf m3 im Betriebszustand, wenn die Druck-Temperatur-Kompensation in einem gesonderten Gerät erfolgt. Im letztgenannten Fall führen Sie bitte auch diese gesonderten Geräte auf."}]
[null,null,null,null,{"$f":"Translations!$B$567","v":"Die Messfrequenz sollte die Frequenz wiedergeben, in der das Gerät Datenpunkte erzeugt, bevor die Daten zu Stundenmittelwerten oder Mittelwerten kürzerer Zeitspannen aggregiert werden."}]
[]
[null,null,{"$f":"Translations!$B$357","v":"Ref."},null,{"$f":"Translations!$B$358","v":"Messgerättyp:"},null,{"$f":"Translations!$B$359","v":"Standort (interne Kennnummer)"},{"$f":"Translations!$B$360","v":"Messbereich"},null,null,{"$f":"Translations!$B$361","v":"Angegebene \nUnsicherheit \n(+/-%)"},{"$f":"Translations!$B$362","v":"Typischer Arbeitsbereich"},null,{"$f":"Translations!$B$568","v":"Messfrequenz"}]
[null,null,null,null,null,null,null,{"$f":"Translations!$B$363","v":"Einheit"},{"$f":"Translations!$B$364","v":"Untergrenze"},{"$f":"Translations!$B$365","v":"Obergrenze"},null,{"$f":"Translations!$B$364","v":"Untergrenze"},{"$f":"Translations!$B$365","v":"Obergrenze"},null,null,null,null,null,"Sorting","Sorting","Sorting","Sorting"]
["HIDE_Example",null,"MM01",null,{"$f":"Translations!$B$569","v":"CO2-Konzentration (NDIR)"},null,{"$f":"Translations!$B$570","v":"Kamin 1 Plattform a (Diagramm: K.1-A)"},{"$f":"Translations!$B$1201","v":"g CO2/Nm³"},0,250,5.5,25,200,{"$f":"Translations!$B$571","v":"1 pro Sekunde"}]
["HIDE_Example"]
["HIDE_Example",null,"MM02",null,{"$f":"Translations!$B$572","v":"Durchflussmesser (Staudrucksonde)"},null,{"$f":"Translations!$B$570","v":"Kamin 1 Plattform a (Diagramm: K.1-A)"},"Nm³/h",10,10000,4,1000,8000,{"$f":"Translations!$B$571","v":"1 pro Sekunde"}]
["HIDE_Example",null,null,null,null,null,null,null,null,null,null,null,null,null,null,null,null,null,null,null,null,{"$f":"ADDRESS(ROW(V64),COLUMN())&\":\"&ADDRESS(ROW(V64)+MAX(0,COUNTA(CNTR_MeasurementInstrumentListMx)-COUNTIF(CNTR_MeasurementInstrumentListMx,EUconst_NA)-COUNTIF(CNTR_MeasurementInstrumentListMx,\"\")),COLUMN())","v":"$V$64:$V$64"}]
[null,null,"MM1",null,null,null,null,null,null,null,null,null,null,null,null,null,null,1,1,{"$f":"IF(ISBLANK(E64),\"\",MAX(T$60:T63)+1)","v":""},{"$f":"IF(ISBLANK(E64),\"\",C64 & \": \" &E64)","v":""},{"$f":"IF(COUNTIF($T$61:$T$85,R64)=1,INDEX($U$61:$U$85,MATCH(R64,$T$61:$T$85,0)),EUconst_NA)","v":"n.r."}]
[null,null,null,null,null,null,null,null,null,null,null,null,null,null,null,null,null,2,null,null,null,"n.r."]
[null,null,"MM2",null,null,null,null,null,null,null,null,null,null,null,null,null,null,3,2,{"$f":"IF(ISBLANK(E66),\"\",MAX(T$60:T65)+1)","v":""},{"$f":"IF(ISBLANK(E66),\"\",C66 & \": \" &E66)","v":""},"n.r."]
[null,null,null,null,null,null,null,null,null,null,null,null,null,null,null,null,null,4,null,null,null,"n.r."]
[null,null,"MM3",null,null,null,null,null,null,null,null,null,null,null,null,null,null,5,3,{"$f":"IF(ISBLANK(E68),\"\",MAX(T$60:T67)+1)","v":""},{"$f":"IF(ISBLANK(E68),\"\",C68 & \": \" &E68)","v":""},"n.r."]
[null,null,null,null,null,null,null,null,null,null,null,null,null,null,null,null,null,6,null,null,null,"n.r."]
[null,null,"MM4",null,null,null,null,null,null,null,null,null,null,null,null,null,null,7,4,{"$f":"IF(ISBLANK(E70),\"\",MAX(T$60:T69)+1)","v":""},{"$f":"IF(ISBLANK(E70),\"\",C70 & \": \" &E70)","v":""},"n.r."]
[null,null,null,null,null,null,null,null,null,null,null,null,null,null,null,null,null,8,null,null,null,"n.r."]
[null,null,"MM5",null,null,null,null,null,null,null,null,null,null,null,null,null,null,9,5,{"$f":"IF(ISBLANK(E72),\"\",MAX(T$60:T71)+1)","v":""},{"$f":"IF(ISBLANK(E72),\"\",C72 & \": \" &E72)","v":""},"n.r."]
[null,null,null,null,null,null,null,null,null,null,null,null,null,null,null,null,null,10,null,null,null,"n.r."]
[null,null,"MM6",null,null,null,null,null,null,null,null,null,null,null,null,null,null,11,6,{"$f":"IF(ISBLANK(E74),\"\",MAX(T$60:T73)+1)","v":""},{"$f":"IF(ISBLANK(E74),\"\",C74 & \": \" &E74)","v":""},"n.r."]
[null,null,null,null,null,null,null,null,null,null,null,null,null,null,null,null,null,12,null,null,null,"n.r."]
[null,null,"MM7",null,null,null,null,null,null,null,null,null,null,null,null,null,null,13,7,{"$f":"IF(ISBLANK(E76),\"\",MAX(T$60:T75)+1)","v":""},{"$f":"IF(ISBLANK(E76),\"\",C76 & \": \" &E76)","v":""},"n.r."]
[null,null,null,null,null,null,null,null,null,null,null,null,null,null,null,null,null,14,null,null,null,"n.r."]
[null,null,"MM8",null,null,null,null,null,null,null,null,null,null,null,null,null,null,15,8,{"$f":"IF(ISBLANK(E78),\"\",MAX(T$60:T77)+1)","v":""},{"$f":"IF(ISBLANK(E78),\"\",C78 & \": \" &E78)","v":""},"n.r."]
[null,null,null,null,null,null,null,null,null,null,null,null,null,null,null,null,null,16,null,null,null,"n.r."]
[null,null,"MM9",null,null,null,null,null,null,null,null,null,null,null,null,null,null,17,9,{"$f":"IF(ISBLANK(E80),\"\",MAX(T$60:T79)+1)","v":""},{"$f":"IF(ISBLANK(E80),\"\",C80 & \": \" &E80)","v":""},"n.r."]
[null,null,null,null,null,null,null,null,null,null,null,null,null,null,null,null,null,18,null,null,null,"n.r."]
[null,null,"MM10",null,null,null,null,null,null,null,null,null,null,null,null,null,null,19,10,{"$f":"IF(ISBLANK(E82),\"\",MAX(T$60:T81)+1)","v":""},{"$f":"IF(ISBLANK(E82),\"\",C82 & \": \" &E82)","v":""},"n.r."]
[null,null,null,null,null,null,null,null,null,null,null,null,null,null,null,null,null,20,null,null,null,"n.r."]
["ausblenden",null,null,null,null,null,null,null,null,null,null,null,null,null,null,null,null,null,null,{"$f":"IF(ISBLANK(E84),\"\",MAX(T$60:T83)+1)","v":""},{"$f":"IF(ISBLANK(E84),\"\",C84 & \": \" &E84)","v":""},"n.r."]
["ausblenden",null,null,null,null,null,null,null,null,null,null,null,null,null,null,null,null,null,null,null,null,"n.r."]
["ADD_MeasurementInstrument"]
[null,null,null,null,null,null,{"$f":"Translations!$B$368","v":"Auf „+“ klicken, um weitere Messgeräte einzufügen"}]
[]
[]
[]
[null,null,null,"(d)",{"$f":"Translations!$B$369","v":"Name und Referenz der Unterlagen zur Unsicherheitsbewertung:"},null,null,null,null,null,null,null,null,null,null,null,null,null,null,null,null,null,{"$f":"CNTR_SmallEmitter=TRUE","v":false}]
[null,null,null,null,{"$f":"Translations!$B$370","v":"Gemäß Artikel 12 müssen Sie den Nachweis der Konformität der angewandten Ebenen erbringen. Bitte geben Sie hier Referenzen von Unsicherheitsberechnungen und/oder Schaubildern an. "}]
[null,null,null,null,{"$f":"Translations!$B$371","v":"Gemäß Artikel 47 Absatz 3 braucht eine Anlage mit geringen Emissionen der zuständigen Behörde diese Unterlage nicht zu übermitteln."}]
[]
[null,null,null,"(e)",{"$f":"Translations!$B$573","v":"Laboratorien und Methodiken für die Anwendung von kontinuierlichen Messverfahren"}]
[null,null,null,null,{"$f":"Translations!$B$384","v":"Bitte geben Sie ein, welche Methoden gegebenenfalls, je nach gewählter Ebene, für die Analyse von Brennstoffen und Materialien zwecks Bestimmung aller Berechnungsfaktoren verwendet werden. Ist das Labor nicht gemäß EN ISO/IEC 17025 akkreditiert, müssen sie gemäß Artikel 34 den Nachweis erbringen, dass das Labor technisch kompetent ist. Bitte geben Sie hierfür die Referenz einer beiliegenden Unterlage an."}]
[null,null,null,null,{"$f":"Translations!$B$574","v":"Diese Liste wird in Abschnitt 10 als Drop-down-Liste angezeigt, damit die Analysemethoden den entsprechenden Messpunkten zugewiesen werden können."}]
[null,null,null,null,{"$f":"Translations!$B$135","v":"Für die Anzeige/Unterdrückung von Beispielen drücken Sie bitte die Taste „Beispiele“ im Navigationsbereich."}]
[]
[null,null,null,null,{"$f":"Translations!$B$387","v":"Ref. Lab."},{"$f":"Translations!$B$388","v":"Name des Labors"},null,{"$f":"Translations!$B$389","v":"Parameter"},{"$f":"Translations!$B$390","v":"Analyseverfahren \n(einschließlich Referenz des Verfahrens und kurzer Beschreibung der Methode)"},null,null,{"$f":"Translations!$B$391","v":"Ist das Labor gemäß EN ISO/IEC 17025 für diese Analyse akkreditiert?"},{"$f":"Translations!$B$392","v":"Falls nein, Referenz des vorzulegenden Nachweises angeben."},null,null,null,null,null,null,"Sorting",null,"Sorting","Sorting"]
["HIDE_Example",null,null,null,"LC01",{"$f":"Translations!$B$393","v":"Beispiel Labor"},null,{"$f":"Translations!$B$575","v":"QAL-Verfahren"},{"$f":"Translations!$B$576","v":"EN 14181"},null,null,true]
["HIDE_Example",null,null,null,"LC02",{"$f":"Translations!$B$396","v":"Beispiel Labor 2"},null,{"$f":"Translations!$B$577","v":"CO2-Konzentration"},{"$f":"Translations!$B$578","v":"ISO 12039"},null,null,false,{"$f":"Translations!$B$399","v":"Lab_competence.pdf, 2/3/2012"}]
[null,null,null,null,"LC1",null,null,null,null,null,null,null,null,null,null,null,null,null,null,1,null,{"$f":"IF(ISBLANK(F103),\"\",MAX(V$102:V102)+1)","v":""},{"$f":"IF(COUNTIF($V$103:$V$118,T103)=1,INDEX($E$103:$E$118,MATCH(T103,$V$103:$V$118,0))& \": \" &INDEX($F$103:$F$118,MATCH(T103,$V$103:$V$118,0)),EUconst_NA)","v":"n.r."}]
[null,null,null,null,"LC2",null,null,null,null,null,null,null,null,null,null,null,null,null,null,2,null,{"$f":"IF(ISBLANK(F104),\"\",MAX(V$102:V103)+1)","v":""},"n.r."]
[null,null,null,null,"LC3",null,null,null,null,null,null,null,null,null,null,null,null,null,null,3,null,{"$f":"IF(ISBLANK(F105),\"\",MAX(V$102:V104)+1)","v":""},"n.r."]
[null,null,null,null,"LC4",null,null,null,null,null,null,null,null,null,null,null,null,null,null,4,null,{"$f":"IF(ISBLANK(F106),\"\",MAX(V$102:V105)+1)","v":""},"n.r."]
[null,null,null,null,"LC5",null,null,null,null,null,null,null,null,null,null,null,null,null,null,5,null,{"$f":"IF(ISBLANK(F107),\"\",MAX(V$102:V106)+1)","v":""},"n.r."]
[null,null,null,null,"LC6",null,null,null,null,null,null,null,null,null,null,null,null,null,null,6,null,{"$f":"IF(ISBLANK(F108),\"\",MAX(V$102:V107)+1)","v":""},"n.r."]
[null,null,null,null,"LC7",null,null,null,null,null,null,null,null,null,null,null,null,null,null,7,null,{"$f":"IF(ISBLANK(F109),\"\",MAX(V$102:V108)+1)","v":""},"n.r."]
[null,null,null,null,"LC8",null,null,null,null,null,null,null,null,null,null,null,null,null,null,8,null,{"$f":"IF(ISBLANK(F110),\"\",MAX(V$102:V109)+1)","v":""},"n.r."]
[null,null,null,null,"LC9",null,null,null,null,null,null,null,null,null,null,null,null,null,null,9,null,{"$f":"IF(ISBLANK(F111),\"\",MAX(V$102:V110)+1)","v":""},"n.r."]
[null,null,null,null,"LC10",null,null,null,null,null,null,null,null,null,null,null,null,null,null,10,null,{"$f":"IF(ISBLANK(F112),\"\",MAX(V$102:V111)+1)","v":""},"n.r."]
[null,null,null,null,"LC11",null,null,null,null,null,null,null,null,null,null,null,null,null,null,11,null,{"$f":"IF(ISBLANK(F113),\"\",MAX(V$102:V112)+1)","v":""},"n.r."]
[null,null,null,null,"LC12",null,null,null,null,null,null,null,null,null,null,null,null,null,null,12,null,{"$f":"IF(ISBLANK(F114),\"\",MAX(V$102:V113)+1)","v":""},"n.r."]
[null,null,null,null,"LC13",null,null,null,null,null,null,null,null,null,null,null,null,null,null,13,null,{"$f":"IF(ISBLANK(F115),\"\",MAX(V$102:V114)+1)","v":""},"n.r."]
[null,null,null,null,"LC14",null,null,null,null,null,null,null,null,null,null,null,null,null,null,14,null,{"$f":"IF(ISBLANK(F116),\"\",MAX(V$102:V115)+1)","v":""},"n.r."]
[null,null,null,null,"LC15",null,null,null,null,null,null,null,null,null,null,null,null,null,null,15,null,{"$f":"IF(ISBLANK(F117),\"\",MAX(V$102:V116)+1)","v":""},"n.r."]
["ausblenden",null,null,null,null,null,null,null,null,null,null,null,null,null,null,null,null,null,null,null,null,{"$f":"IF(ISBLANK(F118),\"\",MAX(V$102:V117)+1)","v":""},"n.r."]
["ADD_Laboratories"]
[null,null,null,null,null,null,{"$f":"Translations!$B$400","v":"Auf „+“ klicken, um weitere Verfahren und Labors einzufügen"}]
[]
[]
[]
[]
[null,null,10,{"$f":"Translations!$B$22","v":"Angaben zu den Messstellen"}]
[]
[null,null,null,{"$f":"Translations!$B$579","v":"Bitte beachten Sie, dass die Anweisungen nur für den ersten Messpunkt angezeigt werden."}]
[null,null,null,{"$f":"Translations!$B$580","v":"Wenn Sie Daten für weitere Messpunkte anzeigen wollen, klicken Sie bitte auf die „+“-Zeichen links (Datenkonsolidierungsfunktion)."}]
[null,null,null,{"$f":"Translations!$B$581","v":"Weitere Messpunkte können Sie mithilfe des Makros in Abschnitt 6 Buchstabe d des Arbeitsblatts C_InstallationDescription anfügen."}]
[null,null,null,{"$f":"Translations!$B$135","v":"Für die Anzeige/Unterdrückung von Beispielen drücken Sie bitte die Taste „Beispiele“ im Navigationsbereich."}]
[null,null,null,{"$f":"Translations!$B$582","v":"Das Beispiel ist beim ersten Messpunkt eingegeben."}]
[]
[]
[null,null,null,null,null,null,null,null,null,null,null,null,null,null,null,null,null,null,null,null,null,null,null,null,"make grey?"]
[null,null,{"$f":"\"M\"&Q135","v":"M1"},{"$f":"CONCATENATE(EUconst_MeasurementPoint,\" \",Q135,\":\")","v":"Messpunkt 1:"},null,null,null,{"$f":"IF(INDEX(C_InstallationDescription!$F$171:$F$176,MATCH(C135,C_InstallationDescription!$E$171:$E$176,0))>0,INDEX(C_InstallationDescription!$F$171:$F$176,MATCH(C135,C_InstallationDescription!$E$171:$E$176,0)),\"\")","v":""},null,null,null,null,{"$f":"IF(U135=TRUE,V135,\"\")","v":""},null,null,null,1,null,{"$f":"IF(INDEX(C_InstallationDescription!$M:$M,MATCH(Q137,C_InstallationDescription!$Q:$Q,0))=\"\",FALSE,TRUE)","v":false},{"$f":"IF(S135=TRUE,INDEX(C_InstallationDescription!$M:$M,MATCH(Q137,C_InstallationDescription!$Q:$Q,0)),\"\")","v":""},{"$f":"IF(INDEX(C_InstallationDescription!$N:$N,MATCH(Q137,C_InstallationDescription!$Q:$Q,0))=\"\",FALSE,TRUE)","v":false},{"$f":"IF(U135=TRUE,INDEX(C_InstallationDescription!$N:$N,MATCH(Q137,C_InstallationDescription!$Q:$Q,0)),\"\")","v":""},null,null,"xxx"]
[]
[null,null,null,"(a)",{"$f":"Translations!$B$583","v":"Betriebszustand:"},null,null,null,null,null,null,null,{"$f":"IF(S135=TRUE,T135,\"\")","v":""},null,null,null,{"$f":"EUconst_CNTR_SourceCategory&C135","v":"SourceCategory_M1"}]
["HIDE_Example"]
["HIDE_Example",null,null,{"$f":"Translations!$B$452","v":"Beispieldaten:"},null,null,null,{"$f":"Translations!$B$279","v":"Kamin eines kohlebefeuerten Kessels, Messplattform A"},null,null,null,null,"CO2"]
["HIDE_Example"]
["HIDE_Example",null,null,null,null,null,null,{"$f":"Translations!$B$584","v":"Normbetrieb und Ausnahmesituation"},null,null,null,null,{"$f":"Translations!$B$313","v":"Emissionsstark"}]
["HIDE_Example"]
[null,null,null,null,{"$f":"Translations!$B$585","v":"Bitte wählen Sie hier aus, ob der Messpunkt für Messungen bei Normbetrieb oder in Ausnahmesituationen (eingeschränkter Betrieb, Übergangsphase, Ausfallperioden, Phasen der Inbetriebnahme) dient."},null,null,null,null,null,null,null,null,null,null,null,null,null,null,null,null,null,"cond. Format?"]
[null,null,null,null,{"$f":"Translations!$B$586","v":"Die Angaben in den grünen Feldern werden automatisch aus Abschnitt 6 Buchstabe d des Arbeitsblatts C_InstallationDescription entnommen."}]
[]
[null,null,null,{"$f":"Translations!$B$446","v":"Automatische Anleitung zu den anwendbaren Ebenen:"}]
[]
[null,null,null,null,{"$f":"Translations!$B$587","v":"In den grünen Feldern unten werden die vorgeschriebenen Ebenen für auf Messung beruhende Methodiken auf Basis Ihrer Angaben in Abschnitt 5 Buchstabe d und Abschnitt 6 Buchstabe d angezeigt. Dies sind die Mindestebenen für Emissionsstarke Emissionsquellen. Geringere Anforderungen können jedoch zugelassen werden. Abhängig von den nachstehend genannten Faktoren werden in der grünen Textbox geeignete Hinweise angezeigt:"}]
[null,null,null,null,"-",{"$f":"Translations!$B$588","v":"Geringere Anforderungen gelten gemäß Artikel 41 Absatz 1  für Emissionsquellen, aus denen jährlich weniger als 5000 Tonnen CO2(Äq) emittiert werden oder die für weniger als 10 % der jährlichen Gesamtemissionen der Anlage verantwortlich ist, wobei der jeweils absolut höhere Emissionswert maßgebend ist."}]
[]
[null,null,null,null,{"$f":"IF(H135=\"\",\"\",INDEX(EUconst_CEMSTiersMsg,MATCH(Q151,EUconst_CEMSTiers,0)))","v":""},null,null,null,null,null,null,null,null,null,null,null,{"$f":"IF(CNTR_SmallEmitter=TRUE,EUconst_CNTR_SmallEmitter,EUconst_CNTR_NoSmallEmitter) & \"_\" & IF(M137=\"\",1,MATCH(M137,SourceCategoryCEMS,0))","v":"NoSmallEmitter__1"}]
["HIDE_Example",null,null,null,{"$f":"Translations!$B$589","v":"Artikel 41: Es ist mindestens die angezeigte Mindestebene anzuwenden. \nNur wenn Sie der zuständigen Behörde zu deren Zufriedenheit nachweisen können, dass die Anwendung der vorgeschriebenen Ebene technisch nicht machbar ist oder zu unverhältnismäßigen Kosten führt und dass die Anwendung einer auf Berechnungen beruhenden Methodik unter Anwendung der in Artikel 26 vorgeschriebenen Ebenen technisch nicht machbar ist oder zu unverhältnismäßigen Kosten führt, darf eine nächstniedrigere Ebene angewendet werden mit Ebene 1 als Minimum."}]
[]
[null,null,null,{"$f":"Translations!$B$590","v":"Geräte und Ebenen:"}]
[]
[null,null,null,"(b)",{"$f":"Translations!$B$472","v":"Verwendete Messgeräte:"}]
["HIDE_Example",null,null,null,null,null,null,{"$f":"Translations!$B$591","v":"MM1: CO2 "},{"$f":"Translations!$B$592","v":"MM2: Durchfluss"}]
[]
[null,null,null,null,{"$f":"Translations!$B$593","v":"Bitte wählen Sie hier eines oder mehrere der Geräte aus, die Sie in Abschnitt 9 Buchstabe c angegeben haben."}]
[null,null,null,null,{"$f":"Translations!$B$594","v":"Werden für diesen Messpunkt mehr als fünf Messgeräte verwendet, erläutern Sie dies bitte in der Textbox."}]
[]
[null,null,null,null,{"$f":"Translations!$B$475","v":"Anmerkung / Beschreibung des Vorgehens, wenn mehrere Geräte verwendet werden:"}]
[]
[]
[]
[]
[null,null,null,null,null,null,null,null,null,null,null,null,null,null,null,null,null,null,"Tier def."]
[null,null,null,"(c)",{"$f":"Translations!$B$595","v":"Vorgeschriebene Ebene:"},null,null,{"$f":"IF(H135=\"\",\"\",IF(CNTR_Category=\"A\",INDEX(EUconst_CEMSMinimumTiers,MATCH(M135,EUconst_CEMSTypes,0)),INDEX(EUconst_CEMSHighestTiers,MATCH(M135,EUconst_CEMSTypes,0))))","v":""},{"$f":"IF(H168=\"\",\"\",IF(S168=0,EUconst_NA,IF(ISERROR(S168),\"\",EUconst_MsgTierActivityLevel & \" \" &S168)))","v":""},null,null,null,null,null,null,null,null,null,{"$f":"IF(H168=\"\",\"\",IF(H168=EUconst_NA,\"\",INDEX(EUwideConstants!$H$778:$O$781,MATCH(M135,EUconst_CEMSTypes,0),MATCH(H168,CNTR_TierList,0))))","v":""}]
[null,null,null,"(d)",{"$f":"Translations!$B$596","v":"Angewandte Ebene:"},null,null,null,{"$f":"IF(OR(ISBLANK(H169),H169=EUconst_NoTier),\"\",IF(S169=EUconst_NA,EUconst_NA,IF(ISERROR(S169),\"\",EUconst_MsgTierActivityLevel & \" \" &S169)))","v":""},null,null,null,null,null,null,null,null,null,{"$f":"IF(H169=\"\",\"\",IF(H169=EUconst_NA,\"\",INDEX(EUwideConstants!$H$778:$O$781,MATCH(M135,EUconst_CEMSTypes,0),MATCH(H169,CNTR_TierList,0))))","v":""}]
[null,null,null,"(e)",{"$f":"Translations!$B$479","v":"Erreichte Unsicherheit:"},null,null,null,{"$f":"Translations!$B$480","v":"Anmerkung:"}]
["HIDE_Example",null,null,{"$f":"Translations!$B$452","v":"Beispieldaten:"}]
["HIDE_Example",null,null,"(c)",{"$f":"Translations!$B$595","v":"Vorgeschriebene Ebene:"},null,null,4,{"$f":"Translations!$B$482","v":"Die Unsicherheit darf nicht mehr als ± 2,5 % betragen."}]
["HIDE_Example",null,null,"(d)",{"$f":"Translations!$B$596","v":"Angewandte Ebene:"},null,null,3,{"$f":"Translations!$B$481","v":"Die Unsicherheit darf nicht mehr als ± 5,0 % betragen."}]
["HIDE_Example",null,null,"(e)",{"$f":"Translations!$B$479","v":"Erreichte Unsicherheit:"},null,null,3.5999999999999997E-2,{"$f":"Translations!$B$480","v":"Anmerkung:"}]
["HIDE_Example"]
[null,null,null,null,{"$f":"Translations!$B$597","v":"Bitte geben Sie hier die im gesamten Berichtszeitraum erzielte Gesamtunsicherheit in Bezug auf die vorgeschriebene Ebene und auf die angewandte Ebene an."}]
[null,null,null,null,{"$f":"Translations!$B$598","v":"Dieser Wert sollte in der Regel das Ergebnis einer Unsicherheitsbewertung sein (siehe Abschnitt 7 Buchstabe c). "}]
[null,null,null,null,{"$f":"Translations!$B$488","v":"Bitte beschreiben Sie in der Textbox unter Buchstabe h wie die über den gesamten Berichtszeitraum ermittelte Unsicherheit bestimmt wird."}]
[]
[null,null,null,{"$f":"Translations!$B$599","v":"Normen und Verfahren:"}]
[]
[null,null,null,"(f)",{"$f":"Translations!$B$600","v":"Angewandte Normen und etwaige Abweichungen davon"}]
[null,null,null,null,{"$f":"Translations!$B$601","v":"Bitte verweisen Sie gegebenenfalls auf die Tabelle in Abschnitt 9 Buchstabe e."}]
[]
[]
[]
[]
[]
[null,null,null,"(g)",{"$f":"Translations!$B$602","v":"Verweise auf Verfahren"}]
[null,null,null,null,{"$f":"Translations!$B$603","v":"Für die vollständige Beschreibung der angewandten Verfahren sind folgende Angaben erforderlich. Bitte verweisen Sie auf die entsprechenden schriftlichen Verfahren. Diese Verfahren sind in Abschnitt 11 kurz zu beschreiben."}]
[]
[null,null,null,null,"i.",{"$f":"Translations!$B$604","v":"Berechnungsformeln für die Datenaggregation und zur Bestimmung der Jahresemissionen"}]
[]
[]
[null,null,null,null,"ii.",{"$f":"Translations!$B$605","v":"Methode zur Feststellung, ob für die einzelnen Parameter gültige Stundendaten oder kürzere Referenzzeiträume berechnet werden können (unter Verwendung des Schwellenwerts gemäß Artikel 44 Absatz 2) und Methode zur Bestimmung von Ersatzwerten für fehlende Daten gemäß Artikel 45"}]
[]
[]
[null,null,null,null,"iii.",{"$f":"Translations!$B$606","v":"Gegebenenfalls Berechnung des Abgasstroms"}]
[]
[]
[null,null,null,null,"iv.",{"$f":"Translations!$B$1356","v":"Gegebenenfalls Bestimmung von CO2 aus Biomasse oder aus einem anderen Anteil mit einem Emissionsfaktor von Null und von den gemessenen CO2-Emissionen abgezogen wird."}]
[]
[]
[null,null,null,null,"v.",{"$f":"Translations!$B$608","v":"Gegebenenfalls flankierende Emissionsberechnungen gemäß Artikel 46"}]
[]
[]
[null,null,null,{"$f":"Translations!$B$545","v":"Anmerkungen und Erklärungen:"}]
[]
[null,null,null,"(h)",{"$f":"Translations!$B$1202","v":"Anmerkungen und Begründung für die Nichtanwendung der vorgeschriebenen Ebene:"}]
[null,null,null,null,{"$f":"Translations!$B$609","v":"Bitte geben Sie sachdienliche Anmerkungen unten ein. Erläuterungen können insbesondere erforderlich sein in Bezug auf die Methodik zur Schätzung des Biomasseanteils, weitere Maßnahmen der Qualitätsbewertung/Qualitätskontrolle (QA/QC) usw."}]
[null,null,null,null,{"$f":"Translations!$B$610","v":"Wird die gemäß Artikel 41 vorgeschriebene Ebene für diesen Messpunkt nicht verwendet, ist dies hier zu begründen."}]
[]
[]
[]
[]
[]
[null,null,null,null,null,null,null,null,null,null,null,null,null,null,null,null,null,null,null,null,null,null,null,null,"make grey?"]
[null,null,{"$f":"\"M\"&Q218","v":"M2"},{"$f":"CONCATENATE(EUconst_MeasurementPoint,\" \",Q218,\":\")","v":"Messpunkt 2:"},null,null,null,{"$f":"IF(INDEX(C_InstallationDescription!$F$171:$F$176,MATCH(C218,C_InstallationDescription!$E$171:$E$176,0))>0,INDEX(C_InstallationDescription!$F$171:$F$176,MATCH(C218,C_InstallationDescription!$E$171:$E$176,0)),\"\")","v":""},null,null,null,null,{"$f":"IF(U218=TRUE,V218,\"\")","v":""},null,null,null,2,null,{"$f":"IF(INDEX(C_InstallationDescription!$M:$M,MATCH(Q220,C_InstallationDescription!$Q:$Q,0))=\"\",FALSE,TRUE)","v":false},{"$f":"IF(S218=TRUE,INDEX(C_InstallationDescription!$M:$M,MATCH(Q220,C_InstallationDescription!$Q:$Q,0)),\"\")","v":""},{"$f":"IF(INDEX(C_InstallationDescription!$N:$N,MATCH(Q220,C_InstallationDescription!$Q:$Q,0))=\"\",FALSE,TRUE)","v":false},{"$f":"IF(U218=TRUE,INDEX(C_InstallationDescription!$N:$N,MATCH(Q220,C_InstallationDescription!$Q:$Q,0)),\"\")","v":""},null,null,"xxx"]
[]
[null,null,null,"(a)",{"$f":"Translations!$B$583","v":"Betriebszustand:"},null,null,null,null,null,null,null,{"$f":"IF(S218=TRUE,T218,\"\")","v":""},null,null,null,{"$f":"EUconst_CNTR_SourceCategory&C218","v":"SourceCategory_M2"}]
[]
[null,null,null,{"$f":"Translations!$B$446","v":"Automatische Anleitung zu den anwendbaren Ebenen:"}]
[]
[]
[null,null,null,null,{"$f":"IF(H218=\"\",\"\",INDEX(EUconst_CEMSTiersMsg,MATCH(Q225,EUconst_CEMSTiers,0)))","v":""},null,null,null,null,null,null,null,null,null,null,null,{"$f":"IF(CNTR_SmallEmitter=TRUE,EUconst_CNTR_SmallEmitter,EUconst_CNTR_NoSmallEmitter) & \"_\" & IF(M220=\"\",1,MATCH(M220,SourceCategoryCEMS,0))","v":"NoSmallEmitter__1"}]
[]
[null,null,null,{"$f":"Translations!$B$590","v":"Geräte und Ebenen:"}]
[]
[null,null,null,"(b)",{"$f":"Translations!$B$472","v":"Verwendete Messgeräte:"}]
[]
[null,null,null,null,{"$f":"Translations!$B$475","v":"Anmerkung / Beschreibung des Vorgehens, wenn mehrere Geräte verwendet werden:"}]
[]
[]
[]
[]
[null,null,null,null,null,null,null,null,null,null,null,null,null,null,null,null,null,null,"Tier def."]
[null,null,null,"(c)",{"$f":"Translations!$B$595","v":"Vorgeschriebene Ebene:"},null,null,{"$f":"IF(H218=\"\",\"\",IF(CNTR_Category=\"A\",INDEX(EUconst_CEMSMinimumTiers,MATCH(M218,EUconst_CEMSTypes,0)),INDEX(EUconst_CEMSHighestTiers,MATCH(M218,EUconst_CEMSTypes,0))))","v":""},{"$f":"IF(H237=\"\",\"\",IF(S237=0,EUconst_NA,IF(ISERROR(S237),\"\",EUconst_MsgTierActivityLevel & \" \" &S237)))","v":""},null,null,null,null,null,null,null,null,null,{"$f":"IF(H237=\"\",\"\",IF(H237=EUconst_NA,\"\",INDEX(EUwideConstants!$H$778:$O$781,MATCH(M218,EUconst_CEMSTypes,0),MATCH(H237,CNTR_TierList,0))))","v":""}]
[null,null,null,"(d)",{"$f":"Translations!$B$596","v":"Angewandte Ebene:"},null,null,null,{"$f":"IF(OR(ISBLANK(H238),H238=EUconst_NoTier),\"\",IF(S238=EUconst_NA,EUconst_NA,IF(ISERROR(S238),\"\",EUconst_MsgTierActivityLevel & \" \" &S238)))","v":""},null,null,null,null,null,null,null,null,null,{"$f":"IF(H238=\"\",\"\",IF(H238=EUconst_NA,\"\",INDEX(EUwideConstants!$H$778:$O$781,MATCH(M218,EUconst_CEMSTypes,0),MATCH(H238,CNTR_TierList,0))))","v":""}]
[null,null,null,"(e)",{"$f":"Translations!$B$479","v":"Erreichte Unsicherheit:"},null,null,null,{"$f":"Translations!$B$480","v":"Anmerkung:"}]
[]
[null,null,null,{"$f":"Translations!$B$599","v":"Normen und Verfahren:"}]
[]
[null,null,null,"(f)",{"$f":"Translations!$B$600","v":"Angewandte Normen und etwaige Abweichungen davon"}]
[null,null,null,null,{"$f":"Translations!$B$601","v":"Bitte verweisen Sie gegebenenfalls auf die Tabelle in Abschnitt 9 Buchstabe e."}]
[]
[]
[]
[]
[]
[null,null,null,"(g)",{"$f":"Translations!$B$602","v":"Verweise auf Verfahren"}]
[]
[null,null,null,null,"i.",{"$f":"Translations!$B$604","v":"Berechnungsformeln für die Datenaggregation und zur Bestimmung der Jahresemissionen"}]
[]
[]
[null,null,null,null,"ii.",{"$f":"Translations!$B$605","v":"Methode zur Feststellung, ob für die einzelnen Parameter gültige Stundendaten oder kürzere Referenzzeiträume berechnet werden können (unter Verwendung des Schwellenwerts gemäß Artikel 44 Absatz 2) und Methode zur Bestimmung von Ersatzwerten für fehlende Daten gemäß Artikel 45"}]
[]
[]
[null,null,null,null,"iii.",{"$f":"Translations!$B$606","v":"Gegebenenfalls Berechnung des Abgasstroms"}]
[]
[]
[null,null,null,null,"iv.",{"$f":"Translations!$B$1356","v":"Gegebenenfalls Bestimmung von CO2 aus Biomasse oder aus einem anderen Anteil mit einem Emissionsfaktor von Null und von den gemessenen CO2-Emissionen abgezogen wird."}]
[]
[]
[null,null,null,null,"v.",{"$f":"Translations!$B$608","v":"Gegebenenfalls flankierende Emissionsberechnungen gemäß Artikel 46"}]
[]
[]
[null,null,null,{"$f":"Translations!$B$545","v":"Anmerkungen und Erklärungen:"}]
[]
[null,null,null,"(h)",{"$f":"Translations!$B$1202","v":"Anmerkungen und Begründung für die Nichtanwendung der vorgeschriebenen Ebene:"}]
[]
[]
[]
[]
[]
[null,null,null,null,null,null,null,null,null,null,null,null,null,null,null,null,null,null,null,null,null,null,null,null,"make grey?"]
[null,null,{"$f":"\"M\"&Q276","v":"M3"},{"$f":"CONCATENATE(EUconst_MeasurementPoint,\" \",Q276,\":\")","v":"Messpunkt 3:"},null,null,null,{"$f":"IF(INDEX(C_InstallationDescription!$F$171:$F$176,MATCH(C276,C_InstallationDescription!$E$171:$E$176,0))>0,INDEX(C_InstallationDescription!$F$171:$F$176,MATCH(C276,C_InstallationDescription!$E$171:$E$176,0)),\"\")","v":""},null,null,null,null,{"$f":"IF(U276=TRUE,V276,\"\")","v":""},null,null,null,{"$f":"Q218+1","v":3},null,{"$f":"IF(INDEX(C_InstallationDescription!$M:$M,MATCH(Q278,C_InstallationDescription!$Q:$Q,0))=\"\",FALSE,TRUE)","v":false},{"$f":"IF(S276=TRUE,INDEX(C_InstallationDescription!$M:$M,MATCH(Q278,C_InstallationDescription!$Q:$Q,0)),\"\")","v":""},{"$f":"IF(INDEX(C_InstallationDescription!$N:$N,MATCH(Q278,C_InstallationDescription!$Q:$Q,0))=\"\",FALSE,TRUE)","v":false},{"$f":"IF(U276=TRUE,INDEX(C_InstallationDescription!$N:$N,MATCH(Q278,C_InstallationDescription!$Q:$Q,0)),\"\")","v":""},null,null,"xxx"]
[]
[null,null,null,"(a)",{"$f":"Translations!$B$583","v":"Betriebszustand:"},null,null,null,null,null,null,null,{"$f":"IF(S276=TRUE,T276,\"\")","v":""},null,null,null,{"$f":"EUconst_CNTR_SourceCategory&C276","v":"SourceCategory_M3"}]
[]
[null,null,null,{"$f":"Translations!$B$446","v":"Automatische Anleitung zu den anwendbaren Ebenen:"}]
[]
[]
[null,null,null,null,{"$f":"IF(H276=\"\",\"\",INDEX(EUconst_CEMSTiersMsg,MATCH(Q283,EUconst_CEMSTiers,0)))","v":""},null,null,null,null,null,null,null,null,null,null,null,{"$f":"IF(CNTR_SmallEmitter=TRUE,EUconst_CNTR_SmallEmitter,EUconst_CNTR_NoSmallEmitter) & \"_\" & IF(M278=\"\",1,MATCH(M278,SourceCategoryCEMS,0))","v":"NoSmallEmitter__1"}]
[]
[null,null,null,{"$f":"Translations!$B$590","v":"Geräte und Ebenen:"}]
[]
[null,null,null,"(b)",{"$f":"Translations!$B$472","v":"Verwendete Messgeräte:"}]
[]
[null,null,null,null,{"$f":"Translations!$B$475","v":"Anmerkung / Beschreibung des Vorgehens, wenn mehrere Geräte verwendet werden:"}]
[]
[]
[]
[]
[null,null,null,null,null,null,null,null,null,null,null,null,null,null,null,null,null,null,"Tier def."]
[null,null,null,"(c)",{"$f":"Translations!$B$595","v":"Vorgeschriebene Ebene:"},null,null,{"$f":"IF(H276=\"\",\"\",IF(CNTR_Category=\"A\",INDEX(EUconst_CEMSMinimumTiers,MATCH(M276,EUconst_CEMSTypes,0)),INDEX(EUconst_CEMSHighestTiers,MATCH(M276,EUconst_CEMSTypes,0))))","v":""},{"$f":"IF(H295=\"\",\"\",IF(S295=0,EUconst_NA,IF(ISERROR(S295),\"\",EUconst_MsgTierActivityLevel & \" \" &S295)))","v":""},null,null,null,null,null,null,null,null,null,{"$f":"IF(H295=\"\",\"\",IF(H295=EUconst_NA,\"\",INDEX(EUwideConstants!$H$778:$O$781,MATCH(M276,EUconst_CEMSTypes,0),MATCH(H295,CNTR_TierList,0))))","v":""}]
[null,null,null,"(d)",{"$f":"Translations!$B$596","v":"Angewandte Ebene:"},null,null,null,{"$f":"IF(OR(ISBLANK(H296),H296=EUconst_NoTier),\"\",IF(S296=EUconst_NA,EUconst_NA,IF(ISERROR(S296),\"\",EUconst_MsgTierActivityLevel & \" \" &S296)))","v":""},null,null,null,null,null,null,null,null,null,{"$f":"IF(H296=\"\",\"\",IF(H296=EUconst_NA,\"\",INDEX(EUwideConstants!$H$778:$O$781,MATCH(M276,EUconst_CEMSTypes,0),MATCH(H296,CNTR_TierList,0))))","v":""}]
[null,null,null,"(e)",{"$f":"Translations!$B$479","v":"Erreichte Unsicherheit:"},null,null,null,{"$f":"Translations!$B$480","v":"Anmerkung:"}]
[]
[null,null,null,{"$f":"Translations!$B$599","v":"Normen und Verfahren:"}]
[]
[null,null,null,"(f)",{"$f":"Translations!$B$600","v":"Angewandte Normen und etwaige Abweichungen davon"}]
[null,null,null,null,{"$f":"Translations!$B$601","v":"Bitte verweisen Sie gegebenenfalls auf die Tabelle in Abschnitt 9 Buchstabe e."}]
[]
[]
[]
[]
[]
[null,null,null,"(g)",{"$f":"Translations!$B$602","v":"Verweise auf Verfahren"}]
[]
[null,null,null,null,"i.",{"$f":"Translations!$B$604","v":"Berechnungsformeln für die Datenaggregation und zur Bestimmung der Jahresemissionen"}]
[]
[]
[null,null,null,null,"ii.",{"$f":"Translations!$B$605","v":"Methode zur Feststellung, ob für die einzelnen Parameter gültige Stundendaten oder kürzere Referenzzeiträume berechnet werden können (unter Verwendung des Schwellenwerts gemäß Artikel 44 Absatz 2) und Methode zur Bestimmung von Ersatzwerten für fehlende Daten gemäß Artikel 45"}]
[]
[]
[null,null,null,null,"iii.",{"$f":"Translations!$B$606","v":"Gegebenenfalls Berechnung des Abgasstroms"}]
[]
[]
[null,null,null,null,"iv.",{"$f":"Translations!$B$1356","v":"Gegebenenfalls Bestimmung von CO2 aus Biomasse oder aus einem anderen Anteil mit einem Emissionsfaktor von Null und von den gemessenen CO2-Emissionen abgezogen wird."}]
[]
[]
[null,null,null,null,"v.",{"$f":"Translations!$B$608","v":"Gegebenenfalls flankierende Emissionsberechnungen gemäß Artikel 46"}]
[]
[]
[null,null,null,{"$f":"Translations!$B$545","v":"Anmerkungen und Erklärungen:"}]
[]
[null,null,null,"(h)",{"$f":"Translations!$B$1202","v":"Anmerkungen und Begründung für die Nichtanwendung der vorgeschriebenen Ebene:"}]
[]
[]
[]
[]
[]
[null,null,null,null,null,null,null,null,null,null,null,null,null,null,null,null,null,null,null,null,null,null,null,null,"make grey?"]
[null,null,{"$f":"\"M\"&Q334","v":"M4"},{"$f":"CONCATENATE(EUconst_MeasurementPoint,\" \",Q334,\":\")","v":"Messpunkt 4:"},null,null,null,{"$f":"IF(INDEX(C_InstallationDescription!$F$171:$F$176,MATCH(C334,C_InstallationDescription!$E$171:$E$176,0))>0,INDEX(C_InstallationDescription!$F$171:$F$176,MATCH(C334,C_InstallationDescription!$E$171:$E$176,0)),\"\")","v":""},null,null,null,null,{"$f":"IF(U334=TRUE,V334,\"\")","v":""},null,null,null,{"$f":"Q276+1","v":4},null,{"$f":"IF(INDEX(C_InstallationDescription!$M:$M,MATCH(Q336,C_InstallationDescription!$Q:$Q,0))=\"\",FALSE,TRUE)","v":false},{"$f":"IF(S334=TRUE,INDEX(C_InstallationDescription!$M:$M,MATCH(Q336,C_InstallationDescription!$Q:$Q,0)),\"\")","v":""},{"$f":"IF(INDEX(C_InstallationDescription!$N:$N,MATCH(Q336,C_InstallationDescription!$Q:$Q,0))=\"\",FALSE,TRUE)","v":false},{"$f":"IF(U334=TRUE,INDEX(C_InstallationDescription!$N:$N,MATCH(Q336,C_InstallationDescription!$Q:$Q,0)),\"\")","v":""},null,null,"xxx"]
[]
[null,null,null,"(a)",{"$f":"Translations!$B$583","v":"Betriebszustand:"},null,null,null,null,null,null,null,{"$f":"IF(S334=TRUE,T334,\"\")","v":""},null,null,null,{"$f":"EUconst_CNTR_SourceCategory&C334","v":"SourceCategory_M4"}]
[]
[null,null,null,{"$f":"Translations!$B$446","v":"Automatische Anleitung zu den anwendbaren Ebenen:"}]
[]
[]
[null,null,null,null,{"$f":"IF(H334=\"\",\"\",INDEX(EUconst_CEMSTiersMsg,MATCH(Q341,EUconst_CEMSTiers,0)))","v":""},null,null,null,null,null,null,null,null,null,null,null,{"$f":"IF(CNTR_SmallEmitter=TRUE,EUconst_CNTR_SmallEmitter,EUconst_CNTR_NoSmallEmitter) & \"_\" & IF(M336=\"\",1,MATCH(M336,SourceCategoryCEMS,0))","v":"NoSmallEmitter__1"}]
[]
[null,null,null,{"$f":"Translations!$B$590","v":"Geräte und Ebenen:"}]
[]
[null,null,null,"(b)",{"$f":"Translations!$B$472","v":"Verwendete Messgeräte:"}]
[]
[null,null,null,null,{"$f":"Translations!$B$475","v":"Anmerkung / Beschreibung des Vorgehens, wenn mehrere Geräte verwendet werden:"}]
[]
[]
[]
[]
[null,null,null,null,null,null,null,null,null,null,null,null,null,null,null,null,null,null,"Tier def."]
[null,null,null,"(c)",{"$f":"Translations!$B$595","v":"Vorgeschriebene Ebene:"},null,null,{"$f":"IF(H334=\"\",\"\",IF(CNTR_Category=\"A\",INDEX(EUconst_CEMSMinimumTiers,MATCH(M334,EUconst_CEMSTypes,0)),INDEX(EUconst_CEMSHighestTiers,MATCH(M334,EUconst_CEMSTypes,0))))","v":""},{"$f":"IF(H353=\"\",\"\",IF(S353=0,EUconst_NA,IF(ISERROR(S353),\"\",EUconst_MsgTierActivityLevel & \" \" &S353)))","v":""},null,null,null,null,null,null,null,null,null,{"$f":"IF(H353=\"\",\"\",IF(H353=EUconst_NA,\"\",INDEX(EUwideConstants!$H$778:$O$781,MATCH(M334,EUconst_CEMSTypes,0),MATCH(H353,CNTR_TierList,0))))","v":""}]
[null,null,null,"(d)",{"$f":"Translations!$B$596","v":"Angewandte Ebene:"},null,null,null,{"$f":"IF(OR(ISBLANK(H354),H354=EUconst_NoTier),\"\",IF(S354=EUconst_NA,EUconst_NA,IF(ISERROR(S354),\"\",EUconst_MsgTierActivityLevel & \" \" &S354)))","v":""},null,null,null,null,null,null,null,null,null,{"$f":"IF(H354=\"\",\"\",IF(H354=EUconst_NA,\"\",INDEX(EUwideConstants!$H$778:$O$781,MATCH(M334,EUconst_CEMSTypes,0),MATCH(H354,CNTR_TierList,0))))","v":""}]
[null,null,null,"(e)",{"$f":"Translations!$B$479","v":"Erreichte Unsicherheit:"},null,null,null,{"$f":"Translations!$B$480","v":"Anmerkung:"}]
[]
[null,null,null,{"$f":"Translations!$B$599","v":"Normen und Verfahren:"}]
[]
[null,null,null,"(f)",{"$f":"Translations!$B$600","v":"Angewandte Normen und etwaige Abweichungen davon"}]
[null,null,null,null,{"$f":"Translations!$B$601","v":"Bitte verweisen Sie gegebenenfalls auf die Tabelle in Abschnitt 9 Buchstabe e."}]
[]
[]
[]
[]
[]
[null,null,null,"(g)",{"$f":"Translations!$B$602","v":"Verweise auf Verfahren"}]
[]
[null,null,null,null,"i.",{"$f":"Translations!$B$604","v":"Berechnungsformeln für die Datenaggregation und zur Bestimmung der Jahresemissionen"}]
[]
[]
[null,null,null,null,"ii.",{"$f":"Translations!$B$605","v":"Methode zur Feststellung, ob für die einzelnen Parameter gültige Stundendaten oder kürzere Referenzzeiträume berechnet werden können (unter Verwendung des Schwellenwerts gemäß Artikel 44 Absatz 2) und Methode zur Bestimmung von Ersatzwerten für fehlende Daten gemäß Artikel 45"}]
[]
[]
[null,null,null,null,"iii.",{"$f":"Translations!$B$606","v":"Gegebenenfalls Berechnung des Abgasstroms"}]
[]
[]
[null,null,null,null,"iv.",{"$f":"Translations!$B$1356","v":"Gegebenenfalls Bestimmung von CO2 aus Biomasse oder aus einem anderen Anteil mit einem Emissionsfaktor von Null und von den gemessenen CO2-Emissionen abgezogen wird."}]
[]
[]
[null,null,null,null,"v.",{"$f":"Translations!$B$608","v":"Gegebenenfalls flankierende Emissionsberechnungen gemäß Artikel 46"}]
[]
[]
[null,null,null,{"$f":"Translations!$B$545","v":"Anmerkungen und Erklärungen:"}]
[]
[null,null,null,"(h)",{"$f":"Translations!$B$1202","v":"Anmerkungen und Begründung für die Nichtanwendung der vorgeschriebenen Ebene:"}]
[]
[]
[]
[]
[]
["ADD_CompleteMeasurementPoint",null,null,null,null,null,null,null,null,null,null,null,null,null,null,null,null,null,null,null,null,null,null,null,"make grey?"]
[null,null,{"$f":"\"M\"&Q392","v":"M5"},{"$f":"CONCATENATE(EUconst_MeasurementPoint,\" \",Q392,\":\")","v":"Messpunkt 5:"},null,null,null,{"$f":"IF(INDEX(C_InstallationDescription!$F$171:$F$176,MATCH(C392,C_InstallationDescription!$E$171:$E$176,0))>0,INDEX(C_InstallationDescription!$F$171:$F$176,MATCH(C392,C_InstallationDescription!$E$171:$E$176,0)),\"\")","v":""},null,null,null,null,{"$f":"IF(U392=TRUE,V392,\"\")","v":""},null,null,null,{"$f":"Q334+1","v":5},null,{"$f":"IF(INDEX(C_InstallationDescription!$M:$M,MATCH(Q394,C_InstallationDescription!$Q:$Q,0))=\"\",FALSE,TRUE)","v":false},{"$f":"IF(S392=TRUE,INDEX(C_InstallationDescription!$M:$M,MATCH(Q394,C_InstallationDescription!$Q:$Q,0)),\"\")","v":""},{"$f":"IF(INDEX(C_InstallationDescription!$N:$N,MATCH(Q394,C_InstallationDescription!$Q:$Q,0))=\"\",FALSE,TRUE)","v":false},{"$f":"IF(U392=TRUE,INDEX(C_InstallationDescription!$N:$N,MATCH(Q394,C_InstallationDescription!$Q:$Q,0)),\"\")","v":""},null,null,"xxx"]
[]
[null,null,null,"(a)",{"$f":"Translations!$B$583","v":"Betriebszustand:"},null,null,null,null,null,null,null,{"$f":"IF(S392=TRUE,T392,\"\")","v":""},null,null,null,{"$f":"EUconst_CNTR_SourceCategory&C392","v":"SourceCategory_M5"}]
[]
[null,null,null,{"$f":"Translations!$B$446","v":"Automatische Anleitung zu den anwendbaren Ebenen:"}]
[]
[]
[null,null,null,null,{"$f":"IF(H392=\"\",\"\",INDEX(EUconst_CEMSTiersMsg,MATCH(Q399,EUconst_CEMSTiers,0)))","v":""},null,null,null,null,null,null,null,null,null,null,null,{"$f":"IF(CNTR_SmallEmitter=TRUE,EUconst_CNTR_SmallEmitter,EUconst_CNTR_NoSmallEmitter) & \"_\" & IF(M394=\"\",1,MATCH(M394,SourceCategoryCEMS,0))","v":"NoSmallEmitter__1"}]
[]
[null,null,null,{"$f":"Translations!$B$590","v":"Geräte und Ebenen:"}]
[]
[null,null,null,"(b)",{"$f":"Translations!$B$472","v":"Verwendete Messgeräte:"}]
[]
[null,null,null,null,{"$f":"Translations!$B$475","v":"Anmerkung / Beschreibung des Vorgehens, wenn mehrere Geräte verwendet werden:"}]
[]
[]
[]
[]
[null,null,null,null,null,null,null,null,null,null,null,null,null,null,null,null,null,null,"Tier def."]
[null,null,null,"(c)",{"$f":"Translations!$B$595","v":"Vorgeschriebene Ebene:"},null,null,{"$f":"IF(H392=\"\",\"\",IF(CNTR_Category=\"A\",INDEX(EUconst_CEMSMinimumTiers,MATCH(M392,EUconst_CEMSTypes,0)),INDEX(EUconst_CEMSHighestTiers,MATCH(M392,EUconst_CEMSTypes,0))))","v":""},{"$f":"IF(H411=\"\",\"\",IF(S411=0,EUconst_NA,IF(ISERROR(S411),\"\",EUconst_MsgTierActivityLevel & \" \" &S411)))","v":""},null,null,null,null,null,null,null,null,null,{"$f":"IF(H411=\"\",\"\",IF(H411=EUconst_NA,\"\",INDEX(EUwideConstants!$H$778:$O$781,MATCH(M392,EUconst_CEMSTypes,0),MATCH(H411,CNTR_TierList,0))))","v":""}]
[null,null,null,"(d)",{"$f":"Translations!$B$596","v":"Angewandte Ebene:"},null,null,null,{"$f":"IF(OR(ISBLANK(H412),H412=EUconst_NoTier),\"\",IF(S412=EUconst_NA,EUconst_NA,IF(ISERROR(S412),\"\",EUconst_MsgTierActivityLevel & \" \" &S412)))","v":""},null,null,null,null,null,null,null,null,null,{"$f":"IF(H412=\"\",\"\",IF(H412=EUconst_NA,\"\",INDEX(EUwideConstants!$H$778:$O$781,MATCH(M392,EUconst_CEMSTypes,0),MATCH(H412,CNTR_TierList,0))))","v":""}]
[null,null,null,"(e)",{"$f":"Translations!$B$479","v":"Erreichte Unsicherheit:"},null,null,null,{"$f":"Translations!$B$480","v":"Anmerkung:"}]
[]
[null,null,null,{"$f":"Translations!$B$599","v":"Normen und Verfahren:"}]
[]
[null,null,null,"(f)",{"$f":"Translations!$B$600","v":"Angewandte Normen und etwaige Abweichungen davon"}]
[null,null,null,null,{"$f":"Translations!$B$601","v":"Bitte verweisen Sie gegebenenfalls auf die Tabelle in Abschnitt 9 Buchstabe e."}]
[]
[]
[]
[]
[]
[null,null,null,"(g)",{"$f":"Translations!$B$602","v":"Verweise auf Verfahren"}]
[]
[null,null,null,null,"i.",{"$f":"Translations!$B$604","v":"Berechnungsformeln für die Datenaggregation und zur Bestimmung der Jahresemissionen"}]
[]
[]
[null,null,null,null,"ii.",{"$f":"Translations!$B$605","v":"Methode zur Feststellung, ob für die einzelnen Parameter gültige Stundendaten oder kürzere Referenzzeiträume berechnet werden können (unter Verwendung des Schwellenwerts gemäß Artikel 44 Absatz 2) und Methode zur Bestimmung von Ersatzwerten für fehlende Daten gemäß Artikel 45"}]
[]
[]
[null,null,null,null,"iii.",{"$f":"Translations!$B$606","v":"Gegebenenfalls Berechnung des Abgasstroms"}]
[]
[]
[null,null,null,null,"iv.",{"$f":"Translations!$B$1356","v":"Gegebenenfalls Bestimmung von CO2 aus Biomasse oder aus einem anderen Anteil mit einem Emissionsfaktor von Null und von den gemessenen CO2-Emissionen abgezogen wird."}]
[]
[]
[null,null,null,null,"v.",{"$f":"Translations!$B$608","v":"Gegebenenfalls flankierende Emissionsberechnungen gemäß Artikel 46"}]
[]
[]
[null,null,null,{"$f":"Translations!$B$545","v":"Anmerkungen und Erklärungen:"}]
[]
[null,null,null,"(h)",{"$f":"Translations!$B$1202","v":"Anmerkungen und Begründung für die Nichtanwendung der vorgeschriebenen Ebene:"}]
[]
[]
[]
[]
[]
["ADD_CompleteMeasurementPoint"]
[]
[null,null,11,{"$f":"Translations!$B$23","v":"Verwaltung und Verfahren für auf Messungen beruhende Methodiken"}]
[]
[null,null,null,"(a)",{"$f":"Translations!$B$611","v":"Bei Anwendung von auf Messung beruhenden Methodiken Angaben zu den schriftlichen Verfahren mit Einzelheiten zur Methodik und zu den Berechnungsformeln, die für die Datenaggregation und die Bestimmung der CO2-Jahresemissionen verwendet werden."}]
[null,null,null,null,{"$f":"Translations!$B$612","v":"Bitte erläutern Sie die schriftlichen Verfahren gemäß Artikel 44 MVO."}]
[null,null,null,null,{"$f":"Translations!$B$613","v":"Werden mehrere Verfahren für ähnliche Zwecke, aber unterschiedliche Emissionsquellen oder Messpunkte verwendet, Angaben zum übergeordneten Verfahren, das die gemeinsamen Elemente und die Qualitätssicherung der angewandten Verfahren umfasst. "}]
[null,null,null,null,{"$f":"Translations!$B$614","v":"Sie können hier entweder Verweise auf die einzelnen untergeordneten Verfahren angeben, oder jedes einschlägige Verfahren gesondert beschreiben. Im letzteren Fall verwenden Sie bitte die Schaltfläche „Verfahren einfügen“ am Ende dieses Arbeitsblatts. Bitte gewährleisten Sie, dass eindeutige Verweise auf das jeweilige (untergeordnete) Verfahren gegeben werden können."}]
[]
[null,null,null,null,{"$f":"Translations!$B$405","v":"Bezeichnung des Verfahrens"}]
[null,null,null,null,{"$f":"Translations!$B$407","v":"Referenz des Verfahrens"}]
[null,null,null,null,{"$f":"Translations!$B$409","v":"Referenz Diagramm (falls zutreffend)"}]
[null,null,null,null,{"$f":"Translations!$B$615","v":"Kurze Beschreibung des Verfahrens  Die Beschreibung sollte die wesentlichen Parameter und durchgeführten Schritte enthalten."}]
[null,null,null,null,{"$f":"Translations!$B$414","v":"Für das Verfahren und damit generierte Daten zuständige Stelle oder Abteilung"}]
[null,null,null,null,{"$f":"Translations!$B$416","v":"Aufbewahrungsort der Aufzeichnungen"}]
[null,null,null,null,{"$f":"Translations!$B$418","v":"Bezeichnung des eingesetzten IT-Systems (soweit anwendbar)"}]
[null,null,null,null,{"$f":"Translations!$B$420","v":"Liste der angewandten EN oder anderer Normen (soweit zutreffend)"}]
[]
[null,null,null,"(b)",{"$f":"Translations!$B$616","v":"Angaben zu den schriftlichen Verfahren mit Einzelheiten zu den Methoden zur Bestimmung der gültigen Stundendaten (oder kürzeren Referenzzeiträumen) für jeden Parameter und zur Bestimmung von Ersatzwerten für fehlende Daten."}]
[null,null,null,null,{"$f":"Translations!$B$617","v":"Bitte erläutern Sie die schriftlichen Verfahren mit Einzelheiten zu den Methoden, anhand derer bestimmt wird, ob gültige Stundendaten oder kürzere Referenzzeiträume für jeden Parameter berechnet werden können, sowie zur Methode zur Bestimmung von Ersatzwerten für fehlende Daten gemäß Artikel 45 der MVO."}]
[]
[null,null,null,null,{"$f":"Translations!$B$405","v":"Bezeichnung des Verfahrens"}]
[null,null,null,null,{"$f":"Translations!$B$407","v":"Referenz des Verfahrens"}]
[null,null,null,null,{"$f":"Translations!$B$409","v":"Referenz Diagramm (falls zutreffend)"}]
[null,null,null,null,{"$f":"Translations!$B$615","v":"Kurze Beschreibung des Verfahrens  Die Beschreibung sollte die wesentlichen Parameter und durchgeführten Schritte enthalten."}]
[null,null,null,null,{"$f":"Translations!$B$414","v":"Für das Verfahren und damit generierte Daten zuständige Stelle oder Abteilung"}]
[null,null,null,null,{"$f":"Translations!$B$416","v":"Aufbewahrungsort der Aufzeichnungen"}]
[null,null,null,null,{"$f":"Translations!$B$418","v":"Bezeichnung des eingesetzten IT-Systems (soweit anwendbar)"}]
[null,null,null,null,{"$f":"Translations!$B$420","v":"Liste der angewandten EN oder anderer Normen (soweit zutreffend)"}]
[]
[null,null,null,"(c)",{"$f":"Translations!$B$618","v":"Bei Bestimmung des Abgasstroms durch Berechnung Angaben zu den schriftlichen Verfahren für diese Berechnung für jede relevante Emissionsquelle in Einklang mit Artikel 43 Absatz 5 Buchstabe a MVO."}]
[null,null,null,null,{"$f":"Translations!$B$405","v":"Bezeichnung des Verfahrens"}]
[null,null,null,null,{"$f":"Translations!$B$407","v":"Referenz des Verfahrens"}]
[null,null,null,null,{"$f":"Translations!$B$409","v":"Referenz Diagramm (falls zutreffend)"}]
[null,null,null,null,{"$f":"Translations!$B$615","v":"Kurze Beschreibung des Verfahrens  Die Beschreibung sollte die wesentlichen Parameter und durchgeführten Schritte enthalten."}]
[null,null,null,null,{"$f":"Translations!$B$414","v":"Für das Verfahren und damit generierte Daten zuständige Stelle oder Abteilung"}]
[null,null,null,null,{"$f":"Translations!$B$416","v":"Aufbewahrungsort der Aufzeichnungen"}]
[null,null,null,null,{"$f":"Translations!$B$418","v":"Bezeichnung des eingesetzten IT-Systems (soweit anwendbar)"}]
[null,null,null,null,{"$f":"Translations!$B$420","v":"Liste der angewandten EN oder anderer Normen (soweit zutreffend)"}]
[]
[null,null,null,"(d)",{"$f":"Translations!$B$1203","v":"Bei Einbeziehung von CO2 aus Biomasse in die Emissionsmessung machen Sie bitte Angaben zu den schriftlichen Verfahren und beschreiben Sie, wie das CO2 aus Biomasse im Einklang mit Artikel 43 Absätze 4 und 4a MVO gegebenenfalls bestimmt und von den gemessenen CO2-Emissionen abgezogen werden soll."}]
[null,null,null,null,{"$f":"Translations!$B$405","v":"Bezeichnung des Verfahrens"}]
[null,null,null,null,{"$f":"Translations!$B$407","v":"Referenz des Verfahrens"}]
[null,null,null,null,{"$f":"Translations!$B$409","v":"Referenz Diagramm (falls zutreffend)"}]
[null,null,null,null,{"$f":"Translations!$B$615","v":"Kurze Beschreibung des Verfahrens  Die Beschreibung sollte die wesentlichen Parameter und durchgeführten Schritte enthalten."}]
[null,null,null,null,{"$f":"Translations!$B$414","v":"Für das Verfahren und damit generierte Daten zuständige Stelle oder Abteilung"}]
[null,null,null,null,{"$f":"Translations!$B$416","v":"Aufbewahrungsort der Aufzeichnungen"}]
[null,null,null,null,{"$f":"Translations!$B$418","v":"Bezeichnung des eingesetzten IT-Systems (soweit anwendbar)"}]
[null,null,null,null,{"$f":"Translations!$B$420","v":"Liste der angewandten EN oder anderer Normen (soweit zutreffend)"}]
[]
[null,null,null,"(e)",{"$f":"Translations!$B$620","v":"Gegebenenfalls Angaben zu dem schriftlichen Verfahren für die flankierenden Berechnungen gemäß Artikel 46 MVO."}]
[null,null,null,null,{"$f":"Translations!$B$405","v":"Bezeichnung des Verfahrens"}]
[null,null,null,null,{"$f":"Translations!$B$407","v":"Referenz des Verfahrens"}]
[null,null,null,null,{"$f":"Translations!$B$409","v":"Referenz Diagramm (falls zutreffend)"}]
[null,null,null,null,{"$f":"Translations!$B$615","v":"Kurze Beschreibung des Verfahrens  Die Beschreibung sollte die wesentlichen Parameter und durchgeführten Schritte enthalten."}]
[null,null,null,null,{"$f":"Translations!$B$414","v":"Für das Verfahren und damit generierte Daten zuständige Stelle oder Abteilung"}]
[null,null,null,null,{"$f":"Translations!$B$416","v":"Aufbewahrungsort der Aufzeichnungen"}]
[null,null,null,null,{"$f":"Translations!$B$418","v":"Bezeichnung des eingesetzten IT-Systems (soweit anwendbar)"}]
[null,null,null,null,{"$f":"Translations!$B$420","v":"Liste der angewandten EN oder anderer Normen (soweit zutreffend)"}]
["ausblenden"]
["ausblenden",null,null,null,{"$f":"Translations!$B$1150","v":"Weitere Verfahren des Betreibers"}]
["ausblenden"]
["ausblenden",null,null,null,{"$f":"Translations!$B$405","v":"Bezeichnung des Verfahrens"}]
["ausblenden",null,null,null,{"$f":"Translations!$B$407","v":"Referenz des Verfahrens"}]
["ausblenden",null,null,null,{"$f":"Translations!$B$409","v":"Referenz Diagramm (falls zutreffend)"}]
["ausblenden",null,null,null,{"$f":"Translations!$B$615","v":"Kurze Beschreibung des Verfahrens  Die Beschreibung sollte die wesentlichen Parameter und durchgeführten Schritte enthalten."}]
["ausblenden"]
["ausblenden"]
["ausblenden",null,null,null,{"$f":"Translations!$B$414","v":"Für das Verfahren und damit generierte Daten zuständige Stelle oder Abteilung"}]
["ausblenden",null,null,null,{"$f":"Translations!$B$416","v":"Aufbewahrungsort der Aufzeichnungen"}]
["ausblenden",null,null,null,{"$f":"Translations!$B$418","v":"Bezeichnung des eingesetzten IT-Systems (soweit anwendbar)"}]
["ausblenden",null,null,null,{"$f":"Translations!$B$420","v":"Liste der angewandten EN oder anderer Normen (soweit zutreffend)"}]
["ADD_Procedure"]
[null,null,null,null,null,null,{"$f":"Translations!$B$429","v":"Auf „+“ klicken, um weitere Verfahren einzufügen"}]
[]
[]
[]
[null,null,null,null,null,{"$f":"EUconst_MsgNextSheet","v":"<<< Hier klicken, um mit nächstem Blatt fortzufahren >>> "}]

{"sheet":"G_Fall-backApproach","index":8,"n_rows":86,"n_cols":12,"rows_kept":86,"cut":false,"hidden":false,"merged":[[2,4,2,5],[2,6,2,7],[2,8,2,9],[2,12,2,13],[9,3,9,13],[1,1,3,3],[1,10,1,11],[5,2,5,10],[1,6,1,7],[1,8,1,9],[2,10,2,11],[1,4,1,5],[5,11,5,13],[3,10,3,11],[1,12,1,13],[3,12,3,13],[26,4,26,13],[27,4,27,13],[3,8,3,9],[3,4,3,5],[25,4,25,13],[16,4,16,13],[23,4,23,13],[24,4,24,13],[21,4,21,13],[3,6,3,7],[20,4,20,13],[22,4,22,13],[18,4,18,13],[19,4,19,13],[7,10,7,13],[15,4,15,13],[40,4,40,13],[14,4,14,13],[11,2,11,13],[13,4,13,13],[12,4,12,13],[39,4,39,13],[37,4,37,13],[36,4,36,13],[28,4,28,13],[29,4,29,13],[33,4,33,13],[34,4,34,13],[30,4,30,13],[31,4,31,13],[32,4,32,13],[35,4,35,13],[52,4,52,13],[53,4,53,13],[54,4,54,13],[43,4,43,13],[41,4,41,13],[44,4,44,13],[49,4,49,13],[48,4,48,13],[46,4,46,13],[47,4,47,13],[55,4,55,13],[45,4,45,13],[66,6,66,13],[62,4,62,5],[59,4,59,5],[59,6,59,13],[64,4,64,5],[63,4,63,5],[65,4,65,5],[60,4,60,5],[61,4,61,5],[61,6,61,13],[60,6,60,13],[50,4,50,13],[51,4,51,13],[57,4,57,13],[62,6,62,13],[85,5,85,11],[81,6,83,10],[76,6,76,13],[72,4,72,5],[79,6,79,13],[72,6,72,13],[78,4,78,5],[79,4,79,5],[78,6,78,13],[74,6,74,13],[77,6,77,13],[71,6,71,13],[76,4,76,5],[71,4,71,5],[68,4,68,13],[77,4,77,5],[73,4,73,5],[63,6,63,13],[65,6,65,13],[75,6,75,13],[73,6,73,13],[70,6,70,13],[64,6,64,13],[66,4,66,5],[70,4,70,5]]}
["ausblenden"]
[null,{"$f":"Translations!$B$621","v":"G. Fall-back approaches"},null,null,{"$f":"Translations!$B$59","v":"Navigationsbereich:"},null,{"$f":"Translations!$B$60","v":"Inhaltsverzeichnis"},null,{"$f":"Translations!$B$61","v":"Vorheriges Blatt"},null,{"$f":"Translations!$B$62","v":"Nächstes Blatt"}]
[null,null,null,null,{"$f":"Translations!$B$63","v":"Blattanfang"}]
[null,null,null,null,{"$f":"Translations!$B$64","v":"Blattende"}]
[]
[null,null,{"$f":"Translations!$B$24","v":"G. Fall-back-Methodiken"},null,null,null,null,null,null,null,null,{"$f":"IF(AND(NOT(ISBLANK(CNTR_InstHasFallBack)), CNTR_InstHasFallBack=FALSE),EUconst_NotRelevant,EUconst_Relevant)","v":"Relevant"}]
[]
[null,null,null,null,null,null,null,null,null,null,{"$f":"IF(L6=EUconst_NotRelevant,HYPERLINK(\"#JUMP_H_Top\",EUconst_MsgNextSheet),HYPERLINK(\"\",EUconst_MsgEnterThisSection))","v":"Bitte machen Sie Angaben in diesem Abschnitt"}]
[]
[null,null,12,{"$f":"Translations!$B$25","v":"Beschreibung der Fall-back-Methodik"}]
[]
[null,null,{"$f":"Translations!$B$622","v":"Gemäß Artikel 22 MVO kann ein Anlageninhaber für ausgewählte Stoffströme oder Emissionsquellen eine nicht auf Ebenen basierende Überwachungsmethodik anwenden, sofern bestimmte in diesem Artikel genannte Bedingungen erfüllt sind.  Bitte füllen Sie diesen Abschnitt aus, wenn sie beabsichtigen, eine solche Fall-back-Methodik auf Stoffströme oder Emissionsquellen anzuwenden. Ihre zuständige Behörde kann weitere Angaben zur Begründung dieses Vorgehens verlangen."}]
[]
[null,null,null,"(a)",{"$f":"Translations!$B$623","v":"Wird in Einklang mit Artikel 22 MVO eine Fall-back-Überwachungsmethodik angewandt, ausführliche Beschreibung der Überwachungsmethodik, die für alle Stoffströme oder Emissionsquellen verwendet wird, für die keine auf Ebenen basierende Methodik angewandt wird."}]
[null,null,null,null,{"$f":"Translations!$B$624","v":"Bitte beschreiben Sie in der Textbox kurz die Überwachungsmethodik, einschließlich Formeln, anhand der Sie Ihre jährlichen CO2- oder CO2(Äq)-Emissionen bestimmen."}]
[null,null,null,null,{"$f":"Translations!$B$338","v":"Ist die Beschreibung zu komplex (z. B. komplexe Formeln), können Sie die Beschreibung in einer gesonderten Unterlage in einem von der zuständigen Behörde akzeptierten Format vorlegen. In diesem Fall geben Sie hier bitte die Referenz der Datei an (Dateiname und Datum)."}]
[null,null,null,null,{"$f":"Translations!$B$195","v":"Diese Beschreibung sollte den Zusammenhang herstellen, der erforderlich ist, um zu verstehen, wie zur Berechnung der Emissionen auch auf Angaben in anderen Teilen dieser Vorlage zurückgegriffen wird. Sie kann so kurz sein wie das Beispiel in Abschnitt 7 Buchstabe a des Arbeitsblatts D_CalculationBasedApproaches."}]
[]
[]
[]
[]
[]
[]
[]
[]
[]
[]
[]
[]
[]
[]
[]
[]
[]
[]
[]
[]
[]
[]
[null,null,null,"(b) ",{"$f":"Translations!$B$625","v":"Bitte begründen Sie kurz in Einklang mit Artikel 22 die Anwendung einer Fall-back-Methodik auf die vorgenannten Emissionsquellen."}]
[null,null,null,null,{"$f":"Translations!$B$626","v":"Sie müssen nachweisen können, dass die Gesamtunsicherheitsschwelle für die jährlichen Treibhausgasemissionen für die gesamte Anlage bei Anlagen der Kategorie A 7,5 %, bei Anlagen der Kategorie B 5,0 % und bei Anlagen der Kategorie C 2,5 % nicht überschreitet. Hinweis: Ihre zuständige Behörde kann eine ausführlichere Begründung verlangen, mit der der Nachweis erbracht wird, dass die Anwendung einer auf Ebenen beruhenden Berechnungsmethodik oder einer auf Messung beruhenden Methodik technisch nicht machbar ist oder zu unverhältnismäßigen Kosten führen würde."}]
[null,null,null,null,{"$f":"Translations!$B$338","v":"Ist die Beschreibung zu komplex (z. B. komplexe Formeln), können Sie die Beschreibung in einer gesonderten Unterlage in einem von der zuständigen Behörde akzeptierten Format vorlegen. In diesem Fall geben Sie hier bitte die Referenz der Datei an (Dateiname und Datum)."}]
[]
[]
[]
[]
[]
[]
[]
[]
[]
[]
[]
[]
[]
[]
[]
[null,null,null,"(c)",{"$f":"Translations!$B$627","v":"Angaben zu den schriftlichen Verfahren für die in Artikel 22 MVO vorgeschriebene jährliche Unsicherheitsanalyse."}]
[]
[null,null,null,null,{"$f":"Translations!$B$405","v":"Bezeichnung des Verfahrens"}]
[null,null,null,null,{"$f":"Translations!$B$407","v":"Referenz des Verfahrens"}]
[null,null,null,null,{"$f":"Translations!$B$409","v":"Referenz Diagramm (falls zutreffend)"}]
[null,null,null,null,{"$f":"Translations!$B$615","v":"Kurze Beschreibung des Verfahrens  Die Beschreibung sollte die wesentlichen Parameter und durchgeführten Schritte enthalten."}]
[null,null,null,null,{"$f":"Translations!$B$414","v":"Für das Verfahren und damit generierte Daten zuständige Stelle oder Abteilung"}]
[null,null,null,null,{"$f":"Translations!$B$416","v":"Aufbewahrungsort der Aufzeichnungen"}]
[null,null,null,null,{"$f":"Translations!$B$418","v":"Bezeichnung des eingesetzten IT-Systems (soweit anwendbar)"}]
[null,null,null,null,{"$f":"Translations!$B$420","v":"Liste der angewandten EN oder anderer Normen (soweit zutreffend)"}]
["ausblenden"]
["ausblenden",null,null,null,{"$f":"Translations!$B$1150","v":"Weitere Verfahren des Betreibers"}]
["ausblenden"]
["ausblenden",null,null,null,{"$f":"Translations!$B$405","v":"Bezeichnung des Verfahrens"}]
["ausblenden",null,null,null,{"$f":"Translations!$B$407","v":"Referenz des Verfahrens"}]
["ausblenden",null,null,null,{"$f":"Translations!$B$409","v":"Referenz Diagramm (falls zutreffend)"}]
["ausblenden",null,null,null,{"$f":"Translations!$B$411","v":"Kurzbeschreibung des Verfahrens"}]
["ausblenden"]
["ausblenden"]
["ausblenden",null,null,null,{"$f":"Translations!$B$414","v":"Für das Verfahren und damit generierte Daten zuständige Stelle oder Abteilung"}]
["ausblenden",null,null,null,{"$f":"Translations!$B$416","v":"Aufbewahrungsort der Aufzeichnungen"}]
["ausblenden",null,null,null,{"$f":"Translations!$B$418","v":"Bezeichnung des eingesetzten IT-Systems (soweit anwendbar)"}]
["ausblenden",null,null,null,{"$f":"Translations!$B$420","v":"Liste der angewandten EN oder anderer Normen (soweit zutreffend)"}]
["ADD_Procedure"]
[null,null,null,null,null,null,{"$f":"Translations!$B$429","v":"Auf „+“ klicken, um weitere Verfahren einzufügen"}]
[]
[]
[]
[null,null,null,null,null,{"$f":"EUconst_MsgNextSheet","v":"<<< Hier klicken, um mit nächstem Blatt fortzufahren >>> "}]

{"sheet":"H_N2O","index":9,"n_rows":116,"n_cols":12,"rows_kept":116,"cut":false,"hidden":false,"merged":[[115,5,115,11],[32,6,32,13],[33,6,33,13],[102,4,102,5],[102,6,102,13],[35,4,35,5],[50,4,50,13],[47,4,47,5],[40,6,40,13],[41,6,41,13],[53,6,53,13],[54,6,54,13],[43,6,43,13],[44,6,44,13],[45,4,45,5],[46,4,46,5],[47,6,47,13],[42,4,42,5],[48,6,48,13],[51,6,51,13],[52,6,52,13],[66,6,66,13],[60,6,60,13],[64,6,64,13],[24,4,24,5],[23,4,23,5],[27,4,27,5],[28,4,28,5],[42,6,42,13],[34,4,34,5],[36,6,36,13],[38,4,38,13],[33,4,33,5],[34,6,34,13],[39,6,39,13],[29,6,29,13],[30,6,30,13],[31,6,31,13],[35,6,35,13],[40,4,40,5],[36,4,36,5],[59,4,59,5],[64,4,64,5],[51,4,51,5],[55,6,55,13],[56,6,56,13],[57,4,57,5],[58,4,58,5],[72,6,72,13],[70,6,70,13],[57,6,57,13],[58,6,58,13],[59,6,59,13],[68,6,68,13],[63,6,63,13],[67,6,67,13],[69,6,69,13],[74,4,74,13],[75,4,75,13],[76,4,76,13],[77,4,77,13],[100,4,100,5],[89,4,89,13],[86,4,86,13],[80,4,80,13],[100,6,100,13],[81,4,81,13],[85,4,85,13],[78,4,78,13],[79,4,79,13],[99,4,99,5],[82,4,82,13],[84,4,84,13],[83,4,83,13],[99,6,99,13],[87,4,87,13],[88,4,88,13],[97,4,97,13],[110,6,112,10],[90,4,90,13],[91,4,91,13],[92,4,92,13],[93,4,93,13],[107,4,107,5],[107,6,107,13],[94,4,94,13],[95,4,95,13],[108,6,108,13],[108,4,108,5],[105,4,105,5],[106,4,106,5],[106,6,106,13],[105,6,105,13],[101,4,101,5],[101,6,101,13],[104,6,104,13],[103,6,103,13],[48,4,48,5],[22,6,22,13],[21,6,21,13],[29,4,29,5],[72,4,72,5],[65,6,65,13],[60,4,60,5],[22,4,22,5],[30,4,30,5],[71,4,71,5],[71,6,71,13],[66,4,66,5],[69,4,69,5],[70,4,70,5],[63,4,63,5],[41,4,41,5],[39,4,39,5],[53,4,53,5],[65,4,65,5],[62,4,62,13],[54,4,54,5],[45,6,45,13],[46,6,46,13],[52,4,52,5],[20,6,20,13],[15,4,15,5],[16,4,16,5],[5,2,5,10],[5,11,5,13],[17,6,17,13],[15,6,15,13],[18,4,18,5],[18,6,18,13],[17,4,17,5],[16,6,16,13],[14,4,14,13],[11,4,11,13],[12,4,12,13],[7,10,7,13],[21,4,21,5],[23,6,23,13],[24,6,24,13],[27,6,27,13],[28,6,28,13],[26,4,26,13],[1,1,3,3],[3,4,3,5],[19,6,19,13],[1,10,1,11],[2,4,2,5],[2,6,2,7],[1,8,1,9],[1,12,1,13],[2,8,2,9],[2,10,2,11],[1,4,1,5],[1,6,1,7],[9,3,9,13],[3,8,3,9],[3,10,3,11],[3,6,3,7],[2,12,2,13],[3,12,3,13]]}
["ausblenden"]
[null,{"$f":"Translations!$B$26","v":"H. N2O-Emissionen"},null,null,{"$f":"Translations!$B$59","v":"Navigationsbereich:"},null,{"$f":"Translations!$B$60","v":"Inhaltsverzeichnis"},null,{"$f":"Translations!$B$61","v":"Vorheriges Blatt"},null,{"$f":"Translations!$B$62","v":"Nächstes Blatt"}]
[null,null,null,null,{"$f":"Translations!$B$63","v":"Blattanfang"}]
[null,null,null,null,{"$f":"Translations!$B$64","v":"Blattende"}]
[]
[null,null,{"$f":"Translations!$B$26","v":"H. N2O-Emissionen"},null,null,null,null,null,null,null,null,{"$f":"IF(AND(NOT(ISBLANK(CNTR_InstHasN2O)), CNTR_InstHasN2O=FALSE),EUconst_NotRelevant,EUconst_Relevant)","v":"Relevant"}]
[]
[null,null,null,null,null,null,null,null,null,null,{"$f":"IF(L6=EUconst_NotRelevant,HYPERLINK(\"#JUMP_I_Top\",EUconst_MsgNextSheet),HYPERLINK(\"\",EUconst_MsgEnterThisSection))","v":"Bitte machen Sie Angaben in diesem Abschnitt"}]
[]
[null,null,13,{"$f":"Translations!$B$27","v":"Verwaltung und Verfahren für die Überwachung von N2O-Emissionen"}]
[]
[null,null,null,null,{"$f":"Translations!$B$628","v":"Hinweis: Dieser Abschnitt ist in Bezug auf die Bestimmung der N2O-Emssionen aus spezifizierten Produktionstätigkeiten in einer Anlage auszufüllen. N2O-Emissionen aus der Verbrennung von Brennstoffen sind nicht betroffen.  Bitte vergewissern Sie sich, dass Sie im Arbeitsblatt F_MeasurementBasedApproaches  entsprechende Angaben zur ihrem Messsystem eingegeben haben."}]
[null,null,null,null,{"$f":"Translations!$B$629","v":"Das vorliegende Arbeitsblatt enthält nur Vorgaben, die die CO2–Überwachung nicht berühren."}]
[]
[null,null,null,"(a)",{"$f":"Translations!$B$630","v":"Angaben zum schriftlichen Verfahren, einschließlich einer Beschreibung der angewandten Methode und der angewandten Parameter, zur Bestimmung der im Produktionsprozess verwendeten Materialmenge und der bei voller Auslastung verwendeten Materialhöchstmenge."}]
[null,null,null,null,{"$f":"Translations!$B$405","v":"Bezeichnung des Verfahrens"}]
[null,null,null,null,{"$f":"Translations!$B$407","v":"Referenz des Verfahrens"}]
[null,null,null,null,{"$f":"Translations!$B$409","v":"Referenz Diagramm (falls zutreffend)"}]
[null,null,null,null,{"$f":"Translations!$B$411","v":"Kurzbeschreibung des Verfahrens"}]
[]
[]
[null,null,null,null,{"$f":"Translations!$B$414","v":"Für das Verfahren und damit generierte Daten zuständige Stelle oder Abteilung"}]
[null,null,null,null,{"$f":"Translations!$B$416","v":"Aufbewahrungsort der Aufzeichnungen"}]
[null,null,null,null,{"$f":"Translations!$B$418","v":"Bezeichnung des eingesetzten IT-Systems (soweit anwendbar)"}]
[null,null,null,null,{"$f":"Translations!$B$420","v":"Liste der angewandten EN oder anderer Normen (soweit zutreffend)"}]
[]
[null,null,null,"(b)",{"$f":"Translations!$B$631","v":"Angaben zum schriftlichen Verfahren, einschließlich einer Beschreibung der angewandten Methode und der angewandten Parameter, zur Bestimmung der als Stunden-Output erzeugten Produktmenge, ausgedrückt als stündlich produzierte(s) Salpetersäure (100 %), Adipinsäure (100 %), Caprolactam, Glyoxal bzw. Glyoxylsäure."}]
[null,null,null,null,{"$f":"Translations!$B$405","v":"Bezeichnung des Verfahrens"}]
[null,null,null,null,{"$f":"Translations!$B$407","v":"Referenz des Verfahrens"}]
[null,null,null,null,{"$f":"Translations!$B$409","v":"Referenz Diagramm (falls zutreffend)"}]
[null,null,null,null,{"$f":"Translations!$B$411","v":"Kurzbeschreibung des Verfahrens"}]
[]
[]
[null,null,null,null,{"$f":"Translations!$B$414","v":"Für das Verfahren und damit generierte Daten zuständige Stelle oder Abteilung"}]
[null,null,null,null,{"$f":"Translations!$B$416","v":"Aufbewahrungsort der Aufzeichnungen"}]
[null,null,null,null,{"$f":"Translations!$B$418","v":"Bezeichnung des eingesetzten IT-Systems (soweit anwendbar)"}]
[null,null,null,null,{"$f":"Translations!$B$420","v":"Liste der angewandten EN oder anderer Normen (soweit zutreffend)"}]
[]
[null,null,null,"(c)",{"$f":"Translations!$B$632","v":"Angaben zum schriftlichen Verfahren, einschließlich einer Beschreibung der angewandten Methode und der angewandten Parameter, zur Bestimmung der N2O-Konzentration im Abgasstrom aus jeder Emissionsquelle, Messbereich und Unsicherheit der Methode sowie Angaben zu etwaigen alternativen Methoden, die anzuwenden sind, wenn die Konzentrationen aus dem Messbereich herausfallen, und zu den Situationen, in denen es dazu kommen kann."}]
[null,null,null,null,{"$f":"Translations!$B$405","v":"Bezeichnung des Verfahrens"}]
[null,null,null,null,{"$f":"Translations!$B$407","v":"Referenz des Verfahrens"}]
[null,null,null,null,{"$f":"Translations!$B$409","v":"Referenz Diagramm (falls zutreffend)"}]
[null,null,null,null,{"$f":"Translations!$B$411","v":"Kurzbeschreibung des Verfahrens"}]
[]
[]
[null,null,null,null,{"$f":"Translations!$B$414","v":"Für das Verfahren und damit generierte Daten zuständige Stelle oder Abteilung"}]
[null,null,null,null,{"$f":"Translations!$B$416","v":"Aufbewahrungsort der Aufzeichnungen"}]
[null,null,null,null,{"$f":"Translations!$B$418","v":"Bezeichnung des eingesetzten IT-Systems (soweit anwendbar)"}]
[null,null,null,null,{"$f":"Translations!$B$420","v":"Liste der angewandten EN oder anderer Normen (soweit zutreffend)"}]
[]
[null,null,null,"(d)",{"$f":"Translations!$B$633","v":"Angaben zum schriftlichen Verfahren, einschließlich einer Beschreibung der angewandten Berechnungsmethode, zur Bestimmung der N2O-Emissionen aus der Salpetersäure-, Adipinsäure-, Caprolactam-, Glyoxal- und Glyoxylsäureherstellung bei periodisch auftretenden, ungeminderten Quellen."}]
[null,null,null,null,{"$f":"Translations!$B$405","v":"Bezeichnung des Verfahrens"}]
[null,null,null,null,{"$f":"Translations!$B$407","v":"Referenz des Verfahrens"}]
[null,null,null,null,{"$f":"Translations!$B$409","v":"Referenz Diagramm (falls zutreffend)"}]
[null,null,null,null,{"$f":"Translations!$B$411","v":"Kurzbeschreibung des Verfahrens"}]
[]
[]
[null,null,null,null,{"$f":"Translations!$B$414","v":"Für das Verfahren und damit generierte Daten zuständige Stelle oder Abteilung"}]
[null,null,null,null,{"$f":"Translations!$B$416","v":"Aufbewahrungsort der Aufzeichnungen"}]
[null,null,null,null,{"$f":"Translations!$B$418","v":"Bezeichnung des eingesetzten IT-Systems (soweit anwendbar)"}]
[null,null,null,null,{"$f":"Translations!$B$420","v":"Liste der angewandten EN oder anderer Normen (soweit zutreffend)"}]
[]
[null,null,null,"(e)",{"$f":"Translations!$B$634","v":"Angaben zum schriftlichen Verfahren einschließlich einer Beschreibung der Art und Weise oder des Umfangs, in der bzw. in dem die Anlage bei unterschiedlicher Fracht funktioniert, und der Form des Betriebsmanagements."}]
[null,null,null,null,{"$f":"Translations!$B$405","v":"Bezeichnung des Verfahrens"}]
[null,null,null,null,{"$f":"Translations!$B$407","v":"Referenz des Verfahrens"}]
[null,null,null,null,{"$f":"Translations!$B$409","v":"Referenz Diagramm (falls zutreffend)"}]
[null,null,null,null,{"$f":"Translations!$B$411","v":"Kurzbeschreibung des Verfahrens"}]
[]
[]
[null,null,null,null,{"$f":"Translations!$B$414","v":"Für das Verfahren und damit generierte Daten zuständige Stelle oder Abteilung"}]
[null,null,null,null,{"$f":"Translations!$B$416","v":"Aufbewahrungsort der Aufzeichnungen"}]
[null,null,null,null,{"$f":"Translations!$B$418","v":"Bezeichnung des eingesetzten IT-Systems (soweit anwendbar)"}]
[null,null,null,null,{"$f":"Translations!$B$420","v":"Liste der angewandten EN oder anderer Normen (soweit zutreffend)"}]
[]
[null,null,null,"(f)",{"$f":"Translations!$B$635","v":"Informationen zu den Prozessbedingungen, die von den üblichen Betriebsbedingungen abweichen. "}]
[null,null,null,null,{"$f":"Translations!$B$636","v":"Diese Informationen sollten eine Angabe zur potenziellen Häufigkeit und Dauer derartiger Prozessbedingungen sowie eine Angabe zum Volumen der N2O-Emissionen unter abweichenden Prozessbedingungen (z. B. Ausfall der Emissionsminderungsvorrichtung) enthalten."}]
[]
[]
[]
[]
[]
[]
[]
[]
[]
[]
[]
[]
[]
[]
[]
[]
[]
[]
[]
[]
["ausblenden"]
["ausblenden",null,null,null,{"$f":"Translations!$B$1150","v":"Weitere Verfahren des Betreibers"}]
["ausblenden"]
["ausblenden",null,null,null,{"$f":"Translations!$B$405","v":"Bezeichnung des Verfahrens"}]
["ausblenden",null,null,null,{"$f":"Translations!$B$407","v":"Referenz des Verfahrens"}]
["ausblenden",null,null,null,{"$f":"Translations!$B$409","v":"Referenz Diagramm (falls zutreffend)"}]
["ausblenden",null,null,null,{"$f":"Translations!$B$411","v":"Kurzbeschreibung des Verfahrens"}]
["ausblenden"]
["ausblenden"]
["ausblenden",null,null,null,{"$f":"Translations!$B$414","v":"Für das Verfahren und damit generierte Daten zuständige Stelle oder Abteilung"}]
["ausblenden",null,null,null,{"$f":"Translations!$B$416","v":"Aufbewahrungsort der Aufzeichnungen"}]
["ausblenden",null,null,null,{"$f":"Translations!$B$418","v":"Bezeichnung des eingesetzten IT-Systems (soweit anwendbar)"}]
["ausblenden",null,null,null,{"$f":"Translations!$B$420","v":"Liste der angewandten EN oder anderer Normen (soweit zutreffend)"}]
["ADD_Procedure"]
[null,null,null,null,null,null,{"$f":"Translations!$B$429","v":"Auf „+“ klicken, um weitere Verfahren einzufügen"}]
[]
[]
[]
[]
[null,null,null,null,null,{"$f":"EUconst_MsgNextSheet","v":"<<< Hier klicken, um mit nächstem Blatt fortzufahren >>> "}]

{"sheet":"I_PFC","index":10,"n_rows":500,"n_cols":23,"rows_kept":500,"cut":false,"hidden":false,"merged":[[227,7,227,11],[252,8,252,13],[236,8,236,13],[237,8,237,13],[134,3,134,13],[128,3,128,13],[155,4,155,6],[155,7,155,11],[151,3,151,6],[219,4,219,13],[220,4,220,13],[216,4,216,13],[218,4,218,13],[214,4,214,13],[169,8,169,13],[174,8,174,13],[165,8,165,13],[138,4,138,13],[154,4,154,6],[154,7,154,11],[148,4,148,13],[147,4,147,13],[143,4,143,13],[146,4,146,13],[159,4,159,13],[142,4,142,13],[119,9,119,13],[104,8,104,13],[105,8,105,13],[53,7,53,10],[54,7,54,10],[50,11,50,13],[51,11,51,13],[52,11,52,13],[65,3,65,13],[74,7,74,11],[76,3,76,13],[74,4,74,6],[70,7,70,11],[70,12,70,13],[100,8,100,13],[101,9,101,13],[110,8,110,13],[111,9,111,13],[109,8,109,13],[106,9,106,13],[116,9,116,13],[89,8,89,13],[213,4,213,13],[209,3,209,13],[180,8,180,13],[210,4,210,13],[176,9,176,13],[179,8,179,13],[192,9,192,13],[186,9,186,13],[185,8,185,13],[193,9,193,13],[212,4,212,13],[194,9,194,13],[203,3,203,13],[191,9,191,13],[188,3,188,13],[181,9,181,13],[184,8,184,13],[46,3,46,13],[51,4,51,6],[50,4,50,6],[175,8,175,13],[170,8,170,13],[171,9,171,13],[144,4,144,13],[153,7,153,11],[157,3,157,13],[153,4,153,6],[66,3,66,13],[53,4,53,6],[56,6,58,10],[62,3,62,13],[54,4,54,6],[52,4,52,6],[53,11,53,13],[54,11,54,13],[96,9,96,13],[99,8,99,13],[140,4,140,13],[118,9,118,13],[135,4,135,13],[164,8,164,13],[495,6,497,10],[482,4,482,13],[478,4,478,5],[479,4,479,5],[488,6,488,13],[493,4,493,5],[493,6,493,13],[486,6,486,13],[492,6,492,13],[491,6,491,13],[491,4,491,5],[480,4,480,5],[487,4,487,5],[487,6,487,13],[486,4,486,5],[492,4,492,5],[459,4,459,5],[458,4,458,5],[459,6,459,13],[453,4,453,5],[462,6,462,13],[463,6,463,13],[466,4,466,5],[477,6,477,13],[474,4,474,5],[475,6,475,13],[467,4,467,5],[466,6,466,13],[467,6,467,13],[472,4,472,5],[477,4,477,5],[471,4,471,5],[473,4,473,5],[473,6,473,13],[465,4,465,5],[442,4,442,13],[455,4,455,13],[451,4,451,5],[450,6,450,13],[449,6,449,13],[453,6,453,13],[480,6,480,13],[471,6,471,13],[472,6,472,13],[476,6,476,13],[474,6,474,13],[465,6,465,13],[478,6,478,13],[479,6,479,13],[452,4,452,5],[452,6,452,13],[464,6,464,13],[460,4,460,5],[461,6,461,13],[461,4,461,5],[464,4,464,5],[458,6,458,13],[460,6,460,13],[456,4,456,13],[499,5,499,11],[469,4,469,13],[489,6,489,13],[490,4,490,5],[490,6,490,13],[95,8,95,13],[91,9,91,13],[242,8,242,13],[139,4,139,13],[136,4,136,13],[151,7,151,11],[151,12,151,13],[226,4,226,6],[226,7,226,11],[94,8,94,13],[448,6,448,13],[451,6,451,13],[117,9,117,13],[113,3,113,13],[225,7,225,11],[450,4,450,5],[243,9,243,13],[166,9,166,13],[161,3,161,13],[90,8,90,13],[84,4,84,13],[86,3,86,13],[73,4,73,6],[73,7,73,11],[72,7,72,11],[67,3,67,13],[68,3,68,13],[70,3,70,6],[81,5,81,13],[82,4,82,13],[48,4,48,6],[49,4,49,6],[48,11,48,13],[49,11,49,13],[48,7,48,10],[80,5,80,13],[78,4,78,13],[79,5,79,13],[64,3,64,13],[72,4,72,6],[49,7,49,10],[50,7,50,10],[51,7,51,10],[52,7,52,10],[31,3,31,13],[44,3,44,13],[35,3,35,13],[32,3,32,13],[33,3,33,13],[34,3,34,13],[3,10,3,11],[3,12,3,13],[27,3,27,13],[1,1,3,3],[3,4,3,5],[2,10,2,11],[19,3,19,13],[20,3,20,13],[21,3,21,13],[1,8,1,9],[36,3,36,13],[37,3,37,13],[39,3,39,8],[43,3,43,13],[40,3,40,13],[42,3,42,13],[29,3,29,13],[13,3,13,13],[45,3,45,13],[39,9,39,13],[227,4,227,6],[30,3,30,13],[485,6,485,13],[484,4,484,5],[484,6,484,13],[485,4,485,5],[233,3,233,13],[238,9,238,13],[253,9,253,13],[447,4,447,5],[445,6,445,13],[447,6,447,13],[265,9,265,13],[444,6,444,13],[444,4,444,5],[445,4,445,5],[295,12,295,13],[256,8,256,13],[257,8,257,13],[258,9,258,13],[260,3,260,13],[229,3,229,13],[14,4,14,13],[28,3,28,13],[23,3,23,13],[25,3,25,13],[26,3,26,13],[18,3,18,13],[16,4,16,13],[5,2,5,10],[5,11,5,13],[24,3,24,13],[11,3,11,14],[9,3,9,13],[15,4,15,13],[2,12,2,13],[1,6,1,7],[22,3,22,13],[446,6,446,13],[241,8,241,13],[446,4,446,5],[1,12,1,13],[2,4,2,5],[1,10,1,11],[7,10,7,13],[1,4,1,5],[2,6,2,7],[2,8,2,9],[248,9,248,13],[3,6,3,7],[3,8,3,9],[223,3,223,6],[223,7,223,11],[223,12,223,13],[225,4,225,6],[251,8,251,13],[231,4,231,13],[440,3,440,13],[297,7,297,11],[286,4,286,13],[288,4,288,13],[295,7,295,11],[297,4,297,6],[290,4,290,13],[298,4,298,6],[298,7,298,11],[291,4,291,13],[246,8,246,13],[247,8,247,13],[292,4,292,13],[295,3,295,6],[264,9,264,13],[282,4,282,13],[266,9,266,13],[275,3,275,13],[281,3,281,13],[284,4,284,13],[285,4,285,13],[263,9,263,13],[301,3,301,13],[303,4,303,13],[305,3,305,13],[308,8,308,13],[309,8,309,13],[310,9,310,13],[319,8,319,13],[332,3,332,13],[299,4,299,6],[299,7,299,11],[313,8,313,13],[314,8,314,13],[315,9,315,13],[318,8,318,13],[323,8,323,13],[324,8,324,13],[325,9,325,13],[328,8,328,13],[320,9,320,13],[367,3,367,6],[367,7,367,11],[367,12,367,13],[329,8,329,13],[330,9,330,13],[369,4,369,6],[369,7,369,11],[354,4,354,13],[356,4,356,13],[357,4,357,13],[337,9,337,13],[338,9,338,13],[347,3,347,13],[353,3,353,13],[363,4,363,13],[364,4,364,13],[358,4,358,13],[360,4,360,13],[362,4,362,13],[336,9,336,13],[335,9,335,13],[385,8,385,13],[386,8,386,13],[370,4,370,6],[370,7,370,11],[371,4,371,6],[371,7,371,11],[373,3,373,13],[375,4,375,13],[377,3,377,13],[380,8,380,13],[381,8,381,13],[382,9,382,13],[404,3,404,13],[408,9,408,13],[387,9,387,13],[390,8,390,13],[391,8,391,13],[392,9,392,13],[395,8,395,13],[396,8,396,13],[397,9,397,13],[400,8,400,13],[401,8,401,13],[402,9,402,13],[409,9,409,13],[410,9,410,13],[407,9,407,13],[419,3,419,13],[435,4,435,13],[436,4,436,13],[429,4,429,13],[430,4,430,13],[426,4,426,13],[428,4,428,13],[432,4,432,13],[434,4,434,13],[425,3,425,13]]}
["ausblenden",null,null,null,null,null,null,null,null,null,null,null,null,null,null,"ausblenden","ausblenden","ausblenden","ausblenden","ausblenden","ausblenden","ausblenden","ausblenden"]
[null,{"$f":"Translations!$B$637","v":"I. PFC emissions"},null,null,{"$f":"Translations!$B$59","v":"Navigationsbereich:"},null,{"$f":"Translations!$B$60","v":"Inhaltsverzeichnis"},null,{"$f":"Translations!$B$61","v":"Vorheriges Blatt"},null,{"$f":"Translations!$B$62","v":"Nächstes Blatt"}]
[null,null,null,null,{"$f":"Translations!$B$63","v":"Blattanfang"},null,{"$f":"Translations!$B$29","v":"Bestimmung von PFC-Emissionen"},null,{"$f":"EUwideConstants!$A$94","v":"PFC"},null,{"$f":"F_MeasurementBasedApproaches!$G$4","v":"Verwaltung und Verfahren"}]
[null,null,null,null,{"$f":"Translations!$B$64","v":"Blattende"}]
[]
[null,null,{"$f":"Translations!$B$28","v":"I. Bestimmung von PFC-Emissionen aus der Primäraluminiumproduktion"},null,null,null,null,null,null,null,null,{"$f":"IF(AND(NOT(ISBLANK(CNTR_InstHasPFC)), CNTR_InstHasPFC=FALSE),EUconst_NotRelevant,EUconst_Relevant)","v":"Relevant"}]
[]
[null,null,null,null,null,null,null,null,null,null,{"$f":"IF(L6=EUconst_NotRelevant,HYPERLINK(\"#JUMP_J_Top\",EUconst_MsgNextSheet),HYPERLINK(\"\",EUconst_MsgEnterThisSection))","v":"Bitte machen Sie Angaben in diesem Abschnitt"}]
[]
[null,null,14,{"$f":"Translations!$B$29","v":"Bestimmung von PFC-Emissionen"}]
[]
[null,null,null,{"$f":"Translations!$B$638","v":"Hinweis: Dieser Abschnitt ist in Bezug auf die Bestimmung der Emissionen von Perfluorkohlenwasserstoffen aus der Herstellung oder Verarbeitung von Primäraluminium in einer Anlage auszufüllen.  Da hier eine auf Berechnung beruhende Methodik angewandt wird, vergewissern Sie sich bitte, dass Sie alle entsprechenden Daten (außer den im vorliegenden Datenblatt anzugebenden Einzelheiten zum Stoffstrom und zu den Verfahren) in Abschnitt 7 des Arbeitsblatts (D_CalculationBasedApproaches) eingegeben haben."}]
[]
[null,null,"(a)",{"$f":"Translations!$B$639","v":"Bitte beschreiben Sie in der Textbox kurz die Methodik, anhand der Sie Ihre PFC-Emissionen bestimmen und in jährliche CO2(Äq)-Emissionen umrechnen."}]
[null,null,null,null,{"$f":"Translations!$B$640","v":"Bitte beschreiben Sie in der Textbox kurz die Überwachungsmethodik, einschließlich Formeln, anhand der Sie Ihre jährlichen CO2(Äq)-Emissionen bestimmen."}]
[null,null,null,null,{"$f":"Translations!$B$338","v":"Ist die Beschreibung zu komplex (z. B. komplexe Formeln), können Sie die Beschreibung in einer gesonderten Unterlage in einem von der zuständigen Behörde akzeptierten Format vorlegen. In diesem Fall geben Sie hier bitte die Referenz der Datei an (Dateiname und Datum)."}]
[null,null,null,null,{"$f":"Translations!$B$195","v":"Diese Beschreibung sollte den Zusammenhang herstellen, der erforderlich ist, um zu verstehen, wie zur Berechnung der Emissionen auch auf Angaben in anderen Teilen dieser Vorlage zurückgegriffen wird. Sie kann so kurz sein wie das Beispiel in Abschnitt 7 Buchstabe a des Arbeitsblatts D_CalculationBasedApproaches."}]
[]
[]
[]
[]
[]
[]
[]
[]
[]
[]
[]
[]
[]
[]
[]
[]
[]
[]
[]
[]
[]
[null,null,null,null,null,null,null,null,null,null,null,null,null,null,null,null,null,null,null,null,null,null,"make conditional"]
[null,null,"(b)",{"$f":"Translations!$B$561","v":"Prozessdiagramm, wenn von der zuständigen Behörde verlangt:"},null,null,null,null,null,null,null,null,null,null,null,null,null,null,null,null,null,null,{"$f":"CNTR_SmallEmitter=TRUE","v":false}]
[null,null,null,{"$f":"Translations!$B$641","v":"Bitte geben Sie die Referenz eines Prozessdiagramms mit einer Liste aller relevanten Emissionsquellen und ‑punkte bei Normbetrieb und bei Ausnahmesituationen, d. h., bei eingeschränktem Betrieb und in Übergangsphasen, einschließlich Ausfallperioden oder Phasen der Inbetriebnahme an."}]
[]
[null,null,"(c)",{"$f":"Translations!$B$642","v":"Liste der im Bezug auf PFC zu überwachenden Stoffströme:"}]
[null,null,null,{"$f":"Translations!$B$643","v":"Im Fall von PFC-Emissionen sind zwei Methoden (A: Steigungsmethode, B: Überspannungsmethode) zulässig.  In einer Anlage können mehrere Zelltypen vorhanden sein (z. B verschiedene Technologien oder Baujahre), die unterschiedliche Emissionsmerkmale haben können."}]
[null,null,null,{"$f":"Translations!$B$644","v":"Gruppen von Zellen, die nach derselben Methode überwacht werden und dieselben Emissionsmerkmale (dieselben Emissionsfaktoren) aufweisen, sollten analog zu anderen auf Berechnung beruhenden Überwachungsmethodiken als „Stoffströme“ (d. h. Überwachungseinheiten) betrachtet werden. "}]
[null,null,null,{"$f":"Translations!$B$645","v":"Bitte geben Sie hier gegebenenfalls eine Liste der „Stoffströme“ Ihrer Anlage, die Überwachungsmethodik und den Zell-/Anodentyp an. Die Liste wird automatisch aus Abschnitt 6 Buchstabe B des Datenblatts C_InstallationDescription übernommen."}]
[null,null,null,{"$f":"Translations!$B$646","v":"Diese Liste wird dann im folgenden Abschnitt verwendet, um weitere Einzelheiten zu jedem Stoffstrom festzulegen."}]
[]
[null,null,null,null,{"$f":"Translations!$B$288","v":"Bezeichnung des Stoffstroms"},null,null,{"$f":"Translations!$B$289","v":"Stoffstromtyp"},null,null,null,{"$f":"Translations!$B$647","v":"Zelltyp"},null,null,null,null,null,null,null,null,{"$f":"Translations!$B$648","v":"Überwachungsmethodik"}]
[null,null,null,{"$f":"IF(COUNTIF(CNTR_CheckPFC,S50)=0,\"\",INDEX(C_InstallationDescription!$E$194:$E$204,MATCH(S50,CNTR_CheckPFC,0)))","v":""},{"$f":"IF(D50=\"\",\"\",INDEX(C_InstallationDescription!$I$194:$I$204,MATCH(D50,C_InstallationDescription!$E$194:$E$204,0)))","v":""},null,null,{"$f":"IF(D50=\"\",\"\",INDEX(C_InstallationDescription!$F$194:$F$204,MATCH(D50,C_InstallationDescription!$E$194:$E$204,0)))","v":""},null,null,null,null,null,null,null,null,null,null,1,null,{"$f":"IF(D50=\"\",\"\",MATCH(H50,CNTR_PFCSourceStreams,0))","v":""}]
[null,null,null,{"$f":"IF(COUNTIF(CNTR_CheckPFC,S51)=0,\"\",INDEX(C_InstallationDescription!$E$194:$E$204,MATCH(S51,CNTR_CheckPFC,0)))","v":""},{"$f":"IF(D51=\"\",\"\",INDEX(C_InstallationDescription!$I$194:$I$204,MATCH(D51,C_InstallationDescription!$E$194:$E$204,0)))","v":""},null,null,{"$f":"IF(D51=\"\",\"\",INDEX(C_InstallationDescription!$F$194:$F$204,MATCH(D51,C_InstallationDescription!$E$194:$E$204,0)))","v":""},null,null,null,null,null,null,null,null,null,null,2,null,""]
[null,null,null,{"$f":"IF(COUNTIF(CNTR_CheckPFC,S52)=0,\"\",INDEX(C_InstallationDescription!$E$194:$E$204,MATCH(S52,CNTR_CheckPFC,0)))","v":""},{"$f":"IF(D52=\"\",\"\",INDEX(C_InstallationDescription!$I$194:$I$204,MATCH(D52,C_InstallationDescription!$E$194:$E$204,0)))","v":""},null,null,{"$f":"IF(D52=\"\",\"\",INDEX(C_InstallationDescription!$F$194:$F$204,MATCH(D52,C_InstallationDescription!$E$194:$E$204,0)))","v":""},null,null,null,null,null,null,null,null,null,null,3,null,""]
[null,null,null,{"$f":"IF(COUNTIF(CNTR_CheckPFC,S53)=0,\"\",INDEX(C_InstallationDescription!$E$194:$E$204,MATCH(S53,CNTR_CheckPFC,0)))","v":""},{"$f":"IF(D53=\"\",\"\",INDEX(C_InstallationDescription!$I$194:$I$204,MATCH(D53,C_InstallationDescription!$E$194:$E$204,0)))","v":""},null,null,{"$f":"IF(D53=\"\",\"\",INDEX(C_InstallationDescription!$F$194:$F$204,MATCH(D53,C_InstallationDescription!$E$194:$E$204,0)))","v":""},null,null,null,null,null,null,null,null,null,null,4,null,""]
[null,null,null,{"$f":"IF(COUNTIF(CNTR_CheckPFC,S54)=0,\"\",INDEX(C_InstallationDescription!$E$194:$E$204,MATCH(S54,CNTR_CheckPFC,0)))","v":""},{"$f":"IF(D54=\"\",\"\",INDEX(C_InstallationDescription!$I$194:$I$204,MATCH(D54,C_InstallationDescription!$E$194:$E$204,0)))","v":""},null,null,{"$f":"IF(D54=\"\",\"\",INDEX(C_InstallationDescription!$F$194:$F$204,MATCH(D54,C_InstallationDescription!$E$194:$E$204,0)))","v":""},null,null,null,null,null,null,null,null,null,null,5,null,""]
["ausblenden",null,null,{"$f":"IF(COUNTIF(CNTR_CheckPFC,S55)=0,\"\",INDEX(C_InstallationDescription!$E$194:$E$204,MATCH(S55,CNTR_CheckPFC,0)))","v":""},{"$f":"IF(D55=\"\",\"\",INDEX(C_InstallationDescription!$I$194:$I$204,MATCH(D55,C_InstallationDescription!$E$194:$E$204,0)))","v":""},null,null,{"$f":"IF(D55=\"\",\"\",INDEX(C_InstallationDescription!$F$194:$F$204,MATCH(D55,C_InstallationDescription!$E$194:$E$204,0)))","v":""},null,null,null,null,null,null,null,null,null,null,null,null,""]
["ADD_AluSourceStream"]
[null,null,null,null,null,null,{"$f":"Translations!$B$297","v":"Auf „+“ klicken, um weitere Stoffströme einzufügen"}]
[]
[]
[]
[]
[]
[null,null,15,{"$f":"Translations!$B$30","v":"Einzelheiten zur Überwachung der Stoffströme von PFC-Emissionen"}]
[null,null,null,null,null,null,null,null,null,null,null,null,null,null,null,null,null,null,"Check source stream category","auto","manual"]
[null,null,null,{"$f":"Translations!$B$433","v":"Bitte beachten Sie, dass die Anweisungen nur für den ersten Stoffstrom angezeigt werden."}]
[null,null,null,{"$f":"Translations!$B$434","v":"Wenn Sie Daten für weitere Stoffströme anzeigen wollen, klicken Sie bitte auf die „+“‑Zeichen links (Datenkonsolidierungsfunktion)."}]
[null,null,null,{"$f":"Translations!$B$435","v":"Weitere Stoffströme können Sie mithilfe des Makros in Abschnitt 6 Buchstabe e des Arbeitsblatts C_InstallationDescription anfügen."}]
["ausblenden",null,null,{"$f":"Translations!$B$135","v":"Für die Anzeige/Unterdrückung von Beispielen drücken Sie bitte die Taste „Beispiele“ im Navigationsbereich."}]
["ausblenden",null,null,{"$f":"Translations!$B$436","v":"Das Beispiel ist in den ersten Stoffstrom integriert."},null,null,null,null,null,null,null,null,null,null,null,null,null,null,"Check source stream category","auto","manual"]
[null,null,null,null,null,null,null,null,null,null,null,null,null,null,null,null,null,null,"Check source stream category","auto","manual","Method"]
[null,null,{"$f":"INDEX($D$50:$D$55,Q71)","v":""},{"$f":"CONCATENATE(Euconst_SourceStream,\" \", Q71,\":\")","v":"Stoffstrom 1:"},null,null,null,{"$f":"IF(INDEX($E$50:$E$55,Q71)=\"\",\"\",INDEX($E$50:$E$55,Q71))","v":""},null,null,null,null,{"$f":"IF(S71=TRUE,IF(U71=\"\",T71,U71),\"\")","v":""},null,null,null,1,null,{"$f":"IF(INDEX(C_InstallationDescription!$M:$M,MATCH(Q73,C_InstallationDescription!$Q:$Q,0))=\"\",FALSE,TRUE)","v":false},{"$f":"IF(S71=TRUE,INDEX(C_InstallationDescription!$M:$M,MATCH(Q73,C_InstallationDescription!$Q:$Q,0)),\"\")","v":""},{"$f":"IF(S71=TRUE,IF(ISBLANK(INDEX(C_InstallationDescription!$N:$N,MATCH(Q73,C_InstallationDescription!$Q:$Q,0))),\"\",INDEX(C_InstallationDescription!$N:$N,MATCH(Q73,C_InstallationDescription!$Q:$Q,0))),\"\")","v":""},{"$f":"IF(ISNUMBER(INDEX(CNTR_ListPFCmethods,Q71)),INDEX(CNTR_ListPFCmethods,Q71),\"\")","v":""}]
[]
[null,null,null,null,{"$f":"Translations!$B$437","v":"Stoffstromtyp:"},null,null,{"$f":"IF(INDEX($H$50:$H$55,Q71)=\"\",\"\",INDEX($H$50:$H$55,Q71))","v":""},null,null,null,null,null,null,null,null,{"$f":"EUconst_CNTR_SourceCategory&C71","v":"SourceCategory_"}]
[null,null,null,null,{"$f":"Translations!$B$438","v":"Anwendbares Verfahren gemäß MVO:"},null,null,{"$f":"IF(H73=\"\",\"\",INDEX(EUwideConstants!$F$265:$F$325,MATCH(H73,EUConst_TierActivityListNames,0)))","v":""}]
[null,null,null,null,{"$f":"Translations!$B$439","v":"Parameter, für die die Unsicherheit gilt:"},null,null,{"$f":"IF(H73=\"\",\"\",INDEX(EUwideConstants!$E$265:$E$325,MATCH(H73,EUConst_TierActivityListNames,0)))","v":""}]
[]
[null,null,null,{"$f":"Translations!$B$446","v":"Automatische Anleitung zu den anwendbaren Ebenen:"}]
[]
[null,null,null,null,{"$f":"Translations!$B$649","v":"In den grünen Feldern werden die vorgeschriebenen Ebenen für Tätigkeitsdaten und Berechnungsfaktoren auf Basis Ihrer Angaben In Abschnitt 5 Buchstaben d und e und Abschnitt 6 Buchstaben e und f angezeigt. Dies sind die Mindestebenen für emissionsstarke Stoffströme in Anlagen der Kategorie C. Geringere Anforderungen können jedoch zugelassen werden. Abhängig von den nachstehend genannten Faktoren werden in der grünen Textbox entsprechende Hinweise angezeigt:"}]
[null,null,null,null,"-",{"$f":"Translations!$B$650","v":"An Anlagen mit geringen Emissionen gemäß Artikel 47 Absatz 2 werden geringere Anforderungen gerichtet;"}]
[null,null,null,null,"-",{"$f":"Translations!$B$651","v":"die Anlagenkategorie (A, B oder C) gemäß Artikel 19;"}]
[null,null,null,null,"-",{"$f":"Translations!$B$450","v":"an als emissionsschwache oder De-minimis-Stoffströme gemäß Artikel 19 Absatz 3 eingestufte Stoffströme werden geringere Anforderungen gerichtet."}]
[null,null,null,null,{"$f":"Translations!$B$451","v":"Die Meldung zu den anwendbaren Ebenen ist für die Tätigkeitsdaten und für alle Berechnungsfaktoren wichtig."}]
[]
[null,null,null,null,{"$f":"IF(H71=\"\",\"\",INDEX(EUconst_SmallEmiSouStreamMsg,MATCH(Q85,EUconst_SmallEmiSouStream,0)))","v":""},null,null,null,null,null,null,null,null,null,null,null,{"$f":"IF(ISBLANK(CNTR_SmallEmitter),IF(CNTR_SmallEmitter=TRUE,EUconst_CNTR_SmallEmitter,EUconst_CNTR_NoSmallEmitter),EUconst_CNTR_NoSmallEmitter) & IF((CNTR_Category)=\"\",\"C\",CNTR_Category) & \"_\" & IF(M71=\"\",1,MATCH(M71,SourceCategory,0))","v":"NoSmallEmitter_C_1"}]
[]
[null,null,null,{"$f":"Translations!$B$652","v":"Tätigkeitsdaten"}]
[]
[null,null,null,{"$f":"Translations!$B$653","v":"Primäraluminiumproduktion:"},null,null,null,null,null,null,null,null,null,null,null,null,null,null,null,null,"Stream method","Relevant method","Make grey?"]
[null,null,null,"(b)",{"$f":"Translations!$B$477","v":"Vorgeschriebene Ebene Tätigkeitsdaten:"},null,null,{"$f":"IF(H73=\"\",\"\",IF(CNTR_Category=\"A\",INDEX(EUwideConstants!$G:$G,MATCH(Q90,EUwideConstants!$S:$S,0)),INDEX(EUwideConstants!$P:$P,MATCH(Q90,EUwideConstants!$S:$S,0))))","v":""},{"$f":"IF(H90=\"\",\"\",IF(S90=0,EUconst_NA,IF(ISERROR(S90),\"\",EUconst_MsgTierActivityLevel & \" \" &S90)))","v":""},null,null,null,null,null,null,null,{"$f":"EUconst_CNTR_ActivityData&H73","v":"ActivityData_"},null,{"$f":"IF(H90=\"\",\"\",IF(H90=EUconst_NA,\"\",INDEX(EUwideConstants!$H:$O,MATCH(Q90,EUwideConstants!$S:$S,0),MATCH(H90,CNTR_TierList,0))))","v":""},null,{"$f":"V71","v":""},0,{"$f":"IF($L$6=EUconst_NotRelevant,TRUE,IF(V90>0,(V90<>U90),IF(U90=\"\",TRUE,FALSE)))","v":true}]
[null,null,null,"(c)",{"$f":"Translations!$B$478","v":"Angewandte Ebene Tätigkeitsdaten:"},null,null,null,{"$f":"IF(OR(ISBLANK(H91),H91=EUconst_NoTier),\"\",IF(S91=0,EUconst_NA,IF(ISERROR(S91),\"\",EUconst_MsgTierActivityLevel & \" \" &S91)))","v":""},null,null,null,null,null,null,null,{"$f":"EUconst_CNTR_ActivityData&H73","v":"ActivityData_"},null,{"$f":"IF(ISBLANK(H91),\"\",IF(H91=EUconst_NA,\"\",INDEX(EUwideConstants!$H:$O,MATCH(Q91,EUwideConstants!$S:$S,0),MATCH(H91,CNTR_TierList,0))))","v":""},null,{"$f":"U90","v":""},0,{"$f":"IF($L$6=EUconst_NotRelevant,TRUE,IF(V91>0,(V91<>U91),IF(U91=\"\",TRUE,FALSE)))","v":true}]
[null,null,null,"(d)",{"$f":"Translations!$B$479","v":"Erreichte Unsicherheit:"},null,null,null,{"$f":"Translations!$B$480","v":"Anmerkung:"},null,null,null,null,null,null,null,null,null,null,null,{"$f":"U91","v":""},0,{"$f":"IF($L$6=EUconst_NotRelevant,TRUE,IF(V92>0,(V92<>U92),IF(U92=\"\",TRUE,FALSE)))","v":true}]
[]
[null,null,null,{"$f":"Translations!$B$654","v":"Methode A: Zahl der Anodeneffekte/Zelltag"}]
[null,null,null,"(e)",{"$f":"Translations!$B$477","v":"Vorgeschriebene Ebene Tätigkeitsdaten:"},null,null,{"$f":"IF(W95,\"\",H90)","v":""},{"$f":"IF(W95,\"\",I90)","v":""},null,null,null,null,null,null,null,null,null,null,null,{"$f":"U92","v":""},1,{"$f":"IF($L$6=EUconst_NotRelevant,TRUE,IF(V95>0,(V95<>U95),IF(U95=\"\",TRUE,FALSE)))","v":true}]
[null,null,null,"(f)",{"$f":"Translations!$B$478","v":"Angewandte Ebene Tätigkeitsdaten:"},null,null,null,{"$f":"IF(OR(ISBLANK(H96),H96=EUconst_NoTier),\"\",IF(S96=0,EUconst_NA,IF(ISERROR(S96),\"\",EUconst_MsgTierActivityLevel & \" \" &S96)))","v":""},null,null,null,null,null,null,null,{"$f":"EUconst_CNTR_ActivityData&H73","v":"ActivityData_"},null,{"$f":"IF(ISBLANK(H96),\"\",IF(H96=EUconst_NA,\"\",INDEX(EUwideConstants!$H:$O,MATCH(Q96,EUwideConstants!$S:$S,0),MATCH(H96,CNTR_TierList,0))))","v":""},null,{"$f":"U95","v":""},1,{"$f":"IF($L$6=EUconst_NotRelevant,TRUE,IF(V96>0,(V96<>U96),IF(U96=\"\",TRUE,FALSE)))","v":true}]
[null,null,null,"(g)",{"$f":"Translations!$B$479","v":"Erreichte Unsicherheit:"},null,null,null,{"$f":"Translations!$B$480","v":"Anmerkung:"},null,null,null,null,null,null,null,null,null,null,null,{"$f":"U96","v":""},1,{"$f":"IF($L$6=EUconst_NotRelevant,TRUE,IF(V97>0,(V97<>U97),IF(U97=\"\",TRUE,FALSE)))","v":true}]
[]
[null,null,null,{"$f":"Translations!$B$655","v":"Methode A: durchschnittliche Anodeneffekt-Minuten/Häufigkeit"}]
[null,null,null,"(h)",{"$f":"Translations!$B$477","v":"Vorgeschriebene Ebene Tätigkeitsdaten:"},null,null,{"$f":"IF(W100,\"\",H90)","v":""},{"$f":"IF(W100,\"\",I90)","v":""},null,null,null,null,null,null,null,null,null,null,null,{"$f":"U97","v":""},1,{"$f":"IF($L$6=EUconst_NotRelevant,TRUE,IF(V100>0,(V100<>U100),IF(U100=\"\",TRUE,FALSE)))","v":true}]
[null,null,null,"(i)",{"$f":"Translations!$B$478","v":"Angewandte Ebene Tätigkeitsdaten:"},null,null,null,{"$f":"IF(OR(ISBLANK(H101),H101=EUconst_NoTier),\"\",IF(S101=0,EUconst_NA,IF(ISERROR(S101),\"\",EUconst_MsgTierActivityLevel & \" \" &S101)))","v":""},null,null,null,null,null,null,null,{"$f":"EUconst_CNTR_ActivityData&H73","v":"ActivityData_"},null,{"$f":"IF(ISBLANK(H101),\"\",IF(H101=EUconst_NA,\"\",INDEX(EUwideConstants!$H:$O,MATCH(Q101,EUwideConstants!$S:$S,0),MATCH(H101,CNTR_TierList,0))))","v":""},null,{"$f":"U100","v":""},1,{"$f":"IF($L$6=EUconst_NotRelevant,TRUE,IF(V101>0,(V101<>U101),IF(U101=\"\",TRUE,FALSE)))","v":true}]
[null,null,null,"(j)",{"$f":"Translations!$B$479","v":"Erreichte Unsicherheit:"},null,null,null,{"$f":"Translations!$B$480","v":"Anmerkung:"},null,null,null,null,null,null,null,null,null,null,null,{"$f":"U101","v":""},1,{"$f":"IF($L$6=EUconst_NotRelevant,TRUE,IF(V102>0,(V102<>U102),IF(U102=\"\",TRUE,FALSE)))","v":true}]
[]
[null,null,null,{"$f":"Translations!$B$656","v":"Methode B: Anodeneffekt-Überspannung je Zelle"}]
[null,null,null,"(k)",{"$f":"Translations!$B$477","v":"Vorgeschriebene Ebene Tätigkeitsdaten:"},null,null,{"$f":"IF(W105,\"\",H90)","v":""},{"$f":"IF(W105,\"\",I90)","v":""},null,null,null,null,null,null,null,null,null,null,null,{"$f":"U102","v":""},2,{"$f":"IF($L$6=EUconst_NotRelevant,TRUE,IF(V105>0,(V105<>U105),IF(U105=\"\",TRUE,FALSE)))","v":true}]
[null,null,null,"(l)",{"$f":"Translations!$B$478","v":"Angewandte Ebene Tätigkeitsdaten:"},null,null,null,{"$f":"IF(OR(ISBLANK(H106),H106=EUconst_NoTier),\"\",IF(S106=0,EUconst_NA,IF(ISERROR(S106),\"\",EUconst_MsgTierActivityLevel & \" \" &S106)))","v":""},null,null,null,null,null,null,null,{"$f":"EUconst_CNTR_ActivityData&H73","v":"ActivityData_"},null,{"$f":"IF(ISBLANK(H106),\"\",IF(H106=EUconst_NA,\"\",INDEX(EUwideConstants!$H:$O,MATCH(Q106,EUwideConstants!$S:$S,0),MATCH(H106,CNTR_TierList,0))))","v":""},null,{"$f":"U105","v":""},2,{"$f":"IF($L$6=EUconst_NotRelevant,TRUE,IF(V106>0,(V106<>U106),IF(U106=\"\",TRUE,FALSE)))","v":true}]
[null,null,null,"(m)",{"$f":"Translations!$B$479","v":"Erreichte Unsicherheit:"},null,null,null,{"$f":"Translations!$B$480","v":"Anmerkung:"},null,null,null,null,null,null,null,null,null,null,null,{"$f":"U106","v":""},2,{"$f":"IF($L$6=EUconst_NotRelevant,TRUE,IF(V107>0,(V107<>U107),IF(U107=\"\",TRUE,FALSE)))","v":true}]
[]
[null,null,null,{"$f":"Translations!$B$657","v":"Methode B: mittlere Stromeffizienz"}]
[null,null,null,"(n)",{"$f":"Translations!$B$477","v":"Vorgeschriebene Ebene Tätigkeitsdaten:"},null,null,{"$f":"IF(W110,\"\",H90)","v":""},{"$f":"IF(W110,\"\",I90)","v":""},null,null,null,null,null,null,null,null,null,null,null,{"$f":"U107","v":""},2,{"$f":"IF($L$6=EUconst_NotRelevant,TRUE,IF(V110>0,(V110<>U110),IF(U110=\"\",TRUE,FALSE)))","v":true}]
[null,null,null,"(o)",{"$f":"Translations!$B$478","v":"Angewandte Ebene Tätigkeitsdaten:"},null,null,null,{"$f":"IF(OR(ISBLANK(H111),H111=EUconst_NoTier),\"\",IF(S111=0,EUconst_NA,IF(ISERROR(S111),\"\",EUconst_MsgTierActivityLevel & \" \" &S111)))","v":""},null,null,null,null,null,null,null,{"$f":"EUconst_CNTR_ActivityData&H73","v":"ActivityData_"},null,{"$f":"IF(ISBLANK(H111),\"\",IF(H111=EUconst_NA,\"\",INDEX(EUwideConstants!$H:$O,MATCH(Q111,EUwideConstants!$S:$S,0),MATCH(H111,CNTR_TierList,0))))","v":""},null,{"$f":"U110","v":""},2,{"$f":"IF($L$6=EUconst_NotRelevant,TRUE,IF(V111>0,(V111<>U111),IF(U111=\"\",TRUE,FALSE)))","v":true}]
[null,null,null,"(p)",{"$f":"Translations!$B$479","v":"Erreichte Unsicherheit:"},null,null,null,{"$f":"Translations!$B$480","v":"Anmerkung:"},null,null,null,null,null,null,null,null,null,null,null,{"$f":"U111","v":""},2,{"$f":"IF($L$6=EUconst_NotRelevant,TRUE,IF(V112>0,(V112<>U112),IF(U112=\"\",TRUE,FALSE)))","v":true}]
[]
[null,null,null,{"$f":"Translations!$B$658","v":"Berechnungsfaktoren"}]
[null,null,null,"(q)",{"$f":"Translations!$B$659","v":"Angewandte Ebenen"}]
[]
[null,null,null,null,{"$f":"Translations!$B$516","v":"Berechnungsfaktoren"},null,null,{"$f":"Translations!$B$517","v":"vorgeschrie-bene Ebene"},{"$f":"Translations!$B$518","v":"angewandte Ebene"},{"$f":"Translations!$B$526","v":"vollständiger Text für angewandte Ebene"},null,null,null,null,null,null,null,null,"full text tier"]
[null,null,null,"i.",{"$f":"Translations!$B$660","v":"S(CF4) Steigungs-Emissionsfaktor"},null,null,{"$f":"IF(H73=\"\",\"\",IF(W118=FALSE,IF(CNTR_Category=\"A\",INDEX(EUwideConstants!$G:$G,MATCH(Q118,EUwideConstants!$S:$S,0)),INDEX(EUwideConstants!$P:$P,MATCH(Q118,EUwideConstants!$S:$S,0))),\"\"))","v":""},null,{"$f":"IF(OR(ISBLANK(I118),I118=EUconst_NoTier),\"\",IF(S118=0,EUconst_NotApplicable,IF(ISERROR(S118),\"\",S118)))","v":""},null,null,null,null,null,null,{"$f":"EUconst_CNTR_EF&H73","v":"EF_"},null,{"$f":"IF(ISBLANK(I118),\"\",IF(I118=EUconst_NA,\"\",INDEX(EUwideConstants!$H:$O,MATCH(Q118,EUwideConstants!$S:$S,0),MATCH(I118,CNTR_TierList,0))))","v":""},null,{"$f":"U112","v":""},1,{"$f":"IF($L$6=EUconst_NotRelevant,TRUE,IF(V118>0,(V118<>U118),IF(U118=\"\",TRUE,FALSE)))","v":true}]
[null,null,null,"ii.",{"$f":"Translations!$B$661","v":"OVC Überspannungskoeffizient"},null,null,{"$f":"IF(H74=\"\",\"\",IF(W119=FALSE,IF(CNTR_Category=\"A\",INDEX(EUwideConstants!$G:$G,MATCH(Q119,EUwideConstants!$S:$S,0)),INDEX(EUwideConstants!$P:$P,MATCH(Q119,EUwideConstants!$S:$S,0))),\"\"))","v":""},null,{"$f":"IF(OR(ISBLANK(I119),I119=EUconst_NoTier),\"\",IF(S119=0,EUconst_NotApplicable,IF(ISERROR(S119),\"\",S119)))","v":""},null,null,null,null,null,null,{"$f":"EUconst_CNTR_EF&H73","v":"EF_"},null,{"$f":"IF(ISBLANK(I119),\"\",IF(I119=EUconst_NA,\"\",INDEX(EUwideConstants!$H:$O,MATCH(Q119,EUwideConstants!$S:$S,0),MATCH(I119,CNTR_TierList,0))))","v":""},null,{"$f":"U118","v":""},2,{"$f":"IF($L$6=EUconst_NotRelevant,TRUE,IF(V119>0,(V119<>U119),IF(U119=\"\",TRUE,FALSE)))","v":true}]
[null,null,null,"iii.",{"$f":"Translations!$B$662","v":"F(C2F6) Gewichtungsfaktor von C2F6"},null,null,{"$f":"IF(H75=\"\",\"\",IF(W120=FALSE,IF(CNTR_Category=\"A\",INDEX(EUwideConstants!$G:$G,MATCH(Q120,EUwideConstants!$S:$S,0)),INDEX(EUwideConstants!$P:$P,MATCH(Q120,EUwideConstants!$S:$S,0))),\"\"))","v":""},null,{"$f":"IF(OR(ISBLANK(I120),I120=EUconst_NoTier),\"\",IF(S120=0,EUconst_NotApplicable,IF(ISERROR(S120),\"\",S120)))","v":""},null,null,null,null,null,null,{"$f":"EUconst_CNTR_EF&H73","v":"EF_"},null,{"$f":"IF(ISBLANK(I120),\"\",IF(I120=EUconst_NA,\"\",INDEX(EUwideConstants!$H:$O,MATCH(Q120,EUwideConstants!$S:$S,0),MATCH(I120,CNTR_TierList,0))))","v":""},null,{"$f":"U119","v":""},0,{"$f":"IF($L$6=EUconst_NotRelevant,TRUE,IF(V120>0,(V120<>U120),IF(U120=\"\",TRUE,FALSE)))","v":true}]
[]
[null,null,null,"(r)",{"$f":"Translations!$B$663","v":"Einzelheiten zur Ebene"}]
[]
[null,null,null,null,{"$f":"Translations!$B$516","v":"Berechnungsfaktoren"},null,null,{"$f":"I117","v":"angewandte Ebene"},{"$f":"Translations!$B$664","v":"Standard-wert oder letzter Wert"},{"$f":"Translations!$B$536","v":"Einheit"},{"$f":"Translations!$B$537","v":"Ref. Quelle"},{"$f":"Translations!$B$538","v":"Ref. Analyse"},{"$f":"Translations!$B$665","v":"Datum der letzten Analyse"},{"$f":"Translations!$B$540","v":"Analyse-häufigkeit"},null,null,null,null,"default value or lab"]
[null,null,null,"i.",{"$f":"E118","v":"S(CF4) Steigungs-Emissionsfaktor"},null,null,{"$f":"IF(OR(ISBLANK(I118),I118=EUconst_NA),\"\",I118)","v":""},null,null,null,null,null,null,null,null,{"$f":"Q118","v":"EF_"},null,{"$f":"IF(H125=\"\",\"\",IF(I118=EUconst_NA,\"\",INDEX(EUwideConstants!$AL:$AP,MATCH(Q118,EUwideConstants!$S:$S,0),MATCH(I118,CNTR_TierList,0))))","v":""},null,{"$f":"U120","v":""},1,{"$f":"IF($L$6=EUconst_NotRelevant,TRUE,IF(V125>0,(V125<>U125),IF(U125=\"\",TRUE,FALSE)))","v":true}]
[null,null,null,"ii.",{"$f":"E119","v":"OVC Überspannungskoeffizient"},null,null,{"$f":"IF(OR(ISBLANK(I119),I119=EUconst_NA),\"\",I119)","v":""},null,null,null,null,null,null,null,null,{"$f":"Q119","v":"EF_"},null,{"$f":"IF(H126=\"\",\"\",IF(I119=EUconst_NA,\"\",INDEX(EUwideConstants!$AL:$AP,MATCH(Q119,EUwideConstants!$S:$S,0),MATCH(I119,CNTR_TierList,0))))","v":""},null,{"$f":"U125","v":""},2,{"$f":"IF($L$6=EUconst_NotRelevant,TRUE,IF(V126>0,(V126<>U126),IF(U126=\"\",TRUE,FALSE)))","v":true}]
[null,null,null,"iii.",{"$f":"E120","v":"F(C2F6) Gewichtungsfaktor von C2F6"},null,null,{"$f":"IF(OR(ISBLANK(I120),I120=EUconst_NA),\"\",I120)","v":""},null,null,null,null,null,null,null,null,{"$f":"Q120","v":"EF_"},null,{"$f":"IF(H127=\"\",\"\",IF(I120=EUconst_NA,\"\",INDEX(EUwideConstants!$AL:$AP,MATCH(Q120,EUwideConstants!$S:$S,0),MATCH(I120,CNTR_TierList,0))))","v":""},null,{"$f":"U126","v":""},0,{"$f":"IF($L$6=EUconst_NotRelevant,TRUE,IF(V127>0,(V127<>U127),IF(U127=\"\",TRUE,FALSE)))","v":true}]
[]
[null,null,null,{"$f":"Translations!$B$666","v":"Abscheideleistung für diffuse Emissionen"}]
[null,null,null,"(s)",{"$f":"Translations!$B$667","v":"Bestimmung der Abscheideleistung"}]
[]
[null,null,null,null,null,null,null,null,{"$f":"Translations!$B$664","v":"Standard-wert oder letzter Wert"},{"$f":"Translations!$B$536","v":"Einheit"},{"$f":"Translations!$B$537","v":"Ref. Quelle"},{"$f":"Translations!$B$538","v":"Ref. Analyse"},{"$f":"Translations!$B$665","v":"Datum der letzten Analyse"},{"$f":"Translations!$B$540","v":"Analyse-häufigkeit"}]
[null,null,null,null,{"$f":"Translations!$B$668","v":"Abscheideleistung"},null,null,null,null,null,null,null,null,null,null,null,null,null,null,null,{"$f":"U127","v":""},0,{"$f":"IF($L$6=EUconst_NotRelevant,TRUE,IF(V133>0,(V133<>U133),IF(U133=\"\",TRUE,FALSE)))","v":true}]
[]
[null,null,null,{"$f":"Translations!$B$44","v":"Anmerkungen"}]
[null,null,null,"(t)",{"$f":"Translations!$B$546","v":"Anmerkungen:"}]
[null,null,null,null,{"$f":"Translations!$B$669","v":"Bitte geben Sie unten sachdienliche Anmerkungen ein. So ist namentlich zu erklären, wie die Berechnungsfaktoren bestimmt werden, welche Messgeräte und Prozesskontrollvorrichtungen zur Bestimmung der Tätigkeitsdaten verwendet werden usw."}]
[]
[null,null,null,null,null,null,null,null,null,null,null,null,null,null,null,null,null,null,null,null,{"$f":"U133","v":""},0,{"$f":"IF($L$6=EUconst_NotRelevant,TRUE,IF(V139>0,(V139<>U139),IF(U139=\"\",TRUE,FALSE)))","v":true}]
[null,null,null,null,null,null,null,null,null,null,null,null,null,null,null,null,null,null,null,null,{"$f":"U139","v":""},0,{"$f":"IF($L$6=EUconst_NotRelevant,TRUE,IF(V140>0,(V140<>U140),IF(U140=\"\",TRUE,FALSE)))","v":true}]
[null,null,null,null,null,null,null,null,null,null,null,null,null,null,null,null,null,null,null,null,{"$f":"U140","v":""},0,{"$f":"IF($L$6=EUconst_NotRelevant,TRUE,IF(V141>0,(V141<>U141),IF(U141=\"\",TRUE,FALSE)))","v":true}]
[]
[null,null,null,"(u)",{"$f":"Translations!$B$548","v":"Begründung für Nichtanwendung der vorgeschriebenen Ebene:"}]
[null,null,null,null,{"$f":"Translations!$B$549","v":"Wird eine der gemäß Artikel 26 vorgeschriebenen Ebenen für Tätigkeitsdaten oder einen anwendbaren Berechnungsfaktor nicht angewandt, begründen Sie hier bitte, warum."}]
[null,null,null,null,{"$f":"Translations!$B$550","v":"Ist gemäß Artikel 26 ein Verbesserungsplan erforderlich, so sollte dieser zusammen mit diesem Monitoringkonzept und den Anlagen eingereicht werden. Werden gemäß Artikel 18 als Begründung unverhältnismäßige Kosten angeführt, so sollte deren Berechnung zusammen mit diesem Monitoringkonzept eingereicht und in der Begründung darauf Bezug genommen werden."}]
[]
[null,null,null,null,null,null,null,null,null,null,null,null,null,null,null,null,null,null,null,null,{"$f":"U141","v":""},0,{"$f":"IF($L$6=EUconst_NotRelevant,TRUE,IF(V147>0,(V147<>U147),IF(U147=\"\",TRUE,FALSE)))","v":true}]
[null,null,null,null,null,null,null,null,null,null,null,null,null,null,null,null,null,null,null,null,{"$f":"U147","v":""},0,{"$f":"IF($L$6=EUconst_NotRelevant,TRUE,IF(V148>0,(V148<>U148),IF(U148=\"\",TRUE,FALSE)))","v":true}]
[null,null,null,null,null,null,null,null,null,null,null,null,null,null,null,null,null,null,null,null,{"$f":"U148","v":""},0,{"$f":"IF($L$6=EUconst_NotRelevant,TRUE,IF(V149>0,(V149<>U149),IF(U149=\"\",TRUE,FALSE)))","v":true}]
[]
[]
[null,null,{"$f":"INDEX($D$50:$D$55,Q152)","v":""},{"$f":"CONCATENATE(Euconst_SourceStream,\" \", Q152,\":\")","v":"Stoffstrom 2:"},null,null,null,{"$f":"IF(INDEX($E$50:$E$55,Q152)=\"\",\"\",INDEX($E$50:$E$55,Q152))","v":""},null,null,null,null,{"$f":"IF(S152=TRUE,IF(U152=\"\",T152,U152),\"\")","v":""},null,null,null,{"$f":"Q71+1","v":2},null,{"$f":"IF(INDEX(C_InstallationDescription!$M:$M,MATCH(Q154,C_InstallationDescription!$Q:$Q,0))=\"\",FALSE,TRUE)","v":false},{"$f":"IF(S152=TRUE,INDEX(C_InstallationDescription!$M:$M,MATCH(Q154,C_InstallationDescription!$Q:$Q,0)),\"\")","v":""},{"$f":"IF(S152=TRUE,IF(ISBLANK(INDEX(C_InstallationDescription!$N:$N,MATCH(Q154,C_InstallationDescription!$Q:$Q,0))),\"\",INDEX(C_InstallationDescription!$N:$N,MATCH(Q154,C_InstallationDescription!$Q:$Q,0))),\"\")","v":""},{"$f":"IF(ISNUMBER(INDEX(CNTR_ListPFCmethods,Q152)),INDEX(CNTR_ListPFCmethods,Q152),\"\")","v":""}]
[]
[null,null,null,null,{"$f":"Translations!$B$437","v":"Stoffstromtyp:"},null,null,{"$f":"IF(INDEX($H$50:$H$55,Q152)=\"\",\"\",INDEX($H$50:$H$55,Q152))","v":""},null,null,null,null,null,null,null,null,{"$f":"EUconst_CNTR_SourceCategory&C152","v":"SourceCategory_"}]
[null,null,null,null,{"$f":"Translations!$B$438","v":"Anwendbares Verfahren gemäß MVO:"},null,null,{"$f":"IF(H154=\"\",\"\",INDEX(EUwideConstants!$F$265:$F$325,MATCH(H154,EUConst_TierActivityListNames,0)))","v":""}]
[null,null,null,null,{"$f":"Translations!$B$439","v":"Parameter, für die die Unsicherheit gilt:"},null,null,{"$f":"IF(H154=\"\",\"\",INDEX(EUwideConstants!$E$265:$E$325,MATCH(H154,EUConst_TierActivityListNames,0)))","v":""}]
[]
[null,null,null,{"$f":"Translations!$B$446","v":"Automatische Anleitung zu den anwendbaren Ebenen:"}]
[]
[null,null,null,null,{"$f":"IF(H152=\"\",\"\",INDEX(EUconst_SmallEmiSouStreamMsg,MATCH(Q160,EUconst_SmallEmiSouStream,0)))","v":""},null,null,null,null,null,null,null,null,null,null,null,{"$f":"IF(ISBLANK(CNTR_SmallEmitter),IF(CNTR_SmallEmitter=TRUE,EUconst_CNTR_SmallEmitter,EUconst_CNTR_NoSmallEmitter),EUconst_CNTR_NoSmallEmitter) & IF((CNTR_Category)=\"\",\"C\",CNTR_Category) & \"_\" & IF(M152=\"\",1,MATCH(M152,SourceCategory,0))","v":"NoSmallEmitter_C_1"}]
[]
[null,null,null,{"$f":"Translations!$B$652","v":"Tätigkeitsdaten"}]
[]
[null,null,null,{"$f":"Translations!$B$653","v":"Primäraluminiumproduktion:"},null,null,null,null,null,null,null,null,null,null,null,null,null,null,null,null,"Stream method","Relevant method","Make grey?"]
[null,null,null,"(b)",{"$f":"Translations!$B$477","v":"Vorgeschriebene Ebene Tätigkeitsdaten:"},null,null,{"$f":"IF(H154=\"\",\"\",IF(CNTR_Category=\"A\",INDEX(EUwideConstants!$G:$G,MATCH(Q165,EUwideConstants!$S:$S,0)),INDEX(EUwideConstants!$P:$P,MATCH(Q165,EUwideConstants!$S:$S,0))))","v":""},{"$f":"IF(H165=\"\",\"\",IF(S165=0,EUconst_NA,IF(ISERROR(S165),\"\",EUconst_MsgTierActivityLevel & \" \" &S165)))","v":""},null,null,null,null,null,null,null,{"$f":"EUconst_CNTR_ActivityData&H154","v":"ActivityData_"},null,{"$f":"IF(H165=\"\",\"\",IF(H165=EUconst_NA,\"\",INDEX(EUwideConstants!$H:$O,MATCH(Q165,EUwideConstants!$S:$S,0),MATCH(H165,CNTR_TierList,0))))","v":""},null,{"$f":"V152","v":""},0,{"$f":"IF($L$6=EUconst_NotRelevant,TRUE,IF(V165>0,(V165<>U165),IF(U165=\"\",TRUE,FALSE)))","v":true}]
[null,null,null,"(c)",{"$f":"Translations!$B$478","v":"Angewandte Ebene Tätigkeitsdaten:"},null,null,null,{"$f":"IF(OR(ISBLANK(H166),H166=EUconst_NoTier),\"\",IF(S166=0,EUconst_NA,IF(ISERROR(S166),\"\",EUconst_MsgTierActivityLevel & \" \" &S166)))","v":""},null,null,null,null,null,null,null,{"$f":"EUconst_CNTR_ActivityData&H154","v":"ActivityData_"},null,{"$f":"IF(ISBLANK(H166),\"\",IF(H166=EUconst_NA,\"\",INDEX(EUwideConstants!$H:$O,MATCH(Q166,EUwideConstants!$S:$S,0),MATCH(H166,CNTR_TierList,0))))","v":""},null,{"$f":"U165","v":""},0,{"$f":"IF($L$6=EUconst_NotRelevant,TRUE,IF(V166>0,(V166<>U166),IF(U166=\"\",TRUE,FALSE)))","v":true}]
[null,null,null,"(d)",{"$f":"Translations!$B$479","v":"Erreichte Unsicherheit:"},null,null,null,{"$f":"Translations!$B$480","v":"Anmerkung:"},null,null,null,null,null,null,null,null,null,null,null,{"$f":"U166","v":""},0,{"$f":"IF($L$6=EUconst_NotRelevant,TRUE,IF(V167>0,(V167<>U167),IF(U167=\"\",TRUE,FALSE)))","v":true}]
[]
[null,null,null,{"$f":"Translations!$B$654","v":"Methode A: Zahl der Anodeneffekte/Zelltag"}]
[null,null,null,"(e)",{"$f":"Translations!$B$477","v":"Vorgeschriebene Ebene Tätigkeitsdaten:"},null,null,{"$f":"IF(W170,\"\",H165)","v":""},{"$f":"IF(W170,\"\",I165)","v":""},null,null,null,null,null,null,null,null,null,null,null,{"$f":"U167","v":""},1,{"$f":"IF($L$6=EUconst_NotRelevant,TRUE,IF(V170>0,(V170<>U170),IF(U170=\"\",TRUE,FALSE)))","v":true}]
[null,null,null,"(f)",{"$f":"Translations!$B$478","v":"Angewandte Ebene Tätigkeitsdaten:"},null,null,null,{"$f":"IF(OR(ISBLANK(H171),H171=EUconst_NoTier),\"\",IF(S171=0,EUconst_NA,IF(ISERROR(S171),\"\",EUconst_MsgTierActivityLevel & \" \" &S171)))","v":""},null,null,null,null,null,null,null,{"$f":"EUconst_CNTR_ActivityData&H154","v":"ActivityData_"},null,{"$f":"IF(ISBLANK(H171),\"\",IF(H171=EUconst_NA,\"\",INDEX(EUwideConstants!$H:$O,MATCH(Q171,EUwideConstants!$S:$S,0),MATCH(H171,CNTR_TierList,0))))","v":""},null,{"$f":"U170","v":""},1,{"$f":"IF($L$6=EUconst_NotRelevant,TRUE,IF(V171>0,(V171<>U171),IF(U171=\"\",TRUE,FALSE)))","v":true}]
[null,null,null,"(g)",{"$f":"Translations!$B$479","v":"Erreichte Unsicherheit:"},null,null,null,{"$f":"Translations!$B$480","v":"Anmerkung:"},null,null,null,null,null,null,null,null,null,null,null,{"$f":"U171","v":""},1,{"$f":"IF($L$6=EUconst_NotRelevant,TRUE,IF(V172>0,(V172<>U172),IF(U172=\"\",TRUE,FALSE)))","v":true}]
[]
[null,null,null,{"$f":"Translations!$B$655","v":"Methode A: durchschnittliche Anodeneffekt-Minuten/Häufigkeit"}]
[null,null,null,"(h)",{"$f":"Translations!$B$477","v":"Vorgeschriebene Ebene Tätigkeitsdaten:"},null,null,{"$f":"IF(W175,\"\",H165)","v":""},{"$f":"IF(W175,\"\",I165)","v":""},null,null,null,null,null,null,null,null,null,null,null,{"$f":"U172","v":""},1,{"$f":"IF($L$6=EUconst_NotRelevant,TRUE,IF(V175>0,(V175<>U175),IF(U175=\"\",TRUE,FALSE)))","v":true}]
[null,null,null,"(i)",{"$f":"Translations!$B$478","v":"Angewandte Ebene Tätigkeitsdaten:"},null,null,null,{"$f":"IF(OR(ISBLANK(H176),H176=EUconst_NoTier),\"\",IF(S176=0,EUconst_NA,IF(ISERROR(S176),\"\",EUconst_MsgTierActivityLevel & \" \" &S176)))","v":""},null,null,null,null,null,null,null,{"$f":"EUconst_CNTR_ActivityData&H154","v":"ActivityData_"},null,{"$f":"IF(ISBLANK(H176),\"\",IF(H176=EUconst_NA,\"\",INDEX(EUwideConstants!$H:$O,MATCH(Q176,EUwideConstants!$S:$S,0),MATCH(H176,CNTR_TierList,0))))","v":""},null,{"$f":"U175","v":""},1,{"$f":"IF($L$6=EUconst_NotRelevant,TRUE,IF(V176>0,(V176<>U176),IF(U176=\"\",TRUE,FALSE)))","v":true}]
[null,null,null,"(j)",{"$f":"Translations!$B$479","v":"Erreichte Unsicherheit:"},null,null,null,{"$f":"Translations!$B$480","v":"Anmerkung:"},null,null,null,null,null,null,null,null,null,null,null,{"$f":"U176","v":""},1,{"$f":"IF($L$6=EUconst_NotRelevant,TRUE,IF(V177>0,(V177<>U177),IF(U177=\"\",TRUE,FALSE)))","v":true}]
[]
[null,null,null,{"$f":"Translations!$B$656","v":"Methode B: Anodeneffekt-Überspannung je Zelle"}]
[null,null,null,"(k)",{"$f":"Translations!$B$477","v":"Vorgeschriebene Ebene Tätigkeitsdaten:"},null,null,{"$f":"IF(W180,\"\",H165)","v":""},{"$f":"IF(W180,\"\",I165)","v":""},null,null,null,null,null,null,null,null,null,null,null,{"$f":"U177","v":""},2,{"$f":"IF($L$6=EUconst_NotRelevant,TRUE,IF(V180>0,(V180<>U180),IF(U180=\"\",TRUE,FALSE)))","v":true}]
[null,null,null,"(l)",{"$f":"Translations!$B$478","v":"Angewandte Ebene Tätigkeitsdaten:"},null,null,null,{"$f":"IF(OR(ISBLANK(H181),H181=EUconst_NoTier),\"\",IF(S181=0,EUconst_NA,IF(ISERROR(S181),\"\",EUconst_MsgTierActivityLevel & \" \" &S181)))","v":""},null,null,null,null,null,null,null,{"$f":"EUconst_CNTR_ActivityData&H154","v":"ActivityData_"},null,{"$f":"IF(ISBLANK(H181),\"\",IF(H181=EUconst_NA,\"\",INDEX(EUwideConstants!$H:$O,MATCH(Q181,EUwideConstants!$S:$S,0),MATCH(H181,CNTR_TierList,0))))","v":""},null,{"$f":"U180","v":""},2,{"$f":"IF($L$6=EUconst_NotRelevant,TRUE,IF(V181>0,(V181<>U181),IF(U181=\"\",TRUE,FALSE)))","v":true}]
[null,null,null,"(m)",{"$f":"Translations!$B$479","v":"Erreichte Unsicherheit:"},null,null,null,{"$f":"Translations!$B$480","v":"Anmerkung:"},null,null,null,null,null,null,null,null,null,null,null,{"$f":"U181","v":""},2,{"$f":"IF($L$6=EUconst_NotRelevant,TRUE,IF(V182>0,(V182<>U182),IF(U182=\"\",TRUE,FALSE)))","v":true}]
[]
[null,null,null,{"$f":"Translations!$B$657","v":"Methode B: mittlere Stromeffizienz"}]
[null,null,null,"(n)",{"$f":"Translations!$B$477","v":"Vorgeschriebene Ebene Tätigkeitsdaten:"},null,null,{"$f":"IF(W185,\"\",H165)","v":""},{"$f":"IF(W185,\"\",I165)","v":""},null,null,null,null,null,null,null,null,null,null,null,{"$f":"U182","v":""},2,{"$f":"IF($L$6=EUconst_NotRelevant,TRUE,IF(V185>0,(V185<>U185),IF(U185=\"\",TRUE,FALSE)))","v":true}]
[null,null,null,"(o)",{"$f":"Translations!$B$478","v":"Angewandte Ebene Tätigkeitsdaten:"},null,null,null,{"$f":"IF(OR(ISBLANK(H186),H186=EUconst_NoTier),\"\",IF(S186=0,EUconst_NA,IF(ISERROR(S186),\"\",EUconst_MsgTierActivityLevel & \" \" &S186)))","v":""},null,null,null,null,null,null,null,{"$f":"EUconst_CNTR_ActivityData&H154","v":"ActivityData_"},null,{"$f":"IF(ISBLANK(H186),\"\",IF(H186=EUconst_NA,\"\",INDEX(EUwideConstants!$H:$O,MATCH(Q186,EUwideConstants!$S:$S,0),MATCH(H186,CNTR_TierList,0))))","v":""},null,{"$f":"U185","v":""},2,{"$f":"IF($L$6=EUconst_NotRelevant,TRUE,IF(V186>0,(V186<>U186),IF(U186=\"\",TRUE,FALSE)))","v":true}]
[null,null,null,"(p)",{"$f":"Translations!$B$479","v":"Erreichte Unsicherheit:"},null,null,null,{"$f":"Translations!$B$480","v":"Anmerkung:"},null,null,null,null,null,null,null,null,null,null,null,{"$f":"U186","v":""},2,{"$f":"IF($L$6=EUconst_NotRelevant,TRUE,IF(V187>0,(V187<>U187),IF(U187=\"\",TRUE,FALSE)))","v":true}]
[]
[null,null,null,{"$f":"Translations!$B$658","v":"Berechnungsfaktoren"}]
[null,null,null,"(q)",{"$f":"Translations!$B$659","v":"Angewandte Ebenen"}]
[]
[null,null,null,null,{"$f":"Translations!$B$516","v":"Berechnungsfaktoren"},null,null,{"$f":"Translations!$B$517","v":"vorgeschrie-bene Ebene"},{"$f":"Translations!$B$518","v":"angewandte Ebene"},{"$f":"Translations!$B$519","v":"vollständiger Text für angewandte Ebene"},null,null,null,null,null,null,null,null,"full text tier"]
[null,null,null,"i.",{"$f":"Translations!$B$660","v":"S(CF4) Steigungs-Emissionsfaktor"},null,null,{"$f":"IF(H154=\"\",\"\",IF(W193=FALSE,IF(CNTR_Category=\"A\",INDEX(EUwideConstants!$G:$G,MATCH(Q193,EUwideConstants!$S:$S,0)),INDEX(EUwideConstants!$P:$P,MATCH(Q193,EUwideConstants!$S:$S,0))),\"\"))","v":""},null,{"$f":"IF(OR(ISBLANK(I193),I193=EUconst_NoTier),\"\",IF(S193=0,EUconst_NotApplicable,IF(ISERROR(S193),\"\",S193)))","v":""},null,null,null,null,null,null,{"$f":"EUconst_CNTR_EF&H154","v":"EF_"},null,{"$f":"IF(ISBLANK(I193),\"\",IF(I193=EUconst_NA,\"\",INDEX(EUwideConstants!$H:$O,MATCH(Q193,EUwideConstants!$S:$S,0),MATCH(I193,CNTR_TierList,0))))","v":""},null,{"$f":"U187","v":""},1,{"$f":"IF($L$6=EUconst_NotRelevant,TRUE,IF(V193>0,(V193<>U193),IF(U193=\"\",TRUE,FALSE)))","v":true}]
[null,null,null,"ii.",{"$f":"Translations!$B$661","v":"OVC Überspannungskoeffizient"},null,null,{"$f":"IF(H155=\"\",\"\",IF(W194=FALSE,IF(CNTR_Category=\"A\",INDEX(EUwideConstants!$G:$G,MATCH(Q194,EUwideConstants!$S:$S,0)),INDEX(EUwideConstants!$P:$P,MATCH(Q194,EUwideConstants!$S:$S,0))),\"\"))","v":""},null,{"$f":"IF(OR(ISBLANK(I194),I194=EUconst_NoTier),\"\",IF(S194=0,EUconst_NotApplicable,IF(ISERROR(S194),\"\",S194)))","v":""},null,null,null,null,null,null,{"$f":"EUconst_CNTR_EF&H154","v":"EF_"},null,{"$f":"IF(ISBLANK(I194),\"\",IF(I194=EUconst_NA,\"\",INDEX(EUwideConstants!$H:$O,MATCH(Q194,EUwideConstants!$S:$S,0),MATCH(I194,CNTR_TierList,0))))","v":""},null,{"$f":"U193","v":""},2,{"$f":"IF($L$6=EUconst_NotRelevant,TRUE,IF(V194>0,(V194<>U194),IF(U194=\"\",TRUE,FALSE)))","v":true}]
[null,null,null,"iii.",{"$f":"Translations!$B$662","v":"F(C2F6) Gewichtungsfaktor von C2F6"},null,null,{"$f":"IF(H156=\"\",\"\",IF(W195=FALSE,IF(CNTR_Category=\"A\",INDEX(EUwideConstants!$G:$G,MATCH(Q195,EUwideConstants!$S:$S,0)),INDEX(EUwideConstants!$P:$P,MATCH(Q195,EUwideConstants!$S:$S,0))),\"\"))","v":""},null,{"$f":"IF(OR(ISBLANK(I195),I195=EUconst_NoTier),\"\",IF(S195=0,EUconst_NotApplicable,IF(ISERROR(S195),\"\",S195)))","v":""},null,null,null,null,null,null,{"$f":"EUconst_CNTR_EF&H154","v":"EF_"},null,{"$f":"IF(ISBLANK(I195),\"\",IF(I195=EUconst_NA,\"\",INDEX(EUwideConstants!$H:$O,MATCH(Q195,EUwideConstants!$S:$S,0),MATCH(I195,CNTR_TierList,0))))","v":""},null,{"$f":"U194","v":""},0,{"$f":"IF($L$6=EUconst_NotRelevant,TRUE,IF(V195>0,(V195<>U195),IF(U195=\"\",TRUE,FALSE)))","v":true}]
[]
[null,null,null,"(r)",{"$f":"Translations!$B$663","v":"Einzelheiten zur Ebene"}]
[]
[null,null,null,null,{"$f":"Translations!$B$516","v":"Berechnungsfaktoren"},null,null,{"$f":"I192","v":"angewandte Ebene"},{"$f":"Translations!$B$664","v":"Standard-wert oder letzter Wert"},{"$f":"Translations!$B$536","v":"Einheit"},{"$f":"Translations!$B$537","v":"Ref. Quelle"},{"$f":"Translations!$B$538","v":"Ref. Analyse"},{"$f":"Translations!$B$665","v":"Datum der letzten Analyse"},{"$f":"Translations!$B$540","v":"Analyse-häufigkeit"},null,null,null,null,"default value or lab"]
[null,null,null,"i.",{"$f":"E193","v":"S(CF4) Steigungs-Emissionsfaktor"},null,null,{"$f":"IF(OR(ISBLANK(I193),I193=EUconst_NA),\"\",I193)","v":""},null,null,null,null,null,null,null,null,{"$f":"Q193","v":"EF_"},null,{"$f":"IF(H200=\"\",\"\",IF(I193=EUconst_NA,\"\",INDEX(EUwideConstants!$AL:$AP,MATCH(Q193,EUwideConstants!$S:$S,0),MATCH(I193,CNTR_TierList,0))))","v":""},null,{"$f":"U195","v":""},1,{"$f":"IF($L$6=EUconst_NotRelevant,TRUE,IF(V200>0,(V200<>U200),IF(U200=\"\",TRUE,FALSE)))","v":true}]
[null,null,null,"ii.",{"$f":"E194","v":"OVC Überspannungskoeffizient"},null,null,{"$f":"IF(OR(ISBLANK(I194),I194=EUconst_NA),\"\",I194)","v":""},null,null,null,null,null,null,null,null,{"$f":"Q194","v":"EF_"},null,{"$f":"IF(H201=\"\",\"\",IF(I194=EUconst_NA,\"\",INDEX(EUwideConstants!$AL:$AP,MATCH(Q194,EUwideConstants!$S:$S,0),MATCH(I194,CNTR_TierList,0))))","v":""},null,{"$f":"U200","v":""},2,{"$f":"IF($L$6=EUconst_NotRelevant,TRUE,IF(V201>0,(V201<>U201),IF(U201=\"\",TRUE,FALSE)))","v":true}]
[null,null,null,"iii.",{"$f":"E195","v":"F(C2F6) Gewichtungsfaktor von C2F6"},null,null,{"$f":"IF(OR(ISBLANK(I195),I195=EUconst_NA),\"\",I195)","v":""},null,null,null,null,null,null,null,null,{"$f":"Q195","v":"EF_"},null,{"$f":"IF(H202=\"\",\"\",IF(I195=EUconst_NA,\"\",INDEX(EUwideConstants!$AL:$AP,MATCH(Q195,EUwideConstants!$S:$S,0),MATCH(I195,CNTR_TierList,0))))","v":""},null,{"$f":"U201","v":""},0,{"$f":"IF($L$6=EUconst_NotRelevant,TRUE,IF(V202>0,(V202<>U202),IF(U202=\"\",TRUE,FALSE)))","v":true}]
[]
[null,null,null,{"$f":"Translations!$B$666","v":"Abscheideleistung für diffuse Emissionen"}]
[null,null,null,"(s)",{"$f":"Translations!$B$667","v":"Bestimmung der Abscheideleistung"}]
[]
[null,null,null,null,null,null,null,null,{"$f":"Translations!$B$664","v":"Standard-wert oder letzter Wert"},{"$f":"Translations!$B$536","v":"Einheit"},{"$f":"Translations!$B$537","v":"Ref. Quelle"},{"$f":"Translations!$B$538","v":"Ref. Analyse"},{"$f":"Translations!$B$665","v":"Datum der letzten Analyse"},{"$f":"Translations!$B$540","v":"Analyse-häufigkeit"}]
[null,null,null,null,{"$f":"Translations!$B$668","v":"Abscheideleistung"},null,null,null,null,null,null,null,null,null,null,null,null,null,null,null,{"$f":"U202","v":""},0,{"$f":"IF($L$6=EUconst_NotRelevant,TRUE,IF(V208>0,(V208<>U208),IF(U208=\"\",TRUE,FALSE)))","v":true}]
[]
[null,null,null,{"$f":"Translations!$B$44","v":"Anmerkungen"}]
[null,null,null,"(t)",{"$f":"Translations!$B$546","v":"Anmerkungen:"}]
[]
[null,null,null,null,null,null,null,null,null,null,null,null,null,null,null,null,null,null,null,null,{"$f":"U208","v":""},0,{"$f":"IF($L$6=EUconst_NotRelevant,TRUE,IF(V213>0,(V213<>U213),IF(U213=\"\",TRUE,FALSE)))","v":true}]
[null,null,null,null,null,null,null,null,null,null,null,null,null,null,null,null,null,null,null,null,{"$f":"U213","v":""},0,{"$f":"IF($L$6=EUconst_NotRelevant,TRUE,IF(V214>0,(V214<>U214),IF(U214=\"\",TRUE,FALSE)))","v":true}]
[null,null,null,null,null,null,null,null,null,null,null,null,null,null,null,null,null,null,null,null,{"$f":"U214","v":""},0,{"$f":"IF($L$6=EUconst_NotRelevant,TRUE,IF(V215>0,(V215<>U215),IF(U215=\"\",TRUE,FALSE)))","v":true}]
[]
[null,null,null,"(u)",{"$f":"Translations!$B$548","v":"Begründung für Nichtanwendung der vorgeschriebenen Ebene:"}]
[]
[null,null,null,null,null,null,null,null,null,null,null,null,null,null,null,null,null,null,null,null,{"$f":"U215","v":""},0,{"$f":"IF($L$6=EUconst_NotRelevant,TRUE,IF(V219>0,(V219<>U219),IF(U219=\"\",TRUE,FALSE)))","v":true}]
[null,null,null,null,null,null,null,null,null,null,null,null,null,null,null,null,null,null,null,null,{"$f":"U219","v":""},0,{"$f":"IF($L$6=EUconst_NotRelevant,TRUE,IF(V220>0,(V220<>U220),IF(U220=\"\",TRUE,FALSE)))","v":true}]
[null,null,null,null,null,null,null,null,null,null,null,null,null,null,null,null,null,null,null,null,{"$f":"U220","v":""},0,{"$f":"IF($L$6=EUconst_NotRelevant,TRUE,IF(V221>0,(V221<>U221),IF(U221=\"\",TRUE,FALSE)))","v":true}]
[]
[]
[null,null,{"$f":"INDEX($D$50:$D$55,Q224)","v":""},{"$f":"CONCATENATE(Euconst_SourceStream,\" \", Q224,\":\")","v":"Stoffstrom 3:"},null,null,null,{"$f":"IF(INDEX($E$50:$E$55,Q224)=\"\",\"\",INDEX($E$50:$E$55,Q224))","v":""},null,null,null,null,{"$f":"IF(S224=TRUE,IF(U224=\"\",T224,U224),\"\")","v":""},null,null,null,{"$f":"Q152+1","v":3},null,{"$f":"IF(INDEX(C_InstallationDescription!$M:$M,MATCH(Q226,C_InstallationDescription!$Q:$Q,0))=\"\",FALSE,TRUE)","v":false},{"$f":"IF(S224=TRUE,INDEX(C_InstallationDescription!$M:$M,MATCH(Q226,C_InstallationDescription!$Q:$Q,0)),\"\")","v":""},{"$f":"IF(S224=TRUE,IF(ISBLANK(INDEX(C_InstallationDescription!$N:$N,MATCH(Q226,C_InstallationDescription!$Q:$Q,0))),\"\",INDEX(C_InstallationDescription!$N:$N,MATCH(Q226,C_InstallationDescription!$Q:$Q,0))),\"\")","v":""},{"$f":"IF(ISNUMBER(INDEX(CNTR_ListPFCmethods,Q224)),INDEX(CNTR_ListPFCmethods,Q224),\"\")","v":""}]
[]
[null,null,null,null,{"$f":"Translations!$B$437","v":"Stoffstromtyp:"},null,null,{"$f":"IF(INDEX($H$50:$H$55,Q224)=\"\",\"\",INDEX($H$50:$H$55,Q224))","v":""},null,null,null,null,null,null,null,null,{"$f":"EUconst_CNTR_SourceCategory&C224","v":"SourceCategory_"}]
[null,null,null,null,{"$f":"Translations!$B$438","v":"Anwendbares Verfahren gemäß MVO:"},null,null,{"$f":"IF(H226=\"\",\"\",INDEX(EUwideConstants!$F$265:$F$325,MATCH(H226,EUConst_TierActivityListNames,0)))","v":""}]
[null,null,null,null,{"$f":"Translations!$B$439","v":"Parameter, für die die Unsicherheit gilt:"},null,null,{"$f":"IF(H226=\"\",\"\",INDEX(EUwideConstants!$E$265:$E$325,MATCH(H226,EUConst_TierActivityListNames,0)))","v":""}]
[]
[null,null,null,{"$f":"Translations!$B$446","v":"Automatische Anleitung zu den anwendbaren Ebenen:"}]
[]
[null,null,null,null,{"$f":"IF(H224=\"\",\"\",INDEX(EUconst_SmallEmiSouStreamMsg,MATCH(Q232,EUconst_SmallEmiSouStream,0)))","v":""},null,null,null,null,null,null,null,null,null,null,null,{"$f":"IF(ISBLANK(CNTR_SmallEmitter),IF(CNTR_SmallEmitter=TRUE,EUconst_CNTR_SmallEmitter,EUconst_CNTR_NoSmallEmitter),EUconst_CNTR_NoSmallEmitter) & IF((CNTR_Category)=\"\",\"C\",CNTR_Category) & \"_\" & IF(M224=\"\",1,MATCH(M224,SourceCategory,0))","v":"NoSmallEmitter_C_1"}]
[]
[null,null,null,{"$f":"Translations!$B$652","v":"Tätigkeitsdaten"}]
[]
[null,null,null,{"$f":"Translations!$B$653","v":"Primäraluminiumproduktion:"},null,null,null,null,null,null,null,null,null,null,null,null,null,null,null,null,"Stream method","Relevant method","Make grey?"]
[null,null,null,"(b)",{"$f":"Translations!$B$477","v":"Vorgeschriebene Ebene Tätigkeitsdaten:"},null,null,{"$f":"IF(H226=\"\",\"\",IF(CNTR_Category=\"A\",INDEX(EUwideConstants!$G:$G,MATCH(Q237,EUwideConstants!$S:$S,0)),INDEX(EUwideConstants!$P:$P,MATCH(Q237,EUwideConstants!$S:$S,0))))","v":""},{"$f":"IF(H237=\"\",\"\",IF(S237=0,EUconst_NA,IF(ISERROR(S237),\"\",EUconst_MsgTierActivityLevel & \" \" &S237)))","v":""},null,null,null,null,null,null,null,{"$f":"EUconst_CNTR_ActivityData&H226","v":"ActivityData_"},null,{"$f":"IF(H237=\"\",\"\",IF(H237=EUconst_NA,\"\",INDEX(EUwideConstants!$H:$O,MATCH(Q237,EUwideConstants!$S:$S,0),MATCH(H237,CNTR_TierList,0))))","v":""},null,{"$f":"V224","v":""},0,{"$f":"IF($L$6=EUconst_NotRelevant,TRUE,IF(V237>0,(V237<>U237),IF(U237=\"\",TRUE,FALSE)))","v":true}]
[null,null,null,"(c)",{"$f":"Translations!$B$478","v":"Angewandte Ebene Tätigkeitsdaten:"},null,null,null,{"$f":"IF(OR(ISBLANK(H238),H238=EUconst_NoTier),\"\",IF(S238=0,EUconst_NA,IF(ISERROR(S238),\"\",EUconst_MsgTierActivityLevel & \" \" &S238)))","v":""},null,null,null,null,null,null,null,{"$f":"EUconst_CNTR_ActivityData&H226","v":"ActivityData_"},null,{"$f":"IF(ISBLANK(H238),\"\",IF(H238=EUconst_NA,\"\",INDEX(EUwideConstants!$H:$O,MATCH(Q238,EUwideConstants!$S:$S,0),MATCH(H238,CNTR_TierList,0))))","v":""},null,{"$f":"U237","v":""},0,{"$f":"IF($L$6=EUconst_NotRelevant,TRUE,IF(V238>0,(V238<>U238),IF(U238=\"\",TRUE,FALSE)))","v":true}]
[null,null,null,"(d)",{"$f":"Translations!$B$479","v":"Erreichte Unsicherheit:"},null,null,null,{"$f":"Translations!$B$480","v":"Anmerkung:"},null,null,null,null,null,null,null,null,null,null,null,{"$f":"U238","v":""},0,{"$f":"IF($L$6=EUconst_NotRelevant,TRUE,IF(V239>0,(V239<>U239),IF(U239=\"\",TRUE,FALSE)))","v":true}]
[]
[null,null,null,{"$f":"Translations!$B$654","v":"Methode A: Zahl der Anodeneffekte/Zelltag"}]
[null,null,null,"(e)",{"$f":"Translations!$B$477","v":"Vorgeschriebene Ebene Tätigkeitsdaten:"},null,null,{"$f":"IF(W242,\"\",H237)","v":""},{"$f":"IF(W242,\"\",I237)","v":""},null,null,null,null,null,null,null,null,null,null,null,{"$f":"U239","v":""},1,{"$f":"IF($L$6=EUconst_NotRelevant,TRUE,IF(V242>0,(V242<>U242),IF(U242=\"\",TRUE,FALSE)))","v":true}]
[null,null,null,"(f)",{"$f":"Translations!$B$478","v":"Angewandte Ebene Tätigkeitsdaten:"},null,null,null,{"$f":"IF(OR(ISBLANK(H243),H243=EUconst_NoTier),\"\",IF(S243=0,EUconst_NA,IF(ISERROR(S243),\"\",EUconst_MsgTierActivityLevel & \" \" &S243)))","v":""},null,null,null,null,null,null,null,{"$f":"EUconst_CNTR_ActivityData&H226","v":"ActivityData_"},null,{"$f":"IF(ISBLANK(H243),\"\",IF(H243=EUconst_NA,\"\",INDEX(EUwideConstants!$H:$O,MATCH(Q243,EUwideConstants!$S:$S,0),MATCH(H243,CNTR_TierList,0))))","v":""},null,{"$f":"U242","v":""},1,{"$f":"IF($L$6=EUconst_NotRelevant,TRUE,IF(V243>0,(V243<>U243),IF(U243=\"\",TRUE,FALSE)))","v":true}]
[null,null,null,"(g)",{"$f":"Translations!$B$479","v":"Erreichte Unsicherheit:"},null,null,null,{"$f":"Translations!$B$480","v":"Anmerkung:"},null,null,null,null,null,null,null,null,null,null,null,{"$f":"U243","v":""},1,{"$f":"IF($L$6=EUconst_NotRelevant,TRUE,IF(V244>0,(V244<>U244),IF(U244=\"\",TRUE,FALSE)))","v":true}]
[]
[null,null,null,{"$f":"Translations!$B$655","v":"Methode A: durchschnittliche Anodeneffekt-Minuten/Häufigkeit"}]
[null,null,null,"(h)",{"$f":"Translations!$B$477","v":"Vorgeschriebene Ebene Tätigkeitsdaten:"},null,null,{"$f":"IF(W247,\"\",H237)","v":""},{"$f":"IF(W247,\"\",I237)","v":""},null,null,null,null,null,null,null,null,null,null,null,{"$f":"U244","v":""},1,{"$f":"IF($L$6=EUconst_NotRelevant,TRUE,IF(V247>0,(V247<>U247),IF(U247=\"\",TRUE,FALSE)))","v":true}]
[null,null,null,"(i)",{"$f":"Translations!$B$478","v":"Angewandte Ebene Tätigkeitsdaten:"},null,null,null,{"$f":"IF(OR(ISBLANK(H248),H248=EUconst_NoTier),\"\",IF(S248=0,EUconst_NA,IF(ISERROR(S248),\"\",EUconst_MsgTierActivityLevel & \" \" &S248)))","v":""},null,null,null,null,null,null,null,{"$f":"EUconst_CNTR_ActivityData&H226","v":"ActivityData_"},null,{"$f":"IF(ISBLANK(H248),\"\",IF(H248=EUconst_NA,\"\",INDEX(EUwideConstants!$H:$O,MATCH(Q248,EUwideConstants!$S:$S,0),MATCH(H248,CNTR_TierList,0))))","v":""},null,{"$f":"U247","v":""},1,{"$f":"IF($L$6=EUconst_NotRelevant,TRUE,IF(V248>0,(V248<>U248),IF(U248=\"\",TRUE,FALSE)))","v":true}]
[null,null,null,"(j)",{"$f":"Translations!$B$479","v":"Erreichte Unsicherheit:"},null,null,null,{"$f":"Translations!$B$480","v":"Anmerkung:"},null,null,null,null,null,null,null,null,null,null,null,{"$f":"U248","v":""},1,{"$f":"IF($L$6=EUconst_NotRelevant,TRUE,IF(V249>0,(V249<>U249),IF(U249=\"\",TRUE,FALSE)))","v":true}]
[]
[null,null,null,{"$f":"Translations!$B$656","v":"Methode B: Anodeneffekt-Überspannung je Zelle"}]
[null,null,null,"(k)",{"$f":"Translations!$B$477","v":"Vorgeschriebene Ebene Tätigkeitsdaten:"},null,null,{"$f":"IF(W252,\"\",H237)","v":""},{"$f":"IF(W252,\"\",I237)","v":""},null,null,null,null,null,null,null,null,null,null,null,{"$f":"U249","v":""},2,{"$f":"IF($L$6=EUconst_NotRelevant,TRUE,IF(V252>0,(V252<>U252),IF(U252=\"\",TRUE,FALSE)))","v":true}]
[null,null,null,"(l)",{"$f":"Translations!$B$478","v":"Angewandte Ebene Tätigkeitsdaten:"},null,null,null,{"$f":"IF(OR(ISBLANK(H253),H253=EUconst_NoTier),\"\",IF(S253=0,EUconst_NA,IF(ISERROR(S253),\"\",EUconst_MsgTierActivityLevel & \" \" &S253)))","v":""},null,null,null,null,null,null,null,{"$f":"EUconst_CNTR_ActivityData&H226","v":"ActivityData_"},null,{"$f":"IF(ISBLANK(H253),\"\",IF(H253=EUconst_NA,\"\",INDEX(EUwideConstants!$H:$O,MATCH(Q253,EUwideConstants!$S:$S,0),MATCH(H253,CNTR_TierList,0))))","v":""},null,{"$f":"U252","v":""},2,{"$f":"IF($L$6=EUconst_NotRelevant,TRUE,IF(V253>0,(V253<>U253),IF(U253=\"\",TRUE,FALSE)))","v":true}]
[null,null,null,"(m)",{"$f":"Translations!$B$479","v":"Erreichte Unsicherheit:"},null,null,null,{"$f":"Translations!$B$480","v":"Anmerkung:"},null,null,null,null,null,null,null,null,null,null,null,{"$f":"U253","v":""},2,{"$f":"IF($L$6=EUconst_NotRelevant,TRUE,IF(V254>0,(V254<>U254),IF(U254=\"\",TRUE,FALSE)))","v":true}]
[]
[null,null,null,{"$f":"Translations!$B$657","v":"Methode B: mittlere Stromeffizienz"}]
[null,null,null,"(n)",{"$f":"Translations!$B$477","v":"Vorgeschriebene Ebene Tätigkeitsdaten:"},null,null,{"$f":"IF(W257,\"\",H237)","v":""},{"$f":"IF(W257,\"\",I237)","v":""},null,null,null,null,null,null,null,null,null,null,null,{"$f":"U254","v":""},2,{"$f":"IF($L$6=EUconst_NotRelevant,TRUE,IF(V257>0,(V257<>U257),IF(U257=\"\",TRUE,FALSE)))","v":true}]
[null,null,null,"(o)",{"$f":"Translations!$B$478","v":"Angewandte Ebene Tätigkeitsdaten:"},null,null,null,{"$f":"IF(OR(ISBLANK(H258),H258=EUconst_NoTier),\"\",IF(S258=0,EUconst_NA,IF(ISERROR(S258),\"\",EUconst_MsgTierActivityLevel & \" \" &S258)))","v":""},null,null,null,null,null,null,null,{"$f":"EUconst_CNTR_ActivityData&H226","v":"ActivityData_"},null,{"$f":"IF(ISBLANK(H258),\"\",IF(H258=EUconst_NA,\"\",INDEX(EUwideConstants!$H:$O,MATCH(Q258,EUwideConstants!$S:$S,0),MATCH(H258,CNTR_TierList,0))))","v":""},null,{"$f":"U257","v":""},2,{"$f":"IF($L$6=EUconst_NotRelevant,TRUE,IF(V258>0,(V258<>U258),IF(U258=\"\",TRUE,FALSE)))","v":true}]
[null,null,null,"(p)",{"$f":"Translations!$B$479","v":"Erreichte Unsicherheit:"},null,null,null,{"$f":"Translations!$B$480","v":"Anmerkung:"},null,null,null,null,null,null,null,null,null,null,null,{"$f":"U258","v":""},2,{"$f":"IF($L$6=EUconst_NotRelevant,TRUE,IF(V259>0,(V259<>U259),IF(U259=\"\",TRUE,FALSE)))","v":true}]
[]
[null,null,null,{"$f":"Translations!$B$658","v":"Berechnungsfaktoren"}]
[null,null,null,"(q)",{"$f":"Translations!$B$659","v":"Angewandte Ebenen"}]
[]
[null,null,null,null,{"$f":"Translations!$B$516","v":"Berechnungsfaktoren"},null,null,{"$f":"Translations!$B$517","v":"vorgeschrie-bene Ebene"},{"$f":"Translations!$B$518","v":"angewandte Ebene"},{"$f":"Translations!$B$519","v":"vollständiger Text für angewandte Ebene"},null,null,null,null,null,null,null,null,"full text tier"]
[null,null,null,"i.",{"$f":"Translations!$B$660","v":"S(CF4) Steigungs-Emissionsfaktor"},null,null,{"$f":"IF(H226=\"\",\"\",IF(W265=FALSE,IF(CNTR_Category=\"A\",INDEX(EUwideConstants!$G:$G,MATCH(Q265,EUwideConstants!$S:$S,0)),INDEX(EUwideConstants!$P:$P,MATCH(Q265,EUwideConstants!$S:$S,0))),\"\"))","v":""},null,{"$f":"IF(OR(ISBLANK(I265),I265=EUconst_NoTier),\"\",IF(S265=0,EUconst_NotApplicable,IF(ISERROR(S265),\"\",S265)))","v":""},null,null,null,null,null,null,{"$f":"EUconst_CNTR_EF&H226","v":"EF_"},null,{"$f":"IF(ISBLANK(I265),\"\",IF(I265=EUconst_NA,\"\",INDEX(EUwideConstants!$H:$O,MATCH(Q265,EUwideConstants!$S:$S,0),MATCH(I265,CNTR_TierList,0))))","v":""},null,{"$f":"U259","v":""},1,{"$f":"IF($L$6=EUconst_NotRelevant,TRUE,IF(V265>0,(V265<>U265),IF(U265=\"\",TRUE,FALSE)))","v":true}]
[null,null,null,"ii.",{"$f":"Translations!$B$661","v":"OVC Überspannungskoeffizient"},null,null,{"$f":"IF(H227=\"\",\"\",IF(W266=FALSE,IF(CNTR_Category=\"A\",INDEX(EUwideConstants!$G:$G,MATCH(Q266,EUwideConstants!$S:$S,0)),INDEX(EUwideConstants!$P:$P,MATCH(Q266,EUwideConstants!$S:$S,0))),\"\"))","v":""},null,{"$f":"IF(OR(ISBLANK(I266),I266=EUconst_NoTier),\"\",IF(S266=0,EUconst_NotApplicable,IF(ISERROR(S266),\"\",S266)))","v":""},null,null,null,null,null,null,{"$f":"EUconst_CNTR_EF&H226","v":"EF_"},null,{"$f":"IF(ISBLANK(I266),\"\",IF(I266=EUconst_NA,\"\",INDEX(EUwideConstants!$H:$O,MATCH(Q266,EUwideConstants!$S:$S,0),MATCH(I266,CNTR_TierList,0))))","v":""},null,{"$f":"U265","v":""},2,{"$f":"IF($L$6=EUconst_NotRelevant,TRUE,IF(V266>0,(V266<>U266),IF(U266=\"\",TRUE,FALSE)))","v":true}]
[null,null,null,"iii.",{"$f":"Translations!$B$662","v":"F(C2F6) Gewichtungsfaktor von C2F6"},null,null,{"$f":"IF(H228=\"\",\"\",IF(W267=FALSE,IF(CNTR_Category=\"A\",INDEX(EUwideConstants!$G:$G,MATCH(Q267,EUwideConstants!$S:$S,0)),INDEX(EUwideConstants!$P:$P,MATCH(Q267,EUwideConstants!$S:$S,0))),\"\"))","v":""},null,{"$f":"IF(OR(ISBLANK(I267),I267=EUconst_NoTier),\"\",IF(S267=0,EUconst_NotApplicable,IF(ISERROR(S267),\"\",S267)))","v":""},null,null,null,null,null,null,{"$f":"EUconst_CNTR_EF&H226","v":"EF_"},null,{"$f":"IF(ISBLANK(I267),\"\",IF(I267=EUconst_NA,\"\",INDEX(EUwideConstants!$H:$O,MATCH(Q267,EUwideConstants!$S:$S,0),MATCH(I267,CNTR_TierList,0))))","v":""},null,{"$f":"U266","v":""},0,{"$f":"IF($L$6=EUconst_NotRelevant,TRUE,IF(V267>0,(V267<>U267),IF(U267=\"\",TRUE,FALSE)))","v":true}]
[]
[null,null,null,"(r)",{"$f":"Translations!$B$663","v":"Einzelheiten zur Ebene"}]
[]
[null,null,null,null,{"$f":"Translations!$B$516","v":"Berechnungsfaktoren"},null,null,{"$f":"I264","v":"angewandte Ebene"},{"$f":"Translations!$B$664","v":"Standard-wert oder letzter Wert"},{"$f":"Translations!$B$536","v":"Einheit"},{"$f":"Translations!$B$537","v":"Ref. Quelle"},{"$f":"Translations!$B$538","v":"Ref. Analyse"},{"$f":"Translations!$B$665","v":"Datum der letzten Analyse"},{"$f":"Translations!$B$540","v":"Analyse-häufigkeit"},null,null,null,null,"default value or lab"]
[null,null,null,"i.",{"$f":"E265","v":"S(CF4) Steigungs-Emissionsfaktor"},null,null,{"$f":"IF(OR(ISBLANK(I265),I265=EUconst_NA),\"\",I265)","v":""},null,null,null,null,null,null,null,null,{"$f":"Q265","v":"EF_"},null,{"$f":"IF(H272=\"\",\"\",IF(I265=EUconst_NA,\"\",INDEX(EUwideConstants!$AL:$AP,MATCH(Q265,EUwideConstants!$S:$S,0),MATCH(I265,CNTR_TierList,0))))","v":""},null,{"$f":"U267","v":""},1,{"$f":"IF($L$6=EUconst_NotRelevant,TRUE,IF(V272>0,(V272<>U272),IF(U272=\"\",TRUE,FALSE)))","v":true}]
[null,null,null,"ii.",{"$f":"E266","v":"OVC Überspannungskoeffizient"},null,null,{"$f":"IF(OR(ISBLANK(I266),I266=EUconst_NA),\"\",I266)","v":""},null,null,null,null,null,null,null,null,{"$f":"Q266","v":"EF_"},null,{"$f":"IF(H273=\"\",\"\",IF(I266=EUconst_NA,\"\",INDEX(EUwideConstants!$AL:$AP,MATCH(Q266,EUwideConstants!$S:$S,0),MATCH(I266,CNTR_TierList,0))))","v":""},null,{"$f":"U272","v":""},2,{"$f":"IF($L$6=EUconst_NotRelevant,TRUE,IF(V273>0,(V273<>U273),IF(U273=\"\",TRUE,FALSE)))","v":true}]
[null,null,null,"iii.",{"$f":"E267","v":"F(C2F6) Gewichtungsfaktor von C2F6"},null,null,{"$f":"IF(OR(ISBLANK(I267),I267=EUconst_NA),\"\",I267)","v":""},null,null,null,null,null,null,null,null,{"$f":"Q267","v":"EF_"},null,{"$f":"IF(H274=\"\",\"\",IF(I267=EUconst_NA,\"\",INDEX(EUwideConstants!$AL:$AP,MATCH(Q267,EUwideConstants!$S:$S,0),MATCH(I267,CNTR_TierList,0))))","v":""},null,{"$f":"U273","v":""},0,{"$f":"IF($L$6=EUconst_NotRelevant,TRUE,IF(V274>0,(V274<>U274),IF(U274=\"\",TRUE,FALSE)))","v":true}]
[]
[null,null,null,{"$f":"Translations!$B$666","v":"Abscheideleistung für diffuse Emissionen"}]
[null,null,null,"(s)",{"$f":"Translations!$B$667","v":"Bestimmung der Abscheideleistung"}]
[]
[null,null,null,null,null,null,null,null,{"$f":"Translations!$B$664","v":"Standard-wert oder letzter Wert"},{"$f":"Translations!$B$536","v":"Einheit"},{"$f":"Translations!$B$537","v":"Ref. Quelle"},{"$f":"Translations!$B$538","v":"Ref. Analyse"},{"$f":"Translations!$B$665","v":"Datum der letzten Analyse"},{"$f":"Translations!$B$540","v":"Analyse-häufigkeit"}]
[null,null,null,null,{"$f":"Translations!$B$668","v":"Abscheideleistung"},null,null,null,null,null,null,null,null,null,null,null,null,null,null,null,{"$f":"U274","v":""},0,{"$f":"IF($L$6=EUconst_NotRelevant,TRUE,IF(V280>0,(V280<>U280),IF(U280=\"\",TRUE,FALSE)))","v":true}]
[]
[null,null,null,{"$f":"Translations!$B$44","v":"Anmerkungen"}]
[null,null,null,"(t)",{"$f":"Translations!$B$546","v":"Anmerkungen:"}]
[]
[null,null,null,null,null,null,null,null,null,null,null,null,null,null,null,null,null,null,null,null,{"$f":"U280","v":""},0,{"$f":"IF($L$6=EUconst_NotRelevant,TRUE,IF(V285>0,(V285<>U285),IF(U285=\"\",TRUE,FALSE)))","v":true}]
[null,null,null,null,null,null,null,null,null,null,null,null,null,null,null,null,null,null,null,null,{"$f":"U285","v":""},0,{"$f":"IF($L$6=EUconst_NotRelevant,TRUE,IF(V286>0,(V286<>U286),IF(U286=\"\",TRUE,FALSE)))","v":true}]
[null,null,null,null,null,null,null,null,null,null,null,null,null,null,null,null,null,null,null,null,{"$f":"U286","v":""},0,{"$f":"IF($L$6=EUconst_NotRelevant,TRUE,IF(V287>0,(V287<>U287),IF(U287=\"\",TRUE,FALSE)))","v":true}]
[]
[null,null,null,"(u)",{"$f":"Translations!$B$548","v":"Begründung für Nichtanwendung der vorgeschriebenen Ebene:"}]
[]
[null,null,null,null,null,null,null,null,null,null,null,null,null,null,null,null,null,null,null,null,{"$f":"U287","v":""},0,{"$f":"IF($L$6=EUconst_NotRelevant,TRUE,IF(V291>0,(V291<>U291),IF(U291=\"\",TRUE,FALSE)))","v":true}]
[null,null,null,null,null,null,null,null,null,null,null,null,null,null,null,null,null,null,null,null,{"$f":"U291","v":""},0,{"$f":"IF($L$6=EUconst_NotRelevant,TRUE,IF(V292>0,(V292<>U292),IF(U292=\"\",TRUE,FALSE)))","v":true}]
[null,null,null,null,null,null,null,null,null,null,null,null,null,null,null,null,null,null,null,null,{"$f":"U292","v":""},0,{"$f":"IF($L$6=EUconst_NotRelevant,TRUE,IF(V293>0,(V293<>U293),IF(U293=\"\",TRUE,FALSE)))","v":true}]
[]
[]
[null,null,{"$f":"INDEX($D$50:$D$55,Q296)","v":""},{"$f":"CONCATENATE(Euconst_SourceStream,\" \", Q296,\":\")","v":"Stoffstrom 4:"},null,null,null,{"$f":"IF(INDEX($E$50:$E$55,Q296)=\"\",\"\",INDEX($E$50:$E$55,Q296))","v":""},null,null,null,null,{"$f":"IF(S296=TRUE,IF(U296=\"\",T296,U296),\"\")","v":""},null,null,null,{"$f":"Q224+1","v":4},null,{"$f":"IF(INDEX(C_InstallationDescription!$M:$M,MATCH(Q298,C_InstallationDescription!$Q:$Q,0))=\"\",FALSE,TRUE)","v":false},{"$f":"IF(S296=TRUE,INDEX(C_InstallationDescription!$M:$M,MATCH(Q298,C_InstallationDescription!$Q:$Q,0)),\"\")","v":""},{"$f":"IF(S296=TRUE,IF(ISBLANK(INDEX(C_InstallationDescription!$N:$N,MATCH(Q298,C_InstallationDescription!$Q:$Q,0))),\"\",INDEX(C_InstallationDescription!$N:$N,MATCH(Q298,C_InstallationDescription!$Q:$Q,0))),\"\")","v":""},{"$f":"IF(ISNUMBER(INDEX(CNTR_ListPFCmethods,Q296)),INDEX(CNTR_ListPFCmethods,Q296),\"\")","v":""}]
[]
[null,null,null,null,{"$f":"Translations!$B$437","v":"Stoffstromtyp:"},null,null,{"$f":"IF(INDEX($H$50:$H$55,Q296)=\"\",\"\",INDEX($H$50:$H$55,Q296))","v":""},null,null,null,null,null,null,null,null,{"$f":"EUconst_CNTR_SourceCategory&C296","v":"SourceCategory_"}]
[null,null,null,null,{"$f":"Translations!$B$438","v":"Anwendbares Verfahren gemäß MVO:"},null,null,{"$f":"IF(H298=\"\",\"\",INDEX(EUwideConstants!$F$265:$F$325,MATCH(H298,EUConst_TierActivityListNames,0)))","v":""}]
[null,null,null,null,{"$f":"Translations!$B$439","v":"Parameter, für die die Unsicherheit gilt:"},null,null,{"$f":"IF(H298=\"\",\"\",INDEX(EUwideConstants!$E$265:$E$325,MATCH(H298,EUConst_TierActivityListNames,0)))","v":""}]
[]
[null,null,null,{"$f":"Translations!$B$446","v":"Automatische Anleitung zu den anwendbaren Ebenen:"}]
[]
[null,null,null,null,{"$f":"IF(H296=\"\",\"\",INDEX(EUconst_SmallEmiSouStreamMsg,MATCH(Q304,EUconst_SmallEmiSouStream,0)))","v":""},null,null,null,null,null,null,null,null,null,null,null,{"$f":"IF(ISBLANK(CNTR_SmallEmitter),IF(CNTR_SmallEmitter=TRUE,EUconst_CNTR_SmallEmitter,EUconst_CNTR_NoSmallEmitter),EUconst_CNTR_NoSmallEmitter) & IF((CNTR_Category)=\"\",\"C\",CNTR_Category) & \"_\" & IF(M296=\"\",1,MATCH(M296,SourceCategory,0))","v":"NoSmallEmitter_C_1"}]
[]
[null,null,null,{"$f":"Translations!$B$652","v":"Tätigkeitsdaten"}]
[]
[null,null,null,{"$f":"Translations!$B$653","v":"Primäraluminiumproduktion:"},null,null,null,null,null,null,null,null,null,null,null,null,null,null,null,null,"Stream method","Relevant method","Make grey?"]
[null,null,null,"(b)",{"$f":"Translations!$B$477","v":"Vorgeschriebene Ebene Tätigkeitsdaten:"},null,null,{"$f":"IF(H298=\"\",\"\",IF(CNTR_Category=\"A\",INDEX(EUwideConstants!$G:$G,MATCH(Q309,EUwideConstants!$S:$S,0)),INDEX(EUwideConstants!$P:$P,MATCH(Q309,EUwideConstants!$S:$S,0))))","v":""},{"$f":"IF(H309=\"\",\"\",IF(S309=0,EUconst_NA,IF(ISERROR(S309),\"\",EUconst_MsgTierActivityLevel & \" \" &S309)))","v":""},null,null,null,null,null,null,null,{"$f":"EUconst_CNTR_ActivityData&H298","v":"ActivityData_"},null,{"$f":"IF(H309=\"\",\"\",IF(H309=EUconst_NA,\"\",INDEX(EUwideConstants!$H:$O,MATCH(Q309,EUwideConstants!$S:$S,0),MATCH(H309,CNTR_TierList,0))))","v":""},null,{"$f":"V296","v":""},0,{"$f":"IF($L$6=EUconst_NotRelevant,TRUE,IF(V309>0,(V309<>U309),IF(U309=\"\",TRUE,FALSE)))","v":true}]
[null,null,null,"(c)",{"$f":"Translations!$B$478","v":"Angewandte Ebene Tätigkeitsdaten:"},null,null,null,{"$f":"IF(OR(ISBLANK(H310),H310=EUconst_NoTier),\"\",IF(S310=0,EUconst_NA,IF(ISERROR(S310),\"\",EUconst_MsgTierActivityLevel & \" \" &S310)))","v":""},null,null,null,null,null,null,null,{"$f":"EUconst_CNTR_ActivityData&H298","v":"ActivityData_"},null,{"$f":"IF(ISBLANK(H310),\"\",IF(H310=EUconst_NA,\"\",INDEX(EUwideConstants!$H:$O,MATCH(Q310,EUwideConstants!$S:$S,0),MATCH(H310,CNTR_TierList,0))))","v":""},null,{"$f":"U309","v":""},0,{"$f":"IF($L$6=EUconst_NotRelevant,TRUE,IF(V310>0,(V310<>U310),IF(U310=\"\",TRUE,FALSE)))","v":true}]
[null,null,null,"(d)",{"$f":"Translations!$B$479","v":"Erreichte Unsicherheit:"},null,null,null,{"$f":"Translations!$B$480","v":"Anmerkung:"},null,null,null,null,null,null,null,null,null,null,null,{"$f":"U310","v":""},0,{"$f":"IF($L$6=EUconst_NotRelevant,TRUE,IF(V311>0,(V311<>U311),IF(U311=\"\",TRUE,FALSE)))","v":true}]
[]
[null,null,null,{"$f":"Translations!$B$654","v":"Methode A: Zahl der Anodeneffekte/Zelltag"}]
[null,null,null,"(e)",{"$f":"Translations!$B$477","v":"Vorgeschriebene Ebene Tätigkeitsdaten:"},null,null,{"$f":"IF(W314,\"\",H309)","v":""},{"$f":"IF(W314,\"\",I309)","v":""},null,null,null,null,null,null,null,null,null,null,null,{"$f":"U311","v":""},1,{"$f":"IF($L$6=EUconst_NotRelevant,TRUE,IF(V314>0,(V314<>U314),IF(U314=\"\",TRUE,FALSE)))","v":true}]
[null,null,null,"(f)",{"$f":"Translations!$B$478","v":"Angewandte Ebene Tätigkeitsdaten:"},null,null,null,{"$f":"IF(OR(ISBLANK(H315),H315=EUconst_NoTier),\"\",IF(S315=0,EUconst_NA,IF(ISERROR(S315),\"\",EUconst_MsgTierActivityLevel & \" \" &S315)))","v":""},null,null,null,null,null,null,null,{"$f":"EUconst_CNTR_ActivityData&H298","v":"ActivityData_"},null,{"$f":"IF(ISBLANK(H315),\"\",IF(H315=EUconst_NA,\"\",INDEX(EUwideConstants!$H:$O,MATCH(Q315,EUwideConstants!$S:$S,0),MATCH(H315,CNTR_TierList,0))))","v":""},null,{"$f":"U314","v":""},1,{"$f":"IF($L$6=EUconst_NotRelevant,TRUE,IF(V315>0,(V315<>U315),IF(U315=\"\",TRUE,FALSE)))","v":true}]
[null,null,null,"(g)",{"$f":"Translations!$B$479","v":"Erreichte Unsicherheit:"},null,null,null,{"$f":"Translations!$B$480","v":"Anmerkung:"},null,null,null,null,null,null,null,null,null,null,null,{"$f":"U315","v":""},1,{"$f":"IF($L$6=EUconst_NotRelevant,TRUE,IF(V316>0,(V316<>U316),IF(U316=\"\",TRUE,FALSE)))","v":true}]
[]
[null,null,null,{"$f":"Translations!$B$655","v":"Methode A: durchschnittliche Anodeneffekt-Minuten/Häufigkeit"}]
[null,null,null,"(h)",{"$f":"Translations!$B$477","v":"Vorgeschriebene Ebene Tätigkeitsdaten:"},null,null,{"$f":"IF(W319,\"\",H309)","v":""},{"$f":"IF(W319,\"\",I309)","v":""},null,null,null,null,null,null,null,null,null,null,null,{"$f":"U316","v":""},1,{"$f":"IF($L$6=EUconst_NotRelevant,TRUE,IF(V319>0,(V319<>U319),IF(U319=\"\",TRUE,FALSE)))","v":true}]
[null,null,null,"(i)",{"$f":"Translations!$B$478","v":"Angewandte Ebene Tätigkeitsdaten:"},null,null,null,{"$f":"IF(OR(ISBLANK(H320),H320=EUconst_NoTier),\"\",IF(S320=0,EUconst_NA,IF(ISERROR(S320),\"\",EUconst_MsgTierActivityLevel & \" \" &S320)))","v":""},null,null,null,null,null,null,null,{"$f":"EUconst_CNTR_ActivityData&H298","v":"ActivityData_"},null,{"$f":"IF(ISBLANK(H320),\"\",IF(H320=EUconst_NA,\"\",INDEX(EUwideConstants!$H:$O,MATCH(Q320,EUwideConstants!$S:$S,0),MATCH(H320,CNTR_TierList,0))))","v":""},null,{"$f":"U319","v":""},1,{"$f":"IF($L$6=EUconst_NotRelevant,TRUE,IF(V320>0,(V320<>U320),IF(U320=\"\",TRUE,FALSE)))","v":true}]
[null,null,null,"(j)",{"$f":"Translations!$B$479","v":"Erreichte Unsicherheit:"},null,null,null,{"$f":"Translations!$B$480","v":"Anmerkung:"},null,null,null,null,null,null,null,null,null,null,null,{"$f":"U320","v":""},1,{"$f":"IF($L$6=EUconst_NotRelevant,TRUE,IF(V321>0,(V321<>U321),IF(U321=\"\",TRUE,FALSE)))","v":true}]
[]
[null,null,null,{"$f":"Translations!$B$656","v":"Methode B: Anodeneffekt-Überspannung je Zelle"}]
[null,null,null,"(k)",{"$f":"Translations!$B$477","v":"Vorgeschriebene Ebene Tätigkeitsdaten:"},null,null,{"$f":"IF(W324,\"\",H309)","v":""},{"$f":"IF(W324,\"\",I309)","v":""},null,null,null,null,null,null,null,null,null,null,null,{"$f":"U321","v":""},2,{"$f":"IF($L$6=EUconst_NotRelevant,TRUE,IF(V324>0,(V324<>U324),IF(U324=\"\",TRUE,FALSE)))","v":true}]
[null,null,null,"(l)",{"$f":"Translations!$B$478","v":"Angewandte Ebene Tätigkeitsdaten:"},null,null,null,{"$f":"IF(OR(ISBLANK(H325),H325=EUconst_NoTier),\"\",IF(S325=0,EUconst_NA,IF(ISERROR(S325),\"\",EUconst_MsgTierActivityLevel & \" \" &S325)))","v":""},null,null,null,null,null,null,null,{"$f":"EUconst_CNTR_ActivityData&H298","v":"ActivityData_"},null,{"$f":"IF(ISBLANK(H325),\"\",IF(H325=EUconst_NA,\"\",INDEX(EUwideConstants!$H:$O,MATCH(Q325,EUwideConstants!$S:$S,0),MATCH(H325,CNTR_TierList,0))))","v":""},null,{"$f":"U324","v":""},2,{"$f":"IF($L$6=EUconst_NotRelevant,TRUE,IF(V325>0,(V325<>U325),IF(U325=\"\",TRUE,FALSE)))","v":true}]
[null,null,null,"(m)",{"$f":"Translations!$B$479","v":"Erreichte Unsicherheit:"},null,null,null,{"$f":"Translations!$B$480","v":"Anmerkung:"},null,null,null,null,null,null,null,null,null,null,null,{"$f":"U325","v":""},2,{"$f":"IF($L$6=EUconst_NotRelevant,TRUE,IF(V326>0,(V326<>U326),IF(U326=\"\",TRUE,FALSE)))","v":true}]
[]
[null,null,null,{"$f":"Translations!$B$657","v":"Methode B: mittlere Stromeffizienz"}]
[null,null,null,"(n)",{"$f":"Translations!$B$477","v":"Vorgeschriebene Ebene Tätigkeitsdaten:"},null,null,{"$f":"IF(W329,\"\",H309)","v":""},{"$f":"IF(W329,\"\",I309)","v":""},null,null,null,null,null,null,null,null,null,null,null,{"$f":"U326","v":""},2,{"$f":"IF($L$6=EUconst_NotRelevant,TRUE,IF(V329>0,(V329<>U329),IF(U329=\"\",TRUE,FALSE)))","v":true}]
[null,null,null,"(o)",{"$f":"Translations!$B$478","v":"Angewandte Ebene Tätigkeitsdaten:"},null,null,null,{"$f":"IF(OR(ISBLANK(H330),H330=EUconst_NoTier),\"\",IF(S330=0,EUconst_NA,IF(ISERROR(S330),\"\",EUconst_MsgTierActivityLevel & \" \" &S330)))","v":""},null,null,null,null,null,null,null,{"$f":"EUconst_CNTR_ActivityData&H298","v":"ActivityData_"},null,{"$f":"IF(ISBLANK(H330),\"\",IF(H330=EUconst_NA,\"\",INDEX(EUwideConstants!$H:$O,MATCH(Q330,EUwideConstants!$S:$S,0),MATCH(H330,CNTR_TierList,0))))","v":""},null,{"$f":"U329","v":""},2,{"$f":"IF($L$6=EUconst_NotRelevant,TRUE,IF(V330>0,(V330<>U330),IF(U330=\"\",TRUE,FALSE)))","v":true}]
[null,null,null,"(p)",{"$f":"Translations!$B$479","v":"Erreichte Unsicherheit:"},null,null,null,{"$f":"Translations!$B$480","v":"Anmerkung:"},null,null,null,null,null,null,null,null,null,null,null,{"$f":"U330","v":""},2,{"$f":"IF($L$6=EUconst_NotRelevant,TRUE,IF(V331>0,(V331<>U331),IF(U331=\"\",TRUE,FALSE)))","v":true}]
[]
[null,null,null,{"$f":"Translations!$B$658","v":"Berechnungsfaktoren"}]
[null,null,null,"(q)",{"$f":"Translations!$B$659","v":"Angewandte Ebenen"}]
[]
[null,null,null,null,{"$f":"Translations!$B$516","v":"Berechnungsfaktoren"},null,null,{"$f":"Translations!$B$517","v":"vorgeschrie-bene Ebene"},{"$f":"Translations!$B$518","v":"angewandte Ebene"},{"$f":"Translations!$B$519","v":"vollständiger Text für angewandte Ebene"},null,null,null,null,null,null,null,null,"full text tier"]
[null,null,null,"i.",{"$f":"Translations!$B$660","v":"S(CF4) Steigungs-Emissionsfaktor"},null,null,{"$f":"IF(H298=\"\",\"\",IF(W337=FALSE,IF(CNTR_Category=\"A\",INDEX(EUwideConstants!$G:$G,MATCH(Q337,EUwideConstants!$S:$S,0)),INDEX(EUwideConstants!$P:$P,MATCH(Q337,EUwideConstants!$S:$S,0))),\"\"))","v":""},null,{"$f":"IF(OR(ISBLANK(I337),I337=EUconst_NoTier),\"\",IF(S337=0,EUconst_NotApplicable,IF(ISERROR(S337),\"\",S337)))","v":""},null,null,null,null,null,null,{"$f":"EUconst_CNTR_EF&H298","v":"EF_"},null,{"$f":"IF(ISBLANK(I337),\"\",IF(I337=EUconst_NA,\"\",INDEX(EUwideConstants!$H:$O,MATCH(Q337,EUwideConstants!$S:$S,0),MATCH(I337,CNTR_TierList,0))))","v":""},null,{"$f":"U331","v":""},1,{"$f":"IF($L$6=EUconst_NotRelevant,TRUE,IF(V337>0,(V337<>U337),IF(U337=\"\",TRUE,FALSE)))","v":true}]
[null,null,null,"ii.",{"$f":"Translations!$B$661","v":"OVC Überspannungskoeffizient"},null,null,{"$f":"IF(H299=\"\",\"\",IF(W338=FALSE,IF(CNTR_Category=\"A\",INDEX(EUwideConstants!$G:$G,MATCH(Q338,EUwideConstants!$S:$S,0)),INDEX(EUwideConstants!$P:$P,MATCH(Q338,EUwideConstants!$S:$S,0))),\"\"))","v":""},null,{"$f":"IF(OR(ISBLANK(I338),I338=EUconst_NoTier),\"\",IF(S338=0,EUconst_NotApplicable,IF(ISERROR(S338),\"\",S338)))","v":""},null,null,null,null,null,null,{"$f":"EUconst_CNTR_EF&H298","v":"EF_"},null,{"$f":"IF(ISBLANK(I338),\"\",IF(I338=EUconst_NA,\"\",INDEX(EUwideConstants!$H:$O,MATCH(Q338,EUwideConstants!$S:$S,0),MATCH(I338,CNTR_TierList,0))))","v":""},null,{"$f":"U337","v":""},2,{"$f":"IF($L$6=EUconst_NotRelevant,TRUE,IF(V338>0,(V338<>U338),IF(U338=\"\",TRUE,FALSE)))","v":true}]
[null,null,null,"iii.",{"$f":"Translations!$B$662","v":"F(C2F6) Gewichtungsfaktor von C2F6"},null,null,{"$f":"IF(H300=\"\",\"\",IF(W339=FALSE,IF(CNTR_Category=\"A\",INDEX(EUwideConstants!$G:$G,MATCH(Q339,EUwideConstants!$S:$S,0)),INDEX(EUwideConstants!$P:$P,MATCH(Q339,EUwideConstants!$S:$S,0))),\"\"))","v":""},null,{"$f":"IF(OR(ISBLANK(I339),I339=EUconst_NoTier),\"\",IF(S339=0,EUconst_NotApplicable,IF(ISERROR(S339),\"\",S339)))","v":""},null,null,null,null,null,null,{"$f":"EUconst_CNTR_EF&H298","v":"EF_"},null,{"$f":"IF(ISBLANK(I339),\"\",IF(I339=EUconst_NA,\"\",INDEX(EUwideConstants!$H:$O,MATCH(Q339,EUwideConstants!$S:$S,0),MATCH(I339,CNTR_TierList,0))))","v":""},null,{"$f":"U338","v":""},0,{"$f":"IF($L$6=EUconst_NotRelevant,TRUE,IF(V339>0,(V339<>U339),IF(U339=\"\",TRUE,FALSE)))","v":true}]
[]
[null,null,null,"(r)",{"$f":"Translations!$B$663","v":"Einzelheiten zur Ebene"}]
[]
[null,null,null,null,{"$f":"Translations!$B$516","v":"Berechnungsfaktoren"},null,null,{"$f":"I336","v":"angewandte Ebene"},{"$f":"Translations!$B$664","v":"Standard-wert oder letzter Wert"},{"$f":"Translations!$B$536","v":"Einheit"},{"$f":"Translations!$B$537","v":"Ref. Quelle"},{"$f":"Translations!$B$538","v":"Ref. Analyse"},{"$f":"Translations!$B$665","v":"Datum der letzten Analyse"},{"$f":"Translations!$B$540","v":"Analyse-häufigkeit"},null,null,null,null,"default value or lab"]
[null,null,null,"i.",{"$f":"E337","v":"S(CF4) Steigungs-Emissionsfaktor"},null,null,{"$f":"IF(OR(ISBLANK(I337),I337=EUconst_NA),\"\",I337)","v":""},null,null,null,null,null,null,null,null,{"$f":"Q337","v":"EF_"},null,{"$f":"IF(H344=\"\",\"\",IF(I337=EUconst_NA,\"\",INDEX(EUwideConstants!$AL:$AP,MATCH(Q337,EUwideConstants!$S:$S,0),MATCH(I337,CNTR_TierList,0))))","v":""},null,{"$f":"U339","v":""},1,{"$f":"IF($L$6=EUconst_NotRelevant,TRUE,IF(V344>0,(V344<>U344),IF(U344=\"\",TRUE,FALSE)))","v":true}]
[null,null,null,"ii.",{"$f":"E338","v":"OVC Überspannungskoeffizient"},null,null,{"$f":"IF(OR(ISBLANK(I338),I338=EUconst_NA),\"\",I338)","v":""},null,null,null,null,null,null,null,null,{"$f":"Q338","v":"EF_"},null,{"$f":"IF(H345=\"\",\"\",IF(I338=EUconst_NA,\"\",INDEX(EUwideConstants!$AL:$AP,MATCH(Q338,EUwideConstants!$S:$S,0),MATCH(I338,CNTR_TierList,0))))","v":""},null,{"$f":"U344","v":""},2,{"$f":"IF($L$6=EUconst_NotRelevant,TRUE,IF(V345>0,(V345<>U345),IF(U345=\"\",TRUE,FALSE)))","v":true}]
[null,null,null,"iii.",{"$f":"E339","v":"F(C2F6) Gewichtungsfaktor von C2F6"},null,null,{"$f":"IF(OR(ISBLANK(I339),I339=EUconst_NA),\"\",I339)","v":""},null,null,null,null,null,null,null,null,{"$f":"Q339","v":"EF_"},null,{"$f":"IF(H346=\"\",\"\",IF(I339=EUconst_NA,\"\",INDEX(EUwideConstants!$AL:$AP,MATCH(Q339,EUwideConstants!$S:$S,0),MATCH(I339,CNTR_TierList,0))))","v":""},null,{"$f":"U345","v":""},0,{"$f":"IF($L$6=EUconst_NotRelevant,TRUE,IF(V346>0,(V346<>U346),IF(U346=\"\",TRUE,FALSE)))","v":true}]
[]
[null,null,null,{"$f":"Translations!$B$666","v":"Abscheideleistung für diffuse Emissionen"}]
[null,null,null,"(s)",{"$f":"Translations!$B$667","v":"Bestimmung der Abscheideleistung"}]
[]
[null,null,null,null,null,null,null,null,{"$f":"Translations!$B$664","v":"Standard-wert oder letzter Wert"},{"$f":"Translations!$B$536","v":"Einheit"},{"$f":"Translations!$B$537","v":"Ref. Quelle"},{"$f":"Translations!$B$538","v":"Ref. Analyse"},{"$f":"Translations!$B$665","v":"Datum der letzten Analyse"},{"$f":"Translations!$B$540","v":"Analyse-häufigkeit"}]
[null,null,null,null,{"$f":"Translations!$B$668","v":"Abscheideleistung"},null,null,null,null,null,null,null,null,null,null,null,null,null,null,null,{"$f":"U346","v":""},0,{"$f":"IF($L$6=EUconst_NotRelevant,TRUE,IF(V352>0,(V352<>U352),IF(U352=\"\",TRUE,FALSE)))","v":true}]
[]
[null,null,null,{"$f":"Translations!$B$44","v":"Anmerkungen"}]
[null,null,null,"(t)",{"$f":"Translations!$B$546","v":"Anmerkungen:"}]
[]
[null,null,null,null,null,null,null,null,null,null,null,null,null,null,null,null,null,null,null,null,{"$f":"U352","v":""},0,{"$f":"IF($L$6=EUconst_NotRelevant,TRUE,IF(V357>0,(V357<>U357),IF(U357=\"\",TRUE,FALSE)))","v":true}]
[null,null,null,null,null,null,null,null,null,null,null,null,null,null,null,null,null,null,null,null,{"$f":"U357","v":""},0,{"$f":"IF($L$6=EUconst_NotRelevant,TRUE,IF(V358>0,(V358<>U358),IF(U358=\"\",TRUE,FALSE)))","v":true}]
[null,null,null,null,null,null,null,null,null,null,null,null,null,null,null,null,null,null,null,null,{"$f":"U358","v":""},0,{"$f":"IF($L$6=EUconst_NotRelevant,TRUE,IF(V359>0,(V359<>U359),IF(U359=\"\",TRUE,FALSE)))","v":true}]
[]
[null,null,null,"(u)",{"$f":"Translations!$B$548","v":"Begründung für Nichtanwendung der vorgeschriebenen Ebene:"}]
[]
[null,null,null,null,null,null,null,null,null,null,null,null,null,null,null,null,null,null,null,null,{"$f":"U359","v":""},0,{"$f":"IF($L$6=EUconst_NotRelevant,TRUE,IF(V363>0,(V363<>U363),IF(U363=\"\",TRUE,FALSE)))","v":true}]
[null,null,null,null,null,null,null,null,null,null,null,null,null,null,null,null,null,null,null,null,{"$f":"U363","v":""},0,{"$f":"IF($L$6=EUconst_NotRelevant,TRUE,IF(V364>0,(V364<>U364),IF(U364=\"\",TRUE,FALSE)))","v":true}]
[null,null,null,null,null,null,null,null,null,null,null,null,null,null,null,null,null,null,null,null,{"$f":"U364","v":""},0,{"$f":"IF($L$6=EUconst_NotRelevant,TRUE,IF(V365>0,(V365<>U365),IF(U365=\"\",TRUE,FALSE)))","v":true}]
[]
["ADD_CompleteAluSourceStream"]
[null,null,{"$f":"INDEX($D$50:$D$55,Q368)","v":""},{"$f":"CONCATENATE(Euconst_SourceStream,\" \", Q368,\":\")","v":"Stoffstrom 5:"},null,null,null,{"$f":"IF(INDEX($E$50:$E$55,Q368)=\"\",\"\",INDEX($E$50:$E$55,Q368))","v":""},null,null,null,null,{"$f":"IF(S368=TRUE,IF(U368=\"\",T368,U368),\"\")","v":""},null,null,null,{"$f":"Q296+1","v":5},null,{"$f":"IF(INDEX(C_InstallationDescription!$M:$M,MATCH(Q370,C_InstallationDescription!$Q:$Q,0))=\"\",FALSE,TRUE)","v":false},{"$f":"IF(S368=TRUE,INDEX(C_InstallationDescription!$M:$M,MATCH(Q370,C_InstallationDescription!$Q:$Q,0)),\"\")","v":""},{"$f":"IF(S368=TRUE,IF(ISBLANK(INDEX(C_InstallationDescription!$N:$N,MATCH(Q370,C_InstallationDescription!$Q:$Q,0))),\"\",INDEX(C_InstallationDescription!$N:$N,MATCH(Q370,C_InstallationDescription!$Q:$Q,0))),\"\")","v":""},{"$f":"IF(ISNUMBER(INDEX(CNTR_ListPFCmethods,Q368)),INDEX(CNTR_ListPFCmethods,Q368),\"\")","v":""}]
[]
[null,null,null,null,{"$f":"Translations!$B$437","v":"Stoffstromtyp:"},null,null,{"$f":"IF(INDEX($H$50:$H$55,Q368)=\"\",\"\",INDEX($H$50:$H$55,Q368))","v":""},null,null,null,null,null,null,null,null,{"$f":"EUconst_CNTR_SourceCategory&C368","v":"SourceCategory_"}]
[null,null,null,null,{"$f":"Translations!$B$438","v":"Anwendbares Verfahren gemäß MVO:"},null,null,{"$f":"IF(H370=\"\",\"\",INDEX(EUwideConstants!$F$265:$F$325,MATCH(H370,EUConst_TierActivityListNames,0)))","v":""}]
[null,null,null,null,{"$f":"Translations!$B$439","v":"Parameter, für die die Unsicherheit gilt:"},null,null,{"$f":"IF(H370=\"\",\"\",INDEX(EUwideConstants!$E$265:$E$325,MATCH(H370,EUConst_TierActivityListNames,0)))","v":""}]
[]
[null,null,null,{"$f":"Translations!$B$446","v":"Automatische Anleitung zu den anwendbaren Ebenen:"}]
[]
[null,null,null,null,{"$f":"IF(H368=\"\",\"\",INDEX(EUconst_SmallEmiSouStreamMsg,MATCH(Q376,EUconst_SmallEmiSouStream,0)))","v":""},null,null,null,null,null,null,null,null,null,null,null,{"$f":"IF(ISBLANK(CNTR_SmallEmitter),IF(CNTR_SmallEmitter=TRUE,EUconst_CNTR_SmallEmitter,EUconst_CNTR_NoSmallEmitter),EUconst_CNTR_NoSmallEmitter) & IF((CNTR_Category)=\"\",\"C\",CNTR_Category) & \"_\" & IF(M368=\"\",1,MATCH(M368,SourceCategory,0))","v":"NoSmallEmitter_C_1"}]
[]
[null,null,null,{"$f":"Translations!$B$652","v":"Tätigkeitsdaten"}]
[]
[null,null,null,{"$f":"Translations!$B$653","v":"Primäraluminiumproduktion:"},null,null,null,null,null,null,null,null,null,null,null,null,null,null,null,null,"Stream method","Relevant method","Make grey?"]
[null,null,null,"(b)",{"$f":"Translations!$B$477","v":"Vorgeschriebene Ebene Tätigkeitsdaten:"},null,null,{"$f":"IF(H370=\"\",\"\",IF(CNTR_Category=\"A\",INDEX(EUwideConstants!$G:$G,MATCH(Q381,EUwideConstants!$S:$S,0)),INDEX(EUwideConstants!$P:$P,MATCH(Q381,EUwideConstants!$S:$S,0))))","v":""},{"$f":"IF(H381=\"\",\"\",IF(S381=0,EUconst_NA,IF(ISERROR(S381),\"\",EUconst_MsgTierActivityLevel & \" \" &S381)))","v":""},null,null,null,null,null,null,null,{"$f":"EUconst_CNTR_ActivityData&H370","v":"ActivityData_"},null,{"$f":"IF(H381=\"\",\"\",IF(H381=EUconst_NA,\"\",INDEX(EUwideConstants!$H:$O,MATCH(Q381,EUwideConstants!$S:$S,0),MATCH(H381,CNTR_TierList,0))))","v":""},null,{"$f":"V368","v":""},0,{"$f":"IF($L$6=EUconst_NotRelevant,TRUE,IF(V381>0,(V381<>U381),IF(U381=\"\",TRUE,FALSE)))","v":true}]
[null,null,null,"(c)",{"$f":"Translations!$B$478","v":"Angewandte Ebene Tätigkeitsdaten:"},null,null,null,{"$f":"IF(OR(ISBLANK(H382),H382=EUconst_NoTier),\"\",IF(S382=0,EUconst_NA,IF(ISERROR(S382),\"\",EUconst_MsgTierActivityLevel & \" \" &S382)))","v":""},null,null,null,null,null,null,null,{"$f":"EUconst_CNTR_ActivityData&H370","v":"ActivityData_"},null,{"$f":"IF(ISBLANK(H382),\"\",IF(H382=EUconst_NA,\"\",INDEX(EUwideConstants!$H:$O,MATCH(Q382,EUwideConstants!$S:$S,0),MATCH(H382,CNTR_TierList,0))))","v":""},null,{"$f":"U381","v":""},0,{"$f":"IF($L$6=EUconst_NotRelevant,TRUE,IF(V382>0,(V382<>U382),IF(U382=\"\",TRUE,FALSE)))","v":true}]
[null,null,null,"(d)",{"$f":"Translations!$B$479","v":"Erreichte Unsicherheit:"},null,null,null,{"$f":"Translations!$B$480","v":"Anmerkung:"},null,null,null,null,null,null,null,null,null,null,null,{"$f":"U382","v":""},0,{"$f":"IF($L$6=EUconst_NotRelevant,TRUE,IF(V383>0,(V383<>U383),IF(U383=\"\",TRUE,FALSE)))","v":true}]
[]
[null,null,null,{"$f":"Translations!$B$654","v":"Methode A: Zahl der Anodeneffekte/Zelltag"}]
[null,null,null,"(e)",{"$f":"Translations!$B$477","v":"Vorgeschriebene Ebene Tätigkeitsdaten:"},null,null,{"$f":"IF(W386,\"\",H381)","v":""},{"$f":"IF(W386,\"\",I381)","v":""},null,null,null,null,null,null,null,null,null,null,null,{"$f":"U383","v":""},1,{"$f":"IF($L$6=EUconst_NotRelevant,TRUE,IF(V386>0,(V386<>U386),IF(U386=\"\",TRUE,FALSE)))","v":true}]
[null,null,null,"(f)",{"$f":"Translations!$B$478","v":"Angewandte Ebene Tätigkeitsdaten:"},null,null,null,{"$f":"IF(OR(ISBLANK(H387),H387=EUconst_NoTier),\"\",IF(S387=0,EUconst_NA,IF(ISERROR(S387),\"\",EUconst_MsgTierActivityLevel & \" \" &S387)))","v":""},null,null,null,null,null,null,null,{"$f":"EUconst_CNTR_ActivityData&H370","v":"ActivityData_"},null,{"$f":"IF(ISBLANK(H387),\"\",IF(H387=EUconst_NA,\"\",INDEX(EUwideConstants!$H:$O,MATCH(Q387,EUwideConstants!$S:$S,0),MATCH(H387,CNTR_TierList,0))))","v":""},null,{"$f":"U386","v":""},1,{"$f":"IF($L$6=EUconst_NotRelevant,TRUE,IF(V387>0,(V387<>U387),IF(U387=\"\",TRUE,FALSE)))","v":true}]
[null,null,null,"(g)",{"$f":"Translations!$B$479","v":"Erreichte Unsicherheit:"},null,null,null,{"$f":"Translations!$B$480","v":"Anmerkung:"},null,null,null,null,null,null,null,null,null,null,null,{"$f":"U387","v":""},1,{"$f":"IF($L$6=EUconst_NotRelevant,TRUE,IF(V388>0,(V388<>U388),IF(U388=\"\",TRUE,FALSE)))","v":true}]
[]
[null,null,null,{"$f":"Translations!$B$655","v":"Methode A: durchschnittliche Anodeneffekt-Minuten/Häufigkeit"}]
[null,null,null,"(h)",{"$f":"Translations!$B$477","v":"Vorgeschriebene Ebene Tätigkeitsdaten:"},null,null,{"$f":"IF(W391,\"\",H381)","v":""},{"$f":"IF(W391,\"\",I381)","v":""},null,null,null,null,null,null,null,null,null,null,null,{"$f":"U388","v":""},1,{"$f":"IF($L$6=EUconst_NotRelevant,TRUE,IF(V391>0,(V391<>U391),IF(U391=\"\",TRUE,FALSE)))","v":true}]
[null,null,null,"(i)",{"$f":"Translations!$B$478","v":"Angewandte Ebene Tätigkeitsdaten:"},null,null,null,{"$f":"IF(OR(ISBLANK(H392),H392=EUconst_NoTier),\"\",IF(S392=0,EUconst_NA,IF(ISERROR(S392),\"\",EUconst_MsgTierActivityLevel & \" \" &S392)))","v":""},null,null,null,null,null,null,null,{"$f":"EUconst_CNTR_ActivityData&H370","v":"ActivityData_"},null,{"$f":"IF(ISBLANK(H392),\"\",IF(H392=EUconst_NA,\"\",INDEX(EUwideConstants!$H:$O,MATCH(Q392,EUwideConstants!$S:$S,0),MATCH(H392,CNTR_TierList,0))))","v":""},null,{"$f":"U391","v":""},1,{"$f":"IF($L$6=EUconst_NotRelevant,TRUE,IF(V392>0,(V392<>U392),IF(U392=\"\",TRUE,FALSE)))","v":true}]
[null,null,null,"(j)",{"$f":"Translations!$B$479","v":"Erreichte Unsicherheit:"},null,null,null,{"$f":"Translations!$B$480","v":"Anmerkung:"},null,null,null,null,null,null,null,null,null,null,null,{"$f":"U392","v":""},1,{"$f":"IF($L$6=EUconst_NotRelevant,TRUE,IF(V393>0,(V393<>U393),IF(U393=\"\",TRUE,FALSE)))","v":true}]
[]
[null,null,null,{"$f":"Translations!$B$656","v":"Methode B: Anodeneffekt-Überspannung je Zelle"}]
[null,null,null,"(k)",{"$f":"Translations!$B$477","v":"Vorgeschriebene Ebene Tätigkeitsdaten:"},null,null,{"$f":"IF(W396,\"\",H381)","v":""},{"$f":"IF(W396,\"\",I381)","v":""},null,null,null,null,null,null,null,null,null,null,null,{"$f":"U393","v":""},2,{"$f":"IF($L$6=EUconst_NotRelevant,TRUE,IF(V396>0,(V396<>U396),IF(U396=\"\",TRUE,FALSE)))","v":true}]
[null,null,null,"(l)",{"$f":"Translations!$B$478","v":"Angewandte Ebene Tätigkeitsdaten:"},null,null,null,{"$f":"IF(OR(ISBLANK(H397),H397=EUconst_NoTier),\"\",IF(S397=0,EUconst_NA,IF(ISERROR(S397),\"\",EUconst_MsgTierActivityLevel & \" \" &S397)))","v":""},null,null,null,null,null,null,null,{"$f":"EUconst_CNTR_ActivityData&H370","v":"ActivityData_"},null,{"$f":"IF(ISBLANK(H397),\"\",IF(H397=EUconst_NA,\"\",INDEX(EUwideConstants!$H:$O,MATCH(Q397,EUwideConstants!$S:$S,0),MATCH(H397,CNTR_TierList,0))))","v":""},null,{"$f":"U396","v":""},2,{"$f":"IF($L$6=EUconst_NotRelevant,TRUE,IF(V397>0,(V397<>U397),IF(U397=\"\",TRUE,FALSE)))","v":true}]
[null,null,null,"(m)",{"$f":"Translations!$B$479","v":"Erreichte Unsicherheit:"},null,null,null,{"$f":"Translations!$B$480","v":"Anmerkung:"},null,null,null,null,null,null,null,null,null,null,null,{"$f":"U397","v":""},2,{"$f":"IF($L$6=EUconst_NotRelevant,TRUE,IF(V398>0,(V398<>U398),IF(U398=\"\",TRUE,FALSE)))","v":true}]
[]
[null,null,null,{"$f":"Translations!$B$657","v":"Methode B: mittlere Stromeffizienz"}]
[null,null,null,"(n)",{"$f":"Translations!$B$477","v":"Vorgeschriebene Ebene Tätigkeitsdaten:"},null,null,{"$f":"IF(W401,\"\",H381)","v":""},{"$f":"IF(W401,\"\",I381)","v":""},null,null,null,null,null,null,null,null,null,null,null,{"$f":"U398","v":""},2,{"$f":"IF($L$6=EUconst_NotRelevant,TRUE,IF(V401>0,(V401<>U401),IF(U401=\"\",TRUE,FALSE)))","v":true}]
[null,null,null,"(o)",{"$f":"Translations!$B$478","v":"Angewandte Ebene Tätigkeitsdaten:"},null,null,null,{"$f":"IF(OR(ISBLANK(H402),H402=EUconst_NoTier),\"\",IF(S402=0,EUconst_NA,IF(ISERROR(S402),\"\",EUconst_MsgTierActivityLevel & \" \" &S402)))","v":""},null,null,null,null,null,null,null,{"$f":"EUconst_CNTR_ActivityData&H370","v":"ActivityData_"},null,{"$f":"IF(ISBLANK(H402),\"\",IF(H402=EUconst_NA,\"\",INDEX(EUwideConstants!$H:$O,MATCH(Q402,EUwideConstants!$S:$S,0),MATCH(H402,CNTR_TierList,0))))","v":""},null,{"$f":"U401","v":""},2,{"$f":"IF($L$6=EUconst_NotRelevant,TRUE,IF(V402>0,(V402<>U402),IF(U402=\"\",TRUE,FALSE)))","v":true}]
[null,null,null,"(p)",{"$f":"Translations!$B$479","v":"Erreichte Unsicherheit:"},null,null,null,{"$f":"Translations!$B$480","v":"Anmerkung:"},null,null,null,null,null,null,null,null,null,null,null,{"$f":"U402","v":""},2,{"$f":"IF($L$6=EUconst_NotRelevant,TRUE,IF(V403>0,(V403<>U403),IF(U403=\"\",TRUE,FALSE)))","v":true}]
[]
[null,null,null,{"$f":"Translations!$B$658","v":"Berechnungsfaktoren"}]
[null,null,null,"(q)",{"$f":"Translations!$B$659","v":"Angewandte Ebenen"}]
[]
[null,null,null,null,{"$f":"Translations!$B$516","v":"Berechnungsfaktoren"},null,null,{"$f":"Translations!$B$517","v":"vorgeschrie-bene Ebene"},{"$f":"Translations!$B$518","v":"angewandte Ebene"},{"$f":"Translations!$B$519","v":"vollständiger Text für angewandte Ebene"},null,null,null,null,null,null,null,null,"full text tier"]
[null,null,null,"i.",{"$f":"Translations!$B$660","v":"S(CF4) Steigungs-Emissionsfaktor"},null,null,{"$f":"IF(H370=\"\",\"\",IF(W409=FALSE,IF(CNTR_Category=\"A\",INDEX(EUwideConstants!$G:$G,MATCH(Q409,EUwideConstants!$S:$S,0)),INDEX(EUwideConstants!$P:$P,MATCH(Q409,EUwideConstants!$S:$S,0))),\"\"))","v":""},null,{"$f":"IF(OR(ISBLANK(I409),I409=EUconst_NoTier),\"\",IF(S409=0,EUconst_NotApplicable,IF(ISERROR(S409),\"\",S409)))","v":""},null,null,null,null,null,null,{"$f":"EUconst_CNTR_EF&H370","v":"EF_"},null,{"$f":"IF(ISBLANK(I409),\"\",IF(I409=EUconst_NA,\"\",INDEX(EUwideConstants!$H:$O,MATCH(Q409,EUwideConstants!$S:$S,0),MATCH(I409,CNTR_TierList,0))))","v":""},null,{"$f":"U403","v":""},1,{"$f":"IF($L$6=EUconst_NotRelevant,TRUE,IF(V409>0,(V409<>U409),IF(U409=\"\",TRUE,FALSE)))","v":true}]
[null,null,null,"ii.",{"$f":"Translations!$B$661","v":"OVC Überspannungskoeffizient"},null,null,{"$f":"IF(H371=\"\",\"\",IF(W410=FALSE,IF(CNTR_Category=\"A\",INDEX(EUwideConstants!$G:$G,MATCH(Q410,EUwideConstants!$S:$S,0)),INDEX(EUwideConstants!$P:$P,MATCH(Q410,EUwideConstants!$S:$S,0))),\"\"))","v":""},null,{"$f":"IF(OR(ISBLANK(I410),I410=EUconst_NoTier),\"\",IF(S410=0,EUconst_NotApplicable,IF(ISERROR(S410),\"\",S410)))","v":""},null,null,null,null,null,null,{"$f":"EUconst_CNTR_EF&H370","v":"EF_"},null,{"$f":"IF(ISBLANK(I410),\"\",IF(I410=EUconst_NA,\"\",INDEX(EUwideConstants!$H:$O,MATCH(Q410,EUwideConstants!$S:$S,0),MATCH(I410,CNTR_TierList,0))))","v":""},null,{"$f":"U409","v":""},2,{"$f":"IF($L$6=EUconst_NotRelevant,TRUE,IF(V410>0,(V410<>U410),IF(U410=\"\",TRUE,FALSE)))","v":true}]
[null,null,null,"iii.",{"$f":"Translations!$B$662","v":"F(C2F6) Gewichtungsfaktor von C2F6"},null,null,{"$f":"IF(H372=\"\",\"\",IF(W411=FALSE,IF(CNTR_Category=\"A\",INDEX(EUwideConstants!$G:$G,MATCH(Q411,EUwideConstants!$S:$S,0)),INDEX(EUwideConstants!$P:$P,MATCH(Q411,EUwideConstants!$S:$S,0))),\"\"))","v":""},null,{"$f":"IF(OR(ISBLANK(I411),I411=EUconst_NoTier),\"\",IF(S411=0,EUconst_NotApplicable,IF(ISERROR(S411),\"\",S411)))","v":""},null,null,null,null,null,null,{"$f":"EUconst_CNTR_EF&H370","v":"EF_"},null,{"$f":"IF(ISBLANK(I411),\"\",IF(I411=EUconst_NA,\"\",INDEX(EUwideConstants!$H:$O,MATCH(Q411,EUwideConstants!$S:$S,0),MATCH(I411,CNTR_TierList,0))))","v":""},null,{"$f":"U410","v":""},0,{"$f":"IF($L$6=EUconst_NotRelevant,TRUE,IF(V411>0,(V411<>U411),IF(U411=\"\",TRUE,FALSE)))","v":true}]
[]
[null,null,null,"(r)",{"$f":"Translations!$B$663","v":"Einzelheiten zur Ebene"}]
[]
[null,null,null,null,{"$f":"Translations!$B$516","v":"Berechnungsfaktoren"},null,null,{"$f":"I408","v":"angewandte Ebene"},{"$f":"Translations!$B$664","v":"Standard-wert oder letzter Wert"},{"$f":"Translations!$B$536","v":"Einheit"},{"$f":"Translations!$B$537","v":"Ref. Quelle"},{"$f":"Translations!$B$538","v":"Ref. Analyse"},{"$f":"Translations!$B$665","v":"Datum der letzten Analyse"},{"$f":"Translations!$B$540","v":"Analyse-häufigkeit"},null,null,null,null,"default value or lab"]
[null,null,null,"i.",{"$f":"E409","v":"S(CF4) Steigungs-Emissionsfaktor"},null,null,{"$f":"IF(OR(ISBLANK(I409),I409=EUconst_NA),\"\",I409)","v":""},null,null,null,null,null,null,null,null,{"$f":"Q409","v":"EF_"},null,{"$f":"IF(H416=\"\",\"\",IF(I409=EUconst_NA,\"\",INDEX(EUwideConstants!$AL:$AP,MATCH(Q409,EUwideConstants!$S:$S,0),MATCH(I409,CNTR_TierList,0))))","v":""},null,{"$f":"U411","v":""},1,{"$f":"IF($L$6=EUconst_NotRelevant,TRUE,IF(V416>0,(V416<>U416),IF(U416=\"\",TRUE,FALSE)))","v":true}]
[null,null,null,"ii.",{"$f":"E410","v":"OVC Überspannungskoeffizient"},null,null,{"$f":"IF(OR(ISBLANK(I410),I410=EUconst_NA),\"\",I410)","v":""},null,null,null,null,null,null,null,null,{"$f":"Q410","v":"EF_"},null,{"$f":"IF(H417=\"\",\"\",IF(I410=EUconst_NA,\"\",INDEX(EUwideConstants!$AL:$AP,MATCH(Q410,EUwideConstants!$S:$S,0),MATCH(I410,CNTR_TierList,0))))","v":""},null,{"$f":"U416","v":""},2,{"$f":"IF($L$6=EUconst_NotRelevant,TRUE,IF(V417>0,(V417<>U417),IF(U417=\"\",TRUE,FALSE)))","v":true}]
[null,null,null,"iii.",{"$f":"E411","v":"F(C2F6) Gewichtungsfaktor von C2F6"},null,null,{"$f":"IF(OR(ISBLANK(I411),I411=EUconst_NA),\"\",I411)","v":""},null,null,null,null,null,null,null,null,{"$f":"Q411","v":"EF_"},null,{"$f":"IF(H418=\"\",\"\",IF(I411=EUconst_NA,\"\",INDEX(EUwideConstants!$AL:$AP,MATCH(Q411,EUwideConstants!$S:$S,0),MATCH(I411,CNTR_TierList,0))))","v":""},null,{"$f":"U417","v":""},0,{"$f":"IF($L$6=EUconst_NotRelevant,TRUE,IF(V418>0,(V418<>U418),IF(U418=\"\",TRUE,FALSE)))","v":true}]
[]
[null,null,null,{"$f":"Translations!$B$666","v":"Abscheideleistung für diffuse Emissionen"}]
[null,null,null,"(s)",{"$f":"Translations!$B$667","v":"Bestimmung der Abscheideleistung"}]
[]
[null,null,null,null,null,null,null,null,{"$f":"Translations!$B$664","v":"Standard-wert oder letzter Wert"},{"$f":"Translations!$B$536","v":"Einheit"},{"$f":"Translations!$B$537","v":"Ref. Quelle"},{"$f":"Translations!$B$538","v":"Ref. Analyse"},{"$f":"Translations!$B$665","v":"Datum der letzten Analyse"},{"$f":"Translations!$B$540","v":"Analyse-häufigkeit"}]
[null,null,null,null,{"$f":"Translations!$B$668","v":"Abscheideleistung"},null,null,null,null,null,null,null,null,null,null,null,null,null,null,null,{"$f":"U418","v":""},0,{"$f":"IF($L$6=EUconst_NotRelevant,TRUE,IF(V424>0,(V424<>U424),IF(U424=\"\",TRUE,FALSE)))","v":true}]
[]
[null,null,null,{"$f":"Translations!$B$44","v":"Anmerkungen"}]
[null,null,null,"(t)",{"$f":"Translations!$B$546","v":"Anmerkungen:"}]
[]
[null,null,null,null,null,null,null,null,null,null,null,null,null,null,null,null,null,null,null,null,{"$f":"U424","v":""},0,{"$f":"IF($L$6=EUconst_NotRelevant,TRUE,IF(V429>0,(V429<>U429),IF(U429=\"\",TRUE,FALSE)))","v":true}]
[null,null,null,null,null,null,null,null,null,null,null,null,null,null,null,null,null,null,null,null,{"$f":"U429","v":""},0,{"$f":"IF($L$6=EUconst_NotRelevant,TRUE,IF(V430>0,(V430<>U430),IF(U430=\"\",TRUE,FALSE)))","v":true}]
[null,null,null,null,null,null,null,null,null,null,null,null,null,null,null,null,null,null,null,null,{"$f":"U430","v":""},0,{"$f":"IF($L$6=EUconst_NotRelevant,TRUE,IF(V431>0,(V431<>U431),IF(U431=\"\",TRUE,FALSE)))","v":true}]
[]
[null,null,null,"(u)",{"$f":"Translations!$B$548","v":"Begründung für Nichtanwendung der vorgeschriebenen Ebene:"}]
[]
[null,null,null,null,null,null,null,null,null,null,null,null,null,null,null,null,null,null,null,null,{"$f":"U431","v":""},0,{"$f":"IF($L$6=EUconst_NotRelevant,TRUE,IF(V435>0,(V435<>U435),IF(U435=\"\",TRUE,FALSE)))","v":true}]
[null,null,null,null,null,null,null,null,null,null,null,null,null,null,null,null,null,null,null,null,{"$f":"U435","v":""},0,{"$f":"IF($L$6=EUconst_NotRelevant,TRUE,IF(V436>0,(V436<>U436),IF(U436=\"\",TRUE,FALSE)))","v":true}]
[null,null,null,null,null,null,null,null,null,null,null,null,null,null,null,null,null,null,null,null,{"$f":"U436","v":""},0,{"$f":"IF($L$6=EUconst_NotRelevant,TRUE,IF(V437>0,(V437<>U437),IF(U437=\"\",TRUE,FALSE)))","v":true}]
[]
["ADD_CompleteAluSourceStream"]
[]
[null,null,16,{"$f":"Translations!$B$31","v":"Management und schriftliche Verfahren für die Überwachung von PFC"}]
[]
[null,null,null,"(a)",{"$f":"Translations!$B$670","v":"Bei Anwendung eines Emissionsfaktors der Ebene 2 Angaben zum schriftlichen Verfahren mit einer Beschreibung des Zeitplans für Wiederholungsmessungen gemäß Anhang IV Abschnitt 8 MVO (Emissionsfaktoren und Abscheideleistung)."}]
[]
[null,null,null,null,{"$f":"Translations!$B$405","v":"Bezeichnung des Verfahrens"}]
[null,null,null,null,{"$f":"Translations!$B$407","v":"Referenz des Verfahrens"}]
[null,null,null,null,{"$f":"Translations!$B$409","v":"Referenz Diagramm (falls zutreffend)"}]
[null,null,null,null,{"$f":"Translations!$B$411","v":"Kurzbeschreibung des Verfahrens"}]
[]
[]
[null,null,null,null,{"$f":"Translations!$B$414","v":"Für das Verfahren und damit generierte Daten zuständige Stelle oder Abteilung"}]
[null,null,null,null,{"$f":"Translations!$B$416","v":"Aufbewahrungsort der Aufzeichnungen"}]
[null,null,null,null,{"$f":"Translations!$B$418","v":"Bezeichnung des eingesetzten IT-Systems (soweit anwendbar)"}]
[null,null,null,null,{"$f":"Translations!$B$420","v":"Liste der angewandten EN oder anderer Normen (soweit zutreffend)"}]
[]
[null,null,null,"(b)",{"$f":"Translations!$B$671","v":"Bei Anwendung eines Emissionsfaktors der Ebene 2 Angaben zum Protokoll mit einer Beschreibung des schriftlichen Verfahrens für die Bestimmung der anlagenspezifischen Emissionsfaktoren für CF4 und C2F6. "}]
[null,null,null,null,{"$f":"Translations!$B$672","v":"Hinweis: Aus der Beschreibung des Verfahrens sollte auch hervorgehen, dass die Messungen über einen hinreichend langen Zeitraum für eine Konvergenz der Messwerte, mindestens aber während 72 Stunden durchgeführt werden."}]
[]
[null,null,null,null,{"$f":"Translations!$B$405","v":"Bezeichnung des Verfahrens"}]
[null,null,null,null,{"$f":"Translations!$B$407","v":"Referenz des Verfahrens"}]
[null,null,null,null,{"$f":"Translations!$B$409","v":"Referenz Diagramm (falls zutreffend)"}]
[null,null,null,null,{"$f":"Translations!$B$411","v":"Kurzbeschreibung des Verfahrens"}]
[]
[]
[null,null,null,null,{"$f":"Translations!$B$414","v":"Für das Verfahren und damit generierte Daten zuständige Stelle oder Abteilung"}]
[null,null,null,null,{"$f":"Translations!$B$416","v":"Aufbewahrungsort der Aufzeichnungen"}]
[null,null,null,null,{"$f":"Translations!$B$418","v":"Bezeichnung des eingesetzten IT-Systems (soweit anwendbar)"}]
[null,null,null,null,{"$f":"Translations!$B$420","v":"Liste der angewandten EN oder anderer Normen (soweit zutreffend)"}]
[]
[null,null,null,"(c)",{"$f":"Translations!$B$673","v":"Gegebenenfalls Angaben zum schriftlichen Verfahren mit einer Beschreibung der Methodik für die Bestimmung der Abscheideleistung für diffuse Emissionen."}]
[]
[null,null,null,null,{"$f":"Translations!$B$405","v":"Bezeichnung des Verfahrens"}]
[null,null,null,null,{"$f":"Translations!$B$407","v":"Referenz des Verfahrens"}]
[null,null,null,null,{"$f":"Translations!$B$409","v":"Referenz Diagramm (falls zutreffend)"}]
[null,null,null,null,{"$f":"Translations!$B$411","v":"Kurzbeschreibung des Verfahrens"}]
[]
[]
[null,null,null,null,{"$f":"Translations!$B$414","v":"Für das Verfahren und damit generierte Daten zuständige Stelle oder Abteilung"}]
[null,null,null,null,{"$f":"Translations!$B$416","v":"Aufbewahrungsort der Aufzeichnungen"}]
[null,null,null,null,{"$f":"Translations!$B$418","v":"Bezeichnung des eingesetzten IT-Systems (soweit anwendbar)"}]
[null,null,null,null,{"$f":"Translations!$B$420","v":"Liste der angewandten EN oder anderer Normen (soweit zutreffend)"}]
["ausblenden"]
["ausblenden",null,null,null,{"$f":"Translations!$B$1150","v":"Weitere Verfahren des Betreibers"}]
["ausblenden"]
["ausblenden",null,null,null,{"$f":"Translations!$B$405","v":"Bezeichnung des Verfahrens"}]
["ausblenden",null,null,null,{"$f":"Translations!$B$407","v":"Referenz des Verfahrens"}]
["ausblenden",null,null,null,{"$f":"Translations!$B$409","v":"Referenz Diagramm (falls zutreffend)"}]
["ausblenden",null,null,null,{"$f":"Translations!$B$411","v":"Kurzbeschreibung des Verfahrens"}]
["ausblenden"]
["ausblenden"]
["ausblenden",null,null,null,{"$f":"Translations!$B$414","v":"Für das Verfahren und damit generierte Daten zuständige Stelle oder Abteilung"}]
["ausblenden",null,null,null,{"$f":"Translations!$B$416","v":"Aufbewahrungsort der Aufzeichnungen"}]
["ausblenden",null,null,null,{"$f":"Translations!$B$418","v":"Bezeichnung des eingesetzten IT-Systems (soweit anwendbar)"}]
["ausblenden",null,null,null,{"$f":"Translations!$B$420","v":"Liste der angewandten EN oder anderer Normen (soweit zutreffend)"}]
["ADD_Procedure"]
[null,null,null,null,null,null,{"$f":"Translations!$B$429","v":"Auf „+“ klicken, um weitere Verfahren einzufügen"}]
[]
[]
[]
[null,null,null,null,null,{"$f":"EUconst_MsgNextSheet","v":"<<< Hier klicken, um mit nächstem Blatt fortzufahren >>> "}]

{"sheet":"J_Transferred GHG","index":11,"n_rows":255,"n_cols":17,"rows_kept":255,"cut":false,"hidden":false,"merged":[[157,4,157,5],[139,4,139,13],[141,4,141,5],[142,4,142,5],[131,6,131,13],[133,6,133,13],[135,4,135,5],[135,6,135,13],[141,6,141,13],[142,6,142,13],[148,4,148,5],[134,4,134,5],[132,6,132,13],[134,6,134,13],[254,5,254,11],[7,10,7,13],[110,4,110,8],[115,4,115,5],[117,4,117,5],[111,4,111,13],[106,7,108,11],[97,12,97,13],[3,10,3,11],[3,12,3,13],[3,6,3,7],[159,6,159,13],[137,4,137,5],[137,6,137,13],[150,4,150,5],[150,6,150,13],[149,4,149,5],[143,6,143,13],[158,6,158,13],[156,6,156,13],[144,6,144,13],[155,6,155,13],[145,6,145,13],[147,6,147,13],[2,10,2,11],[3,8,3,9],[130,4,130,5],[120,6,120,13],[117,6,117,13],[72,6,72,13],[118,6,118,13],[1,10,1,11],[1,12,1,13],[2,12,2,13],[1,4,1,5],[2,6,2,7],[2,8,2,9],[1,6,1,7],[1,8,1,9],[5,2,5,10],[5,11,5,13],[2,4,2,5],[1,1,3,3],[3,4,3,5],[101,12,101,13],[123,6,123,13],[129,6,129,13],[129,4,129,5],[169,4,169,5],[160,6,160,13],[161,6,161,13],[201,6,201,13],[175,6,175,13],[171,6,171,13],[162,6,162,13],[168,4,168,5],[167,4,167,5],[178,4,178,13],[180,4,180,5],[180,6,180,13],[181,4,181,5],[181,6,181,13],[182,4,182,5],[182,6,182,13],[172,6,172,13],[173,6,173,13],[176,4,176,5],[162,4,162,5],[187,4,187,5],[187,6,187,13],[188,4,188,5],[188,6,188,13],[200,4,200,5],[192,3,192,13],[200,6,200,13],[198,4,198,13],[176,6,176,13],[174,4,174,5],[173,4,173,5],[175,4,175,5],[174,6,174,13],[189,4,189,5],[189,6,189,13],[183,4,183,5],[183,6,183,13],[184,6,184,13],[185,6,185,13],[186,4,186,5],[186,6,186,13],[209,4,209,5],[202,4,202,5],[206,6,206,13],[205,6,205,13],[209,6,209,13],[204,6,204,13],[203,4,203,5],[203,6,203,13],[208,6,208,13],[206,4,206,5],[202,6,202,13],[169,6,169,13],[170,4,170,5],[170,6,170,13],[160,4,160,5],[157,6,157,13],[167,6,167,13],[165,4,165,13],[163,6,163,13],[136,4,136,5],[136,6,136,13],[143,4,143,5],[156,4,156,5],[161,4,161,5],[163,4,163,5],[146,6,146,13],[147,4,147,5],[155,4,155,5],[168,6,168,13],[144,4,144,5],[148,6,148,13],[154,6,154,13],[149,6,149,13],[152,4,152,13],[154,4,154,5],[128,6,128,13],[131,4,131,5],[130,6,130,13],[110,9,110,13],[102,7,102,11],[104,7,104,11],[103,5,103,6],[103,12,103,13],[122,4,122,5],[122,6,122,13],[104,5,104,6],[118,4,118,5],[119,6,119,13],[102,12,102,13],[121,4,121,5],[121,6,121,13],[128,4,128,5],[123,4,123,5],[124,4,124,5],[124,6,124,13],[126,4,126,13],[101,5,101,6],[100,5,100,6],[99,7,99,11],[100,7,100,11],[99,5,99,6],[99,12,99,13],[102,5,102,6],[116,4,116,5],[101,7,101,11],[113,4,113,13],[100,12,100,13],[115,6,115,13],[116,6,116,13],[103,7,103,11],[104,12,104,13],[96,7,96,11],[98,7,98,11],[69,4,69,5],[93,7,93,11],[98,5,98,6],[96,12,96,13],[95,12,95,13],[84,4,84,13],[79,3,79,13],[94,5,94,6],[91,4,91,13],[95,5,95,6],[95,7,95,11],[76,6,76,13],[97,7,97,11],[96,5,96,6],[94,7,94,11],[75,4,75,5],[93,12,93,13],[88,4,88,13],[90,4,90,13],[87,10,87,13],[70,6,70,13],[73,4,73,5],[75,6,75,13],[85,4,85,13],[71,6,71,13],[68,6,68,13],[83,12,83,13],[76,4,76,5],[81,3,81,13],[26,4,26,13],[19,4,19,13],[53,10,53,11],[60,7,62,11],[65,4,65,13],[57,5,57,6],[57,7,57,8],[58,12,58,13],[58,10,58,11],[58,5,58,6],[57,10,57,11],[73,6,73,13],[58,7,58,8],[69,6,69,13],[70,4,70,5],[67,6,67,13],[53,12,53,13],[98,12,98,13],[97,5,97,6],[36,4,36,13],[40,4,40,13],[42,4,42,13],[45,5,45,13],[52,12,52,13],[39,4,39,13],[24,4,24,13],[94,12,94,13],[74,6,74,13],[53,5,53,6],[55,5,55,6],[55,12,55,13],[54,12,54,13],[53,7,53,8],[68,4,68,5],[87,4,87,9],[55,7,55,8],[52,7,52,8],[32,4,32,13],[33,4,33,13],[74,4,74,5],[57,12,57,13],[9,3,9,13],[11,3,11,13],[12,3,12,13],[13,3,13,13],[25,4,25,13],[15,4,15,13],[16,4,16,13],[17,4,17,13],[18,4,18,13],[21,4,21,13],[23,4,23,13],[22,4,22,13],[67,4,67,5],[56,10,56,11],[54,5,54,6],[54,7,54,8],[27,4,27,13],[31,4,31,13],[28,4,28,13],[56,12,56,13],[56,5,56,6],[56,7,56,8],[47,5,47,13],[48,5,48,13],[55,10,55,11],[29,4,29,13],[30,4,30,13],[44,5,44,13],[52,10,52,11],[34,4,34,13],[52,5,52,6],[37,4,37,13],[46,5,46,13],[35,4,35,13],[38,4,38,13],[54,10,54,11],[43,4,43,13],[50,4,50,13],[49,4,49,13],[216,4,216,5],[226,4,226,5],[194,3,194,13],[195,3,195,13],[196,3,196,13],[201,4,201,5],[213,6,213,13],[207,6,207,13],[208,4,208,5],[207,4,207,5],[226,6,226,13],[214,4,214,5],[214,6,214,13],[211,4,211,13],[213,4,213,5],[217,6,217,13],[218,6,218,13],[215,4,215,5],[216,6,216,13],[215,6,215,13],[219,4,219,5],[222,6,222,13],[220,4,220,5],[220,6,220,13],[242,6,242,13],[244,6,244,13],[219,6,219,13],[221,6,221,13],[221,4,221,5],[222,4,222,5],[228,6,228,13],[229,4,229,5],[229,6,229,13],[228,4,228,5],[232,4,232,5],[232,6,232,13],[230,6,230,13],[227,4,227,5],[227,6,227,13],[224,4,224,13],[231,6,231,13],[250,6,252,10],[246,4,246,5],[246,6,246,13],[247,4,247,5],[247,6,247,13],[241,6,241,13],[233,4,233,5],[235,4,235,5],[235,6,235,13],[233,6,233,13],[234,6,234,13],[248,4,248,5],[234,4,234,5],[245,4,245,5],[245,6,245,13],[237,4,237,13],[239,4,239,5],[239,6,239,13],[240,6,240,13],[240,4,240,5],[241,4,241,5],[248,6,248,13],[243,6,243,13],[242,4,242,5]]}
["ausblenden",null,null,null,null,null,null,null,null,null,null,null,null,null,null,"ausblenden","ausblenden"]
[null,{"$f":"Translations!$B$674","v":"J. Transferred CO2 & CCS"},null,null,{"$f":"Translations!$B$59","v":"Navigationsbereich:"},null,{"$f":"Translations!$B$60","v":"Inhaltsverzeichnis"},null,{"$f":"Translations!$B$61","v":"Vorheriges Blatt"},null,{"$f":"Translations!$B$62","v":"Nächstes Blatt"}]
[null,null,null,null,{"$f":"Translations!$B$63","v":"Blattanfang"}]
[null,null,null,null,{"$f":"Translations!$B$64","v":"Blattende"}]
[]
[null,null,{"$f":"Translations!$B$1204","v":"J. Bestimmung von weitergeleitetem oder inhärentem CO2 und weitergeleitetem N2O"},null,null,null,null,null,null,null,null,{"$f":"IF(AND(NOT(ISBLANK(CNTR_InstHasTransferredCO2)), CNTR_InstHasTransferredCO2=FALSE),EUconst_NotRelevant,EUconst_Relevant)","v":"Relevant"}]
[]
[null,null,null,null,null,null,null,null,null,null,{"$f":"IF(L6=EUconst_NotRelevant,HYPERLINK(\"#JUMP_J2_Top\",EUconst_MsgNextSheet),HYPERLINK(\"\",EUconst_MsgEnterThisSection))","v":"Bitte machen Sie Angaben in diesem Abschnitt"}]
[]
[null,null,17,{"$f":"Translations!$B$1205","v":"Bestimmung von inhärentem und weitergeleitetem CO2 und N2O"}]
[]
[null,null,null,{"$f":"Translations!$B$1206","v":"Hinweis: Dieser Abschnitt ist auszufüllen, wenn inhärentes CO2 als Teil eines Stoffstroms gemäß Artikel 48 MVO oder CO2 oder N2O gemäß den Artikeln 49 bzw. 50 MVO weitergeleitet wird."}]
[null,null,null,{"$f":"Translations!$B$1357","v":"Außerdem ist dieses Arbeitsblatt für Angaben relevant, die im Falle von unter Anhang III Emissionszertifikategesetz 2011 fallenden Tätigkeiten im Bereich der CO2-Abscheidung, des Transports oder der geologischen Speicherung von CO2 bereitzustellen sind."}]
[null,null,null,{"$f":"Translations!$B$1358","v":"Je nach gewählter Überwachungsmethodik sind Angaben zu Stoffströmen in Blatt \"E_SourceStreams\" und Angaben zu den Messstellen und Messgeräten in Blatt \"F_MeasurementBasedApproaches\" zu machen."}]
[]
[null,null,null,"(a)",{"$f":"Translations!$B$1207","v":"Ausführliche Beschreibung der Überwachungsmethodik, mit der inhärentes oder weitergeleitetes CO2 oder N2O bestimmt wird "}]
[null,null,null,null,{"$f":"Translations!$B$1208","v":"Bitte beschreiben Sie in der Textbox kurz und knapp die Überwachungsmethodik, einschließlich Formeln, nach der Sie Ihre jährlichen CO2-, N2O- oder CO2(Äq)-Emissionen bestimmen."}]
[null,null,null,null,{"$f":"Translations!$B$1209","v":"Dies sollte insbesondere die Mengen CO2 und N2O einschließen, die wegen der Annahme von weitergeleitetem CO2 oder N2O hinzuzurechnen bzw. wegen der Weiterleitung von CO2(Äq) aus der Anlage abzuziehen sind. Bitte achten Sie darauf, dass die Berechnung mit den Artikeln 48, 49 und 50 MVO vereinbar ist."}]
[null,null,null,null,{"$f":"Translations!$B$680","v":"Ist die Beschreibung zu komplex (z. B. komplexe Formeln oder einfachere Beschreibung durch Diagramm), können Sie die Beschreibung in einer gesonderten Unterlage in einem von der zuständigen Behörde akzeptierten Format vorlegen. In diesem Fall geben Sie hier bitte die Referenz der Datei an (Dateiname und Datum)."}]
[null,null,null,null,{"$f":"Translations!$B$195","v":"Diese Beschreibung sollte den Zusammenhang herstellen, der erforderlich ist, um zu verstehen, wie zur Berechnung der Emissionen auch auf Angaben in anderen Teilen dieser Vorlage zurückgegriffen wird. Sie kann so kurz sein wie das Beispiel in Abschnitt 7 Buchstabe a des Arbeitsblatts D_CalculationBasedApproaches."}]
[]
[]
[]
[]
[]
[]
[]
[]
[]
[]
[]
[]
[]
[]
[]
[]
[]
[]
[]
[]
[]
[]
[null,null,null,"(b)",{"$f":"Translations!$B$681","v":"Angaben zu den annehmenden und den weiterleitenden Anlagen"}]
[null,null,null,null,{"$f":"Translations!$B$1210","v":"Bitte machen Sie hier zu jeder Anlage (oder anderen Einrichtung), von der Sie inhärentes oder weitergeleitetes CO2(Äq) annehmen oder an die Sie solches weiterleiten, folgende Angaben:"}]
[null,null,null,null,{"$f":"Translations!$B$683","v":"Name der Anlage"},{"$f":"Translations!$B$1211","v":"Geben Sie hier den Namen der Anlage oder Nicht-EHS-Einrichtung an, von der oder an die CO2(Äq) weitergeleitet wird. Verwenden Sie, soweit möglich, denselben Namen, den die zuständige Behörde und das Register verwenden."}]
[null,null,null,null,{"$f":"Translations!$B$156","v":"Name des Inhabers"},{"$f":"Translations!$B$685","v":"Name des Inhabers der Anlage oder Nicht-EHS-Einrichtung."}]
[null,null,null,null,{"$f":"Translations!$B$686","v":"Kennung der Anlage"},{"$f":"Translations!$B$687","v":"Bei EU-EHS-Anlagen geben Sie bitte die vom Registriersystem verwendete Kennnummer der Anlage an. Im Zweifelsfall fragen Sie die zuständige Behörde nach dem korrekten Format der Kennnummer."}]
[null,null,null,null,{"$f":"Translations!$B$688","v":"Art der Weiterleitung"},{"$f":"Translations!$B$1212","v":"Wählen Sie aus der Drop-down-Liste aus, ob es sich um eine Weiterleitung von einer Anlage oder Nicht-EHS-Einrichtung oder an eine solche handelt und ob es um inhärentes CO2 (Artikel 48) oder weitergeleitetes CO2 (Artikel 49) oder N2O (Artikel 50) nach der Definition der MVO geht."}]
[null,null,null,null,{"$f":"Translations!$B$690","v":"Messansatz"},{"$f":"Translations!$B$691","v":"Gemäß Artikel 48 Absatz 3 können Sie die Menge des weitergeleiteten oder inhärenten CO2 mit ihren eigenen Geräten bestimmen oder den Messwert der anderen Anlage heranziehen, oder Sie können beide verwenden und das Ergebnis als Mittel der beiden Messwerte bestimmen. Bitte wählen Sie hier Ihr Vorgehen aus."}]
[]
[null,null,null,null,{"$f":"Translations!$B$692","v":"Hinweis: Einzelheiten zum System der kontinuierlichen Messung, den Messstellen und den Messgeräten sind im Arbeitsblatt F_MeasurementBasedApproaches anzugeben. "}]
[]
[null,null,null,null,{"$f":"Translations!$B$693","v":"Ref. Weiter-leitung"},{"$f":"Translations!$B$694","v":"Name der Anlage"},null,{"$f":"Translations!$B$156","v":"Name des Inhabers"},null,{"$f":"Translations!$B$695","v":"Kennung der Anlage"},{"$f":"Translations!$B$688","v":"Art der Weiterleitung"},null,{"$f":"Translations!$B$690","v":"Messansatz"}]
[null,null,null,null,"TR1"]
[null,null,null,null,"TR2"]
[null,null,null,null,"TR3"]
[null,null,null,null,"TR4"]
[null,null,null,null,"TR5"]
["ausblenden"]
["ADD_TransferCO2Installations"]
[null,null,null,null,null,null,null,{"$f":"Translations!$B$696","v":"Auf „+“ klicken, um weitere Anlagen einzufügen"}]
[]
[]
[]
[]
[null,null,null,"(c)",{"$f":"Translations!$B$1359","v":"Stammt ein Teil des weitergeleiteten CO2 aus Kohlenstoff mit einem Emissionsfaktor von Null (z.B. aus Biomasse) oder fällt eine Anlage nur zum Teil unter die EU-EHS-Richtlinie Angaben zum schriftlichen Verfahren für die Subtraktion der Menge weitergeleitetes CO2, das nicht aus auf fossilem Kohlenstoff basierenden, unter das Emissionszertifikategesetz 2011 fallenden Tätigkeiten stammt."}]
[]
[null,null,null,null,{"$f":"Translations!$B$405","v":"Bezeichnung des Verfahrens"}]
[null,null,null,null,{"$f":"Translations!$B$407","v":"Referenz des Verfahrens"}]
[null,null,null,null,{"$f":"Translations!$B$409","v":"Referenz Diagramm (falls zutreffend)"}]
[null,null,null,null,{"$f":"Translations!$B$411","v":"Kurzbeschreibung des Verfahrens"}]
[]
[]
[null,null,null,null,{"$f":"Translations!$B$414","v":"Für das Verfahren und damit generierte Daten zuständige Stelle oder Abteilung"}]
[null,null,null,null,{"$f":"Translations!$B$416","v":"Aufbewahrungsort der Aufzeichnungen"}]
[null,null,null,null,{"$f":"Translations!$B$418","v":"Bezeichnung des eingesetzten IT-Systems (soweit anwendbar)"}]
[null,null,null,null,{"$f":"Translations!$B$420","v":"Liste der angewandten EN oder anderer Normen (soweit zutreffend)"}]
[]
[]
[null,null,18,{"$f":"Translations!$B$1360","v":"Sachdienliche Angaben zu der für die Beförderung von CO2 und N2O genutzte Transportinfrastruktur"}]
[]
[null,null,null,{"$f":"Translations!$B$1361","v":"Die CO2-Transportinfrastruktur umfasst alle Arten des CO2-Transports (Pipelines, Schiffe, Lastwagen, Züge usw.) zum Zweck der geologischen Speicherung. Bitte beschreiben Sie daher in Abschnitt C.5.a ausführlich die Organisationsstruktur, die Anzahl und Art der beteiligten Fahrzeuge, die Systemgrenzen, einschließlich aller funktional mit der Transportinfrastruktur verbundenen Nebenanlagen wie CO2-Zwischenspeicher, Booster, Verflüssigung, Vergasung, Reinigungsstationen oder Erhitzer usw."}]
[]
[null,null,null,"(a)",{"$f":"Translations!$B$1362","v":"Angabe der für ihre Transportinfrastruktur gewählte Überwachungsmethodik:"},null,null,null,null,null,null,null,null,null,null,{"$f":"IF(ISBLANK(M84),\"\",MATCH(M84,EUconst_PipelineApproaches,0))","v":""},"CNTR_TransportApproach"]
[null,null,null,null,{"$f":"Translations!$B$1363","v":"Gemäß Anhang IV Abschnitt 22 Teil B MVO haben Sie die Wahl zwischen zwei Methoden. Methode A sieht eine auf Messungen basierende Massenbilanz des insgesamt emittierten CO2 und N2O, das in die Transportinfrastruktur eingegangen ist bzw. diese verlassen hat, vor; Methode B beruht auf der Bestimmung abgelassener und diffuser Emissionen sowie auf Emissionen aus Leckagen und anlagenbasierten Emissionen."}]
[null,null,null,null,{"$f":"Translations!$B$1364","v":"Methode B wird bevorzugt, es sei denn, Sie können nachweisen, dass Methode A zu zuverlässigeren Ergebnissen mit geringerer Unsicherheit führt, ohne unverhältnismäßige hohe Kosten zu verursachen."}]
[]
[null,null,null,"(b)",{"$f":"Translations!$B$700","v":"Verweisen Sie gegebenenfalls auf die Unsicherheitsanalyse:"}]
[null,null,null,null,{"$f":"Translations!$B$1365","v":"Haben Sie Methode B gewählt, müssen Sie nachweisen, dass eine Gesamtunsicherheit von höchstens 7,5 % für die Emissionen der gesamten Transportinfrastruktur eingehalten wird. Wenn Sie sich für Methode A entschieden haben, müssen Sie die unter a) genannten Gründe nachweisen. Bitte geben Sie hier gegebenenfalls die Referenz der beiliegenden Unterlage an."}]
[]
[null,null,null,"(c)",{"$f":"Translations!$B$1366","v":"Gegebenenfalls Beschreibung der für die Messung von Temperatur und Druck in der Transportinfrastruktur verwendeten Einrichtungen."}]
[null,null,null,null,{"$f":"Translations!$B$1367","v":"Bitte führen Sie alle Einrichtungen auf, mit denen bei der Bestimmung von Emissionen aus Leckagen gemäß Anhang IV Abschnitt 22 der MVO Temperatur und Druck in ihrer Transportinfrastruktur gemessen werden."}]
[]
[null,null,null,null,{"$f":"Translations!$B$704","v":"Referenz"},{"$f":"Translations!$B$705","v":"Ort"},null,{"$f":"Translations!$B$706","v":" Messgerättyp"},null,null,null,null,{"$f":"Translations!$B$707","v":"Verweis auf das Gerät"}]
[null,null,null,null,"ND1"]
[null,null,null,null,"ND2"]
[null,null,null,null,"ND3"]
[null,null,null,null,"ND4"]
[null,null,null,null,"ND5"]
[null,null,null,null,"ND6"]
[null,null,null,null,"ND7"]
[null,null,null,null,"ND8"]
[null,null,null,null,"ND9"]
[null,null,null,null,"ND10"]
["ausblenden"]
["ADD_PipelineDevice"]
[null,null,null,null,null,null,null,{"$f":"Translations!$B$708","v":"Auf „+“ klicken, um weitere Messgeräte einzufügen"}]
[]
[]
[]
[null,null,null,"(d)",{"$f":"Translations!$B$709","v":"Gegebenenfalls Referenz einer ausführlicheren Beschreibung:"}]
[null,null,null,null,{"$f":"Translations!$B$710","v":"Erforderlichenfalls können Sie die Liste unter Buchstabe c und eine ausführlichere Beschreibung in einer gesonderten Unterlage in einem von der zuständigen Behörde akzeptierten Format vorlegen. In diesem Fall geben Sie hier bitte die Referenz der Datei an (Dateiname und Datum)."}]
[]
[null,null,null,"(e)",{"$f":"Translations!$B$1368","v":"Gegebenenfalls Angaben zum schriftlichen Verfahren für die Verhinderung, Ermittlung und Quantifizierung von Leckagen aus der Transportinfrastruktur."}]
[]
[null,null,null,null,{"$f":"Translations!$B$405","v":"Bezeichnung des Verfahrens"}]
[null,null,null,null,{"$f":"Translations!$B$407","v":"Referenz des Verfahrens"}]
[null,null,null,null,{"$f":"Translations!$B$409","v":"Referenz Diagramm (falls zutreffend)"}]
[null,null,null,null,{"$f":"Translations!$B$411","v":"Kurzbeschreibung des Verfahrens"}]
[]
[]
[null,null,null,null,{"$f":"Translations!$B$414","v":"Für das Verfahren und damit generierte Daten zuständige Stelle oder Abteilung"}]
[null,null,null,null,{"$f":"Translations!$B$416","v":"Aufbewahrungsort der Aufzeichnungen"}]
[null,null,null,null,{"$f":"Translations!$B$418","v":"Bezeichnung des eingesetzten IT-Systems (soweit anwendbar)"}]
[null,null,null,null,{"$f":"Translations!$B$420","v":"Liste der angewandten EN oder anderer Normen (soweit zutreffend)"}]
[]
[null,null,null,"(f)",{"$f":"Translations!$B$1369","v":"Für die Transportinfrastruktur: Angaben zu dem schriftlichen Verfahren, das gewährleistet, dass CO2(Äq) lediglich an Anlagen weitergeleitet wird, die über eine gültige Genehmigung zur Emission von Treibhausgasen verfügen oder in denen das gesamte emittierte CO2 oder N2O gemäß Artikel 49 und 50 wirksam überwacht und verbucht wird."}]
[]
[null,null,null,null,{"$f":"Translations!$B$405","v":"Bezeichnung des Verfahrens"}]
[null,null,null,null,{"$f":"Translations!$B$407","v":"Referenz des Verfahrens"}]
[null,null,null,null,{"$f":"Translations!$B$409","v":"Referenz Diagramm (falls zutreffend)"}]
[null,null,null,null,{"$f":"Translations!$B$411","v":"Kurzbeschreibung des Verfahrens"}]
[]
[]
[null,null,null,null,{"$f":"Translations!$B$414","v":"Für das Verfahren und damit generierte Daten zuständige Stelle oder Abteilung"}]
[null,null,null,null,{"$f":"Translations!$B$416","v":"Aufbewahrungsort der Aufzeichnungen"}]
[null,null,null,null,{"$f":"Translations!$B$418","v":"Bezeichnung des eingesetzten IT-Systems (soweit anwendbar)"}]
[null,null,null,null,{"$f":"Translations!$B$420","v":"Liste der angewandten EN oder anderer Normen (soweit zutreffend)"}]
[]
[null,null,null,"(g)",{"$f":"Translations!$B$1370","v":"Wird Methode B auf die Transportinfrastruktur angewandt, beschreiben Sie bitte das Verfahren, nach dem die Ergebnisse der Methode B mindestens jährlich anhand der Methode A validiert werden."},null,null,null,null,null,null,null,null,null,null,null,"make grey?"]
[]
[null,null,null,null,{"$f":"Translations!$B$405","v":"Bezeichnung des Verfahrens"},null,null,null,null,null,null,null,null,null,null,null,{"$f":"CNTR_TransportApproach=1","v":false}]
[null,null,null,null,{"$f":"Translations!$B$407","v":"Referenz des Verfahrens"},null,null,null,null,null,null,null,null,null,null,null,{"$f":"Q142","v":false}]
[null,null,null,null,{"$f":"Translations!$B$409","v":"Referenz Diagramm (falls zutreffend)"},null,null,null,null,null,null,null,null,null,null,null,{"$f":"Q143","v":false}]
[null,null,null,null,{"$f":"Translations!$B$411","v":"Kurzbeschreibung des Verfahrens"},null,null,null,null,null,null,null,null,null,null,null,false]
[null,null,null,null,null,null,null,null,null,null,null,null,null,null,null,null,false]
[null,null,null,null,null,null,null,null,null,null,null,null,null,null,null,null,false]
[null,null,null,null,{"$f":"Translations!$B$414","v":"Für das Verfahren und damit generierte Daten zuständige Stelle oder Abteilung"},null,null,null,null,null,null,null,null,null,null,null,false]
[null,null,null,null,{"$f":"Translations!$B$416","v":"Aufbewahrungsort der Aufzeichnungen"},null,null,null,null,null,null,null,null,null,null,null,false]
[null,null,null,null,{"$f":"Translations!$B$418","v":"Bezeichnung des eingesetzten IT-Systems (soweit anwendbar)"},null,null,null,null,null,null,null,null,null,null,null,false]
[null,null,null,null,{"$f":"Translations!$B$420","v":"Liste der angewandten EN oder anderer Normen (soweit zutreffend)"},null,null,null,null,null,null,null,null,null,null,null,false]
[]
[null,null,null,"(h)",{"$f":"Translations!$B$714","v":"Wird Methode B angewandt, beschreiben Sie bitte das Verfahren, nach dem diffuse Emissionen bestimmt werden."}]
[]
[null,null,null,null,{"$f":"Translations!$B$405","v":"Bezeichnung des Verfahrens"},null,null,null,null,null,null,null,null,null,null,null,{"$f":"Q142","v":false}]
[null,null,null,null,{"$f":"Translations!$B$407","v":"Referenz des Verfahrens"},null,null,null,null,null,null,null,null,null,null,null,{"$f":"Q155","v":false}]
[null,null,null,null,{"$f":"Translations!$B$409","v":"Referenz Diagramm (falls zutreffend)"},null,null,null,null,null,null,null,null,null,null,null,{"$f":"Q156","v":false}]
[null,null,null,null,{"$f":"Translations!$B$411","v":"Kurzbeschreibung des Verfahrens"},null,null,null,null,null,null,null,null,null,null,null,false]
[null,null,null,null,null,null,null,null,null,null,null,null,null,null,null,null,false]
[null,null,null,null,null,null,null,null,null,null,null,null,null,null,null,null,false]
[null,null,null,null,{"$f":"Translations!$B$414","v":"Für das Verfahren und damit generierte Daten zuständige Stelle oder Abteilung"},null,null,null,null,null,null,null,null,null,null,null,false]
[null,null,null,null,{"$f":"Translations!$B$416","v":"Aufbewahrungsort der Aufzeichnungen"},null,null,null,null,null,null,null,null,null,null,null,false]
[null,null,null,null,{"$f":"Translations!$B$418","v":"Bezeichnung des eingesetzten IT-Systems (soweit anwendbar)"},null,null,null,null,null,null,null,null,null,null,null,false]
[null,null,null,null,{"$f":"Translations!$B$420","v":"Liste der angewandten EN oder anderer Normen (soweit zutreffend)"},null,null,null,null,null,null,null,null,null,null,null,false]
[]
[null,null,null,"(i)",{"$f":"Translations!$B$715","v":"Wird Methode B angewandt, beschreiben Sie bitte das Verfahren, nach dem abgelassene Emissionen bestimmt werden."}]
[]
[null,null,null,null,{"$f":"Translations!$B$405","v":"Bezeichnung des Verfahrens"},null,null,null,null,null,null,null,null,null,null,null,{"$f":"Q155","v":false}]
[null,null,null,null,{"$f":"Translations!$B$407","v":"Referenz des Verfahrens"},null,null,null,null,null,null,null,null,null,null,null,{"$f":"Q168","v":false}]
[null,null,null,null,{"$f":"Translations!$B$409","v":"Referenz Diagramm (falls zutreffend)"},null,null,null,null,null,null,null,null,null,null,null,{"$f":"Q169","v":false}]
[null,null,null,null,{"$f":"Translations!$B$411","v":"Kurzbeschreibung des Verfahrens"},null,null,null,null,null,null,null,null,null,null,null,false]
[null,null,null,null,null,null,null,null,null,null,null,null,null,null,null,null,false]
[null,null,null,null,null,null,null,null,null,null,null,null,null,null,null,null,false]
[null,null,null,null,{"$f":"Translations!$B$414","v":"Für das Verfahren und damit generierte Daten zuständige Stelle oder Abteilung"},null,null,null,null,null,null,null,null,null,null,null,false]
[null,null,null,null,{"$f":"Translations!$B$416","v":"Aufbewahrungsort der Aufzeichnungen"},null,null,null,null,null,null,null,null,null,null,null,false]
[null,null,null,null,{"$f":"Translations!$B$418","v":"Bezeichnung des eingesetzten IT-Systems (soweit anwendbar)"},null,null,null,null,null,null,null,null,null,null,null,false]
[null,null,null,null,{"$f":"Translations!$B$420","v":"Liste der angewandten EN oder anderer Normen (soweit zutreffend)"},null,null,null,null,null,null,null,null,null,null,null,false]
[]
[null,null,null,"(j)",{"$f":"Translations!$B$1371","v":"Wird Methode A auf die Transportinfrastruktur angewandt, beschreiben Sie bitte das Verfahren, das für die Erstellung des jährlichen Verzeichnisses der CO2-Einträge und -Entnahme in und aus der CO2-Transportinfrastruktur sowie für die Überwachung des CO2 in Transit gemäß Artikel 49 Absatz 6 angewandt wird."}]
[]
[null,null,null,null,{"$f":"Translations!$B$405","v":"Bezeichnung des Verfahrens"},null,null,null,null,null,null,null,null,null,null,null,{"$f":"CNTR_TransportApproach=2","v":false}]
[null,null,null,null,{"$f":"Translations!$B$407","v":"Referenz des Verfahrens"},null,null,null,null,null,null,null,null,null,null,null,{"$f":"Q181","v":false}]
[null,null,null,null,{"$f":"Translations!$B$409","v":"Referenz Diagramm (falls zutreffend)"},null,null,null,null,null,null,null,null,null,null,null,{"$f":"Q182","v":false}]
[null,null,null,null,{"$f":"Translations!$B$411","v":"Kurzbeschreibung des Verfahrens"},null,null,null,null,null,null,null,null,null,null,null,false]
[null,null,null,null,null,null,null,null,null,null,null,null,null,null,null,null,false]
[null,null,null,null,null,null,null,null,null,null,null,null,null,null,null,null,false]
[null,null,null,null,{"$f":"Translations!$B$414","v":"Für das Verfahren und damit generierte Daten zuständige Stelle oder Abteilung"},null,null,null,null,null,null,null,null,null,null,null,false]
[null,null,null,null,{"$f":"Translations!$B$416","v":"Aufbewahrungsort der Aufzeichnungen"},null,null,null,null,null,null,null,null,null,null,null,false]
[null,null,null,null,{"$f":"Translations!$B$418","v":"Bezeichnung des eingesetzten IT-Systems (soweit anwendbar)"},null,null,null,null,null,null,null,null,null,null,null,false]
[null,null,null,null,{"$f":"Translations!$B$420","v":"Liste der angewandten EN oder anderer Normen (soweit zutreffend)"},null,null,null,null,null,null,null,null,null,null,null,false]
[]
[]
[null,null,19,{"$f":"Translations!$B$35","v":"Sachdienliche Angaben zu Anlagen für die geologische Speicherung von CO2 "}]
[]
[null,null,null,{"$f":"Translations!$B$716","v":"Hinweis: Im Falle der geologischen Speicherung von CO2 brauchen sowohl die Emissionen aus der Speicherstätte als auch die Abgabe von CO2 in die Wassersäule nur dann überwacht zu werden, wenn eine Leckage entdeckt wurde. Wurde keine Leckage entdeckt, braucht das Monitoringkonzept keine besonderen Überwachungsvorschriften zu enthalten. "}]
[null,null,null,{"$f":"Translations!$B$717","v":"Deswegen ist es äußerst wichtig, dass ein Verfahren für Sofortmaßnahmen bei Entdecken einer Leckage besteht. In diesem Fall muss das Monitoringkonzept unverzüglich aktualisiert werden."}]
[null,null,null,{"$f":"Translations!$B$718","v":"Angabe des Verfahrens für die regelmäßige Bewertung der Angemessenheit des Monitoringkonzepts. Machen Sie diese Angabe bitte in Abschnitt 19 Buchstabe c des Arbeitsblatts K_ManagementControl."}]
[]
[null,null,null,"(a)",{"$f":"Translations!$B$719","v":"Gegebenenfalls Angaben zum schriftlichen Verfahren einschließlich der Beschreibung der Methodiken für die Quantifizierung von Emissionen oder von Abgaben von CO2 in die Wassersäule aus potenziellen Leckagen sowie der angewandten und möglicherweise angepassten Methodiken für die Quantifizierung der tatsächlichen Emissionen oder Abgaben von CO2 in die Wassersäule aus Leckagen gemäß Anhang IV Abschnitt 23."}]
[]
[null,null,null,null,{"$f":"Translations!$B$405","v":"Bezeichnung des Verfahrens"}]
[null,null,null,null,{"$f":"Translations!$B$407","v":"Referenz des Verfahrens"}]
[null,null,null,null,{"$f":"Translations!$B$409","v":"Referenz Diagramm (falls zutreffend)"}]
[null,null,null,null,{"$f":"Translations!$B$411","v":"Kurzbeschreibung des Verfahrens"}]
[]
[]
[null,null,null,null,{"$f":"Translations!$B$414","v":"Für das Verfahren und damit generierte Daten zuständige Stelle oder Abteilung"}]
[null,null,null,null,{"$f":"Translations!$B$416","v":"Aufbewahrungsort der Aufzeichnungen"}]
[null,null,null,null,{"$f":"Translations!$B$418","v":"Bezeichnung des eingesetzten IT-Systems (soweit anwendbar)"}]
[null,null,null,null,{"$f":"Translations!$B$420","v":"Liste der angewandten EN oder anderer Normen (soweit zutreffend)"}]
[]
[null,null,null,"(b)",{"$f":"Translations!$B$720","v":"Bitte beschreiben Sie die Methodik und das Verfahren, mit der/dem diffuse oder abgelassene Emissionen, einschließlich aus Stätten der tertiären Kohlenwasserstoffförderung, bestimmt werden. Werden keine auf Messung beruhenden Methodiken gemäß den Artikeln 41 bis 46 angewandt, so ist eine Begründung wegen unverhältnismäßiger Kosten beizulegen."}]
[]
[null,null,null,null,{"$f":"Translations!$B$405","v":"Bezeichnung des Verfahrens"}]
[null,null,null,null,{"$f":"Translations!$B$407","v":"Referenz des Verfahrens"}]
[null,null,null,null,{"$f":"Translations!$B$409","v":"Referenz Diagramm (falls zutreffend)"}]
[null,null,null,null,{"$f":"Translations!$B$411","v":"Kurzbeschreibung des Verfahrens"}]
[]
[]
[null,null,null,null,{"$f":"Translations!$B$414","v":"Für das Verfahren und damit generierte Daten zuständige Stelle oder Abteilung"}]
[null,null,null,null,{"$f":"Translations!$B$416","v":"Aufbewahrungsort der Aufzeichnungen"}]
[null,null,null,null,{"$f":"Translations!$B$418","v":"Bezeichnung des eingesetzten IT-Systems (soweit anwendbar)"}]
[null,null,null,null,{"$f":"Translations!$B$420","v":"Liste der angewandten EN oder anderer Normen (soweit zutreffend)"}]
[]
[null,null,null,"(c)",{"$f":"Translations!$B$721","v":"Bitte beschreiben Sie hier gegebenenfalls das Verfahren, mit dem zwecks Berichtigung des Emissionswerts gemäß Anhang IV Abschnitt 23 Teil B Ziffer 3 MVO die Unsicherheit der Emissionen aus Leckagen bestimmt wird."}]
[]
[null,null,null,null,{"$f":"Translations!$B$405","v":"Bezeichnung des Verfahrens"}]
[null,null,null,null,{"$f":"Translations!$B$407","v":"Referenz des Verfahrens"}]
[null,null,null,null,{"$f":"Translations!$B$409","v":"Referenz Diagramm (falls zutreffend)"}]
[null,null,null,null,{"$f":"Translations!$B$411","v":"Kurzbeschreibung des Verfahrens"}]
[]
[]
[null,null,null,null,{"$f":"Translations!$B$414","v":"Für das Verfahren und damit generierte Daten zuständige Stelle oder Abteilung"}]
[null,null,null,null,{"$f":"Translations!$B$416","v":"Aufbewahrungsort der Aufzeichnungen"}]
[null,null,null,null,{"$f":"Translations!$B$418","v":"Bezeichnung des eingesetzten IT-Systems (soweit anwendbar)"}]
[null,null,null,null,{"$f":"Translations!$B$420","v":"Liste der angewandten EN oder anderer Normen (soweit zutreffend)"}]
["ausblenden"]
["ausblenden",null,null,null,{"$f":"Translations!$B$1150","v":"Weitere Verfahren des Betreibers"}]
["ausblenden"]
["ausblenden",null,null,null,{"$f":"Translations!$B$405","v":"Bezeichnung des Verfahrens"}]
["ausblenden",null,null,null,{"$f":"Translations!$B$407","v":"Referenz des Verfahrens"}]
["ausblenden",null,null,null,{"$f":"Translations!$B$409","v":"Referenz Diagramm (falls zutreffend)"}]
["ausblenden",null,null,null,{"$f":"Translations!$B$411","v":"Kurzbeschreibung des Verfahrens"}]
["ausblenden"]
["ausblenden"]
["ausblenden",null,null,null,{"$f":"Translations!$B$414","v":"Für das Verfahren und damit generierte Daten zuständige Stelle oder Abteilung"}]
["ausblenden",null,null,null,{"$f":"Translations!$B$416","v":"Aufbewahrungsort der Aufzeichnungen"}]
["ausblenden",null,null,null,{"$f":"Translations!$B$418","v":"Bezeichnung des eingesetzten IT-Systems (soweit anwendbar)"}]
["ausblenden",null,null,null,{"$f":"Translations!$B$420","v":"Liste der angewandten EN oder anderer Normen (soweit zutreffend)"}]
["ADD_Procedure"]
[null,null,null,null,null,null,{"$f":"Translations!$B$429","v":"Auf „+“ klicken, um weitere Verfahren einzufügen"}]
[]
[]
[]
[null,null,null,null,null,{"$f":"EUconst_MsgNextSheet","v":"<<< Hier klicken, um mit nächstem Blatt fortzufahren >>> "}]

{"sheet":"J2_PermCCU","index":12,"n_rows":67,"n_cols":17,"rows_kept":67,"cut":false,"hidden":false,"merged":[[16,4,16,13],[17,4,17,13],[66,5,66,11],[40,4,40,13],[42,4,42,5],[42,6,42,13],[43,4,43,5],[43,6,43,13],[44,4,44,5],[44,6,44,13],[45,4,45,5],[45,6,45,13],[46,6,46,13],[47,6,47,13],[48,4,48,5],[48,6,48,13],[49,4,49,5],[49,6,49,13],[50,4,50,5],[50,6,50,13],[51,4,51,5],[51,6,51,13],[53,4,53,13],[55,4,55,5],[55,6,55,13],[56,4,56,5],[56,6,56,13],[63,4,63,5],[63,6,63,13],[64,4,64,5],[64,6,64,13],[37,4,37,13],[38,4,38,13],[60,6,60,13],[61,4,61,5],[61,6,61,13],[62,4,62,5],[62,6,62,13],[57,4,57,5],[57,6,57,13],[58,4,58,5],[58,6,58,13],[59,6,59,13],[36,4,36,13],[25,4,25,13],[26,4,26,13],[27,4,27,13],[28,4,28,13],[29,4,29,13],[30,4,30,13],[31,4,31,13],[32,4,32,13],[33,4,33,13],[34,4,34,13],[35,4,35,13],[3,12,3,13],[24,4,24,13],[15,4,15,13],[5,2,5,10],[5,11,5,13],[7,10,7,13],[9,3,9,13],[11,3,11,13],[12,3,12,13],[13,4,13,13],[14,4,14,13],[19,4,19,13],[20,4,20,13],[21,4,21,13],[22,4,22,13],[23,4,23,13],[1,1,3,3],[1,4,1,5],[1,6,1,7],[1,8,1,9],[1,10,1,11],[3,4,3,5],[3,6,3,7],[3,8,3,9],[3,10,3,11],[1,12,1,13],[2,4,2,5],[2,6,2,7],[2,8,2,9],[2,10,2,11],[2,12,2,13]]}
["ausblenden",null,null,null,null,null,null,null,null,null,null,null,null,null,null,"ausblenden","ausblenden"]
[null,{"$f":"Translations!$B$1372","v":"J2. CCU für permanent gebundenes CO2"},null,null,{"$f":"Translations!$B$59","v":"Navigationsbereich:"},null,{"$f":"Translations!$B$60","v":"Inhaltsverzeichnis"},null,{"$f":"Translations!$B$61","v":"Vorheriges Blatt"},null,{"$f":"Translations!$B$62","v":"Nächstes Blatt"}]
[null,null,null,null,{"$f":"Translations!$B$63","v":"Blattanfang"}]
[null,null,null,null,{"$f":"Translations!$B$64","v":"Blattende"}]
[]
[null,null,{"$f":"Translations!$B$1373","v":"J2. In einem Produkt dauerhaft chemisch gebundenes CO2"},null,null,null,null,null,null,null,null,{"$f":"IF(AND(NOT(ISBLANK(CNTR_InstHasCCU)), CNTR_InstHasCCU=FALSE),EUconst_NotRelevant,EUconst_Relevant)","v":"Relevant"}]
[]
[null,null,null,null,null,null,null,null,null,null,{"$f":"IF(L6=EUconst_NotRelevant,HYPERLINK(\"#JUMP_K_Top\",EUconst_MsgNextSheet),HYPERLINK(\"\",EUconst_MsgEnterThisSection))","v":"Bitte machen Sie Angaben in diesem Abschnitt"}]
[]
[null,null,"19a",{"$f":"Translations!$B$1374","v":"Bestimmung der Mengen an dauerhaft chemisch gebundenem CO2"}]
[]
[null,null,null,{"$f":"Translations!$B$1375","v":"Anmerkung: Dieser Abschnitt ist auszufüllen, wenn CO2 gemäß Artikel 49a abgeschieden und  in einem Produkt, in dem das CO2 dauerhaft chemisch gebunden ist, verwendet wird (CCU). CO2, das in Produkten gebunden ist, die nicht den Spezifikationen des Artikels 49a entsprechen, wird hier nicht erfasst."}]
[]
[null,null,null,"(a)",{"$f":"Translations!$B$1376","v":"Beschreiben Sie bitte ausführlich den Prozess, bei dem das CO2 dauerhaft chemisch gebunden wird. "}]
[null,null,null,null,{"$f":"Translations!$B$1377","v":"Beschreiben Sie bitte kurz die Überwachungsmethodik, einschließlich der Formeln, die zur Bestimmung der jährlichen Menge des dauerhaft chemisch in einem Produkt gebundenen CO2 verwendet werden."}]
[null,null,null,null,{"$f":"Translations!$B$1378","v":"Dies sollte insbesondere den Prozess, in dem das CO2 chemisch gebunden wird, die Systemgrenzen  des Prozesses, den Standort (entweder vor Ort oder in einer anderen Anlage oder Einheit), sowie die relevanten Input- und Outputmaterialien und deren chemische Zusammensetzung, insbesondere den Kohlenstoffgehalt, umfassen. Bitte stellen Sie sicher, dass diese Berechnungen in Einklang mit Artikel 49a MVO stehen."}]
[null,null,null,null,{"$f":"Translations!$B$680","v":"Ist die Beschreibung zu komplex (z. B. komplexe Formeln oder einfachere Beschreibung durch Diagramm), können Sie die Beschreibung in einer gesonderten Unterlage in einem von der zuständigen Behörde akzeptierten Format vorlegen. In diesem Fall geben Sie hier bitte die Referenz der Datei an (Dateiname und Datum)."}]
[null,null,null,null,{"$f":"Translations!$B$195","v":"Diese Beschreibung sollte den Zusammenhang herstellen, der erforderlich ist, um zu verstehen, wie zur Berechnung der Emissionen auch auf Angaben in anderen Teilen dieser Vorlage zurückgegriffen wird. Sie kann so kurz sein wie das Beispiel in Abschnitt 7 Buchstabe a des Arbeitsblatts D_CalculationBasedApproaches."}]
[]
[]
[]
[]
[]
[]
[]
[]
[]
[]
[]
[]
[]
[]
[]
[]
[]
[]
[]
[]
[]
[]
[null,null,null,"(b)",{"$f":"Translations!$B$1379","v":"Beschreiben Sie das Verfahren zur Feststellung, ob ein Produkt in dem CO2 gemäß Artikel 49a Absatz 1 dieser Verordnung dauerhaft chemisch gebunden ist die Anforderungen der delegierten Verordnung gemäß Artikel 12 Absatz 3b der Richtlinie 2003/87/EG erfüllt, sowie die Arten der Verwendung dieses Produkts."}]
[]
[null,null,null,null,{"$f":"Translations!$B$405","v":"Bezeichnung des Verfahrens"}]
[null,null,null,null,{"$f":"Translations!$B$407","v":"Referenz des Verfahrens"}]
[null,null,null,null,{"$f":"Translations!$B$409","v":"Referenz Diagramm (falls zutreffend)"}]
[null,null,null,null,{"$f":"Translations!$B$411","v":"Kurzbeschreibung des Verfahrens"}]
[]
[]
[null,null,null,null,{"$f":"Translations!$B$414","v":"Für das Verfahren und damit generierte Daten zuständige Stelle oder Abteilung"}]
[null,null,null,null,{"$f":"Translations!$B$416","v":"Aufbewahrungsort der Aufzeichnungen"}]
[null,null,null,null,{"$f":"Translations!$B$418","v":"Bezeichnung des eingesetzten IT-Systems (soweit anwendbar)"}]
[null,null,null,null,{"$f":"Translations!$B$420","v":"Liste der angewandten EN oder anderer Normen (soweit zutreffend)"}]
[]
[null,null,null,"(c)",{"$f":"Translations!$B$1380","v":"Beschreiben Sie das Verfahren, das für die Berechnungsmethodik zur Bestimmung der dauerhaft chemisch gebundenen CO2-Mengen gemäß Artikel 49a Absatz 2 verwendet wird. "}]
[]
[null,null,null,null,{"$f":"Translations!$B$405","v":"Bezeichnung des Verfahrens"}]
[null,null,null,null,{"$f":"Translations!$B$407","v":"Referenz des Verfahrens"}]
[null,null,null,null,{"$f":"Translations!$B$409","v":"Referenz Diagramm (falls zutreffend)"}]
[null,null,null,null,{"$f":"Translations!$B$411","v":"Kurzbeschreibung des Verfahrens"}]
[]
[]
[null,null,null,null,{"$f":"Translations!$B$414","v":"Für das Verfahren und damit generierte Daten zuständige Stelle oder Abteilung"}]
[null,null,null,null,{"$f":"Translations!$B$416","v":"Aufbewahrungsort der Aufzeichnungen"}]
[null,null,null,null,{"$f":"Translations!$B$418","v":"Bezeichnung des eingesetzten IT-Systems (soweit anwendbar)"}]
[null,null,null,null,{"$f":"Translations!$B$420","v":"Liste der angewandten EN oder anderer Normen (soweit zutreffend)"}]
[]
[null,null,null,null,null,{"$f":"EUconst_MsgNextSheet","v":"<<< Hier klicken, um mit nächstem Blatt fortzufahren >>> "}]

{"sheet":"K_ManagementControl","index":13,"n_rows":285,"n_cols":17,"rows_kept":285,"cut":false,"hidden":false,"merged":[[199,6,199,13],[195,4,195,5],[197,4,197,5],[195,6,195,13],[196,4,196,5],[59,4,59,5],[59,6,59,13],[58,4,58,5],[51,4,51,13],[57,4,57,5],[53,4,53,13],[58,6,58,13],[57,6,57,13],[54,4,54,13],[55,4,55,13],[52,4,52,13],[60,6,60,13],[61,6,61,13],[65,6,65,13],[65,4,65,5],[87,4,87,13],[64,4,64,5],[63,6,63,13],[63,4,63,5],[211,6,211,13],[212,4,214,5],[212,6,212,13],[213,6,213,13],[214,6,214,13],[206,4,206,13],[207,4,207,13],[209,4,209,5],[209,6,209,13],[210,4,210,5],[210,6,210,13],[60,4,62,5],[62,6,62,13],[64,6,64,13],[76,4,76,13],[77,4,77,13],[70,4,70,10],[72,4,72,13],[74,4,74,13],[75,4,75,13],[68,4,68,13],[71,4,71,13],[102,6,102,13],[100,6,100,13],[101,6,101,13],[94,6,94,13],[91,6,91,13],[83,3,83,13],[85,4,85,13],[93,6,93,13],[86,4,86,13],[89,4,89,5],[90,4,90,5],[92,6,92,13],[90,6,90,13],[89,6,89,13],[45,6,45,13],[42,4,42,5],[41,4,41,5],[284,5,284,11],[91,4,91,5],[66,4,66,5],[98,6,98,13],[95,6,95,13],[95,4,95,5],[92,4,94,5],[66,6,66,13],[116,4,116,5],[99,4,99,5],[97,6,97,13],[96,4,96,5],[97,4,97,5],[98,4,98,5],[99,6,99,13],[110,6,110,13],[110,4,110,5],[96,6,96,13],[103,6,103,13],[107,4,107,13],[100,4,103,5],[46,6,46,13],[44,6,44,13],[41,6,41,13],[46,4,46,5],[43,4,45,5],[43,6,43,13],[18,4,18,6],[32,6,32,13],[33,4,35,5],[33,6,33,13],[35,6,35,13],[32,4,32,5],[40,6,40,13],[34,6,34,13],[28,4,28,13],[27,4,27,13],[36,6,36,13],[36,4,36,5],[37,4,37,5],[38,4,38,5],[39,4,39,5],[38,6,38,13],[37,6,37,13],[39,6,39,13],[15,4,15,6],[15,7,15,13],[19,4,19,6],[31,4,31,5],[31,6,31,13],[16,4,16,6],[18,7,18,13],[20,4,20,6],[17,7,17,13],[30,6,30,13],[16,7,16,13],[19,7,19,13],[25,7,25,13],[21,4,21,6],[21,7,21,13],[22,4,22,6],[22,7,22,13],[23,4,23,6],[23,7,23,13],[24,4,24,6],[24,7,24,13],[25,4,25,6],[1,12,1,13],[2,4,2,5],[2,6,2,7],[2,8,2,9],[2,10,2,11],[1,10,1,11],[2,12,2,13],[1,8,1,9],[3,8,3,9],[1,1,3,3],[1,4,1,5],[1,6,1,7],[3,4,3,5],[3,6,3,7],[49,6,49,13],[48,6,48,13],[47,6,47,13],[3,12,3,13],[3,10,3,11],[12,4,12,13],[48,4,48,5],[49,4,49,5],[47,4,47,5],[9,3,9,13],[5,2,5,10],[40,4,40,5],[42,6,42,13],[20,7,20,13],[13,4,13,13],[17,4,17,6],[11,4,11,13],[14,4,14,13],[30,4,30,5],[115,6,115,13],[112,4,112,5],[111,6,111,13],[111,4,111,5],[108,4,108,13],[105,3,105,13],[112,6,112,13],[118,4,118,5],[119,4,119,5],[116,6,116,13],[113,6,113,13],[114,6,114,13],[118,6,118,13],[113,4,115,5],[117,6,117,13],[119,6,119,13],[117,4,117,5],[121,4,121,13],[122,4,122,13],[126,4,126,5],[129,6,129,13],[124,6,124,13],[126,6,126,13],[124,4,124,5],[125,6,125,13],[131,4,131,5],[125,4,125,5],[131,6,131,13],[127,4,129,5],[132,4,132,5],[132,6,132,13],[127,6,127,13],[128,6,128,13],[130,6,130,13],[130,4,130,5],[139,4,139,5],[139,6,139,13],[138,4,138,5],[138,6,138,13],[133,4,133,5],[133,6,133,13],[135,4,135,13],[136,4,136,13],[145,4,145,5],[145,6,145,13],[146,6,146,13],[147,4,147,5],[140,4,140,5],[140,6,140,13],[144,4,144,5],[144,6,144,13],[142,6,142,13],[143,6,143,13],[141,4,143,5],[141,6,141,13],[149,4,149,13],[150,4,150,13],[154,6,154,13],[152,4,152,5],[152,6,152,13],[154,4,154,5],[153,4,153,5],[153,6,153,13],[146,4,146,5],[147,6,147,13],[167,4,167,5],[164,4,164,13],[155,4,157,5],[155,6,155,13],[156,6,156,13],[157,6,157,13],[167,6,167,13],[160,6,160,13],[161,4,161,5],[166,4,166,5],[163,4,163,13],[166,6,166,13],[158,6,158,13],[159,4,159,5],[158,4,158,5],[160,4,160,5],[159,6,159,13],[161,6,161,13],[177,4,177,13],[178,4,178,13],[180,4,180,5],[187,4,187,5],[183,6,183,13],[184,6,184,13],[181,4,181,5],[174,4,174,5],[168,4,168,5],[168,6,168,13],[169,4,171,5],[169,6,169,13],[170,6,170,13],[182,6,182,13],[180,6,180,13],[175,4,175,5],[171,6,171,13],[172,4,172,5],[172,6,172,13],[173,4,173,5],[173,6,173,13],[174,6,174,13],[175,6,175,13],[204,6,204,13],[224,4,224,13],[228,4,228,8],[192,4,192,13],[189,4,189,5],[189,6,189,13],[181,6,181,13],[191,4,191,13],[188,4,188,5],[182,4,182,5],[183,4,185,5],[185,6,185,13],[186,4,186,5],[186,6,186,13],[188,6,188,13],[187,6,187,13],[193,4,193,13],[215,4,215,5],[215,6,215,13],[216,4,216,5],[216,6,216,13],[217,4,217,5],[217,6,217,13],[211,4,211,5],[241,4,241,5],[236,6,236,13],[242,6,242,13],[246,3,246,13],[248,4,248,13],[196,6,196,13],[197,6,197,13],[200,6,200,13],[230,3,230,13],[202,6,202,13],[203,6,203,13],[201,4,201,5],[201,6,201,13],[202,4,202,5],[220,4,220,13],[198,4,200,5],[198,6,198,13],[222,4,222,8],[218,4,218,5],[218,6,218,13],[203,4,203,5],[225,4,225,8],[221,4,221,13],[204,4,204,5],[244,6,244,13],[252,4,252,5],[249,4,249,13],[250,4,250,13],[255,6,255,13],[238,6,238,13],[237,6,237,13],[235,6,235,13],[255,4,255,5],[253,6,253,13],[235,4,235,5],[236,4,236,5],[242,4,242,5],[237,4,237,5],[243,4,243,5],[244,4,244,5],[243,6,243,13],[252,6,252,13],[241,6,241,13],[239,6,239,13],[238,4,238,5],[239,4,239,5],[240,4,240,5],[240,6,240,13],[280,6,282,10],[5,11,5,13],[7,10,7,13],[7,2,7,9],[267,4,267,13],[276,4,276,5],[276,6,276,13],[277,4,277,5],[271,4,271,5],[271,6,271,13],[261,4,261,5],[272,4,272,5],[272,6,272,13],[277,6,277,13],[273,6,273,13],[274,6,274,13],[275,4,275,5],[275,6,275,13],[232,4,232,13],[227,4,227,13],[234,4,234,5],[234,6,234,13],[264,3,264,13],[269,4,269,5],[270,4,270,5],[270,6,270,13],[259,4,259,5],[259,6,259,13],[256,4,256,5],[256,6,256,13],[258,6,258,13],[253,4,253,5],[278,4,278,5],[278,6,278,13],[269,6,269,13],[261,6,261,13],[262,6,262,13],[262,4,262,5],[260,6,260,13],[258,4,258,5],[260,4,260,5],[254,4,254,5],[254,6,254,13],[257,4,257,5],[257,6,257,13]]}
["ausblenden",null,null,null,null,null,null,null,null,null,null,null,null,null,null,"ausblenden","ausblenden"]
[null,{"$f":"Translations!$B$722","v":"K. \nManagement Control"},null,null,{"$f":"Translations!$B$59","v":"Navigationsbereich:"},null,{"$f":"Translations!$B$60","v":"Inhaltsverzeichnis"},null,{"$f":"Translations!$B$61","v":"Vorheriges Blatt"},null,{"$f":"Translations!$B$62","v":"Nächstes Blatt"}]
[null,null,null,null,{"$f":"Translations!$B$63","v":"Blattanfang"},null,{"$f":"Translations!$B$37","v":"Verwaltung "},null,{"$f":"Translations!$B$38","v":"Datenflussaktivitäten"},null,{"$f":"Translations!$B$39","v":"Kontrollaktivitäten"}]
[null,null,null,null,{"$f":"Translations!$B$64","v":"Blattende"},null,{"$f":"Translations!$B$723","v":"Begriffsbestimmungen und Abkürzungen"},null,{"$f":"Translations!$B$41","v":"Zusätzliche Informationen"},null,{"$f":"Translations!$B$1152","v":"Weitere Verfahren"}]
[]
[null,null,{"$f":"Translations!$B$36","v":"K. Verwaltung und Kontrolle"},null,null,null,null,null,null,null,null,{"$f":"EUconst_Relevant","v":"Relevant"}]
[]
[null,null,{"$f":"Translations!$B$724","v":"Dieses Arbeitsblatt ist für alle Anlagenarten relevant."},null,null,null,null,null,null,null,{"$f":"IF(L6=EUconst_NotRelevant,HYPERLINK(\"#JUMP_L_Top\",EUconst_MsgNextSheet),HYPERLINK(\"\",EUconst_MsgEnterThisSection))","v":"Bitte machen Sie Angaben in diesem Abschnitt"}]
[]
[null,null,20,{"$f":"Translations!$B$37","v":"Verwaltung "}]
[]
[null,null,null,"(a)",{"$f":"Translations!$B$1216","v":"Bitte geben Sie in Einklang mit Artikel 62 MVO an, wer für die Überwachung von Emissionen aus der Anlage und die Berichterstattung darüber zuständig ist."}]
["\n",null,null,null,{"$f":"Translations!$B$726","v":"Geben Sie bitte die entsprechenden Funktionen/Stellen an und beschreiben Sie in knapper Form die jeweilige Aufgabe bei der Überwachung und Berichterstattung. Berücksichtigen Sie hierbei bitte nur die Funktionen/Stellen mit übergeordneter Zuständigkeit und sonstige Schlüsselfunktionen (d. h. keine delegierten Zuständigkeiten)."}]
[null,null,null,null,{"$f":"Translations!$B$727","v":"Die Darstellung kann die Form eines Baumdiagramms oder eines Organigramms haben, das bei der Einreichung beigefügt wird."}]
[null,null,null,null,{"$f":"Translations!$B$728","v":"Bei vollständigem Datenfluss (und Prüfpfad) sollten sich alle Zuständigkeiten in den Beschreibungen der Verfahren wiederfinden; die Angabe weiterer Personen wäre nicht nötig."}]
[null,null,null,null,{"$f":"Translations!$B$729","v":"Funktion/Stelle"},null,null,{"$f":"Translations!$B$730","v":"Zuständigkeiten"}]
[]
[]
[]
[]
[]
[]
[]
[]
[]
[]
[]
["\n\n",null,null,"(b)",{"$f":"Translations!$B$1217","v":"Angaben zum Verfahren für die Verwaltung und Zuweisung der Überwachungs- und Berichterstattungszuständigkeiten innerhalb der Anlage und für die Verwaltung der Kompetenzen des zuständigen Personals gemäß den Artikeln 59 und 62 MVO."}]
[null,null,null,null,{"$f":"Translations!$B$732","v":"Die Beschreibung dieses Verfahren sollte deutlich machen, wie die Überwachungs- und Berichterstattungszuständigkeiten für die vorstehend genannten Rollen zugewiesen werden, wie Schulungen und Überprüfungen durchgeführt werden und wie Aufgaben so getrennt werden, dass alle maßgeblichen Daten von einer Person bestätigt werden, die nicht mit der Aufzeichnung und Erhebung der Daten befasst ist. "}]
[]
["HIDE_Example",null,null,null,{"$f":"Translations!$B$405","v":"Bezeichnung des Verfahrens"},null,{"$f":"Translations!$B$733","v":"EHS-Personalverwaltung"}]
["HIDE_Example",null,null,null,{"$f":"Translations!$B$407","v":"Referenz des Verfahrens"}]
["HIDE_Example",null,null,null,{"$f":"Translations!$B$409","v":"Referenz Diagramm (falls zutreffend)"}]
["HIDE_Example",null,null,null,{"$f":"Translations!$B$411","v":"Kurzbeschreibung des Verfahrens"},null,{"$f":"Translations!$B$734","v":"• Die zuständige Person führt eine Liste des an der EHS-Datenverwaltung beteiligten Personals"}]
["HIDE_Example",null,null,null,null,null,{"$f":"Translations!$B$735","v":"• Die zuständige Person kommt zumindest einmal pro Jahr mit den einzelnen Beteiligten und mindestens viermal mit dem im Anhang zum Verfahren definierten Schlüsselpersonal zusammen; Ziel: Ermittlung des Schulungsbedarfs "}]
["HIDE_Example",null,null,null,null,null,{"$f":"Translations!$B$736","v":"• Die zuständige Person verwaltet interne und externe Schulungsmaßnahmen in Abhängigkeit vom ermittelten Schulungsbedarf."}]
["HIDE_Example",null,null,null,{"$f":"Translations!$B$414","v":"Für das Verfahren und damit generierte Daten zuständige Stelle oder Abteilung"},null,{"$f":"Translations!$B$737","v":"Für HSEQ zuständiger, stellvertretender Referatsleiter"}]
["HIDE_Example",null,null,null,{"$f":"Translations!$B$416","v":"Aufbewahrungsort der Aufzeichnungen"},null,{"$f":"Translations!$B$738","v":"Papierfassung: HSEQ-Büro, Regal 27/9, Ordner „EHS 01-P“. Elektronisch: “P:\\EHS_MRV\\manag\\EHS_01-P.xls”"}]
["HIDE_Example",null,null,null,{"$f":"Translations!$B$418","v":"Bezeichnung des eingesetzten IT-Systems (soweit anwendbar)"},null,{"$f":"Translations!$B$739","v":"n.r. (Normale Netzserver)"}]
["HIDE_Example",null,null,null,{"$f":"Translations!$B$420","v":"Liste der angewandten EN oder anderer Normen (soweit zutreffend)"},null,{"$f":"Translations!$B$410","v":"n.r."}]
[null,null,null,null,{"$f":"Translations!$B$405","v":"Bezeichnung des Verfahrens"}]
[null,null,null,null,{"$f":"Translations!$B$407","v":"Referenz des Verfahrens"}]
[null,null,null,null,{"$f":"Translations!$B$409","v":"Referenz Diagramm (falls zutreffend)"}]
[null,null,null,null,{"$f":"Translations!$B$411","v":"Kurzbeschreibung des Verfahrens"}]
[]
[]
[null,null,null,null,{"$f":"Translations!$B$414","v":"Für das Verfahren und damit generierte Daten zuständige Stelle oder Abteilung"}]
[null,null,null,null,{"$f":"Translations!$B$416","v":"Aufbewahrungsort der Aufzeichnungen"}]
[null,null,null,null,{"$f":"Translations!$B$418","v":"Bezeichnung des eingesetzten IT-Systems (soweit anwendbar)"}]
[null,null,null,null,{"$f":"Translations!$B$420","v":"Liste der angewandten EN oder anderer Normen (soweit zutreffend)"}]
[]
[null,null,null,"(c) ",{"$f":"Translations!$B$740","v":"Angaben zum Verfahren für die regelmäßig Evaluierung der Angemessenheit des Monitoringkonzepts, die insbesondere potenzielle Maßnahmen zur Verbesserung der Überwachungsmethodik abdecken."}]
[null,null,null,null,{"$f":"Translations!$B$741","v":"Das nachstehend spezifizierte Verfahren sollte folgendes abdecken:"}]
[null,null,null,null,{"$f":"Translations!$B$742","v":"i - Überprüfung der Liste der Emissionsquellen und Stoffströme, damit die Vollständigkeit dieser Quellen und Ströme gewährleistet und sichergestellt ist, dass alle relevanten Änderungen, die die Art und Funktionsweise der Anlage betreffen, im Monitoringkonzept berücksichtigt werden;"}]
[null,null,null,null,{"$f":"Translations!$B$743","v":"ii - für die auf die einzelnen Stoffströme und Emissionsquellen angewandten Ebenen: Prüfung der Konformität mit den Unsicherheitsschwellenwerten für Tätigkeitsdaten und ggf. anderen Parametern und"}]
[null,null,null,null,{"$f":"Translations!$B$744","v":"iii - Bewertung potenzieller Maßnahmen zur Verbesserung der angewandten Überwachungsmethodik."}]
[]
[null,null,null,null,{"$f":"Translations!$B$405","v":"Bezeichnung des Verfahrens"}]
[null,null,null,null,{"$f":"Translations!$B$407","v":"Referenz des Verfahrens"}]
[null,null,null,null,{"$f":"Translations!$B$409","v":"Referenz Diagramm (falls zutreffend)"}]
[null,null,null,null,{"$f":"Translations!$B$411","v":"Kurzbeschreibung des Verfahrens"}]
[]
[]
[null,null,null,null,{"$f":"Translations!$B$414","v":"Für das Verfahren und damit generierte Daten zuständige Stelle oder Abteilung"}]
[null,null,null,null,{"$f":"Translations!$B$416","v":"Aufbewahrungsort der Aufzeichnungen"}]
[null,null,null,null,{"$f":"Translations!$B$418","v":"Bezeichnung des eingesetzten IT-Systems (soweit anwendbar)"}]
[null,null,null,null,{"$f":"Translations!$B$420","v":"Liste der angewandten EN oder anderer Normen (soweit zutreffend)"}]
[]
[null,null,null,"(d) ",{"$f":"Translations!$B$1218","v":"Verbesserungsberichte gemäß Artikel 69 Absatz 1 MVO"}]
[]
[null,null,null,"i.",{"$f":"Translations!$B$1219","v":"Nichteinhaltung einer vorgeschriebenen Ebene oder Anwendung einer Fall-Back-Methodik?"}]
[null,null,null,null,{"$f":"Translations!$B$1220","v":"Wählen Sie „WAHR“, wenn bei einem Parameter eines emissionsstarken/-schwachen Stoffstroms oder einer großen/kleinen Emissionsquelle entweder die vorgeschriebenen Ebenen nicht eingehalten oder eine Fall-Back-Methodik angewandt wird (Artikel 22). In diesem Fall muss der Betreiber gemäß Artikel 69 Absatz 1 regelmäßig Verbesserungsberichte vorlegen."}]
[null,null,null,null,{"$f":"Translations!$B$1221","v":"Hinweis: Dieser Abschnitt entbindet Betreiber nicht von der Verpflichtung, einen Verbesserungsbericht gemäß Artikel 69 Absatz 4 vorzulegen. "}]
[]
[null,null,null,"ii.",{"$f":"Translations!$B$1222","v":"Frist für den nächsten Verbesserungsbericht gemäß Artikel 69 Absatz 1, sofern zutreffend"}]
[null,null,null,null,{"$f":"Translations!$B$1223","v":"Dieser Abschnitt ist nur relevant, wenn der Betreiber unter Buchstabe i „WAHR“ ausgewählt hat."}]
[null,null,null,null,{"$f":"Translations!$B$1381","v":"Die Verbesserungsberichte sind für Anlagen der Kategorie C alle zwei Jahre, der Kategorie B alle drei Jahre und der Kategorie A alle fünf Jahre zu übermitteln."}]
[null,null,null,null,{"$f":"Translations!$B$1225","v":"Die zuständige Behörde kann diesen Zeitraum jedoch auf drei, vier bzw. fünf Jahre verlängern, wenn der Betreiber ihr gegenüber nachweist, dass die Gründe für unverhältnismäßige Kosten oder die technische Nichtmachbarkeit von Verbesserungsmaßnahmen während eines längeren Zeitraums bestehen bleiben."}]
[]
[null,null,null,null,2021,2022,2023,2024,2025,2026,2027,2028,2029,2030]
[]
[null,null,null,null,{"$f":"IF(OR(E81=\"\",E81=EUconst_NA),\"\",DATE(E80,MATCH(E81,EUconst_IRMonth,0)+5,1)-1)","v":""},"","","","","","","","",""]
[]
[null,null,21,{"$f":"Translations!$B$38","v":"Datenflussaktivitäten"}]
[]
[null,null,null,"(a)",{"$f":"Translations!$B$1226","v":"Angaben zu den Verfahren für die Datenflussaktivitäten gemäß Artikel 58 MVO"}]
[null,null,null,null,{"$f":"Translations!$B$746","v":"Werden mehrere Verfahren verwendet, Angaben zu einem übergeordneten Verfahren, das die Hauptschritte der Datenflussaktivitäten umfasst, sowie Vorlage eines Diagramms, aus dem hervorgeht, wie die Datenverwaltungsverfahren zusammenhängen (Bitte geben Sie die Referenz des Diagramms an und legen Sie es dem Monitoringkonzept bei).  Alternativ Angaben zu zusätzlichen sachdienlichen Verfahren auf einem gesonderten Blatt."}]
[null,null,null,null,{"$f":"Translations!$B$747","v":"Unter „Beschreibung der relevanten Verarbeitungsschritte“ geben Sie bitte jeden Schritt im Datenfluss von den Primärdaten bis zu den jährlichen Emissionen an, der die Sequenz der Datenflussaktivitäten und die Interaktion zwischen ihnen widerspiegelt, und fügen die Formeln und Daten für die Bestimmung von Emissionen aus den Primärdaten bei. Angaben zu allen einschlägigen elektronischen Datenverarbeitungs- und -speichersystemen und anderen Eingaben (einschließlich manueller Eingabe) und Bestätigung, der Art und Weise, wie die Ergebnisse der Datenflussaktivitäten aufgezeichnet werden."}]
[]
[null,null,null,null,{"$f":"Translations!$B$405","v":"Bezeichnung des Verfahrens"}]
[null,null,null,null,{"$f":"Translations!$B$407","v":"Referenz des Verfahrens"}]
[null,null,null,null,{"$f":"Translations!$B$409","v":"Referenz Diagramm (falls zutreffend)"}]
[null,null,null,null,{"$f":"Translations!$B$411","v":"Kurzbeschreibung des Verfahrens"}]
[]
[]
[null,null,null,null,{"$f":"Translations!$B$414","v":"Für das Verfahren und damit generierte Daten zuständige Stelle oder Abteilung"}]
[null,null,null,null,{"$f":"Translations!$B$416","v":"Aufbewahrungsort der Aufzeichnungen"}]
[null,null,null,null,{"$f":"Translations!$B$418","v":"Bezeichnung des eingesetzten IT-Systems (soweit anwendbar)"}]
[null,null,null,null,{"$f":"Translations!$B$420","v":"Liste der angewandten EN oder anderer Normen (soweit zutreffend)"}]
[null,null,null,null,{"$f":"Translations!$B$748","v":"Liste der Primärdatenquellen"}]
[null,null,null,null,{"$f":"Translations!$B$749","v":"Beschreibung der relevanten Verarbeitungsschritte für jede spezielle Datenflussaktivität "}]
[]
[]
[]
[]
[null,null,22,{"$f":"Translations!$B$39","v":"Kontrollaktivitäten"}]
[]
[null,null,null,"(a)",{"$f":"Translations!$B$1227","v":"Angaben zu den Verfahren für die Bewertung der inhärenten Risiken und der Kontrollrisiken gemäß Artikel 59 MVO"}]
[null,null,null,null,{"$f":"Translations!$B$751","v":"Aus der kurzen Beschreibung sollte hervorgehen, wie bei der Einrichtung eines wirksamen Kontrollsystems inhärente Risiken und Kontrollrisiken bewertet werden."}]
[]
[null,null,null,null,{"$f":"Translations!$B$405","v":"Bezeichnung des Verfahrens"}]
[null,null,null,null,{"$f":"Translations!$B$407","v":"Referenz des Verfahrens"}]
[null,null,null,null,{"$f":"Translations!$B$409","v":"Referenz Diagramm (falls zutreffend)"}]
[null,null,null,null,{"$f":"Translations!$B$411","v":"Kurzbeschreibung des Verfahrens"}]
[]
[]
[null,null,null,null,{"$f":"Translations!$B$414","v":"Für das Verfahren und damit generierte Daten zuständige Stelle oder Abteilung"}]
[null,null,null,null,{"$f":"Translations!$B$416","v":"Aufbewahrungsort der Aufzeichnungen"}]
[null,null,null,null,{"$f":"Translations!$B$418","v":"Bezeichnung des eingesetzten IT-Systems (soweit anwendbar)"}]
[null,null,null,null,{"$f":"Translations!$B$420","v":"Liste der angewandten EN oder anderer Normen (soweit zutreffend)"}]
[]
[null,null,null,"(b)",{"$f":"Translations!$B$1228","v":"Angaben zu den Verfahren für die Qualitätssicherung der Messeinrichtungen gemäß den Artikeln 59 und 60 MVO"}]
[null,null,null,null,{"$f":"Translations!$B$753","v":"Aus der kurzen Beschreibung sollte hervorgehen, wie alle relevanten Messeinrichtungen gegebenenfalls in regelmäßigen Abständen kalibriert und kontrolliert werden und wie verfahren wird, wenn sie die geforderte Leistung nicht erbringen."}]
[]
[null,null,null,null,{"$f":"Translations!$B$405","v":"Bezeichnung des Verfahrens"}]
[null,null,null,null,{"$f":"Translations!$B$407","v":"Referenz des Verfahrens"}]
[null,null,null,null,{"$f":"Translations!$B$409","v":"Referenz Diagramm (falls zutreffend)"}]
[null,null,null,null,{"$f":"Translations!$B$411","v":"Kurzbeschreibung des Verfahrens"}]
[]
[]
[null,null,null,null,{"$f":"Translations!$B$414","v":"Für das Verfahren und damit generierte Daten zuständige Stelle oder Abteilung"}]
[null,null,null,null,{"$f":"Translations!$B$416","v":"Aufbewahrungsort der Aufzeichnungen"}]
[null,null,null,null,{"$f":"Translations!$B$418","v":"Bezeichnung des eingesetzten IT-Systems (soweit anwendbar)"}]
[null,null,null,null,{"$f":"Translations!$B$420","v":"Liste der angewandten EN oder anderer Normen (soweit zutreffend)"}]
[]
[null,null,null,"(c)",{"$f":"Translations!$B$1229","v":"Angaben zu den Verfahren für die Qualitätssicherung des für die Datenflussaktivitäten verwendeten IT-Systems gemäß den Artikeln 59 und 61 MVO"}]
[null,null,null,null,{"$f":"Translations!$B$755","v":"Aus der kurzen Beschreibung sollte hervorgehen, wie das IT-System getestet und kontrolliert wird, einschließlich Zugriffskontrolle, Back-up, Wiederherstellung von Daten und Sicherheit."}]
[]
[null,null,null,null,{"$f":"Translations!$B$405","v":"Bezeichnung des Verfahrens"}]
[null,null,null,null,{"$f":"Translations!$B$407","v":"Referenz des Verfahrens"}]
[null,null,null,null,{"$f":"Translations!$B$409","v":"Referenz Diagramm (falls zutreffend)"}]
[null,null,null,null,{"$f":"Translations!$B$411","v":"Kurzbeschreibung des Verfahrens"}]
[]
[]
[null,null,null,null,{"$f":"Translations!$B$414","v":"Für das Verfahren und damit generierte Daten zuständige Stelle oder Abteilung"}]
[null,null,null,null,{"$f":"Translations!$B$416","v":"Aufbewahrungsort der Aufzeichnungen"}]
[null,null,null,null,{"$f":"Translations!$B$418","v":"Bezeichnung des eingesetzten IT-Systems (soweit anwendbar)"}]
[null,null,null,null,{"$f":"Translations!$B$420","v":"Liste der angewandten EN oder anderer Normen (soweit zutreffend)"}]
[]
[null,null,null,"(d)",{"$f":"Translations!$B$1230","v":"Angaben zu den Verfahren für die regelmäßige interne Überprüfung und Validierung von Daten gemäß den Artikeln 59 und 63 MVO"}]
[null,null,null,null,{"$f":"Translations!$B$757","v":"Aus der kurzen Beschreibung sollte hervorgehen, dass der Überprüfungs- und Validierungsprozess Folgendes umfasst: Prüfung der Vollständigkeit der Daten, Vergleich mit den  Daten aus den Vorjahren, Vergleich des gemeldeten Brennstoffverbrauchs mit den Rechnungsunterlagen, gegebenenfalls Vergleich des von den Brennstofflieferanten angegebenen Faktors mit internationalen Referenzfaktoren und Kriterien für die Ablehnung von Daten."}]
[]
[null,null,null,null,{"$f":"Translations!$B$405","v":"Bezeichnung des Verfahrens"}]
[null,null,null,null,{"$f":"Translations!$B$407","v":"Referenz des Verfahrens"}]
[null,null,null,null,{"$f":"Translations!$B$409","v":"Referenz Diagramm (falls zutreffend)"}]
[null,null,null,null,{"$f":"Translations!$B$411","v":"Kurzbeschreibung des Verfahrens"}]
[]
[]
[null,null,null,null,{"$f":"Translations!$B$414","v":"Für das Verfahren und damit generierte Daten zuständige Stelle oder Abteilung"}]
[null,null,null,null,{"$f":"Translations!$B$416","v":"Aufbewahrungsort der Aufzeichnungen"}]
[null,null,null,null,{"$f":"Translations!$B$418","v":"Bezeichnung des eingesetzten IT-Systems (soweit anwendbar)"}]
[null,null,null,null,{"$f":"Translations!$B$420","v":"Liste der angewandten EN oder anderer Normen (soweit zutreffend)"}]
[]
[null,null,null,"(e)",{"$f":"Translations!$B$1231","v":"Angaben zu den Verfahren für Berichtigungen und Korrekturmaßnahmen gemäß den Artikeln 59 und 64 MVO"}]
[null,null,null,null,{"$f":"Translations!$B$759","v":"Aus der kurzen Beschreibung sollte hervorgehen, welche geeigneten Maßnahmen getroffen werden, wenn festgestellt wird, dass die Datenfluss- und Kontrollaktivitäten nicht reibungslos funktionieren. Aus dem Verfahren sollte deutlich werden, wie die Gültigkeit der Ergebnisse geprüft wird und wie die Ursache des Funktionsfehlers ermittelt und der Fehler behoben wird."}]
[]
[null,null,null,null,{"$f":"Translations!$B$405","v":"Bezeichnung des Verfahrens"}]
[null,null,null,null,{"$f":"Translations!$B$407","v":"Referenz des Verfahrens"}]
[null,null,null,null,{"$f":"Translations!$B$409","v":"Referenz Diagramm (falls zutreffend)"}]
[null,null,null,null,{"$f":"Translations!$B$411","v":"Kurzbeschreibung des Verfahrens"}]
[]
[]
[null,null,null,null,{"$f":"Translations!$B$414","v":"Für das Verfahren und damit generierte Daten zuständige Stelle oder Abteilung"}]
[null,null,null,null,{"$f":"Translations!$B$416","v":"Aufbewahrungsort der Aufzeichnungen"}]
[null,null,null,null,{"$f":"Translations!$B$418","v":"Bezeichnung des eingesetzten IT-Systems (soweit anwendbar)"}]
[null,null,null,null,{"$f":"Translations!$B$420","v":"Liste der angewandten EN oder anderer Normen (soweit zutreffend)"}]
[]
[null,null,null,"(f)",{"$f":"Translations!$B$1232","v":"Angaben zu den Verfahren für die Kontrolle von ausgelagerten Prozessen gemäß den Artikeln 59 und 65 MVO"}]
[null,null,null,null,{"$f":"Translations!$B$761","v":"Aus der kurzen Beschreibung sollte hervorgehen, wie die Datenfluss- und Kontrollaktivitäten ausgelagerter Prozesse überprüft werden, und wie die Qualität der dabei ermittelten Daten geprüft wird."}]
[]
[null,null,null,null,{"$f":"Translations!$B$405","v":"Bezeichnung des Verfahrens"}]
[null,null,null,null,{"$f":"Translations!$B$407","v":"Referenz des Verfahrens"}]
[null,null,null,null,{"$f":"Translations!$B$409","v":"Referenz Diagramm (falls zutreffend)"}]
[null,null,null,null,{"$f":"Translations!$B$411","v":"Kurzbeschreibung des Verfahrens"}]
[]
[]
[null,null,null,null,{"$f":"Translations!$B$414","v":"Für das Verfahren und damit generierte Daten zuständige Stelle oder Abteilung"}]
[null,null,null,null,{"$f":"Translations!$B$416","v":"Aufbewahrungsort der Aufzeichnungen"}]
[null,null,null,null,{"$f":"Translations!$B$418","v":"Bezeichnung des eingesetzten IT-Systems (soweit anwendbar)"}]
[null,null,null,null,{"$f":"Translations!$B$420","v":"Liste der angewandten EN oder anderer Normen (soweit zutreffend)"}]
[]
[null,null,null,"(g)",{"$f":"Translations!$B$1233","v":"Angaben zu den Verfahren zur Schließung bestehender Datenlücken gemäß Artikel 66 MVO"}]
[null,null,null,null,{"$f":"Translations!$B$1234","v":"Hier sollte kurz und knapp beschrieben werden, wie Datenlücken durch die Verwendung einer geeigneten Schätzmethode zur Ermittlung konservativer Ersatzdaten für den betreffenden Zeitraum und den fehlenden Parameter geschlossen werden."}]
[null,null,null,null,{"$f":"Translations!$B$1235","v":"Dieses Verfahren ist nur dann obligatorisch, wenn relevante Daten fehlen; es wird jedoch empfohlen, ein solches Verfahren in jedem Fall einzuführen, um die Einhaltung der Vorschriften auch dann sicherzustellen, wenn Datenlücken auftreten."}]
[]
[null,null,null,null,{"$f":"Translations!$B$405","v":"Bezeichnung des Verfahrens"}]
[null,null,null,null,{"$f":"Translations!$B$407","v":"Referenz des Verfahrens"}]
[null,null,null,null,{"$f":"Translations!$B$409","v":"Referenz Diagramm (falls zutreffend)"}]
[null,null,null,null,{"$f":"Translations!$B$411","v":"Kurzbeschreibung des Verfahrens"}]
[]
[]
[null,null,null,null,{"$f":"Translations!$B$414","v":"Für das Verfahren und damit generierte Daten zuständige Stelle oder Abteilung"}]
[null,null,null,null,{"$f":"Translations!$B$416","v":"Aufbewahrungsort der Aufzeichnungen"}]
[null,null,null,null,{"$f":"Translations!$B$418","v":"Bezeichnung des eingesetzten IT-Systems (soweit anwendbar)"}]
[null,null,null,null,{"$f":"Translations!$B$420","v":"Liste der angewandten EN oder anderer Normen (soweit zutreffend)"}]
[]
[null,null,null,"(h)",{"$f":"Translations!$B$1272","v":"Angaben zu den Verfahren für das Führen von Aufzeichnungen und für die Dokumentation gemäß den Artikeln 59 und 67 MVO"}]
[null,null,null,null,{"$f":"Translations!$B$763","v":"Aus der kurzen Beschreibung sollte hervorgehen, nach welchem Verfahren Unterlagen aufbewahrt werden, namentlich in Bezug auf die in Anhang IX der MVO genannten Daten und Informationen, und wie Daten so gespeichert werden, dass die Informationen der zuständigen Behörde oder der Prüfstelle auf deren Aufforderung ohne weiteres zur Verfügung gestellt werden können."}]
[]
[null,null,null,null,{"$f":"Translations!$B$405","v":"Bezeichnung des Verfahrens"}]
[null,null,null,null,{"$f":"Translations!$B$407","v":"Referenz des Verfahrens"}]
[null,null,null,null,{"$f":"Translations!$B$409","v":"Referenz Diagramm (falls zutreffend)"}]
[null,null,null,null,{"$f":"Translations!$B$411","v":"Kurzbeschreibung des Verfahrens"}]
[]
[]
[null,null,null,null,{"$f":"Translations!$B$414","v":"Für das Verfahren und damit generierte Daten zuständige Stelle oder Abteilung"}]
[null,null,null,null,{"$f":"Translations!$B$416","v":"Aufbewahrungsort der Aufzeichnungen"}]
[null,null,null,null,{"$f":"Translations!$B$418","v":"Bezeichnung des eingesetzten IT-Systems (soweit anwendbar)"}]
[null,null,null,null,{"$f":"Translations!$B$420","v":"Liste der angewandten EN oder anderer Normen (soweit zutreffend)"}]
[]
[null,null,null,"(i)",{"$f":"Translations!$B$764","v":"Angaben zu den dokumentierten Ergebnissen einer Risikobewertung, die belegt, dass die Kontrollaktivitäten und -verfahren den identifizierten Risiken angemessen sind, in Einklang mit Artikel 12 Absatz 1 Buchstabe b MVO.  (Hinweis: Gemäß Artikel 47 Absatz 3 MVO sind Anlagen mit geringen Emissionen von der Verpflichtung befreit, der zuständigen Behörde die Risikobewertung vorzulegen.)"}]
[null,null,null,null,{"$f":"Translations!$B$1236","v":"Angabe der Referenz der Datei/der Unterlage, in der die Risikobewertung enthalten ist."}]
[]
[]
["\n",null,null,"(j)",{"$f":"Translations!$B$766","v":"Hat Ihre Einrichtung ein dokumentiertes Umweltmanagementsystem?"}]
[]
[]
["\n",null,null,"(k)",{"$f":"Translations!$B$767","v":"Bei Zertifizierung des Umweltmanagementsystems durch eine akkreditierte Stelle: Angabe der betreffenden Norm, z. B. ISO 14001, EMAS usw.:"}]
[]
[]
[null,null,23,{"$f":"Translations!$B$40","v":"Liste der verwendeten Definitionen und Abkürzungen"}]
[]
[null,null,null,"(a)",{"$f":"Translations!$B$768","v":"Listen Sie bitte in diesem Monitoringkonzept verwendete Abkürzungen bzw. Akronyme oder Definitionen auf:"}]
[]
[null,null,null,null,{"$f":"Translations!$B$769","v":"Abkürzung"},null,{"$f":"Translations!$B$770","v":"Definition"}]
[]
[]
[]
[]
[]
[]
[]
[]
[]
[]
[]
[null,null,24,{"$f":"Translations!$B$41","v":"Zusätzliche Informationen"}]
[]
[null,null,null,"(a)",{"$f":"Translations!$B$771","v":"Listen Sie im Folgenden etwaige sonstige Informationen auf, die Sie mit einreichen und die bei der Prüfung Ihres Monitoringkonzepts berücksichtigt werden sollen. Bitte stellen Sie diese soweit möglich in elektronischer Form bereit. Sie können Informationen im Format Microsoft Word, Excel oder Adobe Acrobat vorlegen."}]
[null,null,null,null,{"$f":"Translations!$B$772","v":"Es wird empfohlen, nur wesentliche Informationen zu übermitteln, um das Genehmigungsverfahren nicht zu verlangsamen. Auf die zusätzlichen Dokumente sollte klar verwiesen werden, und der Name/die Referenznummer der Datei sollten nachstehend angegeben werden. Bei Fragen wenden Sie sich erforderlichenfalls an die zuständige Behörde."}]
[null,null,null,null,{"$f":"Translations!$B$773","v":"Bitte geben Sie nachstehend den/die Dateinamen (falls in elektronischer Form) oder die Dokument-Referenznummer(n) (wenn in Papierform) an:"}]
[]
[null,null,null,null,{"$f":"Translations!$B$774","v":"Dateiname/Referenznr."},null,{"$f":"Translations!$B$775","v":"Dokumentenbeschreibung"}]
[]
[]
[]
[]
[]
[]
[]
[]
[]
[]
[]
[null,null,25,{"$f":"Translations!$B$1152","v":"Weitere Verfahren"}]
[]
["ausblenden"]
["ausblenden",null,null,null,{"$f":"Translations!$B$1150","v":"Weitere Verfahren des Betreibers"}]
["ausblenden"]
["ausblenden",null,null,null,{"$f":"Translations!$B$405","v":"Bezeichnung des Verfahrens"}]
["ausblenden",null,null,null,{"$f":"Translations!$B$407","v":"Referenz des Verfahrens"}]
["ausblenden",null,null,null,{"$f":"Translations!$B$409","v":"Referenz Diagramm (falls zutreffend)"}]
["ausblenden",null,null,null,{"$f":"Translations!$B$411","v":"Kurzbeschreibung des Verfahrens"}]
["ausblenden"]
["ausblenden"]
["ausblenden",null,null,null,{"$f":"Translations!$B$414","v":"Für das Verfahren und damit generierte Daten zuständige Stelle oder Abteilung"}]
["ausblenden",null,null,null,{"$f":"Translations!$B$416","v":"Aufbewahrungsort der Aufzeichnungen"}]
["ausblenden",null,null,null,{"$f":"Translations!$B$418","v":"Bezeichnung des eingesetzten IT-Systems (soweit anwendbar)"}]
["ausblenden",null,null,null,{"$f":"Translations!$B$420","v":"Liste der angewandten EN oder anderer Normen (soweit zutreffend)"}]
["ADD_Procedure"]
[null,null,null,null,null,null,{"$f":"Translations!$B$429","v":"Auf „+“ klicken, um weitere Verfahren einzufügen"}]
[]
[]
[]
[null,null,null,null,null,{"$f":"EUconst_MsgNextSheet","v":"<<< Hier klicken, um mit nächstem Blatt fortzufahren >>> "}]

{"sheet":"L_MS specific content","index":14,"n_rows":9,"n_cols":8,"rows_kept":9,"cut":false,"hidden":false,"merged":[[2,9,2,10],[0,0,2,2],[0,3,0,4],[0,5,0,6],[0,7,0,8],[0,9,0,10],[1,3,1,4],[1,5,1,6],[1,7,1,8],[1,9,1,10],[2,3,2,4],[2,5,2,6],[2,7,2,8],[10,1,10,12],[11,1,11,12],[4,1,4,9],[6,2,6,12],[8,1,8,12],[9,1,9,12],[27,1,27,12],[12,1,12,12],[13,1,13,12],[26,1,26,12],[14,1,14,12],[15,1,15,12],[16,1,16,12],[17,1,17,12],[22,1,22,12],[23,1,23,12],[25,1,25,12],[18,1,18,12],[19,1,19,12],[20,1,20,12],[21,1,21,12],[24,1,24,12],[28,1,28,12],[34,1,34,12],[30,1,30,12],[31,1,31,12],[32,1,32,12],[33,1,33,12],[29,1,29,12]]}
[{"$f":"Translations!$B$781","v":"L. Member State specific content"},null,null,{"$f":"Translations!$B$59","v":"Navigationsbereich:"},null,{"$f":"Translations!$B$60","v":"Inhaltsverzeichnis"},null,{"$f":"Translations!$B$61","v":"Vorheriges Blatt"}]
[null,null,null,{"$f":"Translations!$B$63","v":"Blattanfang"}]
[]
[]
[null,{"$f":"Translations!$B$43","v":"L. Weitere mitgliedstaatspezifische Angaben"}]
[]
[null,26,{"$f":"Translations!$B$44","v":"Anmerkungen"}]
[]
[null,{"$f":"Translations!$B$782","v":"Platz für weitere Anmerkungen:"}]

{"sheet":"M_Accounting","index":15,"n_rows":135,"n_cols":156,"rows_kept":135,"cut":false,"hidden":false,"merged":[[2,13,2,19],[2,25,2,31],[88,8,88,12],[108,9,108,11],[108,12,108,14],[108,15,108,17],[108,18,108,20],[108,21,108,23],[108,24,108,31],[8,14,8,18],[8,23,8,30],[8,31,8,38],[108,32,108,39],[108,40,108,47],[108,48,108,53],[8,47,8,54],[8,55,8,62],[8,63,8,70],[8,39,8,46]]}
[null,null,null,null,null,null,null,null,null,null,null,null,null,null,null,null,null,null,null,null,null,null,null,null,null,null,null,null,null,null,null,null,null,null,null,null,null,null,null,null,null,null,null,null,null,null,null,null,null,null,null,null,null,null,null,null,null,null,null,null,null,null,null,null,null,null,null,null,null,null,null,null,null,null,null,null,null,null,null,null,null,null,null,null,null,null,null,"ausblenden","ausblenden","ausblenden","ausblenden","ausblenden","ausblenden","ausblenden","ausblenden","ausblenden","ausblenden","ausblenden","ausblenden","ausblenden","ausblenden","ausblenden","ausblenden","ausblenden","ausblenden","ausblenden","ausblenden","ausblenden","ausblenden","ausblenden","ausblenden","ausblenden","ausblenden","ausblenden","ausblenden","ausblenden","ausblenden","ausblenden","ausblenden","ausblenden","ausblenden","ausblenden","ausblenden","ausblenden","ausblenden","ausblenden","ausblenden","ausblenden","ausblenden","ausblenden","ausblenden","ausblenden","ausblenden","ausblenden","ausblenden","ausblenden","ausblenden","ausblenden","ausblenden","ausblenden","ausblenden","ausblenden","ausblenden","ausblenden","ausblenden","ausblenden","ausblenden","ausblenden","ausblenden","ausblenden","ausblenden","ausblenden","ausblenden","ausblenden","ausblenden","ausblenden"]
[null,{"$f":"Translations!$B$1237","v":"Allgemeine Informationen"}]
[null,null,null,null,null,null,null,null,null,null,null,null,null,{"$f":"C_InstallationDescription!$E$42","v":"Liste der in der Anlage durchgeführten Tätigkeiten gemäß Anhang I und III Emissionszertifikategesetz 2011:"},null,null,null,null,null,null,null,null,null,null,null,{"$f":"C_InstallationDescription!$E$90","v":"Vorgeschlagene Überwachungsmethodiken:"}]
[null,{"$f":"'B_Operator&Inst.ID'!$E$33","v":"Kennung der Anlage:"},{"$f":"Translations!$B$156","v":"Name des Inhabers"},{"$f":"Translations!$B$47","v":"Name der Anlage:"},{"$f":"Translations!$B$152","v":"Zuständige Behörde"},{"$f":"'B_Operator&Inst.ID'!G56","v":"Titel:"},{"$f":"'B_Operator&Inst.ID'!G57","v":"Vorname:"},{"$f":"'B_Operator&Inst.ID'!G58","v":"Nachname:"},{"$f":"'B_Operator&Inst.ID'!G59","v":"Funktion:"},{"$f":"'B_Operator&Inst.ID'!G60","v":"Firmenname (Falls nicht mit Inhaber identisch):"},{"$f":"'B_Operator&Inst.ID'!G62","v":"Telefonnummer:"},{"$f":"'B_Operator&Inst.ID'!G63","v":"E-Mail-Adresse:"},{"$f":"C_InstallationDescription!$E$38","v":"Name und Referenz der Unterlage mit dem Diagramm der Stoffströme:"},1,2,3,4,5,6,7,{"$f":"C_InstallationDescription!$E$70","v":"Geschätzte Jahresemissionen"},{"$f":"C_InstallationDescription!$E$71","v":"Anlagenkategorie gemäß Artikel 19 MVO"},{"$f":"C_InstallationDescription!$E$73","v":"Anlage mit geringen Emissionen?"},{"$f":"C_InstallationDescription!$E$82","v":"Beruhen die geschätzten Emissionen unter Buchstabe d bzw. e auf konservativen Schätzungen?"},{"$f":"C_InstallationDescription!$E$82","v":"Beruhen die geschätzten Emissionen unter Buchstabe d bzw. e auf konservativen Schätzungen?"},{"$f":"C_InstallationDescription!E96","v":"Auf Berechnungen beruhende Methodik für CO2:"},{"$f":"C_InstallationDescription!E97","v":"Auf Messungen beruhende Methodik für CO2:"},{"$f":"C_InstallationDescription!E98","v":"Fall-back-Methodik (Artikel 22):"},{"$f":"C_InstallationDescription!E99","v":"Überwachung von N2O-Emissionen:"},{"$f":"C_InstallationDescription!E100","v":"Überwachung von PFC-Emissionen:"},{"$f":"C_InstallationDescription!E101","v":"Überwachung von weitergeleitetem/inhärentem CO2 und CCS:"},{"$f":"C_InstallationDescription!E102","v":"Überwachung von „CCU für dauerhaft gebundenes CO2“ "}]
[null,{"$f":"IF('B_Operator&Inst.ID'!$I$33=\"\",\"\",'B_Operator&Inst.ID'!$I$33)","v":""},{"$f":"IF('B_Operator&Inst.ID'!$I$16=\"\",\"\",'B_Operator&Inst.ID'!$I$16)","v":""},{"$f":"IF('B_Operator&Inst.ID'!$I$29=\"\",\"\",'B_Operator&Inst.ID'!$I$29)","v":""},{"$f":"IF('B_Operator&Inst.ID'!$I$10=\"\",\"\",'B_Operator&Inst.ID'!$I$10)","v":""},{"$f":"IF('B_Operator&Inst.ID'!I56=\"\",\"\",'B_Operator&Inst.ID'!I56)","v":""},{"$f":"IF('B_Operator&Inst.ID'!I57=\"\",\"\",'B_Operator&Inst.ID'!I57)","v":""},{"$f":"IF('B_Operator&Inst.ID'!I58=\"\",\"\",'B_Operator&Inst.ID'!I58)","v":""},{"$f":"IF('B_Operator&Inst.ID'!I59=\"\",\"\",'B_Operator&Inst.ID'!I59)","v":""},{"$f":"IF('B_Operator&Inst.ID'!I60=\"\",\"\",'B_Operator&Inst.ID'!I60)","v":""},{"$f":"IF('B_Operator&Inst.ID'!I62=\"\",\"\",'B_Operator&Inst.ID'!I62)","v":""},{"$f":"IF('B_Operator&Inst.ID'!I63=\"\",\"\",'B_Operator&Inst.ID'!I63)","v":""},{"$f":"IF(C_InstallationDescription!$K$38=\"\",\"\",C_InstallationDescription!$K$38)","v":""},{"$f":"IF(INDEX(C_InstallationDescription!$F$56:$F$62,N4)=\"\",\"\",INDEX(C_InstallationDescription!$F$56:$F$62,N4))","v":""},{"$f":"IF(INDEX(C_InstallationDescription!$F$56:$F$62,O4)=\"\",\"\",INDEX(C_InstallationDescription!$F$56:$F$62,O4))","v":""},{"$f":"IF(INDEX(C_InstallationDescription!$F$56:$F$62,P4)=\"\",\"\",INDEX(C_InstallationDescription!$F$56:$F$62,P4))","v":""},{"$f":"IF(INDEX(C_InstallationDescription!$F$56:$F$62,Q4)=\"\",\"\",INDEX(C_InstallationDescription!$F$56:$F$62,Q4))","v":""},{"$f":"IF(INDEX(C_InstallationDescription!$F$56:$F$62,R4)=\"\",\"\",INDEX(C_InstallationDescription!$F$56:$F$62,R4))","v":""},{"$f":"IF(INDEX(C_InstallationDescription!$F$56:$F$62,S4)=\"\",\"\",INDEX(C_InstallationDescription!$F$56:$F$62,S4))","v":""},{"$f":"IF(INDEX(C_InstallationDescription!$F$56:$F$62,T4)=\"\",\"\",INDEX(C_InstallationDescription!$F$56:$F$62,T4))","v":""},{"$f":"IF(C_InstallationDescription!$I$70=\"\",\"\",C_InstallationDescription!$I$70)","v":""},{"$f":"IF(C_InstallationDescription!$I$71=\"\",\"\",C_InstallationDescription!$I$71)","v":""},{"$f":"IF(C_InstallationDescription!$I$73=\"\",\"\",C_InstallationDescription!$I$73)","v":""},{"$f":"IF(C_InstallationDescription!L82=\"\",\"\",C_InstallationDescription!L82)","v":""},{"$f":"IF(C_InstallationDescription!E84=\"\",\"\",C_InstallationDescription!E84)","v":""},{"$f":"IF(C_InstallationDescription!I96=\"\",\"\",C_InstallationDescription!I96)","v":""},{"$f":"IF(C_InstallationDescription!I97=\"\",\"\",C_InstallationDescription!I97)","v":""},{"$f":"IF(C_InstallationDescription!I98=\"\",\"\",C_InstallationDescription!I98)","v":""},{"$f":"IF(C_InstallationDescription!I99=\"\",\"\",C_InstallationDescription!I99)","v":""},{"$f":"IF(C_InstallationDescription!I100=\"\",\"\",C_InstallationDescription!I100)","v":""},{"$f":"IF(CNTR_InstHasTransferredCO2=\"\",\"\",CNTR_InstHasTransferredCO2)","v":""},{"$f":"IF(CNTR_InstHasCCU=\"\",\"\",CNTR_InstHasCCU)","v":""}]
[]
["ausblenden",null,null,null,null,null,null,null,8,11,8,12,12,12,8,9,10,11,12,5,8,8,8,8,8,9,10,11,12,13,14,8,8,9,10,11,12,13,14,8,8,9,10,11,12,13,14,8,8,9,10,11,12,13,14,8,8,9,10,11,12,13,14,8,8,9,10,11,12,13,14,5]
[null,{"$f":"Translations!$B$1238","v":"Stoffströme (ohne PFC)"}]
[null,null,null,null,null,null,null,null,null,null,null,null,null,null,{"$f":"Translations!$B$472","v":"Verwendete Messgeräte:"},null,null,null,null,null,null,null,null,{"$f":"Translations!$B$520","v":"Unterer Heizwert (Hu)"},null,null,null,null,null,null,null,{"$f":"Translations!$B$521","v":"(vorläufiger) Emissionsfaktor"},null,null,null,null,null,null,null,{"$f":"Translations!$B$522","v":"Oxidationsfaktor"},null,null,null,null,null,null,null,{"$f":"Translations!$B$523","v":"Umsetzungsfaktor"},null,null,null,null,null,null,null,{"$f":"Translations!$B$524","v":"Kohlenstoffgehalt"},null,null,null,null,null,null,null,{"$f":"Translations!$B$525","v":"Biomasseanteil (soweit zutreffend)"}]
[null,{"$f":"Translations!$B$287","v":"Ref. Stoffstrom S1, S2, …"},{"$f":"Translations!$B$288","v":"Bezeichnung des Stoffstroms"},{"$f":"Translations!$B$289","v":"Stoffstromtyp"},{"$f":"Translations!$B$310","v":"Vollständige Bezeichnung des Stoffstroms (Bezeichnung und Typ)"},{"$f":"Translations!$B$276","v":"Geschätzte Emissionen           [t CO2Äq / Jahr]"},{"$f":"Translations!$B$277","v":"Mögliche Kategorie"},{"$f":"Translations!$B$311","v":"Ausgewählte Kategorie"},{"$f":"Translations!$B$456","v":"Bestimmungsverfahren:"},{"$f":"Translations!$B$459","v":"Verweis auf Verfahren für die Bestandsbestimmung am Jahresende:"},{"$f":"Translations!$B$462","v":"Gerät unter Kontrolle des "},{"$f":"Translations!$B$465","v":"Bitte bestätigen Sie, dass die Bedingungen des Artikels 29 Absatz 2 erfüllt sind:"},{"$f":"Translations!$B$468","v":"Bestimmen Sie die Brennstoff- oder Materialienmenge anhand von Rechnungen?"},{"$f":"Translations!$B$469","v":"Bitte bestätigen Sie, dass Handelspartner und Inhaber voneinander unabhängig sind:"},1,2,3,4,5,{"$f":"Translations!$B$475","v":"Anmerkung / Beschreibung des Vorgehens, wenn mehrere Geräte verwendet werden:"},{"$f":"Translations!$B$477","v":"Vorgeschriebene Ebene Tätigkeitsdaten:"},{"$f":"Translations!$B$478","v":"Angewandte Ebene Tätigkeitsdaten:"},{"$f":"Translations!$B$479","v":"Erreichte Unsicherheit:"},{"$f":"Translations!$B$517","v":"vorgeschrie-bene Ebene"},{"$f":"Translations!$B$518","v":"angewandte Ebene"},{"$f":"Translations!$B$535","v":"Standard-wert"},{"$f":"Translations!$B$536","v":"Einheit"},{"$f":"Translations!$B$537","v":"Ref. Quelle"},{"$f":"Translations!$B$538","v":"Ref. Analyse"},{"$f":"Translations!$B$539","v":"Ref. Probenahmeplan"},{"$f":"Translations!$B$540","v":"Analyse-häufigkeit"},{"$f":"Translations!$B$517","v":"vorgeschrie-bene Ebene"},{"$f":"Translations!$B$518","v":"angewandte Ebene"},{"$f":"Translations!$B$535","v":"Standard-wert"},{"$f":"Translations!$B$536","v":"Einheit"},{"$f":"Translations!$B$537","v":"Ref. Quelle"},{"$f":"Translations!$B$538","v":"Ref. Analyse"},{"$f":"Translations!$B$539","v":"Ref. Probenahmeplan"},{"$f":"Translations!$B$540","v":"Analyse-häufigkeit"},{"$f":"Translations!$B$517","v":"vorgeschrie-bene Ebene"},{"$f":"Translations!$B$518","v":"angewandte Ebene"},{"$f":"Translations!$B$535","v":"Standard-wert"},{"$f":"Translations!$B$536","v":"Einheit"},{"$f":"Translations!$B$537","v":"Ref. Quelle"},{"$f":"Translations!$B$538","v":"Ref. Analyse"},{"$f":"Translations!$B$539","v":"Ref. Probenahmeplan"},{"$f":"Translations!$B$540","v":"Analyse-häufigkeit"},{"$f":"Translations!$B$517","v":"vorgeschrie-bene Ebene"},{"$f":"Translations!$B$518","v":"angewandte Ebene"},{"$f":"Translations!$B$535","v":"Standard-wert"},{"$f":"Translations!$B$536","v":"Einheit"},{"$f":"Translations!$B$537","v":"Ref. Quelle"},{"$f":"Translations!$B$538","v":"Ref. Analyse"},{"$f":"Translations!$B$539","v":"Ref. Probenahmeplan"},{"$f":"Translations!$B$540","v":"Analyse-häufigkeit"},{"$f":"Translations!$B$517","v":"vorgeschrie-bene Ebene"},{"$f":"Translations!$B$518","v":"angewandte Ebene"},{"$f":"Translations!$B$535","v":"Standard-wert"},{"$f":"Translations!$B$536","v":"Einheit"},{"$f":"Translations!$B$537","v":"Ref. Quelle"},{"$f":"Translations!$B$538","v":"Ref. Analyse"},{"$f":"Translations!$B$539","v":"Ref. Probenahmeplan"},{"$f":"Translations!$B$540","v":"Analyse-häufigkeit"},{"$f":"Translations!$B$517","v":"vorgeschrie-bene Ebene"},{"$f":"Translations!$B$518","v":"angewandte Ebene"},{"$f":"Translations!$B$535","v":"Standard-wert"},{"$f":"Translations!$B$536","v":"Einheit"},{"$f":"Translations!$B$537","v":"Ref. Quelle"},{"$f":"Translations!$B$538","v":"Ref. Analyse"},{"$f":"Translations!$B$539","v":"Ref. Probenahmeplan"},{"$f":"Translations!$B$540","v":"Analyse-häufigkeit"},{"$f":"Translations!$B$1198","v":"Anmerkungen oder Begründung für Nichtanwendung der vorgeschriebenen Ebene:"}]
[null,{"$f":"IF(COUNTIF($CK$10:CK11,TRUE)>0,\"\",INDEX(C_InstallationDescription!$E$226:$E$242,ROWS($A$11:A11)))","v":""},{"$f":"IF($E11=\"\",\"\",INDEX(C_InstallationDescription!F:F,MATCH($B11,C_InstallationDescription!$E:$E,0)))","v":""},{"$f":"IF($E11=\"\",\"\",INDEX(C_InstallationDescription!I:I,MATCH($B11,C_InstallationDescription!$E:$E,0)))","v":""},{"$f":"IF($B11=\"\",\"\",INDEX(C_InstallationDescription!F:F,MATCH($CJ11,C_InstallationDescription!$Q:$Q,0)))","v":""},{"$f":"IF($E11=\"\",\"\",INDEX(C_InstallationDescription!L:L,MATCH($CJ11,C_InstallationDescription!$Q:$Q,0)))","v":""},{"$f":"IF($E11=\"\",\"\",INDEX(C_InstallationDescription!M:M,MATCH($CJ11,C_InstallationDescription!$Q:$Q,0)))","v":""},{"$f":"IF($E11=\"\",\"\",INDEX(C_InstallationDescription!N:N,MATCH($CJ11,C_InstallationDescription!$Q:$Q,0)))","v":""},{"$f":"IF($E11=\"\",\"\",IF(INDEX(E_SourceStreams!$A:$N,CN11,I$7)=\"\",\"\",INDEX(E_SourceStreams!$A:$N,CN11,I$7)))","v":""},{"$f":"IF($E11=\"\",\"\",IF(INDEX(E_SourceStreams!$A:$N,CO11,J$7)=\"\",\"\",INDEX(E_SourceStreams!$A:$N,CO11,J$7)))","v":""},{"$f":"IF($E11=\"\",\"\",IF(INDEX(E_SourceStreams!$A:$N,CP11,K$7)=\"\",\"\",INDEX(E_SourceStreams!$A:$N,CP11,K$7)))","v":""},{"$f":"IF($E11=\"\",\"\",IF(INDEX(E_SourceStreams!$A:$N,CQ11,L$7)=\"\",\"\",INDEX(E_SourceStreams!$A:$N,CQ11,L$7)))","v":""},{"$f":"IF($E11=\"\",\"\",IF(INDEX(E_SourceStreams!$A:$N,CR11,M$7)=\"\",\"\",INDEX(E_SourceStreams!$A:$N,CR11,M$7)))","v":""},{"$f":"IF($E11=\"\",\"\",IF(INDEX(E_SourceStreams!$A:$N,CS11,N$7)=\"\",\"\",INDEX(E_SourceStreams!$A:$N,CS11,N$7)))","v":""},{"$f":"IF($E11=\"\",\"\",IF(INDEX(E_SourceStreams!$A:$N,CT11,O$7)=\"\",\"\",INDEX(E_SourceStreams!$A:$N,CT11,O$7)))","v":""},{"$f":"IF($E11=\"\",\"\",IF(INDEX(E_SourceStreams!$A:$N,CU11,P$7)=\"\",\"\",INDEX(E_SourceStreams!$A:$N,CU11,P$7)))","v":""},{"$f":"IF($E11=\"\",\"\",IF(INDEX(E_SourceStreams!$A:$N,CV11,Q$7)=\"\",\"\",INDEX(E_SourceStreams!$A:$N,CV11,Q$7)))","v":""},{"$f":"IF($E11=\"\",\"\",IF(INDEX(E_SourceStreams!$A:$N,CW11,R$7)=\"\",\"\",INDEX(E_SourceStreams!$A:$N,CW11,R$7)))","v":""},{"$f":"IF($E11=\"\",\"\",IF(INDEX(E_SourceStreams!$A:$N,CX11,S$7)=\"\",\"\",INDEX(E_SourceStreams!$A:$N,CX11,S$7)))","v":""},{"$f":"IF($E11=\"\",\"\",IF(INDEX(E_SourceStreams!$A:$N,CY11,T$7)=\"\",\"\",INDEX(E_SourceStreams!$A:$N,CY11,T$7)))","v":""},{"$f":"IF($E11=\"\",\"\",IF(INDEX(E_SourceStreams!$A:$N,CZ11,U$7)=\"\",\"\",INDEX(E_SourceStreams!$A:$N,CZ11,U$7)))","v":""},{"$f":"IF($E11=\"\",\"\",IF(INDEX(E_SourceStreams!$A:$N,DA11,V$7)=\"\",\"\",INDEX(E_SourceStreams!$A:$N,DA11,V$7)))","v":""},{"$f":"IF($E11=\"\",\"\",IF(INDEX(E_SourceStreams!$A:$N,DB11,W$7)=\"\",\"\",INDEX(E_SourceStreams!$A:$N,DB11,W$7)))","v":""},{"$f":"IF($E11=\"\",\"\",IF(INDEX(E_SourceStreams!$A:$N,DC11,X$7)=\"\",\"\",INDEX(E_SourceStreams!$A:$N,DC11,X$7)))","v":""},{"$f":"IF($E11=\"\",\"\",IF(INDEX(E_SourceStreams!$A:$N,DD11,Y$7)=\"\",\"\",INDEX(E_SourceStreams!$A:$N,DD11,Y$7)))","v":""},{"$f":"IF($E11=\"\",\"\",IF(INDEX(E_SourceStreams!$A:$N,DE11,Z$7)=\"\",\"\",INDEX(E_SourceStreams!$A:$N,DE11,Z$7)))","v":""},{"$f":"IF($E11=\"\",\"\",IF(INDEX(E_SourceStreams!$A:$N,DF11,AA$7)=\"\",\"\",INDEX(E_SourceStreams!$A:$N,DF11,AA$7)))","v":""},{"$f":"IF($E11=\"\",\"\",IF(INDEX(E_SourceStreams!$A:$N,DG11,AB$7)=\"\",\"\",INDEX(E_SourceStreams!$A:$N,DG11,AB$7)))","v":""},{"$f":"IF($E11=\"\",\"\",IF(INDEX(E_SourceStreams!$A:$N,DH11,AC$7)=\"\",\"\",INDEX(E_SourceStreams!$A:$N,DH11,AC$7)))","v":""},{"$f":"IF($E11=\"\",\"\",IF(INDEX(E_SourceStreams!$A:$N,DI11,AD$7)=\"\",\"\",INDEX(E_SourceStreams!$A:$N,DI11,AD$7)))","v":""},{"$f":"IF($E11=\"\",\"\",IF(INDEX(E_SourceStreams!$A:$N,DJ11,AE$7)=\"\",\"\",INDEX(E_SourceStreams!$A:$N,DJ11,AE$7)))","v":""},{"$f":"IF($E11=\"\",\"\",IF(INDEX(E_SourceStreams!$A:$N,DK11,AF$7)=\"\",\"\",INDEX(E_SourceStreams!$A:$N,DK11,AF$7)))","v":""},{"$f":"IF($E11=\"\",\"\",IF(INDEX(E_SourceStreams!$A:$N,DL11,AG$7)=\"\",\"\",INDEX(E_SourceStreams!$A:$N,DL11,AG$7)))","v":""},{"$f":"IF($E11=\"\",\"\",IF(INDEX(E_SourceStreams!$A:$N,DM11,AH$7)=\"\",\"\",INDEX(E_SourceStreams!$A:$N,DM11,AH$7)))","v":""},{"$f":"IF($E11=\"\",\"\",IF(INDEX(E_SourceStreams!$A:$N,DN11,AI$7)=\"\",\"\",INDEX(E_SourceStreams!$A:$N,DN11,AI$7)))","v":""},{"$f":"IF($E11=\"\",\"\",IF(INDEX(E_SourceStreams!$A:$N,DO11,AJ$7)=\"\",\"\",INDEX(E_SourceStreams!$A:$N,DO11,AJ$7)))","v":""},{"$f":"IF($E11=\"\",\"\",IF(INDEX(E_SourceStreams!$A:$N,DP11,AK$7)=\"\",\"\",INDEX(E_SourceStreams!$A:$N,DP11,AK$7)))","v":""},{"$f":"IF($E11=\"\",\"\",IF(INDEX(E_SourceStreams!$A:$N,DQ11,AL$7)=\"\",\"\",INDEX(E_SourceStreams!$A:$N,DQ11,AL$7)))","v":""},{"$f":"IF($E11=\"\",\"\",IF(INDEX(E_SourceStreams!$A:$N,DR11,AM$7)=\"\",\"\",INDEX(E_SourceStreams!$A:$N,DR11,AM$7)))","v":""},{"$f":"IF($E11=\"\",\"\",IF(INDEX(E_SourceStreams!$A:$N,DS11,AN$7)=\"\",\"\",INDEX(E_SourceStreams!$A:$N,DS11,AN$7)))","v":""},{"$f":"IF($E11=\"\",\"\",IF(INDEX(E_SourceStreams!$A:$N,DT11,AO$7)=\"\",\"\",INDEX(E_SourceStreams!$A:$N,DT11,AO$7)))","v":""},{"$f":"IF($E11=\"\",\"\",IF(INDEX(E_SourceStreams!$A:$N,DU11,AP$7)=\"\",\"\",INDEX(E_SourceStreams!$A:$N,DU11,AP$7)))","v":""},{"$f":"IF($E11=\"\",\"\",IF(INDEX(E_SourceStreams!$A:$N,DV11,AQ$7)=\"\",\"\",INDEX(E_SourceStreams!$A:$N,DV11,AQ$7)))","v":""},{"$f":"IF($E11=\"\",\"\",IF(INDEX(E_SourceStreams!$A:$N,DW11,AR$7)=\"\",\"\",INDEX(E_SourceStreams!$A:$N,DW11,AR$7)))","v":""},{"$f":"IF($E11=\"\",\"\",IF(INDEX(E_SourceStreams!$A:$N,DX11,AS$7)=\"\",\"\",INDEX(E_SourceStreams!$A:$N,DX11,AS$7)))","v":""},{"$f":"IF($E11=\"\",\"\",IF(INDEX(E_SourceStreams!$A:$N,DY11,AT$7)=\"\",\"\",INDEX(E_SourceStreams!$A:$N,DY11,AT$7)))","v":""},{"$f":"IF($E11=\"\",\"\",IF(INDEX(E_SourceStreams!$A:$N,DZ11,AU$7)=\"\",\"\",INDEX(E_SourceStreams!$A:$N,DZ11,AU$7)))","v":""},{"$f":"IF($E11=\"\",\"\",IF(INDEX(E_SourceStreams!$A:$N,EA11,AV$7)=\"\",\"\",INDEX(E_SourceStreams!$A:$N,EA11,AV$7)))","v":""},{"$f":"IF($E11=\"\",\"\",IF(INDEX(E_SourceStreams!$A:$N,EB11,AW$7)=\"\",\"\",INDEX(E_SourceStreams!$A:$N,EB11,AW$7)))","v":""},{"$f":"IF($E11=\"\",\"\",IF(INDEX(E_SourceStreams!$A:$N,EC11,AX$7)=\"\",\"\",INDEX(E_SourceStreams!$A:$N,EC11,AX$7)))","v":""},{"$f":"IF($E11=\"\",\"\",IF(INDEX(E_SourceStreams!$A:$N,ED11,AY$7)=\"\",\"\",INDEX(E_SourceStreams!$A:$N,ED11,AY$7)))","v":""},{"$f":"IF($E11=\"\",\"\",IF(INDEX(E_SourceStreams!$A:$N,EE11,AZ$7)=\"\",\"\",INDEX(E_SourceStreams!$A:$N,EE11,AZ$7)))","v":""},{"$f":"IF($E11=\"\",\"\",IF(INDEX(E_SourceStreams!$A:$N,EF11,BA$7)=\"\",\"\",INDEX(E_SourceStreams!$A:$N,EF11,BA$7)))","v":""},{"$f":"IF($E11=\"\",\"\",IF(INDEX(E_SourceStreams!$A:$N,EG11,BB$7)=\"\",\"\",INDEX(E_SourceStreams!$A:$N,EG11,BB$7)))","v":""},{"$f":"IF($E11=\"\",\"\",IF(INDEX(E_SourceStreams!$A:$N,EH11,BC$7)=\"\",\"\",INDEX(E_SourceStreams!$A:$N,EH11,BC$7)))","v":""},{"$f":"IF($E11=\"\",\"\",IF(INDEX(E_SourceStreams!$A:$N,EI11,BD$7)=\"\",\"\",INDEX(E_SourceStreams!$A:$N,EI11,BD$7)))","v":""},{"$f":"IF($E11=\"\",\"\",IF(INDEX(E_SourceStreams!$A:$N,EJ11,BE$7)=\"\",\"\",INDEX(E_SourceStreams!$A:$N,EJ11,BE$7)))","v":""},{"$f":"IF($E11=\"\",\"\",IF(INDEX(E_SourceStreams!$A:$N,EK11,BF$7)=\"\",\"\",INDEX(E_SourceStreams!$A:$N,EK11,BF$7)))","v":""},{"$f":"IF($E11=\"\",\"\",IF(INDEX(E_SourceStreams!$A:$N,EL11,BG$7)=\"\",\"\",INDEX(E_SourceStreams!$A:$N,EL11,BG$7)))","v":""},{"$f":"IF($E11=\"\",\"\",IF(INDEX(E_SourceStreams!$A:$N,EM11,BH$7)=\"\",\"\",INDEX(E_SourceStreams!$A:$N,EM11,BH$7)))","v":""},{"$f":"IF($E11=\"\",\"\",IF(INDEX(E_SourceStreams!$A:$N,EN11,BI$7)=\"\",\"\",INDEX(E_SourceStreams!$A:$N,EN11,BI$7)))","v":""},{"$f":"IF($E11=\"\",\"\",IF(INDEX(E_SourceStreams!$A:$N,EO11,BJ$7)=\"\",\"\",INDEX(E_SourceStreams!$A:$N,EO11,BJ$7)))","v":""},{"$f":"IF($E11=\"\",\"\",IF(INDEX(E_SourceStreams!$A:$N,EP11,BK$7)=\"\",\"\",INDEX(E_SourceStreams!$A:$N,EP11,BK$7)))","v":""},{"$f":"IF($E11=\"\",\"\",IF(INDEX(E_SourceStreams!$A:$N,EQ11,BL$7)=\"\",\"\",INDEX(E_SourceStreams!$A:$N,EQ11,BL$7)))","v":""},{"$f":"IF($E11=\"\",\"\",IF(INDEX(E_SourceStreams!$A:$N,ER11,BM$7)=\"\",\"\",INDEX(E_SourceStreams!$A:$N,ER11,BM$7)))","v":""},{"$f":"IF($E11=\"\",\"\",IF(INDEX(E_SourceStreams!$A:$N,ES11,BN$7)=\"\",\"\",INDEX(E_SourceStreams!$A:$N,ES11,BN$7)))","v":""},{"$f":"IF($E11=\"\",\"\",IF(INDEX(E_SourceStreams!$A:$N,ET11,BO$7)=\"\",\"\",INDEX(E_SourceStreams!$A:$N,ET11,BO$7)))","v":""},{"$f":"IF($E11=\"\",\"\",IF(INDEX(E_SourceStreams!$A:$N,EU11,BP$7)=\"\",\"\",INDEX(E_SourceStreams!$A:$N,EU11,BP$7)))","v":""},{"$f":"IF($E11=\"\",\"\",IF(INDEX(E_SourceStreams!$A:$N,EV11,BQ$7)=\"\",\"\",INDEX(E_SourceStreams!$A:$N,EV11,BQ$7)))","v":""},{"$f":"IF($E11=\"\",\"\",IF(INDEX(E_SourceStreams!$A:$N,EW11,BR$7)=\"\",\"\",INDEX(E_SourceStreams!$A:$N,EW11,BR$7)))","v":""},{"$f":"IF($E11=\"\",\"\",IF(INDEX(E_SourceStreams!$A:$N,EX11,BS$7)=\"\",\"\",INDEX(E_SourceStreams!$A:$N,EX11,BS$7)))","v":""},{"$f":"IF($E11=\"\",\"\",IF(INDEX(E_SourceStreams!$A:$N,EY11,BT$7)=\"\",\"\",INDEX(E_SourceStreams!$A:$N,EY11,BT$7)))","v":""},null,null,null,null,null,null,null,null,null,null,null,null,null,null,null,{"$f":"EUconst_CNTR_SourceCategory&B11","v":"SourceCategory_"},{"$f":"INDEX(C_InstallationDescription!$A$226:$A$332,ROWS($CI$11:CI11))=\"ausblenden\"","v":false},{"$f":"EUconst_CNTR_SourceStreamName&B11","v":"SourceStreamName_"},null,52,56,61,66,71,75,80,80,80,80,80,87,91,92,93,138,160,160,160,160,160,160,160,139,161,161,161,161,161,161,161,140,162,162,162,162,162,162,162,141,163,163,163,163,163,163,163,142,164,164,164,164,164,164,164,143,165,165,165,165,165,165,165,182]
[null,{"$f":"IF(COUNTIF($CK$10:CK12,TRUE)>0,\"\",INDEX(C_InstallationDescription!$E$226:$E$242,ROWS($A$11:A12)))","v":""},{"$f":"IF($E12=\"\",\"\",INDEX(C_InstallationDescription!F:F,MATCH($B12,C_InstallationDescription!$E:$E,0)))","v":""},{"$f":"IF($E12=\"\",\"\",INDEX(C_InstallationDescription!I:I,MATCH($B12,C_InstallationDescription!$E:$E,0)))","v":""},{"$f":"IF($B12=\"\",\"\",INDEX(C_InstallationDescription!F:F,MATCH($CJ12,C_InstallationDescription!$Q:$Q,0)))","v":""},{"$f":"IF($E12=\"\",\"\",INDEX(C_InstallationDescription!L:L,MATCH($CJ12,C_InstallationDescription!$Q:$Q,0)))","v":""},{"$f":"IF($E12=\"\",\"\",INDEX(C_InstallationDescription!M:M,MATCH($CJ12,C_InstallationDescription!$Q:$Q,0)))","v":""},{"$f":"IF($E12=\"\",\"\",INDEX(C_InstallationDescription!N:N,MATCH($CJ12,C_InstallationDescription!$Q:$Q,0)))","v":""},{"$f":"IF($E12=\"\",\"\",IF(INDEX(E_SourceStreams!$A:$N,CN12,I$7)=\"\",\"\",INDEX(E_SourceStreams!$A:$N,CN12,I$7)))","v":""},{"$f":"IF($E12=\"\",\"\",IF(INDEX(E_SourceStreams!$A:$N,CO12,J$7)=\"\",\"\",INDEX(E_SourceStreams!$A:$N,CO12,J$7)))","v":""},{"$f":"IF($E12=\"\",\"\",IF(INDEX(E_SourceStreams!$A:$N,CP12,K$7)=\"\",\"\",INDEX(E_SourceStreams!$A:$N,CP12,K$7)))","v":""},{"$f":"IF($E12=\"\",\"\",IF(INDEX(E_SourceStreams!$A:$N,CQ12,L$7)=\"\",\"\",INDEX(E_SourceStreams!$A:$N,CQ12,L$7)))","v":""},{"$f":"IF($E12=\"\",\"\",IF(INDEX(E_SourceStreams!$A:$N,CR12,M$7)=\"\",\"\",INDEX(E_SourceStreams!$A:$N,CR12,M$7)))","v":""},{"$f":"IF($E12=\"\",\"\",IF(INDEX(E_SourceStreams!$A:$N,CS12,N$7)=\"\",\"\",INDEX(E_SourceStreams!$A:$N,CS12,N$7)))","v":""},{"$f":"IF($E12=\"\",\"\",IF(INDEX(E_SourceStreams!$A:$N,CT12,O$7)=\"\",\"\",INDEX(E_SourceStreams!$A:$N,CT12,O$7)))","v":""},{"$f":"IF($E12=\"\",\"\",IF(INDEX(E_SourceStreams!$A:$N,CU12,P$7)=\"\",\"\",INDEX(E_SourceStreams!$A:$N,CU12,P$7)))","v":""},{"$f":"IF($E12=\"\",\"\",IF(INDEX(E_SourceStreams!$A:$N,CV12,Q$7)=\"\",\"\",INDEX(E_SourceStreams!$A:$N,CV12,Q$7)))","v":""},{"$f":"IF($E12=\"\",\"\",IF(INDEX(E_SourceStreams!$A:$N,CW12,R$7)=\"\",\"\",INDEX(E_SourceStreams!$A:$N,CW12,R$7)))","v":""},{"$f":"IF($E12=\"\",\"\",IF(INDEX(E_SourceStreams!$A:$N,CX12,S$7)=\"\",\"\",INDEX(E_SourceStreams!$A:$N,CX12,S$7)))","v":""},{"$f":"IF($E12=\"\",\"\",IF(INDEX(E_SourceStreams!$A:$N,CY12,T$7)=\"\",\"\",INDEX(E_SourceStreams!$A:$N,CY12,T$7)))","v":""},{"$f":"IF($E12=\"\",\"\",IF(INDEX(E_SourceStreams!$A:$N,CZ12,U$7)=\"\",\"\",INDEX(E_SourceStreams!$A:$N,CZ12,U$7)))","v":""},{"$f":"IF($E12=\"\",\"\",IF(INDEX(E_SourceStreams!$A:$N,DA12,V$7)=\"\",\"\",INDEX(E_SourceStreams!$A:$N,DA12,V$7)))","v":""},{"$f":"IF($E12=\"\",\"\",IF(INDEX(E_SourceStreams!$A:$N,DB12,W$7)=\"\",\"\",INDEX(E_SourceStreams!$A:$N,DB12,W$7)))","v":""},{"$f":"IF($E12=\"\",\"\",IF(INDEX(E_SourceStreams!$A:$N,DC12,X$7)=\"\",\"\",INDEX(E_SourceStreams!$A:$N,DC12,X$7)))","v":""},{"$f":"IF($E12=\"\",\"\",IF(INDEX(E_SourceStreams!$A:$N,DD12,Y$7)=\"\",\"\",INDEX(E_SourceStreams!$A:$N,DD12,Y$7)))","v":""},{"$f":"IF($E12=\"\",\"\",IF(INDEX(E_SourceStreams!$A:$N,DE12,Z$7)=\"\",\"\",INDEX(E_SourceStreams!$A:$N,DE12,Z$7)))","v":""},{"$f":"IF($E12=\"\",\"\",IF(INDEX(E_SourceStreams!$A:$N,DF12,AA$7)=\"\",\"\",INDEX(E_SourceStreams!$A:$N,DF12,AA$7)))","v":""},{"$f":"IF($E12=\"\",\"\",IF(INDEX(E_SourceStreams!$A:$N,DG12,AB$7)=\"\",\"\",INDEX(E_SourceStreams!$A:$N,DG12,AB$7)))","v":""},{"$f":"IF($E12=\"\",\"\",IF(INDEX(E_SourceStreams!$A:$N,DH12,AC$7)=\"\",\"\",INDEX(E_SourceStreams!$A:$N,DH12,AC$7)))","v":""},{"$f":"IF($E12=\"\",\"\",IF(INDEX(E_SourceStreams!$A:$N,DI12,AD$7)=\"\",\"\",INDEX(E_SourceStreams!$A:$N,DI12,AD$7)))","v":""},{"$f":"IF($E12=\"\",\"\",IF(INDEX(E_SourceStreams!$A:$N,DJ12,AE$7)=\"\",\"\",INDEX(E_SourceStreams!$A:$N,DJ12,AE$7)))","v":""},{"$f":"IF($E12=\"\",\"\",IF(INDEX(E_SourceStreams!$A:$N,DK12,AF$7)=\"\",\"\",INDEX(E_SourceStreams!$A:$N,DK12,AF$7)))","v":""},{"$f":"IF($E12=\"\",\"\",IF(INDEX(E_SourceStreams!$A:$N,DL12,AG$7)=\"\",\"\",INDEX(E_SourceStreams!$A:$N,DL12,AG$7)))","v":""},{"$f":"IF($E12=\"\",\"\",IF(INDEX(E_SourceStreams!$A:$N,DM12,AH$7)=\"\",\"\",INDEX(E_SourceStreams!$A:$N,DM12,AH$7)))","v":""},{"$f":"IF($E12=\"\",\"\",IF(INDEX(E_SourceStreams!$A:$N,DN12,AI$7)=\"\",\"\",INDEX(E_SourceStreams!$A:$N,DN12,AI$7)))","v":""},{"$f":"IF($E12=\"\",\"\",IF(INDEX(E_SourceStreams!$A:$N,DO12,AJ$7)=\"\",\"\",INDEX(E_SourceStreams!$A:$N,DO12,AJ$7)))","v":""},{"$f":"IF($E12=\"\",\"\",IF(INDEX(E_SourceStreams!$A:$N,DP12,AK$7)=\"\",\"\",INDEX(E_SourceStreams!$A:$N,DP12,AK$7)))","v":""},{"$f":"IF($E12=\"\",\"\",IF(INDEX(E_SourceStreams!$A:$N,DQ12,AL$7)=\"\",\"\",INDEX(E_SourceStreams!$A:$N,DQ12,AL$7)))","v":""},{"$f":"IF($E12=\"\",\"\",IF(INDEX(E_SourceStreams!$A:$N,DR12,AM$7)=\"\",\"\",INDEX(E_SourceStreams!$A:$N,DR12,AM$7)))","v":""},{"$f":"IF($E12=\"\",\"\",IF(INDEX(E_SourceStreams!$A:$N,DS12,AN$7)=\"\",\"\",INDEX(E_SourceStreams!$A:$N,DS12,AN$7)))","v":""},{"$f":"IF($E12=\"\",\"\",IF(INDEX(E_SourceStreams!$A:$N,DT12,AO$7)=\"\",\"\",INDEX(E_SourceStreams!$A:$N,DT12,AO$7)))","v":""},{"$f":"IF($E12=\"\",\"\",IF(INDEX(E_SourceStreams!$A:$N,DU12,AP$7)=\"\",\"\",INDEX(E_SourceStreams!$A:$N,DU12,AP$7)))","v":""},{"$f":"IF($E12=\"\",\"\",IF(INDEX(E_SourceStreams!$A:$N,DV12,AQ$7)=\"\",\"\",INDEX(E_SourceStreams!$A:$N,DV12,AQ$7)))","v":""},{"$f":"IF($E12=\"\",\"\",IF(INDEX(E_SourceStreams!$A:$N,DW12,AR$7)=\"\",\"\",INDEX(E_SourceStreams!$A:$N,DW12,AR$7)))","v":""},{"$f":"IF($E12=\"\",\"\",IF(INDEX(E_SourceStreams!$A:$N,DX12,AS$7)=\"\",\"\",INDEX(E_SourceStreams!$A:$N,DX12,AS$7)))","v":""},{"$f":"IF($E12=\"\",\"\",IF(INDEX(E_SourceStreams!$A:$N,DY12,AT$7)=\"\",\"\",INDEX(E_SourceStreams!$A:$N,DY12,AT$7)))","v":""},{"$f":"IF($E12=\"\",\"\",IF(INDEX(E_SourceStreams!$A:$N,DZ12,AU$7)=\"\",\"\",INDEX(E_SourceStreams!$A:$N,DZ12,AU$7)))","v":""},{"$f":"IF($E12=\"\",\"\",IF(INDEX(E_SourceStreams!$A:$N,EA12,AV$7)=\"\",\"\",INDEX(E_SourceStreams!$A:$N,EA12,AV$7)))","v":""},{"$f":"IF($E12=\"\",\"\",IF(INDEX(E_SourceStreams!$A:$N,EB12,AW$7)=\"\",\"\",INDEX(E_SourceStreams!$A:$N,EB12,AW$7)))","v":""},{"$f":"IF($E12=\"\",\"\",IF(INDEX(E_SourceStreams!$A:$N,EC12,AX$7)=\"\",\"\",INDEX(E_SourceStreams!$A:$N,EC12,AX$7)))","v":""},{"$f":"IF($E12=\"\",\"\",IF(INDEX(E_SourceStreams!$A:$N,ED12,AY$7)=\"\",\"\",INDEX(E_SourceStreams!$A:$N,ED12,AY$7)))","v":""},{"$f":"IF($E12=\"\",\"\",IF(INDEX(E_SourceStreams!$A:$N,EE12,AZ$7)=\"\",\"\",INDEX(E_SourceStreams!$A:$N,EE12,AZ$7)))","v":""},{"$f":"IF($E12=\"\",\"\",IF(INDEX(E_SourceStreams!$A:$N,EF12,BA$7)=\"\",\"\",INDEX(E_SourceStreams!$A:$N,EF12,BA$7)))","v":""},{"$f":"IF($E12=\"\",\"\",IF(INDEX(E_SourceStreams!$A:$N,EG12,BB$7)=\"\",\"\",INDEX(E_SourceStreams!$A:$N,EG12,BB$7)))","v":""},{"$f":"IF($E12=\"\",\"\",IF(INDEX(E_SourceStreams!$A:$N,EH12,BC$7)=\"\",\"\",INDEX(E_SourceStreams!$A:$N,EH12,BC$7)))","v":""},{"$f":"IF($E12=\"\",\"\",IF(INDEX(E_SourceStreams!$A:$N,EI12,BD$7)=\"\",\"\",INDEX(E_SourceStreams!$A:$N,EI12,BD$7)))","v":""},{"$f":"IF($E12=\"\",\"\",IF(INDEX(E_SourceStreams!$A:$N,EJ12,BE$7)=\"\",\"\",INDEX(E_SourceStreams!$A:$N,EJ12,BE$7)))","v":""},{"$f":"IF($E12=\"\",\"\",IF(INDEX(E_SourceStreams!$A:$N,EK12,BF$7)=\"\",\"\",INDEX(E_SourceStreams!$A:$N,EK12,BF$7)))","v":""},{"$f":"IF($E12=\"\",\"\",IF(INDEX(E_SourceStreams!$A:$N,EL12,BG$7)=\"\",\"\",INDEX(E_SourceStreams!$A:$N,EL12,BG$7)))","v":""},{"$f":"IF($E12=\"\",\"\",IF(INDEX(E_SourceStreams!$A:$N,EM12,BH$7)=\"\",\"\",INDEX(E_SourceStreams!$A:$N,EM12,BH$7)))","v":""},{"$f":"IF($E12=\"\",\"\",IF(INDEX(E_SourceStreams!$A:$N,EN12,BI$7)=\"\",\"\",INDEX(E_SourceStreams!$A:$N,EN12,BI$7)))","v":""},{"$f":"IF($E12=\"\",\"\",IF(INDEX(E_SourceStreams!$A:$N,EO12,BJ$7)=\"\",\"\",INDEX(E_SourceStreams!$A:$N,EO12,BJ$7)))","v":""},{"$f":"IF($E12=\"\",\"\",IF(INDEX(E_SourceStreams!$A:$N,EP12,BK$7)=\"\",\"\",INDEX(E_SourceStreams!$A:$N,EP12,BK$7)))","v":""},{"$f":"IF($E12=\"\",\"\",IF(INDEX(E_SourceStreams!$A:$N,EQ12,BL$7)=\"\",\"\",INDEX(E_SourceStreams!$A:$N,EQ12,BL$7)))","v":""},{"$f":"IF($E12=\"\",\"\",IF(INDEX(E_SourceStreams!$A:$N,ER12,BM$7)=\"\",\"\",INDEX(E_SourceStreams!$A:$N,ER12,BM$7)))","v":""},{"$f":"IF($E12=\"\",\"\",IF(INDEX(E_SourceStreams!$A:$N,ES12,BN$7)=\"\",\"\",INDEX(E_SourceStreams!$A:$N,ES12,BN$7)))","v":""},{"$f":"IF($E12=\"\",\"\",IF(INDEX(E_SourceStreams!$A:$N,ET12,BO$7)=\"\",\"\",INDEX(E_SourceStreams!$A:$N,ET12,BO$7)))","v":""},{"$f":"IF($E12=\"\",\"\",IF(INDEX(E_SourceStreams!$A:$N,EU12,BP$7)=\"\",\"\",INDEX(E_SourceStreams!$A:$N,EU12,BP$7)))","v":""},{"$f":"IF($E12=\"\",\"\",IF(INDEX(E_SourceStreams!$A:$N,EV12,BQ$7)=\"\",\"\",INDEX(E_SourceStreams!$A:$N,EV12,BQ$7)))","v":""},{"$f":"IF($E12=\"\",\"\",IF(INDEX(E_SourceStreams!$A:$N,EW12,BR$7)=\"\",\"\",INDEX(E_SourceStreams!$A:$N,EW12,BR$7)))","v":""},{"$f":"IF($E12=\"\",\"\",IF(INDEX(E_SourceStreams!$A:$N,EX12,BS$7)=\"\",\"\",INDEX(E_SourceStreams!$A:$N,EX12,BS$7)))","v":""},{"$f":"IF($E12=\"\",\"\",IF(INDEX(E_SourceStreams!$A:$N,EY12,BT$7)=\"\",\"\",INDEX(E_SourceStreams!$A:$N,EY12,BT$7)))","v":""},null,null,null,null,null,null,null,null,null,null,null,null,null,null,null,"SourceCategory_",{"$f":"INDEX(C_InstallationDescription!$A$226:$A$332,ROWS($CI$11:CI12))=\"ausblenden\"","v":false},"SourceStreamName_",null,199,{"$f":"CN12+2","v":201},{"$f":"CO12+2","v":203},{"$f":"CP12+2","v":205},207,209,211,{"$f":"CT12","v":211},{"$f":"CU12","v":211},211,211,{"$f":"CX12+3","v":214},{"$f":"CY12+4","v":218},{"$f":"CZ12+1","v":219},{"$f":"DA12+1","v":220},{"$f":"DB12+7","v":227},{"$f":"DC12+10","v":237},{"$f":"DD12","v":237},{"$f":"DE12","v":237},237,237,237,237,{"$f":"DJ12-9","v":228},{"$f":"DK12+10","v":238},{"$f":"DL12","v":238},{"$f":"DM12","v":238},{"$f":"DN12","v":238},238,238,238,{"$f":"DR12-9","v":229},{"$f":"DS12+10","v":239},{"$f":"DT12","v":239},{"$f":"DU12","v":239},239,239,239,239,{"$f":"DZ12-9","v":230},{"$f":"EA12+10","v":240},{"$f":"EB12","v":240},{"$f":"EC12","v":240},240,240,240,240,{"$f":"EH12-9","v":231},{"$f":"EI12+10","v":241},{"$f":"EJ12","v":241},{"$f":"EK12","v":241},241,241,241,241,{"$f":"EP12-9","v":232},{"$f":"EQ12+10","v":242},{"$f":"ER12","v":242},{"$f":"ES12","v":242},242,242,242,242,{"$f":"EX12+6","v":248}]
[null,{"$f":"IF(COUNTIF($CK$10:CK13,TRUE)>0,\"\",INDEX(C_InstallationDescription!$E$226:$E$242,ROWS($A$11:A13)))","v":""},{"$f":"IF($E13=\"\",\"\",INDEX(C_InstallationDescription!F:F,MATCH($B13,C_InstallationDescription!$E:$E,0)))","v":""},{"$f":"IF($E13=\"\",\"\",INDEX(C_InstallationDescription!I:I,MATCH($B13,C_InstallationDescription!$E:$E,0)))","v":""},{"$f":"IF($B13=\"\",\"\",INDEX(C_InstallationDescription!F:F,MATCH($CJ13,C_InstallationDescription!$Q:$Q,0)))","v":""},{"$f":"IF($E13=\"\",\"\",INDEX(C_InstallationDescription!L:L,MATCH($CJ13,C_InstallationDescription!$Q:$Q,0)))","v":""},{"$f":"IF($E13=\"\",\"\",INDEX(C_InstallationDescription!M:M,MATCH($CJ13,C_InstallationDescription!$Q:$Q,0)))","v":""},{"$f":"IF($E13=\"\",\"\",INDEX(C_InstallationDescription!N:N,MATCH($CJ13,C_InstallationDescription!$Q:$Q,0)))","v":""},{"$f":"IF($E13=\"\",\"\",IF(INDEX(E_SourceStreams!$A:$N,CN13,I$7)=\"\",\"\",INDEX(E_SourceStreams!$A:$N,CN13,I$7)))","v":""},{"$f":"IF($E13=\"\",\"\",IF(INDEX(E_SourceStreams!$A:$N,CO13,J$7)=\"\",\"\",INDEX(E_SourceStreams!$A:$N,CO13,J$7)))","v":""},{"$f":"IF($E13=\"\",\"\",IF(INDEX(E_SourceStreams!$A:$N,CP13,K$7)=\"\",\"\",INDEX(E_SourceStreams!$A:$N,CP13,K$7)))","v":""},{"$f":"IF($E13=\"\",\"\",IF(INDEX(E_SourceStreams!$A:$N,CQ13,L$7)=\"\",\"\",INDEX(E_SourceStreams!$A:$N,CQ13,L$7)))","v":""},{"$f":"IF($E13=\"\",\"\",IF(INDEX(E_SourceStreams!$A:$N,CR13,M$7)=\"\",\"\",INDEX(E_SourceStreams!$A:$N,CR13,M$7)))","v":""},{"$f":"IF($E13=\"\",\"\",IF(INDEX(E_SourceStreams!$A:$N,CS13,N$7)=\"\",\"\",INDEX(E_SourceStreams!$A:$N,CS13,N$7)))","v":""},{"$f":"IF($E13=\"\",\"\",IF(INDEX(E_SourceStreams!$A:$N,CT13,O$7)=\"\",\"\",INDEX(E_SourceStreams!$A:$N,CT13,O$7)))","v":""},{"$f":"IF($E13=\"\",\"\",IF(INDEX(E_SourceStreams!$A:$N,CU13,P$7)=\"\",\"\",INDEX(E_SourceStreams!$A:$N,CU13,P$7)))","v":""},{"$f":"IF($E13=\"\",\"\",IF(INDEX(E_SourceStreams!$A:$N,CV13,Q$7)=\"\",\"\",INDEX(E_SourceStreams!$A:$N,CV13,Q$7)))","v":""},{"$f":"IF($E13=\"\",\"\",IF(INDEX(E_SourceStreams!$A:$N,CW13,R$7)=\"\",\"\",INDEX(E_SourceStreams!$A:$N,CW13,R$7)))","v":""},{"$f":"IF($E13=\"\",\"\",IF(INDEX(E_SourceStreams!$A:$N,CX13,S$7)=\"\",\"\",INDEX(E_SourceStreams!$A:$N,CX13,S$7)))","v":""},{"$f":"IF($E13=\"\",\"\",IF(INDEX(E_SourceStreams!$A:$N,CY13,T$7)=\"\",\"\",INDEX(E_SourceStreams!$A:$N,CY13,T$7)))","v":""},{"$f":"IF($E13=\"\",\"\",IF(INDEX(E_SourceStreams!$A:$N,CZ13,U$7)=\"\",\"\",INDEX(E_SourceStreams!$A:$N,CZ13,U$7)))","v":""},{"$f":"IF($E13=\"\",\"\",IF(INDEX(E_SourceStreams!$A:$N,DA13,V$7)=\"\",\"\",INDEX(E_SourceStreams!$A:$N,DA13,V$7)))","v":""},{"$f":"IF($E13=\"\",\"\",IF(INDEX(E_SourceStreams!$A:$N,DB13,W$7)=\"\",\"\",INDEX(E_SourceStreams!$A:$N,DB13,W$7)))","v":""},{"$f":"IF($E13=\"\",\"\",IF(INDEX(E_SourceStreams!$A:$N,DC13,X$7)=\"\",\"\",INDEX(E_SourceStreams!$A:$N,DC13,X$7)))","v":""},{"$f":"IF($E13=\"\",\"\",IF(INDEX(E_SourceStreams!$A:$N,DD13,Y$7)=\"\",\"\",INDEX(E_SourceStreams!$A:$N,DD13,Y$7)))","v":""},{"$f":"IF($E13=\"\",\"\",IF(INDEX(E_SourceStreams!$A:$N,DE13,Z$7)=\"\",\"\",INDEX(E_SourceStreams!$A:$N,DE13,Z$7)))","v":""},{"$f":"IF($E13=\"\",\"\",IF(INDEX(E_SourceStreams!$A:$N,DF13,AA$7)=\"\",\"\",INDEX(E_SourceStreams!$A:$N,DF13,AA$7)))","v":""},{"$f":"IF($E13=\"\",\"\",IF(INDEX(E_SourceStreams!$A:$N,DG13,AB$7)=\"\",\"\",INDEX(E_SourceStreams!$A:$N,DG13,AB$7)))","v":""},{"$f":"IF($E13=\"\",\"\",IF(INDEX(E_SourceStreams!$A:$N,DH13,AC$7)=\"\",\"\",INDEX(E_SourceStreams!$A:$N,DH13,AC$7)))","v":""},{"$f":"IF($E13=\"\",\"\",IF(INDEX(E_SourceStreams!$A:$N,DI13,AD$7)=\"\",\"\",INDEX(E_SourceStreams!$A:$N,DI13,AD$7)))","v":""},{"$f":"IF($E13=\"\",\"\",IF(INDEX(E_SourceStreams!$A:$N,DJ13,AE$7)=\"\",\"\",INDEX(E_SourceStreams!$A:$N,DJ13,AE$7)))","v":""},{"$f":"IF($E13=\"\",\"\",IF(INDEX(E_SourceStreams!$A:$N,DK13,AF$7)=\"\",\"\",INDEX(E_SourceStreams!$A:$N,DK13,AF$7)))","v":""},{"$f":"IF($E13=\"\",\"\",IF(INDEX(E_SourceStreams!$A:$N,DL13,AG$7)=\"\",\"\",INDEX(E_SourceStreams!$A:$N,DL13,AG$7)))","v":""},{"$f":"IF($E13=\"\",\"\",IF(INDEX(E_SourceStreams!$A:$N,DM13,AH$7)=\"\",\"\",INDEX(E_SourceStreams!$A:$N,DM13,AH$7)))","v":""},{"$f":"IF($E13=\"\",\"\",IF(INDEX(E_SourceStreams!$A:$N,DN13,AI$7)=\"\",\"\",INDEX(E_SourceStreams!$A:$N,DN13,AI$7)))","v":""},{"$f":"IF($E13=\"\",\"\",IF(INDEX(E_SourceStreams!$A:$N,DO13,AJ$7)=\"\",\"\",INDEX(E_SourceStreams!$A:$N,DO13,AJ$7)))","v":""},{"$f":"IF($E13=\"\",\"\",IF(INDEX(E_SourceStreams!$A:$N,DP13,AK$7)=\"\",\"\",INDEX(E_SourceStreams!$A:$N,DP13,AK$7)))","v":""},{"$f":"IF($E13=\"\",\"\",IF(INDEX(E_SourceStreams!$A:$N,DQ13,AL$7)=\"\",\"\",INDEX(E_SourceStreams!$A:$N,DQ13,AL$7)))","v":""},{"$f":"IF($E13=\"\",\"\",IF(INDEX(E_SourceStreams!$A:$N,DR13,AM$7)=\"\",\"\",INDEX(E_SourceStreams!$A:$N,DR13,AM$7)))","v":""},{"$f":"IF($E13=\"\",\"\",IF(INDEX(E_SourceStreams!$A:$N,DS13,AN$7)=\"\",\"\",INDEX(E_SourceStreams!$A:$N,DS13,AN$7)))","v":""},{"$f":"IF($E13=\"\",\"\",IF(INDEX(E_SourceStreams!$A:$N,DT13,AO$7)=\"\",\"\",INDEX(E_SourceStreams!$A:$N,DT13,AO$7)))","v":""},{"$f":"IF($E13=\"\",\"\",IF(INDEX(E_SourceStreams!$A:$N,DU13,AP$7)=\"\",\"\",INDEX(E_SourceStreams!$A:$N,DU13,AP$7)))","v":""},{"$f":"IF($E13=\"\",\"\",IF(INDEX(E_SourceStreams!$A:$N,DV13,AQ$7)=\"\",\"\",INDEX(E_SourceStreams!$A:$N,DV13,AQ$7)))","v":""},{"$f":"IF($E13=\"\",\"\",IF(INDEX(E_SourceStreams!$A:$N,DW13,AR$7)=\"\",\"\",INDEX(E_SourceStreams!$A:$N,DW13,AR$7)))","v":""},{"$f":"IF($E13=\"\",\"\",IF(INDEX(E_SourceStreams!$A:$N,DX13,AS$7)=\"\",\"\",INDEX(E_SourceStreams!$A:$N,DX13,AS$7)))","v":""},{"$f":"IF($E13=\"\",\"\",IF(INDEX(E_SourceStreams!$A:$N,DY13,AT$7)=\"\",\"\",INDEX(E_SourceStreams!$A:$N,DY13,AT$7)))","v":""},{"$f":"IF($E13=\"\",\"\",IF(INDEX(E_SourceStreams!$A:$N,DZ13,AU$7)=\"\",\"\",INDEX(E_SourceStreams!$A:$N,DZ13,AU$7)))","v":""},{"$f":"IF($E13=\"\",\"\",IF(INDEX(E_SourceStreams!$A:$N,EA13,AV$7)=\"\",\"\",INDEX(E_SourceStreams!$A:$N,EA13,AV$7)))","v":""},{"$f":"IF($E13=\"\",\"\",IF(INDEX(E_SourceStreams!$A:$N,EB13,AW$7)=\"\",\"\",INDEX(E_SourceStreams!$A:$N,EB13,AW$7)))","v":""},{"$f":"IF($E13=\"\",\"\",IF(INDEX(E_SourceStreams!$A:$N,EC13,AX$7)=\"\",\"\",INDEX(E_SourceStreams!$A:$N,EC13,AX$7)))","v":""},{"$f":"IF($E13=\"\",\"\",IF(INDEX(E_SourceStreams!$A:$N,ED13,AY$7)=\"\",\"\",INDEX(E_SourceStreams!$A:$N,ED13,AY$7)))","v":""},{"$f":"IF($E13=\"\",\"\",IF(INDEX(E_SourceStreams!$A:$N,EE13,AZ$7)=\"\",\"\",INDEX(E_SourceStreams!$A:$N,EE13,AZ$7)))","v":""},{"$f":"IF($E13=\"\",\"\",IF(INDEX(E_SourceStreams!$A:$N,EF13,BA$7)=\"\",\"\",INDEX(E_SourceStreams!$A:$N,EF13,BA$7)))","v":""},{"$f":"IF($E13=\"\",\"\",IF(INDEX(E_SourceStreams!$A:$N,EG13,BB$7)=\"\",\"\",INDEX(E_SourceStreams!$A:$N,EG13,BB$7)))","v":""},{"$f":"IF($E13=\"\",\"\",IF(INDEX(E_SourceStreams!$A:$N,EH13,BC$7)=\"\",\"\",INDEX(E_SourceStreams!$A:$N,EH13,BC$7)))","v":""},{"$f":"IF($E13=\"\",\"\",IF(INDEX(E_SourceStreams!$A:$N,EI13,BD$7)=\"\",\"\",INDEX(E_SourceStreams!$A:$N,EI13,BD$7)))","v":""},{"$f":"IF($E13=\"\",\"\",IF(INDEX(E_SourceStreams!$A:$N,EJ13,BE$7)=\"\",\"\",INDEX(E_SourceStreams!$A:$N,EJ13,BE$7)))","v":""},{"$f":"IF($E13=\"\",\"\",IF(INDEX(E_SourceStreams!$A:$N,EK13,BF$7)=\"\",\"\",INDEX(E_SourceStreams!$A:$N,EK13,BF$7)))","v":""},{"$f":"IF($E13=\"\",\"\",IF(INDEX(E_SourceStreams!$A:$N,EL13,BG$7)=\"\",\"\",INDEX(E_SourceStreams!$A:$N,EL13,BG$7)))","v":""},{"$f":"IF($E13=\"\",\"\",IF(INDEX(E_SourceStreams!$A:$N,EM13,BH$7)=\"\",\"\",INDEX(E_SourceStreams!$A:$N,EM13,BH$7)))","v":""},{"$f":"IF($E13=\"\",\"\",IF(INDEX(E_SourceStreams!$A:$N,EN13,BI$7)=\"\",\"\",INDEX(E_SourceStreams!$A:$N,EN13,BI$7)))","v":""},{"$f":"IF($E13=\"\",\"\",IF(INDEX(E_SourceStreams!$A:$N,EO13,BJ$7)=\"\",\"\",INDEX(E_SourceStreams!$A:$N,EO13,BJ$7)))","v":""},{"$f":"IF($E13=\"\",\"\",IF(INDEX(E_SourceStreams!$A:$N,EP13,BK$7)=\"\",\"\",INDEX(E_SourceStreams!$A:$N,EP13,BK$7)))","v":""},{"$f":"IF($E13=\"\",\"\",IF(INDEX(E_SourceStreams!$A:$N,EQ13,BL$7)=\"\",\"\",INDEX(E_SourceStreams!$A:$N,EQ13,BL$7)))","v":""},{"$f":"IF($E13=\"\",\"\",IF(INDEX(E_SourceStreams!$A:$N,ER13,BM$7)=\"\",\"\",INDEX(E_SourceStreams!$A:$N,ER13,BM$7)))","v":""},{"$f":"IF($E13=\"\",\"\",IF(INDEX(E_SourceStreams!$A:$N,ES13,BN$7)=\"\",\"\",INDEX(E_SourceStreams!$A:$N,ES13,BN$7)))","v":""},{"$f":"IF($E13=\"\",\"\",IF(INDEX(E_SourceStreams!$A:$N,ET13,BO$7)=\"\",\"\",INDEX(E_SourceStreams!$A:$N,ET13,BO$7)))","v":""},{"$f":"IF($E13=\"\",\"\",IF(INDEX(E_SourceStreams!$A:$N,EU13,BP$7)=\"\",\"\",INDEX(E_SourceStreams!$A:$N,EU13,BP$7)))","v":""},{"$f":"IF($E13=\"\",\"\",IF(INDEX(E_SourceStreams!$A:$N,EV13,BQ$7)=\"\",\"\",INDEX(E_SourceStreams!$A:$N,EV13,BQ$7)))","v":""},{"$f":"IF($E13=\"\",\"\",IF(INDEX(E_SourceStreams!$A:$N,EW13,BR$7)=\"\",\"\",INDEX(E_SourceStreams!$A:$N,EW13,BR$7)))","v":""},{"$f":"IF($E13=\"\",\"\",IF(INDEX(E_SourceStreams!$A:$N,EX13,BS$7)=\"\",\"\",INDEX(E_SourceStreams!$A:$N,EX13,BS$7)))","v":""},{"$f":"IF($E13=\"\",\"\",IF(INDEX(E_SourceStreams!$A:$N,EY13,BT$7)=\"\",\"\",INDEX(E_SourceStreams!$A:$N,EY13,BT$7)))","v":""},null,null,null,null,null,null,null,null,null,null,null,null,null,null,null,"SourceCategory_",{"$f":"INDEX(C_InstallationDescription!$A$226:$A$332,ROWS($CI$11:CI13))=\"ausblenden\"","v":false},"SourceStreamName_",null,{"$f":"CN12+66","v":265},{"$f":"CO12+66","v":267},{"$f":"CP12+66","v":269},{"$f":"CQ12+66","v":271},{"$f":"CR12+66","v":273},{"$f":"CS12+66","v":275},{"$f":"CT12+66","v":277},{"$f":"CU12+66","v":277},{"$f":"CV12+66","v":277},{"$f":"CW12+66","v":277},{"$f":"CX12+66","v":277},{"$f":"CY12+66","v":280},{"$f":"CZ12+66","v":284},{"$f":"DA12+66","v":285},{"$f":"DB12+66","v":286},{"$f":"DC12+66","v":293},{"$f":"DD12+66","v":303},{"$f":"DE12+66","v":303},{"$f":"DF12+66","v":303},{"$f":"DG12+66","v":303},{"$f":"DH12+66","v":303},{"$f":"DI12+66","v":303},{"$f":"DJ12+66","v":303},{"$f":"DK12+66","v":294},{"$f":"DL12+66","v":304},{"$f":"DM12+66","v":304},{"$f":"DN12+66","v":304},{"$f":"DO12+66","v":304},{"$f":"DP12+66","v":304},{"$f":"DQ12+66","v":304},{"$f":"DR12+66","v":304},{"$f":"DS12+66","v":295},{"$f":"DT12+66","v":305},{"$f":"DU12+66","v":305},{"$f":"DV12+66","v":305},{"$f":"DW12+66","v":305},{"$f":"DX12+66","v":305},{"$f":"DY12+66","v":305},{"$f":"DZ12+66","v":305},{"$f":"EA12+66","v":296},{"$f":"EB12+66","v":306},{"$f":"EC12+66","v":306},{"$f":"ED12+66","v":306},{"$f":"EE12+66","v":306},{"$f":"EF12+66","v":306},{"$f":"EG12+66","v":306},{"$f":"EH12+66","v":306},{"$f":"EI12+66","v":297},{"$f":"EJ12+66","v":307},{"$f":"EK12+66","v":307},{"$f":"EL12+66","v":307},{"$f":"EM12+66","v":307},{"$f":"EN12+66","v":307},{"$f":"EO12+66","v":307},{"$f":"EP12+66","v":307},{"$f":"EQ12+66","v":298},{"$f":"ER12+66","v":308},{"$f":"ES12+66","v":308},{"$f":"ET12+66","v":308},{"$f":"EU12+66","v":308},{"$f":"EV12+66","v":308},{"$f":"EW12+66","v":308},{"$f":"EX12+66","v":308},{"$f":"EY12+66","v":314}]
[null,{"$f":"IF(COUNTIF($CK$10:CK14,TRUE)>0,\"\",INDEX(C_InstallationDescription!$E$226:$E$242,ROWS($A$11:A14)))","v":""},{"$f":"IF($E14=\"\",\"\",INDEX(C_InstallationDescription!F:F,MATCH($B14,C_InstallationDescription!$E:$E,0)))","v":""},{"$f":"IF($E14=\"\",\"\",INDEX(C_InstallationDescription!I:I,MATCH($B14,C_InstallationDescription!$E:$E,0)))","v":""},{"$f":"IF($B14=\"\",\"\",INDEX(C_InstallationDescription!F:F,MATCH($CJ14,C_InstallationDescription!$Q:$Q,0)))","v":""},{"$f":"IF($E14=\"\",\"\",INDEX(C_InstallationDescription!L:L,MATCH($CJ14,C_InstallationDescription!$Q:$Q,0)))","v":""},{"$f":"IF($E14=\"\",\"\",INDEX(C_InstallationDescription!M:M,MATCH($CJ14,C_InstallationDescription!$Q:$Q,0)))","v":""},{"$f":"IF($E14=\"\",\"\",INDEX(C_InstallationDescription!N:N,MATCH($CJ14,C_InstallationDescription!$Q:$Q,0)))","v":""},{"$f":"IF($E14=\"\",\"\",IF(INDEX(E_SourceStreams!$A:$N,CN14,I$7)=\"\",\"\",INDEX(E_SourceStreams!$A:$N,CN14,I$7)))","v":""},{"$f":"IF($E14=\"\",\"\",IF(INDEX(E_SourceStreams!$A:$N,CO14,J$7)=\"\",\"\",INDEX(E_SourceStreams!$A:$N,CO14,J$7)))","v":""},{"$f":"IF($E14=\"\",\"\",IF(INDEX(E_SourceStreams!$A:$N,CP14,K$7)=\"\",\"\",INDEX(E_SourceStreams!$A:$N,CP14,K$7)))","v":""},{"$f":"IF($E14=\"\",\"\",IF(INDEX(E_SourceStreams!$A:$N,CQ14,L$7)=\"\",\"\",INDEX(E_SourceStreams!$A:$N,CQ14,L$7)))","v":""},{"$f":"IF($E14=\"\",\"\",IF(INDEX(E_SourceStreams!$A:$N,CR14,M$7)=\"\",\"\",INDEX(E_SourceStreams!$A:$N,CR14,M$7)))","v":""},{"$f":"IF($E14=\"\",\"\",IF(INDEX(E_SourceStreams!$A:$N,CS14,N$7)=\"\",\"\",INDEX(E_SourceStreams!$A:$N,CS14,N$7)))","v":""},{"$f":"IF($E14=\"\",\"\",IF(INDEX(E_SourceStreams!$A:$N,CT14,O$7)=\"\",\"\",INDEX(E_SourceStreams!$A:$N,CT14,O$7)))","v":""},{"$f":"IF($E14=\"\",\"\",IF(INDEX(E_SourceStreams!$A:$N,CU14,P$7)=\"\",\"\",INDEX(E_SourceStreams!$A:$N,CU14,P$7)))","v":""},{"$f":"IF($E14=\"\",\"\",IF(INDEX(E_SourceStreams!$A:$N,CV14,Q$7)=\"\",\"\",INDEX(E_SourceStreams!$A:$N,CV14,Q$7)))","v":""},{"$f":"IF($E14=\"\",\"\",IF(INDEX(E_SourceStreams!$A:$N,CW14,R$7)=\"\",\"\",INDEX(E_SourceStreams!$A:$N,CW14,R$7)))","v":""},{"$f":"IF($E14=\"\",\"\",IF(INDEX(E_SourceStreams!$A:$N,CX14,S$7)=\"\",\"\",INDEX(E_SourceStreams!$A:$N,CX14,S$7)))","v":""},{"$f":"IF($E14=\"\",\"\",IF(INDEX(E_SourceStreams!$A:$N,CY14,T$7)=\"\",\"\",INDEX(E_SourceStreams!$A:$N,CY14,T$7)))","v":""},{"$f":"IF($E14=\"\",\"\",IF(INDEX(E_SourceStreams!$A:$N,CZ14,U$7)=\"\",\"\",INDEX(E_SourceStreams!$A:$N,CZ14,U$7)))","v":""},{"$f":"IF($E14=\"\",\"\",IF(INDEX(E_SourceStreams!$A:$N,DA14,V$7)=\"\",\"\",INDEX(E_SourceStreams!$A:$N,DA14,V$7)))","v":""},{"$f":"IF($E14=\"\",\"\",IF(INDEX(E_SourceStreams!$A:$N,DB14,W$7)=\"\",\"\",INDEX(E_SourceStreams!$A:$N,DB14,W$7)))","v":""},{"$f":"IF($E14=\"\",\"\",IF(INDEX(E_SourceStreams!$A:$N,DC14,X$7)=\"\",\"\",INDEX(E_SourceStreams!$A:$N,DC14,X$7)))","v":""},{"$f":"IF($E14=\"\",\"\",IF(INDEX(E_SourceStreams!$A:$N,DD14,Y$7)=\"\",\"\",INDEX(E_SourceStreams!$A:$N,DD14,Y$7)))","v":""},{"$f":"IF($E14=\"\",\"\",IF(INDEX(E_SourceStreams!$A:$N,DE14,Z$7)=\"\",\"\",INDEX(E_SourceStreams!$A:$N,DE14,Z$7)))","v":""},{"$f":"IF($E14=\"\",\"\",IF(INDEX(E_SourceStreams!$A:$N,DF14,AA$7)=\"\",\"\",INDEX(E_SourceStreams!$A:$N,DF14,AA$7)))","v":""},{"$f":"IF($E14=\"\",\"\",IF(INDEX(E_SourceStreams!$A:$N,DG14,AB$7)=\"\",\"\",INDEX(E_SourceStreams!$A:$N,DG14,AB$7)))","v":""},{"$f":"IF($E14=\"\",\"\",IF(INDEX(E_SourceStreams!$A:$N,DH14,AC$7)=\"\",\"\",INDEX(E_SourceStreams!$A:$N,DH14,AC$7)))","v":""},{"$f":"IF($E14=\"\",\"\",IF(INDEX(E_SourceStreams!$A:$N,DI14,AD$7)=\"\",\"\",INDEX(E_SourceStreams!$A:$N,DI14,AD$7)))","v":""},{"$f":"IF($E14=\"\",\"\",IF(INDEX(E_SourceStreams!$A:$N,DJ14,AE$7)=\"\",\"\",INDEX(E_SourceStreams!$A:$N,DJ14,AE$7)))","v":""},{"$f":"IF($E14=\"\",\"\",IF(INDEX(E_SourceStreams!$A:$N,DK14,AF$7)=\"\",\"\",INDEX(E_SourceStreams!$A:$N,DK14,AF$7)))","v":""},{"$f":"IF($E14=\"\",\"\",IF(INDEX(E_SourceStreams!$A:$N,DL14,AG$7)=\"\",\"\",INDEX(E_SourceStreams!$A:$N,DL14,AG$7)))","v":""},{"$f":"IF($E14=\"\",\"\",IF(INDEX(E_SourceStreams!$A:$N,DM14,AH$7)=\"\",\"\",INDEX(E_SourceStreams!$A:$N,DM14,AH$7)))","v":""},{"$f":"IF($E14=\"\",\"\",IF(INDEX(E_SourceStreams!$A:$N,DN14,AI$7)=\"\",\"\",INDEX(E_SourceStreams!$A:$N,DN14,AI$7)))","v":""},{"$f":"IF($E14=\"\",\"\",IF(INDEX(E_SourceStreams!$A:$N,DO14,AJ$7)=\"\",\"\",INDEX(E_SourceStreams!$A:$N,DO14,AJ$7)))","v":""},{"$f":"IF($E14=\"\",\"\",IF(INDEX(E_SourceStreams!$A:$N,DP14,AK$7)=\"\",\"\",INDEX(E_SourceStreams!$A:$N,DP14,AK$7)))","v":""},{"$f":"IF($E14=\"\",\"\",IF(INDEX(E_SourceStreams!$A:$N,DQ14,AL$7)=\"\",\"\",INDEX(E_SourceStreams!$A:$N,DQ14,AL$7)))","v":""},{"$f":"IF($E14=\"\",\"\",IF(INDEX(E_SourceStreams!$A:$N,DR14,AM$7)=\"\",\"\",INDEX(E_SourceStreams!$A:$N,DR14,AM$7)))","v":""},{"$f":"IF($E14=\"\",\"\",IF(INDEX(E_SourceStreams!$A:$N,DS14,AN$7)=\"\",\"\",INDEX(E_SourceStreams!$A:$N,DS14,AN$7)))","v":""},{"$f":"IF($E14=\"\",\"\",IF(INDEX(E_SourceStreams!$A:$N,DT14,AO$7)=\"\",\"\",INDEX(E_SourceStreams!$A:$N,DT14,AO$7)))","v":""},{"$f":"IF($E14=\"\",\"\",IF(INDEX(E_SourceStreams!$A:$N,DU14,AP$7)=\"\",\"\",INDEX(E_SourceStreams!$A:$N,DU14,AP$7)))","v":""},{"$f":"IF($E14=\"\",\"\",IF(INDEX(E_SourceStreams!$A:$N,DV14,AQ$7)=\"\",\"\",INDEX(E_SourceStreams!$A:$N,DV14,AQ$7)))","v":""},{"$f":"IF($E14=\"\",\"\",IF(INDEX(E_SourceStreams!$A:$N,DW14,AR$7)=\"\",\"\",INDEX(E_SourceStreams!$A:$N,DW14,AR$7)))","v":""},{"$f":"IF($E14=\"\",\"\",IF(INDEX(E_SourceStreams!$A:$N,DX14,AS$7)=\"\",\"\",INDEX(E_SourceStreams!$A:$N,DX14,AS$7)))","v":""},{"$f":"IF($E14=\"\",\"\",IF(INDEX(E_SourceStreams!$A:$N,DY14,AT$7)=\"\",\"\",INDEX(E_SourceStreams!$A:$N,DY14,AT$7)))","v":""},{"$f":"IF($E14=\"\",\"\",IF(INDEX(E_SourceStreams!$A:$N,DZ14,AU$7)=\"\",\"\",INDEX(E_SourceStreams!$A:$N,DZ14,AU$7)))","v":""},{"$f":"IF($E14=\"\",\"\",IF(INDEX(E_SourceStreams!$A:$N,EA14,AV$7)=\"\",\"\",INDEX(E_SourceStreams!$A:$N,EA14,AV$7)))","v":""},{"$f":"IF($E14=\"\",\"\",IF(INDEX(E_SourceStreams!$A:$N,EB14,AW$7)=\"\",\"\",INDEX(E_SourceStreams!$A:$N,EB14,AW$7)))","v":""},{"$f":"IF($E14=\"\",\"\",IF(INDEX(E_SourceStreams!$A:$N,EC14,AX$7)=\"\",\"\",INDEX(E_SourceStreams!$A:$N,EC14,AX$7)))","v":""},{"$f":"IF($E14=\"\",\"\",IF(INDEX(E_SourceStreams!$A:$N,ED14,AY$7)=\"\",\"\",INDEX(E_SourceStreams!$A:$N,ED14,AY$7)))","v":""},{"$f":"IF($E14=\"\",\"\",IF(INDEX(E_SourceStreams!$A:$N,EE14,AZ$7)=\"\",\"\",INDEX(E_SourceStreams!$A:$N,EE14,AZ$7)))","v":""},{"$f":"IF($E14=\"\",\"\",IF(INDEX(E_SourceStreams!$A:$N,EF14,BA$7)=\"\",\"\",INDEX(E_SourceStreams!$A:$N,EF14,BA$7)))","v":""},{"$f":"IF($E14=\"\",\"\",IF(INDEX(E_SourceStreams!$A:$N,EG14,BB$7)=\"\",\"\",INDEX(E_SourceStreams!$A:$N,EG14,BB$7)))","v":""},{"$f":"IF($E14=\"\",\"\",IF(INDEX(E_SourceStreams!$A:$N,EH14,BC$7)=\"\",\"\",INDEX(E_SourceStreams!$A:$N,EH14,BC$7)))","v":""},{"$f":"IF($E14=\"\",\"\",IF(INDEX(E_SourceStreams!$A:$N,EI14,BD$7)=\"\",\"\",INDEX(E_SourceStreams!$A:$N,EI14,BD$7)))","v":""},{"$f":"IF($E14=\"\",\"\",IF(INDEX(E_SourceStreams!$A:$N,EJ14,BE$7)=\"\",\"\",INDEX(E_SourceStreams!$A:$N,EJ14,BE$7)))","v":""},{"$f":"IF($E14=\"\",\"\",IF(INDEX(E_SourceStreams!$A:$N,EK14,BF$7)=\"\",\"\",INDEX(E_SourceStreams!$A:$N,EK14,BF$7)))","v":""},{"$f":"IF($E14=\"\",\"\",IF(INDEX(E_SourceStreams!$A:$N,EL14,BG$7)=\"\",\"\",INDEX(E_SourceStreams!$A:$N,EL14,BG$7)))","v":""},{"$f":"IF($E14=\"\",\"\",IF(INDEX(E_SourceStreams!$A:$N,EM14,BH$7)=\"\",\"\",INDEX(E_SourceStreams!$A:$N,EM14,BH$7)))","v":""},{"$f":"IF($E14=\"\",\"\",IF(INDEX(E_SourceStreams!$A:$N,EN14,BI$7)=\"\",\"\",INDEX(E_SourceStreams!$A:$N,EN14,BI$7)))","v":""},{"$f":"IF($E14=\"\",\"\",IF(INDEX(E_SourceStreams!$A:$N,EO14,BJ$7)=\"\",\"\",INDEX(E_SourceStreams!$A:$N,EO14,BJ$7)))","v":""},{"$f":"IF($E14=\"\",\"\",IF(INDEX(E_SourceStreams!$A:$N,EP14,BK$7)=\"\",\"\",INDEX(E_SourceStreams!$A:$N,EP14,BK$7)))","v":""},{"$f":"IF($E14=\"\",\"\",IF(INDEX(E_SourceStreams!$A:$N,EQ14,BL$7)=\"\",\"\",INDEX(E_SourceStreams!$A:$N,EQ14,BL$7)))","v":""},{"$f":"IF($E14=\"\",\"\",IF(INDEX(E_SourceStreams!$A:$N,ER14,BM$7)=\"\",\"\",INDEX(E_SourceStreams!$A:$N,ER14,BM$7)))","v":""},{"$f":"IF($E14=\"\",\"\",IF(INDEX(E_SourceStreams!$A:$N,ES14,BN$7)=\"\",\"\",INDEX(E_SourceStreams!$A:$N,ES14,BN$7)))","v":""},{"$f":"IF($E14=\"\",\"\",IF(INDEX(E_SourceStreams!$A:$N,ET14,BO$7)=\"\",\"\",INDEX(E_SourceStreams!$A:$N,ET14,BO$7)))","v":""},{"$f":"IF($E14=\"\",\"\",IF(INDEX(E_SourceStreams!$A:$N,EU14,BP$7)=\"\",\"\",INDEX(E_SourceStreams!$A:$N,EU14,BP$7)))","v":""},{"$f":"IF($E14=\"\",\"\",IF(INDEX(E_SourceStreams!$A:$N,EV14,BQ$7)=\"\",\"\",INDEX(E_SourceStreams!$A:$N,EV14,BQ$7)))","v":""},{"$f":"IF($E14=\"\",\"\",IF(INDEX(E_SourceStreams!$A:$N,EW14,BR$7)=\"\",\"\",INDEX(E_SourceStreams!$A:$N,EW14,BR$7)))","v":""},{"$f":"IF($E14=\"\",\"\",IF(INDEX(E_SourceStreams!$A:$N,EX14,BS$7)=\"\",\"\",INDEX(E_SourceStreams!$A:$N,EX14,BS$7)))","v":""},{"$f":"IF($E14=\"\",\"\",IF(INDEX(E_SourceStreams!$A:$N,EY14,BT$7)=\"\",\"\",INDEX(E_SourceStreams!$A:$N,EY14,BT$7)))","v":""},null,null,null,null,null,null,null,null,null,null,null,null,null,null,null,"SourceCategory_",{"$f":"INDEX(C_InstallationDescription!$A$226:$A$332,ROWS($CI$11:CI14))=\"ausblenden\"","v":false},"SourceStreamName_",null,{"$f":"CN13+66","v":331},333,335,337,339,341,343,343,343,343,343,346,350,351,352,359,369,369,369,369,369,369,369,360,370,370,370,370,370,370,370,361,371,371,371,371,371,371,371,362,372,372,372,372,372,372,372,363,373,373,373,373,373,373,373,364,374,374,374,374,374,374,374,380]
[null,{"$f":"IF(COUNTIF($CK$10:CK15,TRUE)>0,\"\",INDEX(C_InstallationDescription!$E$226:$E$242,ROWS($A$11:A15)))","v":""},{"$f":"IF($E15=\"\",\"\",INDEX(C_InstallationDescription!F:F,MATCH($B15,C_InstallationDescription!$E:$E,0)))","v":""},{"$f":"IF($E15=\"\",\"\",INDEX(C_InstallationDescription!I:I,MATCH($B15,C_InstallationDescription!$E:$E,0)))","v":""},{"$f":"IF($B15=\"\",\"\",INDEX(C_InstallationDescription!F:F,MATCH($CJ15,C_InstallationDescription!$Q:$Q,0)))","v":""},{"$f":"IF($E15=\"\",\"\",INDEX(C_InstallationDescription!L:L,MATCH($CJ15,C_InstallationDescription!$Q:$Q,0)))","v":""},{"$f":"IF($E15=\"\",\"\",INDEX(C_InstallationDescription!M:M,MATCH($CJ15,C_InstallationDescription!$Q:$Q,0)))","v":""},{"$f":"IF($E15=\"\",\"\",INDEX(C_InstallationDescription!N:N,MATCH($CJ15,C_InstallationDescription!$Q:$Q,0)))","v":""},{"$f":"IF($E15=\"\",\"\",IF(INDEX(E_SourceStreams!$A:$N,CN15,I$7)=\"\",\"\",INDEX(E_SourceStreams!$A:$N,CN15,I$7)))","v":""},{"$f":"IF($E15=\"\",\"\",IF(INDEX(E_SourceStreams!$A:$N,CO15,J$7)=\"\",\"\",INDEX(E_SourceStreams!$A:$N,CO15,J$7)))","v":""},{"$f":"IF($E15=\"\",\"\",IF(INDEX(E_SourceStreams!$A:$N,CP15,K$7)=\"\",\"\",INDEX(E_SourceStreams!$A:$N,CP15,K$7)))","v":""},{"$f":"IF($E15=\"\",\"\",IF(INDEX(E_SourceStreams!$A:$N,CQ15,L$7)=\"\",\"\",INDEX(E_SourceStreams!$A:$N,CQ15,L$7)))","v":""},{"$f":"IF($E15=\"\",\"\",IF(INDEX(E_SourceStreams!$A:$N,CR15,M$7)=\"\",\"\",INDEX(E_SourceStreams!$A:$N,CR15,M$7)))","v":""},{"$f":"IF($E15=\"\",\"\",IF(INDEX(E_SourceStreams!$A:$N,CS15,N$7)=\"\",\"\",INDEX(E_SourceStreams!$A:$N,CS15,N$7)))","v":""},{"$f":"IF($E15=\"\",\"\",IF(INDEX(E_SourceStreams!$A:$N,CT15,O$7)=\"\",\"\",INDEX(E_SourceStreams!$A:$N,CT15,O$7)))","v":""},{"$f":"IF($E15=\"\",\"\",IF(INDEX(E_SourceStreams!$A:$N,CU15,P$7)=\"\",\"\",INDEX(E_SourceStreams!$A:$N,CU15,P$7)))","v":""},{"$f":"IF($E15=\"\",\"\",IF(INDEX(E_SourceStreams!$A:$N,CV15,Q$7)=\"\",\"\",INDEX(E_SourceStreams!$A:$N,CV15,Q$7)))","v":""},{"$f":"IF($E15=\"\",\"\",IF(INDEX(E_SourceStreams!$A:$N,CW15,R$7)=\"\",\"\",INDEX(E_SourceStreams!$A:$N,CW15,R$7)))","v":""},{"$f":"IF($E15=\"\",\"\",IF(INDEX(E_SourceStreams!$A:$N,CX15,S$7)=\"\",\"\",INDEX(E_SourceStreams!$A:$N,CX15,S$7)))","v":""},{"$f":"IF($E15=\"\",\"\",IF(INDEX(E_SourceStreams!$A:$N,CY15,T$7)=\"\",\"\",INDEX(E_SourceStreams!$A:$N,CY15,T$7)))","v":""},{"$f":"IF($E15=\"\",\"\",IF(INDEX(E_SourceStreams!$A:$N,CZ15,U$7)=\"\",\"\",INDEX(E_SourceStreams!$A:$N,CZ15,U$7)))","v":""},{"$f":"IF($E15=\"\",\"\",IF(INDEX(E_SourceStreams!$A:$N,DA15,V$7)=\"\",\"\",INDEX(E_SourceStreams!$A:$N,DA15,V$7)))","v":""},{"$f":"IF($E15=\"\",\"\",IF(INDEX(E_SourceStreams!$A:$N,DB15,W$7)=\"\",\"\",INDEX(E_SourceStreams!$A:$N,DB15,W$7)))","v":""},{"$f":"IF($E15=\"\",\"\",IF(INDEX(E_SourceStreams!$A:$N,DC15,X$7)=\"\",\"\",INDEX(E_SourceStreams!$A:$N,DC15,X$7)))","v":""},{"$f":"IF($E15=\"\",\"\",IF(INDEX(E_SourceStreams!$A:$N,DD15,Y$7)=\"\",\"\",INDEX(E_SourceStreams!$A:$N,DD15,Y$7)))","v":""},{"$f":"IF($E15=\"\",\"\",IF(INDEX(E_SourceStreams!$A:$N,DE15,Z$7)=\"\",\"\",INDEX(E_SourceStreams!$A:$N,DE15,Z$7)))","v":""},{"$f":"IF($E15=\"\",\"\",IF(INDEX(E_SourceStreams!$A:$N,DF15,AA$7)=\"\",\"\",INDEX(E_SourceStreams!$A:$N,DF15,AA$7)))","v":""},{"$f":"IF($E15=\"\",\"\",IF(INDEX(E_SourceStreams!$A:$N,DG15,AB$7)=\"\",\"\",INDEX(E_SourceStreams!$A:$N,DG15,AB$7)))","v":""},{"$f":"IF($E15=\"\",\"\",IF(INDEX(E_SourceStreams!$A:$N,DH15,AC$7)=\"\",\"\",INDEX(E_SourceStreams!$A:$N,DH15,AC$7)))","v":""},{"$f":"IF($E15=\"\",\"\",IF(INDEX(E_SourceStreams!$A:$N,DI15,AD$7)=\"\",\"\",INDEX(E_SourceStreams!$A:$N,DI15,AD$7)))","v":""},{"$f":"IF($E15=\"\",\"\",IF(INDEX(E_SourceStreams!$A:$N,DJ15,AE$7)=\"\",\"\",INDEX(E_SourceStreams!$A:$N,DJ15,AE$7)))","v":""},{"$f":"IF($E15=\"\",\"\",IF(INDEX(E_SourceStreams!$A:$N,DK15,AF$7)=\"\",\"\",INDEX(E_SourceStreams!$A:$N,DK15,AF$7)))","v":""},{"$f":"IF($E15=\"\",\"\",IF(INDEX(E_SourceStreams!$A:$N,DL15,AG$7)=\"\",\"\",INDEX(E_SourceStreams!$A:$N,DL15,AG$7)))","v":""},{"$f":"IF($E15=\"\",\"\",IF(INDEX(E_SourceStreams!$A:$N,DM15,AH$7)=\"\",\"\",INDEX(E_SourceStreams!$A:$N,DM15,AH$7)))","v":""},{"$f":"IF($E15=\"\",\"\",IF(INDEX(E_SourceStreams!$A:$N,DN15,AI$7)=\"\",\"\",INDEX(E_SourceStreams!$A:$N,DN15,AI$7)))","v":""},{"$f":"IF($E15=\"\",\"\",IF(INDEX(E_SourceStreams!$A:$N,DO15,AJ$7)=\"\",\"\",INDEX(E_SourceStreams!$A:$N,DO15,AJ$7)))","v":""},{"$f":"IF($E15=\"\",\"\",IF(INDEX(E_SourceStreams!$A:$N,DP15,AK$7)=\"\",\"\",INDEX(E_SourceStreams!$A:$N,DP15,AK$7)))","v":""},{"$f":"IF($E15=\"\",\"\",IF(INDEX(E_SourceStreams!$A:$N,DQ15,AL$7)=\"\",\"\",INDEX(E_SourceStreams!$A:$N,DQ15,AL$7)))","v":""},{"$f":"IF($E15=\"\",\"\",IF(INDEX(E_SourceStreams!$A:$N,DR15,AM$7)=\"\",\"\",INDEX(E_SourceStreams!$A:$N,DR15,AM$7)))","v":""},{"$f":"IF($E15=\"\",\"\",IF(INDEX(E_SourceStreams!$A:$N,DS15,AN$7)=\"\",\"\",INDEX(E_SourceStreams!$A:$N,DS15,AN$7)))","v":""},{"$f":"IF($E15=\"\",\"\",IF(INDEX(E_SourceStreams!$A:$N,DT15,AO$7)=\"\",\"\",INDEX(E_SourceStreams!$A:$N,DT15,AO$7)))","v":""},{"$f":"IF($E15=\"\",\"\",IF(INDEX(E_SourceStreams!$A:$N,DU15,AP$7)=\"\",\"\",INDEX(E_SourceStreams!$A:$N,DU15,AP$7)))","v":""},{"$f":"IF($E15=\"\",\"\",IF(INDEX(E_SourceStreams!$A:$N,DV15,AQ$7)=\"\",\"\",INDEX(E_SourceStreams!$A:$N,DV15,AQ$7)))","v":""},{"$f":"IF($E15=\"\",\"\",IF(INDEX(E_SourceStreams!$A:$N,DW15,AR$7)=\"\",\"\",INDEX(E_SourceStreams!$A:$N,DW15,AR$7)))","v":""},{"$f":"IF($E15=\"\",\"\",IF(INDEX(E_SourceStreams!$A:$N,DX15,AS$7)=\"\",\"\",INDEX(E_SourceStreams!$A:$N,DX15,AS$7)))","v":""},{"$f":"IF($E15=\"\",\"\",IF(INDEX(E_SourceStreams!$A:$N,DY15,AT$7)=\"\",\"\",INDEX(E_SourceStreams!$A:$N,DY15,AT$7)))","v":""},{"$f":"IF($E15=\"\",\"\",IF(INDEX(E_SourceStreams!$A:$N,DZ15,AU$7)=\"\",\"\",INDEX(E_SourceStreams!$A:$N,DZ15,AU$7)))","v":""},{"$f":"IF($E15=\"\",\"\",IF(INDEX(E_SourceStreams!$A:$N,EA15,AV$7)=\"\",\"\",INDEX(E_SourceStreams!$A:$N,EA15,AV$7)))","v":""},{"$f":"IF($E15=\"\",\"\",IF(INDEX(E_SourceStreams!$A:$N,EB15,AW$7)=\"\",\"\",INDEX(E_SourceStreams!$A:$N,EB15,AW$7)))","v":""},{"$f":"IF($E15=\"\",\"\",IF(INDEX(E_SourceStreams!$A:$N,EC15,AX$7)=\"\",\"\",INDEX(E_SourceStreams!$A:$N,EC15,AX$7)))","v":""},{"$f":"IF($E15=\"\",\"\",IF(INDEX(E_SourceStreams!$A:$N,ED15,AY$7)=\"\",\"\",INDEX(E_SourceStreams!$A:$N,ED15,AY$7)))","v":""},{"$f":"IF($E15=\"\",\"\",IF(INDEX(E_SourceStreams!$A:$N,EE15,AZ$7)=\"\",\"\",INDEX(E_SourceStreams!$A:$N,EE15,AZ$7)))","v":""},{"$f":"IF($E15=\"\",\"\",IF(INDEX(E_SourceStreams!$A:$N,EF15,BA$7)=\"\",\"\",INDEX(E_SourceStreams!$A:$N,EF15,BA$7)))","v":""},{"$f":"IF($E15=\"\",\"\",IF(INDEX(E_SourceStreams!$A:$N,EG15,BB$7)=\"\",\"\",INDEX(E_SourceStreams!$A:$N,EG15,BB$7)))","v":""},{"$f":"IF($E15=\"\",\"\",IF(INDEX(E_SourceStreams!$A:$N,EH15,BC$7)=\"\",\"\",INDEX(E_SourceStreams!$A:$N,EH15,BC$7)))","v":""},{"$f":"IF($E15=\"\",\"\",IF(INDEX(E_SourceStreams!$A:$N,EI15,BD$7)=\"\",\"\",INDEX(E_SourceStreams!$A:$N,EI15,BD$7)))","v":""},{"$f":"IF($E15=\"\",\"\",IF(INDEX(E_SourceStreams!$A:$N,EJ15,BE$7)=\"\",\"\",INDEX(E_SourceStreams!$A:$N,EJ15,BE$7)))","v":""},{"$f":"IF($E15=\"\",\"\",IF(INDEX(E_SourceStreams!$A:$N,EK15,BF$7)=\"\",\"\",INDEX(E_SourceStreams!$A:$N,EK15,BF$7)))","v":""},{"$f":"IF($E15=\"\",\"\",IF(INDEX(E_SourceStreams!$A:$N,EL15,BG$7)=\"\",\"\",INDEX(E_SourceStreams!$A:$N,EL15,BG$7)))","v":""},{"$f":"IF($E15=\"\",\"\",IF(INDEX(E_SourceStreams!$A:$N,EM15,BH$7)=\"\",\"\",INDEX(E_SourceStreams!$A:$N,EM15,BH$7)))","v":""},{"$f":"IF($E15=\"\",\"\",IF(INDEX(E_SourceStreams!$A:$N,EN15,BI$7)=\"\",\"\",INDEX(E_SourceStreams!$A:$N,EN15,BI$7)))","v":""},{"$f":"IF($E15=\"\",\"\",IF(INDEX(E_SourceStreams!$A:$N,EO15,BJ$7)=\"\",\"\",INDEX(E_SourceStreams!$A:$N,EO15,BJ$7)))","v":""},{"$f":"IF($E15=\"\",\"\",IF(INDEX(E_SourceStreams!$A:$N,EP15,BK$7)=\"\",\"\",INDEX(E_SourceStreams!$A:$N,EP15,BK$7)))","v":""},{"$f":"IF($E15=\"\",\"\",IF(INDEX(E_SourceStreams!$A:$N,EQ15,BL$7)=\"\",\"\",INDEX(E_SourceStreams!$A:$N,EQ15,BL$7)))","v":""},{"$f":"IF($E15=\"\",\"\",IF(INDEX(E_SourceStreams!$A:$N,ER15,BM$7)=\"\",\"\",INDEX(E_SourceStreams!$A:$N,ER15,BM$7)))","v":""},{"$f":"IF($E15=\"\",\"\",IF(INDEX(E_SourceStreams!$A:$N,ES15,BN$7)=\"\",\"\",INDEX(E_SourceStreams!$A:$N,ES15,BN$7)))","v":""},{"$f":"IF($E15=\"\",\"\",IF(INDEX(E_SourceStreams!$A:$N,ET15,BO$7)=\"\",\"\",INDEX(E_SourceStreams!$A:$N,ET15,BO$7)))","v":""},{"$f":"IF($E15=\"\",\"\",IF(INDEX(E_SourceStreams!$A:$N,EU15,BP$7)=\"\",\"\",INDEX(E_SourceStreams!$A:$N,EU15,BP$7)))","v":""},{"$f":"IF($E15=\"\",\"\",IF(INDEX(E_SourceStreams!$A:$N,EV15,BQ$7)=\"\",\"\",INDEX(E_SourceStreams!$A:$N,EV15,BQ$7)))","v":""},{"$f":"IF($E15=\"\",\"\",IF(INDEX(E_SourceStreams!$A:$N,EW15,BR$7)=\"\",\"\",INDEX(E_SourceStreams!$A:$N,EW15,BR$7)))","v":""},{"$f":"IF($E15=\"\",\"\",IF(INDEX(E_SourceStreams!$A:$N,EX15,BS$7)=\"\",\"\",INDEX(E_SourceStreams!$A:$N,EX15,BS$7)))","v":""},{"$f":"IF($E15=\"\",\"\",IF(INDEX(E_SourceStreams!$A:$N,EY15,BT$7)=\"\",\"\",INDEX(E_SourceStreams!$A:$N,EY15,BT$7)))","v":""},null,null,null,null,null,null,null,null,null,null,null,null,null,null,null,"SourceCategory_",{"$f":"INDEX(C_InstallationDescription!$A$226:$A$332,ROWS($CI$11:CI15))=\"ausblenden\"","v":false},"SourceStreamName_",null,397,399,401,403,405,407,409,409,409,409,409,412,416,417,418,425,435,435,435,435,435,435,435,426,436,436,436,436,436,436,436,427,437,437,437,437,437,437,437,428,438,438,438,438,438,438,438,429,439,439,439,439,439,439,439,430,440,440,440,440,440,440,440,446]
[null,{"$f":"IF(COUNTIF($CK$10:CK16,TRUE)>0,\"\",INDEX(C_InstallationDescription!$E$226:$E$242,ROWS($A$11:A16)))","v":""},{"$f":"IF($E16=\"\",\"\",INDEX(C_InstallationDescription!F:F,MATCH($B16,C_InstallationDescription!$E:$E,0)))","v":""},{"$f":"IF($E16=\"\",\"\",INDEX(C_InstallationDescription!I:I,MATCH($B16,C_InstallationDescription!$E:$E,0)))","v":""},{"$f":"IF($B16=\"\",\"\",INDEX(C_InstallationDescription!F:F,MATCH($CJ16,C_InstallationDescription!$Q:$Q,0)))","v":""},{"$f":"IF($E16=\"\",\"\",INDEX(C_InstallationDescription!L:L,MATCH($CJ16,C_InstallationDescription!$Q:$Q,0)))","v":""},{"$f":"IF($E16=\"\",\"\",INDEX(C_InstallationDescription!M:M,MATCH($CJ16,C_InstallationDescription!$Q:$Q,0)))","v":""},{"$f":"IF($E16=\"\",\"\",INDEX(C_InstallationDescription!N:N,MATCH($CJ16,C_InstallationDescription!$Q:$Q,0)))","v":""},{"$f":"IF($E16=\"\",\"\",IF(INDEX(E_SourceStreams!$A:$N,CN16,I$7)=\"\",\"\",INDEX(E_SourceStreams!$A:$N,CN16,I$7)))","v":""},{"$f":"IF($E16=\"\",\"\",IF(INDEX(E_SourceStreams!$A:$N,CO16,J$7)=\"\",\"\",INDEX(E_SourceStreams!$A:$N,CO16,J$7)))","v":""},{"$f":"IF($E16=\"\",\"\",IF(INDEX(E_SourceStreams!$A:$N,CP16,K$7)=\"\",\"\",INDEX(E_SourceStreams!$A:$N,CP16,K$7)))","v":""},{"$f":"IF($E16=\"\",\"\",IF(INDEX(E_SourceStreams!$A:$N,CQ16,L$7)=\"\",\"\",INDEX(E_SourceStreams!$A:$N,CQ16,L$7)))","v":""},{"$f":"IF($E16=\"\",\"\",IF(INDEX(E_SourceStreams!$A:$N,CR16,M$7)=\"\",\"\",INDEX(E_SourceStreams!$A:$N,CR16,M$7)))","v":""},{"$f":"IF($E16=\"\",\"\",IF(INDEX(E_SourceStreams!$A:$N,CS16,N$7)=\"\",\"\",INDEX(E_SourceStreams!$A:$N,CS16,N$7)))","v":""},{"$f":"IF($E16=\"\",\"\",IF(INDEX(E_SourceStreams!$A:$N,CT16,O$7)=\"\",\"\",INDEX(E_SourceStreams!$A:$N,CT16,O$7)))","v":""},{"$f":"IF($E16=\"\",\"\",IF(INDEX(E_SourceStreams!$A:$N,CU16,P$7)=\"\",\"\",INDEX(E_SourceStreams!$A:$N,CU16,P$7)))","v":""},{"$f":"IF($E16=\"\",\"\",IF(INDEX(E_SourceStreams!$A:$N,CV16,Q$7)=\"\",\"\",INDEX(E_SourceStreams!$A:$N,CV16,Q$7)))","v":""},{"$f":"IF($E16=\"\",\"\",IF(INDEX(E_SourceStreams!$A:$N,CW16,R$7)=\"\",\"\",INDEX(E_SourceStreams!$A:$N,CW16,R$7)))","v":""},{"$f":"IF($E16=\"\",\"\",IF(INDEX(E_SourceStreams!$A:$N,CX16,S$7)=\"\",\"\",INDEX(E_SourceStreams!$A:$N,CX16,S$7)))","v":""},{"$f":"IF($E16=\"\",\"\",IF(INDEX(E_SourceStreams!$A:$N,CY16,T$7)=\"\",\"\",INDEX(E_SourceStreams!$A:$N,CY16,T$7)))","v":""},{"$f":"IF($E16=\"\",\"\",IF(INDEX(E_SourceStreams!$A:$N,CZ16,U$7)=\"\",\"\",INDEX(E_SourceStreams!$A:$N,CZ16,U$7)))","v":""},{"$f":"IF($E16=\"\",\"\",IF(INDEX(E_SourceStreams!$A:$N,DA16,V$7)=\"\",\"\",INDEX(E_SourceStreams!$A:$N,DA16,V$7)))","v":""},{"$f":"IF($E16=\"\",\"\",IF(INDEX(E_SourceStreams!$A:$N,DB16,W$7)=\"\",\"\",INDEX(E_SourceStreams!$A:$N,DB16,W$7)))","v":""},{"$f":"IF($E16=\"\",\"\",IF(INDEX(E_SourceStreams!$A:$N,DC16,X$7)=\"\",\"\",INDEX(E_SourceStreams!$A:$N,DC16,X$7)))","v":""},{"$f":"IF($E16=\"\",\"\",IF(INDEX(E_SourceStreams!$A:$N,DD16,Y$7)=\"\",\"\",INDEX(E_SourceStreams!$A:$N,DD16,Y$7)))","v":""},{"$f":"IF($E16=\"\",\"\",IF(INDEX(E_SourceStreams!$A:$N,DE16,Z$7)=\"\",\"\",INDEX(E_SourceStreams!$A:$N,DE16,Z$7)))","v":""},{"$f":"IF($E16=\"\",\"\",IF(INDEX(E_SourceStreams!$A:$N,DF16,AA$7)=\"\",\"\",INDEX(E_SourceStreams!$A:$N,DF16,AA$7)))","v":""},{"$f":"IF($E16=\"\",\"\",IF(INDEX(E_SourceStreams!$A:$N,DG16,AB$7)=\"\",\"\",INDEX(E_SourceStreams!$A:$N,DG16,AB$7)))","v":""},{"$f":"IF($E16=\"\",\"\",IF(INDEX(E_SourceStreams!$A:$N,DH16,AC$7)=\"\",\"\",INDEX(E_SourceStreams!$A:$N,DH16,AC$7)))","v":""},{"$f":"IF($E16=\"\",\"\",IF(INDEX(E_SourceStreams!$A:$N,DI16,AD$7)=\"\",\"\",INDEX(E_SourceStreams!$A:$N,DI16,AD$7)))","v":""},{"$f":"IF($E16=\"\",\"\",IF(INDEX(E_SourceStreams!$A:$N,DJ16,AE$7)=\"\",\"\",INDEX(E_SourceStreams!$A:$N,DJ16,AE$7)))","v":""},{"$f":"IF($E16=\"\",\"\",IF(INDEX(E_SourceStreams!$A:$N,DK16,AF$7)=\"\",\"\",INDEX(E_SourceStreams!$A:$N,DK16,AF$7)))","v":""},{"$f":"IF($E16=\"\",\"\",IF(INDEX(E_SourceStreams!$A:$N,DL16,AG$7)=\"\",\"\",INDEX(E_SourceStreams!$A:$N,DL16,AG$7)))","v":""},{"$f":"IF($E16=\"\",\"\",IF(INDEX(E_SourceStreams!$A:$N,DM16,AH$7)=\"\",\"\",INDEX(E_SourceStreams!$A:$N,DM16,AH$7)))","v":""},{"$f":"IF($E16=\"\",\"\",IF(INDEX(E_SourceStreams!$A:$N,DN16,AI$7)=\"\",\"\",INDEX(E_SourceStreams!$A:$N,DN16,AI$7)))","v":""},{"$f":"IF($E16=\"\",\"\",IF(INDEX(E_SourceStreams!$A:$N,DO16,AJ$7)=\"\",\"\",INDEX(E_SourceStreams!$A:$N,DO16,AJ$7)))","v":""},{"$f":"IF($E16=\"\",\"\",IF(INDEX(E_SourceStreams!$A:$N,DP16,AK$7)=\"\",\"\",INDEX(E_SourceStreams!$A:$N,DP16,AK$7)))","v":""},{"$f":"IF($E16=\"\",\"\",IF(INDEX(E_SourceStreams!$A:$N,DQ16,AL$7)=\"\",\"\",INDEX(E_SourceStreams!$A:$N,DQ16,AL$7)))","v":""},{"$f":"IF($E16=\"\",\"\",IF(INDEX(E_SourceStreams!$A:$N,DR16,AM$7)=\"\",\"\",INDEX(E_SourceStreams!$A:$N,DR16,AM$7)))","v":""},{"$f":"IF($E16=\"\",\"\",IF(INDEX(E_SourceStreams!$A:$N,DS16,AN$7)=\"\",\"\",INDEX(E_SourceStreams!$A:$N,DS16,AN$7)))","v":""},{"$f":"IF($E16=\"\",\"\",IF(INDEX(E_SourceStreams!$A:$N,DT16,AO$7)=\"\",\"\",INDEX(E_SourceStreams!$A:$N,DT16,AO$7)))","v":""},{"$f":"IF($E16=\"\",\"\",IF(INDEX(E_SourceStreams!$A:$N,DU16,AP$7)=\"\",\"\",INDEX(E_SourceStreams!$A:$N,DU16,AP$7)))","v":""},{"$f":"IF($E16=\"\",\"\",IF(INDEX(E_SourceStreams!$A:$N,DV16,AQ$7)=\"\",\"\",INDEX(E_SourceStreams!$A:$N,DV16,AQ$7)))","v":""},{"$f":"IF($E16=\"\",\"\",IF(INDEX(E_SourceStreams!$A:$N,DW16,AR$7)=\"\",\"\",INDEX(E_SourceStreams!$A:$N,DW16,AR$7)))","v":""},{"$f":"IF($E16=\"\",\"\",IF(INDEX(E_SourceStreams!$A:$N,DX16,AS$7)=\"\",\"\",INDEX(E_SourceStreams!$A:$N,DX16,AS$7)))","v":""},{"$f":"IF($E16=\"\",\"\",IF(INDEX(E_SourceStreams!$A:$N,DY16,AT$7)=\"\",\"\",INDEX(E_SourceStreams!$A:$N,DY16,AT$7)))","v":""},{"$f":"IF($E16=\"\",\"\",IF(INDEX(E_SourceStreams!$A:$N,DZ16,AU$7)=\"\",\"\",INDEX(E_SourceStreams!$A:$N,DZ16,AU$7)))","v":""},{"$f":"IF($E16=\"\",\"\",IF(INDEX(E_SourceStreams!$A:$N,EA16,AV$7)=\"\",\"\",INDEX(E_SourceStreams!$A:$N,EA16,AV$7)))","v":""},{"$f":"IF($E16=\"\",\"\",IF(INDEX(E_SourceStreams!$A:$N,EB16,AW$7)=\"\",\"\",INDEX(E_SourceStreams!$A:$N,EB16,AW$7)))","v":""},{"$f":"IF($E16=\"\",\"\",IF(INDEX(E_SourceStreams!$A:$N,EC16,AX$7)=\"\",\"\",INDEX(E_SourceStreams!$A:$N,EC16,AX$7)))","v":""},{"$f":"IF($E16=\"\",\"\",IF(INDEX(E_SourceStreams!$A:$N,ED16,AY$7)=\"\",\"\",INDEX(E_SourceStreams!$A:$N,ED16,AY$7)))","v":""},{"$f":"IF($E16=\"\",\"\",IF(INDEX(E_SourceStreams!$A:$N,EE16,AZ$7)=\"\",\"\",INDEX(E_SourceStreams!$A:$N,EE16,AZ$7)))","v":""},{"$f":"IF($E16=\"\",\"\",IF(INDEX(E_SourceStreams!$A:$N,EF16,BA$7)=\"\",\"\",INDEX(E_SourceStreams!$A:$N,EF16,BA$7)))","v":""},{"$f":"IF($E16=\"\",\"\",IF(INDEX(E_SourceStreams!$A:$N,EG16,BB$7)=\"\",\"\",INDEX(E_SourceStreams!$A:$N,EG16,BB$7)))","v":""},{"$f":"IF($E16=\"\",\"\",IF(INDEX(E_SourceStreams!$A:$N,EH16,BC$7)=\"\",\"\",INDEX(E_SourceStreams!$A:$N,EH16,BC$7)))","v":""},{"$f":"IF($E16=\"\",\"\",IF(INDEX(E_SourceStreams!$A:$N,EI16,BD$7)=\"\",\"\",INDEX(E_SourceStreams!$A:$N,EI16,BD$7)))","v":""},{"$f":"IF($E16=\"\",\"\",IF(INDEX(E_SourceStreams!$A:$N,EJ16,BE$7)=\"\",\"\",INDEX(E_SourceStreams!$A:$N,EJ16,BE$7)))","v":""},{"$f":"IF($E16=\"\",\"\",IF(INDEX(E_SourceStreams!$A:$N,EK16,BF$7)=\"\",\"\",INDEX(E_SourceStreams!$A:$N,EK16,BF$7)))","v":""},{"$f":"IF($E16=\"\",\"\",IF(INDEX(E_SourceStreams!$A:$N,EL16,BG$7)=\"\",\"\",INDEX(E_SourceStreams!$A:$N,EL16,BG$7)))","v":""},{"$f":"IF($E16=\"\",\"\",IF(INDEX(E_SourceStreams!$A:$N,EM16,BH$7)=\"\",\"\",INDEX(E_SourceStreams!$A:$N,EM16,BH$7)))","v":""},{"$f":"IF($E16=\"\",\"\",IF(INDEX(E_SourceStreams!$A:$N,EN16,BI$7)=\"\",\"\",INDEX(E_SourceStreams!$A:$N,EN16,BI$7)))","v":""},{"$f":"IF($E16=\"\",\"\",IF(INDEX(E_SourceStreams!$A:$N,EO16,BJ$7)=\"\",\"\",INDEX(E_SourceStreams!$A:$N,EO16,BJ$7)))","v":""},{"$f":"IF($E16=\"\",\"\",IF(INDEX(E_SourceStreams!$A:$N,EP16,BK$7)=\"\",\"\",INDEX(E_SourceStreams!$A:$N,EP16,BK$7)))","v":""},{"$f":"IF($E16=\"\",\"\",IF(INDEX(E_SourceStreams!$A:$N,EQ16,BL$7)=\"\",\"\",INDEX(E_SourceStreams!$A:$N,EQ16,BL$7)))","v":""},{"$f":"IF($E16=\"\",\"\",IF(INDEX(E_SourceStreams!$A:$N,ER16,BM$7)=\"\",\"\",INDEX(E_SourceStreams!$A:$N,ER16,BM$7)))","v":""},{"$f":"IF($E16=\"\",\"\",IF(INDEX(E_SourceStreams!$A:$N,ES16,BN$7)=\"\",\"\",INDEX(E_SourceStreams!$A:$N,ES16,BN$7)))","v":""},{"$f":"IF($E16=\"\",\"\",IF(INDEX(E_SourceStreams!$A:$N,ET16,BO$7)=\"\",\"\",INDEX(E_SourceStreams!$A:$N,ET16,BO$7)))","v":""},{"$f":"IF($E16=\"\",\"\",IF(INDEX(E_SourceStreams!$A:$N,EU16,BP$7)=\"\",\"\",INDEX(E_SourceStreams!$A:$N,EU16,BP$7)))","v":""},{"$f":"IF($E16=\"\",\"\",IF(INDEX(E_SourceStreams!$A:$N,EV16,BQ$7)=\"\",\"\",INDEX(E_SourceStreams!$A:$N,EV16,BQ$7)))","v":""},{"$f":"IF($E16=\"\",\"\",IF(INDEX(E_SourceStreams!$A:$N,EW16,BR$7)=\"\",\"\",INDEX(E_SourceStreams!$A:$N,EW16,BR$7)))","v":""},{"$f":"IF($E16=\"\",\"\",IF(INDEX(E_SourceStreams!$A:$N,EX16,BS$7)=\"\",\"\",INDEX(E_SourceStreams!$A:$N,EX16,BS$7)))","v":""},{"$f":"IF($E16=\"\",\"\",IF(INDEX(E_SourceStreams!$A:$N,EY16,BT$7)=\"\",\"\",INDEX(E_SourceStreams!$A:$N,EY16,BT$7)))","v":""},null,null,null,null,null,null,null,null,null,null,null,null,null,null,null,"SourceCategory_",{"$f":"INDEX(C_InstallationDescription!$A$226:$A$332,ROWS($CI$11:CI16))=\"ausblenden\"","v":false},"SourceStreamName_",null,463,465,467,469,471,473,475,475,475,475,475,478,482,483,484,491,501,501,501,501,501,501,501,492,502,502,502,502,502,502,502,493,503,503,503,503,503,503,503,494,504,504,504,504,504,504,504,495,505,505,505,505,505,505,505,496,506,506,506,506,506,506,506,512]
[null,{"$f":"IF(COUNTIF($CK$10:CK17,TRUE)>0,\"\",INDEX(C_InstallationDescription!$E$226:$E$242,ROWS($A$11:A17)))","v":""},{"$f":"IF($E17=\"\",\"\",INDEX(C_InstallationDescription!F:F,MATCH($B17,C_InstallationDescription!$E:$E,0)))","v":""},{"$f":"IF($E17=\"\",\"\",INDEX(C_InstallationDescription!I:I,MATCH($B17,C_InstallationDescription!$E:$E,0)))","v":""},{"$f":"IF($B17=\"\",\"\",INDEX(C_InstallationDescription!F:F,MATCH($CJ17,C_InstallationDescription!$Q:$Q,0)))","v":""},{"$f":"IF($E17=\"\",\"\",INDEX(C_InstallationDescription!L:L,MATCH($CJ17,C_InstallationDescription!$Q:$Q,0)))","v":""},{"$f":"IF($E17=\"\",\"\",INDEX(C_InstallationDescription!M:M,MATCH($CJ17,C_InstallationDescription!$Q:$Q,0)))","v":""},{"$f":"IF($E17=\"\",\"\",INDEX(C_InstallationDescription!N:N,MATCH($CJ17,C_InstallationDescription!$Q:$Q,0)))","v":""},{"$f":"IF($E17=\"\",\"\",IF(INDEX(E_SourceStreams!$A:$N,CN17,I$7)=\"\",\"\",INDEX(E_SourceStreams!$A:$N,CN17,I$7)))","v":""},{"$f":"IF($E17=\"\",\"\",IF(INDEX(E_SourceStreams!$A:$N,CO17,J$7)=\"\",\"\",INDEX(E_SourceStreams!$A:$N,CO17,J$7)))","v":""},{"$f":"IF($E17=\"\",\"\",IF(INDEX(E_SourceStreams!$A:$N,CP17,K$7)=\"\",\"\",INDEX(E_SourceStreams!$A:$N,CP17,K$7)))","v":""},{"$f":"IF($E17=\"\",\"\",IF(INDEX(E_SourceStreams!$A:$N,CQ17,L$7)=\"\",\"\",INDEX(E_SourceStreams!$A:$N,CQ17,L$7)))","v":""},{"$f":"IF($E17=\"\",\"\",IF(INDEX(E_SourceStreams!$A:$N,CR17,M$7)=\"\",\"\",INDEX(E_SourceStreams!$A:$N,CR17,M$7)))","v":""},{"$f":"IF($E17=\"\",\"\",IF(INDEX(E_SourceStreams!$A:$N,CS17,N$7)=\"\",\"\",INDEX(E_SourceStreams!$A:$N,CS17,N$7)))","v":""},{"$f":"IF($E17=\"\",\"\",IF(INDEX(E_SourceStreams!$A:$N,CT17,O$7)=\"\",\"\",INDEX(E_SourceStreams!$A:$N,CT17,O$7)))","v":""},{"$f":"IF($E17=\"\",\"\",IF(INDEX(E_SourceStreams!$A:$N,CU17,P$7)=\"\",\"\",INDEX(E_SourceStreams!$A:$N,CU17,P$7)))","v":""},{"$f":"IF($E17=\"\",\"\",IF(INDEX(E_SourceStreams!$A:$N,CV17,Q$7)=\"\",\"\",INDEX(E_SourceStreams!$A:$N,CV17,Q$7)))","v":""},{"$f":"IF($E17=\"\",\"\",IF(INDEX(E_SourceStreams!$A:$N,CW17,R$7)=\"\",\"\",INDEX(E_SourceStreams!$A:$N,CW17,R$7)))","v":""},{"$f":"IF($E17=\"\",\"\",IF(INDEX(E_SourceStreams!$A:$N,CX17,S$7)=\"\",\"\",INDEX(E_SourceStreams!$A:$N,CX17,S$7)))","v":""},{"$f":"IF($E17=\"\",\"\",IF(INDEX(E_SourceStreams!$A:$N,CY17,T$7)=\"\",\"\",INDEX(E_SourceStreams!$A:$N,CY17,T$7)))","v":""},{"$f":"IF($E17=\"\",\"\",IF(INDEX(E_SourceStreams!$A:$N,CZ17,U$7)=\"\",\"\",INDEX(E_SourceStreams!$A:$N,CZ17,U$7)))","v":""},{"$f":"IF($E17=\"\",\"\",IF(INDEX(E_SourceStreams!$A:$N,DA17,V$7)=\"\",\"\",INDEX(E_SourceStreams!$A:$N,DA17,V$7)))","v":""},{"$f":"IF($E17=\"\",\"\",IF(INDEX(E_SourceStreams!$A:$N,DB17,W$7)=\"\",\"\",INDEX(E_SourceStreams!$A:$N,DB17,W$7)))","v":""},{"$f":"IF($E17=\"\",\"\",IF(INDEX(E_SourceStreams!$A:$N,DC17,X$7)=\"\",\"\",INDEX(E_SourceStreams!$A:$N,DC17,X$7)))","v":""},{"$f":"IF($E17=\"\",\"\",IF(INDEX(E_SourceStreams!$A:$N,DD17,Y$7)=\"\",\"\",INDEX(E_SourceStreams!$A:$N,DD17,Y$7)))","v":""},{"$f":"IF($E17=\"\",\"\",IF(INDEX(E_SourceStreams!$A:$N,DE17,Z$7)=\"\",\"\",INDEX(E_SourceStreams!$A:$N,DE17,Z$7)))","v":""},{"$f":"IF($E17=\"\",\"\",IF(INDEX(E_SourceStreams!$A:$N,DF17,AA$7)=\"\",\"\",INDEX(E_SourceStreams!$A:$N,DF17,AA$7)))","v":""},{"$f":"IF($E17=\"\",\"\",IF(INDEX(E_SourceStreams!$A:$N,DG17,AB$7)=\"\",\"\",INDEX(E_SourceStreams!$A:$N,DG17,AB$7)))","v":""},{"$f":"IF($E17=\"\",\"\",IF(INDEX(E_SourceStreams!$A:$N,DH17,AC$7)=\"\",\"\",INDEX(E_SourceStreams!$A:$N,DH17,AC$7)))","v":""},{"$f":"IF($E17=\"\",\"\",IF(INDEX(E_SourceStreams!$A:$N,DI17,AD$7)=\"\",\"\",INDEX(E_SourceStreams!$A:$N,DI17,AD$7)))","v":""},{"$f":"IF($E17=\"\",\"\",IF(INDEX(E_SourceStreams!$A:$N,DJ17,AE$7)=\"\",\"\",INDEX(E_SourceStreams!$A:$N,DJ17,AE$7)))","v":""},{"$f":"IF($E17=\"\",\"\",IF(INDEX(E_SourceStreams!$A:$N,DK17,AF$7)=\"\",\"\",INDEX(E_SourceStreams!$A:$N,DK17,AF$7)))","v":""},{"$f":"IF($E17=\"\",\"\",IF(INDEX(E_SourceStreams!$A:$N,DL17,AG$7)=\"\",\"\",INDEX(E_SourceStreams!$A:$N,DL17,AG$7)))","v":""},{"$f":"IF($E17=\"\",\"\",IF(INDEX(E_SourceStreams!$A:$N,DM17,AH$7)=\"\",\"\",INDEX(E_SourceStreams!$A:$N,DM17,AH$7)))","v":""},{"$f":"IF($E17=\"\",\"\",IF(INDEX(E_SourceStreams!$A:$N,DN17,AI$7)=\"\",\"\",INDEX(E_SourceStreams!$A:$N,DN17,AI$7)))","v":""},{"$f":"IF($E17=\"\",\"\",IF(INDEX(E_SourceStreams!$A:$N,DO17,AJ$7)=\"\",\"\",INDEX(E_SourceStreams!$A:$N,DO17,AJ$7)))","v":""},{"$f":"IF($E17=\"\",\"\",IF(INDEX(E_SourceStreams!$A:$N,DP17,AK$7)=\"\",\"\",INDEX(E_SourceStreams!$A:$N,DP17,AK$7)))","v":""},{"$f":"IF($E17=\"\",\"\",IF(INDEX(E_SourceStreams!$A:$N,DQ17,AL$7)=\"\",\"\",INDEX(E_SourceStreams!$A:$N,DQ17,AL$7)))","v":""},{"$f":"IF($E17=\"\",\"\",IF(INDEX(E_SourceStreams!$A:$N,DR17,AM$7)=\"\",\"\",INDEX(E_SourceStreams!$A:$N,DR17,AM$7)))","v":""},{"$f":"IF($E17=\"\",\"\",IF(INDEX(E_SourceStreams!$A:$N,DS17,AN$7)=\"\",\"\",INDEX(E_SourceStreams!$A:$N,DS17,AN$7)))","v":""},{"$f":"IF($E17=\"\",\"\",IF(INDEX(E_SourceStreams!$A:$N,DT17,AO$7)=\"\",\"\",INDEX(E_SourceStreams!$A:$N,DT17,AO$7)))","v":""},{"$f":"IF($E17=\"\",\"\",IF(INDEX(E_SourceStreams!$A:$N,DU17,AP$7)=\"\",\"\",INDEX(E_SourceStreams!$A:$N,DU17,AP$7)))","v":""},{"$f":"IF($E17=\"\",\"\",IF(INDEX(E_SourceStreams!$A:$N,DV17,AQ$7)=\"\",\"\",INDEX(E_SourceStreams!$A:$N,DV17,AQ$7)))","v":""},{"$f":"IF($E17=\"\",\"\",IF(INDEX(E_SourceStreams!$A:$N,DW17,AR$7)=\"\",\"\",INDEX(E_SourceStreams!$A:$N,DW17,AR$7)))","v":""},{"$f":"IF($E17=\"\",\"\",IF(INDEX(E_SourceStreams!$A:$N,DX17,AS$7)=\"\",\"\",INDEX(E_SourceStreams!$A:$N,DX17,AS$7)))","v":""},{"$f":"IF($E17=\"\",\"\",IF(INDEX(E_SourceStreams!$A:$N,DY17,AT$7)=\"\",\"\",INDEX(E_SourceStreams!$A:$N,DY17,AT$7)))","v":""},{"$f":"IF($E17=\"\",\"\",IF(INDEX(E_SourceStreams!$A:$N,DZ17,AU$7)=\"\",\"\",INDEX(E_SourceStreams!$A:$N,DZ17,AU$7)))","v":""},{"$f":"IF($E17=\"\",\"\",IF(INDEX(E_SourceStreams!$A:$N,EA17,AV$7)=\"\",\"\",INDEX(E_SourceStreams!$A:$N,EA17,AV$7)))","v":""},{"$f":"IF($E17=\"\",\"\",IF(INDEX(E_SourceStreams!$A:$N,EB17,AW$7)=\"\",\"\",INDEX(E_SourceStreams!$A:$N,EB17,AW$7)))","v":""},{"$f":"IF($E17=\"\",\"\",IF(INDEX(E_SourceStreams!$A:$N,EC17,AX$7)=\"\",\"\",INDEX(E_SourceStreams!$A:$N,EC17,AX$7)))","v":""},{"$f":"IF($E17=\"\",\"\",IF(INDEX(E_SourceStreams!$A:$N,ED17,AY$7)=\"\",\"\",INDEX(E_SourceStreams!$A:$N,ED17,AY$7)))","v":""},{"$f":"IF($E17=\"\",\"\",IF(INDEX(E_SourceStreams!$A:$N,EE17,AZ$7)=\"\",\"\",INDEX(E_SourceStreams!$A:$N,EE17,AZ$7)))","v":""},{"$f":"IF($E17=\"\",\"\",IF(INDEX(E_SourceStreams!$A:$N,EF17,BA$7)=\"\",\"\",INDEX(E_SourceStreams!$A:$N,EF17,BA$7)))","v":""},{"$f":"IF($E17=\"\",\"\",IF(INDEX(E_SourceStreams!$A:$N,EG17,BB$7)=\"\",\"\",INDEX(E_SourceStreams!$A:$N,EG17,BB$7)))","v":""},{"$f":"IF($E17=\"\",\"\",IF(INDEX(E_SourceStreams!$A:$N,EH17,BC$7)=\"\",\"\",INDEX(E_SourceStreams!$A:$N,EH17,BC$7)))","v":""},{"$f":"IF($E17=\"\",\"\",IF(INDEX(E_SourceStreams!$A:$N,EI17,BD$7)=\"\",\"\",INDEX(E_SourceStreams!$A:$N,EI17,BD$7)))","v":""},{"$f":"IF($E17=\"\",\"\",IF(INDEX(E_SourceStreams!$A:$N,EJ17,BE$7)=\"\",\"\",INDEX(E_SourceStreams!$A:$N,EJ17,BE$7)))","v":""},{"$f":"IF($E17=\"\",\"\",IF(INDEX(E_SourceStreams!$A:$N,EK17,BF$7)=\"\",\"\",INDEX(E_SourceStreams!$A:$N,EK17,BF$7)))","v":""},{"$f":"IF($E17=\"\",\"\",IF(INDEX(E_SourceStreams!$A:$N,EL17,BG$7)=\"\",\"\",INDEX(E_SourceStreams!$A:$N,EL17,BG$7)))","v":""},{"$f":"IF($E17=\"\",\"\",IF(INDEX(E_SourceStreams!$A:$N,EM17,BH$7)=\"\",\"\",INDEX(E_SourceStreams!$A:$N,EM17,BH$7)))","v":""},{"$f":"IF($E17=\"\",\"\",IF(INDEX(E_SourceStreams!$A:$N,EN17,BI$7)=\"\",\"\",INDEX(E_SourceStreams!$A:$N,EN17,BI$7)))","v":""},{"$f":"IF($E17=\"\",\"\",IF(INDEX(E_SourceStreams!$A:$N,EO17,BJ$7)=\"\",\"\",INDEX(E_SourceStreams!$A:$N,EO17,BJ$7)))","v":""},{"$f":"IF($E17=\"\",\"\",IF(INDEX(E_SourceStreams!$A:$N,EP17,BK$7)=\"\",\"\",INDEX(E_SourceStreams!$A:$N,EP17,BK$7)))","v":""},{"$f":"IF($E17=\"\",\"\",IF(INDEX(E_SourceStreams!$A:$N,EQ17,BL$7)=\"\",\"\",INDEX(E_SourceStreams!$A:$N,EQ17,BL$7)))","v":""},{"$f":"IF($E17=\"\",\"\",IF(INDEX(E_SourceStreams!$A:$N,ER17,BM$7)=\"\",\"\",INDEX(E_SourceStreams!$A:$N,ER17,BM$7)))","v":""},{"$f":"IF($E17=\"\",\"\",IF(INDEX(E_SourceStreams!$A:$N,ES17,BN$7)=\"\",\"\",INDEX(E_SourceStreams!$A:$N,ES17,BN$7)))","v":""},{"$f":"IF($E17=\"\",\"\",IF(INDEX(E_SourceStreams!$A:$N,ET17,BO$7)=\"\",\"\",INDEX(E_SourceStreams!$A:$N,ET17,BO$7)))","v":""},{"$f":"IF($E17=\"\",\"\",IF(INDEX(E_SourceStreams!$A:$N,EU17,BP$7)=\"\",\"\",INDEX(E_SourceStreams!$A:$N,EU17,BP$7)))","v":""},{"$f":"IF($E17=\"\",\"\",IF(INDEX(E_SourceStreams!$A:$N,EV17,BQ$7)=\"\",\"\",INDEX(E_SourceStreams!$A:$N,EV17,BQ$7)))","v":""},{"$f":"IF($E17=\"\",\"\",IF(INDEX(E_SourceStreams!$A:$N,EW17,BR$7)=\"\",\"\",INDEX(E_SourceStreams!$A:$N,EW17,BR$7)))","v":""},{"$f":"IF($E17=\"\",\"\",IF(INDEX(E_SourceStreams!$A:$N,EX17,BS$7)=\"\",\"\",INDEX(E_SourceStreams!$A:$N,EX17,BS$7)))","v":""},{"$f":"IF($E17=\"\",\"\",IF(INDEX(E_SourceStreams!$A:$N,EY17,BT$7)=\"\",\"\",INDEX(E_SourceStreams!$A:$N,EY17,BT$7)))","v":""},null,null,null,null,null,null,null,null,null,null,null,null,null,null,null,"SourceCategory_",{"$f":"INDEX(C_InstallationDescription!$A$226:$A$332,ROWS($CI$11:CI17))=\"ausblenden\"","v":false},"SourceStreamName_",null,529,531,533,535,537,539,541,541,541,541,541,544,548,549,550,557,567,567,567,567,567,567,567,558,568,568,568,568,568,568,568,559,569,569,569,569,569,569,569,560,570,570,570,570,570,570,570,561,571,571,571,571,571,571,571,562,572,572,572,572,572,572,572,578]
[null,{"$f":"IF(COUNTIF($CK$10:CK18,TRUE)>0,\"\",INDEX(C_InstallationDescription!$E$226:$E$242,ROWS($A$11:A18)))","v":""},{"$f":"IF($E18=\"\",\"\",INDEX(C_InstallationDescription!F:F,MATCH($B18,C_InstallationDescription!$E:$E,0)))","v":""},{"$f":"IF($E18=\"\",\"\",INDEX(C_InstallationDescription!I:I,MATCH($B18,C_InstallationDescription!$E:$E,0)))","v":""},{"$f":"IF($B18=\"\",\"\",INDEX(C_InstallationDescription!F:F,MATCH($CJ18,C_InstallationDescription!$Q:$Q,0)))","v":""},{"$f":"IF($E18=\"\",\"\",INDEX(C_InstallationDescription!L:L,MATCH($CJ18,C_InstallationDescription!$Q:$Q,0)))","v":""},{"$f":"IF($E18=\"\",\"\",INDEX(C_InstallationDescription!M:M,MATCH($CJ18,C_InstallationDescription!$Q:$Q,0)))","v":""},{"$f":"IF($E18=\"\",\"\",INDEX(C_InstallationDescription!N:N,MATCH($CJ18,C_InstallationDescription!$Q:$Q,0)))","v":""},{"$f":"IF($E18=\"\",\"\",IF(INDEX(E_SourceStreams!$A:$N,CN18,I$7)=\"\",\"\",INDEX(E_SourceStreams!$A:$N,CN18,I$7)))","v":""},{"$f":"IF($E18=\"\",\"\",IF(INDEX(E_SourceStreams!$A:$N,CO18,J$7)=\"\",\"\",INDEX(E_SourceStreams!$A:$N,CO18,J$7)))","v":""},{"$f":"IF($E18=\"\",\"\",IF(INDEX(E_SourceStreams!$A:$N,CP18,K$7)=\"\",\"\",INDEX(E_SourceStreams!$A:$N,CP18,K$7)))","v":""},{"$f":"IF($E18=\"\",\"\",IF(INDEX(E_SourceStreams!$A:$N,CQ18,L$7)=\"\",\"\",INDEX(E_SourceStreams!$A:$N,CQ18,L$7)))","v":""},{"$f":"IF($E18=\"\",\"\",IF(INDEX(E_SourceStreams!$A:$N,CR18,M$7)=\"\",\"\",INDEX(E_SourceStreams!$A:$N,CR18,M$7)))","v":""},{"$f":"IF($E18=\"\",\"\",IF(INDEX(E_SourceStreams!$A:$N,CS18,N$7)=\"\",\"\",INDEX(E_SourceStreams!$A:$N,CS18,N$7)))","v":""},{"$f":"IF($E18=\"\",\"\",IF(INDEX(E_SourceStreams!$A:$N,CT18,O$7)=\"\",\"\",INDEX(E_SourceStreams!$A:$N,CT18,O$7)))","v":""},{"$f":"IF($E18=\"\",\"\",IF(INDEX(E_SourceStreams!$A:$N,CU18,P$7)=\"\",\"\",INDEX(E_SourceStreams!$A:$N,CU18,P$7)))","v":""},{"$f":"IF($E18=\"\",\"\",IF(INDEX(E_SourceStreams!$A:$N,CV18,Q$7)=\"\",\"\",INDEX(E_SourceStreams!$A:$N,CV18,Q$7)))","v":""},{"$f":"IF($E18=\"\",\"\",IF(INDEX(E_SourceStreams!$A:$N,CW18,R$7)=\"\",\"\",INDEX(E_SourceStreams!$A:$N,CW18,R$7)))","v":""},{"$f":"IF($E18=\"\",\"\",IF(INDEX(E_SourceStreams!$A:$N,CX18,S$7)=\"\",\"\",INDEX(E_SourceStreams!$A:$N,CX18,S$7)))","v":""},{"$f":"IF($E18=\"\",\"\",IF(INDEX(E_SourceStreams!$A:$N,CY18,T$7)=\"\",\"\",INDEX(E_SourceStreams!$A:$N,CY18,T$7)))","v":""},{"$f":"IF($E18=\"\",\"\",IF(INDEX(E_SourceStreams!$A:$N,CZ18,U$7)=\"\",\"\",INDEX(E_SourceStreams!$A:$N,CZ18,U$7)))","v":""},{"$f":"IF($E18=\"\",\"\",IF(INDEX(E_SourceStreams!$A:$N,DA18,V$7)=\"\",\"\",INDEX(E_SourceStreams!$A:$N,DA18,V$7)))","v":""},{"$f":"IF($E18=\"\",\"\",IF(INDEX(E_SourceStreams!$A:$N,DB18,W$7)=\"\",\"\",INDEX(E_SourceStreams!$A:$N,DB18,W$7)))","v":""},{"$f":"IF($E18=\"\",\"\",IF(INDEX(E_SourceStreams!$A:$N,DC18,X$7)=\"\",\"\",INDEX(E_SourceStreams!$A:$N,DC18,X$7)))","v":""},{"$f":"IF($E18=\"\",\"\",IF(INDEX(E_SourceStreams!$A:$N,DD18,Y$7)=\"\",\"\",INDEX(E_SourceStreams!$A:$N,DD18,Y$7)))","v":""},{"$f":"IF($E18=\"\",\"\",IF(INDEX(E_SourceStreams!$A:$N,DE18,Z$7)=\"\",\"\",INDEX(E_SourceStreams!$A:$N,DE18,Z$7)))","v":""},{"$f":"IF($E18=\"\",\"\",IF(INDEX(E_SourceStreams!$A:$N,DF18,AA$7)=\"\",\"\",INDEX(E_SourceStreams!$A:$N,DF18,AA$7)))","v":""},{"$f":"IF($E18=\"\",\"\",IF(INDEX(E_SourceStreams!$A:$N,DG18,AB$7)=\"\",\"\",INDEX(E_SourceStreams!$A:$N,DG18,AB$7)))","v":""},{"$f":"IF($E18=\"\",\"\",IF(INDEX(E_SourceStreams!$A:$N,DH18,AC$7)=\"\",\"\",INDEX(E_SourceStreams!$A:$N,DH18,AC$7)))","v":""},{"$f":"IF($E18=\"\",\"\",IF(INDEX(E_SourceStreams!$A:$N,DI18,AD$7)=\"\",\"\",INDEX(E_SourceStreams!$A:$N,DI18,AD$7)))","v":""},{"$f":"IF($E18=\"\",\"\",IF(INDEX(E_SourceStreams!$A:$N,DJ18,AE$7)=\"\",\"\",INDEX(E_SourceStreams!$A:$N,DJ18,AE$7)))","v":""},{"$f":"IF($E18=\"\",\"\",IF(INDEX(E_SourceStreams!$A:$N,DK18,AF$7)=\"\",\"\",INDEX(E_SourceStreams!$A:$N,DK18,AF$7)))","v":""},{"$f":"IF($E18=\"\",\"\",IF(INDEX(E_SourceStreams!$A:$N,DL18,AG$7)=\"\",\"\",INDEX(E_SourceStreams!$A:$N,DL18,AG$7)))","v":""},{"$f":"IF($E18=\"\",\"\",IF(INDEX(E_SourceStreams!$A:$N,DM18,AH$7)=\"\",\"\",INDEX(E_SourceStreams!$A:$N,DM18,AH$7)))","v":""},{"$f":"IF($E18=\"\",\"\",IF(INDEX(E_SourceStreams!$A:$N,DN18,AI$7)=\"\",\"\",INDEX(E_SourceStreams!$A:$N,DN18,AI$7)))","v":""},{"$f":"IF($E18=\"\",\"\",IF(INDEX(E_SourceStreams!$A:$N,DO18,AJ$7)=\"\",\"\",INDEX(E_SourceStreams!$A:$N,DO18,AJ$7)))","v":""},{"$f":"IF($E18=\"\",\"\",IF(INDEX(E_SourceStreams!$A:$N,DP18,AK$7)=\"\",\"\",INDEX(E_SourceStreams!$A:$N,DP18,AK$7)))","v":""},{"$f":"IF($E18=\"\",\"\",IF(INDEX(E_SourceStreams!$A:$N,DQ18,AL$7)=\"\",\"\",INDEX(E_SourceStreams!$A:$N,DQ18,AL$7)))","v":""},{"$f":"IF($E18=\"\",\"\",IF(INDEX(E_SourceStreams!$A:$N,DR18,AM$7)=\"\",\"\",INDEX(E_SourceStreams!$A:$N,DR18,AM$7)))","v":""},{"$f":"IF($E18=\"\",\"\",IF(INDEX(E_SourceStreams!$A:$N,DS18,AN$7)=\"\",\"\",INDEX(E_SourceStreams!$A:$N,DS18,AN$7)))","v":""},{"$f":"IF($E18=\"\",\"\",IF(INDEX(E_SourceStreams!$A:$N,DT18,AO$7)=\"\",\"\",INDEX(E_SourceStreams!$A:$N,DT18,AO$7)))","v":""},{"$f":"IF($E18=\"\",\"\",IF(INDEX(E_SourceStreams!$A:$N,DU18,AP$7)=\"\",\"\",INDEX(E_SourceStreams!$A:$N,DU18,AP$7)))","v":""},{"$f":"IF($E18=\"\",\"\",IF(INDEX(E_SourceStreams!$A:$N,DV18,AQ$7)=\"\",\"\",INDEX(E_SourceStreams!$A:$N,DV18,AQ$7)))","v":""},{"$f":"IF($E18=\"\",\"\",IF(INDEX(E_SourceStreams!$A:$N,DW18,AR$7)=\"\",\"\",INDEX(E_SourceStreams!$A:$N,DW18,AR$7)))","v":""},{"$f":"IF($E18=\"\",\"\",IF(INDEX(E_SourceStreams!$A:$N,DX18,AS$7)=\"\",\"\",INDEX(E_SourceStreams!$A:$N,DX18,AS$7)))","v":""},{"$f":"IF($E18=\"\",\"\",IF(INDEX(E_SourceStreams!$A:$N,DY18,AT$7)=\"\",\"\",INDEX(E_SourceStreams!$A:$N,DY18,AT$7)))","v":""},{"$f":"IF($E18=\"\",\"\",IF(INDEX(E_SourceStreams!$A:$N,DZ18,AU$7)=\"\",\"\",INDEX(E_SourceStreams!$A:$N,DZ18,AU$7)))","v":""},{"$f":"IF($E18=\"\",\"\",IF(INDEX(E_SourceStreams!$A:$N,EA18,AV$7)=\"\",\"\",INDEX(E_SourceStreams!$A:$N,EA18,AV$7)))","v":""},{"$f":"IF($E18=\"\",\"\",IF(INDEX(E_SourceStreams!$A:$N,EB18,AW$7)=\"\",\"\",INDEX(E_SourceStreams!$A:$N,EB18,AW$7)))","v":""},{"$f":"IF($E18=\"\",\"\",IF(INDEX(E_SourceStreams!$A:$N,EC18,AX$7)=\"\",\"\",INDEX(E_SourceStreams!$A:$N,EC18,AX$7)))","v":""},{"$f":"IF($E18=\"\",\"\",IF(INDEX(E_SourceStreams!$A:$N,ED18,AY$7)=\"\",\"\",INDEX(E_SourceStreams!$A:$N,ED18,AY$7)))","v":""},{"$f":"IF($E18=\"\",\"\",IF(INDEX(E_SourceStreams!$A:$N,EE18,AZ$7)=\"\",\"\",INDEX(E_SourceStreams!$A:$N,EE18,AZ$7)))","v":""},{"$f":"IF($E18=\"\",\"\",IF(INDEX(E_SourceStreams!$A:$N,EF18,BA$7)=\"\",\"\",INDEX(E_SourceStreams!$A:$N,EF18,BA$7)))","v":""},{"$f":"IF($E18=\"\",\"\",IF(INDEX(E_SourceStreams!$A:$N,EG18,BB$7)=\"\",\"\",INDEX(E_SourceStreams!$A:$N,EG18,BB$7)))","v":""},{"$f":"IF($E18=\"\",\"\",IF(INDEX(E_SourceStreams!$A:$N,EH18,BC$7)=\"\",\"\",INDEX(E_SourceStreams!$A:$N,EH18,BC$7)))","v":""},{"$f":"IF($E18=\"\",\"\",IF(INDEX(E_SourceStreams!$A:$N,EI18,BD$7)=\"\",\"\",INDEX(E_SourceStreams!$A:$N,EI18,BD$7)))","v":""},{"$f":"IF($E18=\"\",\"\",IF(INDEX(E_SourceStreams!$A:$N,EJ18,BE$7)=\"\",\"\",INDEX(E_SourceStreams!$A:$N,EJ18,BE$7)))","v":""},{"$f":"IF($E18=\"\",\"\",IF(INDEX(E_SourceStreams!$A:$N,EK18,BF$7)=\"\",\"\",INDEX(E_SourceStreams!$A:$N,EK18,BF$7)))","v":""},{"$f":"IF($E18=\"\",\"\",IF(INDEX(E_SourceStreams!$A:$N,EL18,BG$7)=\"\",\"\",INDEX(E_SourceStreams!$A:$N,EL18,BG$7)))","v":""},{"$f":"IF($E18=\"\",\"\",IF(INDEX(E_SourceStreams!$A:$N,EM18,BH$7)=\"\",\"\",INDEX(E_SourceStreams!$A:$N,EM18,BH$7)))","v":""},{"$f":"IF($E18=\"\",\"\",IF(INDEX(E_SourceStreams!$A:$N,EN18,BI$7)=\"\",\"\",INDEX(E_SourceStreams!$A:$N,EN18,BI$7)))","v":""},{"$f":"IF($E18=\"\",\"\",IF(INDEX(E_SourceStreams!$A:$N,EO18,BJ$7)=\"\",\"\",INDEX(E_SourceStreams!$A:$N,EO18,BJ$7)))","v":""},{"$f":"IF($E18=\"\",\"\",IF(INDEX(E_SourceStreams!$A:$N,EP18,BK$7)=\"\",\"\",INDEX(E_SourceStreams!$A:$N,EP18,BK$7)))","v":""},{"$f":"IF($E18=\"\",\"\",IF(INDEX(E_SourceStreams!$A:$N,EQ18,BL$7)=\"\",\"\",INDEX(E_SourceStreams!$A:$N,EQ18,BL$7)))","v":""},{"$f":"IF($E18=\"\",\"\",IF(INDEX(E_SourceStreams!$A:$N,ER18,BM$7)=\"\",\"\",INDEX(E_SourceStreams!$A:$N,ER18,BM$7)))","v":""},{"$f":"IF($E18=\"\",\"\",IF(INDEX(E_SourceStreams!$A:$N,ES18,BN$7)=\"\",\"\",INDEX(E_SourceStreams!$A:$N,ES18,BN$7)))","v":""},{"$f":"IF($E18=\"\",\"\",IF(INDEX(E_SourceStreams!$A:$N,ET18,BO$7)=\"\",\"\",INDEX(E_SourceStreams!$A:$N,ET18,BO$7)))","v":""},{"$f":"IF($E18=\"\",\"\",IF(INDEX(E_SourceStreams!$A:$N,EU18,BP$7)=\"\",\"\",INDEX(E_SourceStreams!$A:$N,EU18,BP$7)))","v":""},{"$f":"IF($E18=\"\",\"\",IF(INDEX(E_SourceStreams!$A:$N,EV18,BQ$7)=\"\",\"\",INDEX(E_SourceStreams!$A:$N,EV18,BQ$7)))","v":""},{"$f":"IF($E18=\"\",\"\",IF(INDEX(E_SourceStreams!$A:$N,EW18,BR$7)=\"\",\"\",INDEX(E_SourceStreams!$A:$N,EW18,BR$7)))","v":""},{"$f":"IF($E18=\"\",\"\",IF(INDEX(E_SourceStreams!$A:$N,EX18,BS$7)=\"\",\"\",INDEX(E_SourceStreams!$A:$N,EX18,BS$7)))","v":""},{"$f":"IF($E18=\"\",\"\",IF(INDEX(E_SourceStreams!$A:$N,EY18,BT$7)=\"\",\"\",INDEX(E_SourceStreams!$A:$N,EY18,BT$7)))","v":""},null,null,null,null,null,null,null,null,null,null,null,null,null,null,null,"SourceCategory_",{"$f":"INDEX(C_InstallationDescription!$A$226:$A$332,ROWS($CI$11:CI18))=\"ausblenden\"","v":false},"SourceStreamName_",null,595,597,599,601,603,605,607,607,607,607,607,610,614,615,616,623,633,633,633,633,633,633,633,624,634,634,634,634,634,634,634,625,635,635,635,635,635,635,635,626,636,636,636,636,636,636,636,627,637,637,637,637,637,637,637,628,638,638,638,638,638,638,638,644]
[null,{"$f":"IF(COUNTIF($CK$10:CK19,TRUE)>0,\"\",INDEX(C_InstallationDescription!$E$226:$E$242,ROWS($A$11:A19)))","v":""},{"$f":"IF($E19=\"\",\"\",INDEX(C_InstallationDescription!F:F,MATCH($B19,C_InstallationDescription!$E:$E,0)))","v":""},{"$f":"IF($E19=\"\",\"\",INDEX(C_InstallationDescription!I:I,MATCH($B19,C_InstallationDescription!$E:$E,0)))","v":""},{"$f":"IF($B19=\"\",\"\",INDEX(C_InstallationDescription!F:F,MATCH($CJ19,C_InstallationDescription!$Q:$Q,0)))","v":""},{"$f":"IF($E19=\"\",\"\",INDEX(C_InstallationDescription!L:L,MATCH($CJ19,C_InstallationDescription!$Q:$Q,0)))","v":""},{"$f":"IF($E19=\"\",\"\",INDEX(C_InstallationDescription!M:M,MATCH($CJ19,C_InstallationDescription!$Q:$Q,0)))","v":""},{"$f":"IF($E19=\"\",\"\",INDEX(C_InstallationDescription!N:N,MATCH($CJ19,C_InstallationDescription!$Q:$Q,0)))","v":""},{"$f":"IF($E19=\"\",\"\",IF(INDEX(E_SourceStreams!$A:$N,CN19,I$7)=\"\",\"\",INDEX(E_SourceStreams!$A:$N,CN19,I$7)))","v":""},{"$f":"IF($E19=\"\",\"\",IF(INDEX(E_SourceStreams!$A:$N,CO19,J$7)=\"\",\"\",INDEX(E_SourceStreams!$A:$N,CO19,J$7)))","v":""},{"$f":"IF($E19=\"\",\"\",IF(INDEX(E_SourceStreams!$A:$N,CP19,K$7)=\"\",\"\",INDEX(E_SourceStreams!$A:$N,CP19,K$7)))","v":""},{"$f":"IF($E19=\"\",\"\",IF(INDEX(E_SourceStreams!$A:$N,CQ19,L$7)=\"\",\"\",INDEX(E_SourceStreams!$A:$N,CQ19,L$7)))","v":""},{"$f":"IF($E19=\"\",\"\",IF(INDEX(E_SourceStreams!$A:$N,CR19,M$7)=\"\",\"\",INDEX(E_SourceStreams!$A:$N,CR19,M$7)))","v":""},{"$f":"IF($E19=\"\",\"\",IF(INDEX(E_SourceStreams!$A:$N,CS19,N$7)=\"\",\"\",INDEX(E_SourceStreams!$A:$N,CS19,N$7)))","v":""},{"$f":"IF($E19=\"\",\"\",IF(INDEX(E_SourceStreams!$A:$N,CT19,O$7)=\"\",\"\",INDEX(E_SourceStreams!$A:$N,CT19,O$7)))","v":""},{"$f":"IF($E19=\"\",\"\",IF(INDEX(E_SourceStreams!$A:$N,CU19,P$7)=\"\",\"\",INDEX(E_SourceStreams!$A:$N,CU19,P$7)))","v":""},{"$f":"IF($E19=\"\",\"\",IF(INDEX(E_SourceStreams!$A:$N,CV19,Q$7)=\"\",\"\",INDEX(E_SourceStreams!$A:$N,CV19,Q$7)))","v":""},{"$f":"IF($E19=\"\",\"\",IF(INDEX(E_SourceStreams!$A:$N,CW19,R$7)=\"\",\"\",INDEX(E_SourceStreams!$A:$N,CW19,R$7)))","v":""},{"$f":"IF($E19=\"\",\"\",IF(INDEX(E_SourceStreams!$A:$N,CX19,S$7)=\"\",\"\",INDEX(E_SourceStreams!$A:$N,CX19,S$7)))","v":""},{"$f":"IF($E19=\"\",\"\",IF(INDEX(E_SourceStreams!$A:$N,CY19,T$7)=\"\",\"\",INDEX(E_SourceStreams!$A:$N,CY19,T$7)))","v":""},{"$f":"IF($E19=\"\",\"\",IF(INDEX(E_SourceStreams!$A:$N,CZ19,U$7)=\"\",\"\",INDEX(E_SourceStreams!$A:$N,CZ19,U$7)))","v":""},{"$f":"IF($E19=\"\",\"\",IF(INDEX(E_SourceStreams!$A:$N,DA19,V$7)=\"\",\"\",INDEX(E_SourceStreams!$A:$N,DA19,V$7)))","v":""},{"$f":"IF($E19=\"\",\"\",IF(INDEX(E_SourceStreams!$A:$N,DB19,W$7)=\"\",\"\",INDEX(E_SourceStreams!$A:$N,DB19,W$7)))","v":""},{"$f":"IF($E19=\"\",\"\",IF(INDEX(E_SourceStreams!$A:$N,DC19,X$7)=\"\",\"\",INDEX(E_SourceStreams!$A:$N,DC19,X$7)))","v":""},{"$f":"IF($E19=\"\",\"\",IF(INDEX(E_SourceStreams!$A:$N,DD19,Y$7)=\"\",\"\",INDEX(E_SourceStreams!$A:$N,DD19,Y$7)))","v":""},{"$f":"IF($E19=\"\",\"\",IF(INDEX(E_SourceStreams!$A:$N,DE19,Z$7)=\"\",\"\",INDEX(E_SourceStreams!$A:$N,DE19,Z$7)))","v":""},{"$f":"IF($E19=\"\",\"\",IF(INDEX(E_SourceStreams!$A:$N,DF19,AA$7)=\"\",\"\",INDEX(E_SourceStreams!$A:$N,DF19,AA$7)))","v":""},{"$f":"IF($E19=\"\",\"\",IF(INDEX(E_SourceStreams!$A:$N,DG19,AB$7)=\"\",\"\",INDEX(E_SourceStreams!$A:$N,DG19,AB$7)))","v":""},{"$f":"IF($E19=\"\",\"\",IF(INDEX(E_SourceStreams!$A:$N,DH19,AC$7)=\"\",\"\",INDEX(E_SourceStreams!$A:$N,DH19,AC$7)))","v":""},{"$f":"IF($E19=\"\",\"\",IF(INDEX(E_SourceStreams!$A:$N,DI19,AD$7)=\"\",\"\",INDEX(E_SourceStreams!$A:$N,DI19,AD$7)))","v":""},{"$f":"IF($E19=\"\",\"\",IF(INDEX(E_SourceStreams!$A:$N,DJ19,AE$7)=\"\",\"\",INDEX(E_SourceStreams!$A:$N,DJ19,AE$7)))","v":""},{"$f":"IF($E19=\"\",\"\",IF(INDEX(E_SourceStreams!$A:$N,DK19,AF$7)=\"\",\"\",INDEX(E_SourceStreams!$A:$N,DK19,AF$7)))","v":""},{"$f":"IF($E19=\"\",\"\",IF(INDEX(E_SourceStreams!$A:$N,DL19,AG$7)=\"\",\"\",INDEX(E_SourceStreams!$A:$N,DL19,AG$7)))","v":""},{"$f":"IF($E19=\"\",\"\",IF(INDEX(E_SourceStreams!$A:$N,DM19,AH$7)=\"\",\"\",INDEX(E_SourceStreams!$A:$N,DM19,AH$7)))","v":""},{"$f":"IF($E19=\"\",\"\",IF(INDEX(E_SourceStreams!$A:$N,DN19,AI$7)=\"\",\"\",INDEX(E_SourceStreams!$A:$N,DN19,AI$7)))","v":""},{"$f":"IF($E19=\"\",\"\",IF(INDEX(E_SourceStreams!$A:$N,DO19,AJ$7)=\"\",\"\",INDEX(E_SourceStreams!$A:$N,DO19,AJ$7)))","v":""},{"$f":"IF($E19=\"\",\"\",IF(INDEX(E_SourceStreams!$A:$N,DP19,AK$7)=\"\",\"\",INDEX(E_SourceStreams!$A:$N,DP19,AK$7)))","v":""},{"$f":"IF($E19=\"\",\"\",IF(INDEX(E_SourceStreams!$A:$N,DQ19,AL$7)=\"\",\"\",INDEX(E_SourceStreams!$A:$N,DQ19,AL$7)))","v":""},{"$f":"IF($E19=\"\",\"\",IF(INDEX(E_SourceStreams!$A:$N,DR19,AM$7)=\"\",\"\",INDEX(E_SourceStreams!$A:$N,DR19,AM$7)))","v":""},{"$f":"IF($E19=\"\",\"\",IF(INDEX(E_SourceStreams!$A:$N,DS19,AN$7)=\"\",\"\",INDEX(E_SourceStreams!$A:$N,DS19,AN$7)))","v":""},{"$f":"IF($E19=\"\",\"\",IF(INDEX(E_SourceStreams!$A:$N,DT19,AO$7)=\"\",\"\",INDEX(E_SourceStreams!$A:$N,DT19,AO$7)))","v":""},{"$f":"IF($E19=\"\",\"\",IF(INDEX(E_SourceStreams!$A:$N,DU19,AP$7)=\"\",\"\",INDEX(E_SourceStreams!$A:$N,DU19,AP$7)))","v":""},{"$f":"IF($E19=\"\",\"\",IF(INDEX(E_SourceStreams!$A:$N,DV19,AQ$7)=\"\",\"\",INDEX(E_SourceStreams!$A:$N,DV19,AQ$7)))","v":""},{"$f":"IF($E19=\"\",\"\",IF(INDEX(E_SourceStreams!$A:$N,DW19,AR$7)=\"\",\"\",INDEX(E_SourceStreams!$A:$N,DW19,AR$7)))","v":""},{"$f":"IF($E19=\"\",\"\",IF(INDEX(E_SourceStreams!$A:$N,DX19,AS$7)=\"\",\"\",INDEX(E_SourceStreams!$A:$N,DX19,AS$7)))","v":""},{"$f":"IF($E19=\"\",\"\",IF(INDEX(E_SourceStreams!$A:$N,DY19,AT$7)=\"\",\"\",INDEX(E_SourceStreams!$A:$N,DY19,AT$7)))","v":""},{"$f":"IF($E19=\"\",\"\",IF(INDEX(E_SourceStreams!$A:$N,DZ19,AU$7)=\"\",\"\",INDEX(E_SourceStreams!$A:$N,DZ19,AU$7)))","v":""},{"$f":"IF($E19=\"\",\"\",IF(INDEX(E_SourceStreams!$A:$N,EA19,AV$7)=\"\",\"\",INDEX(E_SourceStreams!$A:$N,EA19,AV$7)))","v":""},{"$f":"IF($E19=\"\",\"\",IF(INDEX(E_SourceStreams!$A:$N,EB19,AW$7)=\"\",\"\",INDEX(E_SourceStreams!$A:$N,EB19,AW$7)))","v":""},{"$f":"IF($E19=\"\",\"\",IF(INDEX(E_SourceStreams!$A:$N,EC19,AX$7)=\"\",\"\",INDEX(E_SourceStreams!$A:$N,EC19,AX$7)))","v":""},{"$f":"IF($E19=\"\",\"\",IF(INDEX(E_SourceStreams!$A:$N,ED19,AY$7)=\"\",\"\",INDEX(E_SourceStreams!$A:$N,ED19,AY$7)))","v":""},{"$f":"IF($E19=\"\",\"\",IF(INDEX(E_SourceStreams!$A:$N,EE19,AZ$7)=\"\",\"\",INDEX(E_SourceStreams!$A:$N,EE19,AZ$7)))","v":""},{"$f":"IF($E19=\"\",\"\",IF(INDEX(E_SourceStreams!$A:$N,EF19,BA$7)=\"\",\"\",INDEX(E_SourceStreams!$A:$N,EF19,BA$7)))","v":""},{"$f":"IF($E19=\"\",\"\",IF(INDEX(E_SourceStreams!$A:$N,EG19,BB$7)=\"\",\"\",INDEX(E_SourceStreams!$A:$N,EG19,BB$7)))","v":""},{"$f":"IF($E19=\"\",\"\",IF(INDEX(E_SourceStreams!$A:$N,EH19,BC$7)=\"\",\"\",INDEX(E_SourceStreams!$A:$N,EH19,BC$7)))","v":""},{"$f":"IF($E19=\"\",\"\",IF(INDEX(E_SourceStreams!$A:$N,EI19,BD$7)=\"\",\"\",INDEX(E_SourceStreams!$A:$N,EI19,BD$7)))","v":""},{"$f":"IF($E19=\"\",\"\",IF(INDEX(E_SourceStreams!$A:$N,EJ19,BE$7)=\"\",\"\",INDEX(E_SourceStreams!$A:$N,EJ19,BE$7)))","v":""},{"$f":"IF($E19=\"\",\"\",IF(INDEX(E_SourceStreams!$A:$N,EK19,BF$7)=\"\",\"\",INDEX(E_SourceStreams!$A:$N,EK19,BF$7)))","v":""},{"$f":"IF($E19=\"\",\"\",IF(INDEX(E_SourceStreams!$A:$N,EL19,BG$7)=\"\",\"\",INDEX(E_SourceStreams!$A:$N,EL19,BG$7)))","v":""},{"$f":"IF($E19=\"\",\"\",IF(INDEX(E_SourceStreams!$A:$N,EM19,BH$7)=\"\",\"\",INDEX(E_SourceStreams!$A:$N,EM19,BH$7)))","v":""},{"$f":"IF($E19=\"\",\"\",IF(INDEX(E_SourceStreams!$A:$N,EN19,BI$7)=\"\",\"\",INDEX(E_SourceStreams!$A:$N,EN19,BI$7)))","v":""},{"$f":"IF($E19=\"\",\"\",IF(INDEX(E_SourceStreams!$A:$N,EO19,BJ$7)=\"\",\"\",INDEX(E_SourceStreams!$A:$N,EO19,BJ$7)))","v":""},{"$f":"IF($E19=\"\",\"\",IF(INDEX(E_SourceStreams!$A:$N,EP19,BK$7)=\"\",\"\",INDEX(E_SourceStreams!$A:$N,EP19,BK$7)))","v":""},{"$f":"IF($E19=\"\",\"\",IF(INDEX(E_SourceStreams!$A:$N,EQ19,BL$7)=\"\",\"\",INDEX(E_SourceStreams!$A:$N,EQ19,BL$7)))","v":""},{"$f":"IF($E19=\"\",\"\",IF(INDEX(E_SourceStreams!$A:$N,ER19,BM$7)=\"\",\"\",INDEX(E_SourceStreams!$A:$N,ER19,BM$7)))","v":""},{"$f":"IF($E19=\"\",\"\",IF(INDEX(E_SourceStreams!$A:$N,ES19,BN$7)=\"\",\"\",INDEX(E_SourceStreams!$A:$N,ES19,BN$7)))","v":""},{"$f":"IF($E19=\"\",\"\",IF(INDEX(E_SourceStreams!$A:$N,ET19,BO$7)=\"\",\"\",INDEX(E_SourceStreams!$A:$N,ET19,BO$7)))","v":""},{"$f":"IF($E19=\"\",\"\",IF(INDEX(E_SourceStreams!$A:$N,EU19,BP$7)=\"\",\"\",INDEX(E_SourceStreams!$A:$N,EU19,BP$7)))","v":""},{"$f":"IF($E19=\"\",\"\",IF(INDEX(E_SourceStreams!$A:$N,EV19,BQ$7)=\"\",\"\",INDEX(E_SourceStreams!$A:$N,EV19,BQ$7)))","v":""},{"$f":"IF($E19=\"\",\"\",IF(INDEX(E_SourceStreams!$A:$N,EW19,BR$7)=\"\",\"\",INDEX(E_SourceStreams!$A:$N,EW19,BR$7)))","v":""},{"$f":"IF($E19=\"\",\"\",IF(INDEX(E_SourceStreams!$A:$N,EX19,BS$7)=\"\",\"\",INDEX(E_SourceStreams!$A:$N,EX19,BS$7)))","v":""},{"$f":"IF($E19=\"\",\"\",IF(INDEX(E_SourceStreams!$A:$N,EY19,BT$7)=\"\",\"\",INDEX(E_SourceStreams!$A:$N,EY19,BT$7)))","v":""},null,null,null,null,null,null,null,null,null,null,null,null,null,null,null,"SourceCategory_",{"$f":"INDEX(C_InstallationDescription!$A$226:$A$332,ROWS($CI$11:CI19))=\"ausblenden\"","v":false},"SourceStreamName_",null,661,663,665,667,669,671,673,673,673,673,673,676,680,681,682,689,699,699,699,699,699,699,699,690,700,700,700,700,700,700,700,691,701,701,701,701,701,701,701,692,702,702,702,702,702,702,702,693,703,703,703,703,703,703,703,694,704,704,704,704,704,704,704,710]
[null,{"$f":"IF(COUNTIF($CK$10:CK20,TRUE)>0,\"\",INDEX(C_InstallationDescription!$E$226:$E$242,ROWS($A$11:A20)))","v":""},{"$f":"IF($E20=\"\",\"\",INDEX(C_InstallationDescription!F:F,MATCH($B20,C_InstallationDescription!$E:$E,0)))","v":""},{"$f":"IF($E20=\"\",\"\",INDEX(C_InstallationDescription!I:I,MATCH($B20,C_InstallationDescription!$E:$E,0)))","v":""},{"$f":"IF($B20=\"\",\"\",INDEX(C_InstallationDescription!F:F,MATCH($CJ20,C_InstallationDescription!$Q:$Q,0)))","v":""},{"$f":"IF($E20=\"\",\"\",INDEX(C_InstallationDescription!L:L,MATCH($CJ20,C_InstallationDescription!$Q:$Q,0)))","v":""},{"$f":"IF($E20=\"\",\"\",INDEX(C_InstallationDescription!M:M,MATCH($CJ20,C_InstallationDescription!$Q:$Q,0)))","v":""},{"$f":"IF($E20=\"\",\"\",INDEX(C_InstallationDescription!N:N,MATCH($CJ20,C_InstallationDescription!$Q:$Q,0)))","v":""},{"$f":"IF($E20=\"\",\"\",IF(INDEX(E_SourceStreams!$A:$N,CN20,I$7)=\"\",\"\",INDEX(E_SourceStreams!$A:$N,CN20,I$7)))","v":""},{"$f":"IF($E20=\"\",\"\",IF(INDEX(E_SourceStreams!$A:$N,CO20,J$7)=\"\",\"\",INDEX(E_SourceStreams!$A:$N,CO20,J$7)))","v":""},{"$f":"IF($E20=\"\",\"\",IF(INDEX(E_SourceStreams!$A:$N,CP20,K$7)=\"\",\"\",INDEX(E_SourceStreams!$A:$N,CP20,K$7)))","v":""},{"$f":"IF($E20=\"\",\"\",IF(INDEX(E_SourceStreams!$A:$N,CQ20,L$7)=\"\",\"\",INDEX(E_SourceStreams!$A:$N,CQ20,L$7)))","v":""},{"$f":"IF($E20=\"\",\"\",IF(INDEX(E_SourceStreams!$A:$N,CR20,M$7)=\"\",\"\",INDEX(E_SourceStreams!$A:$N,CR20,M$7)))","v":""},{"$f":"IF($E20=\"\",\"\",IF(INDEX(E_SourceStreams!$A:$N,CS20,N$7)=\"\",\"\",INDEX(E_SourceStreams!$A:$N,CS20,N$7)))","v":""},{"$f":"IF($E20=\"\",\"\",IF(INDEX(E_SourceStreams!$A:$N,CT20,O$7)=\"\",\"\",INDEX(E_SourceStreams!$A:$N,CT20,O$7)))","v":""},{"$f":"IF($E20=\"\",\"\",IF(INDEX(E_SourceStreams!$A:$N,CU20,P$7)=\"\",\"\",INDEX(E_SourceStreams!$A:$N,CU20,P$7)))","v":""},{"$f":"IF($E20=\"\",\"\",IF(INDEX(E_SourceStreams!$A:$N,CV20,Q$7)=\"\",\"\",INDEX(E_SourceStreams!$A:$N,CV20,Q$7)))","v":""},{"$f":"IF($E20=\"\",\"\",IF(INDEX(E_SourceStreams!$A:$N,CW20,R$7)=\"\",\"\",INDEX(E_SourceStreams!$A:$N,CW20,R$7)))","v":""},{"$f":"IF($E20=\"\",\"\",IF(INDEX(E_SourceStreams!$A:$N,CX20,S$7)=\"\",\"\",INDEX(E_SourceStreams!$A:$N,CX20,S$7)))","v":""},{"$f":"IF($E20=\"\",\"\",IF(INDEX(E_SourceStreams!$A:$N,CY20,T$7)=\"\",\"\",INDEX(E_SourceStreams!$A:$N,CY20,T$7)))","v":""},{"$f":"IF($E20=\"\",\"\",IF(INDEX(E_SourceStreams!$A:$N,CZ20,U$7)=\"\",\"\",INDEX(E_SourceStreams!$A:$N,CZ20,U$7)))","v":""},{"$f":"IF($E20=\"\",\"\",IF(INDEX(E_SourceStreams!$A:$N,DA20,V$7)=\"\",\"\",INDEX(E_SourceStreams!$A:$N,DA20,V$7)))","v":""},{"$f":"IF($E20=\"\",\"\",IF(INDEX(E_SourceStreams!$A:$N,DB20,W$7)=\"\",\"\",INDEX(E_SourceStreams!$A:$N,DB20,W$7)))","v":""},{"$f":"IF($E20=\"\",\"\",IF(INDEX(E_SourceStreams!$A:$N,DC20,X$7)=\"\",\"\",INDEX(E_SourceStreams!$A:$N,DC20,X$7)))","v":""},{"$f":"IF($E20=\"\",\"\",IF(INDEX(E_SourceStreams!$A:$N,DD20,Y$7)=\"\",\"\",INDEX(E_SourceStreams!$A:$N,DD20,Y$7)))","v":""},{"$f":"IF($E20=\"\",\"\",IF(INDEX(E_SourceStreams!$A:$N,DE20,Z$7)=\"\",\"\",INDEX(E_SourceStreams!$A:$N,DE20,Z$7)))","v":""},{"$f":"IF($E20=\"\",\"\",IF(INDEX(E_SourceStreams!$A:$N,DF20,AA$7)=\"\",\"\",INDEX(E_SourceStreams!$A:$N,DF20,AA$7)))","v":""},{"$f":"IF($E20=\"\",\"\",IF(INDEX(E_SourceStreams!$A:$N,DG20,AB$7)=\"\",\"\",INDEX(E_SourceStreams!$A:$N,DG20,AB$7)))","v":""},{"$f":"IF($E20=\"\",\"\",IF(INDEX(E_SourceStreams!$A:$N,DH20,AC$7)=\"\",\"\",INDEX(E_SourceStreams!$A:$N,DH20,AC$7)))","v":""},{"$f":"IF($E20=\"\",\"\",IF(INDEX(E_SourceStreams!$A:$N,DI20,AD$7)=\"\",\"\",INDEX(E_SourceStreams!$A:$N,DI20,AD$7)))","v":""},{"$f":"IF($E20=\"\",\"\",IF(INDEX(E_SourceStreams!$A:$N,DJ20,AE$7)=\"\",\"\",INDEX(E_SourceStreams!$A:$N,DJ20,AE$7)))","v":""},{"$f":"IF($E20=\"\",\"\",IF(INDEX(E_SourceStreams!$A:$N,DK20,AF$7)=\"\",\"\",INDEX(E_SourceStreams!$A:$N,DK20,AF$7)))","v":""},{"$f":"IF($E20=\"\",\"\",IF(INDEX(E_SourceStreams!$A:$N,DL20,AG$7)=\"\",\"\",INDEX(E_SourceStreams!$A:$N,DL20,AG$7)))","v":""},{"$f":"IF($E20=\"\",\"\",IF(INDEX(E_SourceStreams!$A:$N,DM20,AH$7)=\"\",\"\",INDEX(E_SourceStreams!$A:$N,DM20,AH$7)))","v":""},{"$f":"IF($E20=\"\",\"\",IF(INDEX(E_SourceStreams!$A:$N,DN20,AI$7)=\"\",\"\",INDEX(E_SourceStreams!$A:$N,DN20,AI$7)))","v":""},{"$f":"IF($E20=\"\",\"\",IF(INDEX(E_SourceStreams!$A:$N,DO20,AJ$7)=\"\",\"\",INDEX(E_SourceStreams!$A:$N,DO20,AJ$7)))","v":""},{"$f":"IF($E20=\"\",\"\",IF(INDEX(E_SourceStreams!$A:$N,DP20,AK$7)=\"\",\"\",INDEX(E_SourceStreams!$A:$N,DP20,AK$7)))","v":""},{"$f":"IF($E20=\"\",\"\",IF(INDEX(E_SourceStreams!$A:$N,DQ20,AL$7)=\"\",\"\",INDEX(E_SourceStreams!$A:$N,DQ20,AL$7)))","v":""},{"$f":"IF($E20=\"\",\"\",IF(INDEX(E_SourceStreams!$A:$N,DR20,AM$7)=\"\",\"\",INDEX(E_SourceStreams!$A:$N,DR20,AM$7)))","v":""},{"$f":"IF($E20=\"\",\"\",IF(INDEX(E_SourceStreams!$A:$N,DS20,AN$7)=\"\",\"\",INDEX(E_SourceStreams!$A:$N,DS20,AN$7)))","v":""},{"$f":"IF($E20=\"\",\"\",IF(INDEX(E_SourceStreams!$A:$N,DT20,AO$7)=\"\",\"\",INDEX(E_SourceStreams!$A:$N,DT20,AO$7)))","v":""},{"$f":"IF($E20=\"\",\"\",IF(INDEX(E_SourceStreams!$A:$N,DU20,AP$7)=\"\",\"\",INDEX(E_SourceStreams!$A:$N,DU20,AP$7)))","v":""},{"$f":"IF($E20=\"\",\"\",IF(INDEX(E_SourceStreams!$A:$N,DV20,AQ$7)=\"\",\"\",INDEX(E_SourceStreams!$A:$N,DV20,AQ$7)))","v":""},{"$f":"IF($E20=\"\",\"\",IF(INDEX(E_SourceStreams!$A:$N,DW20,AR$7)=\"\",\"\",INDEX(E_SourceStreams!$A:$N,DW20,AR$7)))","v":""},{"$f":"IF($E20=\"\",\"\",IF(INDEX(E_SourceStreams!$A:$N,DX20,AS$7)=\"\",\"\",INDEX(E_SourceStreams!$A:$N,DX20,AS$7)))","v":""},{"$f":"IF($E20=\"\",\"\",IF(INDEX(E_SourceStreams!$A:$N,DY20,AT$7)=\"\",\"\",INDEX(E_SourceStreams!$A:$N,DY20,AT$7)))","v":""},{"$f":"IF($E20=\"\",\"\",IF(INDEX(E_SourceStreams!$A:$N,DZ20,AU$7)=\"\",\"\",INDEX(E_SourceStreams!$A:$N,DZ20,AU$7)))","v":""},{"$f":"IF($E20=\"\",\"\",IF(INDEX(E_SourceStreams!$A:$N,EA20,AV$7)=\"\",\"\",INDEX(E_SourceStreams!$A:$N,EA20,AV$7)))","v":""},{"$f":"IF($E20=\"\",\"\",IF(INDEX(E_SourceStreams!$A:$N,EB20,AW$7)=\"\",\"\",INDEX(E_SourceStreams!$A:$N,EB20,AW$7)))","v":""},{"$f":"IF($E20=\"\",\"\",IF(INDEX(E_SourceStreams!$A:$N,EC20,AX$7)=\"\",\"\",INDEX(E_SourceStreams!$A:$N,EC20,AX$7)))","v":""},{"$f":"IF($E20=\"\",\"\",IF(INDEX(E_SourceStreams!$A:$N,ED20,AY$7)=\"\",\"\",INDEX(E_SourceStreams!$A:$N,ED20,AY$7)))","v":""},{"$f":"IF($E20=\"\",\"\",IF(INDEX(E_SourceStreams!$A:$N,EE20,AZ$7)=\"\",\"\",INDEX(E_SourceStreams!$A:$N,EE20,AZ$7)))","v":""},{"$f":"IF($E20=\"\",\"\",IF(INDEX(E_SourceStreams!$A:$N,EF20,BA$7)=\"\",\"\",INDEX(E_SourceStreams!$A:$N,EF20,BA$7)))","v":""},{"$f":"IF($E20=\"\",\"\",IF(INDEX(E_SourceStreams!$A:$N,EG20,BB$7)=\"\",\"\",INDEX(E_SourceStreams!$A:$N,EG20,BB$7)))","v":""},{"$f":"IF($E20=\"\",\"\",IF(INDEX(E_SourceStreams!$A:$N,EH20,BC$7)=\"\",\"\",INDEX(E_SourceStreams!$A:$N,EH20,BC$7)))","v":""},{"$f":"IF($E20=\"\",\"\",IF(INDEX(E_SourceStreams!$A:$N,EI20,BD$7)=\"\",\"\",INDEX(E_SourceStreams!$A:$N,EI20,BD$7)))","v":""},{"$f":"IF($E20=\"\",\"\",IF(INDEX(E_SourceStreams!$A:$N,EJ20,BE$7)=\"\",\"\",INDEX(E_SourceStreams!$A:$N,EJ20,BE$7)))","v":""},{"$f":"IF($E20=\"\",\"\",IF(INDEX(E_SourceStreams!$A:$N,EK20,BF$7)=\"\",\"\",INDEX(E_SourceStreams!$A:$N,EK20,BF$7)))","v":""},{"$f":"IF($E20=\"\",\"\",IF(INDEX(E_SourceStreams!$A:$N,EL20,BG$7)=\"\",\"\",INDEX(E_SourceStreams!$A:$N,EL20,BG$7)))","v":""},{"$f":"IF($E20=\"\",\"\",IF(INDEX(E_SourceStreams!$A:$N,EM20,BH$7)=\"\",\"\",INDEX(E_SourceStreams!$A:$N,EM20,BH$7)))","v":""},{"$f":"IF($E20=\"\",\"\",IF(INDEX(E_SourceStreams!$A:$N,EN20,BI$7)=\"\",\"\",INDEX(E_SourceStreams!$A:$N,EN20,BI$7)))","v":""},{"$f":"IF($E20=\"\",\"\",IF(INDEX(E_SourceStreams!$A:$N,EO20,BJ$7)=\"\",\"\",INDEX(E_SourceStreams!$A:$N,EO20,BJ$7)))","v":""},{"$f":"IF($E20=\"\",\"\",IF(INDEX(E_SourceStreams!$A:$N,EP20,BK$7)=\"\",\"\",INDEX(E_SourceStreams!$A:$N,EP20,BK$7)))","v":""},{"$f":"IF($E20=\"\",\"\",IF(INDEX(E_SourceStreams!$A:$N,EQ20,BL$7)=\"\",\"\",INDEX(E_SourceStreams!$A:$N,EQ20,BL$7)))","v":""},{"$f":"IF($E20=\"\",\"\",IF(INDEX(E_SourceStreams!$A:$N,ER20,BM$7)=\"\",\"\",INDEX(E_SourceStreams!$A:$N,ER20,BM$7)))","v":""},{"$f":"IF($E20=\"\",\"\",IF(INDEX(E_SourceStreams!$A:$N,ES20,BN$7)=\"\",\"\",INDEX(E_SourceStreams!$A:$N,ES20,BN$7)))","v":""},{"$f":"IF($E20=\"\",\"\",IF(INDEX(E_SourceStreams!$A:$N,ET20,BO$7)=\"\",\"\",INDEX(E_SourceStreams!$A:$N,ET20,BO$7)))","v":""},{"$f":"IF($E20=\"\",\"\",IF(INDEX(E_SourceStreams!$A:$N,EU20,BP$7)=\"\",\"\",INDEX(E_SourceStreams!$A:$N,EU20,BP$7)))","v":""},{"$f":"IF($E20=\"\",\"\",IF(INDEX(E_SourceStreams!$A:$N,EV20,BQ$7)=\"\",\"\",INDEX(E_SourceStreams!$A:$N,EV20,BQ$7)))","v":""},{"$f":"IF($E20=\"\",\"\",IF(INDEX(E_SourceStreams!$A:$N,EW20,BR$7)=\"\",\"\",INDEX(E_SourceStreams!$A:$N,EW20,BR$7)))","v":""},{"$f":"IF($E20=\"\",\"\",IF(INDEX(E_SourceStreams!$A:$N,EX20,BS$7)=\"\",\"\",INDEX(E_SourceStreams!$A:$N,EX20,BS$7)))","v":""},{"$f":"IF($E20=\"\",\"\",IF(INDEX(E_SourceStreams!$A:$N,EY20,BT$7)=\"\",\"\",INDEX(E_SourceStreams!$A:$N,EY20,BT$7)))","v":""},null,null,null,null,null,null,null,null,null,null,null,null,null,null,null,"SourceCategory_",{"$f":"INDEX(C_InstallationDescription!$A$226:$A$332,ROWS($CI$11:CI20))=\"ausblenden\"","v":false},"SourceStreamName_",null,727,729,731,733,735,737,739,739,739,739,739,742,746,747,748,755,765,765,765,765,765,765,765,756,766,766,766,766,766,766,766,757,767,767,767,767,767,767,767,758,768,768,768,768,768,768,768,759,769,769,769,769,769,769,769,760,770,770,770,770,770,770,770,776]
[null,{"$f":"IF(COUNTIF($CK$10:CK21,TRUE)>0,\"\",INDEX(C_InstallationDescription!$E$226:$E$242,ROWS($A$11:A21)))","v":""},{"$f":"IF($E21=\"\",\"\",INDEX(C_InstallationDescription!F:F,MATCH($B21,C_InstallationDescription!$E:$E,0)))","v":""},{"$f":"IF($E21=\"\",\"\",INDEX(C_InstallationDescription!I:I,MATCH($B21,C_InstallationDescription!$E:$E,0)))","v":""},{"$f":"IF($B21=\"\",\"\",INDEX(C_InstallationDescription!F:F,MATCH($CJ21,C_InstallationDescription!$Q:$Q,0)))","v":""},{"$f":"IF($E21=\"\",\"\",INDEX(C_InstallationDescription!L:L,MATCH($CJ21,C_InstallationDescription!$Q:$Q,0)))","v":""},{"$f":"IF($E21=\"\",\"\",INDEX(C_InstallationDescription!M:M,MATCH($CJ21,C_InstallationDescription!$Q:$Q,0)))","v":""},{"$f":"IF($E21=\"\",\"\",INDEX(C_InstallationDescription!N:N,MATCH($CJ21,C_InstallationDescription!$Q:$Q,0)))","v":""},{"$f":"IF($E21=\"\",\"\",IF(INDEX(E_SourceStreams!$A:$N,CN21,I$7)=\"\",\"\",INDEX(E_SourceStreams!$A:$N,CN21,I$7)))","v":""},{"$f":"IF($E21=\"\",\"\",IF(INDEX(E_SourceStreams!$A:$N,CO21,J$7)=\"\",\"\",INDEX(E_SourceStreams!$A:$N,CO21,J$7)))","v":""},{"$f":"IF($E21=\"\",\"\",IF(INDEX(E_SourceStreams!$A:$N,CP21,K$7)=\"\",\"\",INDEX(E_SourceStreams!$A:$N,CP21,K$7)))","v":""},{"$f":"IF($E21=\"\",\"\",IF(INDEX(E_SourceStreams!$A:$N,CQ21,L$7)=\"\",\"\",INDEX(E_SourceStreams!$A:$N,CQ21,L$7)))","v":""},{"$f":"IF($E21=\"\",\"\",IF(INDEX(E_SourceStreams!$A:$N,CR21,M$7)=\"\",\"\",INDEX(E_SourceStreams!$A:$N,CR21,M$7)))","v":""},{"$f":"IF($E21=\"\",\"\",IF(INDEX(E_SourceStreams!$A:$N,CS21,N$7)=\"\",\"\",INDEX(E_SourceStreams!$A:$N,CS21,N$7)))","v":""},{"$f":"IF($E21=\"\",\"\",IF(INDEX(E_SourceStreams!$A:$N,CT21,O$7)=\"\",\"\",INDEX(E_SourceStreams!$A:$N,CT21,O$7)))","v":""},{"$f":"IF($E21=\"\",\"\",IF(INDEX(E_SourceStreams!$A:$N,CU21,P$7)=\"\",\"\",INDEX(E_SourceStreams!$A:$N,CU21,P$7)))","v":""},{"$f":"IF($E21=\"\",\"\",IF(INDEX(E_SourceStreams!$A:$N,CV21,Q$7)=\"\",\"\",INDEX(E_SourceStreams!$A:$N,CV21,Q$7)))","v":""},{"$f":"IF($E21=\"\",\"\",IF(INDEX(E_SourceStreams!$A:$N,CW21,R$7)=\"\",\"\",INDEX(E_SourceStreams!$A:$N,CW21,R$7)))","v":""},{"$f":"IF($E21=\"\",\"\",IF(INDEX(E_SourceStreams!$A:$N,CX21,S$7)=\"\",\"\",INDEX(E_SourceStreams!$A:$N,CX21,S$7)))","v":""},{"$f":"IF($E21=\"\",\"\",IF(INDEX(E_SourceStreams!$A:$N,CY21,T$7)=\"\",\"\",INDEX(E_SourceStreams!$A:$N,CY21,T$7)))","v":""},{"$f":"IF($E21=\"\",\"\",IF(INDEX(E_SourceStreams!$A:$N,CZ21,U$7)=\"\",\"\",INDEX(E_SourceStreams!$A:$N,CZ21,U$7)))","v":""},{"$f":"IF($E21=\"\",\"\",IF(INDEX(E_SourceStreams!$A:$N,DA21,V$7)=\"\",\"\",INDEX(E_SourceStreams!$A:$N,DA21,V$7)))","v":""},{"$f":"IF($E21=\"\",\"\",IF(INDEX(E_SourceStreams!$A:$N,DB21,W$7)=\"\",\"\",INDEX(E_SourceStreams!$A:$N,DB21,W$7)))","v":""},{"$f":"IF($E21=\"\",\"\",IF(INDEX(E_SourceStreams!$A:$N,DC21,X$7)=\"\",\"\",INDEX(E_SourceStreams!$A:$N,DC21,X$7)))","v":""},{"$f":"IF($E21=\"\",\"\",IF(INDEX(E_SourceStreams!$A:$N,DD21,Y$7)=\"\",\"\",INDEX(E_SourceStreams!$A:$N,DD21,Y$7)))","v":""},{"$f":"IF($E21=\"\",\"\",IF(INDEX(E_SourceStreams!$A:$N,DE21,Z$7)=\"\",\"\",INDEX(E_SourceStreams!$A:$N,DE21,Z$7)))","v":""},{"$f":"IF($E21=\"\",\"\",IF(INDEX(E_SourceStreams!$A:$N,DF21,AA$7)=\"\",\"\",INDEX(E_SourceStreams!$A:$N,DF21,AA$7)))","v":""},{"$f":"IF($E21=\"\",\"\",IF(INDEX(E_SourceStreams!$A:$N,DG21,AB$7)=\"\",\"\",INDEX(E_SourceStreams!$A:$N,DG21,AB$7)))","v":""},{"$f":"IF($E21=\"\",\"\",IF(INDEX(E_SourceStreams!$A:$N,DH21,AC$7)=\"\",\"\",INDEX(E_SourceStreams!$A:$N,DH21,AC$7)))","v":""},{"$f":"IF($E21=\"\",\"\",IF(INDEX(E_SourceStreams!$A:$N,DI21,AD$7)=\"\",\"\",INDEX(E_SourceStreams!$A:$N,DI21,AD$7)))","v":""},{"$f":"IF($E21=\"\",\"\",IF(INDEX(E_SourceStreams!$A:$N,DJ21,AE$7)=\"\",\"\",INDEX(E_SourceStreams!$A:$N,DJ21,AE$7)))","v":""},{"$f":"IF($E21=\"\",\"\",IF(INDEX(E_SourceStreams!$A:$N,DK21,AF$7)=\"\",\"\",INDEX(E_SourceStreams!$A:$N,DK21,AF$7)))","v":""},{"$f":"IF($E21=\"\",\"\",IF(INDEX(E_SourceStreams!$A:$N,DL21,AG$7)=\"\",\"\",INDEX(E_SourceStreams!$A:$N,DL21,AG$7)))","v":""},{"$f":"IF($E21=\"\",\"\",IF(INDEX(E_SourceStreams!$A:$N,DM21,AH$7)=\"\",\"\",INDEX(E_SourceStreams!$A:$N,DM21,AH$7)))","v":""},{"$f":"IF($E21=\"\",\"\",IF(INDEX(E_SourceStreams!$A:$N,DN21,AI$7)=\"\",\"\",INDEX(E_SourceStreams!$A:$N,DN21,AI$7)))","v":""},{"$f":"IF($E21=\"\",\"\",IF(INDEX(E_SourceStreams!$A:$N,DO21,AJ$7)=\"\",\"\",INDEX(E_SourceStreams!$A:$N,DO21,AJ$7)))","v":""},{"$f":"IF($E21=\"\",\"\",IF(INDEX(E_SourceStreams!$A:$N,DP21,AK$7)=\"\",\"\",INDEX(E_SourceStreams!$A:$N,DP21,AK$7)))","v":""},{"$f":"IF($E21=\"\",\"\",IF(INDEX(E_SourceStreams!$A:$N,DQ21,AL$7)=\"\",\"\",INDEX(E_SourceStreams!$A:$N,DQ21,AL$7)))","v":""},{"$f":"IF($E21=\"\",\"\",IF(INDEX(E_SourceStreams!$A:$N,DR21,AM$7)=\"\",\"\",INDEX(E_SourceStreams!$A:$N,DR21,AM$7)))","v":""},{"$f":"IF($E21=\"\",\"\",IF(INDEX(E_SourceStreams!$A:$N,DS21,AN$7)=\"\",\"\",INDEX(E_SourceStreams!$A:$N,DS21,AN$7)))","v":""},{"$f":"IF($E21=\"\",\"\",IF(INDEX(E_SourceStreams!$A:$N,DT21,AO$7)=\"\",\"\",INDEX(E_SourceStreams!$A:$N,DT21,AO$7)))","v":""},{"$f":"IF($E21=\"\",\"\",IF(INDEX(E_SourceStreams!$A:$N,DU21,AP$7)=\"\",\"\",INDEX(E_SourceStreams!$A:$N,DU21,AP$7)))","v":""},{"$f":"IF($E21=\"\",\"\",IF(INDEX(E_SourceStreams!$A:$N,DV21,AQ$7)=\"\",\"\",INDEX(E_SourceStreams!$A:$N,DV21,AQ$7)))","v":""},{"$f":"IF($E21=\"\",\"\",IF(INDEX(E_SourceStreams!$A:$N,DW21,AR$7)=\"\",\"\",INDEX(E_SourceStreams!$A:$N,DW21,AR$7)))","v":""},{"$f":"IF($E21=\"\",\"\",IF(INDEX(E_SourceStreams!$A:$N,DX21,AS$7)=\"\",\"\",INDEX(E_SourceStreams!$A:$N,DX21,AS$7)))","v":""},{"$f":"IF($E21=\"\",\"\",IF(INDEX(E_SourceStreams!$A:$N,DY21,AT$7)=\"\",\"\",INDEX(E_SourceStreams!$A:$N,DY21,AT$7)))","v":""},{"$f":"IF($E21=\"\",\"\",IF(INDEX(E_SourceStreams!$A:$N,DZ21,AU$7)=\"\",\"\",INDEX(E_SourceStreams!$A:$N,DZ21,AU$7)))","v":""},{"$f":"IF($E21=\"\",\"\",IF(INDEX(E_SourceStreams!$A:$N,EA21,AV$7)=\"\",\"\",INDEX(E_SourceStreams!$A:$N,EA21,AV$7)))","v":""},{"$f":"IF($E21=\"\",\"\",IF(INDEX(E_SourceStreams!$A:$N,EB21,AW$7)=\"\",\"\",INDEX(E_SourceStreams!$A:$N,EB21,AW$7)))","v":""},{"$f":"IF($E21=\"\",\"\",IF(INDEX(E_SourceStreams!$A:$N,EC21,AX$7)=\"\",\"\",INDEX(E_SourceStreams!$A:$N,EC21,AX$7)))","v":""},{"$f":"IF($E21=\"\",\"\",IF(INDEX(E_SourceStreams!$A:$N,ED21,AY$7)=\"\",\"\",INDEX(E_SourceStreams!$A:$N,ED21,AY$7)))","v":""},{"$f":"IF($E21=\"\",\"\",IF(INDEX(E_SourceStreams!$A:$N,EE21,AZ$7)=\"\",\"\",INDEX(E_SourceStreams!$A:$N,EE21,AZ$7)))","v":""},{"$f":"IF($E21=\"\",\"\",IF(INDEX(E_SourceStreams!$A:$N,EF21,BA$7)=\"\",\"\",INDEX(E_SourceStreams!$A:$N,EF21,BA$7)))","v":""},{"$f":"IF($E21=\"\",\"\",IF(INDEX(E_SourceStreams!$A:$N,EG21,BB$7)=\"\",\"\",INDEX(E_SourceStreams!$A:$N,EG21,BB$7)))","v":""},{"$f":"IF($E21=\"\",\"\",IF(INDEX(E_SourceStreams!$A:$N,EH21,BC$7)=\"\",\"\",INDEX(E_SourceStreams!$A:$N,EH21,BC$7)))","v":""},{"$f":"IF($E21=\"\",\"\",IF(INDEX(E_SourceStreams!$A:$N,EI21,BD$7)=\"\",\"\",INDEX(E_SourceStreams!$A:$N,EI21,BD$7)))","v":""},{"$f":"IF($E21=\"\",\"\",IF(INDEX(E_SourceStreams!$A:$N,EJ21,BE$7)=\"\",\"\",INDEX(E_SourceStreams!$A:$N,EJ21,BE$7)))","v":""},{"$f":"IF($E21=\"\",\"\",IF(INDEX(E_SourceStreams!$A:$N,EK21,BF$7)=\"\",\"\",INDEX(E_SourceStreams!$A:$N,EK21,BF$7)))","v":""},{"$f":"IF($E21=\"\",\"\",IF(INDEX(E_SourceStreams!$A:$N,EL21,BG$7)=\"\",\"\",INDEX(E_SourceStreams!$A:$N,EL21,BG$7)))","v":""},{"$f":"IF($E21=\"\",\"\",IF(INDEX(E_SourceStreams!$A:$N,EM21,BH$7)=\"\",\"\",INDEX(E_SourceStreams!$A:$N,EM21,BH$7)))","v":""},{"$f":"IF($E21=\"\",\"\",IF(INDEX(E_SourceStreams!$A:$N,EN21,BI$7)=\"\",\"\",INDEX(E_SourceStreams!$A:$N,EN21,BI$7)))","v":""},{"$f":"IF($E21=\"\",\"\",IF(INDEX(E_SourceStreams!$A:$N,EO21,BJ$7)=\"\",\"\",INDEX(E_SourceStreams!$A:$N,EO21,BJ$7)))","v":""},{"$f":"IF($E21=\"\",\"\",IF(INDEX(E_SourceStreams!$A:$N,EP21,BK$7)=\"\",\"\",INDEX(E_SourceStreams!$A:$N,EP21,BK$7)))","v":""},{"$f":"IF($E21=\"\",\"\",IF(INDEX(E_SourceStreams!$A:$N,EQ21,BL$7)=\"\",\"\",INDEX(E_SourceStreams!$A:$N,EQ21,BL$7)))","v":""},{"$f":"IF($E21=\"\",\"\",IF(INDEX(E_SourceStreams!$A:$N,ER21,BM$7)=\"\",\"\",INDEX(E_SourceStreams!$A:$N,ER21,BM$7)))","v":""},{"$f":"IF($E21=\"\",\"\",IF(INDEX(E_SourceStreams!$A:$N,ES21,BN$7)=\"\",\"\",INDEX(E_SourceStreams!$A:$N,ES21,BN$7)))","v":""},{"$f":"IF($E21=\"\",\"\",IF(INDEX(E_SourceStreams!$A:$N,ET21,BO$7)=\"\",\"\",INDEX(E_SourceStreams!$A:$N,ET21,BO$7)))","v":""},{"$f":"IF($E21=\"\",\"\",IF(INDEX(E_SourceStreams!$A:$N,EU21,BP$7)=\"\",\"\",INDEX(E_SourceStreams!$A:$N,EU21,BP$7)))","v":""},{"$f":"IF($E21=\"\",\"\",IF(INDEX(E_SourceStreams!$A:$N,EV21,BQ$7)=\"\",\"\",INDEX(E_SourceStreams!$A:$N,EV21,BQ$7)))","v":""},{"$f":"IF($E21=\"\",\"\",IF(INDEX(E_SourceStreams!$A:$N,EW21,BR$7)=\"\",\"\",INDEX(E_SourceStreams!$A:$N,EW21,BR$7)))","v":""},{"$f":"IF($E21=\"\",\"\",IF(INDEX(E_SourceStreams!$A:$N,EX21,BS$7)=\"\",\"\",INDEX(E_SourceStreams!$A:$N,EX21,BS$7)))","v":""},{"$f":"IF($E21=\"\",\"\",IF(INDEX(E_SourceStreams!$A:$N,EY21,BT$7)=\"\",\"\",INDEX(E_SourceStreams!$A:$N,EY21,BT$7)))","v":""},null,null,null,null,null,null,null,null,null,null,null,null,null,null,null,"SourceCategory_",{"$f":"INDEX(C_InstallationDescription!$A$226:$A$332,ROWS($CI$11:CI21))=\"ausblenden\"","v":true},"SourceStreamName_",null,793,795,797,799,801,803,805,805,805,805,805,808,812,813,814,821,831,831,831,831,831,831,831,822,832,832,832,832,832,832,832,823,833,833,833,833,833,833,833,824,834,834,834,834,834,834,834,825,835,835,835,835,835,835,835,826,836,836,836,836,836,836,836,842]
[null,{"$f":"IF(COUNTIF($CK$10:CK22,TRUE)>0,\"\",INDEX(C_InstallationDescription!$E$226:$E$242,ROWS($A$11:A22)))","v":""},{"$f":"IF($E22=\"\",\"\",INDEX(C_InstallationDescription!F:F,MATCH($B22,C_InstallationDescription!$E:$E,0)))","v":""},{"$f":"IF($E22=\"\",\"\",INDEX(C_InstallationDescription!I:I,MATCH($B22,C_InstallationDescription!$E:$E,0)))","v":""},{"$f":"IF($B22=\"\",\"\",INDEX(C_InstallationDescription!F:F,MATCH($CJ22,C_InstallationDescription!$Q:$Q,0)))","v":""},{"$f":"IF($E22=\"\",\"\",INDEX(C_InstallationDescription!L:L,MATCH($CJ22,C_InstallationDescription!$Q:$Q,0)))","v":""},{"$f":"IF($E22=\"\",\"\",INDEX(C_InstallationDescription!M:M,MATCH($CJ22,C_InstallationDescription!$Q:$Q,0)))","v":""},{"$f":"IF($E22=\"\",\"\",INDEX(C_InstallationDescription!N:N,MATCH($CJ22,C_InstallationDescription!$Q:$Q,0)))","v":""},{"$f":"IF($E22=\"\",\"\",IF(INDEX(E_SourceStreams!$A:$N,CN22,I$7)=\"\",\"\",INDEX(E_SourceStreams!$A:$N,CN22,I$7)))","v":""},{"$f":"IF($E22=\"\",\"\",IF(INDEX(E_SourceStreams!$A:$N,CO22,J$7)=\"\",\"\",INDEX(E_SourceStreams!$A:$N,CO22,J$7)))","v":""},{"$f":"IF($E22=\"\",\"\",IF(INDEX(E_SourceStreams!$A:$N,CP22,K$7)=\"\",\"\",INDEX(E_SourceStreams!$A:$N,CP22,K$7)))","v":""},{"$f":"IF($E22=\"\",\"\",IF(INDEX(E_SourceStreams!$A:$N,CQ22,L$7)=\"\",\"\",INDEX(E_SourceStreams!$A:$N,CQ22,L$7)))","v":""},{"$f":"IF($E22=\"\",\"\",IF(INDEX(E_SourceStreams!$A:$N,CR22,M$7)=\"\",\"\",INDEX(E_SourceStreams!$A:$N,CR22,M$7)))","v":""},{"$f":"IF($E22=\"\",\"\",IF(INDEX(E_SourceStreams!$A:$N,CS22,N$7)=\"\",\"\",INDEX(E_SourceStreams!$A:$N,CS22,N$7)))","v":""},{"$f":"IF($E22=\"\",\"\",IF(INDEX(E_SourceStreams!$A:$N,CT22,O$7)=\"\",\"\",INDEX(E_SourceStreams!$A:$N,CT22,O$7)))","v":""},{"$f":"IF($E22=\"\",\"\",IF(INDEX(E_SourceStreams!$A:$N,CU22,P$7)=\"\",\"\",INDEX(E_SourceStreams!$A:$N,CU22,P$7)))","v":""},{"$f":"IF($E22=\"\",\"\",IF(INDEX(E_SourceStreams!$A:$N,CV22,Q$7)=\"\",\"\",INDEX(E_SourceStreams!$A:$N,CV22,Q$7)))","v":""},{"$f":"IF($E22=\"\",\"\",IF(INDEX(E_SourceStreams!$A:$N,CW22,R$7)=\"\",\"\",INDEX(E_SourceStreams!$A:$N,CW22,R$7)))","v":""},{"$f":"IF($E22=\"\",\"\",IF(INDEX(E_SourceStreams!$A:$N,CX22,S$7)=\"\",\"\",INDEX(E_SourceStreams!$A:$N,CX22,S$7)))","v":""},{"$f":"IF($E22=\"\",\"\",IF(INDEX(E_SourceStreams!$A:$N,CY22,T$7)=\"\",\"\",INDEX(E_SourceStreams!$A:$N,CY22,T$7)))","v":""},{"$f":"IF($E22=\"\",\"\",IF(INDEX(E_SourceStreams!$A:$N,CZ22,U$7)=\"\",\"\",INDEX(E_SourceStreams!$A:$N,CZ22,U$7)))","v":""},{"$f":"IF($E22=\"\",\"\",IF(INDEX(E_SourceStreams!$A:$N,DA22,V$7)=\"\",\"\",INDEX(E_SourceStreams!$A:$N,DA22,V$7)))","v":""},{"$f":"IF($E22=\"\",\"\",IF(INDEX(E_SourceStreams!$A:$N,DB22,W$7)=\"\",\"\",INDEX(E_SourceStreams!$A:$N,DB22,W$7)))","v":""},{"$f":"IF($E22=\"\",\"\",IF(INDEX(E_SourceStreams!$A:$N,DC22,X$7)=\"\",\"\",INDEX(E_SourceStreams!$A:$N,DC22,X$7)))","v":""},{"$f":"IF($E22=\"\",\"\",IF(INDEX(E_SourceStreams!$A:$N,DD22,Y$7)=\"\",\"\",INDEX(E_SourceStreams!$A:$N,DD22,Y$7)))","v":""},{"$f":"IF($E22=\"\",\"\",IF(INDEX(E_SourceStreams!$A:$N,DE22,Z$7)=\"\",\"\",INDEX(E_SourceStreams!$A:$N,DE22,Z$7)))","v":""},{"$f":"IF($E22=\"\",\"\",IF(INDEX(E_SourceStreams!$A:$N,DF22,AA$7)=\"\",\"\",INDEX(E_SourceStreams!$A:$N,DF22,AA$7)))","v":""},{"$f":"IF($E22=\"\",\"\",IF(INDEX(E_SourceStreams!$A:$N,DG22,AB$7)=\"\",\"\",INDEX(E_SourceStreams!$A:$N,DG22,AB$7)))","v":""},{"$f":"IF($E22=\"\",\"\",IF(INDEX(E_SourceStreams!$A:$N,DH22,AC$7)=\"\",\"\",INDEX(E_SourceStreams!$A:$N,DH22,AC$7)))","v":""},{"$f":"IF($E22=\"\",\"\",IF(INDEX(E_SourceStreams!$A:$N,DI22,AD$7)=\"\",\"\",INDEX(E_SourceStreams!$A:$N,DI22,AD$7)))","v":""},{"$f":"IF($E22=\"\",\"\",IF(INDEX(E_SourceStreams!$A:$N,DJ22,AE$7)=\"\",\"\",INDEX(E_SourceStreams!$A:$N,DJ22,AE$7)))","v":""},{"$f":"IF($E22=\"\",\"\",IF(INDEX(E_SourceStreams!$A:$N,DK22,AF$7)=\"\",\"\",INDEX(E_SourceStreams!$A:$N,DK22,AF$7)))","v":""},{"$f":"IF($E22=\"\",\"\",IF(INDEX(E_SourceStreams!$A:$N,DL22,AG$7)=\"\",\"\",INDEX(E_SourceStreams!$A:$N,DL22,AG$7)))","v":""},{"$f":"IF($E22=\"\",\"\",IF(INDEX(E_SourceStreams!$A:$N,DM22,AH$7)=\"\",\"\",INDEX(E_SourceStreams!$A:$N,DM22,AH$7)))","v":""},{"$f":"IF($E22=\"\",\"\",IF(INDEX(E_SourceStreams!$A:$N,DN22,AI$7)=\"\",\"\",INDEX(E_SourceStreams!$A:$N,DN22,AI$7)))","v":""},{"$f":"IF($E22=\"\",\"\",IF(INDEX(E_SourceStreams!$A:$N,DO22,AJ$7)=\"\",\"\",INDEX(E_SourceStreams!$A:$N,DO22,AJ$7)))","v":""},{"$f":"IF($E22=\"\",\"\",IF(INDEX(E_SourceStreams!$A:$N,DP22,AK$7)=\"\",\"\",INDEX(E_SourceStreams!$A:$N,DP22,AK$7)))","v":""},{"$f":"IF($E22=\"\",\"\",IF(INDEX(E_SourceStreams!$A:$N,DQ22,AL$7)=\"\",\"\",INDEX(E_SourceStreams!$A:$N,DQ22,AL$7)))","v":""},{"$f":"IF($E22=\"\",\"\",IF(INDEX(E_SourceStreams!$A:$N,DR22,AM$7)=\"\",\"\",INDEX(E_SourceStreams!$A:$N,DR22,AM$7)))","v":""},{"$f":"IF($E22=\"\",\"\",IF(INDEX(E_SourceStreams!$A:$N,DS22,AN$7)=\"\",\"\",INDEX(E_SourceStreams!$A:$N,DS22,AN$7)))","v":""},{"$f":"IF($E22=\"\",\"\",IF(INDEX(E_SourceStreams!$A:$N,DT22,AO$7)=\"\",\"\",INDEX(E_SourceStreams!$A:$N,DT22,AO$7)))","v":""},{"$f":"IF($E22=\"\",\"\",IF(INDEX(E_SourceStreams!$A:$N,DU22,AP$7)=\"\",\"\",INDEX(E_SourceStreams!$A:$N,DU22,AP$7)))","v":""},{"$f":"IF($E22=\"\",\"\",IF(INDEX(E_SourceStreams!$A:$N,DV22,AQ$7)=\"\",\"\",INDEX(E_SourceStreams!$A:$N,DV22,AQ$7)))","v":""},{"$f":"IF($E22=\"\",\"\",IF(INDEX(E_SourceStreams!$A:$N,DW22,AR$7)=\"\",\"\",INDEX(E_SourceStreams!$A:$N,DW22,AR$7)))","v":""},{"$f":"IF($E22=\"\",\"\",IF(INDEX(E_SourceStreams!$A:$N,DX22,AS$7)=\"\",\"\",INDEX(E_SourceStreams!$A:$N,DX22,AS$7)))","v":""},{"$f":"IF($E22=\"\",\"\",IF(INDEX(E_SourceStreams!$A:$N,DY22,AT$7)=\"\",\"\",INDEX(E_SourceStreams!$A:$N,DY22,AT$7)))","v":""},{"$f":"IF($E22=\"\",\"\",IF(INDEX(E_SourceStreams!$A:$N,DZ22,AU$7)=\"\",\"\",INDEX(E_SourceStreams!$A:$N,DZ22,AU$7)))","v":""},{"$f":"IF($E22=\"\",\"\",IF(INDEX(E_SourceStreams!$A:$N,EA22,AV$7)=\"\",\"\",INDEX(E_SourceStreams!$A:$N,EA22,AV$7)))","v":""},{"$f":"IF($E22=\"\",\"\",IF(INDEX(E_SourceStreams!$A:$N,EB22,AW$7)=\"\",\"\",INDEX(E_SourceStreams!$A:$N,EB22,AW$7)))","v":""},{"$f":"IF($E22=\"\",\"\",IF(INDEX(E_SourceStreams!$A:$N,EC22,AX$7)=\"\",\"\",INDEX(E_SourceStreams!$A:$N,EC22,AX$7)))","v":""},{"$f":"IF($E22=\"\",\"\",IF(INDEX(E_SourceStreams!$A:$N,ED22,AY$7)=\"\",\"\",INDEX(E_SourceStreams!$A:$N,ED22,AY$7)))","v":""},{"$f":"IF($E22=\"\",\"\",IF(INDEX(E_SourceStreams!$A:$N,EE22,AZ$7)=\"\",\"\",INDEX(E_SourceStreams!$A:$N,EE22,AZ$7)))","v":""},{"$f":"IF($E22=\"\",\"\",IF(INDEX(E_SourceStreams!$A:$N,EF22,BA$7)=\"\",\"\",INDEX(E_SourceStreams!$A:$N,EF22,BA$7)))","v":""},{"$f":"IF($E22=\"\",\"\",IF(INDEX(E_SourceStreams!$A:$N,EG22,BB$7)=\"\",\"\",INDEX(E_SourceStreams!$A:$N,EG22,BB$7)))","v":""},{"$f":"IF($E22=\"\",\"\",IF(INDEX(E_SourceStreams!$A:$N,EH22,BC$7)=\"\",\"\",INDEX(E_SourceStreams!$A:$N,EH22,BC$7)))","v":""},{"$f":"IF($E22=\"\",\"\",IF(INDEX(E_SourceStreams!$A:$N,EI22,BD$7)=\"\",\"\",INDEX(E_SourceStreams!$A:$N,EI22,BD$7)))","v":""},{"$f":"IF($E22=\"\",\"\",IF(INDEX(E_SourceStreams!$A:$N,EJ22,BE$7)=\"\",\"\",INDEX(E_SourceStreams!$A:$N,EJ22,BE$7)))","v":""},{"$f":"IF($E22=\"\",\"\",IF(INDEX(E_SourceStreams!$A:$N,EK22,BF$7)=\"\",\"\",INDEX(E_SourceStreams!$A:$N,EK22,BF$7)))","v":""},{"$f":"IF($E22=\"\",\"\",IF(INDEX(E_SourceStreams!$A:$N,EL22,BG$7)=\"\",\"\",INDEX(E_SourceStreams!$A:$N,EL22,BG$7)))","v":""},{"$f":"IF($E22=\"\",\"\",IF(INDEX(E_SourceStreams!$A:$N,EM22,BH$7)=\"\",\"\",INDEX(E_SourceStreams!$A:$N,EM22,BH$7)))","v":""},{"$f":"IF($E22=\"\",\"\",IF(INDEX(E_SourceStreams!$A:$N,EN22,BI$7)=\"\",\"\",INDEX(E_SourceStreams!$A:$N,EN22,BI$7)))","v":""},{"$f":"IF($E22=\"\",\"\",IF(INDEX(E_SourceStreams!$A:$N,EO22,BJ$7)=\"\",\"\",INDEX(E_SourceStreams!$A:$N,EO22,BJ$7)))","v":""},{"$f":"IF($E22=\"\",\"\",IF(INDEX(E_SourceStreams!$A:$N,EP22,BK$7)=\"\",\"\",INDEX(E_SourceStreams!$A:$N,EP22,BK$7)))","v":""},{"$f":"IF($E22=\"\",\"\",IF(INDEX(E_SourceStreams!$A:$N,EQ22,BL$7)=\"\",\"\",INDEX(E_SourceStreams!$A:$N,EQ22,BL$7)))","v":""},{"$f":"IF($E22=\"\",\"\",IF(INDEX(E_SourceStreams!$A:$N,ER22,BM$7)=\"\",\"\",INDEX(E_SourceStreams!$A:$N,ER22,BM$7)))","v":""},{"$f":"IF($E22=\"\",\"\",IF(INDEX(E_SourceStreams!$A:$N,ES22,BN$7)=\"\",\"\",INDEX(E_SourceStreams!$A:$N,ES22,BN$7)))","v":""},{"$f":"IF($E22=\"\",\"\",IF(INDEX(E_SourceStreams!$A:$N,ET22,BO$7)=\"\",\"\",INDEX(E_SourceStreams!$A:$N,ET22,BO$7)))","v":""},{"$f":"IF($E22=\"\",\"\",IF(INDEX(E_SourceStreams!$A:$N,EU22,BP$7)=\"\",\"\",INDEX(E_SourceStreams!$A:$N,EU22,BP$7)))","v":""},{"$f":"IF($E22=\"\",\"\",IF(INDEX(E_SourceStreams!$A:$N,EV22,BQ$7)=\"\",\"\",INDEX(E_SourceStreams!$A:$N,EV22,BQ$7)))","v":""},{"$f":"IF($E22=\"\",\"\",IF(INDEX(E_SourceStreams!$A:$N,EW22,BR$7)=\"\",\"\",INDEX(E_SourceStreams!$A:$N,EW22,BR$7)))","v":""},{"$f":"IF($E22=\"\",\"\",IF(INDEX(E_SourceStreams!$A:$N,EX22,BS$7)=\"\",\"\",INDEX(E_SourceStreams!$A:$N,EX22,BS$7)))","v":""},{"$f":"IF($E22=\"\",\"\",IF(INDEX(E_SourceStreams!$A:$N,EY22,BT$7)=\"\",\"\",INDEX(E_SourceStreams!$A:$N,EY22,BT$7)))","v":""},null,null,null,null,null,null,null,null,null,null,null,null,null,null,null,"SourceCategory_",{"$f":"INDEX(C_InstallationDescription!$A$226:$A$332,ROWS($CI$11:CI22))=\"ausblenden\"","v":false},"SourceStreamName_",null,859,861,863,865,867,869,871,871,871,871,871,874,878,879,880,887,897,897,897,897,897,897,897,888,898,898,898,898,898,898,898,889,899,899,899,899,899,899,899,890,900,900,900,900,900,900,900,891,901,901,901,901,901,901,901,892,902,902,902,902,902,902,902,908]
[null,{"$f":"IF(COUNTIF($CK$10:CK23,TRUE)>0,\"\",INDEX(C_InstallationDescription!$E$226:$E$242,ROWS($A$11:A23)))","v":""},{"$f":"IF($E23=\"\",\"\",INDEX(C_InstallationDescription!F:F,MATCH($B23,C_InstallationDescription!$E:$E,0)))","v":""},{"$f":"IF($E23=\"\",\"\",INDEX(C_InstallationDescription!I:I,MATCH($B23,C_InstallationDescription!$E:$E,0)))","v":""},{"$f":"IF($B23=\"\",\"\",INDEX(C_InstallationDescription!F:F,MATCH($CJ23,C_InstallationDescription!$Q:$Q,0)))","v":""},{"$f":"IF($E23=\"\",\"\",INDEX(C_InstallationDescription!L:L,MATCH($CJ23,C_InstallationDescription!$Q:$Q,0)))","v":""},{"$f":"IF($E23=\"\",\"\",INDEX(C_InstallationDescription!M:M,MATCH($CJ23,C_InstallationDescription!$Q:$Q,0)))","v":""},{"$f":"IF($E23=\"\",\"\",INDEX(C_InstallationDescription!N:N,MATCH($CJ23,C_InstallationDescription!$Q:$Q,0)))","v":""},{"$f":"IF($E23=\"\",\"\",IF(INDEX(E_SourceStreams!$A:$N,CN23,I$7)=\"\",\"\",INDEX(E_SourceStreams!$A:$N,CN23,I$7)))","v":""},{"$f":"IF($E23=\"\",\"\",IF(INDEX(E_SourceStreams!$A:$N,CO23,J$7)=\"\",\"\",INDEX(E_SourceStreams!$A:$N,CO23,J$7)))","v":""},{"$f":"IF($E23=\"\",\"\",IF(INDEX(E_SourceStreams!$A:$N,CP23,K$7)=\"\",\"\",INDEX(E_SourceStreams!$A:$N,CP23,K$7)))","v":""},{"$f":"IF($E23=\"\",\"\",IF(INDEX(E_SourceStreams!$A:$N,CQ23,L$7)=\"\",\"\",INDEX(E_SourceStreams!$A:$N,CQ23,L$7)))","v":""},{"$f":"IF($E23=\"\",\"\",IF(INDEX(E_SourceStreams!$A:$N,CR23,M$7)=\"\",\"\",INDEX(E_SourceStreams!$A:$N,CR23,M$7)))","v":""},{"$f":"IF($E23=\"\",\"\",IF(INDEX(E_SourceStreams!$A:$N,CS23,N$7)=\"\",\"\",INDEX(E_SourceStreams!$A:$N,CS23,N$7)))","v":""},{"$f":"IF($E23=\"\",\"\",IF(INDEX(E_SourceStreams!$A:$N,CT23,O$7)=\"\",\"\",INDEX(E_SourceStreams!$A:$N,CT23,O$7)))","v":""},{"$f":"IF($E23=\"\",\"\",IF(INDEX(E_SourceStreams!$A:$N,CU23,P$7)=\"\",\"\",INDEX(E_SourceStreams!$A:$N,CU23,P$7)))","v":""},{"$f":"IF($E23=\"\",\"\",IF(INDEX(E_SourceStreams!$A:$N,CV23,Q$7)=\"\",\"\",INDEX(E_SourceStreams!$A:$N,CV23,Q$7)))","v":""},{"$f":"IF($E23=\"\",\"\",IF(INDEX(E_SourceStreams!$A:$N,CW23,R$7)=\"\",\"\",INDEX(E_SourceStreams!$A:$N,CW23,R$7)))","v":""},{"$f":"IF($E23=\"\",\"\",IF(INDEX(E_SourceStreams!$A:$N,CX23,S$7)=\"\",\"\",INDEX(E_SourceStreams!$A:$N,CX23,S$7)))","v":""},{"$f":"IF($E23=\"\",\"\",IF(INDEX(E_SourceStreams!$A:$N,CY23,T$7)=\"\",\"\",INDEX(E_SourceStreams!$A:$N,CY23,T$7)))","v":""},{"$f":"IF($E23=\"\",\"\",IF(INDEX(E_SourceStreams!$A:$N,CZ23,U$7)=\"\",\"\",INDEX(E_SourceStreams!$A:$N,CZ23,U$7)))","v":""},{"$f":"IF($E23=\"\",\"\",IF(INDEX(E_SourceStreams!$A:$N,DA23,V$7)=\"\",\"\",INDEX(E_SourceStreams!$A:$N,DA23,V$7)))","v":""},{"$f":"IF($E23=\"\",\"\",IF(INDEX(E_SourceStreams!$A:$N,DB23,W$7)=\"\",\"\",INDEX(E_SourceStreams!$A:$N,DB23,W$7)))","v":""},{"$f":"IF($E23=\"\",\"\",IF(INDEX(E_SourceStreams!$A:$N,DC23,X$7)=\"\",\"\",INDEX(E_SourceStreams!$A:$N,DC23,X$7)))","v":""},{"$f":"IF($E23=\"\",\"\",IF(INDEX(E_SourceStreams!$A:$N,DD23,Y$7)=\"\",\"\",INDEX(E_SourceStreams!$A:$N,DD23,Y$7)))","v":""},{"$f":"IF($E23=\"\",\"\",IF(INDEX(E_SourceStreams!$A:$N,DE23,Z$7)=\"\",\"\",INDEX(E_SourceStreams!$A:$N,DE23,Z$7)))","v":""},{"$f":"IF($E23=\"\",\"\",IF(INDEX(E_SourceStreams!$A:$N,DF23,AA$7)=\"\",\"\",INDEX(E_SourceStreams!$A:$N,DF23,AA$7)))","v":""},{"$f":"IF($E23=\"\",\"\",IF(INDEX(E_SourceStreams!$A:$N,DG23,AB$7)=\"\",\"\",INDEX(E_SourceStreams!$A:$N,DG23,AB$7)))","v":""},{"$f":"IF($E23=\"\",\"\",IF(INDEX(E_SourceStreams!$A:$N,DH23,AC$7)=\"\",\"\",INDEX(E_SourceStreams!$A:$N,DH23,AC$7)))","v":""},{"$f":"IF($E23=\"\",\"\",IF(INDEX(E_SourceStreams!$A:$N,DI23,AD$7)=\"\",\"\",INDEX(E_SourceStreams!$A:$N,DI23,AD$7)))","v":""},{"$f":"IF($E23=\"\",\"\",IF(INDEX(E_SourceStreams!$A:$N,DJ23,AE$7)=\"\",\"\",INDEX(E_SourceStreams!$A:$N,DJ23,AE$7)))","v":""},{"$f":"IF($E23=\"\",\"\",IF(INDEX(E_SourceStreams!$A:$N,DK23,AF$7)=\"\",\"\",INDEX(E_SourceStreams!$A:$N,DK23,AF$7)))","v":""},{"$f":"IF($E23=\"\",\"\",IF(INDEX(E_SourceStreams!$A:$N,DL23,AG$7)=\"\",\"\",INDEX(E_SourceStreams!$A:$N,DL23,AG$7)))","v":""},{"$f":"IF($E23=\"\",\"\",IF(INDEX(E_SourceStreams!$A:$N,DM23,AH$7)=\"\",\"\",INDEX(E_SourceStreams!$A:$N,DM23,AH$7)))","v":""},{"$f":"IF($E23=\"\",\"\",IF(INDEX(E_SourceStreams!$A:$N,DN23,AI$7)=\"\",\"\",INDEX(E_SourceStreams!$A:$N,DN23,AI$7)))","v":""},{"$f":"IF($E23=\"\",\"\",IF(INDEX(E_SourceStreams!$A:$N,DO23,AJ$7)=\"\",\"\",INDEX(E_SourceStreams!$A:$N,DO23,AJ$7)))","v":""},{"$f":"IF($E23=\"\",\"\",IF(INDEX(E_SourceStreams!$A:$N,DP23,AK$7)=\"\",\"\",INDEX(E_SourceStreams!$A:$N,DP23,AK$7)))","v":""},{"$f":"IF($E23=\"\",\"\",IF(INDEX(E_SourceStreams!$A:$N,DQ23,AL$7)=\"\",\"\",INDEX(E_SourceStreams!$A:$N,DQ23,AL$7)))","v":""},{"$f":"IF($E23=\"\",\"\",IF(INDEX(E_SourceStreams!$A:$N,DR23,AM$7)=\"\",\"\",INDEX(E_SourceStreams!$A:$N,DR23,AM$7)))","v":""},{"$f":"IF($E23=\"\",\"\",IF(INDEX(E_SourceStreams!$A:$N,DS23,AN$7)=\"\",\"\",INDEX(E_SourceStreams!$A:$N,DS23,AN$7)))","v":""},{"$f":"IF($E23=\"\",\"\",IF(INDEX(E_SourceStreams!$A:$N,DT23,AO$7)=\"\",\"\",INDEX(E_SourceStreams!$A:$N,DT23,AO$7)))","v":""},{"$f":"IF($E23=\"\",\"\",IF(INDEX(E_SourceStreams!$A:$N,DU23,AP$7)=\"\",\"\",INDEX(E_SourceStreams!$A:$N,DU23,AP$7)))","v":""},{"$f":"IF($E23=\"\",\"\",IF(INDEX(E_SourceStreams!$A:$N,DV23,AQ$7)=\"\",\"\",INDEX(E_SourceStreams!$A:$N,DV23,AQ$7)))","v":""},{"$f":"IF($E23=\"\",\"\",IF(INDEX(E_SourceStreams!$A:$N,DW23,AR$7)=\"\",\"\",INDEX(E_SourceStreams!$A:$N,DW23,AR$7)))","v":""},{"$f":"IF($E23=\"\",\"\",IF(INDEX(E_SourceStreams!$A:$N,DX23,AS$7)=\"\",\"\",INDEX(E_SourceStreams!$A:$N,DX23,AS$7)))","v":""},{"$f":"IF($E23=\"\",\"\",IF(INDEX(E_SourceStreams!$A:$N,DY23,AT$7)=\"\",\"\",INDEX(E_SourceStreams!$A:$N,DY23,AT$7)))","v":""},{"$f":"IF($E23=\"\",\"\",IF(INDEX(E_SourceStreams!$A:$N,DZ23,AU$7)=\"\",\"\",INDEX(E_SourceStreams!$A:$N,DZ23,AU$7)))","v":""},{"$f":"IF($E23=\"\",\"\",IF(INDEX(E_SourceStreams!$A:$N,EA23,AV$7)=\"\",\"\",INDEX(E_SourceStreams!$A:$N,EA23,AV$7)))","v":""},{"$f":"IF($E23=\"\",\"\",IF(INDEX(E_SourceStreams!$A:$N,EB23,AW$7)=\"\",\"\",INDEX(E_SourceStreams!$A:$N,EB23,AW$7)))","v":""},{"$f":"IF($E23=\"\",\"\",IF(INDEX(E_SourceStreams!$A:$N,EC23,AX$7)=\"\",\"\",INDEX(E_SourceStreams!$A:$N,EC23,AX$7)))","v":""},{"$f":"IF($E23=\"\",\"\",IF(INDEX(E_SourceStreams!$A:$N,ED23,AY$7)=\"\",\"\",INDEX(E_SourceStreams!$A:$N,ED23,AY$7)))","v":""},{"$f":"IF($E23=\"\",\"\",IF(INDEX(E_SourceStreams!$A:$N,EE23,AZ$7)=\"\",\"\",INDEX(E_SourceStreams!$A:$N,EE23,AZ$7)))","v":""},{"$f":"IF($E23=\"\",\"\",IF(INDEX(E_SourceStreams!$A:$N,EF23,BA$7)=\"\",\"\",INDEX(E_SourceStreams!$A:$N,EF23,BA$7)))","v":""},{"$f":"IF($E23=\"\",\"\",IF(INDEX(E_SourceStreams!$A:$N,EG23,BB$7)=\"\",\"\",INDEX(E_SourceStreams!$A:$N,EG23,BB$7)))","v":""},{"$f":"IF($E23=\"\",\"\",IF(INDEX(E_SourceStreams!$A:$N,EH23,BC$7)=\"\",\"\",INDEX(E_SourceStreams!$A:$N,EH23,BC$7)))","v":""},{"$f":"IF($E23=\"\",\"\",IF(INDEX(E_SourceStreams!$A:$N,EI23,BD$7)=\"\",\"\",INDEX(E_SourceStreams!$A:$N,EI23,BD$7)))","v":""},{"$f":"IF($E23=\"\",\"\",IF(INDEX(E_SourceStreams!$A:$N,EJ23,BE$7)=\"\",\"\",INDEX(E_SourceStreams!$A:$N,EJ23,BE$7)))","v":""},{"$f":"IF($E23=\"\",\"\",IF(INDEX(E_SourceStreams!$A:$N,EK23,BF$7)=\"\",\"\",INDEX(E_SourceStreams!$A:$N,EK23,BF$7)))","v":""},{"$f":"IF($E23=\"\",\"\",IF(INDEX(E_SourceStreams!$A:$N,EL23,BG$7)=\"\",\"\",INDEX(E_SourceStreams!$A:$N,EL23,BG$7)))","v":""},{"$f":"IF($E23=\"\",\"\",IF(INDEX(E_SourceStreams!$A:$N,EM23,BH$7)=\"\",\"\",INDEX(E_SourceStreams!$A:$N,EM23,BH$7)))","v":""},{"$f":"IF($E23=\"\",\"\",IF(INDEX(E_SourceStreams!$A:$N,EN23,BI$7)=\"\",\"\",INDEX(E_SourceStreams!$A:$N,EN23,BI$7)))","v":""},{"$f":"IF($E23=\"\",\"\",IF(INDEX(E_SourceStreams!$A:$N,EO23,BJ$7)=\"\",\"\",INDEX(E_SourceStreams!$A:$N,EO23,BJ$7)))","v":""},{"$f":"IF($E23=\"\",\"\",IF(INDEX(E_SourceStreams!$A:$N,EP23,BK$7)=\"\",\"\",INDEX(E_SourceStreams!$A:$N,EP23,BK$7)))","v":""},{"$f":"IF($E23=\"\",\"\",IF(INDEX(E_SourceStreams!$A:$N,EQ23,BL$7)=\"\",\"\",INDEX(E_SourceStreams!$A:$N,EQ23,BL$7)))","v":""},{"$f":"IF($E23=\"\",\"\",IF(INDEX(E_SourceStreams!$A:$N,ER23,BM$7)=\"\",\"\",INDEX(E_SourceStreams!$A:$N,ER23,BM$7)))","v":""},{"$f":"IF($E23=\"\",\"\",IF(INDEX(E_SourceStreams!$A:$N,ES23,BN$7)=\"\",\"\",INDEX(E_SourceStreams!$A:$N,ES23,BN$7)))","v":""},{"$f":"IF($E23=\"\",\"\",IF(INDEX(E_SourceStreams!$A:$N,ET23,BO$7)=\"\",\"\",INDEX(E_SourceStreams!$A:$N,ET23,BO$7)))","v":""},{"$f":"IF($E23=\"\",\"\",IF(INDEX(E_SourceStreams!$A:$N,EU23,BP$7)=\"\",\"\",INDEX(E_SourceStreams!$A:$N,EU23,BP$7)))","v":""},{"$f":"IF($E23=\"\",\"\",IF(INDEX(E_SourceStreams!$A:$N,EV23,BQ$7)=\"\",\"\",INDEX(E_SourceStreams!$A:$N,EV23,BQ$7)))","v":""},{"$f":"IF($E23=\"\",\"\",IF(INDEX(E_SourceStreams!$A:$N,EW23,BR$7)=\"\",\"\",INDEX(E_SourceStreams!$A:$N,EW23,BR$7)))","v":""},{"$f":"IF($E23=\"\",\"\",IF(INDEX(E_SourceStreams!$A:$N,EX23,BS$7)=\"\",\"\",INDEX(E_SourceStreams!$A:$N,EX23,BS$7)))","v":""},{"$f":"IF($E23=\"\",\"\",IF(INDEX(E_SourceStreams!$A:$N,EY23,BT$7)=\"\",\"\",INDEX(E_SourceStreams!$A:$N,EY23,BT$7)))","v":""},null,null,null,null,null,null,null,null,null,null,null,null,null,null,null,"SourceCategory_",{"$f":"INDEX(C_InstallationDescription!$A$226:$A$332,ROWS($CI$11:CI23))=\"ausblenden\"","v":false},"SourceStreamName_",null,925,927,929,931,933,935,937,937,937,937,937,940,944,945,946,953,963,963,963,963,963,963,963,954,964,964,964,964,964,964,964,955,965,965,965,965,965,965,965,956,966,966,966,966,966,966,966,957,967,967,967,967,967,967,967,958,968,968,968,968,968,968,968,974]
[null,{"$f":"IF(COUNTIF($CK$10:CK24,TRUE)>0,\"\",INDEX(C_InstallationDescription!$E$226:$E$242,ROWS($A$11:A24)))","v":""},{"$f":"IF($E24=\"\",\"\",INDEX(C_InstallationDescription!F:F,MATCH($B24,C_InstallationDescription!$E:$E,0)))","v":""},{"$f":"IF($E24=\"\",\"\",INDEX(C_InstallationDescription!I:I,MATCH($B24,C_InstallationDescription!$E:$E,0)))","v":""},{"$f":"IF($B24=\"\",\"\",INDEX(C_InstallationDescription!F:F,MATCH($CJ24,C_InstallationDescription!$Q:$Q,0)))","v":""},{"$f":"IF($E24=\"\",\"\",INDEX(C_InstallationDescription!L:L,MATCH($CJ24,C_InstallationDescription!$Q:$Q,0)))","v":""},{"$f":"IF($E24=\"\",\"\",INDEX(C_InstallationDescription!M:M,MATCH($CJ24,C_InstallationDescription!$Q:$Q,0)))","v":""},{"$f":"IF($E24=\"\",\"\",INDEX(C_InstallationDescription!N:N,MATCH($CJ24,C_InstallationDescription!$Q:$Q,0)))","v":""},{"$f":"IF($E24=\"\",\"\",IF(INDEX(E_SourceStreams!$A:$N,CN24,I$7)=\"\",\"\",INDEX(E_SourceStreams!$A:$N,CN24,I$7)))","v":""},{"$f":"IF($E24=\"\",\"\",IF(INDEX(E_SourceStreams!$A:$N,CO24,J$7)=\"\",\"\",INDEX(E_SourceStreams!$A:$N,CO24,J$7)))","v":""},{"$f":"IF($E24=\"\",\"\",IF(INDEX(E_SourceStreams!$A:$N,CP24,K$7)=\"\",\"\",INDEX(E_SourceStreams!$A:$N,CP24,K$7)))","v":""},{"$f":"IF($E24=\"\",\"\",IF(INDEX(E_SourceStreams!$A:$N,CQ24,L$7)=\"\",\"\",INDEX(E_SourceStreams!$A:$N,CQ24,L$7)))","v":""},{"$f":"IF($E24=\"\",\"\",IF(INDEX(E_SourceStreams!$A:$N,CR24,M$7)=\"\",\"\",INDEX(E_SourceStreams!$A:$N,CR24,M$7)))","v":""},{"$f":"IF($E24=\"\",\"\",IF(INDEX(E_SourceStreams!$A:$N,CS24,N$7)=\"\",\"\",INDEX(E_SourceStreams!$A:$N,CS24,N$7)))","v":""},{"$f":"IF($E24=\"\",\"\",IF(INDEX(E_SourceStreams!$A:$N,CT24,O$7)=\"\",\"\",INDEX(E_SourceStreams!$A:$N,CT24,O$7)))","v":""},{"$f":"IF($E24=\"\",\"\",IF(INDEX(E_SourceStreams!$A:$N,CU24,P$7)=\"\",\"\",INDEX(E_SourceStreams!$A:$N,CU24,P$7)))","v":""},{"$f":"IF($E24=\"\",\"\",IF(INDEX(E_SourceStreams!$A:$N,CV24,Q$7)=\"\",\"\",INDEX(E_SourceStreams!$A:$N,CV24,Q$7)))","v":""},{"$f":"IF($E24=\"\",\"\",IF(INDEX(E_SourceStreams!$A:$N,CW24,R$7)=\"\",\"\",INDEX(E_SourceStreams!$A:$N,CW24,R$7)))","v":""},{"$f":"IF($E24=\"\",\"\",IF(INDEX(E_SourceStreams!$A:$N,CX24,S$7)=\"\",\"\",INDEX(E_SourceStreams!$A:$N,CX24,S$7)))","v":""},{"$f":"IF($E24=\"\",\"\",IF(INDEX(E_SourceStreams!$A:$N,CY24,T$7)=\"\",\"\",INDEX(E_SourceStreams!$A:$N,CY24,T$7)))","v":""},{"$f":"IF($E24=\"\",\"\",IF(INDEX(E_SourceStreams!$A:$N,CZ24,U$7)=\"\",\"\",INDEX(E_SourceStreams!$A:$N,CZ24,U$7)))","v":""},{"$f":"IF($E24=\"\",\"\",IF(INDEX(E_SourceStreams!$A:$N,DA24,V$7)=\"\",\"\",INDEX(E_SourceStreams!$A:$N,DA24,V$7)))","v":""},{"$f":"IF($E24=\"\",\"\",IF(INDEX(E_SourceStreams!$A:$N,DB24,W$7)=\"\",\"\",INDEX(E_SourceStreams!$A:$N,DB24,W$7)))","v":""},{"$f":"IF($E24=\"\",\"\",IF(INDEX(E_SourceStreams!$A:$N,DC24,X$7)=\"\",\"\",INDEX(E_SourceStreams!$A:$N,DC24,X$7)))","v":""},{"$f":"IF($E24=\"\",\"\",IF(INDEX(E_SourceStreams!$A:$N,DD24,Y$7)=\"\",\"\",INDEX(E_SourceStreams!$A:$N,DD24,Y$7)))","v":""},{"$f":"IF($E24=\"\",\"\",IF(INDEX(E_SourceStreams!$A:$N,DE24,Z$7)=\"\",\"\",INDEX(E_SourceStreams!$A:$N,DE24,Z$7)))","v":""},{"$f":"IF($E24=\"\",\"\",IF(INDEX(E_SourceStreams!$A:$N,DF24,AA$7)=\"\",\"\",INDEX(E_SourceStreams!$A:$N,DF24,AA$7)))","v":""},{"$f":"IF($E24=\"\",\"\",IF(INDEX(E_SourceStreams!$A:$N,DG24,AB$7)=\"\",\"\",INDEX(E_SourceStreams!$A:$N,DG24,AB$7)))","v":""},{"$f":"IF($E24=\"\",\"\",IF(INDEX(E_SourceStreams!$A:$N,DH24,AC$7)=\"\",\"\",INDEX(E_SourceStreams!$A:$N,DH24,AC$7)))","v":""},{"$f":"IF($E24=\"\",\"\",IF(INDEX(E_SourceStreams!$A:$N,DI24,AD$7)=\"\",\"\",INDEX(E_SourceStreams!$A:$N,DI24,AD$7)))","v":""},{"$f":"IF($E24=\"\",\"\",IF(INDEX(E_SourceStreams!$A:$N,DJ24,AE$7)=\"\",\"\",INDEX(E_SourceStreams!$A:$N,DJ24,AE$7)))","v":""},{"$f":"IF($E24=\"\",\"\",IF(INDEX(E_SourceStreams!$A:$N,DK24,AF$7)=\"\",\"\",INDEX(E_SourceStreams!$A:$N,DK24,AF$7)))","v":""},{"$f":"IF($E24=\"\",\"\",IF(INDEX(E_SourceStreams!$A:$N,DL24,AG$7)=\"\",\"\",INDEX(E_SourceStreams!$A:$N,DL24,AG$7)))","v":""},{"$f":"IF($E24=\"\",\"\",IF(INDEX(E_SourceStreams!$A:$N,DM24,AH$7)=\"\",\"\",INDEX(E_SourceStreams!$A:$N,DM24,AH$7)))","v":""},{"$f":"IF($E24=\"\",\"\",IF(INDEX(E_SourceStreams!$A:$N,DN24,AI$7)=\"\",\"\",INDEX(E_SourceStreams!$A:$N,DN24,AI$7)))","v":""},{"$f":"IF($E24=\"\",\"\",IF(INDEX(E_SourceStreams!$A:$N,DO24,AJ$7)=\"\",\"\",INDEX(E_SourceStreams!$A:$N,DO24,AJ$7)))","v":""},{"$f":"IF($E24=\"\",\"\",IF(INDEX(E_SourceStreams!$A:$N,DP24,AK$7)=\"\",\"\",INDEX(E_SourceStreams!$A:$N,DP24,AK$7)))","v":""},{"$f":"IF($E24=\"\",\"\",IF(INDEX(E_SourceStreams!$A:$N,DQ24,AL$7)=\"\",\"\",INDEX(E_SourceStreams!$A:$N,DQ24,AL$7)))","v":""},{"$f":"IF($E24=\"\",\"\",IF(INDEX(E_SourceStreams!$A:$N,DR24,AM$7)=\"\",\"\",INDEX(E_SourceStreams!$A:$N,DR24,AM$7)))","v":""},{"$f":"IF($E24=\"\",\"\",IF(INDEX(E_SourceStreams!$A:$N,DS24,AN$7)=\"\",\"\",INDEX(E_SourceStreams!$A:$N,DS24,AN$7)))","v":""},{"$f":"IF($E24=\"\",\"\",IF(INDEX(E_SourceStreams!$A:$N,DT24,AO$7)=\"\",\"\",INDEX(E_SourceStreams!$A:$N,DT24,AO$7)))","v":""},{"$f":"IF($E24=\"\",\"\",IF(INDEX(E_SourceStreams!$A:$N,DU24,AP$7)=\"\",\"\",INDEX(E_SourceStreams!$A:$N,DU24,AP$7)))","v":""},{"$f":"IF($E24=\"\",\"\",IF(INDEX(E_SourceStreams!$A:$N,DV24,AQ$7)=\"\",\"\",INDEX(E_SourceStreams!$A:$N,DV24,AQ$7)))","v":""},{"$f":"IF($E24=\"\",\"\",IF(INDEX(E_SourceStreams!$A:$N,DW24,AR$7)=\"\",\"\",INDEX(E_SourceStreams!$A:$N,DW24,AR$7)))","v":""},{"$f":"IF($E24=\"\",\"\",IF(INDEX(E_SourceStreams!$A:$N,DX24,AS$7)=\"\",\"\",INDEX(E_SourceStreams!$A:$N,DX24,AS$7)))","v":""},{"$f":"IF($E24=\"\",\"\",IF(INDEX(E_SourceStreams!$A:$N,DY24,AT$7)=\"\",\"\",INDEX(E_SourceStreams!$A:$N,DY24,AT$7)))","v":""},{"$f":"IF($E24=\"\",\"\",IF(INDEX(E_SourceStreams!$A:$N,DZ24,AU$7)=\"\",\"\",INDEX(E_SourceStreams!$A:$N,DZ24,AU$7)))","v":""},{"$f":"IF($E24=\"\",\"\",IF(INDEX(E_SourceStreams!$A:$N,EA24,AV$7)=\"\",\"\",INDEX(E_SourceStreams!$A:$N,EA24,AV$7)))","v":""},{"$f":"IF($E24=\"\",\"\",IF(INDEX(E_SourceStreams!$A:$N,EB24,AW$7)=\"\",\"\",INDEX(E_SourceStreams!$A:$N,EB24,AW$7)))","v":""},{"$f":"IF($E24=\"\",\"\",IF(INDEX(E_SourceStreams!$A:$N,EC24,AX$7)=\"\",\"\",INDEX(E_SourceStreams!$A:$N,EC24,AX$7)))","v":""},{"$f":"IF($E24=\"\",\"\",IF(INDEX(E_SourceStreams!$A:$N,ED24,AY$7)=\"\",\"\",INDEX(E_SourceStreams!$A:$N,ED24,AY$7)))","v":""},{"$f":"IF($E24=\"\",\"\",IF(INDEX(E_SourceStreams!$A:$N,EE24,AZ$7)=\"\",\"\",INDEX(E_SourceStreams!$A:$N,EE24,AZ$7)))","v":""},{"$f":"IF($E24=\"\",\"\",IF(INDEX(E_SourceStreams!$A:$N,EF24,BA$7)=\"\",\"\",INDEX(E_SourceStreams!$A:$N,EF24,BA$7)))","v":""},{"$f":"IF($E24=\"\",\"\",IF(INDEX(E_SourceStreams!$A:$N,EG24,BB$7)=\"\",\"\",INDEX(E_SourceStreams!$A:$N,EG24,BB$7)))","v":""},{"$f":"IF($E24=\"\",\"\",IF(INDEX(E_SourceStreams!$A:$N,EH24,BC$7)=\"\",\"\",INDEX(E_SourceStreams!$A:$N,EH24,BC$7)))","v":""},{"$f":"IF($E24=\"\",\"\",IF(INDEX(E_SourceStreams!$A:$N,EI24,BD$7)=\"\",\"\",INDEX(E_SourceStreams!$A:$N,EI24,BD$7)))","v":""},{"$f":"IF($E24=\"\",\"\",IF(INDEX(E_SourceStreams!$A:$N,EJ24,BE$7)=\"\",\"\",INDEX(E_SourceStreams!$A:$N,EJ24,BE$7)))","v":""},{"$f":"IF($E24=\"\",\"\",IF(INDEX(E_SourceStreams!$A:$N,EK24,BF$7)=\"\",\"\",INDEX(E_SourceStreams!$A:$N,EK24,BF$7)))","v":""},{"$f":"IF($E24=\"\",\"\",IF(INDEX(E_SourceStreams!$A:$N,EL24,BG$7)=\"\",\"\",INDEX(E_SourceStreams!$A:$N,EL24,BG$7)))","v":""},{"$f":"IF($E24=\"\",\"\",IF(INDEX(E_SourceStreams!$A:$N,EM24,BH$7)=\"\",\"\",INDEX(E_SourceStreams!$A:$N,EM24,BH$7)))","v":""},{"$f":"IF($E24=\"\",\"\",IF(INDEX(E_SourceStreams!$A:$N,EN24,BI$7)=\"\",\"\",INDEX(E_SourceStreams!$A:$N,EN24,BI$7)))","v":""},{"$f":"IF($E24=\"\",\"\",IF(INDEX(E_SourceStreams!$A:$N,EO24,BJ$7)=\"\",\"\",INDEX(E_SourceStreams!$A:$N,EO24,BJ$7)))","v":""},{"$f":"IF($E24=\"\",\"\",IF(INDEX(E_SourceStreams!$A:$N,EP24,BK$7)=\"\",\"\",INDEX(E_SourceStreams!$A:$N,EP24,BK$7)))","v":""},{"$f":"IF($E24=\"\",\"\",IF(INDEX(E_SourceStreams!$A:$N,EQ24,BL$7)=\"\",\"\",INDEX(E_SourceStreams!$A:$N,EQ24,BL$7)))","v":""},{"$f":"IF($E24=\"\",\"\",IF(INDEX(E_SourceStreams!$A:$N,ER24,BM$7)=\"\",\"\",INDEX(E_SourceStreams!$A:$N,ER24,BM$7)))","v":""},{"$f":"IF($E24=\"\",\"\",IF(INDEX(E_SourceStreams!$A:$N,ES24,BN$7)=\"\",\"\",INDEX(E_SourceStreams!$A:$N,ES24,BN$7)))","v":""},{"$f":"IF($E24=\"\",\"\",IF(INDEX(E_SourceStreams!$A:$N,ET24,BO$7)=\"\",\"\",INDEX(E_SourceStreams!$A:$N,ET24,BO$7)))","v":""},{"$f":"IF($E24=\"\",\"\",IF(INDEX(E_SourceStreams!$A:$N,EU24,BP$7)=\"\",\"\",INDEX(E_SourceStreams!$A:$N,EU24,BP$7)))","v":""},{"$f":"IF($E24=\"\",\"\",IF(INDEX(E_SourceStreams!$A:$N,EV24,BQ$7)=\"\",\"\",INDEX(E_SourceStreams!$A:$N,EV24,BQ$7)))","v":""},{"$f":"IF($E24=\"\",\"\",IF(INDEX(E_SourceStreams!$A:$N,EW24,BR$7)=\"\",\"\",INDEX(E_SourceStreams!$A:$N,EW24,BR$7)))","v":""},{"$f":"IF($E24=\"\",\"\",IF(INDEX(E_SourceStreams!$A:$N,EX24,BS$7)=\"\",\"\",INDEX(E_SourceStreams!$A:$N,EX24,BS$7)))","v":""},{"$f":"IF($E24=\"\",\"\",IF(INDEX(E_SourceStreams!$A:$N,EY24,BT$7)=\"\",\"\",INDEX(E_SourceStreams!$A:$N,EY24,BT$7)))","v":""},null,null,null,null,null,null,null,null,null,null,null,null,null,null,null,"SourceCategory_",{"$f":"INDEX(C_InstallationDescription!$A$226:$A$332,ROWS($CI$11:CI24))=\"ausblenden\"","v":false},"SourceStreamName_",null,991,993,995,997,999,1001,1003,1003,1003,1003,1003,1006,1010,1011,1012,1019,1029,1029,1029,1029,1029,1029,1029,1020,1030,1030,1030,1030,1030,1030,1030,1021,1031,1031,1031,1031,1031,1031,1031,1022,1032,1032,1032,1032,1032,1032,1032,1023,1033,1033,1033,1033,1033,1033,1033,1024,1034,1034,1034,1034,1034,1034,1034,1040]
[null,{"$f":"IF(COUNTIF($CK$10:CK25,TRUE)>0,\"\",INDEX(C_InstallationDescription!$E$226:$E$242,ROWS($A$11:A25)))","v":""},{"$f":"IF($E25=\"\",\"\",INDEX(C_InstallationDescription!F:F,MATCH($B25,C_InstallationDescription!$E:$E,0)))","v":""},{"$f":"IF($E25=\"\",\"\",INDEX(C_InstallationDescription!I:I,MATCH($B25,C_InstallationDescription!$E:$E,0)))","v":""},{"$f":"IF($B25=\"\",\"\",INDEX(C_InstallationDescription!F:F,MATCH($CJ25,C_InstallationDescription!$Q:$Q,0)))","v":""},{"$f":"IF($E25=\"\",\"\",INDEX(C_InstallationDescription!L:L,MATCH($CJ25,C_InstallationDescription!$Q:$Q,0)))","v":""},{"$f":"IF($E25=\"\",\"\",INDEX(C_InstallationDescription!M:M,MATCH($CJ25,C_InstallationDescription!$Q:$Q,0)))","v":""},{"$f":"IF($E25=\"\",\"\",INDEX(C_InstallationDescription!N:N,MATCH($CJ25,C_InstallationDescription!$Q:$Q,0)))","v":""},{"$f":"IF($E25=\"\",\"\",IF(INDEX(E_SourceStreams!$A:$N,CN25,I$7)=\"\",\"\",INDEX(E_SourceStreams!$A:$N,CN25,I$7)))","v":""},{"$f":"IF($E25=\"\",\"\",IF(INDEX(E_SourceStreams!$A:$N,CO25,J$7)=\"\",\"\",INDEX(E_SourceStreams!$A:$N,CO25,J$7)))","v":""},{"$f":"IF($E25=\"\",\"\",IF(INDEX(E_SourceStreams!$A:$N,CP25,K$7)=\"\",\"\",INDEX(E_SourceStreams!$A:$N,CP25,K$7)))","v":""},{"$f":"IF($E25=\"\",\"\",IF(INDEX(E_SourceStreams!$A:$N,CQ25,L$7)=\"\",\"\",INDEX(E_SourceStreams!$A:$N,CQ25,L$7)))","v":""},{"$f":"IF($E25=\"\",\"\",IF(INDEX(E_SourceStreams!$A:$N,CR25,M$7)=\"\",\"\",INDEX(E_SourceStreams!$A:$N,CR25,M$7)))","v":""},{"$f":"IF($E25=\"\",\"\",IF(INDEX(E_SourceStreams!$A:$N,CS25,N$7)=\"\",\"\",INDEX(E_SourceStreams!$A:$N,CS25,N$7)))","v":""},{"$f":"IF($E25=\"\",\"\",IF(INDEX(E_SourceStreams!$A:$N,CT25,O$7)=\"\",\"\",INDEX(E_SourceStreams!$A:$N,CT25,O$7)))","v":""},{"$f":"IF($E25=\"\",\"\",IF(INDEX(E_SourceStreams!$A:$N,CU25,P$7)=\"\",\"\",INDEX(E_SourceStreams!$A:$N,CU25,P$7)))","v":""},{"$f":"IF($E25=\"\",\"\",IF(INDEX(E_SourceStreams!$A:$N,CV25,Q$7)=\"\",\"\",INDEX(E_SourceStreams!$A:$N,CV25,Q$7)))","v":""},{"$f":"IF($E25=\"\",\"\",IF(INDEX(E_SourceStreams!$A:$N,CW25,R$7)=\"\",\"\",INDEX(E_SourceStreams!$A:$N,CW25,R$7)))","v":""},{"$f":"IF($E25=\"\",\"\",IF(INDEX(E_SourceStreams!$A:$N,CX25,S$7)=\"\",\"\",INDEX(E_SourceStreams!$A:$N,CX25,S$7)))","v":""},{"$f":"IF($E25=\"\",\"\",IF(INDEX(E_SourceStreams!$A:$N,CY25,T$7)=\"\",\"\",INDEX(E_SourceStreams!$A:$N,CY25,T$7)))","v":""},{"$f":"IF($E25=\"\",\"\",IF(INDEX(E_SourceStreams!$A:$N,CZ25,U$7)=\"\",\"\",INDEX(E_SourceStreams!$A:$N,CZ25,U$7)))","v":""},{"$f":"IF($E25=\"\",\"\",IF(INDEX(E_SourceStreams!$A:$N,DA25,V$7)=\"\",\"\",INDEX(E_SourceStreams!$A:$N,DA25,V$7)))","v":""},{"$f":"IF($E25=\"\",\"\",IF(INDEX(E_SourceStreams!$A:$N,DB25,W$7)=\"\",\"\",INDEX(E_SourceStreams!$A:$N,DB25,W$7)))","v":""},{"$f":"IF($E25=\"\",\"\",IF(INDEX(E_SourceStreams!$A:$N,DC25,X$7)=\"\",\"\",INDEX(E_SourceStreams!$A:$N,DC25,X$7)))","v":""},{"$f":"IF($E25=\"\",\"\",IF(INDEX(E_SourceStreams!$A:$N,DD25,Y$7)=\"\",\"\",INDEX(E_SourceStreams!$A:$N,DD25,Y$7)))","v":""},{"$f":"IF($E25=\"\",\"\",IF(INDEX(E_SourceStreams!$A:$N,DE25,Z$7)=\"\",\"\",INDEX(E_SourceStreams!$A:$N,DE25,Z$7)))","v":""},{"$f":"IF($E25=\"\",\"\",IF(INDEX(E_SourceStreams!$A:$N,DF25,AA$7)=\"\",\"\",INDEX(E_SourceStreams!$A:$N,DF25,AA$7)))","v":""},{"$f":"IF($E25=\"\",\"\",IF(INDEX(E_SourceStreams!$A:$N,DG25,AB$7)=\"\",\"\",INDEX(E_SourceStreams!$A:$N,DG25,AB$7)))","v":""},{"$f":"IF($E25=\"\",\"\",IF(INDEX(E_SourceStreams!$A:$N,DH25,AC$7)=\"\",\"\",INDEX(E_SourceStreams!$A:$N,DH25,AC$7)))","v":""},{"$f":"IF($E25=\"\",\"\",IF(INDEX(E_SourceStreams!$A:$N,DI25,AD$7)=\"\",\"\",INDEX(E_SourceStreams!$A:$N,DI25,AD$7)))","v":""},{"$f":"IF($E25=\"\",\"\",IF(INDEX(E_SourceStreams!$A:$N,DJ25,AE$7)=\"\",\"\",INDEX(E_SourceStreams!$A:$N,DJ25,AE$7)))","v":""},{"$f":"IF($E25=\"\",\"\",IF(INDEX(E_SourceStreams!$A:$N,DK25,AF$7)=\"\",\"\",INDEX(E_SourceStreams!$A:$N,DK25,AF$7)))","v":""},{"$f":"IF($E25=\"\",\"\",IF(INDEX(E_SourceStreams!$A:$N,DL25,AG$7)=\"\",\"\",INDEX(E_SourceStreams!$A:$N,DL25,AG$7)))","v":""},{"$f":"IF($E25=\"\",\"\",IF(INDEX(E_SourceStreams!$A:$N,DM25,AH$7)=\"\",\"\",INDEX(E_SourceStreams!$A:$N,DM25,AH$7)))","v":""},{"$f":"IF($E25=\"\",\"\",IF(INDEX(E_SourceStreams!$A:$N,DN25,AI$7)=\"\",\"\",INDEX(E_SourceStreams!$A:$N,DN25,AI$7)))","v":""},{"$f":"IF($E25=\"\",\"\",IF(INDEX(E_SourceStreams!$A:$N,DO25,AJ$7)=\"\",\"\",INDEX(E_SourceStreams!$A:$N,DO25,AJ$7)))","v":""},{"$f":"IF($E25=\"\",\"\",IF(INDEX(E_SourceStreams!$A:$N,DP25,AK$7)=\"\",\"\",INDEX(E_SourceStreams!$A:$N,DP25,AK$7)))","v":""},{"$f":"IF($E25=\"\",\"\",IF(INDEX(E_SourceStreams!$A:$N,DQ25,AL$7)=\"\",\"\",INDEX(E_SourceStreams!$A:$N,DQ25,AL$7)))","v":""},{"$f":"IF($E25=\"\",\"\",IF(INDEX(E_SourceStreams!$A:$N,DR25,AM$7)=\"\",\"\",INDEX(E_SourceStreams!$A:$N,DR25,AM$7)))","v":""},{"$f":"IF($E25=\"\",\"\",IF(INDEX(E_SourceStreams!$A:$N,DS25,AN$7)=\"\",\"\",INDEX(E_SourceStreams!$A:$N,DS25,AN$7)))","v":""},{"$f":"IF($E25=\"\",\"\",IF(INDEX(E_SourceStreams!$A:$N,DT25,AO$7)=\"\",\"\",INDEX(E_SourceStreams!$A:$N,DT25,AO$7)))","v":""},{"$f":"IF($E25=\"\",\"\",IF(INDEX(E_SourceStreams!$A:$N,DU25,AP$7)=\"\",\"\",INDEX(E_SourceStreams!$A:$N,DU25,AP$7)))","v":""},{"$f":"IF($E25=\"\",\"\",IF(INDEX(E_SourceStreams!$A:$N,DV25,AQ$7)=\"\",\"\",INDEX(E_SourceStreams!$A:$N,DV25,AQ$7)))","v":""},{"$f":"IF($E25=\"\",\"\",IF(INDEX(E_SourceStreams!$A:$N,DW25,AR$7)=\"\",\"\",INDEX(E_SourceStreams!$A:$N,DW25,AR$7)))","v":""},{"$f":"IF($E25=\"\",\"\",IF(INDEX(E_SourceStreams!$A:$N,DX25,AS$7)=\"\",\"\",INDEX(E_SourceStreams!$A:$N,DX25,AS$7)))","v":""},{"$f":"IF($E25=\"\",\"\",IF(INDEX(E_SourceStreams!$A:$N,DY25,AT$7)=\"\",\"\",INDEX(E_SourceStreams!$A:$N,DY25,AT$7)))","v":""},{"$f":"IF($E25=\"\",\"\",IF(INDEX(E_SourceStreams!$A:$N,DZ25,AU$7)=\"\",\"\",INDEX(E_SourceStreams!$A:$N,DZ25,AU$7)))","v":""},{"$f":"IF($E25=\"\",\"\",IF(INDEX(E_SourceStreams!$A:$N,EA25,AV$7)=\"\",\"\",INDEX(E_SourceStreams!$A:$N,EA25,AV$7)))","v":""},{"$f":"IF($E25=\"\",\"\",IF(INDEX(E_SourceStreams!$A:$N,EB25,AW$7)=\"\",\"\",INDEX(E_SourceStreams!$A:$N,EB25,AW$7)))","v":""},{"$f":"IF($E25=\"\",\"\",IF(INDEX(E_SourceStreams!$A:$N,EC25,AX$7)=\"\",\"\",INDEX(E_SourceStreams!$A:$N,EC25,AX$7)))","v":""},{"$f":"IF($E25=\"\",\"\",IF(INDEX(E_SourceStreams!$A:$N,ED25,AY$7)=\"\",\"\",INDEX(E_SourceStreams!$A:$N,ED25,AY$7)))","v":""},{"$f":"IF($E25=\"\",\"\",IF(INDEX(E_SourceStreams!$A:$N,EE25,AZ$7)=\"\",\"\",INDEX(E_SourceStreams!$A:$N,EE25,AZ$7)))","v":""},{"$f":"IF($E25=\"\",\"\",IF(INDEX(E_SourceStreams!$A:$N,EF25,BA$7)=\"\",\"\",INDEX(E_SourceStreams!$A:$N,EF25,BA$7)))","v":""},{"$f":"IF($E25=\"\",\"\",IF(INDEX(E_SourceStreams!$A:$N,EG25,BB$7)=\"\",\"\",INDEX(E_SourceStreams!$A:$N,EG25,BB$7)))","v":""},{"$f":"IF($E25=\"\",\"\",IF(INDEX(E_SourceStreams!$A:$N,EH25,BC$7)=\"\",\"\",INDEX(E_SourceStreams!$A:$N,EH25,BC$7)))","v":""},{"$f":"IF($E25=\"\",\"\",IF(INDEX(E_SourceStreams!$A:$N,EI25,BD$7)=\"\",\"\",INDEX(E_SourceStreams!$A:$N,EI25,BD$7)))","v":""},{"$f":"IF($E25=\"\",\"\",IF(INDEX(E_SourceStreams!$A:$N,EJ25,BE$7)=\"\",\"\",INDEX(E_SourceStreams!$A:$N,EJ25,BE$7)))","v":""},{"$f":"IF($E25=\"\",\"\",IF(INDEX(E_SourceStreams!$A:$N,EK25,BF$7)=\"\",\"\",INDEX(E_SourceStreams!$A:$N,EK25,BF$7)))","v":""},{"$f":"IF($E25=\"\",\"\",IF(INDEX(E_SourceStreams!$A:$N,EL25,BG$7)=\"\",\"\",INDEX(E_SourceStreams!$A:$N,EL25,BG$7)))","v":""},{"$f":"IF($E25=\"\",\"\",IF(INDEX(E_SourceStreams!$A:$N,EM25,BH$7)=\"\",\"\",INDEX(E_SourceStreams!$A:$N,EM25,BH$7)))","v":""},{"$f":"IF($E25=\"\",\"\",IF(INDEX(E_SourceStreams!$A:$N,EN25,BI$7)=\"\",\"\",INDEX(E_SourceStreams!$A:$N,EN25,BI$7)))","v":""},{"$f":"IF($E25=\"\",\"\",IF(INDEX(E_SourceStreams!$A:$N,EO25,BJ$7)=\"\",\"\",INDEX(E_SourceStreams!$A:$N,EO25,BJ$7)))","v":""},{"$f":"IF($E25=\"\",\"\",IF(INDEX(E_SourceStreams!$A:$N,EP25,BK$7)=\"\",\"\",INDEX(E_SourceStreams!$A:$N,EP25,BK$7)))","v":""},{"$f":"IF($E25=\"\",\"\",IF(INDEX(E_SourceStreams!$A:$N,EQ25,BL$7)=\"\",\"\",INDEX(E_SourceStreams!$A:$N,EQ25,BL$7)))","v":""},{"$f":"IF($E25=\"\",\"\",IF(INDEX(E_SourceStreams!$A:$N,ER25,BM$7)=\"\",\"\",INDEX(E_SourceStreams!$A:$N,ER25,BM$7)))","v":""},{"$f":"IF($E25=\"\",\"\",IF(INDEX(E_SourceStreams!$A:$N,ES25,BN$7)=\"\",\"\",INDEX(E_SourceStreams!$A:$N,ES25,BN$7)))","v":""},{"$f":"IF($E25=\"\",\"\",IF(INDEX(E_SourceStreams!$A:$N,ET25,BO$7)=\"\",\"\",INDEX(E_SourceStreams!$A:$N,ET25,BO$7)))","v":""},{"$f":"IF($E25=\"\",\"\",IF(INDEX(E_SourceStreams!$A:$N,EU25,BP$7)=\"\",\"\",INDEX(E_SourceStreams!$A:$N,EU25,BP$7)))","v":""},{"$f":"IF($E25=\"\",\"\",IF(INDEX(E_SourceStreams!$A:$N,EV25,BQ$7)=\"\",\"\",INDEX(E_SourceStreams!$A:$N,EV25,BQ$7)))","v":""},{"$f":"IF($E25=\"\",\"\",IF(INDEX(E_SourceStreams!$A:$N,EW25,BR$7)=\"\",\"\",INDEX(E_SourceStreams!$A:$N,EW25,BR$7)))","v":""},{"$f":"IF($E25=\"\",\"\",IF(INDEX(E_SourceStreams!$A:$N,EX25,BS$7)=\"\",\"\",INDEX(E_SourceStreams!$A:$N,EX25,BS$7)))","v":""},{"$f":"IF($E25=\"\",\"\",IF(INDEX(E_SourceStreams!$A:$N,EY25,BT$7)=\"\",\"\",INDEX(E_SourceStreams!$A:$N,EY25,BT$7)))","v":""},null,null,null,null,null,null,null,null,null,null,null,null,null,null,null,"SourceCategory_",{"$f":"INDEX(C_InstallationDescription!$A$226:$A$332,ROWS($CI$11:CI25))=\"ausblenden\"","v":false},"SourceStreamName_",null,1057,1059,1061,1063,1065,1067,1069,1069,1069,1069,1069,1072,1076,1077,1078,1085,1095,1095,1095,1095,1095,1095,1095,1086,1096,1096,1096,1096,1096,1096,1096,1087,1097,1097,1097,1097,1097,1097,1097,1088,1098,1098,1098,1098,1098,1098,1098,1089,1099,1099,1099,1099,1099,1099,1099,1090,1100,1100,1100,1100,1100,1100,1100,1106]
[null,{"$f":"IF(COUNTIF($CK$10:CK26,TRUE)>0,\"\",INDEX(C_InstallationDescription!$E$226:$E$242,ROWS($A$11:A26)))","v":""},{"$f":"IF($E26=\"\",\"\",INDEX(C_InstallationDescription!F:F,MATCH($B26,C_InstallationDescription!$E:$E,0)))","v":""},{"$f":"IF($E26=\"\",\"\",INDEX(C_InstallationDescription!I:I,MATCH($B26,C_InstallationDescription!$E:$E,0)))","v":""},{"$f":"IF($B26=\"\",\"\",INDEX(C_InstallationDescription!F:F,MATCH($CJ26,C_InstallationDescription!$Q:$Q,0)))","v":""},{"$f":"IF($E26=\"\",\"\",INDEX(C_InstallationDescription!L:L,MATCH($CJ26,C_InstallationDescription!$Q:$Q,0)))","v":""},{"$f":"IF($E26=\"\",\"\",INDEX(C_InstallationDescription!M:M,MATCH($CJ26,C_InstallationDescription!$Q:$Q,0)))","v":""},{"$f":"IF($E26=\"\",\"\",INDEX(C_InstallationDescription!N:N,MATCH($CJ26,C_InstallationDescription!$Q:$Q,0)))","v":""},{"$f":"IF($E26=\"\",\"\",IF(INDEX(E_SourceStreams!$A:$N,CN26,I$7)=\"\",\"\",INDEX(E_SourceStreams!$A:$N,CN26,I$7)))","v":""},{"$f":"IF($E26=\"\",\"\",IF(INDEX(E_SourceStreams!$A:$N,CO26,J$7)=\"\",\"\",INDEX(E_SourceStreams!$A:$N,CO26,J$7)))","v":""},{"$f":"IF($E26=\"\",\"\",IF(INDEX(E_SourceStreams!$A:$N,CP26,K$7)=\"\",\"\",INDEX(E_SourceStreams!$A:$N,CP26,K$7)))","v":""},{"$f":"IF($E26=\"\",\"\",IF(INDEX(E_SourceStreams!$A:$N,CQ26,L$7)=\"\",\"\",INDEX(E_SourceStreams!$A:$N,CQ26,L$7)))","v":""},{"$f":"IF($E26=\"\",\"\",IF(INDEX(E_SourceStreams!$A:$N,CR26,M$7)=\"\",\"\",INDEX(E_SourceStreams!$A:$N,CR26,M$7)))","v":""},{"$f":"IF($E26=\"\",\"\",IF(INDEX(E_SourceStreams!$A:$N,CS26,N$7)=\"\",\"\",INDEX(E_SourceStreams!$A:$N,CS26,N$7)))","v":""},{"$f":"IF($E26=\"\",\"\",IF(INDEX(E_SourceStreams!$A:$N,CT26,O$7)=\"\",\"\",INDEX(E_SourceStreams!$A:$N,CT26,O$7)))","v":""},{"$f":"IF($E26=\"\",\"\",IF(INDEX(E_SourceStreams!$A:$N,CU26,P$7)=\"\",\"\",INDEX(E_SourceStreams!$A:$N,CU26,P$7)))","v":""},{"$f":"IF($E26=\"\",\"\",IF(INDEX(E_SourceStreams!$A:$N,CV26,Q$7)=\"\",\"\",INDEX(E_SourceStreams!$A:$N,CV26,Q$7)))","v":""},{"$f":"IF($E26=\"\",\"\",IF(INDEX(E_SourceStreams!$A:$N,CW26,R$7)=\"\",\"\",INDEX(E_SourceStreams!$A:$N,CW26,R$7)))","v":""},{"$f":"IF($E26=\"\",\"\",IF(INDEX(E_SourceStreams!$A:$N,CX26,S$7)=\"\",\"\",INDEX(E_SourceStreams!$A:$N,CX26,S$7)))","v":""},{"$f":"IF($E26=\"\",\"\",IF(INDEX(E_SourceStreams!$A:$N,CY26,T$7)=\"\",\"\",INDEX(E_SourceStreams!$A:$N,CY26,T$7)))","v":""},{"$f":"IF($E26=\"\",\"\",IF(INDEX(E_SourceStreams!$A:$N,CZ26,U$7)=\"\",\"\",INDEX(E_SourceStreams!$A:$N,CZ26,U$7)))","v":""},{"$f":"IF($E26=\"\",\"\",IF(INDEX(E_SourceStreams!$A:$N,DA26,V$7)=\"\",\"\",INDEX(E_SourceStreams!$A:$N,DA26,V$7)))","v":""},{"$f":"IF($E26=\"\",\"\",IF(INDEX(E_SourceStreams!$A:$N,DB26,W$7)=\"\",\"\",INDEX(E_SourceStreams!$A:$N,DB26,W$7)))","v":""},{"$f":"IF($E26=\"\",\"\",IF(INDEX(E_SourceStreams!$A:$N,DC26,X$7)=\"\",\"\",INDEX(E_SourceStreams!$A:$N,DC26,X$7)))","v":""},{"$f":"IF($E26=\"\",\"\",IF(INDEX(E_SourceStreams!$A:$N,DD26,Y$7)=\"\",\"\",INDEX(E_SourceStreams!$A:$N,DD26,Y$7)))","v":""},{"$f":"IF($E26=\"\",\"\",IF(INDEX(E_SourceStreams!$A:$N,DE26,Z$7)=\"\",\"\",INDEX(E_SourceStreams!$A:$N,DE26,Z$7)))","v":""},{"$f":"IF($E26=\"\",\"\",IF(INDEX(E_SourceStreams!$A:$N,DF26,AA$7)=\"\",\"\",INDEX(E_SourceStreams!$A:$N,DF26,AA$7)))","v":""},{"$f":"IF($E26=\"\",\"\",IF(INDEX(E_SourceStreams!$A:$N,DG26,AB$7)=\"\",\"\",INDEX(E_SourceStreams!$A:$N,DG26,AB$7)))","v":""},{"$f":"IF($E26=\"\",\"\",IF(INDEX(E_SourceStreams!$A:$N,DH26,AC$7)=\"\",\"\",INDEX(E_SourceStreams!$A:$N,DH26,AC$7)))","v":""},{"$f":"IF($E26=\"\",\"\",IF(INDEX(E_SourceStreams!$A:$N,DI26,AD$7)=\"\",\"\",INDEX(E_SourceStreams!$A:$N,DI26,AD$7)))","v":""},{"$f":"IF($E26=\"\",\"\",IF(INDEX(E_SourceStreams!$A:$N,DJ26,AE$7)=\"\",\"\",INDEX(E_SourceStreams!$A:$N,DJ26,AE$7)))","v":""},{"$f":"IF($E26=\"\",\"\",IF(INDEX(E_SourceStreams!$A:$N,DK26,AF$7)=\"\",\"\",INDEX(E_SourceStreams!$A:$N,DK26,AF$7)))","v":""},{"$f":"IF($E26=\"\",\"\",IF(INDEX(E_SourceStreams!$A:$N,DL26,AG$7)=\"\",\"\",INDEX(E_SourceStreams!$A:$N,DL26,AG$7)))","v":""},{"$f":"IF($E26=\"\",\"\",IF(INDEX(E_SourceStreams!$A:$N,DM26,AH$7)=\"\",\"\",INDEX(E_SourceStreams!$A:$N,DM26,AH$7)))","v":""},{"$f":"IF($E26=\"\",\"\",IF(INDEX(E_SourceStreams!$A:$N,DN26,AI$7)=\"\",\"\",INDEX(E_SourceStreams!$A:$N,DN26,AI$7)))","v":""},{"$f":"IF($E26=\"\",\"\",IF(INDEX(E_SourceStreams!$A:$N,DO26,AJ$7)=\"\",\"\",INDEX(E_SourceStreams!$A:$N,DO26,AJ$7)))","v":""},{"$f":"IF($E26=\"\",\"\",IF(INDEX(E_SourceStreams!$A:$N,DP26,AK$7)=\"\",\"\",INDEX(E_SourceStreams!$A:$N,DP26,AK$7)))","v":""},{"$f":"IF($E26=\"\",\"\",IF(INDEX(E_SourceStreams!$A:$N,DQ26,AL$7)=\"\",\"\",INDEX(E_SourceStreams!$A:$N,DQ26,AL$7)))","v":""},{"$f":"IF($E26=\"\",\"\",IF(INDEX(E_SourceStreams!$A:$N,DR26,AM$7)=\"\",\"\",INDEX(E_SourceStreams!$A:$N,DR26,AM$7)))","v":""},{"$f":"IF($E26=\"\",\"\",IF(INDEX(E_SourceStreams!$A:$N,DS26,AN$7)=\"\",\"\",INDEX(E_SourceStreams!$A:$N,DS26,AN$7)))","v":""},{"$f":"IF($E26=\"\",\"\",IF(INDEX(E_SourceStreams!$A:$N,DT26,AO$7)=\"\",\"\",INDEX(E_SourceStreams!$A:$N,DT26,AO$7)))","v":""},{"$f":"IF($E26=\"\",\"\",IF(INDEX(E_SourceStreams!$A:$N,DU26,AP$7)=\"\",\"\",INDEX(E_SourceStreams!$A:$N,DU26,AP$7)))","v":""},{"$f":"IF($E26=\"\",\"\",IF(INDEX(E_SourceStreams!$A:$N,DV26,AQ$7)=\"\",\"\",INDEX(E_SourceStreams!$A:$N,DV26,AQ$7)))","v":""},{"$f":"IF($E26=\"\",\"\",IF(INDEX(E_SourceStreams!$A:$N,DW26,AR$7)=\"\",\"\",INDEX(E_SourceStreams!$A:$N,DW26,AR$7)))","v":""},{"$f":"IF($E26=\"\",\"\",IF(INDEX(E_SourceStreams!$A:$N,DX26,AS$7)=\"\",\"\",INDEX(E_SourceStreams!$A:$N,DX26,AS$7)))","v":""},{"$f":"IF($E26=\"\",\"\",IF(INDEX(E_SourceStreams!$A:$N,DY26,AT$7)=\"\",\"\",INDEX(E_SourceStreams!$A:$N,DY26,AT$7)))","v":""},{"$f":"IF($E26=\"\",\"\",IF(INDEX(E_SourceStreams!$A:$N,DZ26,AU$7)=\"\",\"\",INDEX(E_SourceStreams!$A:$N,DZ26,AU$7)))","v":""},{"$f":"IF($E26=\"\",\"\",IF(INDEX(E_SourceStreams!$A:$N,EA26,AV$7)=\"\",\"\",INDEX(E_SourceStreams!$A:$N,EA26,AV$7)))","v":""},{"$f":"IF($E26=\"\",\"\",IF(INDEX(E_SourceStreams!$A:$N,EB26,AW$7)=\"\",\"\",INDEX(E_SourceStreams!$A:$N,EB26,AW$7)))","v":""},{"$f":"IF($E26=\"\",\"\",IF(INDEX(E_SourceStreams!$A:$N,EC26,AX$7)=\"\",\"\",INDEX(E_SourceStreams!$A:$N,EC26,AX$7)))","v":""},{"$f":"IF($E26=\"\",\"\",IF(INDEX(E_SourceStreams!$A:$N,ED26,AY$7)=\"\",\"\",INDEX(E_SourceStreams!$A:$N,ED26,AY$7)))","v":""},{"$f":"IF($E26=\"\",\"\",IF(INDEX(E_SourceStreams!$A:$N,EE26,AZ$7)=\"\",\"\",INDEX(E_SourceStreams!$A:$N,EE26,AZ$7)))","v":""},{"$f":"IF($E26=\"\",\"\",IF(INDEX(E_SourceStreams!$A:$N,EF26,BA$7)=\"\",\"\",INDEX(E_SourceStreams!$A:$N,EF26,BA$7)))","v":""},{"$f":"IF($E26=\"\",\"\",IF(INDEX(E_SourceStreams!$A:$N,EG26,BB$7)=\"\",\"\",INDEX(E_SourceStreams!$A:$N,EG26,BB$7)))","v":""},{"$f":"IF($E26=\"\",\"\",IF(INDEX(E_SourceStreams!$A:$N,EH26,BC$7)=\"\",\"\",INDEX(E_SourceStreams!$A:$N,EH26,BC$7)))","v":""},{"$f":"IF($E26=\"\",\"\",IF(INDEX(E_SourceStreams!$A:$N,EI26,BD$7)=\"\",\"\",INDEX(E_SourceStreams!$A:$N,EI26,BD$7)))","v":""},{"$f":"IF($E26=\"\",\"\",IF(INDEX(E_SourceStreams!$A:$N,EJ26,BE$7)=\"\",\"\",INDEX(E_SourceStreams!$A:$N,EJ26,BE$7)))","v":""},{"$f":"IF($E26=\"\",\"\",IF(INDEX(E_SourceStreams!$A:$N,EK26,BF$7)=\"\",\"\",INDEX(E_SourceStreams!$A:$N,EK26,BF$7)))","v":""},{"$f":"IF($E26=\"\",\"\",IF(INDEX(E_SourceStreams!$A:$N,EL26,BG$7)=\"\",\"\",INDEX(E_SourceStreams!$A:$N,EL26,BG$7)))","v":""},{"$f":"IF($E26=\"\",\"\",IF(INDEX(E_SourceStreams!$A:$N,EM26,BH$7)=\"\",\"\",INDEX(E_SourceStreams!$A:$N,EM26,BH$7)))","v":""},{"$f":"IF($E26=\"\",\"\",IF(INDEX(E_SourceStreams!$A:$N,EN26,BI$7)=\"\",\"\",INDEX(E_SourceStreams!$A:$N,EN26,BI$7)))","v":""},{"$f":"IF($E26=\"\",\"\",IF(INDEX(E_SourceStreams!$A:$N,EO26,BJ$7)=\"\",\"\",INDEX(E_SourceStreams!$A:$N,EO26,BJ$7)))","v":""},{"$f":"IF($E26=\"\",\"\",IF(INDEX(E_SourceStreams!$A:$N,EP26,BK$7)=\"\",\"\",INDEX(E_SourceStreams!$A:$N,EP26,BK$7)))","v":""},{"$f":"IF($E26=\"\",\"\",IF(INDEX(E_SourceStreams!$A:$N,EQ26,BL$7)=\"\",\"\",INDEX(E_SourceStreams!$A:$N,EQ26,BL$7)))","v":""},{"$f":"IF($E26=\"\",\"\",IF(INDEX(E_SourceStreams!$A:$N,ER26,BM$7)=\"\",\"\",INDEX(E_SourceStreams!$A:$N,ER26,BM$7)))","v":""},{"$f":"IF($E26=\"\",\"\",IF(INDEX(E_SourceStreams!$A:$N,ES26,BN$7)=\"\",\"\",INDEX(E_SourceStreams!$A:$N,ES26,BN$7)))","v":""},{"$f":"IF($E26=\"\",\"\",IF(INDEX(E_SourceStreams!$A:$N,ET26,BO$7)=\"\",\"\",INDEX(E_SourceStreams!$A:$N,ET26,BO$7)))","v":""},{"$f":"IF($E26=\"\",\"\",IF(INDEX(E_SourceStreams!$A:$N,EU26,BP$7)=\"\",\"\",INDEX(E_SourceStreams!$A:$N,EU26,BP$7)))","v":""},{"$f":"IF($E26=\"\",\"\",IF(INDEX(E_SourceStreams!$A:$N,EV26,BQ$7)=\"\",\"\",INDEX(E_SourceStreams!$A:$N,EV26,BQ$7)))","v":""},{"$f":"IF($E26=\"\",\"\",IF(INDEX(E_SourceStreams!$A:$N,EW26,BR$7)=\"\",\"\",INDEX(E_SourceStreams!$A:$N,EW26,BR$7)))","v":""},{"$f":"IF($E26=\"\",\"\",IF(INDEX(E_SourceStreams!$A:$N,EX26,BS$7)=\"\",\"\",INDEX(E_SourceStreams!$A:$N,EX26,BS$7)))","v":""},{"$f":"IF($E26=\"\",\"\",IF(INDEX(E_SourceStreams!$A:$N,EY26,BT$7)=\"\",\"\",INDEX(E_SourceStreams!$A:$N,EY26,BT$7)))","v":""},null,null,null,null,null,null,null,null,null,null,null,null,null,null,null,"SourceCategory_",{"$f":"INDEX(C_InstallationDescription!$A$226:$A$332,ROWS($CI$11:CI26))=\"ausblenden\"","v":false},"SourceStreamName_",null,1123,1125,1127,1129,1131,1133,1135,1135,1135,1135,1135,1138,1142,1143,1144,1151,1161,1161,1161,1161,1161,1161,1161,1152,1162,1162,1162,1162,1162,1162,1162,1153,1163,1163,1163,1163,1163,1163,1163,1154,1164,1164,1164,1164,1164,1164,1164,1155,1165,1165,1165,1165,1165,1165,1165,1156,1166,1166,1166,1166,1166,1166,1166,1172]
[null,{"$f":"IF(COUNTIF($CK$10:CK27,TRUE)>0,\"\",INDEX(C_InstallationDescription!$E$226:$E$242,ROWS($A$11:A27)))","v":""},{"$f":"IF($E27=\"\",\"\",INDEX(C_InstallationDescription!F:F,MATCH($B27,C_InstallationDescription!$E:$E,0)))","v":""},{"$f":"IF($E27=\"\",\"\",INDEX(C_InstallationDescription!I:I,MATCH($B27,C_InstallationDescription!$E:$E,0)))","v":""},{"$f":"IF($B27=\"\",\"\",INDEX(C_InstallationDescription!F:F,MATCH($CJ27,C_InstallationDescription!$Q:$Q,0)))","v":""},{"$f":"IF($E27=\"\",\"\",INDEX(C_InstallationDescription!L:L,MATCH($CJ27,C_InstallationDescription!$Q:$Q,0)))","v":""},{"$f":"IF($E27=\"\",\"\",INDEX(C_InstallationDescription!M:M,MATCH($CJ27,C_InstallationDescription!$Q:$Q,0)))","v":""},{"$f":"IF($E27=\"\",\"\",INDEX(C_InstallationDescription!N:N,MATCH($CJ27,C_InstallationDescription!$Q:$Q,0)))","v":""},{"$f":"IF($E27=\"\",\"\",IF(INDEX(E_SourceStreams!$A:$N,CN27,I$7)=\"\",\"\",INDEX(E_SourceStreams!$A:$N,CN27,I$7)))","v":""},{"$f":"IF($E27=\"\",\"\",IF(INDEX(E_SourceStreams!$A:$N,CO27,J$7)=\"\",\"\",INDEX(E_SourceStreams!$A:$N,CO27,J$7)))","v":""},{"$f":"IF($E27=\"\",\"\",IF(INDEX(E_SourceStreams!$A:$N,CP27,K$7)=\"\",\"\",INDEX(E_SourceStreams!$A:$N,CP27,K$7)))","v":""},{"$f":"IF($E27=\"\",\"\",IF(INDEX(E_SourceStreams!$A:$N,CQ27,L$7)=\"\",\"\",INDEX(E_SourceStreams!$A:$N,CQ27,L$7)))","v":""},{"$f":"IF($E27=\"\",\"\",IF(INDEX(E_SourceStreams!$A:$N,CR27,M$7)=\"\",\"\",INDEX(E_SourceStreams!$A:$N,CR27,M$7)))","v":""},{"$f":"IF($E27=\"\",\"\",IF(INDEX(E_SourceStreams!$A:$N,CS27,N$7)=\"\",\"\",INDEX(E_SourceStreams!$A:$N,CS27,N$7)))","v":""},{"$f":"IF($E27=\"\",\"\",IF(INDEX(E_SourceStreams!$A:$N,CT27,O$7)=\"\",\"\",INDEX(E_SourceStreams!$A:$N,CT27,O$7)))","v":""},{"$f":"IF($E27=\"\",\"\",IF(INDEX(E_SourceStreams!$A:$N,CU27,P$7)=\"\",\"\",INDEX(E_SourceStreams!$A:$N,CU27,P$7)))","v":""},{"$f":"IF($E27=\"\",\"\",IF(INDEX(E_SourceStreams!$A:$N,CV27,Q$7)=\"\",\"\",INDEX(E_SourceStreams!$A:$N,CV27,Q$7)))","v":""},{"$f":"IF($E27=\"\",\"\",IF(INDEX(E_SourceStreams!$A:$N,CW27,R$7)=\"\",\"\",INDEX(E_SourceStreams!$A:$N,CW27,R$7)))","v":""},{"$f":"IF($E27=\"\",\"\",IF(INDEX(E_SourceStreams!$A:$N,CX27,S$7)=\"\",\"\",INDEX(E_SourceStreams!$A:$N,CX27,S$7)))","v":""},{"$f":"IF($E27=\"\",\"\",IF(INDEX(E_SourceStreams!$A:$N,CY27,T$7)=\"\",\"\",INDEX(E_SourceStreams!$A:$N,CY27,T$7)))","v":""},{"$f":"IF($E27=\"\",\"\",IF(INDEX(E_SourceStreams!$A:$N,CZ27,U$7)=\"\",\"\",INDEX(E_SourceStreams!$A:$N,CZ27,U$7)))","v":""},{"$f":"IF($E27=\"\",\"\",IF(INDEX(E_SourceStreams!$A:$N,DA27,V$7)=\"\",\"\",INDEX(E_SourceStreams!$A:$N,DA27,V$7)))","v":""},{"$f":"IF($E27=\"\",\"\",IF(INDEX(E_SourceStreams!$A:$N,DB27,W$7)=\"\",\"\",INDEX(E_SourceStreams!$A:$N,DB27,W$7)))","v":""},{"$f":"IF($E27=\"\",\"\",IF(INDEX(E_SourceStreams!$A:$N,DC27,X$7)=\"\",\"\",INDEX(E_SourceStreams!$A:$N,DC27,X$7)))","v":""},{"$f":"IF($E27=\"\",\"\",IF(INDEX(E_SourceStreams!$A:$N,DD27,Y$7)=\"\",\"\",INDEX(E_SourceStreams!$A:$N,DD27,Y$7)))","v":""},{"$f":"IF($E27=\"\",\"\",IF(INDEX(E_SourceStreams!$A:$N,DE27,Z$7)=\"\",\"\",INDEX(E_SourceStreams!$A:$N,DE27,Z$7)))","v":""},{"$f":"IF($E27=\"\",\"\",IF(INDEX(E_SourceStreams!$A:$N,DF27,AA$7)=\"\",\"\",INDEX(E_SourceStreams!$A:$N,DF27,AA$7)))","v":""},{"$f":"IF($E27=\"\",\"\",IF(INDEX(E_SourceStreams!$A:$N,DG27,AB$7)=\"\",\"\",INDEX(E_SourceStreams!$A:$N,DG27,AB$7)))","v":""},{"$f":"IF($E27=\"\",\"\",IF(INDEX(E_SourceStreams!$A:$N,DH27,AC$7)=\"\",\"\",INDEX(E_SourceStreams!$A:$N,DH27,AC$7)))","v":""},{"$f":"IF($E27=\"\",\"\",IF(INDEX(E_SourceStreams!$A:$N,DI27,AD$7)=\"\",\"\",INDEX(E_SourceStreams!$A:$N,DI27,AD$7)))","v":""},{"$f":"IF($E27=\"\",\"\",IF(INDEX(E_SourceStreams!$A:$N,DJ27,AE$7)=\"\",\"\",INDEX(E_SourceStreams!$A:$N,DJ27,AE$7)))","v":""},{"$f":"IF($E27=\"\",\"\",IF(INDEX(E_SourceStreams!$A:$N,DK27,AF$7)=\"\",\"\",INDEX(E_SourceStreams!$A:$N,DK27,AF$7)))","v":""},{"$f":"IF($E27=\"\",\"\",IF(INDEX(E_SourceStreams!$A:$N,DL27,AG$7)=\"\",\"\",INDEX(E_SourceStreams!$A:$N,DL27,AG$7)))","v":""},{"$f":"IF($E27=\"\",\"\",IF(INDEX(E_SourceStreams!$A:$N,DM27,AH$7)=\"\",\"\",INDEX(E_SourceStreams!$A:$N,DM27,AH$7)))","v":""},{"$f":"IF($E27=\"\",\"\",IF(INDEX(E_SourceStreams!$A:$N,DN27,AI$7)=\"\",\"\",INDEX(E_SourceStreams!$A:$N,DN27,AI$7)))","v":""},{"$f":"IF($E27=\"\",\"\",IF(INDEX(E_SourceStreams!$A:$N,DO27,AJ$7)=\"\",\"\",INDEX(E_SourceStreams!$A:$N,DO27,AJ$7)))","v":""},{"$f":"IF($E27=\"\",\"\",IF(INDEX(E_SourceStreams!$A:$N,DP27,AK$7)=\"\",\"\",INDEX(E_SourceStreams!$A:$N,DP27,AK$7)))","v":""},{"$f":"IF($E27=\"\",\"\",IF(INDEX(E_SourceStreams!$A:$N,DQ27,AL$7)=\"\",\"\",INDEX(E_SourceStreams!$A:$N,DQ27,AL$7)))","v":""},{"$f":"IF($E27=\"\",\"\",IF(INDEX(E_SourceStreams!$A:$N,DR27,AM$7)=\"\",\"\",INDEX(E_SourceStreams!$A:$N,DR27,AM$7)))","v":""},{"$f":"IF($E27=\"\",\"\",IF(INDEX(E_SourceStreams!$A:$N,DS27,AN$7)=\"\",\"\",INDEX(E_SourceStreams!$A:$N,DS27,AN$7)))","v":""},{"$f":"IF($E27=\"\",\"\",IF(INDEX(E_SourceStreams!$A:$N,DT27,AO$7)=\"\",\"\",INDEX(E_SourceStreams!$A:$N,DT27,AO$7)))","v":""},{"$f":"IF($E27=\"\",\"\",IF(INDEX(E_SourceStreams!$A:$N,DU27,AP$7)=\"\",\"\",INDEX(E_SourceStreams!$A:$N,DU27,AP$7)))","v":""},{"$f":"IF($E27=\"\",\"\",IF(INDEX(E_SourceStreams!$A:$N,DV27,AQ$7)=\"\",\"\",INDEX(E_SourceStreams!$A:$N,DV27,AQ$7)))","v":""},{"$f":"IF($E27=\"\",\"\",IF(INDEX(E_SourceStreams!$A:$N,DW27,AR$7)=\"\",\"\",INDEX(E_SourceStreams!$A:$N,DW27,AR$7)))","v":""},{"$f":"IF($E27=\"\",\"\",IF(INDEX(E_SourceStreams!$A:$N,DX27,AS$7)=\"\",\"\",INDEX(E_SourceStreams!$A:$N,DX27,AS$7)))","v":""},{"$f":"IF($E27=\"\",\"\",IF(INDEX(E_SourceStreams!$A:$N,DY27,AT$7)=\"\",\"\",INDEX(E_SourceStreams!$A:$N,DY27,AT$7)))","v":""},{"$f":"IF($E27=\"\",\"\",IF(INDEX(E_SourceStreams!$A:$N,DZ27,AU$7)=\"\",\"\",INDEX(E_SourceStreams!$A:$N,DZ27,AU$7)))","v":""},{"$f":"IF($E27=\"\",\"\",IF(INDEX(E_SourceStreams!$A:$N,EA27,AV$7)=\"\",\"\",INDEX(E_SourceStreams!$A:$N,EA27,AV$7)))","v":""},{"$f":"IF($E27=\"\",\"\",IF(INDEX(E_SourceStreams!$A:$N,EB27,AW$7)=\"\",\"\",INDEX(E_SourceStreams!$A:$N,EB27,AW$7)))","v":""},{"$f":"IF($E27=\"\",\"\",IF(INDEX(E_SourceStreams!$A:$N,EC27,AX$7)=\"\",\"\",INDEX(E_SourceStreams!$A:$N,EC27,AX$7)))","v":""},{"$f":"IF($E27=\"\",\"\",IF(INDEX(E_SourceStreams!$A:$N,ED27,AY$7)=\"\",\"\",INDEX(E_SourceStreams!$A:$N,ED27,AY$7)))","v":""},{"$f":"IF($E27=\"\",\"\",IF(INDEX(E_SourceStreams!$A:$N,EE27,AZ$7)=\"\",\"\",INDEX(E_SourceStreams!$A:$N,EE27,AZ$7)))","v":""},{"$f":"IF($E27=\"\",\"\",IF(INDEX(E_SourceStreams!$A:$N,EF27,BA$7)=\"\",\"\",INDEX(E_SourceStreams!$A:$N,EF27,BA$7)))","v":""},{"$f":"IF($E27=\"\",\"\",IF(INDEX(E_SourceStreams!$A:$N,EG27,BB$7)=\"\",\"\",INDEX(E_SourceStreams!$A:$N,EG27,BB$7)))","v":""},{"$f":"IF($E27=\"\",\"\",IF(INDEX(E_SourceStreams!$A:$N,EH27,BC$7)=\"\",\"\",INDEX(E_SourceStreams!$A:$N,EH27,BC$7)))","v":""},{"$f":"IF($E27=\"\",\"\",IF(INDEX(E_SourceStreams!$A:$N,EI27,BD$7)=\"\",\"\",INDEX(E_SourceStreams!$A:$N,EI27,BD$7)))","v":""},{"$f":"IF($E27=\"\",\"\",IF(INDEX(E_SourceStreams!$A:$N,EJ27,BE$7)=\"\",\"\",INDEX(E_SourceStreams!$A:$N,EJ27,BE$7)))","v":""},{"$f":"IF($E27=\"\",\"\",IF(INDEX(E_SourceStreams!$A:$N,EK27,BF$7)=\"\",\"\",INDEX(E_SourceStreams!$A:$N,EK27,BF$7)))","v":""},{"$f":"IF($E27=\"\",\"\",IF(INDEX(E_SourceStreams!$A:$N,EL27,BG$7)=\"\",\"\",INDEX(E_SourceStreams!$A:$N,EL27,BG$7)))","v":""},{"$f":"IF($E27=\"\",\"\",IF(INDEX(E_SourceStreams!$A:$N,EM27,BH$7)=\"\",\"\",INDEX(E_SourceStreams!$A:$N,EM27,BH$7)))","v":""},{"$f":"IF($E27=\"\",\"\",IF(INDEX(E_SourceStreams!$A:$N,EN27,BI$7)=\"\",\"\",INDEX(E_SourceStreams!$A:$N,EN27,BI$7)))","v":""},{"$f":"IF($E27=\"\",\"\",IF(INDEX(E_SourceStreams!$A:$N,EO27,BJ$7)=\"\",\"\",INDEX(E_SourceStreams!$A:$N,EO27,BJ$7)))","v":""},{"$f":"IF($E27=\"\",\"\",IF(INDEX(E_SourceStreams!$A:$N,EP27,BK$7)=\"\",\"\",INDEX(E_SourceStreams!$A:$N,EP27,BK$7)))","v":""},{"$f":"IF($E27=\"\",\"\",IF(INDEX(E_SourceStreams!$A:$N,EQ27,BL$7)=\"\",\"\",INDEX(E_SourceStreams!$A:$N,EQ27,BL$7)))","v":""},{"$f":"IF($E27=\"\",\"\",IF(INDEX(E_SourceStreams!$A:$N,ER27,BM$7)=\"\",\"\",INDEX(E_SourceStreams!$A:$N,ER27,BM$7)))","v":""},{"$f":"IF($E27=\"\",\"\",IF(INDEX(E_SourceStreams!$A:$N,ES27,BN$7)=\"\",\"\",INDEX(E_SourceStreams!$A:$N,ES27,BN$7)))","v":""},{"$f":"IF($E27=\"\",\"\",IF(INDEX(E_SourceStreams!$A:$N,ET27,BO$7)=\"\",\"\",INDEX(E_SourceStreams!$A:$N,ET27,BO$7)))","v":""},{"$f":"IF($E27=\"\",\"\",IF(INDEX(E_SourceStreams!$A:$N,EU27,BP$7)=\"\",\"\",INDEX(E_SourceStreams!$A:$N,EU27,BP$7)))","v":""},{"$f":"IF($E27=\"\",\"\",IF(INDEX(E_SourceStreams!$A:$N,EV27,BQ$7)=\"\",\"\",INDEX(E_SourceStreams!$A:$N,EV27,BQ$7)))","v":""},{"$f":"IF($E27=\"\",\"\",IF(INDEX(E_SourceStreams!$A:$N,EW27,BR$7)=\"\",\"\",INDEX(E_SourceStreams!$A:$N,EW27,BR$7)))","v":""},{"$f":"IF($E27=\"\",\"\",IF(INDEX(E_SourceStreams!$A:$N,EX27,BS$7)=\"\",\"\",INDEX(E_SourceStreams!$A:$N,EX27,BS$7)))","v":""},{"$f":"IF($E27=\"\",\"\",IF(INDEX(E_SourceStreams!$A:$N,EY27,BT$7)=\"\",\"\",INDEX(E_SourceStreams!$A:$N,EY27,BT$7)))","v":""},null,null,null,null,null,null,null,null,null,null,null,null,null,null,null,"SourceCategory_",{"$f":"INDEX(C_InstallationDescription!$A$226:$A$332,ROWS($CI$11:CI27))=\"ausblenden\"","v":false},"SourceStreamName_",null,1189,1191,1193,1195,1197,1199,1201,1201,1201,1201,1201,1204,1208,1209,1210,1217,1227,1227,1227,1227,1227,1227,1227,1218,1228,1228,1228,1228,1228,1228,1228,1219,1229,1229,1229,1229,1229,1229,1229,1220,1230,1230,1230,1230,1230,1230,1230,1221,1231,1231,1231,1231,1231,1231,1231,1222,1232,1232,1232,1232,1232,1232,1232,1238]
[null,{"$f":"IF(COUNTIF($CK$10:CK28,TRUE)>0,\"\",INDEX(C_InstallationDescription!$E$226:$E$242,ROWS($A$11:A28)))","v":""},{"$f":"IF($E28=\"\",\"\",INDEX(C_InstallationDescription!F:F,MATCH($B28,C_InstallationDescription!$E:$E,0)))","v":""},{"$f":"IF($E28=\"\",\"\",INDEX(C_InstallationDescription!I:I,MATCH($B28,C_InstallationDescription!$E:$E,0)))","v":""},{"$f":"IF($B28=\"\",\"\",INDEX(C_InstallationDescription!F:F,MATCH($CJ28,C_InstallationDescription!$Q:$Q,0)))","v":""},{"$f":"IF($E28=\"\",\"\",INDEX(C_InstallationDescription!L:L,MATCH($CJ28,C_InstallationDescription!$Q:$Q,0)))","v":""},{"$f":"IF($E28=\"\",\"\",INDEX(C_InstallationDescription!M:M,MATCH($CJ28,C_InstallationDescription!$Q:$Q,0)))","v":""},{"$f":"IF($E28=\"\",\"\",INDEX(C_InstallationDescription!N:N,MATCH($CJ28,C_InstallationDescription!$Q:$Q,0)))","v":""},{"$f":"IF($E28=\"\",\"\",IF(INDEX(E_SourceStreams!$A:$N,CN28,I$7)=\"\",\"\",INDEX(E_SourceStreams!$A:$N,CN28,I$7)))","v":""},{"$f":"IF($E28=\"\",\"\",IF(INDEX(E_SourceStreams!$A:$N,CO28,J$7)=\"\",\"\",INDEX(E_SourceStreams!$A:$N,CO28,J$7)))","v":""},{"$f":"IF($E28=\"\",\"\",IF(INDEX(E_SourceStreams!$A:$N,CP28,K$7)=\"\",\"\",INDEX(E_SourceStreams!$A:$N,CP28,K$7)))","v":""},{"$f":"IF($E28=\"\",\"\",IF(INDEX(E_SourceStreams!$A:$N,CQ28,L$7)=\"\",\"\",INDEX(E_SourceStreams!$A:$N,CQ28,L$7)))","v":""},{"$f":"IF($E28=\"\",\"\",IF(INDEX(E_SourceStreams!$A:$N,CR28,M$7)=\"\",\"\",INDEX(E_SourceStreams!$A:$N,CR28,M$7)))","v":""},{"$f":"IF($E28=\"\",\"\",IF(INDEX(E_SourceStreams!$A:$N,CS28,N$7)=\"\",\"\",INDEX(E_SourceStreams!$A:$N,CS28,N$7)))","v":""},{"$f":"IF($E28=\"\",\"\",IF(INDEX(E_SourceStreams!$A:$N,CT28,O$7)=\"\",\"\",INDEX(E_SourceStreams!$A:$N,CT28,O$7)))","v":""},{"$f":"IF($E28=\"\",\"\",IF(INDEX(E_SourceStreams!$A:$N,CU28,P$7)=\"\",\"\",INDEX(E_SourceStreams!$A:$N,CU28,P$7)))","v":""},{"$f":"IF($E28=\"\",\"\",IF(INDEX(E_SourceStreams!$A:$N,CV28,Q$7)=\"\",\"\",INDEX(E_SourceStreams!$A:$N,CV28,Q$7)))","v":""},{"$f":"IF($E28=\"\",\"\",IF(INDEX(E_SourceStreams!$A:$N,CW28,R$7)=\"\",\"\",INDEX(E_SourceStreams!$A:$N,CW28,R$7)))","v":""},{"$f":"IF($E28=\"\",\"\",IF(INDEX(E_SourceStreams!$A:$N,CX28,S$7)=\"\",\"\",INDEX(E_SourceStreams!$A:$N,CX28,S$7)))","v":""},{"$f":"IF($E28=\"\",\"\",IF(INDEX(E_SourceStreams!$A:$N,CY28,T$7)=\"\",\"\",INDEX(E_SourceStreams!$A:$N,CY28,T$7)))","v":""},{"$f":"IF($E28=\"\",\"\",IF(INDEX(E_SourceStreams!$A:$N,CZ28,U$7)=\"\",\"\",INDEX(E_SourceStreams!$A:$N,CZ28,U$7)))","v":""},{"$f":"IF($E28=\"\",\"\",IF(INDEX(E_SourceStreams!$A:$N,DA28,V$7)=\"\",\"\",INDEX(E_SourceStreams!$A:$N,DA28,V$7)))","v":""},{"$f":"IF($E28=\"\",\"\",IF(INDEX(E_SourceStreams!$A:$N,DB28,W$7)=\"\",\"\",INDEX(E_SourceStreams!$A:$N,DB28,W$7)))","v":""},{"$f":"IF($E28=\"\",\"\",IF(INDEX(E_SourceStreams!$A:$N,DC28,X$7)=\"\",\"\",INDEX(E_SourceStreams!$A:$N,DC28,X$7)))","v":""},{"$f":"IF($E28=\"\",\"\",IF(INDEX(E_SourceStreams!$A:$N,DD28,Y$7)=\"\",\"\",INDEX(E_SourceStreams!$A:$N,DD28,Y$7)))","v":""},{"$f":"IF($E28=\"\",\"\",IF(INDEX(E_SourceStreams!$A:$N,DE28,Z$7)=\"\",\"\",INDEX(E_SourceStreams!$A:$N,DE28,Z$7)))","v":""},{"$f":"IF($E28=\"\",\"\",IF(INDEX(E_SourceStreams!$A:$N,DF28,AA$7)=\"\",\"\",INDEX(E_SourceStreams!$A:$N,DF28,AA$7)))","v":""},{"$f":"IF($E28=\"\",\"\",IF(INDEX(E_SourceStreams!$A:$N,DG28,AB$7)=\"\",\"\",INDEX(E_SourceStreams!$A:$N,DG28,AB$7)))","v":""},{"$f":"IF($E28=\"\",\"\",IF(INDEX(E_SourceStreams!$A:$N,DH28,AC$7)=\"\",\"\",INDEX(E_SourceStreams!$A:$N,DH28,AC$7)))","v":""},{"$f":"IF($E28=\"\",\"\",IF(INDEX(E_SourceStreams!$A:$N,DI28,AD$7)=\"\",\"\",INDEX(E_SourceStreams!$A:$N,DI28,AD$7)))","v":""},{"$f":"IF($E28=\"\",\"\",IF(INDEX(E_SourceStreams!$A:$N,DJ28,AE$7)=\"\",\"\",INDEX(E_SourceStreams!$A:$N,DJ28,AE$7)))","v":""},{"$f":"IF($E28=\"\",\"\",IF(INDEX(E_SourceStreams!$A:$N,DK28,AF$7)=\"\",\"\",INDEX(E_SourceStreams!$A:$N,DK28,AF$7)))","v":""},{"$f":"IF($E28=\"\",\"\",IF(INDEX(E_SourceStreams!$A:$N,DL28,AG$7)=\"\",\"\",INDEX(E_SourceStreams!$A:$N,DL28,AG$7)))","v":""},{"$f":"IF($E28=\"\",\"\",IF(INDEX(E_SourceStreams!$A:$N,DM28,AH$7)=\"\",\"\",INDEX(E_SourceStreams!$A:$N,DM28,AH$7)))","v":""},{"$f":"IF($E28=\"\",\"\",IF(INDEX(E_SourceStreams!$A:$N,DN28,AI$7)=\"\",\"\",INDEX(E_SourceStreams!$A:$N,DN28,AI$7)))","v":""},{"$f":"IF($E28=\"\",\"\",IF(INDEX(E_SourceStreams!$A:$N,DO28,AJ$7)=\"\",\"\",INDEX(E_SourceStreams!$A:$N,DO28,AJ$7)))","v":""},{"$f":"IF($E28=\"\",\"\",IF(INDEX(E_SourceStreams!$A:$N,DP28,AK$7)=\"\",\"\",INDEX(E_SourceStreams!$A:$N,DP28,AK$7)))","v":""},{"$f":"IF($E28=\"\",\"\",IF(INDEX(E_SourceStreams!$A:$N,DQ28,AL$7)=\"\",\"\",INDEX(E_SourceStreams!$A:$N,DQ28,AL$7)))","v":""},{"$f":"IF($E28=\"\",\"\",IF(INDEX(E_SourceStreams!$A:$N,DR28,AM$7)=\"\",\"\",INDEX(E_SourceStreams!$A:$N,DR28,AM$7)))","v":""},{"$f":"IF($E28=\"\",\"\",IF(INDEX(E_SourceStreams!$A:$N,DS28,AN$7)=\"\",\"\",INDEX(E_SourceStreams!$A:$N,DS28,AN$7)))","v":""},{"$f":"IF($E28=\"\",\"\",IF(INDEX(E_SourceStreams!$A:$N,DT28,AO$7)=\"\",\"\",INDEX(E_SourceStreams!$A:$N,DT28,AO$7)))","v":""},{"$f":"IF($E28=\"\",\"\",IF(INDEX(E_SourceStreams!$A:$N,DU28,AP$7)=\"\",\"\",INDEX(E_SourceStreams!$A:$N,DU28,AP$7)))","v":""},{"$f":"IF($E28=\"\",\"\",IF(INDEX(E_SourceStreams!$A:$N,DV28,AQ$7)=\"\",\"\",INDEX(E_SourceStreams!$A:$N,DV28,AQ$7)))","v":""},{"$f":"IF($E28=\"\",\"\",IF(INDEX(E_SourceStreams!$A:$N,DW28,AR$7)=\"\",\"\",INDEX(E_SourceStreams!$A:$N,DW28,AR$7)))","v":""},{"$f":"IF($E28=\"\",\"\",IF(INDEX(E_SourceStreams!$A:$N,DX28,AS$7)=\"\",\"\",INDEX(E_SourceStreams!$A:$N,DX28,AS$7)))","v":""},{"$f":"IF($E28=\"\",\"\",IF(INDEX(E_SourceStreams!$A:$N,DY28,AT$7)=\"\",\"\",INDEX(E_SourceStreams!$A:$N,DY28,AT$7)))","v":""},{"$f":"IF($E28=\"\",\"\",IF(INDEX(E_SourceStreams!$A:$N,DZ28,AU$7)=\"\",\"\",INDEX(E_SourceStreams!$A:$N,DZ28,AU$7)))","v":""},{"$f":"IF($E28=\"\",\"\",IF(INDEX(E_SourceStreams!$A:$N,EA28,AV$7)=\"\",\"\",INDEX(E_SourceStreams!$A:$N,EA28,AV$7)))","v":""},{"$f":"IF($E28=\"\",\"\",IF(INDEX(E_SourceStreams!$A:$N,EB28,AW$7)=\"\",\"\",INDEX(E_SourceStreams!$A:$N,EB28,AW$7)))","v":""},{"$f":"IF($E28=\"\",\"\",IF(INDEX(E_SourceStreams!$A:$N,EC28,AX$7)=\"\",\"\",INDEX(E_SourceStreams!$A:$N,EC28,AX$7)))","v":""},{"$f":"IF($E28=\"\",\"\",IF(INDEX(E_SourceStreams!$A:$N,ED28,AY$7)=\"\",\"\",INDEX(E_SourceStreams!$A:$N,ED28,AY$7)))","v":""},{"$f":"IF($E28=\"\",\"\",IF(INDEX(E_SourceStreams!$A:$N,EE28,AZ$7)=\"\",\"\",INDEX(E_SourceStreams!$A:$N,EE28,AZ$7)))","v":""},{"$f":"IF($E28=\"\",\"\",IF(INDEX(E_SourceStreams!$A:$N,EF28,BA$7)=\"\",\"\",INDEX(E_SourceStreams!$A:$N,EF28,BA$7)))","v":""},{"$f":"IF($E28=\"\",\"\",IF(INDEX(E_SourceStreams!$A:$N,EG28,BB$7)=\"\",\"\",INDEX(E_SourceStreams!$A:$N,EG28,BB$7)))","v":""},{"$f":"IF($E28=\"\",\"\",IF(INDEX(E_SourceStreams!$A:$N,EH28,BC$7)=\"\",\"\",INDEX(E_SourceStreams!$A:$N,EH28,BC$7)))","v":""},{"$f":"IF($E28=\"\",\"\",IF(INDEX(E_SourceStreams!$A:$N,EI28,BD$7)=\"\",\"\",INDEX(E_SourceStreams!$A:$N,EI28,BD$7)))","v":""},{"$f":"IF($E28=\"\",\"\",IF(INDEX(E_SourceStreams!$A:$N,EJ28,BE$7)=\"\",\"\",INDEX(E_SourceStreams!$A:$N,EJ28,BE$7)))","v":""},{"$f":"IF($E28=\"\",\"\",IF(INDEX(E_SourceStreams!$A:$N,EK28,BF$7)=\"\",\"\",INDEX(E_SourceStreams!$A:$N,EK28,BF$7)))","v":""},{"$f":"IF($E28=\"\",\"\",IF(INDEX(E_SourceStreams!$A:$N,EL28,BG$7)=\"\",\"\",INDEX(E_SourceStreams!$A:$N,EL28,BG$7)))","v":""},{"$f":"IF($E28=\"\",\"\",IF(INDEX(E_SourceStreams!$A:$N,EM28,BH$7)=\"\",\"\",INDEX(E_SourceStreams!$A:$N,EM28,BH$7)))","v":""},{"$f":"IF($E28=\"\",\"\",IF(INDEX(E_SourceStreams!$A:$N,EN28,BI$7)=\"\",\"\",INDEX(E_SourceStreams!$A:$N,EN28,BI$7)))","v":""},{"$f":"IF($E28=\"\",\"\",IF(INDEX(E_SourceStreams!$A:$N,EO28,BJ$7)=\"\",\"\",INDEX(E_SourceStreams!$A:$N,EO28,BJ$7)))","v":""},{"$f":"IF($E28=\"\",\"\",IF(INDEX(E_SourceStreams!$A:$N,EP28,BK$7)=\"\",\"\",INDEX(E_SourceStreams!$A:$N,EP28,BK$7)))","v":""},{"$f":"IF($E28=\"\",\"\",IF(INDEX(E_SourceStreams!$A:$N,EQ28,BL$7)=\"\",\"\",INDEX(E_SourceStreams!$A:$N,EQ28,BL$7)))","v":""},{"$f":"IF($E28=\"\",\"\",IF(INDEX(E_SourceStreams!$A:$N,ER28,BM$7)=\"\",\"\",INDEX(E_SourceStreams!$A:$N,ER28,BM$7)))","v":""},{"$f":"IF($E28=\"\",\"\",IF(INDEX(E_SourceStreams!$A:$N,ES28,BN$7)=\"\",\"\",INDEX(E_SourceStreams!$A:$N,ES28,BN$7)))","v":""},{"$f":"IF($E28=\"\",\"\",IF(INDEX(E_SourceStreams!$A:$N,ET28,BO$7)=\"\",\"\",INDEX(E_SourceStreams!$A:$N,ET28,BO$7)))","v":""},{"$f":"IF($E28=\"\",\"\",IF(INDEX(E_SourceStreams!$A:$N,EU28,BP$7)=\"\",\"\",INDEX(E_SourceStreams!$A:$N,EU28,BP$7)))","v":""},{"$f":"IF($E28=\"\",\"\",IF(INDEX(E_SourceStreams!$A:$N,EV28,BQ$7)=\"\",\"\",INDEX(E_SourceStreams!$A:$N,EV28,BQ$7)))","v":""},{"$f":"IF($E28=\"\",\"\",IF(INDEX(E_SourceStreams!$A:$N,EW28,BR$7)=\"\",\"\",INDEX(E_SourceStreams!$A:$N,EW28,BR$7)))","v":""},{"$f":"IF($E28=\"\",\"\",IF(INDEX(E_SourceStreams!$A:$N,EX28,BS$7)=\"\",\"\",INDEX(E_SourceStreams!$A:$N,EX28,BS$7)))","v":""},{"$f":"IF($E28=\"\",\"\",IF(INDEX(E_SourceStreams!$A:$N,EY28,BT$7)=\"\",\"\",INDEX(E_SourceStreams!$A:$N,EY28,BT$7)))","v":""},null,null,null,null,null,null,null,null,null,null,null,null,null,null,null,"SourceCategory_",{"$f":"INDEX(C_InstallationDescription!$A$226:$A$332,ROWS($CI$11:CI28))=\"ausblenden\"","v":false},"SourceStreamName_",null,1255,1257,1259,1261,1263,1265,1267,1267,1267,1267,1267,1270,1274,1275,1276,1283,1293,1293,1293,1293,1293,1293,1293,1284,1294,1294,1294,1294,1294,1294,1294,1285,1295,1295,1295,1295,1295,1295,1295,1286,1296,1296,1296,1296,1296,1296,1296,1287,1297,1297,1297,1297,1297,1297,1297,1288,1298,1298,1298,1298,1298,1298,1298,1304]
[null,{"$f":"IF(COUNTIF($CK$10:CK29,TRUE)>0,\"\",INDEX(C_InstallationDescription!$E$226:$E$242,ROWS($A$11:A29)))","v":""},{"$f":"IF($E29=\"\",\"\",INDEX(C_InstallationDescription!F:F,MATCH($B29,C_InstallationDescription!$E:$E,0)))","v":""},{"$f":"IF($E29=\"\",\"\",INDEX(C_InstallationDescription!I:I,MATCH($B29,C_InstallationDescription!$E:$E,0)))","v":""},{"$f":"IF($B29=\"\",\"\",INDEX(C_InstallationDescription!F:F,MATCH($CJ29,C_InstallationDescription!$Q:$Q,0)))","v":""},{"$f":"IF($E29=\"\",\"\",INDEX(C_InstallationDescription!L:L,MATCH($CJ29,C_InstallationDescription!$Q:$Q,0)))","v":""},{"$f":"IF($E29=\"\",\"\",INDEX(C_InstallationDescription!M:M,MATCH($CJ29,C_InstallationDescription!$Q:$Q,0)))","v":""},{"$f":"IF($E29=\"\",\"\",INDEX(C_InstallationDescription!N:N,MATCH($CJ29,C_InstallationDescription!$Q:$Q,0)))","v":""},{"$f":"IF($E29=\"\",\"\",IF(INDEX(E_SourceStreams!$A:$N,CN29,I$7)=\"\",\"\",INDEX(E_SourceStreams!$A:$N,CN29,I$7)))","v":""},{"$f":"IF($E29=\"\",\"\",IF(INDEX(E_SourceStreams!$A:$N,CO29,J$7)=\"\",\"\",INDEX(E_SourceStreams!$A:$N,CO29,J$7)))","v":""},{"$f":"IF($E29=\"\",\"\",IF(INDEX(E_SourceStreams!$A:$N,CP29,K$7)=\"\",\"\",INDEX(E_SourceStreams!$A:$N,CP29,K$7)))","v":""},{"$f":"IF($E29=\"\",\"\",IF(INDEX(E_SourceStreams!$A:$N,CQ29,L$7)=\"\",\"\",INDEX(E_SourceStreams!$A:$N,CQ29,L$7)))","v":""},{"$f":"IF($E29=\"\",\"\",IF(INDEX(E_SourceStreams!$A:$N,CR29,M$7)=\"\",\"\",INDEX(E_SourceStreams!$A:$N,CR29,M$7)))","v":""},{"$f":"IF($E29=\"\",\"\",IF(INDEX(E_SourceStreams!$A:$N,CS29,N$7)=\"\",\"\",INDEX(E_SourceStreams!$A:$N,CS29,N$7)))","v":""},{"$f":"IF($E29=\"\",\"\",IF(INDEX(E_SourceStreams!$A:$N,CT29,O$7)=\"\",\"\",INDEX(E_SourceStreams!$A:$N,CT29,O$7)))","v":""},{"$f":"IF($E29=\"\",\"\",IF(INDEX(E_SourceStreams!$A:$N,CU29,P$7)=\"\",\"\",INDEX(E_SourceStreams!$A:$N,CU29,P$7)))","v":""},{"$f":"IF($E29=\"\",\"\",IF(INDEX(E_SourceStreams!$A:$N,CV29,Q$7)=\"\",\"\",INDEX(E_SourceStreams!$A:$N,CV29,Q$7)))","v":""},{"$f":"IF($E29=\"\",\"\",IF(INDEX(E_SourceStreams!$A:$N,CW29,R$7)=\"\",\"\",INDEX(E_SourceStreams!$A:$N,CW29,R$7)))","v":""},{"$f":"IF($E29=\"\",\"\",IF(INDEX(E_SourceStreams!$A:$N,CX29,S$7)=\"\",\"\",INDEX(E_SourceStreams!$A:$N,CX29,S$7)))","v":""},{"$f":"IF($E29=\"\",\"\",IF(INDEX(E_SourceStreams!$A:$N,CY29,T$7)=\"\",\"\",INDEX(E_SourceStreams!$A:$N,CY29,T$7)))","v":""},{"$f":"IF($E29=\"\",\"\",IF(INDEX(E_SourceStreams!$A:$N,CZ29,U$7)=\"\",\"\",INDEX(E_SourceStreams!$A:$N,CZ29,U$7)))","v":""},{"$f":"IF($E29=\"\",\"\",IF(INDEX(E_SourceStreams!$A:$N,DA29,V$7)=\"\",\"\",INDEX(E_SourceStreams!$A:$N,DA29,V$7)))","v":""},{"$f":"IF($E29=\"\",\"\",IF(INDEX(E_SourceStreams!$A:$N,DB29,W$7)=\"\",\"\",INDEX(E_SourceStreams!$A:$N,DB29,W$7)))","v":""},{"$f":"IF($E29=\"\",\"\",IF(INDEX(E_SourceStreams!$A:$N,DC29,X$7)=\"\",\"\",INDEX(E_SourceStreams!$A:$N,DC29,X$7)))","v":""},{"$f":"IF($E29=\"\",\"\",IF(INDEX(E_SourceStreams!$A:$N,DD29,Y$7)=\"\",\"\",INDEX(E_SourceStreams!$A:$N,DD29,Y$7)))","v":""},{"$f":"IF($E29=\"\",\"\",IF(INDEX(E_SourceStreams!$A:$N,DE29,Z$7)=\"\",\"\",INDEX(E_SourceStreams!$A:$N,DE29,Z$7)))","v":""},{"$f":"IF($E29=\"\",\"\",IF(INDEX(E_SourceStreams!$A:$N,DF29,AA$7)=\"\",\"\",INDEX(E_SourceStreams!$A:$N,DF29,AA$7)))","v":""},{"$f":"IF($E29=\"\",\"\",IF(INDEX(E_SourceStreams!$A:$N,DG29,AB$7)=\"\",\"\",INDEX(E_SourceStreams!$A:$N,DG29,AB$7)))","v":""},{"$f":"IF($E29=\"\",\"\",IF(INDEX(E_SourceStreams!$A:$N,DH29,AC$7)=\"\",\"\",INDEX(E_SourceStreams!$A:$N,DH29,AC$7)))","v":""},{"$f":"IF($E29=\"\",\"\",IF(INDEX(E_SourceStreams!$A:$N,DI29,AD$7)=\"\",\"\",INDEX(E_SourceStreams!$A:$N,DI29,AD$7)))","v":""},{"$f":"IF($E29=\"\",\"\",IF(INDEX(E_SourceStreams!$A:$N,DJ29,AE$7)=\"\",\"\",INDEX(E_SourceStreams!$A:$N,DJ29,AE$7)))","v":""},{"$f":"IF($E29=\"\",\"\",IF(INDEX(E_SourceStreams!$A:$N,DK29,AF$7)=\"\",\"\",INDEX(E_SourceStreams!$A:$N,DK29,AF$7)))","v":""},{"$f":"IF($E29=\"\",\"\",IF(INDEX(E_SourceStreams!$A:$N,DL29,AG$7)=\"\",\"\",INDEX(E_SourceStreams!$A:$N,DL29,AG$7)))","v":""},{"$f":"IF($E29=\"\",\"\",IF(INDEX(E_SourceStreams!$A:$N,DM29,AH$7)=\"\",\"\",INDEX(E_SourceStreams!$A:$N,DM29,AH$7)))","v":""},{"$f":"IF($E29=\"\",\"\",IF(INDEX(E_SourceStreams!$A:$N,DN29,AI$7)=\"\",\"\",INDEX(E_SourceStreams!$A:$N,DN29,AI$7)))","v":""},{"$f":"IF($E29=\"\",\"\",IF(INDEX(E_SourceStreams!$A:$N,DO29,AJ$7)=\"\",\"\",INDEX(E_SourceStreams!$A:$N,DO29,AJ$7)))","v":""},{"$f":"IF($E29=\"\",\"\",IF(INDEX(E_SourceStreams!$A:$N,DP29,AK$7)=\"\",\"\",INDEX(E_SourceStreams!$A:$N,DP29,AK$7)))","v":""},{"$f":"IF($E29=\"\",\"\",IF(INDEX(E_SourceStreams!$A:$N,DQ29,AL$7)=\"\",\"\",INDEX(E_SourceStreams!$A:$N,DQ29,AL$7)))","v":""},{"$f":"IF($E29=\"\",\"\",IF(INDEX(E_SourceStreams!$A:$N,DR29,AM$7)=\"\",\"\",INDEX(E_SourceStreams!$A:$N,DR29,AM$7)))","v":""},{"$f":"IF($E29=\"\",\"\",IF(INDEX(E_SourceStreams!$A:$N,DS29,AN$7)=\"\",\"\",INDEX(E_SourceStreams!$A:$N,DS29,AN$7)))","v":""},{"$f":"IF($E29=\"\",\"\",IF(INDEX(E_SourceStreams!$A:$N,DT29,AO$7)=\"\",\"\",INDEX(E_SourceStreams!$A:$N,DT29,AO$7)))","v":""},{"$f":"IF($E29=\"\",\"\",IF(INDEX(E_SourceStreams!$A:$N,DU29,AP$7)=\"\",\"\",INDEX(E_SourceStreams!$A:$N,DU29,AP$7)))","v":""},{"$f":"IF($E29=\"\",\"\",IF(INDEX(E_SourceStreams!$A:$N,DV29,AQ$7)=\"\",\"\",INDEX(E_SourceStreams!$A:$N,DV29,AQ$7)))","v":""},{"$f":"IF($E29=\"\",\"\",IF(INDEX(E_SourceStreams!$A:$N,DW29,AR$7)=\"\",\"\",INDEX(E_SourceStreams!$A:$N,DW29,AR$7)))","v":""},{"$f":"IF($E29=\"\",\"\",IF(INDEX(E_SourceStreams!$A:$N,DX29,AS$7)=\"\",\"\",INDEX(E_SourceStreams!$A:$N,DX29,AS$7)))","v":""},{"$f":"IF($E29=\"\",\"\",IF(INDEX(E_SourceStreams!$A:$N,DY29,AT$7)=\"\",\"\",INDEX(E_SourceStreams!$A:$N,DY29,AT$7)))","v":""},{"$f":"IF($E29=\"\",\"\",IF(INDEX(E_SourceStreams!$A:$N,DZ29,AU$7)=\"\",\"\",INDEX(E_SourceStreams!$A:$N,DZ29,AU$7)))","v":""},{"$f":"IF($E29=\"\",\"\",IF(INDEX(E_SourceStreams!$A:$N,EA29,AV$7)=\"\",\"\",INDEX(E_SourceStreams!$A:$N,EA29,AV$7)))","v":""},{"$f":"IF($E29=\"\",\"\",IF(INDEX(E_SourceStreams!$A:$N,EB29,AW$7)=\"\",\"\",INDEX(E_SourceStreams!$A:$N,EB29,AW$7)))","v":""},{"$f":"IF($E29=\"\",\"\",IF(INDEX(E_SourceStreams!$A:$N,EC29,AX$7)=\"\",\"\",INDEX(E_SourceStreams!$A:$N,EC29,AX$7)))","v":""},{"$f":"IF($E29=\"\",\"\",IF(INDEX(E_SourceStreams!$A:$N,ED29,AY$7)=\"\",\"\",INDEX(E_SourceStreams!$A:$N,ED29,AY$7)))","v":""},{"$f":"IF($E29=\"\",\"\",IF(INDEX(E_SourceStreams!$A:$N,EE29,AZ$7)=\"\",\"\",INDEX(E_SourceStreams!$A:$N,EE29,AZ$7)))","v":""},{"$f":"IF($E29=\"\",\"\",IF(INDEX(E_SourceStreams!$A:$N,EF29,BA$7)=\"\",\"\",INDEX(E_SourceStreams!$A:$N,EF29,BA$7)))","v":""},{"$f":"IF($E29=\"\",\"\",IF(INDEX(E_SourceStreams!$A:$N,EG29,BB$7)=\"\",\"\",INDEX(E_SourceStreams!$A:$N,EG29,BB$7)))","v":""},{"$f":"IF($E29=\"\",\"\",IF(INDEX(E_SourceStreams!$A:$N,EH29,BC$7)=\"\",\"\",INDEX(E_SourceStreams!$A:$N,EH29,BC$7)))","v":""},{"$f":"IF($E29=\"\",\"\",IF(INDEX(E_SourceStreams!$A:$N,EI29,BD$7)=\"\",\"\",INDEX(E_SourceStreams!$A:$N,EI29,BD$7)))","v":""},{"$f":"IF($E29=\"\",\"\",IF(INDEX(E_SourceStreams!$A:$N,EJ29,BE$7)=\"\",\"\",INDEX(E_SourceStreams!$A:$N,EJ29,BE$7)))","v":""},{"$f":"IF($E29=\"\",\"\",IF(INDEX(E_SourceStreams!$A:$N,EK29,BF$7)=\"\",\"\",INDEX(E_SourceStreams!$A:$N,EK29,BF$7)))","v":""},{"$f":"IF($E29=\"\",\"\",IF(INDEX(E_SourceStreams!$A:$N,EL29,BG$7)=\"\",\"\",INDEX(E_SourceStreams!$A:$N,EL29,BG$7)))","v":""},{"$f":"IF($E29=\"\",\"\",IF(INDEX(E_SourceStreams!$A:$N,EM29,BH$7)=\"\",\"\",INDEX(E_SourceStreams!$A:$N,EM29,BH$7)))","v":""},{"$f":"IF($E29=\"\",\"\",IF(INDEX(E_SourceStreams!$A:$N,EN29,BI$7)=\"\",\"\",INDEX(E_SourceStreams!$A:$N,EN29,BI$7)))","v":""},{"$f":"IF($E29=\"\",\"\",IF(INDEX(E_SourceStreams!$A:$N,EO29,BJ$7)=\"\",\"\",INDEX(E_SourceStreams!$A:$N,EO29,BJ$7)))","v":""},{"$f":"IF($E29=\"\",\"\",IF(INDEX(E_SourceStreams!$A:$N,EP29,BK$7)=\"\",\"\",INDEX(E_SourceStreams!$A:$N,EP29,BK$7)))","v":""},{"$f":"IF($E29=\"\",\"\",IF(INDEX(E_SourceStreams!$A:$N,EQ29,BL$7)=\"\",\"\",INDEX(E_SourceStreams!$A:$N,EQ29,BL$7)))","v":""},{"$f":"IF($E29=\"\",\"\",IF(INDEX(E_SourceStreams!$A:$N,ER29,BM$7)=\"\",\"\",INDEX(E_SourceStreams!$A:$N,ER29,BM$7)))","v":""},{"$f":"IF($E29=\"\",\"\",IF(INDEX(E_SourceStreams!$A:$N,ES29,BN$7)=\"\",\"\",INDEX(E_SourceStreams!$A:$N,ES29,BN$7)))","v":""},{"$f":"IF($E29=\"\",\"\",IF(INDEX(E_SourceStreams!$A:$N,ET29,BO$7)=\"\",\"\",INDEX(E_SourceStreams!$A:$N,ET29,BO$7)))","v":""},{"$f":"IF($E29=\"\",\"\",IF(INDEX(E_SourceStreams!$A:$N,EU29,BP$7)=\"\",\"\",INDEX(E_SourceStreams!$A:$N,EU29,BP$7)))","v":""},{"$f":"IF($E29=\"\",\"\",IF(INDEX(E_SourceStreams!$A:$N,EV29,BQ$7)=\"\",\"\",INDEX(E_SourceStreams!$A:$N,EV29,BQ$7)))","v":""},{"$f":"IF($E29=\"\",\"\",IF(INDEX(E_SourceStreams!$A:$N,EW29,BR$7)=\"\",\"\",INDEX(E_SourceStreams!$A:$N,EW29,BR$7)))","v":""},{"$f":"IF($E29=\"\",\"\",IF(INDEX(E_SourceStreams!$A:$N,EX29,BS$7)=\"\",\"\",INDEX(E_SourceStreams!$A:$N,EX29,BS$7)))","v":""},{"$f":"IF($E29=\"\",\"\",IF(INDEX(E_SourceStreams!$A:$N,EY29,BT$7)=\"\",\"\",INDEX(E_SourceStreams!$A:$N,EY29,BT$7)))","v":""},null,null,null,null,null,null,null,null,null,null,null,null,null,null,null,"SourceCategory_",{"$f":"INDEX(C_InstallationDescription!$A$226:$A$332,ROWS($CI$11:CI29))=\"ausblenden\"","v":false},"SourceStreamName_",null,1321,1323,1325,1327,1329,1331,1333,1333,1333,1333,1333,1336,1340,1341,1342,1349,1359,1359,1359,1359,1359,1359,1359,1350,1360,1360,1360,1360,1360,1360,1360,1351,1361,1361,1361,1361,1361,1361,1361,1352,1362,1362,1362,1362,1362,1362,1362,1353,1363,1363,1363,1363,1363,1363,1363,1354,1364,1364,1364,1364,1364,1364,1364,1370]
[null,{"$f":"IF(COUNTIF($CK$10:CK30,TRUE)>0,\"\",INDEX(C_InstallationDescription!$E$226:$E$242,ROWS($A$11:A30)))","v":""},{"$f":"IF($E30=\"\",\"\",INDEX(C_InstallationDescription!F:F,MATCH($B30,C_InstallationDescription!$E:$E,0)))","v":""},{"$f":"IF($E30=\"\",\"\",INDEX(C_InstallationDescription!I:I,MATCH($B30,C_InstallationDescription!$E:$E,0)))","v":""},{"$f":"IF($B30=\"\",\"\",INDEX(C_InstallationDescription!F:F,MATCH($CJ30,C_InstallationDescription!$Q:$Q,0)))","v":""},{"$f":"IF($E30=\"\",\"\",INDEX(C_InstallationDescription!L:L,MATCH($CJ30,C_InstallationDescription!$Q:$Q,0)))","v":""},{"$f":"IF($E30=\"\",\"\",INDEX(C_InstallationDescription!M:M,MATCH($CJ30,C_InstallationDescription!$Q:$Q,0)))","v":""},{"$f":"IF($E30=\"\",\"\",INDEX(C_InstallationDescription!N:N,MATCH($CJ30,C_InstallationDescription!$Q:$Q,0)))","v":""},{"$f":"IF($E30=\"\",\"\",IF(INDEX(E_SourceStreams!$A:$N,CN30,I$7)=\"\",\"\",INDEX(E_SourceStreams!$A:$N,CN30,I$7)))","v":""},{"$f":"IF($E30=\"\",\"\",IF(INDEX(E_SourceStreams!$A:$N,CO30,J$7)=\"\",\"\",INDEX(E_SourceStreams!$A:$N,CO30,J$7)))","v":""},{"$f":"IF($E30=\"\",\"\",IF(INDEX(E_SourceStreams!$A:$N,CP30,K$7)=\"\",\"\",INDEX(E_SourceStreams!$A:$N,CP30,K$7)))","v":""},{"$f":"IF($E30=\"\",\"\",IF(INDEX(E_SourceStreams!$A:$N,CQ30,L$7)=\"\",\"\",INDEX(E_SourceStreams!$A:$N,CQ30,L$7)))","v":""},{"$f":"IF($E30=\"\",\"\",IF(INDEX(E_SourceStreams!$A:$N,CR30,M$7)=\"\",\"\",INDEX(E_SourceStreams!$A:$N,CR30,M$7)))","v":""},{"$f":"IF($E30=\"\",\"\",IF(INDEX(E_SourceStreams!$A:$N,CS30,N$7)=\"\",\"\",INDEX(E_SourceStreams!$A:$N,CS30,N$7)))","v":""},{"$f":"IF($E30=\"\",\"\",IF(INDEX(E_SourceStreams!$A:$N,CT30,O$7)=\"\",\"\",INDEX(E_SourceStreams!$A:$N,CT30,O$7)))","v":""},{"$f":"IF($E30=\"\",\"\",IF(INDEX(E_SourceStreams!$A:$N,CU30,P$7)=\"\",\"\",INDEX(E_SourceStreams!$A:$N,CU30,P$7)))","v":""},{"$f":"IF($E30=\"\",\"\",IF(INDEX(E_SourceStreams!$A:$N,CV30,Q$7)=\"\",\"\",INDEX(E_SourceStreams!$A:$N,CV30,Q$7)))","v":""},{"$f":"IF($E30=\"\",\"\",IF(INDEX(E_SourceStreams!$A:$N,CW30,R$7)=\"\",\"\",INDEX(E_SourceStreams!$A:$N,CW30,R$7)))","v":""},{"$f":"IF($E30=\"\",\"\",IF(INDEX(E_SourceStreams!$A:$N,CX30,S$7)=\"\",\"\",INDEX(E_SourceStreams!$A:$N,CX30,S$7)))","v":""},{"$f":"IF($E30=\"\",\"\",IF(INDEX(E_SourceStreams!$A:$N,CY30,T$7)=\"\",\"\",INDEX(E_SourceStreams!$A:$N,CY30,T$7)))","v":""},{"$f":"IF($E30=\"\",\"\",IF(INDEX(E_SourceStreams!$A:$N,CZ30,U$7)=\"\",\"\",INDEX(E_SourceStreams!$A:$N,CZ30,U$7)))","v":""},{"$f":"IF($E30=\"\",\"\",IF(INDEX(E_SourceStreams!$A:$N,DA30,V$7)=\"\",\"\",INDEX(E_SourceStreams!$A:$N,DA30,V$7)))","v":""},{"$f":"IF($E30=\"\",\"\",IF(INDEX(E_SourceStreams!$A:$N,DB30,W$7)=\"\",\"\",INDEX(E_SourceStreams!$A:$N,DB30,W$7)))","v":""},{"$f":"IF($E30=\"\",\"\",IF(INDEX(E_SourceStreams!$A:$N,DC30,X$7)=\"\",\"\",INDEX(E_SourceStreams!$A:$N,DC30,X$7)))","v":""},{"$f":"IF($E30=\"\",\"\",IF(INDEX(E_SourceStreams!$A:$N,DD30,Y$7)=\"\",\"\",INDEX(E_SourceStreams!$A:$N,DD30,Y$7)))","v":""},{"$f":"IF($E30=\"\",\"\",IF(INDEX(E_SourceStreams!$A:$N,DE30,Z$7)=\"\",\"\",INDEX(E_SourceStreams!$A:$N,DE30,Z$7)))","v":""},{"$f":"IF($E30=\"\",\"\",IF(INDEX(E_SourceStreams!$A:$N,DF30,AA$7)=\"\",\"\",INDEX(E_SourceStreams!$A:$N,DF30,AA$7)))","v":""},{"$f":"IF($E30=\"\",\"\",IF(INDEX(E_SourceStreams!$A:$N,DG30,AB$7)=\"\",\"\",INDEX(E_SourceStreams!$A:$N,DG30,AB$7)))","v":""},{"$f":"IF($E30=\"\",\"\",IF(INDEX(E_SourceStreams!$A:$N,DH30,AC$7)=\"\",\"\",INDEX(E_SourceStreams!$A:$N,DH30,AC$7)))","v":""},{"$f":"IF($E30=\"\",\"\",IF(INDEX(E_SourceStreams!$A:$N,DI30,AD$7)=\"\",\"\",INDEX(E_SourceStreams!$A:$N,DI30,AD$7)))","v":""},{"$f":"IF($E30=\"\",\"\",IF(INDEX(E_SourceStreams!$A:$N,DJ30,AE$7)=\"\",\"\",INDEX(E_SourceStreams!$A:$N,DJ30,AE$7)))","v":""},{"$f":"IF($E30=\"\",\"\",IF(INDEX(E_SourceStreams!$A:$N,DK30,AF$7)=\"\",\"\",INDEX(E_SourceStreams!$A:$N,DK30,AF$7)))","v":""},{"$f":"IF($E30=\"\",\"\",IF(INDEX(E_SourceStreams!$A:$N,DL30,AG$7)=\"\",\"\",INDEX(E_SourceStreams!$A:$N,DL30,AG$7)))","v":""},{"$f":"IF($E30=\"\",\"\",IF(INDEX(E_SourceStreams!$A:$N,DM30,AH$7)=\"\",\"\",INDEX(E_SourceStreams!$A:$N,DM30,AH$7)))","v":""},{"$f":"IF($E30=\"\",\"\",IF(INDEX(E_SourceStreams!$A:$N,DN30,AI$7)=\"\",\"\",INDEX(E_SourceStreams!$A:$N,DN30,AI$7)))","v":""},{"$f":"IF($E30=\"\",\"\",IF(INDEX(E_SourceStreams!$A:$N,DO30,AJ$7)=\"\",\"\",INDEX(E_SourceStreams!$A:$N,DO30,AJ$7)))","v":""},{"$f":"IF($E30=\"\",\"\",IF(INDEX(E_SourceStreams!$A:$N,DP30,AK$7)=\"\",\"\",INDEX(E_SourceStreams!$A:$N,DP30,AK$7)))","v":""},{"$f":"IF($E30=\"\",\"\",IF(INDEX(E_SourceStreams!$A:$N,DQ30,AL$7)=\"\",\"\",INDEX(E_SourceStreams!$A:$N,DQ30,AL$7)))","v":""},{"$f":"IF($E30=\"\",\"\",IF(INDEX(E_SourceStreams!$A:$N,DR30,AM$7)=\"\",\"\",INDEX(E_SourceStreams!$A:$N,DR30,AM$7)))","v":""},{"$f":"IF($E30=\"\",\"\",IF(INDEX(E_SourceStreams!$A:$N,DS30,AN$7)=\"\",\"\",INDEX(E_SourceStreams!$A:$N,DS30,AN$7)))","v":""},{"$f":"IF($E30=\"\",\"\",IF(INDEX(E_SourceStreams!$A:$N,DT30,AO$7)=\"\",\"\",INDEX(E_SourceStreams!$A:$N,DT30,AO$7)))","v":""},{"$f":"IF($E30=\"\",\"\",IF(INDEX(E_SourceStreams!$A:$N,DU30,AP$7)=\"\",\"\",INDEX(E_SourceStreams!$A:$N,DU30,AP$7)))","v":""},{"$f":"IF($E30=\"\",\"\",IF(INDEX(E_SourceStreams!$A:$N,DV30,AQ$7)=\"\",\"\",INDEX(E_SourceStreams!$A:$N,DV30,AQ$7)))","v":""},{"$f":"IF($E30=\"\",\"\",IF(INDEX(E_SourceStreams!$A:$N,DW30,AR$7)=\"\",\"\",INDEX(E_SourceStreams!$A:$N,DW30,AR$7)))","v":""},{"$f":"IF($E30=\"\",\"\",IF(INDEX(E_SourceStreams!$A:$N,DX30,AS$7)=\"\",\"\",INDEX(E_SourceStreams!$A:$N,DX30,AS$7)))","v":""},{"$f":"IF($E30=\"\",\"\",IF(INDEX(E_SourceStreams!$A:$N,DY30,AT$7)=\"\",\"\",INDEX(E_SourceStreams!$A:$N,DY30,AT$7)))","v":""},{"$f":"IF($E30=\"\",\"\",IF(INDEX(E_SourceStreams!$A:$N,DZ30,AU$7)=\"\",\"\",INDEX(E_SourceStreams!$A:$N,DZ30,AU$7)))","v":""},{"$f":"IF($E30=\"\",\"\",IF(INDEX(E_SourceStreams!$A:$N,EA30,AV$7)=\"\",\"\",INDEX(E_SourceStreams!$A:$N,EA30,AV$7)))","v":""},{"$f":"IF($E30=\"\",\"\",IF(INDEX(E_SourceStreams!$A:$N,EB30,AW$7)=\"\",\"\",INDEX(E_SourceStreams!$A:$N,EB30,AW$7)))","v":""},{"$f":"IF($E30=\"\",\"\",IF(INDEX(E_SourceStreams!$A:$N,EC30,AX$7)=\"\",\"\",INDEX(E_SourceStreams!$A:$N,EC30,AX$7)))","v":""},{"$f":"IF($E30=\"\",\"\",IF(INDEX(E_SourceStreams!$A:$N,ED30,AY$7)=\"\",\"\",INDEX(E_SourceStreams!$A:$N,ED30,AY$7)))","v":""},{"$f":"IF($E30=\"\",\"\",IF(INDEX(E_SourceStreams!$A:$N,EE30,AZ$7)=\"\",\"\",INDEX(E_SourceStreams!$A:$N,EE30,AZ$7)))","v":""},{"$f":"IF($E30=\"\",\"\",IF(INDEX(E_SourceStreams!$A:$N,EF30,BA$7)=\"\",\"\",INDEX(E_SourceStreams!$A:$N,EF30,BA$7)))","v":""},{"$f":"IF($E30=\"\",\"\",IF(INDEX(E_SourceStreams!$A:$N,EG30,BB$7)=\"\",\"\",INDEX(E_SourceStreams!$A:$N,EG30,BB$7)))","v":""},{"$f":"IF($E30=\"\",\"\",IF(INDEX(E_SourceStreams!$A:$N,EH30,BC$7)=\"\",\"\",INDEX(E_SourceStreams!$A:$N,EH30,BC$7)))","v":""},{"$f":"IF($E30=\"\",\"\",IF(INDEX(E_SourceStreams!$A:$N,EI30,BD$7)=\"\",\"\",INDEX(E_SourceStreams!$A:$N,EI30,BD$7)))","v":""},{"$f":"IF($E30=\"\",\"\",IF(INDEX(E_SourceStreams!$A:$N,EJ30,BE$7)=\"\",\"\",INDEX(E_SourceStreams!$A:$N,EJ30,BE$7)))","v":""},{"$f":"IF($E30=\"\",\"\",IF(INDEX(E_SourceStreams!$A:$N,EK30,BF$7)=\"\",\"\",INDEX(E_SourceStreams!$A:$N,EK30,BF$7)))","v":""},{"$f":"IF($E30=\"\",\"\",IF(INDEX(E_SourceStreams!$A:$N,EL30,BG$7)=\"\",\"\",INDEX(E_SourceStreams!$A:$N,EL30,BG$7)))","v":""},{"$f":"IF($E30=\"\",\"\",IF(INDEX(E_SourceStreams!$A:$N,EM30,BH$7)=\"\",\"\",INDEX(E_SourceStreams!$A:$N,EM30,BH$7)))","v":""},{"$f":"IF($E30=\"\",\"\",IF(INDEX(E_SourceStreams!$A:$N,EN30,BI$7)=\"\",\"\",INDEX(E_SourceStreams!$A:$N,EN30,BI$7)))","v":""},{"$f":"IF($E30=\"\",\"\",IF(INDEX(E_SourceStreams!$A:$N,EO30,BJ$7)=\"\",\"\",INDEX(E_SourceStreams!$A:$N,EO30,BJ$7)))","v":""},{"$f":"IF($E30=\"\",\"\",IF(INDEX(E_SourceStreams!$A:$N,EP30,BK$7)=\"\",\"\",INDEX(E_SourceStreams!$A:$N,EP30,BK$7)))","v":""},{"$f":"IF($E30=\"\",\"\",IF(INDEX(E_SourceStreams!$A:$N,EQ30,BL$7)=\"\",\"\",INDEX(E_SourceStreams!$A:$N,EQ30,BL$7)))","v":""},{"$f":"IF($E30=\"\",\"\",IF(INDEX(E_SourceStreams!$A:$N,ER30,BM$7)=\"\",\"\",INDEX(E_SourceStreams!$A:$N,ER30,BM$7)))","v":""},{"$f":"IF($E30=\"\",\"\",IF(INDEX(E_SourceStreams!$A:$N,ES30,BN$7)=\"\",\"\",INDEX(E_SourceStreams!$A:$N,ES30,BN$7)))","v":""},{"$f":"IF($E30=\"\",\"\",IF(INDEX(E_SourceStreams!$A:$N,ET30,BO$7)=\"\",\"\",INDEX(E_SourceStreams!$A:$N,ET30,BO$7)))","v":""},{"$f":"IF($E30=\"\",\"\",IF(INDEX(E_SourceStreams!$A:$N,EU30,BP$7)=\"\",\"\",INDEX(E_SourceStreams!$A:$N,EU30,BP$7)))","v":""},{"$f":"IF($E30=\"\",\"\",IF(INDEX(E_SourceStreams!$A:$N,EV30,BQ$7)=\"\",\"\",INDEX(E_SourceStreams!$A:$N,EV30,BQ$7)))","v":""},{"$f":"IF($E30=\"\",\"\",IF(INDEX(E_SourceStreams!$A:$N,EW30,BR$7)=\"\",\"\",INDEX(E_SourceStreams!$A:$N,EW30,BR$7)))","v":""},{"$f":"IF($E30=\"\",\"\",IF(INDEX(E_SourceStreams!$A:$N,EX30,BS$7)=\"\",\"\",INDEX(E_SourceStreams!$A:$N,EX30,BS$7)))","v":""},{"$f":"IF($E30=\"\",\"\",IF(INDEX(E_SourceStreams!$A:$N,EY30,BT$7)=\"\",\"\",INDEX(E_SourceStreams!$A:$N,EY30,BT$7)))","v":""},null,null,null,null,null,null,null,null,null,null,null,null,null,null,null,"SourceCategory_",{"$f":"INDEX(C_InstallationDescription!$A$226:$A$332,ROWS($CI$11:CI30))=\"ausblenden\"","v":false},"SourceStreamName_",null,1387,1389,1391,1393,1395,1397,1399,1399,1399,1399,1399,1402,1406,1407,1408,1415,1425,1425,1425,1425,1425,1425,1425,1416,1426,1426,1426,1426,1426,1426,1426,1417,1427,1427,1427,1427,1427,1427,1427,1418,1428,1428,1428,1428,1428,1428,1428,1419,1429,1429,1429,1429,1429,1429,1429,1420,1430,1430,1430,1430,1430,1430,1430,1436]
[null,{"$f":"IF(COUNTIF($CK$10:CK31,TRUE)>0,\"\",INDEX(C_InstallationDescription!$E$226:$E$242,ROWS($A$11:A31)))","v":""},{"$f":"IF($E31=\"\",\"\",INDEX(C_InstallationDescription!F:F,MATCH($B31,C_InstallationDescription!$E:$E,0)))","v":""},{"$f":"IF($E31=\"\",\"\",INDEX(C_InstallationDescription!I:I,MATCH($B31,C_InstallationDescription!$E:$E,0)))","v":""},{"$f":"IF($B31=\"\",\"\",INDEX(C_InstallationDescription!F:F,MATCH($CJ31,C_InstallationDescription!$Q:$Q,0)))","v":""},{"$f":"IF($E31=\"\",\"\",INDEX(C_InstallationDescription!L:L,MATCH($CJ31,C_InstallationDescription!$Q:$Q,0)))","v":""},{"$f":"IF($E31=\"\",\"\",INDEX(C_InstallationDescription!M:M,MATCH($CJ31,C_InstallationDescription!$Q:$Q,0)))","v":""},{"$f":"IF($E31=\"\",\"\",INDEX(C_InstallationDescription!N:N,MATCH($CJ31,C_InstallationDescription!$Q:$Q,0)))","v":""},{"$f":"IF($E31=\"\",\"\",IF(INDEX(E_SourceStreams!$A:$N,CN31,I$7)=\"\",\"\",INDEX(E_SourceStreams!$A:$N,CN31,I$7)))","v":""},{"$f":"IF($E31=\"\",\"\",IF(INDEX(E_SourceStreams!$A:$N,CO31,J$7)=\"\",\"\",INDEX(E_SourceStreams!$A:$N,CO31,J$7)))","v":""},{"$f":"IF($E31=\"\",\"\",IF(INDEX(E_SourceStreams!$A:$N,CP31,K$7)=\"\",\"\",INDEX(E_SourceStreams!$A:$N,CP31,K$7)))","v":""},{"$f":"IF($E31=\"\",\"\",IF(INDEX(E_SourceStreams!$A:$N,CQ31,L$7)=\"\",\"\",INDEX(E_SourceStreams!$A:$N,CQ31,L$7)))","v":""},{"$f":"IF($E31=\"\",\"\",IF(INDEX(E_SourceStreams!$A:$N,CR31,M$7)=\"\",\"\",INDEX(E_SourceStreams!$A:$N,CR31,M$7)))","v":""},{"$f":"IF($E31=\"\",\"\",IF(INDEX(E_SourceStreams!$A:$N,CS31,N$7)=\"\",\"\",INDEX(E_SourceStreams!$A:$N,CS31,N$7)))","v":""},{"$f":"IF($E31=\"\",\"\",IF(INDEX(E_SourceStreams!$A:$N,CT31,O$7)=\"\",\"\",INDEX(E_SourceStreams!$A:$N,CT31,O$7)))","v":""},{"$f":"IF($E31=\"\",\"\",IF(INDEX(E_SourceStreams!$A:$N,CU31,P$7)=\"\",\"\",INDEX(E_SourceStreams!$A:$N,CU31,P$7)))","v":""},{"$f":"IF($E31=\"\",\"\",IF(INDEX(E_SourceStreams!$A:$N,CV31,Q$7)=\"\",\"\",INDEX(E_SourceStreams!$A:$N,CV31,Q$7)))","v":""},{"$f":"IF($E31=\"\",\"\",IF(INDEX(E_SourceStreams!$A:$N,CW31,R$7)=\"\",\"\",INDEX(E_SourceStreams!$A:$N,CW31,R$7)))","v":""},{"$f":"IF($E31=\"\",\"\",IF(INDEX(E_SourceStreams!$A:$N,CX31,S$7)=\"\",\"\",INDEX(E_SourceStreams!$A:$N,CX31,S$7)))","v":""},{"$f":"IF($E31=\"\",\"\",IF(INDEX(E_SourceStreams!$A:$N,CY31,T$7)=\"\",\"\",INDEX(E_SourceStreams!$A:$N,CY31,T$7)))","v":""},{"$f":"IF($E31=\"\",\"\",IF(INDEX(E_SourceStreams!$A:$N,CZ31,U$7)=\"\",\"\",INDEX(E_SourceStreams!$A:$N,CZ31,U$7)))","v":""},{"$f":"IF($E31=\"\",\"\",IF(INDEX(E_SourceStreams!$A:$N,DA31,V$7)=\"\",\"\",INDEX(E_SourceStreams!$A:$N,DA31,V$7)))","v":""},{"$f":"IF($E31=\"\",\"\",IF(INDEX(E_SourceStreams!$A:$N,DB31,W$7)=\"\",\"\",INDEX(E_SourceStreams!$A:$N,DB31,W$7)))","v":""},{"$f":"IF($E31=\"\",\"\",IF(INDEX(E_SourceStreams!$A:$N,DC31,X$7)=\"\",\"\",INDEX(E_SourceStreams!$A:$N,DC31,X$7)))","v":""},{"$f":"IF($E31=\"\",\"\",IF(INDEX(E_SourceStreams!$A:$N,DD31,Y$7)=\"\",\"\",INDEX(E_SourceStreams!$A:$N,DD31,Y$7)))","v":""},{"$f":"IF($E31=\"\",\"\",IF(INDEX(E_SourceStreams!$A:$N,DE31,Z$7)=\"\",\"\",INDEX(E_SourceStreams!$A:$N,DE31,Z$7)))","v":""},{"$f":"IF($E31=\"\",\"\",IF(INDEX(E_SourceStreams!$A:$N,DF31,AA$7)=\"\",\"\",INDEX(E_SourceStreams!$A:$N,DF31,AA$7)))","v":""},{"$f":"IF($E31=\"\",\"\",IF(INDEX(E_SourceStreams!$A:$N,DG31,AB$7)=\"\",\"\",INDEX(E_SourceStreams!$A:$N,DG31,AB$7)))","v":""},{"$f":"IF($E31=\"\",\"\",IF(INDEX(E_SourceStreams!$A:$N,DH31,AC$7)=\"\",\"\",INDEX(E_SourceStreams!$A:$N,DH31,AC$7)))","v":""},{"$f":"IF($E31=\"\",\"\",IF(INDEX(E_SourceStreams!$A:$N,DI31,AD$7)=\"\",\"\",INDEX(E_SourceStreams!$A:$N,DI31,AD$7)))","v":""},{"$f":"IF($E31=\"\",\"\",IF(INDEX(E_SourceStreams!$A:$N,DJ31,AE$7)=\"\",\"\",INDEX(E_SourceStreams!$A:$N,DJ31,AE$7)))","v":""},{"$f":"IF($E31=\"\",\"\",IF(INDEX(E_SourceStreams!$A:$N,DK31,AF$7)=\"\",\"\",INDEX(E_SourceStreams!$A:$N,DK31,AF$7)))","v":""},{"$f":"IF($E31=\"\",\"\",IF(INDEX(E_SourceStreams!$A:$N,DL31,AG$7)=\"\",\"\",INDEX(E_SourceStreams!$A:$N,DL31,AG$7)))","v":""},{"$f":"IF($E31=\"\",\"\",IF(INDEX(E_SourceStreams!$A:$N,DM31,AH$7)=\"\",\"\",INDEX(E_SourceStreams!$A:$N,DM31,AH$7)))","v":""},{"$f":"IF($E31=\"\",\"\",IF(INDEX(E_SourceStreams!$A:$N,DN31,AI$7)=\"\",\"\",INDEX(E_SourceStreams!$A:$N,DN31,AI$7)))","v":""},{"$f":"IF($E31=\"\",\"\",IF(INDEX(E_SourceStreams!$A:$N,DO31,AJ$7)=\"\",\"\",INDEX(E_SourceStreams!$A:$N,DO31,AJ$7)))","v":""},{"$f":"IF($E31=\"\",\"\",IF(INDEX(E_SourceStreams!$A:$N,DP31,AK$7)=\"\",\"\",INDEX(E_SourceStreams!$A:$N,DP31,AK$7)))","v":""},{"$f":"IF($E31=\"\",\"\",IF(INDEX(E_SourceStreams!$A:$N,DQ31,AL$7)=\"\",\"\",INDEX(E_SourceStreams!$A:$N,DQ31,AL$7)))","v":""},{"$f":"IF($E31=\"\",\"\",IF(INDEX(E_SourceStreams!$A:$N,DR31,AM$7)=\"\",\"\",INDEX(E_SourceStreams!$A:$N,DR31,AM$7)))","v":""},{"$f":"IF($E31=\"\",\"\",IF(INDEX(E_SourceStreams!$A:$N,DS31,AN$7)=\"\",\"\",INDEX(E_SourceStreams!$A:$N,DS31,AN$7)))","v":""},{"$f":"IF($E31=\"\",\"\",IF(INDEX(E_SourceStreams!$A:$N,DT31,AO$7)=\"\",\"\",INDEX(E_SourceStreams!$A:$N,DT31,AO$7)))","v":""},{"$f":"IF($E31=\"\",\"\",IF(INDEX(E_SourceStreams!$A:$N,DU31,AP$7)=\"\",\"\",INDEX(E_SourceStreams!$A:$N,DU31,AP$7)))","v":""},{"$f":"IF($E31=\"\",\"\",IF(INDEX(E_SourceStreams!$A:$N,DV31,AQ$7)=\"\",\"\",INDEX(E_SourceStreams!$A:$N,DV31,AQ$7)))","v":""},{"$f":"IF($E31=\"\",\"\",IF(INDEX(E_SourceStreams!$A:$N,DW31,AR$7)=\"\",\"\",INDEX(E_SourceStreams!$A:$N,DW31,AR$7)))","v":""},{"$f":"IF($E31=\"\",\"\",IF(INDEX(E_SourceStreams!$A:$N,DX31,AS$7)=\"\",\"\",INDEX(E_SourceStreams!$A:$N,DX31,AS$7)))","v":""},{"$f":"IF($E31=\"\",\"\",IF(INDEX(E_SourceStreams!$A:$N,DY31,AT$7)=\"\",\"\",INDEX(E_SourceStreams!$A:$N,DY31,AT$7)))","v":""},{"$f":"IF($E31=\"\",\"\",IF(INDEX(E_SourceStreams!$A:$N,DZ31,AU$7)=\"\",\"\",INDEX(E_SourceStreams!$A:$N,DZ31,AU$7)))","v":""},{"$f":"IF($E31=\"\",\"\",IF(INDEX(E_SourceStreams!$A:$N,EA31,AV$7)=\"\",\"\",INDEX(E_SourceStreams!$A:$N,EA31,AV$7)))","v":""},{"$f":"IF($E31=\"\",\"\",IF(INDEX(E_SourceStreams!$A:$N,EB31,AW$7)=\"\",\"\",INDEX(E_SourceStreams!$A:$N,EB31,AW$7)))","v":""},{"$f":"IF($E31=\"\",\"\",IF(INDEX(E_SourceStreams!$A:$N,EC31,AX$7)=\"\",\"\",INDEX(E_SourceStreams!$A:$N,EC31,AX$7)))","v":""},{"$f":"IF($E31=\"\",\"\",IF(INDEX(E_SourceStreams!$A:$N,ED31,AY$7)=\"\",\"\",INDEX(E_SourceStreams!$A:$N,ED31,AY$7)))","v":""},{"$f":"IF($E31=\"\",\"\",IF(INDEX(E_SourceStreams!$A:$N,EE31,AZ$7)=\"\",\"\",INDEX(E_SourceStreams!$A:$N,EE31,AZ$7)))","v":""},{"$f":"IF($E31=\"\",\"\",IF(INDEX(E_SourceStreams!$A:$N,EF31,BA$7)=\"\",\"\",INDEX(E_SourceStreams!$A:$N,EF31,BA$7)))","v":""},{"$f":"IF($E31=\"\",\"\",IF(INDEX(E_SourceStreams!$A:$N,EG31,BB$7)=\"\",\"\",INDEX(E_SourceStreams!$A:$N,EG31,BB$7)))","v":""},{"$f":"IF($E31=\"\",\"\",IF(INDEX(E_SourceStreams!$A:$N,EH31,BC$7)=\"\",\"\",INDEX(E_SourceStreams!$A:$N,EH31,BC$7)))","v":""},{"$f":"IF($E31=\"\",\"\",IF(INDEX(E_SourceStreams!$A:$N,EI31,BD$7)=\"\",\"\",INDEX(E_SourceStreams!$A:$N,EI31,BD$7)))","v":""},{"$f":"IF($E31=\"\",\"\",IF(INDEX(E_SourceStreams!$A:$N,EJ31,BE$7)=\"\",\"\",INDEX(E_SourceStreams!$A:$N,EJ31,BE$7)))","v":""},{"$f":"IF($E31=\"\",\"\",IF(INDEX(E_SourceStreams!$A:$N,EK31,BF$7)=\"\",\"\",INDEX(E_SourceStreams!$A:$N,EK31,BF$7)))","v":""},{"$f":"IF($E31=\"\",\"\",IF(INDEX(E_SourceStreams!$A:$N,EL31,BG$7)=\"\",\"\",INDEX(E_SourceStreams!$A:$N,EL31,BG$7)))","v":""},{"$f":"IF($E31=\"\",\"\",IF(INDEX(E_SourceStreams!$A:$N,EM31,BH$7)=\"\",\"\",INDEX(E_SourceStreams!$A:$N,EM31,BH$7)))","v":""},{"$f":"IF($E31=\"\",\"\",IF(INDEX(E_SourceStreams!$A:$N,EN31,BI$7)=\"\",\"\",INDEX(E_SourceStreams!$A:$N,EN31,BI$7)))","v":""},{"$f":"IF($E31=\"\",\"\",IF(INDEX(E_SourceStreams!$A:$N,EO31,BJ$7)=\"\",\"\",INDEX(E_SourceStreams!$A:$N,EO31,BJ$7)))","v":""},{"$f":"IF($E31=\"\",\"\",IF(INDEX(E_SourceStreams!$A:$N,EP31,BK$7)=\"\",\"\",INDEX(E_SourceStreams!$A:$N,EP31,BK$7)))","v":""},{"$f":"IF($E31=\"\",\"\",IF(INDEX(E_SourceStreams!$A:$N,EQ31,BL$7)=\"\",\"\",INDEX(E_SourceStreams!$A:$N,EQ31,BL$7)))","v":""},{"$f":"IF($E31=\"\",\"\",IF(INDEX(E_SourceStreams!$A:$N,ER31,BM$7)=\"\",\"\",INDEX(E_SourceStreams!$A:$N,ER31,BM$7)))","v":""},{"$f":"IF($E31=\"\",\"\",IF(INDEX(E_SourceStreams!$A:$N,ES31,BN$7)=\"\",\"\",INDEX(E_SourceStreams!$A:$N,ES31,BN$7)))","v":""},{"$f":"IF($E31=\"\",\"\",IF(INDEX(E_SourceStreams!$A:$N,ET31,BO$7)=\"\",\"\",INDEX(E_SourceStreams!$A:$N,ET31,BO$7)))","v":""},{"$f":"IF($E31=\"\",\"\",IF(INDEX(E_SourceStreams!$A:$N,EU31,BP$7)=\"\",\"\",INDEX(E_SourceStreams!$A:$N,EU31,BP$7)))","v":""},{"$f":"IF($E31=\"\",\"\",IF(INDEX(E_SourceStreams!$A:$N,EV31,BQ$7)=\"\",\"\",INDEX(E_SourceStreams!$A:$N,EV31,BQ$7)))","v":""},{"$f":"IF($E31=\"\",\"\",IF(INDEX(E_SourceStreams!$A:$N,EW31,BR$7)=\"\",\"\",INDEX(E_SourceStreams!$A:$N,EW31,BR$7)))","v":""},{"$f":"IF($E31=\"\",\"\",IF(INDEX(E_SourceStreams!$A:$N,EX31,BS$7)=\"\",\"\",INDEX(E_SourceStreams!$A:$N,EX31,BS$7)))","v":""},{"$f":"IF($E31=\"\",\"\",IF(INDEX(E_SourceStreams!$A:$N,EY31,BT$7)=\"\",\"\",INDEX(E_SourceStreams!$A:$N,EY31,BT$7)))","v":""},null,null,null,null,null,null,null,null,null,null,null,null,null,null,null,"SourceCategory_",{"$f":"INDEX(C_InstallationDescription!$A$226:$A$332,ROWS($CI$11:CI31))=\"ausblenden\"","v":false},"SourceStreamName_",null,1453,1455,1457,1459,1461,1463,1465,1465,1465,1465,1465,1468,1472,1473,1474,1481,1491,1491,1491,1491,1491,1491,1491,1482,1492,1492,1492,1492,1492,1492,1492,1483,1493,1493,1493,1493,1493,1493,1493,1484,1494,1494,1494,1494,1494,1494,1494,1485,1495,1495,1495,1495,1495,1495,1495,1486,1496,1496,1496,1496,1496,1496,1496,1502]
[null,{"$f":"IF(COUNTIF($CK$10:CK32,TRUE)>0,\"\",INDEX(C_InstallationDescription!$E$226:$E$242,ROWS($A$11:A32)))","v":""},{"$f":"IF($E32=\"\",\"\",INDEX(C_InstallationDescription!F:F,MATCH($B32,C_InstallationDescription!$E:$E,0)))","v":""},{"$f":"IF($E32=\"\",\"\",INDEX(C_InstallationDescription!I:I,MATCH($B32,C_InstallationDescription!$E:$E,0)))","v":""},{"$f":"IF($B32=\"\",\"\",INDEX(C_InstallationDescription!F:F,MATCH($CJ32,C_InstallationDescription!$Q:$Q,0)))","v":""},{"$f":"IF($E32=\"\",\"\",INDEX(C_InstallationDescription!L:L,MATCH($CJ32,C_InstallationDescription!$Q:$Q,0)))","v":""},{"$f":"IF($E32=\"\",\"\",INDEX(C_InstallationDescription!M:M,MATCH($CJ32,C_InstallationDescription!$Q:$Q,0)))","v":""},{"$f":"IF($E32=\"\",\"\",INDEX(C_InstallationDescription!N:N,MATCH($CJ32,C_InstallationDescription!$Q:$Q,0)))","v":""},{"$f":"IF($E32=\"\",\"\",IF(INDEX(E_SourceStreams!$A:$N,CN32,I$7)=\"\",\"\",INDEX(E_SourceStreams!$A:$N,CN32,I$7)))","v":""},{"$f":"IF($E32=\"\",\"\",IF(INDEX(E_SourceStreams!$A:$N,CO32,J$7)=\"\",\"\",INDEX(E_SourceStreams!$A:$N,CO32,J$7)))","v":""},{"$f":"IF($E32=\"\",\"\",IF(INDEX(E_SourceStreams!$A:$N,CP32,K$7)=\"\",\"\",INDEX(E_SourceStreams!$A:$N,CP32,K$7)))","v":""},{"$f":"IF($E32=\"\",\"\",IF(INDEX(E_SourceStreams!$A:$N,CQ32,L$7)=\"\",\"\",INDEX(E_SourceStreams!$A:$N,CQ32,L$7)))","v":""},{"$f":"IF($E32=\"\",\"\",IF(INDEX(E_SourceStreams!$A:$N,CR32,M$7)=\"\",\"\",INDEX(E_SourceStreams!$A:$N,CR32,M$7)))","v":""},{"$f":"IF($E32=\"\",\"\",IF(INDEX(E_SourceStreams!$A:$N,CS32,N$7)=\"\",\"\",INDEX(E_SourceStreams!$A:$N,CS32,N$7)))","v":""},{"$f":"IF($E32=\"\",\"\",IF(INDEX(E_SourceStreams!$A:$N,CT32,O$7)=\"\",\"\",INDEX(E_SourceStreams!$A:$N,CT32,O$7)))","v":""},{"$f":"IF($E32=\"\",\"\",IF(INDEX(E_SourceStreams!$A:$N,CU32,P$7)=\"\",\"\",INDEX(E_SourceStreams!$A:$N,CU32,P$7)))","v":""},{"$f":"IF($E32=\"\",\"\",IF(INDEX(E_SourceStreams!$A:$N,CV32,Q$7)=\"\",\"\",INDEX(E_SourceStreams!$A:$N,CV32,Q$7)))","v":""},{"$f":"IF($E32=\"\",\"\",IF(INDEX(E_SourceStreams!$A:$N,CW32,R$7)=\"\",\"\",INDEX(E_SourceStreams!$A:$N,CW32,R$7)))","v":""},{"$f":"IF($E32=\"\",\"\",IF(INDEX(E_SourceStreams!$A:$N,CX32,S$7)=\"\",\"\",INDEX(E_SourceStreams!$A:$N,CX32,S$7)))","v":""},{"$f":"IF($E32=\"\",\"\",IF(INDEX(E_SourceStreams!$A:$N,CY32,T$7)=\"\",\"\",INDEX(E_SourceStreams!$A:$N,CY32,T$7)))","v":""},{"$f":"IF($E32=\"\",\"\",IF(INDEX(E_SourceStreams!$A:$N,CZ32,U$7)=\"\",\"\",INDEX(E_SourceStreams!$A:$N,CZ32,U$7)))","v":""},{"$f":"IF($E32=\"\",\"\",IF(INDEX(E_SourceStreams!$A:$N,DA32,V$7)=\"\",\"\",INDEX(E_SourceStreams!$A:$N,DA32,V$7)))","v":""},{"$f":"IF($E32=\"\",\"\",IF(INDEX(E_SourceStreams!$A:$N,DB32,W$7)=\"\",\"\",INDEX(E_SourceStreams!$A:$N,DB32,W$7)))","v":""},{"$f":"IF($E32=\"\",\"\",IF(INDEX(E_SourceStreams!$A:$N,DC32,X$7)=\"\",\"\",INDEX(E_SourceStreams!$A:$N,DC32,X$7)))","v":""},{"$f":"IF($E32=\"\",\"\",IF(INDEX(E_SourceStreams!$A:$N,DD32,Y$7)=\"\",\"\",INDEX(E_SourceStreams!$A:$N,DD32,Y$7)))","v":""},{"$f":"IF($E32=\"\",\"\",IF(INDEX(E_SourceStreams!$A:$N,DE32,Z$7)=\"\",\"\",INDEX(E_SourceStreams!$A:$N,DE32,Z$7)))","v":""},{"$f":"IF($E32=\"\",\"\",IF(INDEX(E_SourceStreams!$A:$N,DF32,AA$7)=\"\",\"\",INDEX(E_SourceStreams!$A:$N,DF32,AA$7)))","v":""},{"$f":"IF($E32=\"\",\"\",IF(INDEX(E_SourceStreams!$A:$N,DG32,AB$7)=\"\",\"\",INDEX(E_SourceStreams!$A:$N,DG32,AB$7)))","v":""},{"$f":"IF($E32=\"\",\"\",IF(INDEX(E_SourceStreams!$A:$N,DH32,AC$7)=\"\",\"\",INDEX(E_SourceStreams!$A:$N,DH32,AC$7)))","v":""},{"$f":"IF($E32=\"\",\"\",IF(INDEX(E_SourceStreams!$A:$N,DI32,AD$7)=\"\",\"\",INDEX(E_SourceStreams!$A:$N,DI32,AD$7)))","v":""},{"$f":"IF($E32=\"\",\"\",IF(INDEX(E_SourceStreams!$A:$N,DJ32,AE$7)=\"\",\"\",INDEX(E_SourceStreams!$A:$N,DJ32,AE$7)))","v":""},{"$f":"IF($E32=\"\",\"\",IF(INDEX(E_SourceStreams!$A:$N,DK32,AF$7)=\"\",\"\",INDEX(E_SourceStreams!$A:$N,DK32,AF$7)))","v":""},{"$f":"IF($E32=\"\",\"\",IF(INDEX(E_SourceStreams!$A:$N,DL32,AG$7)=\"\",\"\",INDEX(E_SourceStreams!$A:$N,DL32,AG$7)))","v":""},{"$f":"IF($E32=\"\",\"\",IF(INDEX(E_SourceStreams!$A:$N,DM32,AH$7)=\"\",\"\",INDEX(E_SourceStreams!$A:$N,DM32,AH$7)))","v":""},{"$f":"IF($E32=\"\",\"\",IF(INDEX(E_SourceStreams!$A:$N,DN32,AI$7)=\"\",\"\",INDEX(E_SourceStreams!$A:$N,DN32,AI$7)))","v":""},{"$f":"IF($E32=\"\",\"\",IF(INDEX(E_SourceStreams!$A:$N,DO32,AJ$7)=\"\",\"\",INDEX(E_SourceStreams!$A:$N,DO32,AJ$7)))","v":""},{"$f":"IF($E32=\"\",\"\",IF(INDEX(E_SourceStreams!$A:$N,DP32,AK$7)=\"\",\"\",INDEX(E_SourceStreams!$A:$N,DP32,AK$7)))","v":""},{"$f":"IF($E32=\"\",\"\",IF(INDEX(E_SourceStreams!$A:$N,DQ32,AL$7)=\"\",\"\",INDEX(E_SourceStreams!$A:$N,DQ32,AL$7)))","v":""},{"$f":"IF($E32=\"\",\"\",IF(INDEX(E_SourceStreams!$A:$N,DR32,AM$7)=\"\",\"\",INDEX(E_SourceStreams!$A:$N,DR32,AM$7)))","v":""},{"$f":"IF($E32=\"\",\"\",IF(INDEX(E_SourceStreams!$A:$N,DS32,AN$7)=\"\",\"\",INDEX(E_SourceStreams!$A:$N,DS32,AN$7)))","v":""},{"$f":"IF($E32=\"\",\"\",IF(INDEX(E_SourceStreams!$A:$N,DT32,AO$7)=\"\",\"\",INDEX(E_SourceStreams!$A:$N,DT32,AO$7)))","v":""},{"$f":"IF($E32=\"\",\"\",IF(INDEX(E_SourceStreams!$A:$N,DU32,AP$7)=\"\",\"\",INDEX(E_SourceStreams!$A:$N,DU32,AP$7)))","v":""},{"$f":"IF($E32=\"\",\"\",IF(INDEX(E_SourceStreams!$A:$N,DV32,AQ$7)=\"\",\"\",INDEX(E_SourceStreams!$A:$N,DV32,AQ$7)))","v":""},{"$f":"IF($E32=\"\",\"\",IF(INDEX(E_SourceStreams!$A:$N,DW32,AR$7)=\"\",\"\",INDEX(E_SourceStreams!$A:$N,DW32,AR$7)))","v":""},{"$f":"IF($E32=\"\",\"\",IF(INDEX(E_SourceStreams!$A:$N,DX32,AS$7)=\"\",\"\",INDEX(E_SourceStreams!$A:$N,DX32,AS$7)))","v":""},{"$f":"IF($E32=\"\",\"\",IF(INDEX(E_SourceStreams!$A:$N,DY32,AT$7)=\"\",\"\",INDEX(E_SourceStreams!$A:$N,DY32,AT$7)))","v":""},{"$f":"IF($E32=\"\",\"\",IF(INDEX(E_SourceStreams!$A:$N,DZ32,AU$7)=\"\",\"\",INDEX(E_SourceStreams!$A:$N,DZ32,AU$7)))","v":""},{"$f":"IF($E32=\"\",\"\",IF(INDEX(E_SourceStreams!$A:$N,EA32,AV$7)=\"\",\"\",INDEX(E_SourceStreams!$A:$N,EA32,AV$7)))","v":""},{"$f":"IF($E32=\"\",\"\",IF(INDEX(E_SourceStreams!$A:$N,EB32,AW$7)=\"\",\"\",INDEX(E_SourceStreams!$A:$N,EB32,AW$7)))","v":""},{"$f":"IF($E32=\"\",\"\",IF(INDEX(E_SourceStreams!$A:$N,EC32,AX$7)=\"\",\"\",INDEX(E_SourceStreams!$A:$N,EC32,AX$7)))","v":""},{"$f":"IF($E32=\"\",\"\",IF(INDEX(E_SourceStreams!$A:$N,ED32,AY$7)=\"\",\"\",INDEX(E_SourceStreams!$A:$N,ED32,AY$7)))","v":""},{"$f":"IF($E32=\"\",\"\",IF(INDEX(E_SourceStreams!$A:$N,EE32,AZ$7)=\"\",\"\",INDEX(E_SourceStreams!$A:$N,EE32,AZ$7)))","v":""},{"$f":"IF($E32=\"\",\"\",IF(INDEX(E_SourceStreams!$A:$N,EF32,BA$7)=\"\",\"\",INDEX(E_SourceStreams!$A:$N,EF32,BA$7)))","v":""},{"$f":"IF($E32=\"\",\"\",IF(INDEX(E_SourceStreams!$A:$N,EG32,BB$7)=\"\",\"\",INDEX(E_SourceStreams!$A:$N,EG32,BB$7)))","v":""},{"$f":"IF($E32=\"\",\"\",IF(INDEX(E_SourceStreams!$A:$N,EH32,BC$7)=\"\",\"\",INDEX(E_SourceStreams!$A:$N,EH32,BC$7)))","v":""},{"$f":"IF($E32=\"\",\"\",IF(INDEX(E_SourceStreams!$A:$N,EI32,BD$7)=\"\",\"\",INDEX(E_SourceStreams!$A:$N,EI32,BD$7)))","v":""},{"$f":"IF($E32=\"\",\"\",IF(INDEX(E_SourceStreams!$A:$N,EJ32,BE$7)=\"\",\"\",INDEX(E_SourceStreams!$A:$N,EJ32,BE$7)))","v":""},{"$f":"IF($E32=\"\",\"\",IF(INDEX(E_SourceStreams!$A:$N,EK32,BF$7)=\"\",\"\",INDEX(E_SourceStreams!$A:$N,EK32,BF$7)))","v":""},{"$f":"IF($E32=\"\",\"\",IF(INDEX(E_SourceStreams!$A:$N,EL32,BG$7)=\"\",\"\",INDEX(E_SourceStreams!$A:$N,EL32,BG$7)))","v":""},{"$f":"IF($E32=\"\",\"\",IF(INDEX(E_SourceStreams!$A:$N,EM32,BH$7)=\"\",\"\",INDEX(E_SourceStreams!$A:$N,EM32,BH$7)))","v":""},{"$f":"IF($E32=\"\",\"\",IF(INDEX(E_SourceStreams!$A:$N,EN32,BI$7)=\"\",\"\",INDEX(E_SourceStreams!$A:$N,EN32,BI$7)))","v":""},{"$f":"IF($E32=\"\",\"\",IF(INDEX(E_SourceStreams!$A:$N,EO32,BJ$7)=\"\",\"\",INDEX(E_SourceStreams!$A:$N,EO32,BJ$7)))","v":""},{"$f":"IF($E32=\"\",\"\",IF(INDEX(E_SourceStreams!$A:$N,EP32,BK$7)=\"\",\"\",INDEX(E_SourceStreams!$A:$N,EP32,BK$7)))","v":""},{"$f":"IF($E32=\"\",\"\",IF(INDEX(E_SourceStreams!$A:$N,EQ32,BL$7)=\"\",\"\",INDEX(E_SourceStreams!$A:$N,EQ32,BL$7)))","v":""},{"$f":"IF($E32=\"\",\"\",IF(INDEX(E_SourceStreams!$A:$N,ER32,BM$7)=\"\",\"\",INDEX(E_SourceStreams!$A:$N,ER32,BM$7)))","v":""},{"$f":"IF($E32=\"\",\"\",IF(INDEX(E_SourceStreams!$A:$N,ES32,BN$7)=\"\",\"\",INDEX(E_SourceStreams!$A:$N,ES32,BN$7)))","v":""},{"$f":"IF($E32=\"\",\"\",IF(INDEX(E_SourceStreams!$A:$N,ET32,BO$7)=\"\",\"\",INDEX(E_SourceStreams!$A:$N,ET32,BO$7)))","v":""},{"$f":"IF($E32=\"\",\"\",IF(INDEX(E_SourceStreams!$A:$N,EU32,BP$7)=\"\",\"\",INDEX(E_SourceStreams!$A:$N,EU32,BP$7)))","v":""},{"$f":"IF($E32=\"\",\"\",IF(INDEX(E_SourceStreams!$A:$N,EV32,BQ$7)=\"\",\"\",INDEX(E_SourceStreams!$A:$N,EV32,BQ$7)))","v":""},{"$f":"IF($E32=\"\",\"\",IF(INDEX(E_SourceStreams!$A:$N,EW32,BR$7)=\"\",\"\",INDEX(E_SourceStreams!$A:$N,EW32,BR$7)))","v":""},{"$f":"IF($E32=\"\",\"\",IF(INDEX(E_SourceStreams!$A:$N,EX32,BS$7)=\"\",\"\",INDEX(E_SourceStreams!$A:$N,EX32,BS$7)))","v":""},{"$f":"IF($E32=\"\",\"\",IF(INDEX(E_SourceStreams!$A:$N,EY32,BT$7)=\"\",\"\",INDEX(E_SourceStreams!$A:$N,EY32,BT$7)))","v":""},null,null,null,null,null,null,null,null,null,null,null,null,null,null,null,"SourceCategory_",{"$f":"INDEX(C_InstallationDescription!$A$226:$A$332,ROWS($CI$11:CI32))=\"ausblenden\"","v":false},"SourceStreamName_",null,1519,1521,1523,1525,1527,1529,1531,1531,1531,1531,1531,1534,1538,1539,1540,1547,1557,1557,1557,1557,1557,1557,1557,1548,1558,1558,1558,1558,1558,1558,1558,1549,1559,1559,1559,1559,1559,1559,1559,1550,1560,1560,1560,1560,1560,1560,1560,1551,1561,1561,1561,1561,1561,1561,1561,1552,1562,1562,1562,1562,1562,1562,1562,1568]
[null,{"$f":"IF(COUNTIF($CK$10:CK33,TRUE)>0,\"\",INDEX(C_InstallationDescription!$E$226:$E$242,ROWS($A$11:A33)))","v":""},{"$f":"IF($E33=\"\",\"\",INDEX(C_InstallationDescription!F:F,MATCH($B33,C_InstallationDescription!$E:$E,0)))","v":""},{"$f":"IF($E33=\"\",\"\",INDEX(C_InstallationDescription!I:I,MATCH($B33,C_InstallationDescription!$E:$E,0)))","v":""},{"$f":"IF($B33=\"\",\"\",INDEX(C_InstallationDescription!F:F,MATCH($CJ33,C_InstallationDescription!$Q:$Q,0)))","v":""},{"$f":"IF($E33=\"\",\"\",INDEX(C_InstallationDescription!L:L,MATCH($CJ33,C_InstallationDescription!$Q:$Q,0)))","v":""},{"$f":"IF($E33=\"\",\"\",INDEX(C_InstallationDescription!M:M,MATCH($CJ33,C_InstallationDescription!$Q:$Q,0)))","v":""},{"$f":"IF($E33=\"\",\"\",INDEX(C_InstallationDescription!N:N,MATCH($CJ33,C_InstallationDescription!$Q:$Q,0)))","v":""},{"$f":"IF($E33=\"\",\"\",IF(INDEX(E_SourceStreams!$A:$N,CN33,I$7)=\"\",\"\",INDEX(E_SourceStreams!$A:$N,CN33,I$7)))","v":""},{"$f":"IF($E33=\"\",\"\",IF(INDEX(E_SourceStreams!$A:$N,CO33,J$7)=\"\",\"\",INDEX(E_SourceStreams!$A:$N,CO33,J$7)))","v":""},{"$f":"IF($E33=\"\",\"\",IF(INDEX(E_SourceStreams!$A:$N,CP33,K$7)=\"\",\"\",INDEX(E_SourceStreams!$A:$N,CP33,K$7)))","v":""},{"$f":"IF($E33=\"\",\"\",IF(INDEX(E_SourceStreams!$A:$N,CQ33,L$7)=\"\",\"\",INDEX(E_SourceStreams!$A:$N,CQ33,L$7)))","v":""},{"$f":"IF($E33=\"\",\"\",IF(INDEX(E_SourceStreams!$A:$N,CR33,M$7)=\"\",\"\",INDEX(E_SourceStreams!$A:$N,CR33,M$7)))","v":""},{"$f":"IF($E33=\"\",\"\",IF(INDEX(E_SourceStreams!$A:$N,CS33,N$7)=\"\",\"\",INDEX(E_SourceStreams!$A:$N,CS33,N$7)))","v":""},{"$f":"IF($E33=\"\",\"\",IF(INDEX(E_SourceStreams!$A:$N,CT33,O$7)=\"\",\"\",INDEX(E_SourceStreams!$A:$N,CT33,O$7)))","v":""},{"$f":"IF($E33=\"\",\"\",IF(INDEX(E_SourceStreams!$A:$N,CU33,P$7)=\"\",\"\",INDEX(E_SourceStreams!$A:$N,CU33,P$7)))","v":""},{"$f":"IF($E33=\"\",\"\",IF(INDEX(E_SourceStreams!$A:$N,CV33,Q$7)=\"\",\"\",INDEX(E_SourceStreams!$A:$N,CV33,Q$7)))","v":""},{"$f":"IF($E33=\"\",\"\",IF(INDEX(E_SourceStreams!$A:$N,CW33,R$7)=\"\",\"\",INDEX(E_SourceStreams!$A:$N,CW33,R$7)))","v":""},{"$f":"IF($E33=\"\",\"\",IF(INDEX(E_SourceStreams!$A:$N,CX33,S$7)=\"\",\"\",INDEX(E_SourceStreams!$A:$N,CX33,S$7)))","v":""},{"$f":"IF($E33=\"\",\"\",IF(INDEX(E_SourceStreams!$A:$N,CY33,T$7)=\"\",\"\",INDEX(E_SourceStreams!$A:$N,CY33,T$7)))","v":""},{"$f":"IF($E33=\"\",\"\",IF(INDEX(E_SourceStreams!$A:$N,CZ33,U$7)=\"\",\"\",INDEX(E_SourceStreams!$A:$N,CZ33,U$7)))","v":""},{"$f":"IF($E33=\"\",\"\",IF(INDEX(E_SourceStreams!$A:$N,DA33,V$7)=\"\",\"\",INDEX(E_SourceStreams!$A:$N,DA33,V$7)))","v":""},{"$f":"IF($E33=\"\",\"\",IF(INDEX(E_SourceStreams!$A:$N,DB33,W$7)=\"\",\"\",INDEX(E_SourceStreams!$A:$N,DB33,W$7)))","v":""},{"$f":"IF($E33=\"\",\"\",IF(INDEX(E_SourceStreams!$A:$N,DC33,X$7)=\"\",\"\",INDEX(E_SourceStreams!$A:$N,DC33,X$7)))","v":""},{"$f":"IF($E33=\"\",\"\",IF(INDEX(E_SourceStreams!$A:$N,DD33,Y$7)=\"\",\"\",INDEX(E_SourceStreams!$A:$N,DD33,Y$7)))","v":""},{"$f":"IF($E33=\"\",\"\",IF(INDEX(E_SourceStreams!$A:$N,DE33,Z$7)=\"\",\"\",INDEX(E_SourceStreams!$A:$N,DE33,Z$7)))","v":""},{"$f":"IF($E33=\"\",\"\",IF(INDEX(E_SourceStreams!$A:$N,DF33,AA$7)=\"\",\"\",INDEX(E_SourceStreams!$A:$N,DF33,AA$7)))","v":""},{"$f":"IF($E33=\"\",\"\",IF(INDEX(E_SourceStreams!$A:$N,DG33,AB$7)=\"\",\"\",INDEX(E_SourceStreams!$A:$N,DG33,AB$7)))","v":""},{"$f":"IF($E33=\"\",\"\",IF(INDEX(E_SourceStreams!$A:$N,DH33,AC$7)=\"\",\"\",INDEX(E_SourceStreams!$A:$N,DH33,AC$7)))","v":""},{"$f":"IF($E33=\"\",\"\",IF(INDEX(E_SourceStreams!$A:$N,DI33,AD$7)=\"\",\"\",INDEX(E_SourceStreams!$A:$N,DI33,AD$7)))","v":""},{"$f":"IF($E33=\"\",\"\",IF(INDEX(E_SourceStreams!$A:$N,DJ33,AE$7)=\"\",\"\",INDEX(E_SourceStreams!$A:$N,DJ33,AE$7)))","v":""},{"$f":"IF($E33=\"\",\"\",IF(INDEX(E_SourceStreams!$A:$N,DK33,AF$7)=\"\",\"\",INDEX(E_SourceStreams!$A:$N,DK33,AF$7)))","v":""},{"$f":"IF($E33=\"\",\"\",IF(INDEX(E_SourceStreams!$A:$N,DL33,AG$7)=\"\",\"\",INDEX(E_SourceStreams!$A:$N,DL33,AG$7)))","v":""},{"$f":"IF($E33=\"\",\"\",IF(INDEX(E_SourceStreams!$A:$N,DM33,AH$7)=\"\",\"\",INDEX(E_SourceStreams!$A:$N,DM33,AH$7)))","v":""},{"$f":"IF($E33=\"\",\"\",IF(INDEX(E_SourceStreams!$A:$N,DN33,AI$7)=\"\",\"\",INDEX(E_SourceStreams!$A:$N,DN33,AI$7)))","v":""},{"$f":"IF($E33=\"\",\"\",IF(INDEX(E_SourceStreams!$A:$N,DO33,AJ$7)=\"\",\"\",INDEX(E_SourceStreams!$A:$N,DO33,AJ$7)))","v":""},{"$f":"IF($E33=\"\",\"\",IF(INDEX(E_SourceStreams!$A:$N,DP33,AK$7)=\"\",\"\",INDEX(E_SourceStreams!$A:$N,DP33,AK$7)))","v":""},{"$f":"IF($E33=\"\",\"\",IF(INDEX(E_SourceStreams!$A:$N,DQ33,AL$7)=\"\",\"\",INDEX(E_SourceStreams!$A:$N,DQ33,AL$7)))","v":""},{"$f":"IF($E33=\"\",\"\",IF(INDEX(E_SourceStreams!$A:$N,DR33,AM$7)=\"\",\"\",INDEX(E_SourceStreams!$A:$N,DR33,AM$7)))","v":""},{"$f":"IF($E33=\"\",\"\",IF(INDEX(E_SourceStreams!$A:$N,DS33,AN$7)=\"\",\"\",INDEX(E_SourceStreams!$A:$N,DS33,AN$7)))","v":""},{"$f":"IF($E33=\"\",\"\",IF(INDEX(E_SourceStreams!$A:$N,DT33,AO$7)=\"\",\"\",INDEX(E_SourceStreams!$A:$N,DT33,AO$7)))","v":""},{"$f":"IF($E33=\"\",\"\",IF(INDEX(E_SourceStreams!$A:$N,DU33,AP$7)=\"\",\"\",INDEX(E_SourceStreams!$A:$N,DU33,AP$7)))","v":""},{"$f":"IF($E33=\"\",\"\",IF(INDEX(E_SourceStreams!$A:$N,DV33,AQ$7)=\"\",\"\",INDEX(E_SourceStreams!$A:$N,DV33,AQ$7)))","v":""},{"$f":"IF($E33=\"\",\"\",IF(INDEX(E_SourceStreams!$A:$N,DW33,AR$7)=\"\",\"\",INDEX(E_SourceStreams!$A:$N,DW33,AR$7)))","v":""},{"$f":"IF($E33=\"\",\"\",IF(INDEX(E_SourceStreams!$A:$N,DX33,AS$7)=\"\",\"\",INDEX(E_SourceStreams!$A:$N,DX33,AS$7)))","v":""},{"$f":"IF($E33=\"\",\"\",IF(INDEX(E_SourceStreams!$A:$N,DY33,AT$7)=\"\",\"\",INDEX(E_SourceStreams!$A:$N,DY33,AT$7)))","v":""},{"$f":"IF($E33=\"\",\"\",IF(INDEX(E_SourceStreams!$A:$N,DZ33,AU$7)=\"\",\"\",INDEX(E_SourceStreams!$A:$N,DZ33,AU$7)))","v":""},{"$f":"IF($E33=\"\",\"\",IF(INDEX(E_SourceStreams!$A:$N,EA33,AV$7)=\"\",\"\",INDEX(E_SourceStreams!$A:$N,EA33,AV$7)))","v":""},{"$f":"IF($E33=\"\",\"\",IF(INDEX(E_SourceStreams!$A:$N,EB33,AW$7)=\"\",\"\",INDEX(E_SourceStreams!$A:$N,EB33,AW$7)))","v":""},{"$f":"IF($E33=\"\",\"\",IF(INDEX(E_SourceStreams!$A:$N,EC33,AX$7)=\"\",\"\",INDEX(E_SourceStreams!$A:$N,EC33,AX$7)))","v":""},{"$f":"IF($E33=\"\",\"\",IF(INDEX(E_SourceStreams!$A:$N,ED33,AY$7)=\"\",\"\",INDEX(E_SourceStreams!$A:$N,ED33,AY$7)))","v":""},{"$f":"IF($E33=\"\",\"\",IF(INDEX(E_SourceStreams!$A:$N,EE33,AZ$7)=\"\",\"\",INDEX(E_SourceStreams!$A:$N,EE33,AZ$7)))","v":""},{"$f":"IF($E33=\"\",\"\",IF(INDEX(E_SourceStreams!$A:$N,EF33,BA$7)=\"\",\"\",INDEX(E_SourceStreams!$A:$N,EF33,BA$7)))","v":""},{"$f":"IF($E33=\"\",\"\",IF(INDEX(E_SourceStreams!$A:$N,EG33,BB$7)=\"\",\"\",INDEX(E_SourceStreams!$A:$N,EG33,BB$7)))","v":""},{"$f":"IF($E33=\"\",\"\",IF(INDEX(E_SourceStreams!$A:$N,EH33,BC$7)=\"\",\"\",INDEX(E_SourceStreams!$A:$N,EH33,BC$7)))","v":""},{"$f":"IF($E33=\"\",\"\",IF(INDEX(E_SourceStreams!$A:$N,EI33,BD$7)=\"\",\"\",INDEX(E_SourceStreams!$A:$N,EI33,BD$7)))","v":""},{"$f":"IF($E33=\"\",\"\",IF(INDEX(E_SourceStreams!$A:$N,EJ33,BE$7)=\"\",\"\",INDEX(E_SourceStreams!$A:$N,EJ33,BE$7)))","v":""},{"$f":"IF($E33=\"\",\"\",IF(INDEX(E_SourceStreams!$A:$N,EK33,BF$7)=\"\",\"\",INDEX(E_SourceStreams!$A:$N,EK33,BF$7)))","v":""},{"$f":"IF($E33=\"\",\"\",IF(INDEX(E_SourceStreams!$A:$N,EL33,BG$7)=\"\",\"\",INDEX(E_SourceStreams!$A:$N,EL33,BG$7)))","v":""},{"$f":"IF($E33=\"\",\"\",IF(INDEX(E_SourceStreams!$A:$N,EM33,BH$7)=\"\",\"\",INDEX(E_SourceStreams!$A:$N,EM33,BH$7)))","v":""},{"$f":"IF($E33=\"\",\"\",IF(INDEX(E_SourceStreams!$A:$N,EN33,BI$7)=\"\",\"\",INDEX(E_SourceStreams!$A:$N,EN33,BI$7)))","v":""},{"$f":"IF($E33=\"\",\"\",IF(INDEX(E_SourceStreams!$A:$N,EO33,BJ$7)=\"\",\"\",INDEX(E_SourceStreams!$A:$N,EO33,BJ$7)))","v":""},{"$f":"IF($E33=\"\",\"\",IF(INDEX(E_SourceStreams!$A:$N,EP33,BK$7)=\"\",\"\",INDEX(E_SourceStreams!$A:$N,EP33,BK$7)))","v":""},{"$f":"IF($E33=\"\",\"\",IF(INDEX(E_SourceStreams!$A:$N,EQ33,BL$7)=\"\",\"\",INDEX(E_SourceStreams!$A:$N,EQ33,BL$7)))","v":""},{"$f":"IF($E33=\"\",\"\",IF(INDEX(E_SourceStreams!$A:$N,ER33,BM$7)=\"\",\"\",INDEX(E_SourceStreams!$A:$N,ER33,BM$7)))","v":""},{"$f":"IF($E33=\"\",\"\",IF(INDEX(E_SourceStreams!$A:$N,ES33,BN$7)=\"\",\"\",INDEX(E_SourceStreams!$A:$N,ES33,BN$7)))","v":""},{"$f":"IF($E33=\"\",\"\",IF(INDEX(E_SourceStreams!$A:$N,ET33,BO$7)=\"\",\"\",INDEX(E_SourceStreams!$A:$N,ET33,BO$7)))","v":""},{"$f":"IF($E33=\"\",\"\",IF(INDEX(E_SourceStreams!$A:$N,EU33,BP$7)=\"\",\"\",INDEX(E_SourceStreams!$A:$N,EU33,BP$7)))","v":""},{"$f":"IF($E33=\"\",\"\",IF(INDEX(E_SourceStreams!$A:$N,EV33,BQ$7)=\"\",\"\",INDEX(E_SourceStreams!$A:$N,EV33,BQ$7)))","v":""},{"$f":"IF($E33=\"\",\"\",IF(INDEX(E_SourceStreams!$A:$N,EW33,BR$7)=\"\",\"\",INDEX(E_SourceStreams!$A:$N,EW33,BR$7)))","v":""},{"$f":"IF($E33=\"\",\"\",IF(INDEX(E_SourceStreams!$A:$N,EX33,BS$7)=\"\",\"\",INDEX(E_SourceStreams!$A:$N,EX33,BS$7)))","v":""},{"$f":"IF($E33=\"\",\"\",IF(INDEX(E_SourceStreams!$A:$N,EY33,BT$7)=\"\",\"\",INDEX(E_SourceStreams!$A:$N,EY33,BT$7)))","v":""},null,null,null,null,null,null,null,null,null,null,null,null,null,null,null,"SourceCategory_",{"$f":"INDEX(C_InstallationDescription!$A$226:$A$332,ROWS($CI$11:CI33))=\"ausblenden\"","v":false},"SourceStreamName_",null,1585,1587,1589,1591,1593,1595,1597,1597,1597,1597,1597,1600,1604,1605,1606,1613,1623,1623,1623,1623,1623,1623,1623,1614,1624,1624,1624,1624,1624,1624,1624,1615,1625,1625,1625,1625,1625,1625,1625,1616,1626,1626,1626,1626,1626,1626,1626,1617,1627,1627,1627,1627,1627,1627,1627,1618,1628,1628,1628,1628,1628,1628,1628,1634]
[null,{"$f":"IF(COUNTIF($CK$10:CK34,TRUE)>0,\"\",INDEX(C_InstallationDescription!$E$226:$E$242,ROWS($A$11:A34)))","v":""},{"$f":"IF($E34=\"\",\"\",INDEX(C_InstallationDescription!F:F,MATCH($B34,C_InstallationDescription!$E:$E,0)))","v":""},{"$f":"IF($E34=\"\",\"\",INDEX(C_InstallationDescription!I:I,MATCH($B34,C_InstallationDescription!$E:$E,0)))","v":""},{"$f":"IF($B34=\"\",\"\",INDEX(C_InstallationDescription!F:F,MATCH($CJ34,C_InstallationDescription!$Q:$Q,0)))","v":""},{"$f":"IF($E34=\"\",\"\",INDEX(C_InstallationDescription!L:L,MATCH($CJ34,C_InstallationDescription!$Q:$Q,0)))","v":""},{"$f":"IF($E34=\"\",\"\",INDEX(C_InstallationDescription!M:M,MATCH($CJ34,C_InstallationDescription!$Q:$Q,0)))","v":""},{"$f":"IF($E34=\"\",\"\",INDEX(C_InstallationDescription!N:N,MATCH($CJ34,C_InstallationDescription!$Q:$Q,0)))","v":""},{"$f":"IF($E34=\"\",\"\",IF(INDEX(E_SourceStreams!$A:$N,CN34,I$7)=\"\",\"\",INDEX(E_SourceStreams!$A:$N,CN34,I$7)))","v":""},{"$f":"IF($E34=\"\",\"\",IF(INDEX(E_SourceStreams!$A:$N,CO34,J$7)=\"\",\"\",INDEX(E_SourceStreams!$A:$N,CO34,J$7)))","v":""},{"$f":"IF($E34=\"\",\"\",IF(INDEX(E_SourceStreams!$A:$N,CP34,K$7)=\"\",\"\",INDEX(E_SourceStreams!$A:$N,CP34,K$7)))","v":""},{"$f":"IF($E34=\"\",\"\",IF(INDEX(E_SourceStreams!$A:$N,CQ34,L$7)=\"\",\"\",INDEX(E_SourceStreams!$A:$N,CQ34,L$7)))","v":""},{"$f":"IF($E34=\"\",\"\",IF(INDEX(E_SourceStreams!$A:$N,CR34,M$7)=\"\",\"\",INDEX(E_SourceStreams!$A:$N,CR34,M$7)))","v":""},{"$f":"IF($E34=\"\",\"\",IF(INDEX(E_SourceStreams!$A:$N,CS34,N$7)=\"\",\"\",INDEX(E_SourceStreams!$A:$N,CS34,N$7)))","v":""},{"$f":"IF($E34=\"\",\"\",IF(INDEX(E_SourceStreams!$A:$N,CT34,O$7)=\"\",\"\",INDEX(E_SourceStreams!$A:$N,CT34,O$7)))","v":""},{"$f":"IF($E34=\"\",\"\",IF(INDEX(E_SourceStreams!$A:$N,CU34,P$7)=\"\",\"\",INDEX(E_SourceStreams!$A:$N,CU34,P$7)))","v":""},{"$f":"IF($E34=\"\",\"\",IF(INDEX(E_SourceStreams!$A:$N,CV34,Q$7)=\"\",\"\",INDEX(E_SourceStreams!$A:$N,CV34,Q$7)))","v":""},{"$f":"IF($E34=\"\",\"\",IF(INDEX(E_SourceStreams!$A:$N,CW34,R$7)=\"\",\"\",INDEX(E_SourceStreams!$A:$N,CW34,R$7)))","v":""},{"$f":"IF($E34=\"\",\"\",IF(INDEX(E_SourceStreams!$A:$N,CX34,S$7)=\"\",\"\",INDEX(E_SourceStreams!$A:$N,CX34,S$7)))","v":""},{"$f":"IF($E34=\"\",\"\",IF(INDEX(E_SourceStreams!$A:$N,CY34,T$7)=\"\",\"\",INDEX(E_SourceStreams!$A:$N,CY34,T$7)))","v":""},{"$f":"IF($E34=\"\",\"\",IF(INDEX(E_SourceStreams!$A:$N,CZ34,U$7)=\"\",\"\",INDEX(E_SourceStreams!$A:$N,CZ34,U$7)))","v":""},{"$f":"IF($E34=\"\",\"\",IF(INDEX(E_SourceStreams!$A:$N,DA34,V$7)=\"\",\"\",INDEX(E_SourceStreams!$A:$N,DA34,V$7)))","v":""},{"$f":"IF($E34=\"\",\"\",IF(INDEX(E_SourceStreams!$A:$N,DB34,W$7)=\"\",\"\",INDEX(E_SourceStreams!$A:$N,DB34,W$7)))","v":""},{"$f":"IF($E34=\"\",\"\",IF(INDEX(E_SourceStreams!$A:$N,DC34,X$7)=\"\",\"\",INDEX(E_SourceStreams!$A:$N,DC34,X$7)))","v":""},{"$f":"IF($E34=\"\",\"\",IF(INDEX(E_SourceStreams!$A:$N,DD34,Y$7)=\"\",\"\",INDEX(E_SourceStreams!$A:$N,DD34,Y$7)))","v":""},{"$f":"IF($E34=\"\",\"\",IF(INDEX(E_SourceStreams!$A:$N,DE34,Z$7)=\"\",\"\",INDEX(E_SourceStreams!$A:$N,DE34,Z$7)))","v":""},{"$f":"IF($E34=\"\",\"\",IF(INDEX(E_SourceStreams!$A:$N,DF34,AA$7)=\"\",\"\",INDEX(E_SourceStreams!$A:$N,DF34,AA$7)))","v":""},{"$f":"IF($E34=\"\",\"\",IF(INDEX(E_SourceStreams!$A:$N,DG34,AB$7)=\"\",\"\",INDEX(E_SourceStreams!$A:$N,DG34,AB$7)))","v":""},{"$f":"IF($E34=\"\",\"\",IF(INDEX(E_SourceStreams!$A:$N,DH34,AC$7)=\"\",\"\",INDEX(E_SourceStreams!$A:$N,DH34,AC$7)))","v":""},{"$f":"IF($E34=\"\",\"\",IF(INDEX(E_SourceStreams!$A:$N,DI34,AD$7)=\"\",\"\",INDEX(E_SourceStreams!$A:$N,DI34,AD$7)))","v":""},{"$f":"IF($E34=\"\",\"\",IF(INDEX(E_SourceStreams!$A:$N,DJ34,AE$7)=\"\",\"\",INDEX(E_SourceStreams!$A:$N,DJ34,AE$7)))","v":""},{"$f":"IF($E34=\"\",\"\",IF(INDEX(E_SourceStreams!$A:$N,DK34,AF$7)=\"\",\"\",INDEX(E_SourceStreams!$A:$N,DK34,AF$7)))","v":""},{"$f":"IF($E34=\"\",\"\",IF(INDEX(E_SourceStreams!$A:$N,DL34,AG$7)=\"\",\"\",INDEX(E_SourceStreams!$A:$N,DL34,AG$7)))","v":""},{"$f":"IF($E34=\"\",\"\",IF(INDEX(E_SourceStreams!$A:$N,DM34,AH$7)=\"\",\"\",INDEX(E_SourceStreams!$A:$N,DM34,AH$7)))","v":""},{"$f":"IF($E34=\"\",\"\",IF(INDEX(E_SourceStreams!$A:$N,DN34,AI$7)=\"\",\"\",INDEX(E_SourceStreams!$A:$N,DN34,AI$7)))","v":""},{"$f":"IF($E34=\"\",\"\",IF(INDEX(E_SourceStreams!$A:$N,DO34,AJ$7)=\"\",\"\",INDEX(E_SourceStreams!$A:$N,DO34,AJ$7)))","v":""},{"$f":"IF($E34=\"\",\"\",IF(INDEX(E_SourceStreams!$A:$N,DP34,AK$7)=\"\",\"\",INDEX(E_SourceStreams!$A:$N,DP34,AK$7)))","v":""},{"$f":"IF($E34=\"\",\"\",IF(INDEX(E_SourceStreams!$A:$N,DQ34,AL$7)=\"\",\"\",INDEX(E_SourceStreams!$A:$N,DQ34,AL$7)))","v":""},{"$f":"IF($E34=\"\",\"\",IF(INDEX(E_SourceStreams!$A:$N,DR34,AM$7)=\"\",\"\",INDEX(E_SourceStreams!$A:$N,DR34,AM$7)))","v":""},{"$f":"IF($E34=\"\",\"\",IF(INDEX(E_SourceStreams!$A:$N,DS34,AN$7)=\"\",\"\",INDEX(E_SourceStreams!$A:$N,DS34,AN$7)))","v":""},{"$f":"IF($E34=\"\",\"\",IF(INDEX(E_SourceStreams!$A:$N,DT34,AO$7)=\"\",\"\",INDEX(E_SourceStreams!$A:$N,DT34,AO$7)))","v":""},{"$f":"IF($E34=\"\",\"\",IF(INDEX(E_SourceStreams!$A:$N,DU34,AP$7)=\"\",\"\",INDEX(E_SourceStreams!$A:$N,DU34,AP$7)))","v":""},{"$f":"IF($E34=\"\",\"\",IF(INDEX(E_SourceStreams!$A:$N,DV34,AQ$7)=\"\",\"\",INDEX(E_SourceStreams!$A:$N,DV34,AQ$7)))","v":""},{"$f":"IF($E34=\"\",\"\",IF(INDEX(E_SourceStreams!$A:$N,DW34,AR$7)=\"\",\"\",INDEX(E_SourceStreams!$A:$N,DW34,AR$7)))","v":""},{"$f":"IF($E34=\"\",\"\",IF(INDEX(E_SourceStreams!$A:$N,DX34,AS$7)=\"\",\"\",INDEX(E_SourceStreams!$A:$N,DX34,AS$7)))","v":""},{"$f":"IF($E34=\"\",\"\",IF(INDEX(E_SourceStreams!$A:$N,DY34,AT$7)=\"\",\"\",INDEX(E_SourceStreams!$A:$N,DY34,AT$7)))","v":""},{"$f":"IF($E34=\"\",\"\",IF(INDEX(E_SourceStreams!$A:$N,DZ34,AU$7)=\"\",\"\",INDEX(E_SourceStreams!$A:$N,DZ34,AU$7)))","v":""},{"$f":"IF($E34=\"\",\"\",IF(INDEX(E_SourceStreams!$A:$N,EA34,AV$7)=\"\",\"\",INDEX(E_SourceStreams!$A:$N,EA34,AV$7)))","v":""},{"$f":"IF($E34=\"\",\"\",IF(INDEX(E_SourceStreams!$A:$N,EB34,AW$7)=\"\",\"\",INDEX(E_SourceStreams!$A:$N,EB34,AW$7)))","v":""},{"$f":"IF($E34=\"\",\"\",IF(INDEX(E_SourceStreams!$A:$N,EC34,AX$7)=\"\",\"\",INDEX(E_SourceStreams!$A:$N,EC34,AX$7)))","v":""},{"$f":"IF($E34=\"\",\"\",IF(INDEX(E_SourceStreams!$A:$N,ED34,AY$7)=\"\",\"\",INDEX(E_SourceStreams!$A:$N,ED34,AY$7)))","v":""},{"$f":"IF($E34=\"\",\"\",IF(INDEX(E_SourceStreams!$A:$N,EE34,AZ$7)=\"\",\"\",INDEX(E_SourceStreams!$A:$N,EE34,AZ$7)))","v":""},{"$f":"IF($E34=\"\",\"\",IF(INDEX(E_SourceStreams!$A:$N,EF34,BA$7)=\"\",\"\",INDEX(E_SourceStreams!$A:$N,EF34,BA$7)))","v":""},{"$f":"IF($E34=\"\",\"\",IF(INDEX(E_SourceStreams!$A:$N,EG34,BB$7)=\"\",\"\",INDEX(E_SourceStreams!$A:$N,EG34,BB$7)))","v":""},{"$f":"IF($E34=\"\",\"\",IF(INDEX(E_SourceStreams!$A:$N,EH34,BC$7)=\"\",\"\",INDEX(E_SourceStreams!$A:$N,EH34,BC$7)))","v":""},{"$f":"IF($E34=\"\",\"\",IF(INDEX(E_SourceStreams!$A:$N,EI34,BD$7)=\"\",\"\",INDEX(E_SourceStreams!$A:$N,EI34,BD$7)))","v":""},{"$f":"IF($E34=\"\",\"\",IF(INDEX(E_SourceStreams!$A:$N,EJ34,BE$7)=\"\",\"\",INDEX(E_SourceStreams!$A:$N,EJ34,BE$7)))","v":""},{"$f":"IF($E34=\"\",\"\",IF(INDEX(E_SourceStreams!$A:$N,EK34,BF$7)=\"\",\"\",INDEX(E_SourceStreams!$A:$N,EK34,BF$7)))","v":""},{"$f":"IF($E34=\"\",\"\",IF(INDEX(E_SourceStreams!$A:$N,EL34,BG$7)=\"\",\"\",INDEX(E_SourceStreams!$A:$N,EL34,BG$7)))","v":""},{"$f":"IF($E34=\"\",\"\",IF(INDEX(E_SourceStreams!$A:$N,EM34,BH$7)=\"\",\"\",INDEX(E_SourceStreams!$A:$N,EM34,BH$7)))","v":""},{"$f":"IF($E34=\"\",\"\",IF(INDEX(E_SourceStreams!$A:$N,EN34,BI$7)=\"\",\"\",INDEX(E_SourceStreams!$A:$N,EN34,BI$7)))","v":""},{"$f":"IF($E34=\"\",\"\",IF(INDEX(E_SourceStreams!$A:$N,EO34,BJ$7)=\"\",\"\",INDEX(E_SourceStreams!$A:$N,EO34,BJ$7)))","v":""},{"$f":"IF($E34=\"\",\"\",IF(INDEX(E_SourceStreams!$A:$N,EP34,BK$7)=\"\",\"\",INDEX(E_SourceStreams!$A:$N,EP34,BK$7)))","v":""},{"$f":"IF($E34=\"\",\"\",IF(INDEX(E_SourceStreams!$A:$N,EQ34,BL$7)=\"\",\"\",INDEX(E_SourceStreams!$A:$N,EQ34,BL$7)))","v":""},{"$f":"IF($E34=\"\",\"\",IF(INDEX(E_SourceStreams!$A:$N,ER34,BM$7)=\"\",\"\",INDEX(E_SourceStreams!$A:$N,ER34,BM$7)))","v":""},{"$f":"IF($E34=\"\",\"\",IF(INDEX(E_SourceStreams!$A:$N,ES34,BN$7)=\"\",\"\",INDEX(E_SourceStreams!$A:$N,ES34,BN$7)))","v":""},{"$f":"IF($E34=\"\",\"\",IF(INDEX(E_SourceStreams!$A:$N,ET34,BO$7)=\"\",\"\",INDEX(E_SourceStreams!$A:$N,ET34,BO$7)))","v":""},{"$f":"IF($E34=\"\",\"\",IF(INDEX(E_SourceStreams!$A:$N,EU34,BP$7)=\"\",\"\",INDEX(E_SourceStreams!$A:$N,EU34,BP$7)))","v":""},{"$f":"IF($E34=\"\",\"\",IF(INDEX(E_SourceStreams!$A:$N,EV34,BQ$7)=\"\",\"\",INDEX(E_SourceStreams!$A:$N,EV34,BQ$7)))","v":""},{"$f":"IF($E34=\"\",\"\",IF(INDEX(E_SourceStreams!$A:$N,EW34,BR$7)=\"\",\"\",INDEX(E_SourceStreams!$A:$N,EW34,BR$7)))","v":""},{"$f":"IF($E34=\"\",\"\",IF(INDEX(E_SourceStreams!$A:$N,EX34,BS$7)=\"\",\"\",INDEX(E_SourceStreams!$A:$N,EX34,BS$7)))","v":""},{"$f":"IF($E34=\"\",\"\",IF(INDEX(E_SourceStreams!$A:$N,EY34,BT$7)=\"\",\"\",INDEX(E_SourceStreams!$A:$N,EY34,BT$7)))","v":""},null,null,null,null,null,null,null,null,null,null,null,null,null,null,null,"SourceCategory_",{"$f":"INDEX(C_InstallationDescription!$A$226:$A$332,ROWS($CI$11:CI34))=\"ausblenden\"","v":false},"SourceStreamName_",null,1651,1653,1655,1657,1659,1661,1663,1663,1663,1663,1663,1666,1670,1671,1672,1679,1689,1689,1689,1689,1689,1689,1689,1680,1690,1690,1690,1690,1690,1690,1690,1681,1691,1691,1691,1691,1691,1691,1691,1682,1692,1692,1692,1692,1692,1692,1692,1683,1693,1693,1693,1693,1693,1693,1693,1684,1694,1694,1694,1694,1694,1694,1694,1700]
[null,{"$f":"IF(COUNTIF($CK$10:CK35,TRUE)>0,\"\",INDEX(C_InstallationDescription!$E$226:$E$242,ROWS($A$11:A35)))","v":""},{"$f":"IF($E35=\"\",\"\",INDEX(C_InstallationDescription!F:F,MATCH($B35,C_InstallationDescription!$E:$E,0)))","v":""},{"$f":"IF($E35=\"\",\"\",INDEX(C_InstallationDescription!I:I,MATCH($B35,C_InstallationDescription!$E:$E,0)))","v":""},{"$f":"IF($B35=\"\",\"\",INDEX(C_InstallationDescription!F:F,MATCH($CJ35,C_InstallationDescription!$Q:$Q,0)))","v":""},{"$f":"IF($E35=\"\",\"\",INDEX(C_InstallationDescription!L:L,MATCH($CJ35,C_InstallationDescription!$Q:$Q,0)))","v":""},{"$f":"IF($E35=\"\",\"\",INDEX(C_InstallationDescription!M:M,MATCH($CJ35,C_InstallationDescription!$Q:$Q,0)))","v":""},{"$f":"IF($E35=\"\",\"\",INDEX(C_InstallationDescription!N:N,MATCH($CJ35,C_InstallationDescription!$Q:$Q,0)))","v":""},{"$f":"IF($E35=\"\",\"\",IF(INDEX(E_SourceStreams!$A:$N,CN35,I$7)=\"\",\"\",INDEX(E_SourceStreams!$A:$N,CN35,I$7)))","v":""},{"$f":"IF($E35=\"\",\"\",IF(INDEX(E_SourceStreams!$A:$N,CO35,J$7)=\"\",\"\",INDEX(E_SourceStreams!$A:$N,CO35,J$7)))","v":""},{"$f":"IF($E35=\"\",\"\",IF(INDEX(E_SourceStreams!$A:$N,CP35,K$7)=\"\",\"\",INDEX(E_SourceStreams!$A:$N,CP35,K$7)))","v":""},{"$f":"IF($E35=\"\",\"\",IF(INDEX(E_SourceStreams!$A:$N,CQ35,L$7)=\"\",\"\",INDEX(E_SourceStreams!$A:$N,CQ35,L$7)))","v":""},{"$f":"IF($E35=\"\",\"\",IF(INDEX(E_SourceStreams!$A:$N,CR35,M$7)=\"\",\"\",INDEX(E_SourceStreams!$A:$N,CR35,M$7)))","v":""},{"$f":"IF($E35=\"\",\"\",IF(INDEX(E_SourceStreams!$A:$N,CS35,N$7)=\"\",\"\",INDEX(E_SourceStreams!$A:$N,CS35,N$7)))","v":""},{"$f":"IF($E35=\"\",\"\",IF(INDEX(E_SourceStreams!$A:$N,CT35,O$7)=\"\",\"\",INDEX(E_SourceStreams!$A:$N,CT35,O$7)))","v":""},{"$f":"IF($E35=\"\",\"\",IF(INDEX(E_SourceStreams!$A:$N,CU35,P$7)=\"\",\"\",INDEX(E_SourceStreams!$A:$N,CU35,P$7)))","v":""},{"$f":"IF($E35=\"\",\"\",IF(INDEX(E_SourceStreams!$A:$N,CV35,Q$7)=\"\",\"\",INDEX(E_SourceStreams!$A:$N,CV35,Q$7)))","v":""},{"$f":"IF($E35=\"\",\"\",IF(INDEX(E_SourceStreams!$A:$N,CW35,R$7)=\"\",\"\",INDEX(E_SourceStreams!$A:$N,CW35,R$7)))","v":""},{"$f":"IF($E35=\"\",\"\",IF(INDEX(E_SourceStreams!$A:$N,CX35,S$7)=\"\",\"\",INDEX(E_SourceStreams!$A:$N,CX35,S$7)))","v":""},{"$f":"IF($E35=\"\",\"\",IF(INDEX(E_SourceStreams!$A:$N,CY35,T$7)=\"\",\"\",INDEX(E_SourceStreams!$A:$N,CY35,T$7)))","v":""},{"$f":"IF($E35=\"\",\"\",IF(INDEX(E_SourceStreams!$A:$N,CZ35,U$7)=\"\",\"\",INDEX(E_SourceStreams!$A:$N,CZ35,U$7)))","v":""},{"$f":"IF($E35=\"\",\"\",IF(INDEX(E_SourceStreams!$A:$N,DA35,V$7)=\"\",\"\",INDEX(E_SourceStreams!$A:$N,DA35,V$7)))","v":""},{"$f":"IF($E35=\"\",\"\",IF(INDEX(E_SourceStreams!$A:$N,DB35,W$7)=\"\",\"\",INDEX(E_SourceStreams!$A:$N,DB35,W$7)))","v":""},{"$f":"IF($E35=\"\",\"\",IF(INDEX(E_SourceStreams!$A:$N,DC35,X$7)=\"\",\"\",INDEX(E_SourceStreams!$A:$N,DC35,X$7)))","v":""},{"$f":"IF($E35=\"\",\"\",IF(INDEX(E_SourceStreams!$A:$N,DD35,Y$7)=\"\",\"\",INDEX(E_SourceStreams!$A:$N,DD35,Y$7)))","v":""},{"$f":"IF($E35=\"\",\"\",IF(INDEX(E_SourceStreams!$A:$N,DE35,Z$7)=\"\",\"\",INDEX(E_SourceStreams!$A:$N,DE35,Z$7)))","v":""},{"$f":"IF($E35=\"\",\"\",IF(INDEX(E_SourceStreams!$A:$N,DF35,AA$7)=\"\",\"\",INDEX(E_SourceStreams!$A:$N,DF35,AA$7)))","v":""},{"$f":"IF($E35=\"\",\"\",IF(INDEX(E_SourceStreams!$A:$N,DG35,AB$7)=\"\",\"\",INDEX(E_SourceStreams!$A:$N,DG35,AB$7)))","v":""},{"$f":"IF($E35=\"\",\"\",IF(INDEX(E_SourceStreams!$A:$N,DH35,AC$7)=\"\",\"\",INDEX(E_SourceStreams!$A:$N,DH35,AC$7)))","v":""},{"$f":"IF($E35=\"\",\"\",IF(INDEX(E_SourceStreams!$A:$N,DI35,AD$7)=\"\",\"\",INDEX(E_SourceStreams!$A:$N,DI35,AD$7)))","v":""},{"$f":"IF($E35=\"\",\"\",IF(INDEX(E_SourceStreams!$A:$N,DJ35,AE$7)=\"\",\"\",INDEX(E_SourceStreams!$A:$N,DJ35,AE$7)))","v":""},{"$f":"IF($E35=\"\",\"\",IF(INDEX(E_SourceStreams!$A:$N,DK35,AF$7)=\"\",\"\",INDEX(E_SourceStreams!$A:$N,DK35,AF$7)))","v":""},{"$f":"IF($E35=\"\",\"\",IF(INDEX(E_SourceStreams!$A:$N,DL35,AG$7)=\"\",\"\",INDEX(E_SourceStreams!$A:$N,DL35,AG$7)))","v":""},{"$f":"IF($E35=\"\",\"\",IF(INDEX(E_SourceStreams!$A:$N,DM35,AH$7)=\"\",\"\",INDEX(E_SourceStreams!$A:$N,DM35,AH$7)))","v":""},{"$f":"IF($E35=\"\",\"\",IF(INDEX(E_SourceStreams!$A:$N,DN35,AI$7)=\"\",\"\",INDEX(E_SourceStreams!$A:$N,DN35,AI$7)))","v":""},{"$f":"IF($E35=\"\",\"\",IF(INDEX(E_SourceStreams!$A:$N,DO35,AJ$7)=\"\",\"\",INDEX(E_SourceStreams!$A:$N,DO35,AJ$7)))","v":""},{"$f":"IF($E35=\"\",\"\",IF(INDEX(E_SourceStreams!$A:$N,DP35,AK$7)=\"\",\"\",INDEX(E_SourceStreams!$A:$N,DP35,AK$7)))","v":""},{"$f":"IF($E35=\"\",\"\",IF(INDEX(E_SourceStreams!$A:$N,DQ35,AL$7)=\"\",\"\",INDEX(E_SourceStreams!$A:$N,DQ35,AL$7)))","v":""},{"$f":"IF($E35=\"\",\"\",IF(INDEX(E_SourceStreams!$A:$N,DR35,AM$7)=\"\",\"\",INDEX(E_SourceStreams!$A:$N,DR35,AM$7)))","v":""},{"$f":"IF($E35=\"\",\"\",IF(INDEX(E_SourceStreams!$A:$N,DS35,AN$7)=\"\",\"\",INDEX(E_SourceStreams!$A:$N,DS35,AN$7)))","v":""},{"$f":"IF($E35=\"\",\"\",IF(INDEX(E_SourceStreams!$A:$N,DT35,AO$7)=\"\",\"\",INDEX(E_SourceStreams!$A:$N,DT35,AO$7)))","v":""},{"$f":"IF($E35=\"\",\"\",IF(INDEX(E_SourceStreams!$A:$N,DU35,AP$7)=\"\",\"\",INDEX(E_SourceStreams!$A:$N,DU35,AP$7)))","v":""},{"$f":"IF($E35=\"\",\"\",IF(INDEX(E_SourceStreams!$A:$N,DV35,AQ$7)=\"\",\"\",INDEX(E_SourceStreams!$A:$N,DV35,AQ$7)))","v":""},{"$f":"IF($E35=\"\",\"\",IF(INDEX(E_SourceStreams!$A:$N,DW35,AR$7)=\"\",\"\",INDEX(E_SourceStreams!$A:$N,DW35,AR$7)))","v":""},{"$f":"IF($E35=\"\",\"\",IF(INDEX(E_SourceStreams!$A:$N,DX35,AS$7)=\"\",\"\",INDEX(E_SourceStreams!$A:$N,DX35,AS$7)))","v":""},{"$f":"IF($E35=\"\",\"\",IF(INDEX(E_SourceStreams!$A:$N,DY35,AT$7)=\"\",\"\",INDEX(E_SourceStreams!$A:$N,DY35,AT$7)))","v":""},{"$f":"IF($E35=\"\",\"\",IF(INDEX(E_SourceStreams!$A:$N,DZ35,AU$7)=\"\",\"\",INDEX(E_SourceStreams!$A:$N,DZ35,AU$7)))","v":""},{"$f":"IF($E35=\"\",\"\",IF(INDEX(E_SourceStreams!$A:$N,EA35,AV$7)=\"\",\"\",INDEX(E_SourceStreams!$A:$N,EA35,AV$7)))","v":""},{"$f":"IF($E35=\"\",\"\",IF(INDEX(E_SourceStreams!$A:$N,EB35,AW$7)=\"\",\"\",INDEX(E_SourceStreams!$A:$N,EB35,AW$7)))","v":""},{"$f":"IF($E35=\"\",\"\",IF(INDEX(E_SourceStreams!$A:$N,EC35,AX$7)=\"\",\"\",INDEX(E_SourceStreams!$A:$N,EC35,AX$7)))","v":""},{"$f":"IF($E35=\"\",\"\",IF(INDEX(E_SourceStreams!$A:$N,ED35,AY$7)=\"\",\"\",INDEX(E_SourceStreams!$A:$N,ED35,AY$7)))","v":""},{"$f":"IF($E35=\"\",\"\",IF(INDEX(E_SourceStreams!$A:$N,EE35,AZ$7)=\"\",\"\",INDEX(E_SourceStreams!$A:$N,EE35,AZ$7)))","v":""},{"$f":"IF($E35=\"\",\"\",IF(INDEX(E_SourceStreams!$A:$N,EF35,BA$7)=\"\",\"\",INDEX(E_SourceStreams!$A:$N,EF35,BA$7)))","v":""},{"$f":"IF($E35=\"\",\"\",IF(INDEX(E_SourceStreams!$A:$N,EG35,BB$7)=\"\",\"\",INDEX(E_SourceStreams!$A:$N,EG35,BB$7)))","v":""},{"$f":"IF($E35=\"\",\"\",IF(INDEX(E_SourceStreams!$A:$N,EH35,BC$7)=\"\",\"\",INDEX(E_SourceStreams!$A:$N,EH35,BC$7)))","v":""},{"$f":"IF($E35=\"\",\"\",IF(INDEX(E_SourceStreams!$A:$N,EI35,BD$7)=\"\",\"\",INDEX(E_SourceStreams!$A:$N,EI35,BD$7)))","v":""},{"$f":"IF($E35=\"\",\"\",IF(INDEX(E_SourceStreams!$A:$N,EJ35,BE$7)=\"\",\"\",INDEX(E_SourceStreams!$A:$N,EJ35,BE$7)))","v":""},{"$f":"IF($E35=\"\",\"\",IF(INDEX(E_SourceStreams!$A:$N,EK35,BF$7)=\"\",\"\",INDEX(E_SourceStreams!$A:$N,EK35,BF$7)))","v":""},{"$f":"IF($E35=\"\",\"\",IF(INDEX(E_SourceStreams!$A:$N,EL35,BG$7)=\"\",\"\",INDEX(E_SourceStreams!$A:$N,EL35,BG$7)))","v":""},{"$f":"IF($E35=\"\",\"\",IF(INDEX(E_SourceStreams!$A:$N,EM35,BH$7)=\"\",\"\",INDEX(E_SourceStreams!$A:$N,EM35,BH$7)))","v":""},{"$f":"IF($E35=\"\",\"\",IF(INDEX(E_SourceStreams!$A:$N,EN35,BI$7)=\"\",\"\",INDEX(E_SourceStreams!$A:$N,EN35,BI$7)))","v":""},{"$f":"IF($E35=\"\",\"\",IF(INDEX(E_SourceStreams!$A:$N,EO35,BJ$7)=\"\",\"\",INDEX(E_SourceStreams!$A:$N,EO35,BJ$7)))","v":""},{"$f":"IF($E35=\"\",\"\",IF(INDEX(E_SourceStreams!$A:$N,EP35,BK$7)=\"\",\"\",INDEX(E_SourceStreams!$A:$N,EP35,BK$7)))","v":""},{"$f":"IF($E35=\"\",\"\",IF(INDEX(E_SourceStreams!$A:$N,EQ35,BL$7)=\"\",\"\",INDEX(E_SourceStreams!$A:$N,EQ35,BL$7)))","v":""},{"$f":"IF($E35=\"\",\"\",IF(INDEX(E_SourceStreams!$A:$N,ER35,BM$7)=\"\",\"\",INDEX(E_SourceStreams!$A:$N,ER35,BM$7)))","v":""},{"$f":"IF($E35=\"\",\"\",IF(INDEX(E_SourceStreams!$A:$N,ES35,BN$7)=\"\",\"\",INDEX(E_SourceStreams!$A:$N,ES35,BN$7)))","v":""},{"$f":"IF($E35=\"\",\"\",IF(INDEX(E_SourceStreams!$A:$N,ET35,BO$7)=\"\",\"\",INDEX(E_SourceStreams!$A:$N,ET35,BO$7)))","v":""},{"$f":"IF($E35=\"\",\"\",IF(INDEX(E_SourceStreams!$A:$N,EU35,BP$7)=\"\",\"\",INDEX(E_SourceStreams!$A:$N,EU35,BP$7)))","v":""},{"$f":"IF($E35=\"\",\"\",IF(INDEX(E_SourceStreams!$A:$N,EV35,BQ$7)=\"\",\"\",INDEX(E_SourceStreams!$A:$N,EV35,BQ$7)))","v":""},{"$f":"IF($E35=\"\",\"\",IF(INDEX(E_SourceStreams!$A:$N,EW35,BR$7)=\"\",\"\",INDEX(E_SourceStreams!$A:$N,EW35,BR$7)))","v":""},{"$f":"IF($E35=\"\",\"\",IF(INDEX(E_SourceStreams!$A:$N,EX35,BS$7)=\"\",\"\",INDEX(E_SourceStreams!$A:$N,EX35,BS$7)))","v":""},{"$f":"IF($E35=\"\",\"\",IF(INDEX(E_SourceStreams!$A:$N,EY35,BT$7)=\"\",\"\",INDEX(E_SourceStreams!$A:$N,EY35,BT$7)))","v":""},null,null,null,null,null,null,null,null,null,null,null,null,null,null,null,"SourceCategory_",{"$f":"INDEX(C_InstallationDescription!$A$226:$A$332,ROWS($CI$11:CI35))=\"ausblenden\"","v":false},"SourceStreamName_",null,1717,1719,1721,1723,1725,1727,1729,1729,1729,1729,1729,1732,1736,1737,1738,1745,1755,1755,1755,1755,1755,1755,1755,1746,1756,1756,1756,1756,1756,1756,1756,1747,1757,1757,1757,1757,1757,1757,1757,1748,1758,1758,1758,1758,1758,1758,1758,1749,1759,1759,1759,1759,1759,1759,1759,1750,1760,1760,1760,1760,1760,1760,1760,1766]
[null,{"$f":"IF(COUNTIF($CK$10:CK36,TRUE)>0,\"\",INDEX(C_InstallationDescription!$E$226:$E$242,ROWS($A$11:A36)))","v":""},{"$f":"IF($E36=\"\",\"\",INDEX(C_InstallationDescription!F:F,MATCH($B36,C_InstallationDescription!$E:$E,0)))","v":""},{"$f":"IF($E36=\"\",\"\",INDEX(C_InstallationDescription!I:I,MATCH($B36,C_InstallationDescription!$E:$E,0)))","v":""},{"$f":"IF($B36=\"\",\"\",INDEX(C_InstallationDescription!F:F,MATCH($CJ36,C_InstallationDescription!$Q:$Q,0)))","v":""},{"$f":"IF($E36=\"\",\"\",INDEX(C_InstallationDescription!L:L,MATCH($CJ36,C_InstallationDescription!$Q:$Q,0)))","v":""},{"$f":"IF($E36=\"\",\"\",INDEX(C_InstallationDescription!M:M,MATCH($CJ36,C_InstallationDescription!$Q:$Q,0)))","v":""},{"$f":"IF($E36=\"\",\"\",INDEX(C_InstallationDescription!N:N,MATCH($CJ36,C_InstallationDescription!$Q:$Q,0)))","v":""},{"$f":"IF($E36=\"\",\"\",IF(INDEX(E_SourceStreams!$A:$N,CN36,I$7)=\"\",\"\",INDEX(E_SourceStreams!$A:$N,CN36,I$7)))","v":""},{"$f":"IF($E36=\"\",\"\",IF(INDEX(E_SourceStreams!$A:$N,CO36,J$7)=\"\",\"\",INDEX(E_SourceStreams!$A:$N,CO36,J$7)))","v":""},{"$f":"IF($E36=\"\",\"\",IF(INDEX(E_SourceStreams!$A:$N,CP36,K$7)=\"\",\"\",INDEX(E_SourceStreams!$A:$N,CP36,K$7)))","v":""},{"$f":"IF($E36=\"\",\"\",IF(INDEX(E_SourceStreams!$A:$N,CQ36,L$7)=\"\",\"\",INDEX(E_SourceStreams!$A:$N,CQ36,L$7)))","v":""},{"$f":"IF($E36=\"\",\"\",IF(INDEX(E_SourceStreams!$A:$N,CR36,M$7)=\"\",\"\",INDEX(E_SourceStreams!$A:$N,CR36,M$7)))","v":""},{"$f":"IF($E36=\"\",\"\",IF(INDEX(E_SourceStreams!$A:$N,CS36,N$7)=\"\",\"\",INDEX(E_SourceStreams!$A:$N,CS36,N$7)))","v":""},{"$f":"IF($E36=\"\",\"\",IF(INDEX(E_SourceStreams!$A:$N,CT36,O$7)=\"\",\"\",INDEX(E_SourceStreams!$A:$N,CT36,O$7)))","v":""},{"$f":"IF($E36=\"\",\"\",IF(INDEX(E_SourceStreams!$A:$N,CU36,P$7)=\"\",\"\",INDEX(E_SourceStreams!$A:$N,CU36,P$7)))","v":""},{"$f":"IF($E36=\"\",\"\",IF(INDEX(E_SourceStreams!$A:$N,CV36,Q$7)=\"\",\"\",INDEX(E_SourceStreams!$A:$N,CV36,Q$7)))","v":""},{"$f":"IF($E36=\"\",\"\",IF(INDEX(E_SourceStreams!$A:$N,CW36,R$7)=\"\",\"\",INDEX(E_SourceStreams!$A:$N,CW36,R$7)))","v":""},{"$f":"IF($E36=\"\",\"\",IF(INDEX(E_SourceStreams!$A:$N,CX36,S$7)=\"\",\"\",INDEX(E_SourceStreams!$A:$N,CX36,S$7)))","v":""},{"$f":"IF($E36=\"\",\"\",IF(INDEX(E_SourceStreams!$A:$N,CY36,T$7)=\"\",\"\",INDEX(E_SourceStreams!$A:$N,CY36,T$7)))","v":""},{"$f":"IF($E36=\"\",\"\",IF(INDEX(E_SourceStreams!$A:$N,CZ36,U$7)=\"\",\"\",INDEX(E_SourceStreams!$A:$N,CZ36,U$7)))","v":""},{"$f":"IF($E36=\"\",\"\",IF(INDEX(E_SourceStreams!$A:$N,DA36,V$7)=\"\",\"\",INDEX(E_SourceStreams!$A:$N,DA36,V$7)))","v":""},{"$f":"IF($E36=\"\",\"\",IF(INDEX(E_SourceStreams!$A:$N,DB36,W$7)=\"\",\"\",INDEX(E_SourceStreams!$A:$N,DB36,W$7)))","v":""},{"$f":"IF($E36=\"\",\"\",IF(INDEX(E_SourceStreams!$A:$N,DC36,X$7)=\"\",\"\",INDEX(E_SourceStreams!$A:$N,DC36,X$7)))","v":""},{"$f":"IF($E36=\"\",\"\",IF(INDEX(E_SourceStreams!$A:$N,DD36,Y$7)=\"\",\"\",INDEX(E_SourceStreams!$A:$N,DD36,Y$7)))","v":""},{"$f":"IF($E36=\"\",\"\",IF(INDEX(E_SourceStreams!$A:$N,DE36,Z$7)=\"\",\"\",INDEX(E_SourceStreams!$A:$N,DE36,Z$7)))","v":""},{"$f":"IF($E36=\"\",\"\",IF(INDEX(E_SourceStreams!$A:$N,DF36,AA$7)=\"\",\"\",INDEX(E_SourceStreams!$A:$N,DF36,AA$7)))","v":""},{"$f":"IF($E36=\"\",\"\",IF(INDEX(E_SourceStreams!$A:$N,DG36,AB$7)=\"\",\"\",INDEX(E_SourceStreams!$A:$N,DG36,AB$7)))","v":""},{"$f":"IF($E36=\"\",\"\",IF(INDEX(E_SourceStreams!$A:$N,DH36,AC$7)=\"\",\"\",INDEX(E_SourceStreams!$A:$N,DH36,AC$7)))","v":""},{"$f":"IF($E36=\"\",\"\",IF(INDEX(E_SourceStreams!$A:$N,DI36,AD$7)=\"\",\"\",INDEX(E_SourceStreams!$A:$N,DI36,AD$7)))","v":""},{"$f":"IF($E36=\"\",\"\",IF(INDEX(E_SourceStreams!$A:$N,DJ36,AE$7)=\"\",\"\",INDEX(E_SourceStreams!$A:$N,DJ36,AE$7)))","v":""},{"$f":"IF($E36=\"\",\"\",IF(INDEX(E_SourceStreams!$A:$N,DK36,AF$7)=\"\",\"\",INDEX(E_SourceStreams!$A:$N,DK36,AF$7)))","v":""},{"$f":"IF($E36=\"\",\"\",IF(INDEX(E_SourceStreams!$A:$N,DL36,AG$7)=\"\",\"\",INDEX(E_SourceStreams!$A:$N,DL36,AG$7)))","v":""},{"$f":"IF($E36=\"\",\"\",IF(INDEX(E_SourceStreams!$A:$N,DM36,AH$7)=\"\",\"\",INDEX(E_SourceStreams!$A:$N,DM36,AH$7)))","v":""},{"$f":"IF($E36=\"\",\"\",IF(INDEX(E_SourceStreams!$A:$N,DN36,AI$7)=\"\",\"\",INDEX(E_SourceStreams!$A:$N,DN36,AI$7)))","v":""},{"$f":"IF($E36=\"\",\"\",IF(INDEX(E_SourceStreams!$A:$N,DO36,AJ$7)=\"\",\"\",INDEX(E_SourceStreams!$A:$N,DO36,AJ$7)))","v":""},{"$f":"IF($E36=\"\",\"\",IF(INDEX(E_SourceStreams!$A:$N,DP36,AK$7)=\"\",\"\",INDEX(E_SourceStreams!$A:$N,DP36,AK$7)))","v":""},{"$f":"IF($E36=\"\",\"\",IF(INDEX(E_SourceStreams!$A:$N,DQ36,AL$7)=\"\",\"\",INDEX(E_SourceStreams!$A:$N,DQ36,AL$7)))","v":""},{"$f":"IF($E36=\"\",\"\",IF(INDEX(E_SourceStreams!$A:$N,DR36,AM$7)=\"\",\"\",INDEX(E_SourceStreams!$A:$N,DR36,AM$7)))","v":""},{"$f":"IF($E36=\"\",\"\",IF(INDEX(E_SourceStreams!$A:$N,DS36,AN$7)=\"\",\"\",INDEX(E_SourceStreams!$A:$N,DS36,AN$7)))","v":""},{"$f":"IF($E36=\"\",\"\",IF(INDEX(E_SourceStreams!$A:$N,DT36,AO$7)=\"\",\"\",INDEX(E_SourceStreams!$A:$N,DT36,AO$7)))","v":""},{"$f":"IF($E36=\"\",\"\",IF(INDEX(E_SourceStreams!$A:$N,DU36,AP$7)=\"\",\"\",INDEX(E_SourceStreams!$A:$N,DU36,AP$7)))","v":""},{"$f":"IF($E36=\"\",\"\",IF(INDEX(E_SourceStreams!$A:$N,DV36,AQ$7)=\"\",\"\",INDEX(E_SourceStreams!$A:$N,DV36,AQ$7)))","v":""},{"$f":"IF($E36=\"\",\"\",IF(INDEX(E_SourceStreams!$A:$N,DW36,AR$7)=\"\",\"\",INDEX(E_SourceStreams!$A:$N,DW36,AR$7)))","v":""},{"$f":"IF($E36=\"\",\"\",IF(INDEX(E_SourceStreams!$A:$N,DX36,AS$7)=\"\",\"\",INDEX(E_SourceStreams!$A:$N,DX36,AS$7)))","v":""},{"$f":"IF($E36=\"\",\"\",IF(INDEX(E_SourceStreams!$A:$N,DY36,AT$7)=\"\",\"\",INDEX(E_SourceStreams!$A:$N,DY36,AT$7)))","v":""},{"$f":"IF($E36=\"\",\"\",IF(INDEX(E_SourceStreams!$A:$N,DZ36,AU$7)=\"\",\"\",INDEX(E_SourceStreams!$A:$N,DZ36,AU$7)))","v":""},{"$f":"IF($E36=\"\",\"\",IF(INDEX(E_SourceStreams!$A:$N,EA36,AV$7)=\"\",\"\",INDEX(E_SourceStreams!$A:$N,EA36,AV$7)))","v":""},{"$f":"IF($E36=\"\",\"\",IF(INDEX(E_SourceStreams!$A:$N,EB36,AW$7)=\"\",\"\",INDEX(E_SourceStreams!$A:$N,EB36,AW$7)))","v":""},{"$f":"IF($E36=\"\",\"\",IF(INDEX(E_SourceStreams!$A:$N,EC36,AX$7)=\"\",\"\",INDEX(E_SourceStreams!$A:$N,EC36,AX$7)))","v":""},{"$f":"IF($E36=\"\",\"\",IF(INDEX(E_SourceStreams!$A:$N,ED36,AY$7)=\"\",\"\",INDEX(E_SourceStreams!$A:$N,ED36,AY$7)))","v":""},{"$f":"IF($E36=\"\",\"\",IF(INDEX(E_SourceStreams!$A:$N,EE36,AZ$7)=\"\",\"\",INDEX(E_SourceStreams!$A:$N,EE36,AZ$7)))","v":""},{"$f":"IF($E36=\"\",\"\",IF(INDEX(E_SourceStreams!$A:$N,EF36,BA$7)=\"\",\"\",INDEX(E_SourceStreams!$A:$N,EF36,BA$7)))","v":""},{"$f":"IF($E36=\"\",\"\",IF(INDEX(E_SourceStreams!$A:$N,EG36,BB$7)=\"\",\"\",INDEX(E_SourceStreams!$A:$N,EG36,BB$7)))","v":""},{"$f":"IF($E36=\"\",\"\",IF(INDEX(E_SourceStreams!$A:$N,EH36,BC$7)=\"\",\"\",INDEX(E_SourceStreams!$A:$N,EH36,BC$7)))","v":""},{"$f":"IF($E36=\"\",\"\",IF(INDEX(E_SourceStreams!$A:$N,EI36,BD$7)=\"\",\"\",INDEX(E_SourceStreams!$A:$N,EI36,BD$7)))","v":""},{"$f":"IF($E36=\"\",\"\",IF(INDEX(E_SourceStreams!$A:$N,EJ36,BE$7)=\"\",\"\",INDEX(E_SourceStreams!$A:$N,EJ36,BE$7)))","v":""},{"$f":"IF($E36=\"\",\"\",IF(INDEX(E_SourceStreams!$A:$N,EK36,BF$7)=\"\",\"\",INDEX(E_SourceStreams!$A:$N,EK36,BF$7)))","v":""},{"$f":"IF($E36=\"\",\"\",IF(INDEX(E_SourceStreams!$A:$N,EL36,BG$7)=\"\",\"\",INDEX(E_SourceStreams!$A:$N,EL36,BG$7)))","v":""},{"$f":"IF($E36=\"\",\"\",IF(INDEX(E_SourceStreams!$A:$N,EM36,BH$7)=\"\",\"\",INDEX(E_SourceStreams!$A:$N,EM36,BH$7)))","v":""},{"$f":"IF($E36=\"\",\"\",IF(INDEX(E_SourceStreams!$A:$N,EN36,BI$7)=\"\",\"\",INDEX(E_SourceStreams!$A:$N,EN36,BI$7)))","v":""},{"$f":"IF($E36=\"\",\"\",IF(INDEX(E_SourceStreams!$A:$N,EO36,BJ$7)=\"\",\"\",INDEX(E_SourceStreams!$A:$N,EO36,BJ$7)))","v":""},{"$f":"IF($E36=\"\",\"\",IF(INDEX(E_SourceStreams!$A:$N,EP36,BK$7)=\"\",\"\",INDEX(E_SourceStreams!$A:$N,EP36,BK$7)))","v":""},{"$f":"IF($E36=\"\",\"\",IF(INDEX(E_SourceStreams!$A:$N,EQ36,BL$7)=\"\",\"\",INDEX(E_SourceStreams!$A:$N,EQ36,BL$7)))","v":""},{"$f":"IF($E36=\"\",\"\",IF(INDEX(E_SourceStreams!$A:$N,ER36,BM$7)=\"\",\"\",INDEX(E_SourceStreams!$A:$N,ER36,BM$7)))","v":""},{"$f":"IF($E36=\"\",\"\",IF(INDEX(E_SourceStreams!$A:$N,ES36,BN$7)=\"\",\"\",INDEX(E_SourceStreams!$A:$N,ES36,BN$7)))","v":""},{"$f":"IF($E36=\"\",\"\",IF(INDEX(E_SourceStreams!$A:$N,ET36,BO$7)=\"\",\"\",INDEX(E_SourceStreams!$A:$N,ET36,BO$7)))","v":""},{"$f":"IF($E36=\"\",\"\",IF(INDEX(E_SourceStreams!$A:$N,EU36,BP$7)=\"\",\"\",INDEX(E_SourceStreams!$A:$N,EU36,BP$7)))","v":""},{"$f":"IF($E36=\"\",\"\",IF(INDEX(E_SourceStreams!$A:$N,EV36,BQ$7)=\"\",\"\",INDEX(E_SourceStreams!$A:$N,EV36,BQ$7)))","v":""},{"$f":"IF($E36=\"\",\"\",IF(INDEX(E_SourceStreams!$A:$N,EW36,BR$7)=\"\",\"\",INDEX(E_SourceStreams!$A:$N,EW36,BR$7)))","v":""},{"$f":"IF($E36=\"\",\"\",IF(INDEX(E_SourceStreams!$A:$N,EX36,BS$7)=\"\",\"\",INDEX(E_SourceStreams!$A:$N,EX36,BS$7)))","v":""},{"$f":"IF($E36=\"\",\"\",IF(INDEX(E_SourceStreams!$A:$N,EY36,BT$7)=\"\",\"\",INDEX(E_SourceStreams!$A:$N,EY36,BT$7)))","v":""},null,null,null,null,null,null,null,null,null,null,null,null,null,null,null,"SourceCategory_",{"$f":"INDEX(C_InstallationDescription!$A$226:$A$332,ROWS($CI$11:CI36))=\"ausblenden\"","v":false},"SourceStreamName_",null,1783,1785,1787,1789,1791,1793,1795,1795,1795,1795,1795,1798,1802,1803,1804,1811,1821,1821,1821,1821,1821,1821,1821,1812,1822,1822,1822,1822,1822,1822,1822,1813,1823,1823,1823,1823,1823,1823,1823,1814,1824,1824,1824,1824,1824,1824,1824,1815,1825,1825,1825,1825,1825,1825,1825,1816,1826,1826,1826,1826,1826,1826,1826,1832]
[null,{"$f":"IF(COUNTIF($CK$10:CK37,TRUE)>0,\"\",INDEX(C_InstallationDescription!$E$226:$E$242,ROWS($A$11:A37)))","v":""},{"$f":"IF($E37=\"\",\"\",INDEX(C_InstallationDescription!F:F,MATCH($B37,C_InstallationDescription!$E:$E,0)))","v":""},{"$f":"IF($E37=\"\",\"\",INDEX(C_InstallationDescription!I:I,MATCH($B37,C_InstallationDescription!$E:$E,0)))","v":""},{"$f":"IF($B37=\"\",\"\",INDEX(C_InstallationDescription!F:F,MATCH($CJ37,C_InstallationDescription!$Q:$Q,0)))","v":""},{"$f":"IF($E37=\"\",\"\",INDEX(C_InstallationDescription!L:L,MATCH($CJ37,C_InstallationDescription!$Q:$Q,0)))","v":""},{"$f":"IF($E37=\"\",\"\",INDEX(C_InstallationDescription!M:M,MATCH($CJ37,C_InstallationDescription!$Q:$Q,0)))","v":""},{"$f":"IF($E37=\"\",\"\",INDEX(C_InstallationDescription!N:N,MATCH($CJ37,C_InstallationDescription!$Q:$Q,0)))","v":""},{"$f":"IF($E37=\"\",\"\",IF(INDEX(E_SourceStreams!$A:$N,CN37,I$7)=\"\",\"\",INDEX(E_SourceStreams!$A:$N,CN37,I$7)))","v":""},{"$f":"IF($E37=\"\",\"\",IF(INDEX(E_SourceStreams!$A:$N,CO37,J$7)=\"\",\"\",INDEX(E_SourceStreams!$A:$N,CO37,J$7)))","v":""},{"$f":"IF($E37=\"\",\"\",IF(INDEX(E_SourceStreams!$A:$N,CP37,K$7)=\"\",\"\",INDEX(E_SourceStreams!$A:$N,CP37,K$7)))","v":""},{"$f":"IF($E37=\"\",\"\",IF(INDEX(E_SourceStreams!$A:$N,CQ37,L$7)=\"\",\"\",INDEX(E_SourceStreams!$A:$N,CQ37,L$7)))","v":""},{"$f":"IF($E37=\"\",\"\",IF(INDEX(E_SourceStreams!$A:$N,CR37,M$7)=\"\",\"\",INDEX(E_SourceStreams!$A:$N,CR37,M$7)))","v":""},{"$f":"IF($E37=\"\",\"\",IF(INDEX(E_SourceStreams!$A:$N,CS37,N$7)=\"\",\"\",INDEX(E_SourceStreams!$A:$N,CS37,N$7)))","v":""},{"$f":"IF($E37=\"\",\"\",IF(INDEX(E_SourceStreams!$A:$N,CT37,O$7)=\"\",\"\",INDEX(E_SourceStreams!$A:$N,CT37,O$7)))","v":""},{"$f":"IF($E37=\"\",\"\",IF(INDEX(E_SourceStreams!$A:$N,CU37,P$7)=\"\",\"\",INDEX(E_SourceStreams!$A:$N,CU37,P$7)))","v":""},{"$f":"IF($E37=\"\",\"\",IF(INDEX(E_SourceStreams!$A:$N,CV37,Q$7)=\"\",\"\",INDEX(E_SourceStreams!$A:$N,CV37,Q$7)))","v":""},{"$f":"IF($E37=\"\",\"\",IF(INDEX(E_SourceStreams!$A:$N,CW37,R$7)=\"\",\"\",INDEX(E_SourceStreams!$A:$N,CW37,R$7)))","v":""},{"$f":"IF($E37=\"\",\"\",IF(INDEX(E_SourceStreams!$A:$N,CX37,S$7)=\"\",\"\",INDEX(E_SourceStreams!$A:$N,CX37,S$7)))","v":""},{"$f":"IF($E37=\"\",\"\",IF(INDEX(E_SourceStreams!$A:$N,CY37,T$7)=\"\",\"\",INDEX(E_SourceStreams!$A:$N,CY37,T$7)))","v":""},{"$f":"IF($E37=\"\",\"\",IF(INDEX(E_SourceStreams!$A:$N,CZ37,U$7)=\"\",\"\",INDEX(E_SourceStreams!$A:$N,CZ37,U$7)))","v":""},{"$f":"IF($E37=\"\",\"\",IF(INDEX(E_SourceStreams!$A:$N,DA37,V$7)=\"\",\"\",INDEX(E_SourceStreams!$A:$N,DA37,V$7)))","v":""},{"$f":"IF($E37=\"\",\"\",IF(INDEX(E_SourceStreams!$A:$N,DB37,W$7)=\"\",\"\",INDEX(E_SourceStreams!$A:$N,DB37,W$7)))","v":""},{"$f":"IF($E37=\"\",\"\",IF(INDEX(E_SourceStreams!$A:$N,DC37,X$7)=\"\",\"\",INDEX(E_SourceStreams!$A:$N,DC37,X$7)))","v":""},{"$f":"IF($E37=\"\",\"\",IF(INDEX(E_SourceStreams!$A:$N,DD37,Y$7)=\"\",\"\",INDEX(E_SourceStreams!$A:$N,DD37,Y$7)))","v":""},{"$f":"IF($E37=\"\",\"\",IF(INDEX(E_SourceStreams!$A:$N,DE37,Z$7)=\"\",\"\",INDEX(E_SourceStreams!$A:$N,DE37,Z$7)))","v":""},{"$f":"IF($E37=\"\",\"\",IF(INDEX(E_SourceStreams!$A:$N,DF37,AA$7)=\"\",\"\",INDEX(E_SourceStreams!$A:$N,DF37,AA$7)))","v":""},{"$f":"IF($E37=\"\",\"\",IF(INDEX(E_SourceStreams!$A:$N,DG37,AB$7)=\"\",\"\",INDEX(E_SourceStreams!$A:$N,DG37,AB$7)))","v":""},{"$f":"IF($E37=\"\",\"\",IF(INDEX(E_SourceStreams!$A:$N,DH37,AC$7)=\"\",\"\",INDEX(E_SourceStreams!$A:$N,DH37,AC$7)))","v":""},{"$f":"IF($E37=\"\",\"\",IF(INDEX(E_SourceStreams!$A:$N,DI37,AD$7)=\"\",\"\",INDEX(E_SourceStreams!$A:$N,DI37,AD$7)))","v":""},{"$f":"IF($E37=\"\",\"\",IF(INDEX(E_SourceStreams!$A:$N,DJ37,AE$7)=\"\",\"\",INDEX(E_SourceStreams!$A:$N,DJ37,AE$7)))","v":""},{"$f":"IF($E37=\"\",\"\",IF(INDEX(E_SourceStreams!$A:$N,DK37,AF$7)=\"\",\"\",INDEX(E_SourceStreams!$A:$N,DK37,AF$7)))","v":""},{"$f":"IF($E37=\"\",\"\",IF(INDEX(E_SourceStreams!$A:$N,DL37,AG$7)=\"\",\"\",INDEX(E_SourceStreams!$A:$N,DL37,AG$7)))","v":""},{"$f":"IF($E37=\"\",\"\",IF(INDEX(E_SourceStreams!$A:$N,DM37,AH$7)=\"\",\"\",INDEX(E_SourceStreams!$A:$N,DM37,AH$7)))","v":""},{"$f":"IF($E37=\"\",\"\",IF(INDEX(E_SourceStreams!$A:$N,DN37,AI$7)=\"\",\"\",INDEX(E_SourceStreams!$A:$N,DN37,AI$7)))","v":""},{"$f":"IF($E37=\"\",\"\",IF(INDEX(E_SourceStreams!$A:$N,DO37,AJ$7)=\"\",\"\",INDEX(E_SourceStreams!$A:$N,DO37,AJ$7)))","v":""},{"$f":"IF($E37=\"\",\"\",IF(INDEX(E_SourceStreams!$A:$N,DP37,AK$7)=\"\",\"\",INDEX(E_SourceStreams!$A:$N,DP37,AK$7)))","v":""},{"$f":"IF($E37=\"\",\"\",IF(INDEX(E_SourceStreams!$A:$N,DQ37,AL$7)=\"\",\"\",INDEX(E_SourceStreams!$A:$N,DQ37,AL$7)))","v":""},{"$f":"IF($E37=\"\",\"\",IF(INDEX(E_SourceStreams!$A:$N,DR37,AM$7)=\"\",\"\",INDEX(E_SourceStreams!$A:$N,DR37,AM$7)))","v":""},{"$f":"IF($E37=\"\",\"\",IF(INDEX(E_SourceStreams!$A:$N,DS37,AN$7)=\"\",\"\",INDEX(E_SourceStreams!$A:$N,DS37,AN$7)))","v":""},{"$f":"IF($E37=\"\",\"\",IF(INDEX(E_SourceStreams!$A:$N,DT37,AO$7)=\"\",\"\",INDEX(E_SourceStreams!$A:$N,DT37,AO$7)))","v":""},{"$f":"IF($E37=\"\",\"\",IF(INDEX(E_SourceStreams!$A:$N,DU37,AP$7)=\"\",\"\",INDEX(E_SourceStreams!$A:$N,DU37,AP$7)))","v":""},{"$f":"IF($E37=\"\",\"\",IF(INDEX(E_SourceStreams!$A:$N,DV37,AQ$7)=\"\",\"\",INDEX(E_SourceStreams!$A:$N,DV37,AQ$7)))","v":""},{"$f":"IF($E37=\"\",\"\",IF(INDEX(E_SourceStreams!$A:$N,DW37,AR$7)=\"\",\"\",INDEX(E_SourceStreams!$A:$N,DW37,AR$7)))","v":""},{"$f":"IF($E37=\"\",\"\",IF(INDEX(E_SourceStreams!$A:$N,DX37,AS$7)=\"\",\"\",INDEX(E_SourceStreams!$A:$N,DX37,AS$7)))","v":""},{"$f":"IF($E37=\"\",\"\",IF(INDEX(E_SourceStreams!$A:$N,DY37,AT$7)=\"\",\"\",INDEX(E_SourceStreams!$A:$N,DY37,AT$7)))","v":""},{"$f":"IF($E37=\"\",\"\",IF(INDEX(E_SourceStreams!$A:$N,DZ37,AU$7)=\"\",\"\",INDEX(E_SourceStreams!$A:$N,DZ37,AU$7)))","v":""},{"$f":"IF($E37=\"\",\"\",IF(INDEX(E_SourceStreams!$A:$N,EA37,AV$7)=\"\",\"\",INDEX(E_SourceStreams!$A:$N,EA37,AV$7)))","v":""},{"$f":"IF($E37=\"\",\"\",IF(INDEX(E_SourceStreams!$A:$N,EB37,AW$7)=\"\",\"\",INDEX(E_SourceStreams!$A:$N,EB37,AW$7)))","v":""},{"$f":"IF($E37=\"\",\"\",IF(INDEX(E_SourceStreams!$A:$N,EC37,AX$7)=\"\",\"\",INDEX(E_SourceStreams!$A:$N,EC37,AX$7)))","v":""},{"$f":"IF($E37=\"\",\"\",IF(INDEX(E_SourceStreams!$A:$N,ED37,AY$7)=\"\",\"\",INDEX(E_SourceStreams!$A:$N,ED37,AY$7)))","v":""},{"$f":"IF($E37=\"\",\"\",IF(INDEX(E_SourceStreams!$A:$N,EE37,AZ$7)=\"\",\"\",INDEX(E_SourceStreams!$A:$N,EE37,AZ$7)))","v":""},{"$f":"IF($E37=\"\",\"\",IF(INDEX(E_SourceStreams!$A:$N,EF37,BA$7)=\"\",\"\",INDEX(E_SourceStreams!$A:$N,EF37,BA$7)))","v":""},{"$f":"IF($E37=\"\",\"\",IF(INDEX(E_SourceStreams!$A:$N,EG37,BB$7)=\"\",\"\",INDEX(E_SourceStreams!$A:$N,EG37,BB$7)))","v":""},{"$f":"IF($E37=\"\",\"\",IF(INDEX(E_SourceStreams!$A:$N,EH37,BC$7)=\"\",\"\",INDEX(E_SourceStreams!$A:$N,EH37,BC$7)))","v":""},{"$f":"IF($E37=\"\",\"\",IF(INDEX(E_SourceStreams!$A:$N,EI37,BD$7)=\"\",\"\",INDEX(E_SourceStreams!$A:$N,EI37,BD$7)))","v":""},{"$f":"IF($E37=\"\",\"\",IF(INDEX(E_SourceStreams!$A:$N,EJ37,BE$7)=\"\",\"\",INDEX(E_SourceStreams!$A:$N,EJ37,BE$7)))","v":""},{"$f":"IF($E37=\"\",\"\",IF(INDEX(E_SourceStreams!$A:$N,EK37,BF$7)=\"\",\"\",INDEX(E_SourceStreams!$A:$N,EK37,BF$7)))","v":""},{"$f":"IF($E37=\"\",\"\",IF(INDEX(E_SourceStreams!$A:$N,EL37,BG$7)=\"\",\"\",INDEX(E_SourceStreams!$A:$N,EL37,BG$7)))","v":""},{"$f":"IF($E37=\"\",\"\",IF(INDEX(E_SourceStreams!$A:$N,EM37,BH$7)=\"\",\"\",INDEX(E_SourceStreams!$A:$N,EM37,BH$7)))","v":""},{"$f":"IF($E37=\"\",\"\",IF(INDEX(E_SourceStreams!$A:$N,EN37,BI$7)=\"\",\"\",INDEX(E_SourceStreams!$A:$N,EN37,BI$7)))","v":""},{"$f":"IF($E37=\"\",\"\",IF(INDEX(E_SourceStreams!$A:$N,EO37,BJ$7)=\"\",\"\",INDEX(E_SourceStreams!$A:$N,EO37,BJ$7)))","v":""},{"$f":"IF($E37=\"\",\"\",IF(INDEX(E_SourceStreams!$A:$N,EP37,BK$7)=\"\",\"\",INDEX(E_SourceStreams!$A:$N,EP37,BK$7)))","v":""},{"$f":"IF($E37=\"\",\"\",IF(INDEX(E_SourceStreams!$A:$N,EQ37,BL$7)=\"\",\"\",INDEX(E_SourceStreams!$A:$N,EQ37,BL$7)))","v":""},{"$f":"IF($E37=\"\",\"\",IF(INDEX(E_SourceStreams!$A:$N,ER37,BM$7)=\"\",\"\",INDEX(E_SourceStreams!$A:$N,ER37,BM$7)))","v":""},{"$f":"IF($E37=\"\",\"\",IF(INDEX(E_SourceStreams!$A:$N,ES37,BN$7)=\"\",\"\",INDEX(E_SourceStreams!$A:$N,ES37,BN$7)))","v":""},{"$f":"IF($E37=\"\",\"\",IF(INDEX(E_SourceStreams!$A:$N,ET37,BO$7)=\"\",\"\",INDEX(E_SourceStreams!$A:$N,ET37,BO$7)))","v":""},{"$f":"IF($E37=\"\",\"\",IF(INDEX(E_SourceStreams!$A:$N,EU37,BP$7)=\"\",\"\",INDEX(E_SourceStreams!$A:$N,EU37,BP$7)))","v":""},{"$f":"IF($E37=\"\",\"\",IF(INDEX(E_SourceStreams!$A:$N,EV37,BQ$7)=\"\",\"\",INDEX(E_SourceStreams!$A:$N,EV37,BQ$7)))","v":""},{"$f":"IF($E37=\"\",\"\",IF(INDEX(E_SourceStreams!$A:$N,EW37,BR$7)=\"\",\"\",INDEX(E_SourceStreams!$A:$N,EW37,BR$7)))","v":""},{"$f":"IF($E37=\"\",\"\",IF(INDEX(E_SourceStreams!$A:$N,EX37,BS$7)=\"\",\"\",INDEX(E_SourceStreams!$A:$N,EX37,BS$7)))","v":""},{"$f":"IF($E37=\"\",\"\",IF(INDEX(E_SourceStreams!$A:$N,EY37,BT$7)=\"\",\"\",INDEX(E_SourceStreams!$A:$N,EY37,BT$7)))","v":""},null,null,null,null,null,null,null,null,null,null,null,null,null,null,null,"SourceCategory_",{"$f":"INDEX(C_InstallationDescription!$A$226:$A$332,ROWS($CI$11:CI37))=\"ausblenden\"","v":false},"SourceStreamName_",null,1849,1851,1853,1855,1857,1859,1861,1861,1861,1861,1861,1864,1868,1869,1870,1877,1887,1887,1887,1887,1887,1887,1887,1878,1888,1888,1888,1888,1888,1888,1888,1879,1889,1889,1889,1889,1889,1889,1889,1880,1890,1890,1890,1890,1890,1890,1890,1881,1891,1891,1891,1891,1891,1891,1891,1882,1892,1892,1892,1892,1892,1892,1892,1898]
[null,{"$f":"IF(COUNTIF($CK$10:CK38,TRUE)>0,\"\",INDEX(C_InstallationDescription!$E$226:$E$242,ROWS($A$11:A38)))","v":""},{"$f":"IF($E38=\"\",\"\",INDEX(C_InstallationDescription!F:F,MATCH($B38,C_InstallationDescription!$E:$E,0)))","v":""},{"$f":"IF($E38=\"\",\"\",INDEX(C_InstallationDescription!I:I,MATCH($B38,C_InstallationDescription!$E:$E,0)))","v":""},{"$f":"IF($B38=\"\",\"\",INDEX(C_InstallationDescription!F:F,MATCH($CJ38,C_InstallationDescription!$Q:$Q,0)))","v":""},{"$f":"IF($E38=\"\",\"\",INDEX(C_InstallationDescription!L:L,MATCH($CJ38,C_InstallationDescription!$Q:$Q,0)))","v":""},{"$f":"IF($E38=\"\",\"\",INDEX(C_InstallationDescription!M:M,MATCH($CJ38,C_InstallationDescription!$Q:$Q,0)))","v":""},{"$f":"IF($E38=\"\",\"\",INDEX(C_InstallationDescription!N:N,MATCH($CJ38,C_InstallationDescription!$Q:$Q,0)))","v":""},{"$f":"IF($E38=\"\",\"\",IF(INDEX(E_SourceStreams!$A:$N,CN38,I$7)=\"\",\"\",INDEX(E_SourceStreams!$A:$N,CN38,I$7)))","v":""},{"$f":"IF($E38=\"\",\"\",IF(INDEX(E_SourceStreams!$A:$N,CO38,J$7)=\"\",\"\",INDEX(E_SourceStreams!$A:$N,CO38,J$7)))","v":""},{"$f":"IF($E38=\"\",\"\",IF(INDEX(E_SourceStreams!$A:$N,CP38,K$7)=\"\",\"\",INDEX(E_SourceStreams!$A:$N,CP38,K$7)))","v":""},{"$f":"IF($E38=\"\",\"\",IF(INDEX(E_SourceStreams!$A:$N,CQ38,L$7)=\"\",\"\",INDEX(E_SourceStreams!$A:$N,CQ38,L$7)))","v":""},{"$f":"IF($E38=\"\",\"\",IF(INDEX(E_SourceStreams!$A:$N,CR38,M$7)=\"\",\"\",INDEX(E_SourceStreams!$A:$N,CR38,M$7)))","v":""},{"$f":"IF($E38=\"\",\"\",IF(INDEX(E_SourceStreams!$A:$N,CS38,N$7)=\"\",\"\",INDEX(E_SourceStreams!$A:$N,CS38,N$7)))","v":""},{"$f":"IF($E38=\"\",\"\",IF(INDEX(E_SourceStreams!$A:$N,CT38,O$7)=\"\",\"\",INDEX(E_SourceStreams!$A:$N,CT38,O$7)))","v":""},{"$f":"IF($E38=\"\",\"\",IF(INDEX(E_SourceStreams!$A:$N,CU38,P$7)=\"\",\"\",INDEX(E_SourceStreams!$A:$N,CU38,P$7)))","v":""},{"$f":"IF($E38=\"\",\"\",IF(INDEX(E_SourceStreams!$A:$N,CV38,Q$7)=\"\",\"\",INDEX(E_SourceStreams!$A:$N,CV38,Q$7)))","v":""},{"$f":"IF($E38=\"\",\"\",IF(INDEX(E_SourceStreams!$A:$N,CW38,R$7)=\"\",\"\",INDEX(E_SourceStreams!$A:$N,CW38,R$7)))","v":""},{"$f":"IF($E38=\"\",\"\",IF(INDEX(E_SourceStreams!$A:$N,CX38,S$7)=\"\",\"\",INDEX(E_SourceStreams!$A:$N,CX38,S$7)))","v":""},{"$f":"IF($E38=\"\",\"\",IF(INDEX(E_SourceStreams!$A:$N,CY38,T$7)=\"\",\"\",INDEX(E_SourceStreams!$A:$N,CY38,T$7)))","v":""},{"$f":"IF($E38=\"\",\"\",IF(INDEX(E_SourceStreams!$A:$N,CZ38,U$7)=\"\",\"\",INDEX(E_SourceStreams!$A:$N,CZ38,U$7)))","v":""},{"$f":"IF($E38=\"\",\"\",IF(INDEX(E_SourceStreams!$A:$N,DA38,V$7)=\"\",\"\",INDEX(E_SourceStreams!$A:$N,DA38,V$7)))","v":""},{"$f":"IF($E38=\"\",\"\",IF(INDEX(E_SourceStreams!$A:$N,DB38,W$7)=\"\",\"\",INDEX(E_SourceStreams!$A:$N,DB38,W$7)))","v":""},{"$f":"IF($E38=\"\",\"\",IF(INDEX(E_SourceStreams!$A:$N,DC38,X$7)=\"\",\"\",INDEX(E_SourceStreams!$A:$N,DC38,X$7)))","v":""},{"$f":"IF($E38=\"\",\"\",IF(INDEX(E_SourceStreams!$A:$N,DD38,Y$7)=\"\",\"\",INDEX(E_SourceStreams!$A:$N,DD38,Y$7)))","v":""},{"$f":"IF($E38=\"\",\"\",IF(INDEX(E_SourceStreams!$A:$N,DE38,Z$7)=\"\",\"\",INDEX(E_SourceStreams!$A:$N,DE38,Z$7)))","v":""},{"$f":"IF($E38=\"\",\"\",IF(INDEX(E_SourceStreams!$A:$N,DF38,AA$7)=\"\",\"\",INDEX(E_SourceStreams!$A:$N,DF38,AA$7)))","v":""},{"$f":"IF($E38=\"\",\"\",IF(INDEX(E_SourceStreams!$A:$N,DG38,AB$7)=\"\",\"\",INDEX(E_SourceStreams!$A:$N,DG38,AB$7)))","v":""},{"$f":"IF($E38=\"\",\"\",IF(INDEX(E_SourceStreams!$A:$N,DH38,AC$7)=\"\",\"\",INDEX(E_SourceStreams!$A:$N,DH38,AC$7)))","v":""},{"$f":"IF($E38=\"\",\"\",IF(INDEX(E_SourceStreams!$A:$N,DI38,AD$7)=\"\",\"\",INDEX(E_SourceStreams!$A:$N,DI38,AD$7)))","v":""},{"$f":"IF($E38=\"\",\"\",IF(INDEX(E_SourceStreams!$A:$N,DJ38,AE$7)=\"\",\"\",INDEX(E_SourceStreams!$A:$N,DJ38,AE$7)))","v":""},{"$f":"IF($E38=\"\",\"\",IF(INDEX(E_SourceStreams!$A:$N,DK38,AF$7)=\"\",\"\",INDEX(E_SourceStreams!$A:$N,DK38,AF$7)))","v":""},{"$f":"IF($E38=\"\",\"\",IF(INDEX(E_SourceStreams!$A:$N,DL38,AG$7)=\"\",\"\",INDEX(E_SourceStreams!$A:$N,DL38,AG$7)))","v":""},{"$f":"IF($E38=\"\",\"\",IF(INDEX(E_SourceStreams!$A:$N,DM38,AH$7)=\"\",\"\",INDEX(E_SourceStreams!$A:$N,DM38,AH$7)))","v":""},{"$f":"IF($E38=\"\",\"\",IF(INDEX(E_SourceStreams!$A:$N,DN38,AI$7)=\"\",\"\",INDEX(E_SourceStreams!$A:$N,DN38,AI$7)))","v":""},{"$f":"IF($E38=\"\",\"\",IF(INDEX(E_SourceStreams!$A:$N,DO38,AJ$7)=\"\",\"\",INDEX(E_SourceStreams!$A:$N,DO38,AJ$7)))","v":""},{"$f":"IF($E38=\"\",\"\",IF(INDEX(E_SourceStreams!$A:$N,DP38,AK$7)=\"\",\"\",INDEX(E_SourceStreams!$A:$N,DP38,AK$7)))","v":""},{"$f":"IF($E38=\"\",\"\",IF(INDEX(E_SourceStreams!$A:$N,DQ38,AL$7)=\"\",\"\",INDEX(E_SourceStreams!$A:$N,DQ38,AL$7)))","v":""},{"$f":"IF($E38=\"\",\"\",IF(INDEX(E_SourceStreams!$A:$N,DR38,AM$7)=\"\",\"\",INDEX(E_SourceStreams!$A:$N,DR38,AM$7)))","v":""},{"$f":"IF($E38=\"\",\"\",IF(INDEX(E_SourceStreams!$A:$N,DS38,AN$7)=\"\",\"\",INDEX(E_SourceStreams!$A:$N,DS38,AN$7)))","v":""},{"$f":"IF($E38=\"\",\"\",IF(INDEX(E_SourceStreams!$A:$N,DT38,AO$7)=\"\",\"\",INDEX(E_SourceStreams!$A:$N,DT38,AO$7)))","v":""},{"$f":"IF($E38=\"\",\"\",IF(INDEX(E_SourceStreams!$A:$N,DU38,AP$7)=\"\",\"\",INDEX(E_SourceStreams!$A:$N,DU38,AP$7)))","v":""},{"$f":"IF($E38=\"\",\"\",IF(INDEX(E_SourceStreams!$A:$N,DV38,AQ$7)=\"\",\"\",INDEX(E_SourceStreams!$A:$N,DV38,AQ$7)))","v":""},{"$f":"IF($E38=\"\",\"\",IF(INDEX(E_SourceStreams!$A:$N,DW38,AR$7)=\"\",\"\",INDEX(E_SourceStreams!$A:$N,DW38,AR$7)))","v":""},{"$f":"IF($E38=\"\",\"\",IF(INDEX(E_SourceStreams!$A:$N,DX38,AS$7)=\"\",\"\",INDEX(E_SourceStreams!$A:$N,DX38,AS$7)))","v":""},{"$f":"IF($E38=\"\",\"\",IF(INDEX(E_SourceStreams!$A:$N,DY38,AT$7)=\"\",\"\",INDEX(E_SourceStreams!$A:$N,DY38,AT$7)))","v":""},{"$f":"IF($E38=\"\",\"\",IF(INDEX(E_SourceStreams!$A:$N,DZ38,AU$7)=\"\",\"\",INDEX(E_SourceStreams!$A:$N,DZ38,AU$7)))","v":""},{"$f":"IF($E38=\"\",\"\",IF(INDEX(E_SourceStreams!$A:$N,EA38,AV$7)=\"\",\"\",INDEX(E_SourceStreams!$A:$N,EA38,AV$7)))","v":""},{"$f":"IF($E38=\"\",\"\",IF(INDEX(E_SourceStreams!$A:$N,EB38,AW$7)=\"\",\"\",INDEX(E_SourceStreams!$A:$N,EB38,AW$7)))","v":""},{"$f":"IF($E38=\"\",\"\",IF(INDEX(E_SourceStreams!$A:$N,EC38,AX$7)=\"\",\"\",INDEX(E_SourceStreams!$A:$N,EC38,AX$7)))","v":""},{"$f":"IF($E38=\"\",\"\",IF(INDEX(E_SourceStreams!$A:$N,ED38,AY$7)=\"\",\"\",INDEX(E_SourceStreams!$A:$N,ED38,AY$7)))","v":""},{"$f":"IF($E38=\"\",\"\",IF(INDEX(E_SourceStreams!$A:$N,EE38,AZ$7)=\"\",\"\",INDEX(E_SourceStreams!$A:$N,EE38,AZ$7)))","v":""},{"$f":"IF($E38=\"\",\"\",IF(INDEX(E_SourceStreams!$A:$N,EF38,BA$7)=\"\",\"\",INDEX(E_SourceStreams!$A:$N,EF38,BA$7)))","v":""},{"$f":"IF($E38=\"\",\"\",IF(INDEX(E_SourceStreams!$A:$N,EG38,BB$7)=\"\",\"\",INDEX(E_SourceStreams!$A:$N,EG38,BB$7)))","v":""},{"$f":"IF($E38=\"\",\"\",IF(INDEX(E_SourceStreams!$A:$N,EH38,BC$7)=\"\",\"\",INDEX(E_SourceStreams!$A:$N,EH38,BC$7)))","v":""},{"$f":"IF($E38=\"\",\"\",IF(INDEX(E_SourceStreams!$A:$N,EI38,BD$7)=\"\",\"\",INDEX(E_SourceStreams!$A:$N,EI38,BD$7)))","v":""},{"$f":"IF($E38=\"\",\"\",IF(INDEX(E_SourceStreams!$A:$N,EJ38,BE$7)=\"\",\"\",INDEX(E_SourceStreams!$A:$N,EJ38,BE$7)))","v":""},{"$f":"IF($E38=\"\",\"\",IF(INDEX(E_SourceStreams!$A:$N,EK38,BF$7)=\"\",\"\",INDEX(E_SourceStreams!$A:$N,EK38,BF$7)))","v":""},{"$f":"IF($E38=\"\",\"\",IF(INDEX(E_SourceStreams!$A:$N,EL38,BG$7)=\"\",\"\",INDEX(E_SourceStreams!$A:$N,EL38,BG$7)))","v":""},{"$f":"IF($E38=\"\",\"\",IF(INDEX(E_SourceStreams!$A:$N,EM38,BH$7)=\"\",\"\",INDEX(E_SourceStreams!$A:$N,EM38,BH$7)))","v":""},{"$f":"IF($E38=\"\",\"\",IF(INDEX(E_SourceStreams!$A:$N,EN38,BI$7)=\"\",\"\",INDEX(E_SourceStreams!$A:$N,EN38,BI$7)))","v":""},{"$f":"IF($E38=\"\",\"\",IF(INDEX(E_SourceStreams!$A:$N,EO38,BJ$7)=\"\",\"\",INDEX(E_SourceStreams!$A:$N,EO38,BJ$7)))","v":""},{"$f":"IF($E38=\"\",\"\",IF(INDEX(E_SourceStreams!$A:$N,EP38,BK$7)=\"\",\"\",INDEX(E_SourceStreams!$A:$N,EP38,BK$7)))","v":""},{"$f":"IF($E38=\"\",\"\",IF(INDEX(E_SourceStreams!$A:$N,EQ38,BL$7)=\"\",\"\",INDEX(E_SourceStreams!$A:$N,EQ38,BL$7)))","v":""},{"$f":"IF($E38=\"\",\"\",IF(INDEX(E_SourceStreams!$A:$N,ER38,BM$7)=\"\",\"\",INDEX(E_SourceStreams!$A:$N,ER38,BM$7)))","v":""},{"$f":"IF($E38=\"\",\"\",IF(INDEX(E_SourceStreams!$A:$N,ES38,BN$7)=\"\",\"\",INDEX(E_SourceStreams!$A:$N,ES38,BN$7)))","v":""},{"$f":"IF($E38=\"\",\"\",IF(INDEX(E_SourceStreams!$A:$N,ET38,BO$7)=\"\",\"\",INDEX(E_SourceStreams!$A:$N,ET38,BO$7)))","v":""},{"$f":"IF($E38=\"\",\"\",IF(INDEX(E_SourceStreams!$A:$N,EU38,BP$7)=\"\",\"\",INDEX(E_SourceStreams!$A:$N,EU38,BP$7)))","v":""},{"$f":"IF($E38=\"\",\"\",IF(INDEX(E_SourceStreams!$A:$N,EV38,BQ$7)=\"\",\"\",INDEX(E_SourceStreams!$A:$N,EV38,BQ$7)))","v":""},{"$f":"IF($E38=\"\",\"\",IF(INDEX(E_SourceStreams!$A:$N,EW38,BR$7)=\"\",\"\",INDEX(E_SourceStreams!$A:$N,EW38,BR$7)))","v":""},{"$f":"IF($E38=\"\",\"\",IF(INDEX(E_SourceStreams!$A:$N,EX38,BS$7)=\"\",\"\",INDEX(E_SourceStreams!$A:$N,EX38,BS$7)))","v":""},{"$f":"IF($E38=\"\",\"\",IF(INDEX(E_SourceStreams!$A:$N,EY38,BT$7)=\"\",\"\",INDEX(E_SourceStreams!$A:$N,EY38,BT$7)))","v":""},null,null,null,null,null,null,null,null,null,null,null,null,null,null,null,"SourceCategory_",{"$f":"INDEX(C_InstallationDescription!$A$226:$A$332,ROWS($CI$11:CI38))=\"ausblenden\"","v":false},"SourceStreamName_",null,1915,1917,1919,1921,1923,1925,1927,1927,1927,1927,1927,1930,1934,1935,1936,1943,1953,1953,1953,1953,1953,1953,1953,1944,1954,1954,1954,1954,1954,1954,1954,1945,1955,1955,1955,1955,1955,1955,1955,1946,1956,1956,1956,1956,1956,1956,1956,1947,1957,1957,1957,1957,1957,1957,1957,1948,1958,1958,1958,1958,1958,1958,1958,1964]
[null,{"$f":"IF(COUNTIF($CK$10:CK39,TRUE)>0,\"\",INDEX(C_InstallationDescription!$E$226:$E$242,ROWS($A$11:A39)))","v":""},{"$f":"IF($E39=\"\",\"\",INDEX(C_InstallationDescription!F:F,MATCH($B39,C_InstallationDescription!$E:$E,0)))","v":""},{"$f":"IF($E39=\"\",\"\",INDEX(C_InstallationDescription!I:I,MATCH($B39,C_InstallationDescription!$E:$E,0)))","v":""},{"$f":"IF($B39=\"\",\"\",INDEX(C_InstallationDescription!F:F,MATCH($CJ39,C_InstallationDescription!$Q:$Q,0)))","v":""},{"$f":"IF($E39=\"\",\"\",INDEX(C_InstallationDescription!L:L,MATCH($CJ39,C_InstallationDescription!$Q:$Q,0)))","v":""},{"$f":"IF($E39=\"\",\"\",INDEX(C_InstallationDescription!M:M,MATCH($CJ39,C_InstallationDescription!$Q:$Q,0)))","v":""},{"$f":"IF($E39=\"\",\"\",INDEX(C_InstallationDescription!N:N,MATCH($CJ39,C_InstallationDescription!$Q:$Q,0)))","v":""},{"$f":"IF($E39=\"\",\"\",IF(INDEX(E_SourceStreams!$A:$N,CN39,I$7)=\"\",\"\",INDEX(E_SourceStreams!$A:$N,CN39,I$7)))","v":""},{"$f":"IF($E39=\"\",\"\",IF(INDEX(E_SourceStreams!$A:$N,CO39,J$7)=\"\",\"\",INDEX(E_SourceStreams!$A:$N,CO39,J$7)))","v":""},{"$f":"IF($E39=\"\",\"\",IF(INDEX(E_SourceStreams!$A:$N,CP39,K$7)=\"\",\"\",INDEX(E_SourceStreams!$A:$N,CP39,K$7)))","v":""},{"$f":"IF($E39=\"\",\"\",IF(INDEX(E_SourceStreams!$A:$N,CQ39,L$7)=\"\",\"\",INDEX(E_SourceStreams!$A:$N,CQ39,L$7)))","v":""},{"$f":"IF($E39=\"\",\"\",IF(INDEX(E_SourceStreams!$A:$N,CR39,M$7)=\"\",\"\",INDEX(E_SourceStreams!$A:$N,CR39,M$7)))","v":""},{"$f":"IF($E39=\"\",\"\",IF(INDEX(E_SourceStreams!$A:$N,CS39,N$7)=\"\",\"\",INDEX(E_SourceStreams!$A:$N,CS39,N$7)))","v":""},{"$f":"IF($E39=\"\",\"\",IF(INDEX(E_SourceStreams!$A:$N,CT39,O$7)=\"\",\"\",INDEX(E_SourceStreams!$A:$N,CT39,O$7)))","v":""},{"$f":"IF($E39=\"\",\"\",IF(INDEX(E_SourceStreams!$A:$N,CU39,P$7)=\"\",\"\",INDEX(E_SourceStreams!$A:$N,CU39,P$7)))","v":""},{"$f":"IF($E39=\"\",\"\",IF(INDEX(E_SourceStreams!$A:$N,CV39,Q$7)=\"\",\"\",INDEX(E_SourceStreams!$A:$N,CV39,Q$7)))","v":""},{"$f":"IF($E39=\"\",\"\",IF(INDEX(E_SourceStreams!$A:$N,CW39,R$7)=\"\",\"\",INDEX(E_SourceStreams!$A:$N,CW39,R$7)))","v":""},{"$f":"IF($E39=\"\",\"\",IF(INDEX(E_SourceStreams!$A:$N,CX39,S$7)=\"\",\"\",INDEX(E_SourceStreams!$A:$N,CX39,S$7)))","v":""},{"$f":"IF($E39=\"\",\"\",IF(INDEX(E_SourceStreams!$A:$N,CY39,T$7)=\"\",\"\",INDEX(E_SourceStreams!$A:$N,CY39,T$7)))","v":""},{"$f":"IF($E39=\"\",\"\",IF(INDEX(E_SourceStreams!$A:$N,CZ39,U$7)=\"\",\"\",INDEX(E_SourceStreams!$A:$N,CZ39,U$7)))","v":""},{"$f":"IF($E39=\"\",\"\",IF(INDEX(E_SourceStreams!$A:$N,DA39,V$7)=\"\",\"\",INDEX(E_SourceStreams!$A:$N,DA39,V$7)))","v":""},{"$f":"IF($E39=\"\",\"\",IF(INDEX(E_SourceStreams!$A:$N,DB39,W$7)=\"\",\"\",INDEX(E_SourceStreams!$A:$N,DB39,W$7)))","v":""},{"$f":"IF($E39=\"\",\"\",IF(INDEX(E_SourceStreams!$A:$N,DC39,X$7)=\"\",\"\",INDEX(E_SourceStreams!$A:$N,DC39,X$7)))","v":""},{"$f":"IF($E39=\"\",\"\",IF(INDEX(E_SourceStreams!$A:$N,DD39,Y$7)=\"\",\"\",INDEX(E_SourceStreams!$A:$N,DD39,Y$7)))","v":""},{"$f":"IF($E39=\"\",\"\",IF(INDEX(E_SourceStreams!$A:$N,DE39,Z$7)=\"\",\"\",INDEX(E_SourceStreams!$A:$N,DE39,Z$7)))","v":""},{"$f":"IF($E39=\"\",\"\",IF(INDEX(E_SourceStreams!$A:$N,DF39,AA$7)=\"\",\"\",INDEX(E_SourceStreams!$A:$N,DF39,AA$7)))","v":""},{"$f":"IF($E39=\"\",\"\",IF(INDEX(E_SourceStreams!$A:$N,DG39,AB$7)=\"\",\"\",INDEX(E_SourceStreams!$A:$N,DG39,AB$7)))","v":""},{"$f":"IF($E39=\"\",\"\",IF(INDEX(E_SourceStreams!$A:$N,DH39,AC$7)=\"\",\"\",INDEX(E_SourceStreams!$A:$N,DH39,AC$7)))","v":""},{"$f":"IF($E39=\"\",\"\",IF(INDEX(E_SourceStreams!$A:$N,DI39,AD$7)=\"\",\"\",INDEX(E_SourceStreams!$A:$N,DI39,AD$7)))","v":""},{"$f":"IF($E39=\"\",\"\",IF(INDEX(E_SourceStreams!$A:$N,DJ39,AE$7)=\"\",\"\",INDEX(E_SourceStreams!$A:$N,DJ39,AE$7)))","v":""},{"$f":"IF($E39=\"\",\"\",IF(INDEX(E_SourceStreams!$A:$N,DK39,AF$7)=\"\",\"\",INDEX(E_SourceStreams!$A:$N,DK39,AF$7)))","v":""},{"$f":"IF($E39=\"\",\"\",IF(INDEX(E_SourceStreams!$A:$N,DL39,AG$7)=\"\",\"\",INDEX(E_SourceStreams!$A:$N,DL39,AG$7)))","v":""},{"$f":"IF($E39=\"\",\"\",IF(INDEX(E_SourceStreams!$A:$N,DM39,AH$7)=\"\",\"\",INDEX(E_SourceStreams!$A:$N,DM39,AH$7)))","v":""},{"$f":"IF($E39=\"\",\"\",IF(INDEX(E_SourceStreams!$A:$N,DN39,AI$7)=\"\",\"\",INDEX(E_SourceStreams!$A:$N,DN39,AI$7)))","v":""},{"$f":"IF($E39=\"\",\"\",IF(INDEX(E_SourceStreams!$A:$N,DO39,AJ$7)=\"\",\"\",INDEX(E_SourceStreams!$A:$N,DO39,AJ$7)))","v":""},{"$f":"IF($E39=\"\",\"\",IF(INDEX(E_SourceStreams!$A:$N,DP39,AK$7)=\"\",\"\",INDEX(E_SourceStreams!$A:$N,DP39,AK$7)))","v":""},{"$f":"IF($E39=\"\",\"\",IF(INDEX(E_SourceStreams!$A:$N,DQ39,AL$7)=\"\",\"\",INDEX(E_SourceStreams!$A:$N,DQ39,AL$7)))","v":""},{"$f":"IF($E39=\"\",\"\",IF(INDEX(E_SourceStreams!$A:$N,DR39,AM$7)=\"\",\"\",INDEX(E_SourceStreams!$A:$N,DR39,AM$7)))","v":""},{"$f":"IF($E39=\"\",\"\",IF(INDEX(E_SourceStreams!$A:$N,DS39,AN$7)=\"\",\"\",INDEX(E_SourceStreams!$A:$N,DS39,AN$7)))","v":""},{"$f":"IF($E39=\"\",\"\",IF(INDEX(E_SourceStreams!$A:$N,DT39,AO$7)=\"\",\"\",INDEX(E_SourceStreams!$A:$N,DT39,AO$7)))","v":""},{"$f":"IF($E39=\"\",\"\",IF(INDEX(E_SourceStreams!$A:$N,DU39,AP$7)=\"\",\"\",INDEX(E_SourceStreams!$A:$N,DU39,AP$7)))","v":""},{"$f":"IF($E39=\"\",\"\",IF(INDEX(E_SourceStreams!$A:$N,DV39,AQ$7)=\"\",\"\",INDEX(E_SourceStreams!$A:$N,DV39,AQ$7)))","v":""},{"$f":"IF($E39=\"\",\"\",IF(INDEX(E_SourceStreams!$A:$N,DW39,AR$7)=\"\",\"\",INDEX(E_SourceStreams!$A:$N,DW39,AR$7)))","v":""},{"$f":"IF($E39=\"\",\"\",IF(INDEX(E_SourceStreams!$A:$N,DX39,AS$7)=\"\",\"\",INDEX(E_SourceStreams!$A:$N,DX39,AS$7)))","v":""},{"$f":"IF($E39=\"\",\"\",IF(INDEX(E_SourceStreams!$A:$N,DY39,AT$7)=\"\",\"\",INDEX(E_SourceStreams!$A:$N,DY39,AT$7)))","v":""},{"$f":"IF($E39=\"\",\"\",IF(INDEX(E_SourceStreams!$A:$N,DZ39,AU$7)=\"\",\"\",INDEX(E_SourceStreams!$A:$N,DZ39,AU$7)))","v":""},{"$f":"IF($E39=\"\",\"\",IF(INDEX(E_SourceStreams!$A:$N,EA39,AV$7)=\"\",\"\",INDEX(E_SourceStreams!$A:$N,EA39,AV$7)))","v":""},{"$f":"IF($E39=\"\",\"\",IF(INDEX(E_SourceStreams!$A:$N,EB39,AW$7)=\"\",\"\",INDEX(E_SourceStreams!$A:$N,EB39,AW$7)))","v":""},{"$f":"IF($E39=\"\",\"\",IF(INDEX(E_SourceStreams!$A:$N,EC39,AX$7)=\"\",\"\",INDEX(E_SourceStreams!$A:$N,EC39,AX$7)))","v":""},{"$f":"IF($E39=\"\",\"\",IF(INDEX(E_SourceStreams!$A:$N,ED39,AY$7)=\"\",\"\",INDEX(E_SourceStreams!$A:$N,ED39,AY$7)))","v":""},{"$f":"IF($E39=\"\",\"\",IF(INDEX(E_SourceStreams!$A:$N,EE39,AZ$7)=\"\",\"\",INDEX(E_SourceStreams!$A:$N,EE39,AZ$7)))","v":""},{"$f":"IF($E39=\"\",\"\",IF(INDEX(E_SourceStreams!$A:$N,EF39,BA$7)=\"\",\"\",INDEX(E_SourceStreams!$A:$N,EF39,BA$7)))","v":""},{"$f":"IF($E39=\"\",\"\",IF(INDEX(E_SourceStreams!$A:$N,EG39,BB$7)=\"\",\"\",INDEX(E_SourceStreams!$A:$N,EG39,BB$7)))","v":""},{"$f":"IF($E39=\"\",\"\",IF(INDEX(E_SourceStreams!$A:$N,EH39,BC$7)=\"\",\"\",INDEX(E_SourceStreams!$A:$N,EH39,BC$7)))","v":""},{"$f":"IF($E39=\"\",\"\",IF(INDEX(E_SourceStreams!$A:$N,EI39,BD$7)=\"\",\"\",INDEX(E_SourceStreams!$A:$N,EI39,BD$7)))","v":""},{"$f":"IF($E39=\"\",\"\",IF(INDEX(E_SourceStreams!$A:$N,EJ39,BE$7)=\"\",\"\",INDEX(E_SourceStreams!$A:$N,EJ39,BE$7)))","v":""},{"$f":"IF($E39=\"\",\"\",IF(INDEX(E_SourceStreams!$A:$N,EK39,BF$7)=\"\",\"\",INDEX(E_SourceStreams!$A:$N,EK39,BF$7)))","v":""},{"$f":"IF($E39=\"\",\"\",IF(INDEX(E_SourceStreams!$A:$N,EL39,BG$7)=\"\",\"\",INDEX(E_SourceStreams!$A:$N,EL39,BG$7)))","v":""},{"$f":"IF($E39=\"\",\"\",IF(INDEX(E_SourceStreams!$A:$N,EM39,BH$7)=\"\",\"\",INDEX(E_SourceStreams!$A:$N,EM39,BH$7)))","v":""},{"$f":"IF($E39=\"\",\"\",IF(INDEX(E_SourceStreams!$A:$N,EN39,BI$7)=\"\",\"\",INDEX(E_SourceStreams!$A:$N,EN39,BI$7)))","v":""},{"$f":"IF($E39=\"\",\"\",IF(INDEX(E_SourceStreams!$A:$N,EO39,BJ$7)=\"\",\"\",INDEX(E_SourceStreams!$A:$N,EO39,BJ$7)))","v":""},{"$f":"IF($E39=\"\",\"\",IF(INDEX(E_SourceStreams!$A:$N,EP39,BK$7)=\"\",\"\",INDEX(E_SourceStreams!$A:$N,EP39,BK$7)))","v":""},{"$f":"IF($E39=\"\",\"\",IF(INDEX(E_SourceStreams!$A:$N,EQ39,BL$7)=\"\",\"\",INDEX(E_SourceStreams!$A:$N,EQ39,BL$7)))","v":""},{"$f":"IF($E39=\"\",\"\",IF(INDEX(E_SourceStreams!$A:$N,ER39,BM$7)=\"\",\"\",INDEX(E_SourceStreams!$A:$N,ER39,BM$7)))","v":""},{"$f":"IF($E39=\"\",\"\",IF(INDEX(E_SourceStreams!$A:$N,ES39,BN$7)=\"\",\"\",INDEX(E_SourceStreams!$A:$N,ES39,BN$7)))","v":""},{"$f":"IF($E39=\"\",\"\",IF(INDEX(E_SourceStreams!$A:$N,ET39,BO$7)=\"\",\"\",INDEX(E_SourceStreams!$A:$N,ET39,BO$7)))","v":""},{"$f":"IF($E39=\"\",\"\",IF(INDEX(E_SourceStreams!$A:$N,EU39,BP$7)=\"\",\"\",INDEX(E_SourceStreams!$A:$N,EU39,BP$7)))","v":""},{"$f":"IF($E39=\"\",\"\",IF(INDEX(E_SourceStreams!$A:$N,EV39,BQ$7)=\"\",\"\",INDEX(E_SourceStreams!$A:$N,EV39,BQ$7)))","v":""},{"$f":"IF($E39=\"\",\"\",IF(INDEX(E_SourceStreams!$A:$N,EW39,BR$7)=\"\",\"\",INDEX(E_SourceStreams!$A:$N,EW39,BR$7)))","v":""},{"$f":"IF($E39=\"\",\"\",IF(INDEX(E_SourceStreams!$A:$N,EX39,BS$7)=\"\",\"\",INDEX(E_SourceStreams!$A:$N,EX39,BS$7)))","v":""},{"$f":"IF($E39=\"\",\"\",IF(INDEX(E_SourceStreams!$A:$N,EY39,BT$7)=\"\",\"\",INDEX(E_SourceStreams!$A:$N,EY39,BT$7)))","v":""},null,null,null,null,null,null,null,null,null,null,null,null,null,null,null,"SourceCategory_",{"$f":"INDEX(C_InstallationDescription!$A$226:$A$332,ROWS($CI$11:CI39))=\"ausblenden\"","v":false},"SourceStreamName_",null,1981,1983,1985,1987,1989,1991,1993,1993,1993,1993,1993,1996,2000,2001,2002,2009,2019,2019,2019,2019,2019,2019,2019,2010,2020,2020,2020,2020,2020,2020,2020,2011,2021,2021,2021,2021,2021,2021,2021,2012,2022,2022,2022,2022,2022,2022,2022,2013,2023,2023,2023,2023,2023,2023,2023,2014,2024,2024,2024,2024,2024,2024,2024,2030]
[null,{"$f":"IF(COUNTIF($CK$10:CK40,TRUE)>0,\"\",INDEX(C_InstallationDescription!$E$226:$E$242,ROWS($A$11:A40)))","v":""},{"$f":"IF($E40=\"\",\"\",INDEX(C_InstallationDescription!F:F,MATCH($B40,C_InstallationDescription!$E:$E,0)))","v":""},{"$f":"IF($E40=\"\",\"\",INDEX(C_InstallationDescription!I:I,MATCH($B40,C_InstallationDescription!$E:$E,0)))","v":""},{"$f":"IF($B40=\"\",\"\",INDEX(C_InstallationDescription!F:F,MATCH($CJ40,C_InstallationDescription!$Q:$Q,0)))","v":""},{"$f":"IF($E40=\"\",\"\",INDEX(C_InstallationDescription!L:L,MATCH($CJ40,C_InstallationDescription!$Q:$Q,0)))","v":""},{"$f":"IF($E40=\"\",\"\",INDEX(C_InstallationDescription!M:M,MATCH($CJ40,C_InstallationDescription!$Q:$Q,0)))","v":""},{"$f":"IF($E40=\"\",\"\",INDEX(C_InstallationDescription!N:N,MATCH($CJ40,C_InstallationDescription!$Q:$Q,0)))","v":""},{"$f":"IF($E40=\"\",\"\",IF(INDEX(E_SourceStreams!$A:$N,CN40,I$7)=\"\",\"\",INDEX(E_SourceStreams!$A:$N,CN40,I$7)))","v":""},{"$f":"IF($E40=\"\",\"\",IF(INDEX(E_SourceStreams!$A:$N,CO40,J$7)=\"\",\"\",INDEX(E_SourceStreams!$A:$N,CO40,J$7)))","v":""},{"$f":"IF($E40=\"\",\"\",IF(INDEX(E_SourceStreams!$A:$N,CP40,K$7)=\"\",\"\",INDEX(E_SourceStreams!$A:$N,CP40,K$7)))","v":""},{"$f":"IF($E40=\"\",\"\",IF(INDEX(E_SourceStreams!$A:$N,CQ40,L$7)=\"\",\"\",INDEX(E_SourceStreams!$A:$N,CQ40,L$7)))","v":""},{"$f":"IF($E40=\"\",\"\",IF(INDEX(E_SourceStreams!$A:$N,CR40,M$7)=\"\",\"\",INDEX(E_SourceStreams!$A:$N,CR40,M$7)))","v":""},{"$f":"IF($E40=\"\",\"\",IF(INDEX(E_SourceStreams!$A:$N,CS40,N$7)=\"\",\"\",INDEX(E_SourceStreams!$A:$N,CS40,N$7)))","v":""},{"$f":"IF($E40=\"\",\"\",IF(INDEX(E_SourceStreams!$A:$N,CT40,O$7)=\"\",\"\",INDEX(E_SourceStreams!$A:$N,CT40,O$7)))","v":""},{"$f":"IF($E40=\"\",\"\",IF(INDEX(E_SourceStreams!$A:$N,CU40,P$7)=\"\",\"\",INDEX(E_SourceStreams!$A:$N,CU40,P$7)))","v":""},{"$f":"IF($E40=\"\",\"\",IF(INDEX(E_SourceStreams!$A:$N,CV40,Q$7)=\"\",\"\",INDEX(E_SourceStreams!$A:$N,CV40,Q$7)))","v":""},{"$f":"IF($E40=\"\",\"\",IF(INDEX(E_SourceStreams!$A:$N,CW40,R$7)=\"\",\"\",INDEX(E_SourceStreams!$A:$N,CW40,R$7)))","v":""},{"$f":"IF($E40=\"\",\"\",IF(INDEX(E_SourceStreams!$A:$N,CX40,S$7)=\"\",\"\",INDEX(E_SourceStreams!$A:$N,CX40,S$7)))","v":""},{"$f":"IF($E40=\"\",\"\",IF(INDEX(E_SourceStreams!$A:$N,CY40,T$7)=\"\",\"\",INDEX(E_SourceStreams!$A:$N,CY40,T$7)))","v":""},{"$f":"IF($E40=\"\",\"\",IF(INDEX(E_SourceStreams!$A:$N,CZ40,U$7)=\"\",\"\",INDEX(E_SourceStreams!$A:$N,CZ40,U$7)))","v":""},{"$f":"IF($E40=\"\",\"\",IF(INDEX(E_SourceStreams!$A:$N,DA40,V$7)=\"\",\"\",INDEX(E_SourceStreams!$A:$N,DA40,V$7)))","v":""},{"$f":"IF($E40=\"\",\"\",IF(INDEX(E_SourceStreams!$A:$N,DB40,W$7)=\"\",\"\",INDEX(E_SourceStreams!$A:$N,DB40,W$7)))","v":""},{"$f":"IF($E40=\"\",\"\",IF(INDEX(E_SourceStreams!$A:$N,DC40,X$7)=\"\",\"\",INDEX(E_SourceStreams!$A:$N,DC40,X$7)))","v":""},{"$f":"IF($E40=\"\",\"\",IF(INDEX(E_SourceStreams!$A:$N,DD40,Y$7)=\"\",\"\",INDEX(E_SourceStreams!$A:$N,DD40,Y$7)))","v":""},{"$f":"IF($E40=\"\",\"\",IF(INDEX(E_SourceStreams!$A:$N,DE40,Z$7)=\"\",\"\",INDEX(E_SourceStreams!$A:$N,DE40,Z$7)))","v":""},{"$f":"IF($E40=\"\",\"\",IF(INDEX(E_SourceStreams!$A:$N,DF40,AA$7)=\"\",\"\",INDEX(E_SourceStreams!$A:$N,DF40,AA$7)))","v":""},{"$f":"IF($E40=\"\",\"\",IF(INDEX(E_SourceStreams!$A:$N,DG40,AB$7)=\"\",\"\",INDEX(E_SourceStreams!$A:$N,DG40,AB$7)))","v":""},{"$f":"IF($E40=\"\",\"\",IF(INDEX(E_SourceStreams!$A:$N,DH40,AC$7)=\"\",\"\",INDEX(E_SourceStreams!$A:$N,DH40,AC$7)))","v":""},{"$f":"IF($E40=\"\",\"\",IF(INDEX(E_SourceStreams!$A:$N,DI40,AD$7)=\"\",\"\",INDEX(E_SourceStreams!$A:$N,DI40,AD$7)))","v":""},{"$f":"IF($E40=\"\",\"\",IF(INDEX(E_SourceStreams!$A:$N,DJ40,AE$7)=\"\",\"\",INDEX(E_SourceStreams!$A:$N,DJ40,AE$7)))","v":""},{"$f":"IF($E40=\"\",\"\",IF(INDEX(E_SourceStreams!$A:$N,DK40,AF$7)=\"\",\"\",INDEX(E_SourceStreams!$A:$N,DK40,AF$7)))","v":""},{"$f":"IF($E40=\"\",\"\",IF(INDEX(E_SourceStreams!$A:$N,DL40,AG$7)=\"\",\"\",INDEX(E_SourceStreams!$A:$N,DL40,AG$7)))","v":""},{"$f":"IF($E40=\"\",\"\",IF(INDEX(E_SourceStreams!$A:$N,DM40,AH$7)=\"\",\"\",INDEX(E_SourceStreams!$A:$N,DM40,AH$7)))","v":""},{"$f":"IF($E40=\"\",\"\",IF(INDEX(E_SourceStreams!$A:$N,DN40,AI$7)=\"\",\"\",INDEX(E_SourceStreams!$A:$N,DN40,AI$7)))","v":""},{"$f":"IF($E40=\"\",\"\",IF(INDEX(E_SourceStreams!$A:$N,DO40,AJ$7)=\"\",\"\",INDEX(E_SourceStreams!$A:$N,DO40,AJ$7)))","v":""},{"$f":"IF($E40=\"\",\"\",IF(INDEX(E_SourceStreams!$A:$N,DP40,AK$7)=\"\",\"\",INDEX(E_SourceStreams!$A:$N,DP40,AK$7)))","v":""},{"$f":"IF($E40=\"\",\"\",IF(INDEX(E_SourceStreams!$A:$N,DQ40,AL$7)=\"\",\"\",INDEX(E_SourceStreams!$A:$N,DQ40,AL$7)))","v":""},{"$f":"IF($E40=\"\",\"\",IF(INDEX(E_SourceStreams!$A:$N,DR40,AM$7)=\"\",\"\",INDEX(E_SourceStreams!$A:$N,DR40,AM$7)))","v":""},{"$f":"IF($E40=\"\",\"\",IF(INDEX(E_SourceStreams!$A:$N,DS40,AN$7)=\"\",\"\",INDEX(E_SourceStreams!$A:$N,DS40,AN$7)))","v":""},{"$f":"IF($E40=\"\",\"\",IF(INDEX(E_SourceStreams!$A:$N,DT40,AO$7)=\"\",\"\",INDEX(E_SourceStreams!$A:$N,DT40,AO$7)))","v":""},{"$f":"IF($E40=\"\",\"\",IF(INDEX(E_SourceStreams!$A:$N,DU40,AP$7)=\"\",\"\",INDEX(E_SourceStreams!$A:$N,DU40,AP$7)))","v":""},{"$f":"IF($E40=\"\",\"\",IF(INDEX(E_SourceStreams!$A:$N,DV40,AQ$7)=\"\",\"\",INDEX(E_SourceStreams!$A:$N,DV40,AQ$7)))","v":""},{"$f":"IF($E40=\"\",\"\",IF(INDEX(E_SourceStreams!$A:$N,DW40,AR$7)=\"\",\"\",INDEX(E_SourceStreams!$A:$N,DW40,AR$7)))","v":""},{"$f":"IF($E40=\"\",\"\",IF(INDEX(E_SourceStreams!$A:$N,DX40,AS$7)=\"\",\"\",INDEX(E_SourceStreams!$A:$N,DX40,AS$7)))","v":""},{"$f":"IF($E40=\"\",\"\",IF(INDEX(E_SourceStreams!$A:$N,DY40,AT$7)=\"\",\"\",INDEX(E_SourceStreams!$A:$N,DY40,AT$7)))","v":""},{"$f":"IF($E40=\"\",\"\",IF(INDEX(E_SourceStreams!$A:$N,DZ40,AU$7)=\"\",\"\",INDEX(E_SourceStreams!$A:$N,DZ40,AU$7)))","v":""},{"$f":"IF($E40=\"\",\"\",IF(INDEX(E_SourceStreams!$A:$N,EA40,AV$7)=\"\",\"\",INDEX(E_SourceStreams!$A:$N,EA40,AV$7)))","v":""},{"$f":"IF($E40=\"\",\"\",IF(INDEX(E_SourceStreams!$A:$N,EB40,AW$7)=\"\",\"\",INDEX(E_SourceStreams!$A:$N,EB40,AW$7)))","v":""},{"$f":"IF($E40=\"\",\"\",IF(INDEX(E_SourceStreams!$A:$N,EC40,AX$7)=\"\",\"\",INDEX(E_SourceStreams!$A:$N,EC40,AX$7)))","v":""},{"$f":"IF($E40=\"\",\"\",IF(INDEX(E_SourceStreams!$A:$N,ED40,AY$7)=\"\",\"\",INDEX(E_SourceStreams!$A:$N,ED40,AY$7)))","v":""},{"$f":"IF($E40=\"\",\"\",IF(INDEX(E_SourceStreams!$A:$N,EE40,AZ$7)=\"\",\"\",INDEX(E_SourceStreams!$A:$N,EE40,AZ$7)))","v":""},{"$f":"IF($E40=\"\",\"\",IF(INDEX(E_SourceStreams!$A:$N,EF40,BA$7)=\"\",\"\",INDEX(E_SourceStreams!$A:$N,EF40,BA$7)))","v":""},{"$f":"IF($E40=\"\",\"\",IF(INDEX(E_SourceStreams!$A:$N,EG40,BB$7)=\"\",\"\",INDEX(E_SourceStreams!$A:$N,EG40,BB$7)))","v":""},{"$f":"IF($E40=\"\",\"\",IF(INDEX(E_SourceStreams!$A:$N,EH40,BC$7)=\"\",\"\",INDEX(E_SourceStreams!$A:$N,EH40,BC$7)))","v":""},{"$f":"IF($E40=\"\",\"\",IF(INDEX(E_SourceStreams!$A:$N,EI40,BD$7)=\"\",\"\",INDEX(E_SourceStreams!$A:$N,EI40,BD$7)))","v":""},{"$f":"IF($E40=\"\",\"\",IF(INDEX(E_SourceStreams!$A:$N,EJ40,BE$7)=\"\",\"\",INDEX(E_SourceStreams!$A:$N,EJ40,BE$7)))","v":""},{"$f":"IF($E40=\"\",\"\",IF(INDEX(E_SourceStreams!$A:$N,EK40,BF$7)=\"\",\"\",INDEX(E_SourceStreams!$A:$N,EK40,BF$7)))","v":""},{"$f":"IF($E40=\"\",\"\",IF(INDEX(E_SourceStreams!$A:$N,EL40,BG$7)=\"\",\"\",INDEX(E_SourceStreams!$A:$N,EL40,BG$7)))","v":""},{"$f":"IF($E40=\"\",\"\",IF(INDEX(E_SourceStreams!$A:$N,EM40,BH$7)=\"\",\"\",INDEX(E_SourceStreams!$A:$N,EM40,BH$7)))","v":""},{"$f":"IF($E40=\"\",\"\",IF(INDEX(E_SourceStreams!$A:$N,EN40,BI$7)=\"\",\"\",INDEX(E_SourceStreams!$A:$N,EN40,BI$7)))","v":""},{"$f":"IF($E40=\"\",\"\",IF(INDEX(E_SourceStreams!$A:$N,EO40,BJ$7)=\"\",\"\",INDEX(E_SourceStreams!$A:$N,EO40,BJ$7)))","v":""},{"$f":"IF($E40=\"\",\"\",IF(INDEX(E_SourceStreams!$A:$N,EP40,BK$7)=\"\",\"\",INDEX(E_SourceStreams!$A:$N,EP40,BK$7)))","v":""},{"$f":"IF($E40=\"\",\"\",IF(INDEX(E_SourceStreams!$A:$N,EQ40,BL$7)=\"\",\"\",INDEX(E_SourceStreams!$A:$N,EQ40,BL$7)))","v":""},{"$f":"IF($E40=\"\",\"\",IF(INDEX(E_SourceStreams!$A:$N,ER40,BM$7)=\"\",\"\",INDEX(E_SourceStreams!$A:$N,ER40,BM$7)))","v":""},{"$f":"IF($E40=\"\",\"\",IF(INDEX(E_SourceStreams!$A:$N,ES40,BN$7)=\"\",\"\",INDEX(E_SourceStreams!$A:$N,ES40,BN$7)))","v":""},{"$f":"IF($E40=\"\",\"\",IF(INDEX(E_SourceStreams!$A:$N,ET40,BO$7)=\"\",\"\",INDEX(E_SourceStreams!$A:$N,ET40,BO$7)))","v":""},{"$f":"IF($E40=\"\",\"\",IF(INDEX(E_SourceStreams!$A:$N,EU40,BP$7)=\"\",\"\",INDEX(E_SourceStreams!$A:$N,EU40,BP$7)))","v":""},{"$f":"IF($E40=\"\",\"\",IF(INDEX(E_SourceStreams!$A:$N,EV40,BQ$7)=\"\",\"\",INDEX(E_SourceStreams!$A:$N,EV40,BQ$7)))","v":""},{"$f":"IF($E40=\"\",\"\",IF(INDEX(E_SourceStreams!$A:$N,EW40,BR$7)=\"\",\"\",INDEX(E_SourceStreams!$A:$N,EW40,BR$7)))","v":""},{"$f":"IF($E40=\"\",\"\",IF(INDEX(E_SourceStreams!$A:$N,EX40,BS$7)=\"\",\"\",INDEX(E_SourceStreams!$A:$N,EX40,BS$7)))","v":""},{"$f":"IF($E40=\"\",\"\",IF(INDEX(E_SourceStreams!$A:$N,EY40,BT$7)=\"\",\"\",INDEX(E_SourceStreams!$A:$N,EY40,BT$7)))","v":""},null,null,null,null,null,null,null,null,null,null,null,null,null,null,null,"SourceCategory_",{"$f":"INDEX(C_InstallationDescription!$A$226:$A$332,ROWS($CI$11:CI40))=\"ausblenden\"","v":false},"SourceStreamName_",null,2047,2049,2051,2053,2055,2057,2059,2059,2059,2059,2059,2062,2066,2067,2068,2075,2085,2085,2085,2085,2085,2085,2085,2076,2086,2086,2086,2086,2086,2086,2086,2077,2087,2087,2087,2087,2087,2087,2087,2078,2088,2088,2088,2088,2088,2088,2088,2079,2089,2089,2089,2089,2089,2089,2089,2080,2090,2090,2090,2090,2090,2090,2090,2096]
[null,{"$f":"IF(COUNTIF($CK$10:CK41,TRUE)>0,\"\",INDEX(C_InstallationDescription!$E$226:$E$242,ROWS($A$11:A41)))","v":""},{"$f":"IF($E41=\"\",\"\",INDEX(C_InstallationDescription!F:F,MATCH($B41,C_InstallationDescription!$E:$E,0)))","v":""},{"$f":"IF($E41=\"\",\"\",INDEX(C_InstallationDescription!I:I,MATCH($B41,C_InstallationDescription!$E:$E,0)))","v":""},{"$f":"IF($B41=\"\",\"\",INDEX(C_InstallationDescription!F:F,MATCH($CJ41,C_InstallationDescription!$Q:$Q,0)))","v":""},{"$f":"IF($E41=\"\",\"\",INDEX(C_InstallationDescription!L:L,MATCH($CJ41,C_InstallationDescription!$Q:$Q,0)))","v":""},{"$f":"IF($E41=\"\",\"\",INDEX(C_InstallationDescription!M:M,MATCH($CJ41,C_InstallationDescription!$Q:$Q,0)))","v":""},{"$f":"IF($E41=\"\",\"\",INDEX(C_InstallationDescription!N:N,MATCH($CJ41,C_InstallationDescription!$Q:$Q,0)))","v":""},{"$f":"IF($E41=\"\",\"\",IF(INDEX(E_SourceStreams!$A:$N,CN41,I$7)=\"\",\"\",INDEX(E_SourceStreams!$A:$N,CN41,I$7)))","v":""},{"$f":"IF($E41=\"\",\"\",IF(INDEX(E_SourceStreams!$A:$N,CO41,J$7)=\"\",\"\",INDEX(E_SourceStreams!$A:$N,CO41,J$7)))","v":""},{"$f":"IF($E41=\"\",\"\",IF(INDEX(E_SourceStreams!$A:$N,CP41,K$7)=\"\",\"\",INDEX(E_SourceStreams!$A:$N,CP41,K$7)))","v":""},{"$f":"IF($E41=\"\",\"\",IF(INDEX(E_SourceStreams!$A:$N,CQ41,L$7)=\"\",\"\",INDEX(E_SourceStreams!$A:$N,CQ41,L$7)))","v":""},{"$f":"IF($E41=\"\",\"\",IF(INDEX(E_SourceStreams!$A:$N,CR41,M$7)=\"\",\"\",INDEX(E_SourceStreams!$A:$N,CR41,M$7)))","v":""},{"$f":"IF($E41=\"\",\"\",IF(INDEX(E_SourceStreams!$A:$N,CS41,N$7)=\"\",\"\",INDEX(E_SourceStreams!$A:$N,CS41,N$7)))","v":""},{"$f":"IF($E41=\"\",\"\",IF(INDEX(E_SourceStreams!$A:$N,CT41,O$7)=\"\",\"\",INDEX(E_SourceStreams!$A:$N,CT41,O$7)))","v":""},{"$f":"IF($E41=\"\",\"\",IF(INDEX(E_SourceStreams!$A:$N,CU41,P$7)=\"\",\"\",INDEX(E_SourceStreams!$A:$N,CU41,P$7)))","v":""},{"$f":"IF($E41=\"\",\"\",IF(INDEX(E_SourceStreams!$A:$N,CV41,Q$7)=\"\",\"\",INDEX(E_SourceStreams!$A:$N,CV41,Q$7)))","v":""},{"$f":"IF($E41=\"\",\"\",IF(INDEX(E_SourceStreams!$A:$N,CW41,R$7)=\"\",\"\",INDEX(E_SourceStreams!$A:$N,CW41,R$7)))","v":""},{"$f":"IF($E41=\"\",\"\",IF(INDEX(E_SourceStreams!$A:$N,CX41,S$7)=\"\",\"\",INDEX(E_SourceStreams!$A:$N,CX41,S$7)))","v":""},{"$f":"IF($E41=\"\",\"\",IF(INDEX(E_SourceStreams!$A:$N,CY41,T$7)=\"\",\"\",INDEX(E_SourceStreams!$A:$N,CY41,T$7)))","v":""},{"$f":"IF($E41=\"\",\"\",IF(INDEX(E_SourceStreams!$A:$N,CZ41,U$7)=\"\",\"\",INDEX(E_SourceStreams!$A:$N,CZ41,U$7)))","v":""},{"$f":"IF($E41=\"\",\"\",IF(INDEX(E_SourceStreams!$A:$N,DA41,V$7)=\"\",\"\",INDEX(E_SourceStreams!$A:$N,DA41,V$7)))","v":""},{"$f":"IF($E41=\"\",\"\",IF(INDEX(E_SourceStreams!$A:$N,DB41,W$7)=\"\",\"\",INDEX(E_SourceStreams!$A:$N,DB41,W$7)))","v":""},{"$f":"IF($E41=\"\",\"\",IF(INDEX(E_SourceStreams!$A:$N,DC41,X$7)=\"\",\"\",INDEX(E_SourceStreams!$A:$N,DC41,X$7)))","v":""},{"$f":"IF($E41=\"\",\"\",IF(INDEX(E_SourceStreams!$A:$N,DD41,Y$7)=\"\",\"\",INDEX(E_SourceStreams!$A:$N,DD41,Y$7)))","v":""},{"$f":"IF($E41=\"\",\"\",IF(INDEX(E_SourceStreams!$A:$N,DE41,Z$7)=\"\",\"\",INDEX(E_SourceStreams!$A:$N,DE41,Z$7)))","v":""},{"$f":"IF($E41=\"\",\"\",IF(INDEX(E_SourceStreams!$A:$N,DF41,AA$7)=\"\",\"\",INDEX(E_SourceStreams!$A:$N,DF41,AA$7)))","v":""},{"$f":"IF($E41=\"\",\"\",IF(INDEX(E_SourceStreams!$A:$N,DG41,AB$7)=\"\",\"\",INDEX(E_SourceStreams!$A:$N,DG41,AB$7)))","v":""},{"$f":"IF($E41=\"\",\"\",IF(INDEX(E_SourceStreams!$A:$N,DH41,AC$7)=\"\",\"\",INDEX(E_SourceStreams!$A:$N,DH41,AC$7)))","v":""},{"$f":"IF($E41=\"\",\"\",IF(INDEX(E_SourceStreams!$A:$N,DI41,AD$7)=\"\",\"\",INDEX(E_SourceStreams!$A:$N,DI41,AD$7)))","v":""},{"$f":"IF($E41=\"\",\"\",IF(INDEX(E_SourceStreams!$A:$N,DJ41,AE$7)=\"\",\"\",INDEX(E_SourceStreams!$A:$N,DJ41,AE$7)))","v":""},{"$f":"IF($E41=\"\",\"\",IF(INDEX(E_SourceStreams!$A:$N,DK41,AF$7)=\"\",\"\",INDEX(E_SourceStreams!$A:$N,DK41,AF$7)))","v":""},{"$f":"IF($E41=\"\",\"\",IF(INDEX(E_SourceStreams!$A:$N,DL41,AG$7)=\"\",\"\",INDEX(E_SourceStreams!$A:$N,DL41,AG$7)))","v":""},{"$f":"IF($E41=\"\",\"\",IF(INDEX(E_SourceStreams!$A:$N,DM41,AH$7)=\"\",\"\",INDEX(E_SourceStreams!$A:$N,DM41,AH$7)))","v":""},{"$f":"IF($E41=\"\",\"\",IF(INDEX(E_SourceStreams!$A:$N,DN41,AI$7)=\"\",\"\",INDEX(E_SourceStreams!$A:$N,DN41,AI$7)))","v":""},{"$f":"IF($E41=\"\",\"\",IF(INDEX(E_SourceStreams!$A:$N,DO41,AJ$7)=\"\",\"\",INDEX(E_SourceStreams!$A:$N,DO41,AJ$7)))","v":""},{"$f":"IF($E41=\"\",\"\",IF(INDEX(E_SourceStreams!$A:$N,DP41,AK$7)=\"\",\"\",INDEX(E_SourceStreams!$A:$N,DP41,AK$7)))","v":""},{"$f":"IF($E41=\"\",\"\",IF(INDEX(E_SourceStreams!$A:$N,DQ41,AL$7)=\"\",\"\",INDEX(E_SourceStreams!$A:$N,DQ41,AL$7)))","v":""},{"$f":"IF($E41=\"\",\"\",IF(INDEX(E_SourceStreams!$A:$N,DR41,AM$7)=\"\",\"\",INDEX(E_SourceStreams!$A:$N,DR41,AM$7)))","v":""},{"$f":"IF($E41=\"\",\"\",IF(INDEX(E_SourceStreams!$A:$N,DS41,AN$7)=\"\",\"\",INDEX(E_SourceStreams!$A:$N,DS41,AN$7)))","v":""},{"$f":"IF($E41=\"\",\"\",IF(INDEX(E_SourceStreams!$A:$N,DT41,AO$7)=\"\",\"\",INDEX(E_SourceStreams!$A:$N,DT41,AO$7)))","v":""},{"$f":"IF($E41=\"\",\"\",IF(INDEX(E_SourceStreams!$A:$N,DU41,AP$7)=\"\",\"\",INDEX(E_SourceStreams!$A:$N,DU41,AP$7)))","v":""},{"$f":"IF($E41=\"\",\"\",IF(INDEX(E_SourceStreams!$A:$N,DV41,AQ$7)=\"\",\"\",INDEX(E_SourceStreams!$A:$N,DV41,AQ$7)))","v":""},{"$f":"IF($E41=\"\",\"\",IF(INDEX(E_SourceStreams!$A:$N,DW41,AR$7)=\"\",\"\",INDEX(E_SourceStreams!$A:$N,DW41,AR$7)))","v":""},{"$f":"IF($E41=\"\",\"\",IF(INDEX(E_SourceStreams!$A:$N,DX41,AS$7)=\"\",\"\",INDEX(E_SourceStreams!$A:$N,DX41,AS$7)))","v":""},{"$f":"IF($E41=\"\",\"\",IF(INDEX(E_SourceStreams!$A:$N,DY41,AT$7)=\"\",\"\",INDEX(E_SourceStreams!$A:$N,DY41,AT$7)))","v":""},{"$f":"IF($E41=\"\",\"\",IF(INDEX(E_SourceStreams!$A:$N,DZ41,AU$7)=\"\",\"\",INDEX(E_SourceStreams!$A:$N,DZ41,AU$7)))","v":""},{"$f":"IF($E41=\"\",\"\",IF(INDEX(E_SourceStreams!$A:$N,EA41,AV$7)=\"\",\"\",INDEX(E_SourceStreams!$A:$N,EA41,AV$7)))","v":""},{"$f":"IF($E41=\"\",\"\",IF(INDEX(E_SourceStreams!$A:$N,EB41,AW$7)=\"\",\"\",INDEX(E_SourceStreams!$A:$N,EB41,AW$7)))","v":""},{"$f":"IF($E41=\"\",\"\",IF(INDEX(E_SourceStreams!$A:$N,EC41,AX$7)=\"\",\"\",INDEX(E_SourceStreams!$A:$N,EC41,AX$7)))","v":""},{"$f":"IF($E41=\"\",\"\",IF(INDEX(E_SourceStreams!$A:$N,ED41,AY$7)=\"\",\"\",INDEX(E_SourceStreams!$A:$N,ED41,AY$7)))","v":""},{"$f":"IF($E41=\"\",\"\",IF(INDEX(E_SourceStreams!$A:$N,EE41,AZ$7)=\"\",\"\",INDEX(E_SourceStreams!$A:$N,EE41,AZ$7)))","v":""},{"$f":"IF($E41=\"\",\"\",IF(INDEX(E_SourceStreams!$A:$N,EF41,BA$7)=\"\",\"\",INDEX(E_SourceStreams!$A:$N,EF41,BA$7)))","v":""},{"$f":"IF($E41=\"\",\"\",IF(INDEX(E_SourceStreams!$A:$N,EG41,BB$7)=\"\",\"\",INDEX(E_SourceStreams!$A:$N,EG41,BB$7)))","v":""},{"$f":"IF($E41=\"\",\"\",IF(INDEX(E_SourceStreams!$A:$N,EH41,BC$7)=\"\",\"\",INDEX(E_SourceStreams!$A:$N,EH41,BC$7)))","v":""},{"$f":"IF($E41=\"\",\"\",IF(INDEX(E_SourceStreams!$A:$N,EI41,BD$7)=\"\",\"\",INDEX(E_SourceStreams!$A:$N,EI41,BD$7)))","v":""},{"$f":"IF($E41=\"\",\"\",IF(INDEX(E_SourceStreams!$A:$N,EJ41,BE$7)=\"\",\"\",INDEX(E_SourceStreams!$A:$N,EJ41,BE$7)))","v":""},{"$f":"IF($E41=\"\",\"\",IF(INDEX(E_SourceStreams!$A:$N,EK41,BF$7)=\"\",\"\",INDEX(E_SourceStreams!$A:$N,EK41,BF$7)))","v":""},{"$f":"IF($E41=\"\",\"\",IF(INDEX(E_SourceStreams!$A:$N,EL41,BG$7)=\"\",\"\",INDEX(E_SourceStreams!$A:$N,EL41,BG$7)))","v":""},{"$f":"IF($E41=\"\",\"\",IF(INDEX(E_SourceStreams!$A:$N,EM41,BH$7)=\"\",\"\",INDEX(E_SourceStreams!$A:$N,EM41,BH$7)))","v":""},{"$f":"IF($E41=\"\",\"\",IF(INDEX(E_SourceStreams!$A:$N,EN41,BI$7)=\"\",\"\",INDEX(E_SourceStreams!$A:$N,EN41,BI$7)))","v":""},{"$f":"IF($E41=\"\",\"\",IF(INDEX(E_SourceStreams!$A:$N,EO41,BJ$7)=\"\",\"\",INDEX(E_SourceStreams!$A:$N,EO41,BJ$7)))","v":""},{"$f":"IF($E41=\"\",\"\",IF(INDEX(E_SourceStreams!$A:$N,EP41,BK$7)=\"\",\"\",INDEX(E_SourceStreams!$A:$N,EP41,BK$7)))","v":""},{"$f":"IF($E41=\"\",\"\",IF(INDEX(E_SourceStreams!$A:$N,EQ41,BL$7)=\"\",\"\",INDEX(E_SourceStreams!$A:$N,EQ41,BL$7)))","v":""},{"$f":"IF($E41=\"\",\"\",IF(INDEX(E_SourceStreams!$A:$N,ER41,BM$7)=\"\",\"\",INDEX(E_SourceStreams!$A:$N,ER41,BM$7)))","v":""},{"$f":"IF($E41=\"\",\"\",IF(INDEX(E_SourceStreams!$A:$N,ES41,BN$7)=\"\",\"\",INDEX(E_SourceStreams!$A:$N,ES41,BN$7)))","v":""},{"$f":"IF($E41=\"\",\"\",IF(INDEX(E_SourceStreams!$A:$N,ET41,BO$7)=\"\",\"\",INDEX(E_SourceStreams!$A:$N,ET41,BO$7)))","v":""},{"$f":"IF($E41=\"\",\"\",IF(INDEX(E_SourceStreams!$A:$N,EU41,BP$7)=\"\",\"\",INDEX(E_SourceStreams!$A:$N,EU41,BP$7)))","v":""},{"$f":"IF($E41=\"\",\"\",IF(INDEX(E_SourceStreams!$A:$N,EV41,BQ$7)=\"\",\"\",INDEX(E_SourceStreams!$A:$N,EV41,BQ$7)))","v":""},{"$f":"IF($E41=\"\",\"\",IF(INDEX(E_SourceStreams!$A:$N,EW41,BR$7)=\"\",\"\",INDEX(E_SourceStreams!$A:$N,EW41,BR$7)))","v":""},{"$f":"IF($E41=\"\",\"\",IF(INDEX(E_SourceStreams!$A:$N,EX41,BS$7)=\"\",\"\",INDEX(E_SourceStreams!$A:$N,EX41,BS$7)))","v":""},{"$f":"IF($E41=\"\",\"\",IF(INDEX(E_SourceStreams!$A:$N,EY41,BT$7)=\"\",\"\",INDEX(E_SourceStreams!$A:$N,EY41,BT$7)))","v":""},null,null,null,null,null,null,null,null,null,null,null,null,null,null,null,"SourceCategory_",{"$f":"INDEX(C_InstallationDescription!$A$226:$A$332,ROWS($CI$11:CI41))=\"ausblenden\"","v":false},"SourceStreamName_",null,2113,2115,2117,2119,2121,2123,2125,2125,2125,2125,2125,2128,2132,2133,2134,2141,2151,2151,2151,2151,2151,2151,2151,2142,2152,2152,2152,2152,2152,2152,2152,2143,2153,2153,2153,2153,2153,2153,2153,2144,2154,2154,2154,2154,2154,2154,2154,2145,2155,2155,2155,2155,2155,2155,2155,2146,2156,2156,2156,2156,2156,2156,2156,2162]
[null,{"$f":"IF(COUNTIF($CK$10:CK42,TRUE)>0,\"\",INDEX(C_InstallationDescription!$E$226:$E$242,ROWS($A$11:A42)))","v":""},{"$f":"IF($E42=\"\",\"\",INDEX(C_InstallationDescription!F:F,MATCH($B42,C_InstallationDescription!$E:$E,0)))","v":""},{"$f":"IF($E42=\"\",\"\",INDEX(C_InstallationDescription!I:I,MATCH($B42,C_InstallationDescription!$E:$E,0)))","v":""},{"$f":"IF($B42=\"\",\"\",INDEX(C_InstallationDescription!F:F,MATCH($CJ42,C_InstallationDescription!$Q:$Q,0)))","v":""},{"$f":"IF($E42=\"\",\"\",INDEX(C_InstallationDescription!L:L,MATCH($CJ42,C_InstallationDescription!$Q:$Q,0)))","v":""},{"$f":"IF($E42=\"\",\"\",INDEX(C_InstallationDescription!M:M,MATCH($CJ42,C_InstallationDescription!$Q:$Q,0)))","v":""},{"$f":"IF($E42=\"\",\"\",INDEX(C_InstallationDescription!N:N,MATCH($CJ42,C_InstallationDescription!$Q:$Q,0)))","v":""},{"$f":"IF($E42=\"\",\"\",IF(INDEX(E_SourceStreams!$A:$N,CN42,I$7)=\"\",\"\",INDEX(E_SourceStreams!$A:$N,CN42,I$7)))","v":""},{"$f":"IF($E42=\"\",\"\",IF(INDEX(E_SourceStreams!$A:$N,CO42,J$7)=\"\",\"\",INDEX(E_SourceStreams!$A:$N,CO42,J$7)))","v":""},{"$f":"IF($E42=\"\",\"\",IF(INDEX(E_SourceStreams!$A:$N,CP42,K$7)=\"\",\"\",INDEX(E_SourceStreams!$A:$N,CP42,K$7)))","v":""},{"$f":"IF($E42=\"\",\"\",IF(INDEX(E_SourceStreams!$A:$N,CQ42,L$7)=\"\",\"\",INDEX(E_SourceStreams!$A:$N,CQ42,L$7)))","v":""},{"$f":"IF($E42=\"\",\"\",IF(INDEX(E_SourceStreams!$A:$N,CR42,M$7)=\"\",\"\",INDEX(E_SourceStreams!$A:$N,CR42,M$7)))","v":""},{"$f":"IF($E42=\"\",\"\",IF(INDEX(E_SourceStreams!$A:$N,CS42,N$7)=\"\",\"\",INDEX(E_SourceStreams!$A:$N,CS42,N$7)))","v":""},{"$f":"IF($E42=\"\",\"\",IF(INDEX(E_SourceStreams!$A:$N,CT42,O$7)=\"\",\"\",INDEX(E_SourceStreams!$A:$N,CT42,O$7)))","v":""},{"$f":"IF($E42=\"\",\"\",IF(INDEX(E_SourceStreams!$A:$N,CU42,P$7)=\"\",\"\",INDEX(E_SourceStreams!$A:$N,CU42,P$7)))","v":""},{"$f":"IF($E42=\"\",\"\",IF(INDEX(E_SourceStreams!$A:$N,CV42,Q$7)=\"\",\"\",INDEX(E_SourceStreams!$A:$N,CV42,Q$7)))","v":""},{"$f":"IF($E42=\"\",\"\",IF(INDEX(E_SourceStreams!$A:$N,CW42,R$7)=\"\",\"\",INDEX(E_SourceStreams!$A:$N,CW42,R$7)))","v":""},{"$f":"IF($E42=\"\",\"\",IF(INDEX(E_SourceStreams!$A:$N,CX42,S$7)=\"\",\"\",INDEX(E_SourceStreams!$A:$N,CX42,S$7)))","v":""},{"$f":"IF($E42=\"\",\"\",IF(INDEX(E_SourceStreams!$A:$N,CY42,T$7)=\"\",\"\",INDEX(E_SourceStreams!$A:$N,CY42,T$7)))","v":""},{"$f":"IF($E42=\"\",\"\",IF(INDEX(E_SourceStreams!$A:$N,CZ42,U$7)=\"\",\"\",INDEX(E_SourceStreams!$A:$N,CZ42,U$7)))","v":""},{"$f":"IF($E42=\"\",\"\",IF(INDEX(E_SourceStreams!$A:$N,DA42,V$7)=\"\",\"\",INDEX(E_SourceStreams!$A:$N,DA42,V$7)))","v":""},{"$f":"IF($E42=\"\",\"\",IF(INDEX(E_SourceStreams!$A:$N,DB42,W$7)=\"\",\"\",INDEX(E_SourceStreams!$A:$N,DB42,W$7)))","v":""},{"$f":"IF($E42=\"\",\"\",IF(INDEX(E_SourceStreams!$A:$N,DC42,X$7)=\"\",\"\",INDEX(E_SourceStreams!$A:$N,DC42,X$7)))","v":""},{"$f":"IF($E42=\"\",\"\",IF(INDEX(E_SourceStreams!$A:$N,DD42,Y$7)=\"\",\"\",INDEX(E_SourceStreams!$A:$N,DD42,Y$7)))","v":""},{"$f":"IF($E42=\"\",\"\",IF(INDEX(E_SourceStreams!$A:$N,DE42,Z$7)=\"\",\"\",INDEX(E_SourceStreams!$A:$N,DE42,Z$7)))","v":""},{"$f":"IF($E42=\"\",\"\",IF(INDEX(E_SourceStreams!$A:$N,DF42,AA$7)=\"\",\"\",INDEX(E_SourceStreams!$A:$N,DF42,AA$7)))","v":""},{"$f":"IF($E42=\"\",\"\",IF(INDEX(E_SourceStreams!$A:$N,DG42,AB$7)=\"\",\"\",INDEX(E_SourceStreams!$A:$N,DG42,AB$7)))","v":""},{"$f":"IF($E42=\"\",\"\",IF(INDEX(E_SourceStreams!$A:$N,DH42,AC$7)=\"\",\"\",INDEX(E_SourceStreams!$A:$N,DH42,AC$7)))","v":""},{"$f":"IF($E42=\"\",\"\",IF(INDEX(E_SourceStreams!$A:$N,DI42,AD$7)=\"\",\"\",INDEX(E_SourceStreams!$A:$N,DI42,AD$7)))","v":""},{"$f":"IF($E42=\"\",\"\",IF(INDEX(E_SourceStreams!$A:$N,DJ42,AE$7)=\"\",\"\",INDEX(E_SourceStreams!$A:$N,DJ42,AE$7)))","v":""},{"$f":"IF($E42=\"\",\"\",IF(INDEX(E_SourceStreams!$A:$N,DK42,AF$7)=\"\",\"\",INDEX(E_SourceStreams!$A:$N,DK42,AF$7)))","v":""},{"$f":"IF($E42=\"\",\"\",IF(INDEX(E_SourceStreams!$A:$N,DL42,AG$7)=\"\",\"\",INDEX(E_SourceStreams!$A:$N,DL42,AG$7)))","v":""},{"$f":"IF($E42=\"\",\"\",IF(INDEX(E_SourceStreams!$A:$N,DM42,AH$7)=\"\",\"\",INDEX(E_SourceStreams!$A:$N,DM42,AH$7)))","v":""},{"$f":"IF($E42=\"\",\"\",IF(INDEX(E_SourceStreams!$A:$N,DN42,AI$7)=\"\",\"\",INDEX(E_SourceStreams!$A:$N,DN42,AI$7)))","v":""},{"$f":"IF($E42=\"\",\"\",IF(INDEX(E_SourceStreams!$A:$N,DO42,AJ$7)=\"\",\"\",INDEX(E_SourceStreams!$A:$N,DO42,AJ$7)))","v":""},{"$f":"IF($E42=\"\",\"\",IF(INDEX(E_SourceStreams!$A:$N,DP42,AK$7)=\"\",\"\",INDEX(E_SourceStreams!$A:$N,DP42,AK$7)))","v":""},{"$f":"IF($E42=\"\",\"\",IF(INDEX(E_SourceStreams!$A:$N,DQ42,AL$7)=\"\",\"\",INDEX(E_SourceStreams!$A:$N,DQ42,AL$7)))","v":""},{"$f":"IF($E42=\"\",\"\",IF(INDEX(E_SourceStreams!$A:$N,DR42,AM$7)=\"\",\"\",INDEX(E_SourceStreams!$A:$N,DR42,AM$7)))","v":""},{"$f":"IF($E42=\"\",\"\",IF(INDEX(E_SourceStreams!$A:$N,DS42,AN$7)=\"\",\"\",INDEX(E_SourceStreams!$A:$N,DS42,AN$7)))","v":""},{"$f":"IF($E42=\"\",\"\",IF(INDEX(E_SourceStreams!$A:$N,DT42,AO$7)=\"\",\"\",INDEX(E_SourceStreams!$A:$N,DT42,AO$7)))","v":""},{"$f":"IF($E42=\"\",\"\",IF(INDEX(E_SourceStreams!$A:$N,DU42,AP$7)=\"\",\"\",INDEX(E_SourceStreams!$A:$N,DU42,AP$7)))","v":""},{"$f":"IF($E42=\"\",\"\",IF(INDEX(E_SourceStreams!$A:$N,DV42,AQ$7)=\"\",\"\",INDEX(E_SourceStreams!$A:$N,DV42,AQ$7)))","v":""},{"$f":"IF($E42=\"\",\"\",IF(INDEX(E_SourceStreams!$A:$N,DW42,AR$7)=\"\",\"\",INDEX(E_SourceStreams!$A:$N,DW42,AR$7)))","v":""},{"$f":"IF($E42=\"\",\"\",IF(INDEX(E_SourceStreams!$A:$N,DX42,AS$7)=\"\",\"\",INDEX(E_SourceStreams!$A:$N,DX42,AS$7)))","v":""},{"$f":"IF($E42=\"\",\"\",IF(INDEX(E_SourceStreams!$A:$N,DY42,AT$7)=\"\",\"\",INDEX(E_SourceStreams!$A:$N,DY42,AT$7)))","v":""},{"$f":"IF($E42=\"\",\"\",IF(INDEX(E_SourceStreams!$A:$N,DZ42,AU$7)=\"\",\"\",INDEX(E_SourceStreams!$A:$N,DZ42,AU$7)))","v":""},{"$f":"IF($E42=\"\",\"\",IF(INDEX(E_SourceStreams!$A:$N,EA42,AV$7)=\"\",\"\",INDEX(E_SourceStreams!$A:$N,EA42,AV$7)))","v":""},{"$f":"IF($E42=\"\",\"\",IF(INDEX(E_SourceStreams!$A:$N,EB42,AW$7)=\"\",\"\",INDEX(E_SourceStreams!$A:$N,EB42,AW$7)))","v":""},{"$f":"IF($E42=\"\",\"\",IF(INDEX(E_SourceStreams!$A:$N,EC42,AX$7)=\"\",\"\",INDEX(E_SourceStreams!$A:$N,EC42,AX$7)))","v":""},{"$f":"IF($E42=\"\",\"\",IF(INDEX(E_SourceStreams!$A:$N,ED42,AY$7)=\"\",\"\",INDEX(E_SourceStreams!$A:$N,ED42,AY$7)))","v":""},{"$f":"IF($E42=\"\",\"\",IF(INDEX(E_SourceStreams!$A:$N,EE42,AZ$7)=\"\",\"\",INDEX(E_SourceStreams!$A:$N,EE42,AZ$7)))","v":""},{"$f":"IF($E42=\"\",\"\",IF(INDEX(E_SourceStreams!$A:$N,EF42,BA$7)=\"\",\"\",INDEX(E_SourceStreams!$A:$N,EF42,BA$7)))","v":""},{"$f":"IF($E42=\"\",\"\",IF(INDEX(E_SourceStreams!$A:$N,EG42,BB$7)=\"\",\"\",INDEX(E_SourceStreams!$A:$N,EG42,BB$7)))","v":""},{"$f":"IF($E42=\"\",\"\",IF(INDEX(E_SourceStreams!$A:$N,EH42,BC$7)=\"\",\"\",INDEX(E_SourceStreams!$A:$N,EH42,BC$7)))","v":""},{"$f":"IF($E42=\"\",\"\",IF(INDEX(E_SourceStreams!$A:$N,EI42,BD$7)=\"\",\"\",INDEX(E_SourceStreams!$A:$N,EI42,BD$7)))","v":""},{"$f":"IF($E42=\"\",\"\",IF(INDEX(E_SourceStreams!$A:$N,EJ42,BE$7)=\"\",\"\",INDEX(E_SourceStreams!$A:$N,EJ42,BE$7)))","v":""},{"$f":"IF($E42=\"\",\"\",IF(INDEX(E_SourceStreams!$A:$N,EK42,BF$7)=\"\",\"\",INDEX(E_SourceStreams!$A:$N,EK42,BF$7)))","v":""},{"$f":"IF($E42=\"\",\"\",IF(INDEX(E_SourceStreams!$A:$N,EL42,BG$7)=\"\",\"\",INDEX(E_SourceStreams!$A:$N,EL42,BG$7)))","v":""},{"$f":"IF($E42=\"\",\"\",IF(INDEX(E_SourceStreams!$A:$N,EM42,BH$7)=\"\",\"\",INDEX(E_SourceStreams!$A:$N,EM42,BH$7)))","v":""},{"$f":"IF($E42=\"\",\"\",IF(INDEX(E_SourceStreams!$A:$N,EN42,BI$7)=\"\",\"\",INDEX(E_SourceStreams!$A:$N,EN42,BI$7)))","v":""},{"$f":"IF($E42=\"\",\"\",IF(INDEX(E_SourceStreams!$A:$N,EO42,BJ$7)=\"\",\"\",INDEX(E_SourceStreams!$A:$N,EO42,BJ$7)))","v":""},{"$f":"IF($E42=\"\",\"\",IF(INDEX(E_SourceStreams!$A:$N,EP42,BK$7)=\"\",\"\",INDEX(E_SourceStreams!$A:$N,EP42,BK$7)))","v":""},{"$f":"IF($E42=\"\",\"\",IF(INDEX(E_SourceStreams!$A:$N,EQ42,BL$7)=\"\",\"\",INDEX(E_SourceStreams!$A:$N,EQ42,BL$7)))","v":""},{"$f":"IF($E42=\"\",\"\",IF(INDEX(E_SourceStreams!$A:$N,ER42,BM$7)=\"\",\"\",INDEX(E_SourceStreams!$A:$N,ER42,BM$7)))","v":""},{"$f":"IF($E42=\"\",\"\",IF(INDEX(E_SourceStreams!$A:$N,ES42,BN$7)=\"\",\"\",INDEX(E_SourceStreams!$A:$N,ES42,BN$7)))","v":""},{"$f":"IF($E42=\"\",\"\",IF(INDEX(E_SourceStreams!$A:$N,ET42,BO$7)=\"\",\"\",INDEX(E_SourceStreams!$A:$N,ET42,BO$7)))","v":""},{"$f":"IF($E42=\"\",\"\",IF(INDEX(E_SourceStreams!$A:$N,EU42,BP$7)=\"\",\"\",INDEX(E_SourceStreams!$A:$N,EU42,BP$7)))","v":""},{"$f":"IF($E42=\"\",\"\",IF(INDEX(E_SourceStreams!$A:$N,EV42,BQ$7)=\"\",\"\",INDEX(E_SourceStreams!$A:$N,EV42,BQ$7)))","v":""},{"$f":"IF($E42=\"\",\"\",IF(INDEX(E_SourceStreams!$A:$N,EW42,BR$7)=\"\",\"\",INDEX(E_SourceStreams!$A:$N,EW42,BR$7)))","v":""},{"$f":"IF($E42=\"\",\"\",IF(INDEX(E_SourceStreams!$A:$N,EX42,BS$7)=\"\",\"\",INDEX(E_SourceStreams!$A:$N,EX42,BS$7)))","v":""},{"$f":"IF($E42=\"\",\"\",IF(INDEX(E_SourceStreams!$A:$N,EY42,BT$7)=\"\",\"\",INDEX(E_SourceStreams!$A:$N,EY42,BT$7)))","v":""},null,null,null,null,null,null,null,null,null,null,null,null,null,null,null,"SourceCategory_",{"$f":"INDEX(C_InstallationDescription!$A$226:$A$332,ROWS($CI$11:CI42))=\"ausblenden\"","v":false},"SourceStreamName_",null,2179,2181,2183,2185,2187,2189,2191,2191,2191,2191,2191,2194,2198,2199,2200,2207,2217,2217,2217,2217,2217,2217,2217,2208,2218,2218,2218,2218,2218,2218,2218,2209,2219,2219,2219,2219,2219,2219,2219,2210,2220,2220,2220,2220,2220,2220,2220,2211,2221,2221,2221,2221,2221,2221,2221,2212,2222,2222,2222,2222,2222,2222,2222,2228]
[null,{"$f":"IF(COUNTIF($CK$10:CK43,TRUE)>0,\"\",INDEX(C_InstallationDescription!$E$226:$E$242,ROWS($A$11:A43)))","v":""},{"$f":"IF($E43=\"\",\"\",INDEX(C_InstallationDescription!F:F,MATCH($B43,C_InstallationDescription!$E:$E,0)))","v":""},{"$f":"IF($E43=\"\",\"\",INDEX(C_InstallationDescription!I:I,MATCH($B43,C_InstallationDescription!$E:$E,0)))","v":""},{"$f":"IF($B43=\"\",\"\",INDEX(C_InstallationDescription!F:F,MATCH($CJ43,C_InstallationDescription!$Q:$Q,0)))","v":""},{"$f":"IF($E43=\"\",\"\",INDEX(C_InstallationDescription!L:L,MATCH($CJ43,C_InstallationDescription!$Q:$Q,0)))","v":""},{"$f":"IF($E43=\"\",\"\",INDEX(C_InstallationDescription!M:M,MATCH($CJ43,C_InstallationDescription!$Q:$Q,0)))","v":""},{"$f":"IF($E43=\"\",\"\",INDEX(C_InstallationDescription!N:N,MATCH($CJ43,C_InstallationDescription!$Q:$Q,0)))","v":""},{"$f":"IF($E43=\"\",\"\",IF(INDEX(E_SourceStreams!$A:$N,CN43,I$7)=\"\",\"\",INDEX(E_SourceStreams!$A:$N,CN43,I$7)))","v":""},{"$f":"IF($E43=\"\",\"\",IF(INDEX(E_SourceStreams!$A:$N,CO43,J$7)=\"\",\"\",INDEX(E_SourceStreams!$A:$N,CO43,J$7)))","v":""},{"$f":"IF($E43=\"\",\"\",IF(INDEX(E_SourceStreams!$A:$N,CP43,K$7)=\"\",\"\",INDEX(E_SourceStreams!$A:$N,CP43,K$7)))","v":""},{"$f":"IF($E43=\"\",\"\",IF(INDEX(E_SourceStreams!$A:$N,CQ43,L$7)=\"\",\"\",INDEX(E_SourceStreams!$A:$N,CQ43,L$7)))","v":""},{"$f":"IF($E43=\"\",\"\",IF(INDEX(E_SourceStreams!$A:$N,CR43,M$7)=\"\",\"\",INDEX(E_SourceStreams!$A:$N,CR43,M$7)))","v":""},{"$f":"IF($E43=\"\",\"\",IF(INDEX(E_SourceStreams!$A:$N,CS43,N$7)=\"\",\"\",INDEX(E_SourceStreams!$A:$N,CS43,N$7)))","v":""},{"$f":"IF($E43=\"\",\"\",IF(INDEX(E_SourceStreams!$A:$N,CT43,O$7)=\"\",\"\",INDEX(E_SourceStreams!$A:$N,CT43,O$7)))","v":""},{"$f":"IF($E43=\"\",\"\",IF(INDEX(E_SourceStreams!$A:$N,CU43,P$7)=\"\",\"\",INDEX(E_SourceStreams!$A:$N,CU43,P$7)))","v":""},{"$f":"IF($E43=\"\",\"\",IF(INDEX(E_SourceStreams!$A:$N,CV43,Q$7)=\"\",\"\",INDEX(E_SourceStreams!$A:$N,CV43,Q$7)))","v":""},{"$f":"IF($E43=\"\",\"\",IF(INDEX(E_SourceStreams!$A:$N,CW43,R$7)=\"\",\"\",INDEX(E_SourceStreams!$A:$N,CW43,R$7)))","v":""},{"$f":"IF($E43=\"\",\"\",IF(INDEX(E_SourceStreams!$A:$N,CX43,S$7)=\"\",\"\",INDEX(E_SourceStreams!$A:$N,CX43,S$7)))","v":""},{"$f":"IF($E43=\"\",\"\",IF(INDEX(E_SourceStreams!$A:$N,CY43,T$7)=\"\",\"\",INDEX(E_SourceStreams!$A:$N,CY43,T$7)))","v":""},{"$f":"IF($E43=\"\",\"\",IF(INDEX(E_SourceStreams!$A:$N,CZ43,U$7)=\"\",\"\",INDEX(E_SourceStreams!$A:$N,CZ43,U$7)))","v":""},{"$f":"IF($E43=\"\",\"\",IF(INDEX(E_SourceStreams!$A:$N,DA43,V$7)=\"\",\"\",INDEX(E_SourceStreams!$A:$N,DA43,V$7)))","v":""},{"$f":"IF($E43=\"\",\"\",IF(INDEX(E_SourceStreams!$A:$N,DB43,W$7)=\"\",\"\",INDEX(E_SourceStreams!$A:$N,DB43,W$7)))","v":""},{"$f":"IF($E43=\"\",\"\",IF(INDEX(E_SourceStreams!$A:$N,DC43,X$7)=\"\",\"\",INDEX(E_SourceStreams!$A:$N,DC43,X$7)))","v":""},{"$f":"IF($E43=\"\",\"\",IF(INDEX(E_SourceStreams!$A:$N,DD43,Y$7)=\"\",\"\",INDEX(E_SourceStreams!$A:$N,DD43,Y$7)))","v":""},{"$f":"IF($E43=\"\",\"\",IF(INDEX(E_SourceStreams!$A:$N,DE43,Z$7)=\"\",\"\",INDEX(E_SourceStreams!$A:$N,DE43,Z$7)))","v":""},{"$f":"IF($E43=\"\",\"\",IF(INDEX(E_SourceStreams!$A:$N,DF43,AA$7)=\"\",\"\",INDEX(E_SourceStreams!$A:$N,DF43,AA$7)))","v":""},{"$f":"IF($E43=\"\",\"\",IF(INDEX(E_SourceStreams!$A:$N,DG43,AB$7)=\"\",\"\",INDEX(E_SourceStreams!$A:$N,DG43,AB$7)))","v":""},{"$f":"IF($E43=\"\",\"\",IF(INDEX(E_SourceStreams!$A:$N,DH43,AC$7)=\"\",\"\",INDEX(E_SourceStreams!$A:$N,DH43,AC$7)))","v":""},{"$f":"IF($E43=\"\",\"\",IF(INDEX(E_SourceStreams!$A:$N,DI43,AD$7)=\"\",\"\",INDEX(E_SourceStreams!$A:$N,DI43,AD$7)))","v":""},{"$f":"IF($E43=\"\",\"\",IF(INDEX(E_SourceStreams!$A:$N,DJ43,AE$7)=\"\",\"\",INDEX(E_SourceStreams!$A:$N,DJ43,AE$7)))","v":""},{"$f":"IF($E43=\"\",\"\",IF(INDEX(E_SourceStreams!$A:$N,DK43,AF$7)=\"\",\"\",INDEX(E_SourceStreams!$A:$N,DK43,AF$7)))","v":""},{"$f":"IF($E43=\"\",\"\",IF(INDEX(E_SourceStreams!$A:$N,DL43,AG$7)=\"\",\"\",INDEX(E_SourceStreams!$A:$N,DL43,AG$7)))","v":""},{"$f":"IF($E43=\"\",\"\",IF(INDEX(E_SourceStreams!$A:$N,DM43,AH$7)=\"\",\"\",INDEX(E_SourceStreams!$A:$N,DM43,AH$7)))","v":""},{"$f":"IF($E43=\"\",\"\",IF(INDEX(E_SourceStreams!$A:$N,DN43,AI$7)=\"\",\"\",INDEX(E_SourceStreams!$A:$N,DN43,AI$7)))","v":""},{"$f":"IF($E43=\"\",\"\",IF(INDEX(E_SourceStreams!$A:$N,DO43,AJ$7)=\"\",\"\",INDEX(E_SourceStreams!$A:$N,DO43,AJ$7)))","v":""},{"$f":"IF($E43=\"\",\"\",IF(INDEX(E_SourceStreams!$A:$N,DP43,AK$7)=\"\",\"\",INDEX(E_SourceStreams!$A:$N,DP43,AK$7)))","v":""},{"$f":"IF($E43=\"\",\"\",IF(INDEX(E_SourceStreams!$A:$N,DQ43,AL$7)=\"\",\"\",INDEX(E_SourceStreams!$A:$N,DQ43,AL$7)))","v":""},{"$f":"IF($E43=\"\",\"\",IF(INDEX(E_SourceStreams!$A:$N,DR43,AM$7)=\"\",\"\",INDEX(E_SourceStreams!$A:$N,DR43,AM$7)))","v":""},{"$f":"IF($E43=\"\",\"\",IF(INDEX(E_SourceStreams!$A:$N,DS43,AN$7)=\"\",\"\",INDEX(E_SourceStreams!$A:$N,DS43,AN$7)))","v":""},{"$f":"IF($E43=\"\",\"\",IF(INDEX(E_SourceStreams!$A:$N,DT43,AO$7)=\"\",\"\",INDEX(E_SourceStreams!$A:$N,DT43,AO$7)))","v":""},{"$f":"IF($E43=\"\",\"\",IF(INDEX(E_SourceStreams!$A:$N,DU43,AP$7)=\"\",\"\",INDEX(E_SourceStreams!$A:$N,DU43,AP$7)))","v":""},{"$f":"IF($E43=\"\",\"\",IF(INDEX(E_SourceStreams!$A:$N,DV43,AQ$7)=\"\",\"\",INDEX(E_SourceStreams!$A:$N,DV43,AQ$7)))","v":""},{"$f":"IF($E43=\"\",\"\",IF(INDEX(E_SourceStreams!$A:$N,DW43,AR$7)=\"\",\"\",INDEX(E_SourceStreams!$A:$N,DW43,AR$7)))","v":""},{"$f":"IF($E43=\"\",\"\",IF(INDEX(E_SourceStreams!$A:$N,DX43,AS$7)=\"\",\"\",INDEX(E_SourceStreams!$A:$N,DX43,AS$7)))","v":""},{"$f":"IF($E43=\"\",\"\",IF(INDEX(E_SourceStreams!$A:$N,DY43,AT$7)=\"\",\"\",INDEX(E_SourceStreams!$A:$N,DY43,AT$7)))","v":""},{"$f":"IF($E43=\"\",\"\",IF(INDEX(E_SourceStreams!$A:$N,DZ43,AU$7)=\"\",\"\",INDEX(E_SourceStreams!$A:$N,DZ43,AU$7)))","v":""},{"$f":"IF($E43=\"\",\"\",IF(INDEX(E_SourceStreams!$A:$N,EA43,AV$7)=\"\",\"\",INDEX(E_SourceStreams!$A:$N,EA43,AV$7)))","v":""},{"$f":"IF($E43=\"\",\"\",IF(INDEX(E_SourceStreams!$A:$N,EB43,AW$7)=\"\",\"\",INDEX(E_SourceStreams!$A:$N,EB43,AW$7)))","v":""},{"$f":"IF($E43=\"\",\"\",IF(INDEX(E_SourceStreams!$A:$N,EC43,AX$7)=\"\",\"\",INDEX(E_SourceStreams!$A:$N,EC43,AX$7)))","v":""},{"$f":"IF($E43=\"\",\"\",IF(INDEX(E_SourceStreams!$A:$N,ED43,AY$7)=\"\",\"\",INDEX(E_SourceStreams!$A:$N,ED43,AY$7)))","v":""},{"$f":"IF($E43=\"\",\"\",IF(INDEX(E_SourceStreams!$A:$N,EE43,AZ$7)=\"\",\"\",INDEX(E_SourceStreams!$A:$N,EE43,AZ$7)))","v":""},{"$f":"IF($E43=\"\",\"\",IF(INDEX(E_SourceStreams!$A:$N,EF43,BA$7)=\"\",\"\",INDEX(E_SourceStreams!$A:$N,EF43,BA$7)))","v":""},{"$f":"IF($E43=\"\",\"\",IF(INDEX(E_SourceStreams!$A:$N,EG43,BB$7)=\"\",\"\",INDEX(E_SourceStreams!$A:$N,EG43,BB$7)))","v":""},{"$f":"IF($E43=\"\",\"\",IF(INDEX(E_SourceStreams!$A:$N,EH43,BC$7)=\"\",\"\",INDEX(E_SourceStreams!$A:$N,EH43,BC$7)))","v":""},{"$f":"IF($E43=\"\",\"\",IF(INDEX(E_SourceStreams!$A:$N,EI43,BD$7)=\"\",\"\",INDEX(E_SourceStreams!$A:$N,EI43,BD$7)))","v":""},{"$f":"IF($E43=\"\",\"\",IF(INDEX(E_SourceStreams!$A:$N,EJ43,BE$7)=\"\",\"\",INDEX(E_SourceStreams!$A:$N,EJ43,BE$7)))","v":""},{"$f":"IF($E43=\"\",\"\",IF(INDEX(E_SourceStreams!$A:$N,EK43,BF$7)=\"\",\"\",INDEX(E_SourceStreams!$A:$N,EK43,BF$7)))","v":""},{"$f":"IF($E43=\"\",\"\",IF(INDEX(E_SourceStreams!$A:$N,EL43,BG$7)=\"\",\"\",INDEX(E_SourceStreams!$A:$N,EL43,BG$7)))","v":""},{"$f":"IF($E43=\"\",\"\",IF(INDEX(E_SourceStreams!$A:$N,EM43,BH$7)=\"\",\"\",INDEX(E_SourceStreams!$A:$N,EM43,BH$7)))","v":""},{"$f":"IF($E43=\"\",\"\",IF(INDEX(E_SourceStreams!$A:$N,EN43,BI$7)=\"\",\"\",INDEX(E_SourceStreams!$A:$N,EN43,BI$7)))","v":""},{"$f":"IF($E43=\"\",\"\",IF(INDEX(E_SourceStreams!$A:$N,EO43,BJ$7)=\"\",\"\",INDEX(E_SourceStreams!$A:$N,EO43,BJ$7)))","v":""},{"$f":"IF($E43=\"\",\"\",IF(INDEX(E_SourceStreams!$A:$N,EP43,BK$7)=\"\",\"\",INDEX(E_SourceStreams!$A:$N,EP43,BK$7)))","v":""},{"$f":"IF($E43=\"\",\"\",IF(INDEX(E_SourceStreams!$A:$N,EQ43,BL$7)=\"\",\"\",INDEX(E_SourceStreams!$A:$N,EQ43,BL$7)))","v":""},{"$f":"IF($E43=\"\",\"\",IF(INDEX(E_SourceStreams!$A:$N,ER43,BM$7)=\"\",\"\",INDEX(E_SourceStreams!$A:$N,ER43,BM$7)))","v":""},{"$f":"IF($E43=\"\",\"\",IF(INDEX(E_SourceStreams!$A:$N,ES43,BN$7)=\"\",\"\",INDEX(E_SourceStreams!$A:$N,ES43,BN$7)))","v":""},{"$f":"IF($E43=\"\",\"\",IF(INDEX(E_SourceStreams!$A:$N,ET43,BO$7)=\"\",\"\",INDEX(E_SourceStreams!$A:$N,ET43,BO$7)))","v":""},{"$f":"IF($E43=\"\",\"\",IF(INDEX(E_SourceStreams!$A:$N,EU43,BP$7)=\"\",\"\",INDEX(E_SourceStreams!$A:$N,EU43,BP$7)))","v":""},{"$f":"IF($E43=\"\",\"\",IF(INDEX(E_SourceStreams!$A:$N,EV43,BQ$7)=\"\",\"\",INDEX(E_SourceStreams!$A:$N,EV43,BQ$7)))","v":""},{"$f":"IF($E43=\"\",\"\",IF(INDEX(E_SourceStreams!$A:$N,EW43,BR$7)=\"\",\"\",INDEX(E_SourceStreams!$A:$N,EW43,BR$7)))","v":""},{"$f":"IF($E43=\"\",\"\",IF(INDEX(E_SourceStreams!$A:$N,EX43,BS$7)=\"\",\"\",INDEX(E_SourceStreams!$A:$N,EX43,BS$7)))","v":""},{"$f":"IF($E43=\"\",\"\",IF(INDEX(E_SourceStreams!$A:$N,EY43,BT$7)=\"\",\"\",INDEX(E_SourceStreams!$A:$N,EY43,BT$7)))","v":""},null,null,null,null,null,null,null,null,null,null,null,null,null,null,null,{"$f":"EUconst_CNTR_SourceCategory&B43","v":"SourceCategory_"},{"$f":"INDEX(C_InstallationDescription!$A$226:$A$332,ROWS($CI$11:CI43))=\"ausblenden\"","v":false},{"$f":"EUconst_CNTR_SourceStreamName&B43","v":"SourceStreamName_"},null,2245,2247,2249,2251,2253,2255,2257,2257,2257,2257,2257,2260,2264,2265,2266,2273,2283,2283,2283,2283,2283,2283,2283,2274,2284,2284,2284,2284,2284,2284,2284,2275,2285,2285,2285,2285,2285,2285,2285,2276,2286,2286,2286,2286,2286,2286,2286,2277,2287,2287,2287,2287,2287,2287,2287,2278,2288,2288,2288,2288,2288,2288,2288,2294]
[null,{"$f":"IF(COUNTIF($CK$10:CK44,TRUE)>0,\"\",INDEX(C_InstallationDescription!$E$226:$E$242,ROWS($A$11:A44)))","v":""},{"$f":"IF($E44=\"\",\"\",INDEX(C_InstallationDescription!F:F,MATCH($B44,C_InstallationDescription!$E:$E,0)))","v":""},{"$f":"IF($E44=\"\",\"\",INDEX(C_InstallationDescription!I:I,MATCH($B44,C_InstallationDescription!$E:$E,0)))","v":""},{"$f":"IF($B44=\"\",\"\",INDEX(C_InstallationDescription!F:F,MATCH($CJ44,C_InstallationDescription!$Q:$Q,0)))","v":""},{"$f":"IF($E44=\"\",\"\",INDEX(C_InstallationDescription!L:L,MATCH($CJ44,C_InstallationDescription!$Q:$Q,0)))","v":""},{"$f":"IF($E44=\"\",\"\",INDEX(C_InstallationDescription!M:M,MATCH($CJ44,C_InstallationDescription!$Q:$Q,0)))","v":""},{"$f":"IF($E44=\"\",\"\",INDEX(C_InstallationDescription!N:N,MATCH($CJ44,C_InstallationDescription!$Q:$Q,0)))","v":""},{"$f":"IF($E44=\"\",\"\",IF(INDEX(E_SourceStreams!$A:$N,CN44,I$7)=\"\",\"\",INDEX(E_SourceStreams!$A:$N,CN44,I$7)))","v":""},{"$f":"IF($E44=\"\",\"\",IF(INDEX(E_SourceStreams!$A:$N,CO44,J$7)=\"\",\"\",INDEX(E_SourceStreams!$A:$N,CO44,J$7)))","v":""},{"$f":"IF($E44=\"\",\"\",IF(INDEX(E_SourceStreams!$A:$N,CP44,K$7)=\"\",\"\",INDEX(E_SourceStreams!$A:$N,CP44,K$7)))","v":""},{"$f":"IF($E44=\"\",\"\",IF(INDEX(E_SourceStreams!$A:$N,CQ44,L$7)=\"\",\"\",INDEX(E_SourceStreams!$A:$N,CQ44,L$7)))","v":""},{"$f":"IF($E44=\"\",\"\",IF(INDEX(E_SourceStreams!$A:$N,CR44,M$7)=\"\",\"\",INDEX(E_SourceStreams!$A:$N,CR44,M$7)))","v":""},{"$f":"IF($E44=\"\",\"\",IF(INDEX(E_SourceStreams!$A:$N,CS44,N$7)=\"\",\"\",INDEX(E_SourceStreams!$A:$N,CS44,N$7)))","v":""},{"$f":"IF($E44=\"\",\"\",IF(INDEX(E_SourceStreams!$A:$N,CT44,O$7)=\"\",\"\",INDEX(E_SourceStreams!$A:$N,CT44,O$7)))","v":""},{"$f":"IF($E44=\"\",\"\",IF(INDEX(E_SourceStreams!$A:$N,CU44,P$7)=\"\",\"\",INDEX(E_SourceStreams!$A:$N,CU44,P$7)))","v":""},{"$f":"IF($E44=\"\",\"\",IF(INDEX(E_SourceStreams!$A:$N,CV44,Q$7)=\"\",\"\",INDEX(E_SourceStreams!$A:$N,CV44,Q$7)))","v":""},{"$f":"IF($E44=\"\",\"\",IF(INDEX(E_SourceStreams!$A:$N,CW44,R$7)=\"\",\"\",INDEX(E_SourceStreams!$A:$N,CW44,R$7)))","v":""},{"$f":"IF($E44=\"\",\"\",IF(INDEX(E_SourceStreams!$A:$N,CX44,S$7)=\"\",\"\",INDEX(E_SourceStreams!$A:$N,CX44,S$7)))","v":""},{"$f":"IF($E44=\"\",\"\",IF(INDEX(E_SourceStreams!$A:$N,CY44,T$7)=\"\",\"\",INDEX(E_SourceStreams!$A:$N,CY44,T$7)))","v":""},{"$f":"IF($E44=\"\",\"\",IF(INDEX(E_SourceStreams!$A:$N,CZ44,U$7)=\"\",\"\",INDEX(E_SourceStreams!$A:$N,CZ44,U$7)))","v":""},{"$f":"IF($E44=\"\",\"\",IF(INDEX(E_SourceStreams!$A:$N,DA44,V$7)=\"\",\"\",INDEX(E_SourceStreams!$A:$N,DA44,V$7)))","v":""},{"$f":"IF($E44=\"\",\"\",IF(INDEX(E_SourceStreams!$A:$N,DB44,W$7)=\"\",\"\",INDEX(E_SourceStreams!$A:$N,DB44,W$7)))","v":""},{"$f":"IF($E44=\"\",\"\",IF(INDEX(E_SourceStreams!$A:$N,DC44,X$7)=\"\",\"\",INDEX(E_SourceStreams!$A:$N,DC44,X$7)))","v":""},{"$f":"IF($E44=\"\",\"\",IF(INDEX(E_SourceStreams!$A:$N,DD44,Y$7)=\"\",\"\",INDEX(E_SourceStreams!$A:$N,DD44,Y$7)))","v":""},{"$f":"IF($E44=\"\",\"\",IF(INDEX(E_SourceStreams!$A:$N,DE44,Z$7)=\"\",\"\",INDEX(E_SourceStreams!$A:$N,DE44,Z$7)))","v":""},{"$f":"IF($E44=\"\",\"\",IF(INDEX(E_SourceStreams!$A:$N,DF44,AA$7)=\"\",\"\",INDEX(E_SourceStreams!$A:$N,DF44,AA$7)))","v":""},{"$f":"IF($E44=\"\",\"\",IF(INDEX(E_SourceStreams!$A:$N,DG44,AB$7)=\"\",\"\",INDEX(E_SourceStreams!$A:$N,DG44,AB$7)))","v":""},{"$f":"IF($E44=\"\",\"\",IF(INDEX(E_SourceStreams!$A:$N,DH44,AC$7)=\"\",\"\",INDEX(E_SourceStreams!$A:$N,DH44,AC$7)))","v":""},{"$f":"IF($E44=\"\",\"\",IF(INDEX(E_SourceStreams!$A:$N,DI44,AD$7)=\"\",\"\",INDEX(E_SourceStreams!$A:$N,DI44,AD$7)))","v":""},{"$f":"IF($E44=\"\",\"\",IF(INDEX(E_SourceStreams!$A:$N,DJ44,AE$7)=\"\",\"\",INDEX(E_SourceStreams!$A:$N,DJ44,AE$7)))","v":""},{"$f":"IF($E44=\"\",\"\",IF(INDEX(E_SourceStreams!$A:$N,DK44,AF$7)=\"\",\"\",INDEX(E_SourceStreams!$A:$N,DK44,AF$7)))","v":""},{"$f":"IF($E44=\"\",\"\",IF(INDEX(E_SourceStreams!$A:$N,DL44,AG$7)=\"\",\"\",INDEX(E_SourceStreams!$A:$N,DL44,AG$7)))","v":""},{"$f":"IF($E44=\"\",\"\",IF(INDEX(E_SourceStreams!$A:$N,DM44,AH$7)=\"\",\"\",INDEX(E_SourceStreams!$A:$N,DM44,AH$7)))","v":""},{"$f":"IF($E44=\"\",\"\",IF(INDEX(E_SourceStreams!$A:$N,DN44,AI$7)=\"\",\"\",INDEX(E_SourceStreams!$A:$N,DN44,AI$7)))","v":""},{"$f":"IF($E44=\"\",\"\",IF(INDEX(E_SourceStreams!$A:$N,DO44,AJ$7)=\"\",\"\",INDEX(E_SourceStreams!$A:$N,DO44,AJ$7)))","v":""},{"$f":"IF($E44=\"\",\"\",IF(INDEX(E_SourceStreams!$A:$N,DP44,AK$7)=\"\",\"\",INDEX(E_SourceStreams!$A:$N,DP44,AK$7)))","v":""},{"$f":"IF($E44=\"\",\"\",IF(INDEX(E_SourceStreams!$A:$N,DQ44,AL$7)=\"\",\"\",INDEX(E_SourceStreams!$A:$N,DQ44,AL$7)))","v":""},{"$f":"IF($E44=\"\",\"\",IF(INDEX(E_SourceStreams!$A:$N,DR44,AM$7)=\"\",\"\",INDEX(E_SourceStreams!$A:$N,DR44,AM$7)))","v":""},{"$f":"IF($E44=\"\",\"\",IF(INDEX(E_SourceStreams!$A:$N,DS44,AN$7)=\"\",\"\",INDEX(E_SourceStreams!$A:$N,DS44,AN$7)))","v":""},{"$f":"IF($E44=\"\",\"\",IF(INDEX(E_SourceStreams!$A:$N,DT44,AO$7)=\"\",\"\",INDEX(E_SourceStreams!$A:$N,DT44,AO$7)))","v":""},{"$f":"IF($E44=\"\",\"\",IF(INDEX(E_SourceStreams!$A:$N,DU44,AP$7)=\"\",\"\",INDEX(E_SourceStreams!$A:$N,DU44,AP$7)))","v":""},{"$f":"IF($E44=\"\",\"\",IF(INDEX(E_SourceStreams!$A:$N,DV44,AQ$7)=\"\",\"\",INDEX(E_SourceStreams!$A:$N,DV44,AQ$7)))","v":""},{"$f":"IF($E44=\"\",\"\",IF(INDEX(E_SourceStreams!$A:$N,DW44,AR$7)=\"\",\"\",INDEX(E_SourceStreams!$A:$N,DW44,AR$7)))","v":""},{"$f":"IF($E44=\"\",\"\",IF(INDEX(E_SourceStreams!$A:$N,DX44,AS$7)=\"\",\"\",INDEX(E_SourceStreams!$A:$N,DX44,AS$7)))","v":""},{"$f":"IF($E44=\"\",\"\",IF(INDEX(E_SourceStreams!$A:$N,DY44,AT$7)=\"\",\"\",INDEX(E_SourceStreams!$A:$N,DY44,AT$7)))","v":""},{"$f":"IF($E44=\"\",\"\",IF(INDEX(E_SourceStreams!$A:$N,DZ44,AU$7)=\"\",\"\",INDEX(E_SourceStreams!$A:$N,DZ44,AU$7)))","v":""},{"$f":"IF($E44=\"\",\"\",IF(INDEX(E_SourceStreams!$A:$N,EA44,AV$7)=\"\",\"\",INDEX(E_SourceStreams!$A:$N,EA44,AV$7)))","v":""},{"$f":"IF($E44=\"\",\"\",IF(INDEX(E_SourceStreams!$A:$N,EB44,AW$7)=\"\",\"\",INDEX(E_SourceStreams!$A:$N,EB44,AW$7)))","v":""},{"$f":"IF($E44=\"\",\"\",IF(INDEX(E_SourceStreams!$A:$N,EC44,AX$7)=\"\",\"\",INDEX(E_SourceStreams!$A:$N,EC44,AX$7)))","v":""},{"$f":"IF($E44=\"\",\"\",IF(INDEX(E_SourceStreams!$A:$N,ED44,AY$7)=\"\",\"\",INDEX(E_SourceStreams!$A:$N,ED44,AY$7)))","v":""},{"$f":"IF($E44=\"\",\"\",IF(INDEX(E_SourceStreams!$A:$N,EE44,AZ$7)=\"\",\"\",INDEX(E_SourceStreams!$A:$N,EE44,AZ$7)))","v":""},{"$f":"IF($E44=\"\",\"\",IF(INDEX(E_SourceStreams!$A:$N,EF44,BA$7)=\"\",\"\",INDEX(E_SourceStreams!$A:$N,EF44,BA$7)))","v":""},{"$f":"IF($E44=\"\",\"\",IF(INDEX(E_SourceStreams!$A:$N,EG44,BB$7)=\"\",\"\",INDEX(E_SourceStreams!$A:$N,EG44,BB$7)))","v":""},{"$f":"IF($E44=\"\",\"\",IF(INDEX(E_SourceStreams!$A:$N,EH44,BC$7)=\"\",\"\",INDEX(E_SourceStreams!$A:$N,EH44,BC$7)))","v":""},{"$f":"IF($E44=\"\",\"\",IF(INDEX(E_SourceStreams!$A:$N,EI44,BD$7)=\"\",\"\",INDEX(E_SourceStreams!$A:$N,EI44,BD$7)))","v":""},{"$f":"IF($E44=\"\",\"\",IF(INDEX(E_SourceStreams!$A:$N,EJ44,BE$7)=\"\",\"\",INDEX(E_SourceStreams!$A:$N,EJ44,BE$7)))","v":""},{"$f":"IF($E44=\"\",\"\",IF(INDEX(E_SourceStreams!$A:$N,EK44,BF$7)=\"\",\"\",INDEX(E_SourceStreams!$A:$N,EK44,BF$7)))","v":""},{"$f":"IF($E44=\"\",\"\",IF(INDEX(E_SourceStreams!$A:$N,EL44,BG$7)=\"\",\"\",INDEX(E_SourceStreams!$A:$N,EL44,BG$7)))","v":""},{"$f":"IF($E44=\"\",\"\",IF(INDEX(E_SourceStreams!$A:$N,EM44,BH$7)=\"\",\"\",INDEX(E_SourceStreams!$A:$N,EM44,BH$7)))","v":""},{"$f":"IF($E44=\"\",\"\",IF(INDEX(E_SourceStreams!$A:$N,EN44,BI$7)=\"\",\"\",INDEX(E_SourceStreams!$A:$N,EN44,BI$7)))","v":""},{"$f":"IF($E44=\"\",\"\",IF(INDEX(E_SourceStreams!$A:$N,EO44,BJ$7)=\"\",\"\",INDEX(E_SourceStreams!$A:$N,EO44,BJ$7)))","v":""},{"$f":"IF($E44=\"\",\"\",IF(INDEX(E_SourceStreams!$A:$N,EP44,BK$7)=\"\",\"\",INDEX(E_SourceStreams!$A:$N,EP44,BK$7)))","v":""},{"$f":"IF($E44=\"\",\"\",IF(INDEX(E_SourceStreams!$A:$N,EQ44,BL$7)=\"\",\"\",INDEX(E_SourceStreams!$A:$N,EQ44,BL$7)))","v":""},{"$f":"IF($E44=\"\",\"\",IF(INDEX(E_SourceStreams!$A:$N,ER44,BM$7)=\"\",\"\",INDEX(E_SourceStreams!$A:$N,ER44,BM$7)))","v":""},{"$f":"IF($E44=\"\",\"\",IF(INDEX(E_SourceStreams!$A:$N,ES44,BN$7)=\"\",\"\",INDEX(E_SourceStreams!$A:$N,ES44,BN$7)))","v":""},{"$f":"IF($E44=\"\",\"\",IF(INDEX(E_SourceStreams!$A:$N,ET44,BO$7)=\"\",\"\",INDEX(E_SourceStreams!$A:$N,ET44,BO$7)))","v":""},{"$f":"IF($E44=\"\",\"\",IF(INDEX(E_SourceStreams!$A:$N,EU44,BP$7)=\"\",\"\",INDEX(E_SourceStreams!$A:$N,EU44,BP$7)))","v":""},{"$f":"IF($E44=\"\",\"\",IF(INDEX(E_SourceStreams!$A:$N,EV44,BQ$7)=\"\",\"\",INDEX(E_SourceStreams!$A:$N,EV44,BQ$7)))","v":""},{"$f":"IF($E44=\"\",\"\",IF(INDEX(E_SourceStreams!$A:$N,EW44,BR$7)=\"\",\"\",INDEX(E_SourceStreams!$A:$N,EW44,BR$7)))","v":""},{"$f":"IF($E44=\"\",\"\",IF(INDEX(E_SourceStreams!$A:$N,EX44,BS$7)=\"\",\"\",INDEX(E_SourceStreams!$A:$N,EX44,BS$7)))","v":""},{"$f":"IF($E44=\"\",\"\",IF(INDEX(E_SourceStreams!$A:$N,EY44,BT$7)=\"\",\"\",INDEX(E_SourceStreams!$A:$N,EY44,BT$7)))","v":""},null,null,null,null,null,null,null,null,null,null,null,null,null,null,null,"SourceCategory_",{"$f":"INDEX(C_InstallationDescription!$A$226:$A$332,ROWS($CI$11:CI44))=\"ausblenden\"","v":false},"SourceStreamName_",null,2311,2313,2315,2317,2319,2321,2323,2323,2323,2323,2323,2326,2330,2331,2332,2339,2349,2349,2349,2349,2349,2349,2349,2340,2350,2350,2350,2350,2350,2350,2350,2341,2351,2351,2351,2351,2351,2351,2351,2342,2352,2352,2352,2352,2352,2352,2352,2343,2353,2353,2353,2353,2353,2353,2353,2344,2354,2354,2354,2354,2354,2354,2354,2360]
[null,{"$f":"IF(COUNTIF($CK$10:CK45,TRUE)>0,\"\",INDEX(C_InstallationDescription!$E$226:$E$242,ROWS($A$11:A45)))","v":""},{"$f":"IF($E45=\"\",\"\",INDEX(C_InstallationDescription!F:F,MATCH($B45,C_InstallationDescription!$E:$E,0)))","v":""},{"$f":"IF($E45=\"\",\"\",INDEX(C_InstallationDescription!I:I,MATCH($B45,C_InstallationDescription!$E:$E,0)))","v":""},{"$f":"IF($B45=\"\",\"\",INDEX(C_InstallationDescription!F:F,MATCH($CJ45,C_InstallationDescription!$Q:$Q,0)))","v":""},{"$f":"IF($E45=\"\",\"\",INDEX(C_InstallationDescription!L:L,MATCH($CJ45,C_InstallationDescription!$Q:$Q,0)))","v":""},{"$f":"IF($E45=\"\",\"\",INDEX(C_InstallationDescription!M:M,MATCH($CJ45,C_InstallationDescription!$Q:$Q,0)))","v":""},{"$f":"IF($E45=\"\",\"\",INDEX(C_InstallationDescription!N:N,MATCH($CJ45,C_InstallationDescription!$Q:$Q,0)))","v":""},{"$f":"IF($E45=\"\",\"\",IF(INDEX(E_SourceStreams!$A:$N,CN45,I$7)=\"\",\"\",INDEX(E_SourceStreams!$A:$N,CN45,I$7)))","v":""},{"$f":"IF($E45=\"\",\"\",IF(INDEX(E_SourceStreams!$A:$N,CO45,J$7)=\"\",\"\",INDEX(E_SourceStreams!$A:$N,CO45,J$7)))","v":""},{"$f":"IF($E45=\"\",\"\",IF(INDEX(E_SourceStreams!$A:$N,CP45,K$7)=\"\",\"\",INDEX(E_SourceStreams!$A:$N,CP45,K$7)))","v":""},{"$f":"IF($E45=\"\",\"\",IF(INDEX(E_SourceStreams!$A:$N,CQ45,L$7)=\"\",\"\",INDEX(E_SourceStreams!$A:$N,CQ45,L$7)))","v":""},{"$f":"IF($E45=\"\",\"\",IF(INDEX(E_SourceStreams!$A:$N,CR45,M$7)=\"\",\"\",INDEX(E_SourceStreams!$A:$N,CR45,M$7)))","v":""},{"$f":"IF($E45=\"\",\"\",IF(INDEX(E_SourceStreams!$A:$N,CS45,N$7)=\"\",\"\",INDEX(E_SourceStreams!$A:$N,CS45,N$7)))","v":""},{"$f":"IF($E45=\"\",\"\",IF(INDEX(E_SourceStreams!$A:$N,CT45,O$7)=\"\",\"\",INDEX(E_SourceStreams!$A:$N,CT45,O$7)))","v":""},{"$f":"IF($E45=\"\",\"\",IF(INDEX(E_SourceStreams!$A:$N,CU45,P$7)=\"\",\"\",INDEX(E_SourceStreams!$A:$N,CU45,P$7)))","v":""},{"$f":"IF($E45=\"\",\"\",IF(INDEX(E_SourceStreams!$A:$N,CV45,Q$7)=\"\",\"\",INDEX(E_SourceStreams!$A:$N,CV45,Q$7)))","v":""},{"$f":"IF($E45=\"\",\"\",IF(INDEX(E_SourceStreams!$A:$N,CW45,R$7)=\"\",\"\",INDEX(E_SourceStreams!$A:$N,CW45,R$7)))","v":""},{"$f":"IF($E45=\"\",\"\",IF(INDEX(E_SourceStreams!$A:$N,CX45,S$7)=\"\",\"\",INDEX(E_SourceStreams!$A:$N,CX45,S$7)))","v":""},{"$f":"IF($E45=\"\",\"\",IF(INDEX(E_SourceStreams!$A:$N,CY45,T$7)=\"\",\"\",INDEX(E_SourceStreams!$A:$N,CY45,T$7)))","v":""},{"$f":"IF($E45=\"\",\"\",IF(INDEX(E_SourceStreams!$A:$N,CZ45,U$7)=\"\",\"\",INDEX(E_SourceStreams!$A:$N,CZ45,U$7)))","v":""},{"$f":"IF($E45=\"\",\"\",IF(INDEX(E_SourceStreams!$A:$N,DA45,V$7)=\"\",\"\",INDEX(E_SourceStreams!$A:$N,DA45,V$7)))","v":""},{"$f":"IF($E45=\"\",\"\",IF(INDEX(E_SourceStreams!$A:$N,DB45,W$7)=\"\",\"\",INDEX(E_SourceStreams!$A:$N,DB45,W$7)))","v":""},{"$f":"IF($E45=\"\",\"\",IF(INDEX(E_SourceStreams!$A:$N,DC45,X$7)=\"\",\"\",INDEX(E_SourceStreams!$A:$N,DC45,X$7)))","v":""},{"$f":"IF($E45=\"\",\"\",IF(INDEX(E_SourceStreams!$A:$N,DD45,Y$7)=\"\",\"\",INDEX(E_SourceStreams!$A:$N,DD45,Y$7)))","v":""},{"$f":"IF($E45=\"\",\"\",IF(INDEX(E_SourceStreams!$A:$N,DE45,Z$7)=\"\",\"\",INDEX(E_SourceStreams!$A:$N,DE45,Z$7)))","v":""},{"$f":"IF($E45=\"\",\"\",IF(INDEX(E_SourceStreams!$A:$N,DF45,AA$7)=\"\",\"\",INDEX(E_SourceStreams!$A:$N,DF45,AA$7)))","v":""},{"$f":"IF($E45=\"\",\"\",IF(INDEX(E_SourceStreams!$A:$N,DG45,AB$7)=\"\",\"\",INDEX(E_SourceStreams!$A:$N,DG45,AB$7)))","v":""},{"$f":"IF($E45=\"\",\"\",IF(INDEX(E_SourceStreams!$A:$N,DH45,AC$7)=\"\",\"\",INDEX(E_SourceStreams!$A:$N,DH45,AC$7)))","v":""},{"$f":"IF($E45=\"\",\"\",IF(INDEX(E_SourceStreams!$A:$N,DI45,AD$7)=\"\",\"\",INDEX(E_SourceStreams!$A:$N,DI45,AD$7)))","v":""},{"$f":"IF($E45=\"\",\"\",IF(INDEX(E_SourceStreams!$A:$N,DJ45,AE$7)=\"\",\"\",INDEX(E_SourceStreams!$A:$N,DJ45,AE$7)))","v":""},{"$f":"IF($E45=\"\",\"\",IF(INDEX(E_SourceStreams!$A:$N,DK45,AF$7)=\"\",\"\",INDEX(E_SourceStreams!$A:$N,DK45,AF$7)))","v":""},{"$f":"IF($E45=\"\",\"\",IF(INDEX(E_SourceStreams!$A:$N,DL45,AG$7)=\"\",\"\",INDEX(E_SourceStreams!$A:$N,DL45,AG$7)))","v":""},{"$f":"IF($E45=\"\",\"\",IF(INDEX(E_SourceStreams!$A:$N,DM45,AH$7)=\"\",\"\",INDEX(E_SourceStreams!$A:$N,DM45,AH$7)))","v":""},{"$f":"IF($E45=\"\",\"\",IF(INDEX(E_SourceStreams!$A:$N,DN45,AI$7)=\"\",\"\",INDEX(E_SourceStreams!$A:$N,DN45,AI$7)))","v":""},{"$f":"IF($E45=\"\",\"\",IF(INDEX(E_SourceStreams!$A:$N,DO45,AJ$7)=\"\",\"\",INDEX(E_SourceStreams!$A:$N,DO45,AJ$7)))","v":""},{"$f":"IF($E45=\"\",\"\",IF(INDEX(E_SourceStreams!$A:$N,DP45,AK$7)=\"\",\"\",INDEX(E_SourceStreams!$A:$N,DP45,AK$7)))","v":""},{"$f":"IF($E45=\"\",\"\",IF(INDEX(E_SourceStreams!$A:$N,DQ45,AL$7)=\"\",\"\",INDEX(E_SourceStreams!$A:$N,DQ45,AL$7)))","v":""},{"$f":"IF($E45=\"\",\"\",IF(INDEX(E_SourceStreams!$A:$N,DR45,AM$7)=\"\",\"\",INDEX(E_SourceStreams!$A:$N,DR45,AM$7)))","v":""},{"$f":"IF($E45=\"\",\"\",IF(INDEX(E_SourceStreams!$A:$N,DS45,AN$7)=\"\",\"\",INDEX(E_SourceStreams!$A:$N,DS45,AN$7)))","v":""},{"$f":"IF($E45=\"\",\"\",IF(INDEX(E_SourceStreams!$A:$N,DT45,AO$7)=\"\",\"\",INDEX(E_SourceStreams!$A:$N,DT45,AO$7)))","v":""},{"$f":"IF($E45=\"\",\"\",IF(INDEX(E_SourceStreams!$A:$N,DU45,AP$7)=\"\",\"\",INDEX(E_SourceStreams!$A:$N,DU45,AP$7)))","v":""},{"$f":"IF($E45=\"\",\"\",IF(INDEX(E_SourceStreams!$A:$N,DV45,AQ$7)=\"\",\"\",INDEX(E_SourceStreams!$A:$N,DV45,AQ$7)))","v":""},{"$f":"IF($E45=\"\",\"\",IF(INDEX(E_SourceStreams!$A:$N,DW45,AR$7)=\"\",\"\",INDEX(E_SourceStreams!$A:$N,DW45,AR$7)))","v":""},{"$f":"IF($E45=\"\",\"\",IF(INDEX(E_SourceStreams!$A:$N,DX45,AS$7)=\"\",\"\",INDEX(E_SourceStreams!$A:$N,DX45,AS$7)))","v":""},{"$f":"IF($E45=\"\",\"\",IF(INDEX(E_SourceStreams!$A:$N,DY45,AT$7)=\"\",\"\",INDEX(E_SourceStreams!$A:$N,DY45,AT$7)))","v":""},{"$f":"IF($E45=\"\",\"\",IF(INDEX(E_SourceStreams!$A:$N,DZ45,AU$7)=\"\",\"\",INDEX(E_SourceStreams!$A:$N,DZ45,AU$7)))","v":""},{"$f":"IF($E45=\"\",\"\",IF(INDEX(E_SourceStreams!$A:$N,EA45,AV$7)=\"\",\"\",INDEX(E_SourceStreams!$A:$N,EA45,AV$7)))","v":""},{"$f":"IF($E45=\"\",\"\",IF(INDEX(E_SourceStreams!$A:$N,EB45,AW$7)=\"\",\"\",INDEX(E_SourceStreams!$A:$N,EB45,AW$7)))","v":""},{"$f":"IF($E45=\"\",\"\",IF(INDEX(E_SourceStreams!$A:$N,EC45,AX$7)=\"\",\"\",INDEX(E_SourceStreams!$A:$N,EC45,AX$7)))","v":""},{"$f":"IF($E45=\"\",\"\",IF(INDEX(E_SourceStreams!$A:$N,ED45,AY$7)=\"\",\"\",INDEX(E_SourceStreams!$A:$N,ED45,AY$7)))","v":""},{"$f":"IF($E45=\"\",\"\",IF(INDEX(E_SourceStreams!$A:$N,EE45,AZ$7)=\"\",\"\",INDEX(E_SourceStreams!$A:$N,EE45,AZ$7)))","v":""},{"$f":"IF($E45=\"\",\"\",IF(INDEX(E_SourceStreams!$A:$N,EF45,BA$7)=\"\",\"\",INDEX(E_SourceStreams!$A:$N,EF45,BA$7)))","v":""},{"$f":"IF($E45=\"\",\"\",IF(INDEX(E_SourceStreams!$A:$N,EG45,BB$7)=\"\",\"\",INDEX(E_SourceStreams!$A:$N,EG45,BB$7)))","v":""},{"$f":"IF($E45=\"\",\"\",IF(INDEX(E_SourceStreams!$A:$N,EH45,BC$7)=\"\",\"\",INDEX(E_SourceStreams!$A:$N,EH45,BC$7)))","v":""},{"$f":"IF($E45=\"\",\"\",IF(INDEX(E_SourceStreams!$A:$N,EI45,BD$7)=\"\",\"\",INDEX(E_SourceStreams!$A:$N,EI45,BD$7)))","v":""},{"$f":"IF($E45=\"\",\"\",IF(INDEX(E_SourceStreams!$A:$N,EJ45,BE$7)=\"\",\"\",INDEX(E_SourceStreams!$A:$N,EJ45,BE$7)))","v":""},{"$f":"IF($E45=\"\",\"\",IF(INDEX(E_SourceStreams!$A:$N,EK45,BF$7)=\"\",\"\",INDEX(E_SourceStreams!$A:$N,EK45,BF$7)))","v":""},{"$f":"IF($E45=\"\",\"\",IF(INDEX(E_SourceStreams!$A:$N,EL45,BG$7)=\"\",\"\",INDEX(E_SourceStreams!$A:$N,EL45,BG$7)))","v":""},{"$f":"IF($E45=\"\",\"\",IF(INDEX(E_SourceStreams!$A:$N,EM45,BH$7)=\"\",\"\",INDEX(E_SourceStreams!$A:$N,EM45,BH$7)))","v":""},{"$f":"IF($E45=\"\",\"\",IF(INDEX(E_SourceStreams!$A:$N,EN45,BI$7)=\"\",\"\",INDEX(E_SourceStreams!$A:$N,EN45,BI$7)))","v":""},{"$f":"IF($E45=\"\",\"\",IF(INDEX(E_SourceStreams!$A:$N,EO45,BJ$7)=\"\",\"\",INDEX(E_SourceStreams!$A:$N,EO45,BJ$7)))","v":""},{"$f":"IF($E45=\"\",\"\",IF(INDEX(E_SourceStreams!$A:$N,EP45,BK$7)=\"\",\"\",INDEX(E_SourceStreams!$A:$N,EP45,BK$7)))","v":""},{"$f":"IF($E45=\"\",\"\",IF(INDEX(E_SourceStreams!$A:$N,EQ45,BL$7)=\"\",\"\",INDEX(E_SourceStreams!$A:$N,EQ45,BL$7)))","v":""},{"$f":"IF($E45=\"\",\"\",IF(INDEX(E_SourceStreams!$A:$N,ER45,BM$7)=\"\",\"\",INDEX(E_SourceStreams!$A:$N,ER45,BM$7)))","v":""},{"$f":"IF($E45=\"\",\"\",IF(INDEX(E_SourceStreams!$A:$N,ES45,BN$7)=\"\",\"\",INDEX(E_SourceStreams!$A:$N,ES45,BN$7)))","v":""},{"$f":"IF($E45=\"\",\"\",IF(INDEX(E_SourceStreams!$A:$N,ET45,BO$7)=\"\",\"\",INDEX(E_SourceStreams!$A:$N,ET45,BO$7)))","v":""},{"$f":"IF($E45=\"\",\"\",IF(INDEX(E_SourceStreams!$A:$N,EU45,BP$7)=\"\",\"\",INDEX(E_SourceStreams!$A:$N,EU45,BP$7)))","v":""},{"$f":"IF($E45=\"\",\"\",IF(INDEX(E_SourceStreams!$A:$N,EV45,BQ$7)=\"\",\"\",INDEX(E_SourceStreams!$A:$N,EV45,BQ$7)))","v":""},{"$f":"IF($E45=\"\",\"\",IF(INDEX(E_SourceStreams!$A:$N,EW45,BR$7)=\"\",\"\",INDEX(E_SourceStreams!$A:$N,EW45,BR$7)))","v":""},{"$f":"IF($E45=\"\",\"\",IF(INDEX(E_SourceStreams!$A:$N,EX45,BS$7)=\"\",\"\",INDEX(E_SourceStreams!$A:$N,EX45,BS$7)))","v":""},{"$f":"IF($E45=\"\",\"\",IF(INDEX(E_SourceStreams!$A:$N,EY45,BT$7)=\"\",\"\",INDEX(E_SourceStreams!$A:$N,EY45,BT$7)))","v":""},null,null,null,null,null,null,null,null,null,null,null,null,null,null,null,"SourceCategory_",{"$f":"INDEX(C_InstallationDescription!$A$226:$A$332,ROWS($CI$11:CI45))=\"ausblenden\"","v":true},"SourceStreamName_",null,2377,2379,2381,2383,2385,2387,2389,2389,2389,2389,2389,2392,2396,2397,2398,2405,2415,2415,2415,2415,2415,2415,2415,2406,2416,2416,2416,2416,2416,2416,2416,2407,2417,2417,2417,2417,2417,2417,2417,2408,2418,2418,2418,2418,2418,2418,2418,2409,2419,2419,2419,2419,2419,2419,2419,2410,2420,2420,2420,2420,2420,2420,2420,2426]
[null,{"$f":"IF(COUNTIF($CK$10:CK46,TRUE)>0,\"\",INDEX(C_InstallationDescription!$E$226:$E$242,ROWS($A$11:A46)))","v":""},{"$f":"IF($E46=\"\",\"\",INDEX(C_InstallationDescription!F:F,MATCH($B46,C_InstallationDescription!$E:$E,0)))","v":""},{"$f":"IF($E46=\"\",\"\",INDEX(C_InstallationDescription!I:I,MATCH($B46,C_InstallationDescription!$E:$E,0)))","v":""},{"$f":"IF($B46=\"\",\"\",INDEX(C_InstallationDescription!F:F,MATCH($CJ46,C_InstallationDescription!$Q:$Q,0)))","v":""},{"$f":"IF($E46=\"\",\"\",INDEX(C_InstallationDescription!L:L,MATCH($CJ46,C_InstallationDescription!$Q:$Q,0)))","v":""},{"$f":"IF($E46=\"\",\"\",INDEX(C_InstallationDescription!M:M,MATCH($CJ46,C_InstallationDescription!$Q:$Q,0)))","v":""},{"$f":"IF($E46=\"\",\"\",INDEX(C_InstallationDescription!N:N,MATCH($CJ46,C_InstallationDescription!$Q:$Q,0)))","v":""},{"$f":"IF($E46=\"\",\"\",IF(INDEX(E_SourceStreams!$A:$N,CN46,I$7)=\"\",\"\",INDEX(E_SourceStreams!$A:$N,CN46,I$7)))","v":""},{"$f":"IF($E46=\"\",\"\",IF(INDEX(E_SourceStreams!$A:$N,CO46,J$7)=\"\",\"\",INDEX(E_SourceStreams!$A:$N,CO46,J$7)))","v":""},{"$f":"IF($E46=\"\",\"\",IF(INDEX(E_SourceStreams!$A:$N,CP46,K$7)=\"\",\"\",INDEX(E_SourceStreams!$A:$N,CP46,K$7)))","v":""},{"$f":"IF($E46=\"\",\"\",IF(INDEX(E_SourceStreams!$A:$N,CQ46,L$7)=\"\",\"\",INDEX(E_SourceStreams!$A:$N,CQ46,L$7)))","v":""},{"$f":"IF($E46=\"\",\"\",IF(INDEX(E_SourceStreams!$A:$N,CR46,M$7)=\"\",\"\",INDEX(E_SourceStreams!$A:$N,CR46,M$7)))","v":""},{"$f":"IF($E46=\"\",\"\",IF(INDEX(E_SourceStreams!$A:$N,CS46,N$7)=\"\",\"\",INDEX(E_SourceStreams!$A:$N,CS46,N$7)))","v":""},{"$f":"IF($E46=\"\",\"\",IF(INDEX(E_SourceStreams!$A:$N,CT46,O$7)=\"\",\"\",INDEX(E_SourceStreams!$A:$N,CT46,O$7)))","v":""},{"$f":"IF($E46=\"\",\"\",IF(INDEX(E_SourceStreams!$A:$N,CU46,P$7)=\"\",\"\",INDEX(E_SourceStreams!$A:$N,CU46,P$7)))","v":""},{"$f":"IF($E46=\"\",\"\",IF(INDEX(E_SourceStreams!$A:$N,CV46,Q$7)=\"\",\"\",INDEX(E_SourceStreams!$A:$N,CV46,Q$7)))","v":""},{"$f":"IF($E46=\"\",\"\",IF(INDEX(E_SourceStreams!$A:$N,CW46,R$7)=\"\",\"\",INDEX(E_SourceStreams!$A:$N,CW46,R$7)))","v":""},{"$f":"IF($E46=\"\",\"\",IF(INDEX(E_SourceStreams!$A:$N,CX46,S$7)=\"\",\"\",INDEX(E_SourceStreams!$A:$N,CX46,S$7)))","v":""},{"$f":"IF($E46=\"\",\"\",IF(INDEX(E_SourceStreams!$A:$N,CY46,T$7)=\"\",\"\",INDEX(E_SourceStreams!$A:$N,CY46,T$7)))","v":""},{"$f":"IF($E46=\"\",\"\",IF(INDEX(E_SourceStreams!$A:$N,CZ46,U$7)=\"\",\"\",INDEX(E_SourceStreams!$A:$N,CZ46,U$7)))","v":""},{"$f":"IF($E46=\"\",\"\",IF(INDEX(E_SourceStreams!$A:$N,DA46,V$7)=\"\",\"\",INDEX(E_SourceStreams!$A:$N,DA46,V$7)))","v":""},{"$f":"IF($E46=\"\",\"\",IF(INDEX(E_SourceStreams!$A:$N,DB46,W$7)=\"\",\"\",INDEX(E_SourceStreams!$A:$N,DB46,W$7)))","v":""},{"$f":"IF($E46=\"\",\"\",IF(INDEX(E_SourceStreams!$A:$N,DC46,X$7)=\"\",\"\",INDEX(E_SourceStreams!$A:$N,DC46,X$7)))","v":""},{"$f":"IF($E46=\"\",\"\",IF(INDEX(E_SourceStreams!$A:$N,DD46,Y$7)=\"\",\"\",INDEX(E_SourceStreams!$A:$N,DD46,Y$7)))","v":""},{"$f":"IF($E46=\"\",\"\",IF(INDEX(E_SourceStreams!$A:$N,DE46,Z$7)=\"\",\"\",INDEX(E_SourceStreams!$A:$N,DE46,Z$7)))","v":""},{"$f":"IF($E46=\"\",\"\",IF(INDEX(E_SourceStreams!$A:$N,DF46,AA$7)=\"\",\"\",INDEX(E_SourceStreams!$A:$N,DF46,AA$7)))","v":""},{"$f":"IF($E46=\"\",\"\",IF(INDEX(E_SourceStreams!$A:$N,DG46,AB$7)=\"\",\"\",INDEX(E_SourceStreams!$A:$N,DG46,AB$7)))","v":""},{"$f":"IF($E46=\"\",\"\",IF(INDEX(E_SourceStreams!$A:$N,DH46,AC$7)=\"\",\"\",INDEX(E_SourceStreams!$A:$N,DH46,AC$7)))","v":""},{"$f":"IF($E46=\"\",\"\",IF(INDEX(E_SourceStreams!$A:$N,DI46,AD$7)=\"\",\"\",INDEX(E_SourceStreams!$A:$N,DI46,AD$7)))","v":""},{"$f":"IF($E46=\"\",\"\",IF(INDEX(E_SourceStreams!$A:$N,DJ46,AE$7)=\"\",\"\",INDEX(E_SourceStreams!$A:$N,DJ46,AE$7)))","v":""},{"$f":"IF($E46=\"\",\"\",IF(INDEX(E_SourceStreams!$A:$N,DK46,AF$7)=\"\",\"\",INDEX(E_SourceStreams!$A:$N,DK46,AF$7)))","v":""},{"$f":"IF($E46=\"\",\"\",IF(INDEX(E_SourceStreams!$A:$N,DL46,AG$7)=\"\",\"\",INDEX(E_SourceStreams!$A:$N,DL46,AG$7)))","v":""},{"$f":"IF($E46=\"\",\"\",IF(INDEX(E_SourceStreams!$A:$N,DM46,AH$7)=\"\",\"\",INDEX(E_SourceStreams!$A:$N,DM46,AH$7)))","v":""},{"$f":"IF($E46=\"\",\"\",IF(INDEX(E_SourceStreams!$A:$N,DN46,AI$7)=\"\",\"\",INDEX(E_SourceStreams!$A:$N,DN46,AI$7)))","v":""},{"$f":"IF($E46=\"\",\"\",IF(INDEX(E_SourceStreams!$A:$N,DO46,AJ$7)=\"\",\"\",INDEX(E_SourceStreams!$A:$N,DO46,AJ$7)))","v":""},{"$f":"IF($E46=\"\",\"\",IF(INDEX(E_SourceStreams!$A:$N,DP46,AK$7)=\"\",\"\",INDEX(E_SourceStreams!$A:$N,DP46,AK$7)))","v":""},{"$f":"IF($E46=\"\",\"\",IF(INDEX(E_SourceStreams!$A:$N,DQ46,AL$7)=\"\",\"\",INDEX(E_SourceStreams!$A:$N,DQ46,AL$7)))","v":""},{"$f":"IF($E46=\"\",\"\",IF(INDEX(E_SourceStreams!$A:$N,DR46,AM$7)=\"\",\"\",INDEX(E_SourceStreams!$A:$N,DR46,AM$7)))","v":""},{"$f":"IF($E46=\"\",\"\",IF(INDEX(E_SourceStreams!$A:$N,DS46,AN$7)=\"\",\"\",INDEX(E_SourceStreams!$A:$N,DS46,AN$7)))","v":""},{"$f":"IF($E46=\"\",\"\",IF(INDEX(E_SourceStreams!$A:$N,DT46,AO$7)=\"\",\"\",INDEX(E_SourceStreams!$A:$N,DT46,AO$7)))","v":""},{"$f":"IF($E46=\"\",\"\",IF(INDEX(E_SourceStreams!$A:$N,DU46,AP$7)=\"\",\"\",INDEX(E_SourceStreams!$A:$N,DU46,AP$7)))","v":""},{"$f":"IF($E46=\"\",\"\",IF(INDEX(E_SourceStreams!$A:$N,DV46,AQ$7)=\"\",\"\",INDEX(E_SourceStreams!$A:$N,DV46,AQ$7)))","v":""},{"$f":"IF($E46=\"\",\"\",IF(INDEX(E_SourceStreams!$A:$N,DW46,AR$7)=\"\",\"\",INDEX(E_SourceStreams!$A:$N,DW46,AR$7)))","v":""},{"$f":"IF($E46=\"\",\"\",IF(INDEX(E_SourceStreams!$A:$N,DX46,AS$7)=\"\",\"\",INDEX(E_SourceStreams!$A:$N,DX46,AS$7)))","v":""},{"$f":"IF($E46=\"\",\"\",IF(INDEX(E_SourceStreams!$A:$N,DY46,AT$7)=\"\",\"\",INDEX(E_SourceStreams!$A:$N,DY46,AT$7)))","v":""},{"$f":"IF($E46=\"\",\"\",IF(INDEX(E_SourceStreams!$A:$N,DZ46,AU$7)=\"\",\"\",INDEX(E_SourceStreams!$A:$N,DZ46,AU$7)))","v":""},{"$f":"IF($E46=\"\",\"\",IF(INDEX(E_SourceStreams!$A:$N,EA46,AV$7)=\"\",\"\",INDEX(E_SourceStreams!$A:$N,EA46,AV$7)))","v":""},{"$f":"IF($E46=\"\",\"\",IF(INDEX(E_SourceStreams!$A:$N,EB46,AW$7)=\"\",\"\",INDEX(E_SourceStreams!$A:$N,EB46,AW$7)))","v":""},{"$f":"IF($E46=\"\",\"\",IF(INDEX(E_SourceStreams!$A:$N,EC46,AX$7)=\"\",\"\",INDEX(E_SourceStreams!$A:$N,EC46,AX$7)))","v":""},{"$f":"IF($E46=\"\",\"\",IF(INDEX(E_SourceStreams!$A:$N,ED46,AY$7)=\"\",\"\",INDEX(E_SourceStreams!$A:$N,ED46,AY$7)))","v":""},{"$f":"IF($E46=\"\",\"\",IF(INDEX(E_SourceStreams!$A:$N,EE46,AZ$7)=\"\",\"\",INDEX(E_SourceStreams!$A:$N,EE46,AZ$7)))","v":""},{"$f":"IF($E46=\"\",\"\",IF(INDEX(E_SourceStreams!$A:$N,EF46,BA$7)=\"\",\"\",INDEX(E_SourceStreams!$A:$N,EF46,BA$7)))","v":""},{"$f":"IF($E46=\"\",\"\",IF(INDEX(E_SourceStreams!$A:$N,EG46,BB$7)=\"\",\"\",INDEX(E_SourceStreams!$A:$N,EG46,BB$7)))","v":""},{"$f":"IF($E46=\"\",\"\",IF(INDEX(E_SourceStreams!$A:$N,EH46,BC$7)=\"\",\"\",INDEX(E_SourceStreams!$A:$N,EH46,BC$7)))","v":""},{"$f":"IF($E46=\"\",\"\",IF(INDEX(E_SourceStreams!$A:$N,EI46,BD$7)=\"\",\"\",INDEX(E_SourceStreams!$A:$N,EI46,BD$7)))","v":""},{"$f":"IF($E46=\"\",\"\",IF(INDEX(E_SourceStreams!$A:$N,EJ46,BE$7)=\"\",\"\",INDEX(E_SourceStreams!$A:$N,EJ46,BE$7)))","v":""},{"$f":"IF($E46=\"\",\"\",IF(INDEX(E_SourceStreams!$A:$N,EK46,BF$7)=\"\",\"\",INDEX(E_SourceStreams!$A:$N,EK46,BF$7)))","v":""},{"$f":"IF($E46=\"\",\"\",IF(INDEX(E_SourceStreams!$A:$N,EL46,BG$7)=\"\",\"\",INDEX(E_SourceStreams!$A:$N,EL46,BG$7)))","v":""},{"$f":"IF($E46=\"\",\"\",IF(INDEX(E_SourceStreams!$A:$N,EM46,BH$7)=\"\",\"\",INDEX(E_SourceStreams!$A:$N,EM46,BH$7)))","v":""},{"$f":"IF($E46=\"\",\"\",IF(INDEX(E_SourceStreams!$A:$N,EN46,BI$7)=\"\",\"\",INDEX(E_SourceStreams!$A:$N,EN46,BI$7)))","v":""},{"$f":"IF($E46=\"\",\"\",IF(INDEX(E_SourceStreams!$A:$N,EO46,BJ$7)=\"\",\"\",INDEX(E_SourceStreams!$A:$N,EO46,BJ$7)))","v":""},{"$f":"IF($E46=\"\",\"\",IF(INDEX(E_SourceStreams!$A:$N,EP46,BK$7)=\"\",\"\",INDEX(E_SourceStreams!$A:$N,EP46,BK$7)))","v":""},{"$f":"IF($E46=\"\",\"\",IF(INDEX(E_SourceStreams!$A:$N,EQ46,BL$7)=\"\",\"\",INDEX(E_SourceStreams!$A:$N,EQ46,BL$7)))","v":""},{"$f":"IF($E46=\"\",\"\",IF(INDEX(E_SourceStreams!$A:$N,ER46,BM$7)=\"\",\"\",INDEX(E_SourceStreams!$A:$N,ER46,BM$7)))","v":""},{"$f":"IF($E46=\"\",\"\",IF(INDEX(E_SourceStreams!$A:$N,ES46,BN$7)=\"\",\"\",INDEX(E_SourceStreams!$A:$N,ES46,BN$7)))","v":""},{"$f":"IF($E46=\"\",\"\",IF(INDEX(E_SourceStreams!$A:$N,ET46,BO$7)=\"\",\"\",INDEX(E_SourceStreams!$A:$N,ET46,BO$7)))","v":""},{"$f":"IF($E46=\"\",\"\",IF(INDEX(E_SourceStreams!$A:$N,EU46,BP$7)=\"\",\"\",INDEX(E_SourceStreams!$A:$N,EU46,BP$7)))","v":""},{"$f":"IF($E46=\"\",\"\",IF(INDEX(E_SourceStreams!$A:$N,EV46,BQ$7)=\"\",\"\",INDEX(E_SourceStreams!$A:$N,EV46,BQ$7)))","v":""},{"$f":"IF($E46=\"\",\"\",IF(INDEX(E_SourceStreams!$A:$N,EW46,BR$7)=\"\",\"\",INDEX(E_SourceStreams!$A:$N,EW46,BR$7)))","v":""},{"$f":"IF($E46=\"\",\"\",IF(INDEX(E_SourceStreams!$A:$N,EX46,BS$7)=\"\",\"\",INDEX(E_SourceStreams!$A:$N,EX46,BS$7)))","v":""},{"$f":"IF($E46=\"\",\"\",IF(INDEX(E_SourceStreams!$A:$N,EY46,BT$7)=\"\",\"\",INDEX(E_SourceStreams!$A:$N,EY46,BT$7)))","v":""},null,null,null,null,null,null,null,null,null,null,null,null,null,null,null,"SourceCategory_",{"$f":"INDEX(C_InstallationDescription!$A$226:$A$332,ROWS($CI$11:CI46))=\"ausblenden\"","v":false},"SourceStreamName_",null,2443,2445,2447,2449,2451,2453,2455,2455,2455,2455,2455,2458,2462,2463,2464,2471,2481,2481,2481,2481,2481,2481,2481,2472,2482,2482,2482,2482,2482,2482,2482,2473,2483,2483,2483,2483,2483,2483,2483,2474,2484,2484,2484,2484,2484,2484,2484,2475,2485,2485,2485,2485,2485,2485,2485,2476,2486,2486,2486,2486,2486,2486,2486,2492]
[null,{"$f":"IF(COUNTIF($CK$10:CK47,TRUE)>0,\"\",INDEX(C_InstallationDescription!$E$226:$E$242,ROWS($A$11:A47)))","v":""},{"$f":"IF($E47=\"\",\"\",INDEX(C_InstallationDescription!F:F,MATCH($B47,C_InstallationDescription!$E:$E,0)))","v":""},{"$f":"IF($E47=\"\",\"\",INDEX(C_InstallationDescription!I:I,MATCH($B47,C_InstallationDescription!$E:$E,0)))","v":""},{"$f":"IF($B47=\"\",\"\",INDEX(C_InstallationDescription!F:F,MATCH($CJ47,C_InstallationDescription!$Q:$Q,0)))","v":""},{"$f":"IF($E47=\"\",\"\",INDEX(C_InstallationDescription!L:L,MATCH($CJ47,C_InstallationDescription!$Q:$Q,0)))","v":""},{"$f":"IF($E47=\"\",\"\",INDEX(C_InstallationDescription!M:M,MATCH($CJ47,C_InstallationDescription!$Q:$Q,0)))","v":""},{"$f":"IF($E47=\"\",\"\",INDEX(C_InstallationDescription!N:N,MATCH($CJ47,C_InstallationDescription!$Q:$Q,0)))","v":""},{"$f":"IF($E47=\"\",\"\",IF(INDEX(E_SourceStreams!$A:$N,CN47,I$7)=\"\",\"\",INDEX(E_SourceStreams!$A:$N,CN47,I$7)))","v":""},{"$f":"IF($E47=\"\",\"\",IF(INDEX(E_SourceStreams!$A:$N,CO47,J$7)=\"\",\"\",INDEX(E_SourceStreams!$A:$N,CO47,J$7)))","v":""},{"$f":"IF($E47=\"\",\"\",IF(INDEX(E_SourceStreams!$A:$N,CP47,K$7)=\"\",\"\",INDEX(E_SourceStreams!$A:$N,CP47,K$7)))","v":""},{"$f":"IF($E47=\"\",\"\",IF(INDEX(E_SourceStreams!$A:$N,CQ47,L$7)=\"\",\"\",INDEX(E_SourceStreams!$A:$N,CQ47,L$7)))","v":""},{"$f":"IF($E47=\"\",\"\",IF(INDEX(E_SourceStreams!$A:$N,CR47,M$7)=\"\",\"\",INDEX(E_SourceStreams!$A:$N,CR47,M$7)))","v":""},{"$f":"IF($E47=\"\",\"\",IF(INDEX(E_SourceStreams!$A:$N,CS47,N$7)=\"\",\"\",INDEX(E_SourceStreams!$A:$N,CS47,N$7)))","v":""},{"$f":"IF($E47=\"\",\"\",IF(INDEX(E_SourceStreams!$A:$N,CT47,O$7)=\"\",\"\",INDEX(E_SourceStreams!$A:$N,CT47,O$7)))","v":""},{"$f":"IF($E47=\"\",\"\",IF(INDEX(E_SourceStreams!$A:$N,CU47,P$7)=\"\",\"\",INDEX(E_SourceStreams!$A:$N,CU47,P$7)))","v":""},{"$f":"IF($E47=\"\",\"\",IF(INDEX(E_SourceStreams!$A:$N,CV47,Q$7)=\"\",\"\",INDEX(E_SourceStreams!$A:$N,CV47,Q$7)))","v":""},{"$f":"IF($E47=\"\",\"\",IF(INDEX(E_SourceStreams!$A:$N,CW47,R$7)=\"\",\"\",INDEX(E_SourceStreams!$A:$N,CW47,R$7)))","v":""},{"$f":"IF($E47=\"\",\"\",IF(INDEX(E_SourceStreams!$A:$N,CX47,S$7)=\"\",\"\",INDEX(E_SourceStreams!$A:$N,CX47,S$7)))","v":""},{"$f":"IF($E47=\"\",\"\",IF(INDEX(E_SourceStreams!$A:$N,CY47,T$7)=\"\",\"\",INDEX(E_SourceStreams!$A:$N,CY47,T$7)))","v":""},{"$f":"IF($E47=\"\",\"\",IF(INDEX(E_SourceStreams!$A:$N,CZ47,U$7)=\"\",\"\",INDEX(E_SourceStreams!$A:$N,CZ47,U$7)))","v":""},{"$f":"IF($E47=\"\",\"\",IF(INDEX(E_SourceStreams!$A:$N,DA47,V$7)=\"\",\"\",INDEX(E_SourceStreams!$A:$N,DA47,V$7)))","v":""},{"$f":"IF($E47=\"\",\"\",IF(INDEX(E_SourceStreams!$A:$N,DB47,W$7)=\"\",\"\",INDEX(E_SourceStreams!$A:$N,DB47,W$7)))","v":""},{"$f":"IF($E47=\"\",\"\",IF(INDEX(E_SourceStreams!$A:$N,DC47,X$7)=\"\",\"\",INDEX(E_SourceStreams!$A:$N,DC47,X$7)))","v":""},{"$f":"IF($E47=\"\",\"\",IF(INDEX(E_SourceStreams!$A:$N,DD47,Y$7)=\"\",\"\",INDEX(E_SourceStreams!$A:$N,DD47,Y$7)))","v":""},{"$f":"IF($E47=\"\",\"\",IF(INDEX(E_SourceStreams!$A:$N,DE47,Z$7)=\"\",\"\",INDEX(E_SourceStreams!$A:$N,DE47,Z$7)))","v":""},{"$f":"IF($E47=\"\",\"\",IF(INDEX(E_SourceStreams!$A:$N,DF47,AA$7)=\"\",\"\",INDEX(E_SourceStreams!$A:$N,DF47,AA$7)))","v":""},{"$f":"IF($E47=\"\",\"\",IF(INDEX(E_SourceStreams!$A:$N,DG47,AB$7)=\"\",\"\",INDEX(E_SourceStreams!$A:$N,DG47,AB$7)))","v":""},{"$f":"IF($E47=\"\",\"\",IF(INDEX(E_SourceStreams!$A:$N,DH47,AC$7)=\"\",\"\",INDEX(E_SourceStreams!$A:$N,DH47,AC$7)))","v":""},{"$f":"IF($E47=\"\",\"\",IF(INDEX(E_SourceStreams!$A:$N,DI47,AD$7)=\"\",\"\",INDEX(E_SourceStreams!$A:$N,DI47,AD$7)))","v":""},{"$f":"IF($E47=\"\",\"\",IF(INDEX(E_SourceStreams!$A:$N,DJ47,AE$7)=\"\",\"\",INDEX(E_SourceStreams!$A:$N,DJ47,AE$7)))","v":""},{"$f":"IF($E47=\"\",\"\",IF(INDEX(E_SourceStreams!$A:$N,DK47,AF$7)=\"\",\"\",INDEX(E_SourceStreams!$A:$N,DK47,AF$7)))","v":""},{"$f":"IF($E47=\"\",\"\",IF(INDEX(E_SourceStreams!$A:$N,DL47,AG$7)=\"\",\"\",INDEX(E_SourceStreams!$A:$N,DL47,AG$7)))","v":""},{"$f":"IF($E47=\"\",\"\",IF(INDEX(E_SourceStreams!$A:$N,DM47,AH$7)=\"\",\"\",INDEX(E_SourceStreams!$A:$N,DM47,AH$7)))","v":""},{"$f":"IF($E47=\"\",\"\",IF(INDEX(E_SourceStreams!$A:$N,DN47,AI$7)=\"\",\"\",INDEX(E_SourceStreams!$A:$N,DN47,AI$7)))","v":""},{"$f":"IF($E47=\"\",\"\",IF(INDEX(E_SourceStreams!$A:$N,DO47,AJ$7)=\"\",\"\",INDEX(E_SourceStreams!$A:$N,DO47,AJ$7)))","v":""},{"$f":"IF($E47=\"\",\"\",IF(INDEX(E_SourceStreams!$A:$N,DP47,AK$7)=\"\",\"\",INDEX(E_SourceStreams!$A:$N,DP47,AK$7)))","v":""},{"$f":"IF($E47=\"\",\"\",IF(INDEX(E_SourceStreams!$A:$N,DQ47,AL$7)=\"\",\"\",INDEX(E_SourceStreams!$A:$N,DQ47,AL$7)))","v":""},{"$f":"IF($E47=\"\",\"\",IF(INDEX(E_SourceStreams!$A:$N,DR47,AM$7)=\"\",\"\",INDEX(E_SourceStreams!$A:$N,DR47,AM$7)))","v":""},{"$f":"IF($E47=\"\",\"\",IF(INDEX(E_SourceStreams!$A:$N,DS47,AN$7)=\"\",\"\",INDEX(E_SourceStreams!$A:$N,DS47,AN$7)))","v":""},{"$f":"IF($E47=\"\",\"\",IF(INDEX(E_SourceStreams!$A:$N,DT47,AO$7)=\"\",\"\",INDEX(E_SourceStreams!$A:$N,DT47,AO$7)))","v":""},{"$f":"IF($E47=\"\",\"\",IF(INDEX(E_SourceStreams!$A:$N,DU47,AP$7)=\"\",\"\",INDEX(E_SourceStreams!$A:$N,DU47,AP$7)))","v":""},{"$f":"IF($E47=\"\",\"\",IF(INDEX(E_SourceStreams!$A:$N,DV47,AQ$7)=\"\",\"\",INDEX(E_SourceStreams!$A:$N,DV47,AQ$7)))","v":""},{"$f":"IF($E47=\"\",\"\",IF(INDEX(E_SourceStreams!$A:$N,DW47,AR$7)=\"\",\"\",INDEX(E_SourceStreams!$A:$N,DW47,AR$7)))","v":""},{"$f":"IF($E47=\"\",\"\",IF(INDEX(E_SourceStreams!$A:$N,DX47,AS$7)=\"\",\"\",INDEX(E_SourceStreams!$A:$N,DX47,AS$7)))","v":""},{"$f":"IF($E47=\"\",\"\",IF(INDEX(E_SourceStreams!$A:$N,DY47,AT$7)=\"\",\"\",INDEX(E_SourceStreams!$A:$N,DY47,AT$7)))","v":""},{"$f":"IF($E47=\"\",\"\",IF(INDEX(E_SourceStreams!$A:$N,DZ47,AU$7)=\"\",\"\",INDEX(E_SourceStreams!$A:$N,DZ47,AU$7)))","v":""},{"$f":"IF($E47=\"\",\"\",IF(INDEX(E_SourceStreams!$A:$N,EA47,AV$7)=\"\",\"\",INDEX(E_SourceStreams!$A:$N,EA47,AV$7)))","v":""},{"$f":"IF($E47=\"\",\"\",IF(INDEX(E_SourceStreams!$A:$N,EB47,AW$7)=\"\",\"\",INDEX(E_SourceStreams!$A:$N,EB47,AW$7)))","v":""},{"$f":"IF($E47=\"\",\"\",IF(INDEX(E_SourceStreams!$A:$N,EC47,AX$7)=\"\",\"\",INDEX(E_SourceStreams!$A:$N,EC47,AX$7)))","v":""},{"$f":"IF($E47=\"\",\"\",IF(INDEX(E_SourceStreams!$A:$N,ED47,AY$7)=\"\",\"\",INDEX(E_SourceStreams!$A:$N,ED47,AY$7)))","v":""},{"$f":"IF($E47=\"\",\"\",IF(INDEX(E_SourceStreams!$A:$N,EE47,AZ$7)=\"\",\"\",INDEX(E_SourceStreams!$A:$N,EE47,AZ$7)))","v":""},{"$f":"IF($E47=\"\",\"\",IF(INDEX(E_SourceStreams!$A:$N,EF47,BA$7)=\"\",\"\",INDEX(E_SourceStreams!$A:$N,EF47,BA$7)))","v":""},{"$f":"IF($E47=\"\",\"\",IF(INDEX(E_SourceStreams!$A:$N,EG47,BB$7)=\"\",\"\",INDEX(E_SourceStreams!$A:$N,EG47,BB$7)))","v":""},{"$f":"IF($E47=\"\",\"\",IF(INDEX(E_SourceStreams!$A:$N,EH47,BC$7)=\"\",\"\",INDEX(E_SourceStreams!$A:$N,EH47,BC$7)))","v":""},{"$f":"IF($E47=\"\",\"\",IF(INDEX(E_SourceStreams!$A:$N,EI47,BD$7)=\"\",\"\",INDEX(E_SourceStreams!$A:$N,EI47,BD$7)))","v":""},{"$f":"IF($E47=\"\",\"\",IF(INDEX(E_SourceStreams!$A:$N,EJ47,BE$7)=\"\",\"\",INDEX(E_SourceStreams!$A:$N,EJ47,BE$7)))","v":""},{"$f":"IF($E47=\"\",\"\",IF(INDEX(E_SourceStreams!$A:$N,EK47,BF$7)=\"\",\"\",INDEX(E_SourceStreams!$A:$N,EK47,BF$7)))","v":""},{"$f":"IF($E47=\"\",\"\",IF(INDEX(E_SourceStreams!$A:$N,EL47,BG$7)=\"\",\"\",INDEX(E_SourceStreams!$A:$N,EL47,BG$7)))","v":""},{"$f":"IF($E47=\"\",\"\",IF(INDEX(E_SourceStreams!$A:$N,EM47,BH$7)=\"\",\"\",INDEX(E_SourceStreams!$A:$N,EM47,BH$7)))","v":""},{"$f":"IF($E47=\"\",\"\",IF(INDEX(E_SourceStreams!$A:$N,EN47,BI$7)=\"\",\"\",INDEX(E_SourceStreams!$A:$N,EN47,BI$7)))","v":""},{"$f":"IF($E47=\"\",\"\",IF(INDEX(E_SourceStreams!$A:$N,EO47,BJ$7)=\"\",\"\",INDEX(E_SourceStreams!$A:$N,EO47,BJ$7)))","v":""},{"$f":"IF($E47=\"\",\"\",IF(INDEX(E_SourceStreams!$A:$N,EP47,BK$7)=\"\",\"\",INDEX(E_SourceStreams!$A:$N,EP47,BK$7)))","v":""},{"$f":"IF($E47=\"\",\"\",IF(INDEX(E_SourceStreams!$A:$N,EQ47,BL$7)=\"\",\"\",INDEX(E_SourceStreams!$A:$N,EQ47,BL$7)))","v":""},{"$f":"IF($E47=\"\",\"\",IF(INDEX(E_SourceStreams!$A:$N,ER47,BM$7)=\"\",\"\",INDEX(E_SourceStreams!$A:$N,ER47,BM$7)))","v":""},{"$f":"IF($E47=\"\",\"\",IF(INDEX(E_SourceStreams!$A:$N,ES47,BN$7)=\"\",\"\",INDEX(E_SourceStreams!$A:$N,ES47,BN$7)))","v":""},{"$f":"IF($E47=\"\",\"\",IF(INDEX(E_SourceStreams!$A:$N,ET47,BO$7)=\"\",\"\",INDEX(E_SourceStreams!$A:$N,ET47,BO$7)))","v":""},{"$f":"IF($E47=\"\",\"\",IF(INDEX(E_SourceStreams!$A:$N,EU47,BP$7)=\"\",\"\",INDEX(E_SourceStreams!$A:$N,EU47,BP$7)))","v":""},{"$f":"IF($E47=\"\",\"\",IF(INDEX(E_SourceStreams!$A:$N,EV47,BQ$7)=\"\",\"\",INDEX(E_SourceStreams!$A:$N,EV47,BQ$7)))","v":""},{"$f":"IF($E47=\"\",\"\",IF(INDEX(E_SourceStreams!$A:$N,EW47,BR$7)=\"\",\"\",INDEX(E_SourceStreams!$A:$N,EW47,BR$7)))","v":""},{"$f":"IF($E47=\"\",\"\",IF(INDEX(E_SourceStreams!$A:$N,EX47,BS$7)=\"\",\"\",INDEX(E_SourceStreams!$A:$N,EX47,BS$7)))","v":""},{"$f":"IF($E47=\"\",\"\",IF(INDEX(E_SourceStreams!$A:$N,EY47,BT$7)=\"\",\"\",INDEX(E_SourceStreams!$A:$N,EY47,BT$7)))","v":""},null,null,null,null,null,null,null,null,null,null,null,null,null,null,null,"SourceCategory_",{"$f":"INDEX(C_InstallationDescription!$A$226:$A$332,ROWS($CI$11:CI47))=\"ausblenden\"","v":false},"SourceStreamName_",null,2509,2511,2513,2515,2517,2519,2521,2521,2521,2521,2521,2524,2528,2529,2530,2537,2547,2547,2547,2547,2547,2547,2547,2538,2548,2548,2548,2548,2548,2548,2548,2539,2549,2549,2549,2549,2549,2549,2549,2540,2550,2550,2550,2550,2550,2550,2550,2541,2551,2551,2551,2551,2551,2551,2551,2542,2552,2552,2552,2552,2552,2552,2552,2558]
[null,{"$f":"IF(COUNTIF($CK$10:CK48,TRUE)>0,\"\",INDEX(C_InstallationDescription!$E$226:$E$242,ROWS($A$11:A48)))","v":""},{"$f":"IF($E48=\"\",\"\",INDEX(C_InstallationDescription!F:F,MATCH($B48,C_InstallationDescription!$E:$E,0)))","v":""},{"$f":"IF($E48=\"\",\"\",INDEX(C_InstallationDescription!I:I,MATCH($B48,C_InstallationDescription!$E:$E,0)))","v":""},{"$f":"IF($B48=\"\",\"\",INDEX(C_InstallationDescription!F:F,MATCH($CJ48,C_InstallationDescription!$Q:$Q,0)))","v":""},{"$f":"IF($E48=\"\",\"\",INDEX(C_InstallationDescription!L:L,MATCH($CJ48,C_InstallationDescription!$Q:$Q,0)))","v":""},{"$f":"IF($E48=\"\",\"\",INDEX(C_InstallationDescription!M:M,MATCH($CJ48,C_InstallationDescription!$Q:$Q,0)))","v":""},{"$f":"IF($E48=\"\",\"\",INDEX(C_InstallationDescription!N:N,MATCH($CJ48,C_InstallationDescription!$Q:$Q,0)))","v":""},{"$f":"IF($E48=\"\",\"\",IF(INDEX(E_SourceStreams!$A:$N,CN48,I$7)=\"\",\"\",INDEX(E_SourceStreams!$A:$N,CN48,I$7)))","v":""},{"$f":"IF($E48=\"\",\"\",IF(INDEX(E_SourceStreams!$A:$N,CO48,J$7)=\"\",\"\",INDEX(E_SourceStreams!$A:$N,CO48,J$7)))","v":""},{"$f":"IF($E48=\"\",\"\",IF(INDEX(E_SourceStreams!$A:$N,CP48,K$7)=\"\",\"\",INDEX(E_SourceStreams!$A:$N,CP48,K$7)))","v":""},{"$f":"IF($E48=\"\",\"\",IF(INDEX(E_SourceStreams!$A:$N,CQ48,L$7)=\"\",\"\",INDEX(E_SourceStreams!$A:$N,CQ48,L$7)))","v":""},{"$f":"IF($E48=\"\",\"\",IF(INDEX(E_SourceStreams!$A:$N,CR48,M$7)=\"\",\"\",INDEX(E_SourceStreams!$A:$N,CR48,M$7)))","v":""},{"$f":"IF($E48=\"\",\"\",IF(INDEX(E_SourceStreams!$A:$N,CS48,N$7)=\"\",\"\",INDEX(E_SourceStreams!$A:$N,CS48,N$7)))","v":""},{"$f":"IF($E48=\"\",\"\",IF(INDEX(E_SourceStreams!$A:$N,CT48,O$7)=\"\",\"\",INDEX(E_SourceStreams!$A:$N,CT48,O$7)))","v":""},{"$f":"IF($E48=\"\",\"\",IF(INDEX(E_SourceStreams!$A:$N,CU48,P$7)=\"\",\"\",INDEX(E_SourceStreams!$A:$N,CU48,P$7)))","v":""},{"$f":"IF($E48=\"\",\"\",IF(INDEX(E_SourceStreams!$A:$N,CV48,Q$7)=\"\",\"\",INDEX(E_SourceStreams!$A:$N,CV48,Q$7)))","v":""},{"$f":"IF($E48=\"\",\"\",IF(INDEX(E_SourceStreams!$A:$N,CW48,R$7)=\"\",\"\",INDEX(E_SourceStreams!$A:$N,CW48,R$7)))","v":""},{"$f":"IF($E48=\"\",\"\",IF(INDEX(E_SourceStreams!$A:$N,CX48,S$7)=\"\",\"\",INDEX(E_SourceStreams!$A:$N,CX48,S$7)))","v":""},{"$f":"IF($E48=\"\",\"\",IF(INDEX(E_SourceStreams!$A:$N,CY48,T$7)=\"\",\"\",INDEX(E_SourceStreams!$A:$N,CY48,T$7)))","v":""},{"$f":"IF($E48=\"\",\"\",IF(INDEX(E_SourceStreams!$A:$N,CZ48,U$7)=\"\",\"\",INDEX(E_SourceStreams!$A:$N,CZ48,U$7)))","v":""},{"$f":"IF($E48=\"\",\"\",IF(INDEX(E_SourceStreams!$A:$N,DA48,V$7)=\"\",\"\",INDEX(E_SourceStreams!$A:$N,DA48,V$7)))","v":""},{"$f":"IF($E48=\"\",\"\",IF(INDEX(E_SourceStreams!$A:$N,DB48,W$7)=\"\",\"\",INDEX(E_SourceStreams!$A:$N,DB48,W$7)))","v":""},{"$f":"IF($E48=\"\",\"\",IF(INDEX(E_SourceStreams!$A:$N,DC48,X$7)=\"\",\"\",INDEX(E_SourceStreams!$A:$N,DC48,X$7)))","v":""},{"$f":"IF($E48=\"\",\"\",IF(INDEX(E_SourceStreams!$A:$N,DD48,Y$7)=\"\",\"\",INDEX(E_SourceStreams!$A:$N,DD48,Y$7)))","v":""},{"$f":"IF($E48=\"\",\"\",IF(INDEX(E_SourceStreams!$A:$N,DE48,Z$7)=\"\",\"\",INDEX(E_SourceStreams!$A:$N,DE48,Z$7)))","v":""},{"$f":"IF($E48=\"\",\"\",IF(INDEX(E_SourceStreams!$A:$N,DF48,AA$7)=\"\",\"\",INDEX(E_SourceStreams!$A:$N,DF48,AA$7)))","v":""},{"$f":"IF($E48=\"\",\"\",IF(INDEX(E_SourceStreams!$A:$N,DG48,AB$7)=\"\",\"\",INDEX(E_SourceStreams!$A:$N,DG48,AB$7)))","v":""},{"$f":"IF($E48=\"\",\"\",IF(INDEX(E_SourceStreams!$A:$N,DH48,AC$7)=\"\",\"\",INDEX(E_SourceStreams!$A:$N,DH48,AC$7)))","v":""},{"$f":"IF($E48=\"\",\"\",IF(INDEX(E_SourceStreams!$A:$N,DI48,AD$7)=\"\",\"\",INDEX(E_SourceStreams!$A:$N,DI48,AD$7)))","v":""},{"$f":"IF($E48=\"\",\"\",IF(INDEX(E_SourceStreams!$A:$N,DJ48,AE$7)=\"\",\"\",INDEX(E_SourceStreams!$A:$N,DJ48,AE$7)))","v":""},{"$f":"IF($E48=\"\",\"\",IF(INDEX(E_SourceStreams!$A:$N,DK48,AF$7)=\"\",\"\",INDEX(E_SourceStreams!$A:$N,DK48,AF$7)))","v":""},{"$f":"IF($E48=\"\",\"\",IF(INDEX(E_SourceStreams!$A:$N,DL48,AG$7)=\"\",\"\",INDEX(E_SourceStreams!$A:$N,DL48,AG$7)))","v":""},{"$f":"IF($E48=\"\",\"\",IF(INDEX(E_SourceStreams!$A:$N,DM48,AH$7)=\"\",\"\",INDEX(E_SourceStreams!$A:$N,DM48,AH$7)))","v":""},{"$f":"IF($E48=\"\",\"\",IF(INDEX(E_SourceStreams!$A:$N,DN48,AI$7)=\"\",\"\",INDEX(E_SourceStreams!$A:$N,DN48,AI$7)))","v":""},{"$f":"IF($E48=\"\",\"\",IF(INDEX(E_SourceStreams!$A:$N,DO48,AJ$7)=\"\",\"\",INDEX(E_SourceStreams!$A:$N,DO48,AJ$7)))","v":""},{"$f":"IF($E48=\"\",\"\",IF(INDEX(E_SourceStreams!$A:$N,DP48,AK$7)=\"\",\"\",INDEX(E_SourceStreams!$A:$N,DP48,AK$7)))","v":""},{"$f":"IF($E48=\"\",\"\",IF(INDEX(E_SourceStreams!$A:$N,DQ48,AL$7)=\"\",\"\",INDEX(E_SourceStreams!$A:$N,DQ48,AL$7)))","v":""},{"$f":"IF($E48=\"\",\"\",IF(INDEX(E_SourceStreams!$A:$N,DR48,AM$7)=\"\",\"\",INDEX(E_SourceStreams!$A:$N,DR48,AM$7)))","v":""},{"$f":"IF($E48=\"\",\"\",IF(INDEX(E_SourceStreams!$A:$N,DS48,AN$7)=\"\",\"\",INDEX(E_SourceStreams!$A:$N,DS48,AN$7)))","v":""},{"$f":"IF($E48=\"\",\"\",IF(INDEX(E_SourceStreams!$A:$N,DT48,AO$7)=\"\",\"\",INDEX(E_SourceStreams!$A:$N,DT48,AO$7)))","v":""},{"$f":"IF($E48=\"\",\"\",IF(INDEX(E_SourceStreams!$A:$N,DU48,AP$7)=\"\",\"\",INDEX(E_SourceStreams!$A:$N,DU48,AP$7)))","v":""},{"$f":"IF($E48=\"\",\"\",IF(INDEX(E_SourceStreams!$A:$N,DV48,AQ$7)=\"\",\"\",INDEX(E_SourceStreams!$A:$N,DV48,AQ$7)))","v":""},{"$f":"IF($E48=\"\",\"\",IF(INDEX(E_SourceStreams!$A:$N,DW48,AR$7)=\"\",\"\",INDEX(E_SourceStreams!$A:$N,DW48,AR$7)))","v":""},{"$f":"IF($E48=\"\",\"\",IF(INDEX(E_SourceStreams!$A:$N,DX48,AS$7)=\"\",\"\",INDEX(E_SourceStreams!$A:$N,DX48,AS$7)))","v":""},{"$f":"IF($E48=\"\",\"\",IF(INDEX(E_SourceStreams!$A:$N,DY48,AT$7)=\"\",\"\",INDEX(E_SourceStreams!$A:$N,DY48,AT$7)))","v":""},{"$f":"IF($E48=\"\",\"\",IF(INDEX(E_SourceStreams!$A:$N,DZ48,AU$7)=\"\",\"\",INDEX(E_SourceStreams!$A:$N,DZ48,AU$7)))","v":""},{"$f":"IF($E48=\"\",\"\",IF(INDEX(E_SourceStreams!$A:$N,EA48,AV$7)=\"\",\"\",INDEX(E_SourceStreams!$A:$N,EA48,AV$7)))","v":""},{"$f":"IF($E48=\"\",\"\",IF(INDEX(E_SourceStreams!$A:$N,EB48,AW$7)=\"\",\"\",INDEX(E_SourceStreams!$A:$N,EB48,AW$7)))","v":""},{"$f":"IF($E48=\"\",\"\",IF(INDEX(E_SourceStreams!$A:$N,EC48,AX$7)=\"\",\"\",INDEX(E_SourceStreams!$A:$N,EC48,AX$7)))","v":""},{"$f":"IF($E48=\"\",\"\",IF(INDEX(E_SourceStreams!$A:$N,ED48,AY$7)=\"\",\"\",INDEX(E_SourceStreams!$A:$N,ED48,AY$7)))","v":""},{"$f":"IF($E48=\"\",\"\",IF(INDEX(E_SourceStreams!$A:$N,EE48,AZ$7)=\"\",\"\",INDEX(E_SourceStreams!$A:$N,EE48,AZ$7)))","v":""},{"$f":"IF($E48=\"\",\"\",IF(INDEX(E_SourceStreams!$A:$N,EF48,BA$7)=\"\",\"\",INDEX(E_SourceStreams!$A:$N,EF48,BA$7)))","v":""},{"$f":"IF($E48=\"\",\"\",IF(INDEX(E_SourceStreams!$A:$N,EG48,BB$7)=\"\",\"\",INDEX(E_SourceStreams!$A:$N,EG48,BB$7)))","v":""},{"$f":"IF($E48=\"\",\"\",IF(INDEX(E_SourceStreams!$A:$N,EH48,BC$7)=\"\",\"\",INDEX(E_SourceStreams!$A:$N,EH48,BC$7)))","v":""},{"$f":"IF($E48=\"\",\"\",IF(INDEX(E_SourceStreams!$A:$N,EI48,BD$7)=\"\",\"\",INDEX(E_SourceStreams!$A:$N,EI48,BD$7)))","v":""},{"$f":"IF($E48=\"\",\"\",IF(INDEX(E_SourceStreams!$A:$N,EJ48,BE$7)=\"\",\"\",INDEX(E_SourceStreams!$A:$N,EJ48,BE$7)))","v":""},{"$f":"IF($E48=\"\",\"\",IF(INDEX(E_SourceStreams!$A:$N,EK48,BF$7)=\"\",\"\",INDEX(E_SourceStreams!$A:$N,EK48,BF$7)))","v":""},{"$f":"IF($E48=\"\",\"\",IF(INDEX(E_SourceStreams!$A:$N,EL48,BG$7)=\"\",\"\",INDEX(E_SourceStreams!$A:$N,EL48,BG$7)))","v":""},{"$f":"IF($E48=\"\",\"\",IF(INDEX(E_SourceStreams!$A:$N,EM48,BH$7)=\"\",\"\",INDEX(E_SourceStreams!$A:$N,EM48,BH$7)))","v":""},{"$f":"IF($E48=\"\",\"\",IF(INDEX(E_SourceStreams!$A:$N,EN48,BI$7)=\"\",\"\",INDEX(E_SourceStreams!$A:$N,EN48,BI$7)))","v":""},{"$f":"IF($E48=\"\",\"\",IF(INDEX(E_SourceStreams!$A:$N,EO48,BJ$7)=\"\",\"\",INDEX(E_SourceStreams!$A:$N,EO48,BJ$7)))","v":""},{"$f":"IF($E48=\"\",\"\",IF(INDEX(E_SourceStreams!$A:$N,EP48,BK$7)=\"\",\"\",INDEX(E_SourceStreams!$A:$N,EP48,BK$7)))","v":""},{"$f":"IF($E48=\"\",\"\",IF(INDEX(E_SourceStreams!$A:$N,EQ48,BL$7)=\"\",\"\",INDEX(E_SourceStreams!$A:$N,EQ48,BL$7)))","v":""},{"$f":"IF($E48=\"\",\"\",IF(INDEX(E_SourceStreams!$A:$N,ER48,BM$7)=\"\",\"\",INDEX(E_SourceStreams!$A:$N,ER48,BM$7)))","v":""},{"$f":"IF($E48=\"\",\"\",IF(INDEX(E_SourceStreams!$A:$N,ES48,BN$7)=\"\",\"\",INDEX(E_SourceStreams!$A:$N,ES48,BN$7)))","v":""},{"$f":"IF($E48=\"\",\"\",IF(INDEX(E_SourceStreams!$A:$N,ET48,BO$7)=\"\",\"\",INDEX(E_SourceStreams!$A:$N,ET48,BO$7)))","v":""},{"$f":"IF($E48=\"\",\"\",IF(INDEX(E_SourceStreams!$A:$N,EU48,BP$7)=\"\",\"\",INDEX(E_SourceStreams!$A:$N,EU48,BP$7)))","v":""},{"$f":"IF($E48=\"\",\"\",IF(INDEX(E_SourceStreams!$A:$N,EV48,BQ$7)=\"\",\"\",INDEX(E_SourceStreams!$A:$N,EV48,BQ$7)))","v":""},{"$f":"IF($E48=\"\",\"\",IF(INDEX(E_SourceStreams!$A:$N,EW48,BR$7)=\"\",\"\",INDEX(E_SourceStreams!$A:$N,EW48,BR$7)))","v":""},{"$f":"IF($E48=\"\",\"\",IF(INDEX(E_SourceStreams!$A:$N,EX48,BS$7)=\"\",\"\",INDEX(E_SourceStreams!$A:$N,EX48,BS$7)))","v":""},{"$f":"IF($E48=\"\",\"\",IF(INDEX(E_SourceStreams!$A:$N,EY48,BT$7)=\"\",\"\",INDEX(E_SourceStreams!$A:$N,EY48,BT$7)))","v":""},null,null,null,null,null,null,null,null,null,null,null,null,null,null,null,"SourceCategory_",{"$f":"INDEX(C_InstallationDescription!$A$226:$A$332,ROWS($CI$11:CI48))=\"ausblenden\"","v":false},"SourceStreamName_",null,2575,2577,2579,2581,2583,2585,2587,2587,2587,2587,2587,2590,2594,2595,2596,2603,2613,2613,2613,2613,2613,2613,2613,2604,2614,2614,2614,2614,2614,2614,2614,2605,2615,2615,2615,2615,2615,2615,2615,2606,2616,2616,2616,2616,2616,2616,2616,2607,2617,2617,2617,2617,2617,2617,2617,2608,2618,2618,2618,2618,2618,2618,2618,2624]
[null,{"$f":"IF(COUNTIF($CK$10:CK49,TRUE)>0,\"\",INDEX(C_InstallationDescription!$E$226:$E$242,ROWS($A$11:A49)))","v":""},{"$f":"IF($E49=\"\",\"\",INDEX(C_InstallationDescription!F:F,MATCH($B49,C_InstallationDescription!$E:$E,0)))","v":""},{"$f":"IF($E49=\"\",\"\",INDEX(C_InstallationDescription!I:I,MATCH($B49,C_InstallationDescription!$E:$E,0)))","v":""},{"$f":"IF($B49=\"\",\"\",INDEX(C_InstallationDescription!F:F,MATCH($CJ49,C_InstallationDescription!$Q:$Q,0)))","v":""},{"$f":"IF($E49=\"\",\"\",INDEX(C_InstallationDescription!L:L,MATCH($CJ49,C_InstallationDescription!$Q:$Q,0)))","v":""},{"$f":"IF($E49=\"\",\"\",INDEX(C_InstallationDescription!M:M,MATCH($CJ49,C_InstallationDescription!$Q:$Q,0)))","v":""},{"$f":"IF($E49=\"\",\"\",INDEX(C_InstallationDescription!N:N,MATCH($CJ49,C_InstallationDescription!$Q:$Q,0)))","v":""},{"$f":"IF($E49=\"\",\"\",IF(INDEX(E_SourceStreams!$A:$N,CN49,I$7)=\"\",\"\",INDEX(E_SourceStreams!$A:$N,CN49,I$7)))","v":""},{"$f":"IF($E49=\"\",\"\",IF(INDEX(E_SourceStreams!$A:$N,CO49,J$7)=\"\",\"\",INDEX(E_SourceStreams!$A:$N,CO49,J$7)))","v":""},{"$f":"IF($E49=\"\",\"\",IF(INDEX(E_SourceStreams!$A:$N,CP49,K$7)=\"\",\"\",INDEX(E_SourceStreams!$A:$N,CP49,K$7)))","v":""},{"$f":"IF($E49=\"\",\"\",IF(INDEX(E_SourceStreams!$A:$N,CQ49,L$7)=\"\",\"\",INDEX(E_SourceStreams!$A:$N,CQ49,L$7)))","v":""},{"$f":"IF($E49=\"\",\"\",IF(INDEX(E_SourceStreams!$A:$N,CR49,M$7)=\"\",\"\",INDEX(E_SourceStreams!$A:$N,CR49,M$7)))","v":""},{"$f":"IF($E49=\"\",\"\",IF(INDEX(E_SourceStreams!$A:$N,CS49,N$7)=\"\",\"\",INDEX(E_SourceStreams!$A:$N,CS49,N$7)))","v":""},{"$f":"IF($E49=\"\",\"\",IF(INDEX(E_SourceStreams!$A:$N,CT49,O$7)=\"\",\"\",INDEX(E_SourceStreams!$A:$N,CT49,O$7)))","v":""},{"$f":"IF($E49=\"\",\"\",IF(INDEX(E_SourceStreams!$A:$N,CU49,P$7)=\"\",\"\",INDEX(E_SourceStreams!$A:$N,CU49,P$7)))","v":""},{"$f":"IF($E49=\"\",\"\",IF(INDEX(E_SourceStreams!$A:$N,CV49,Q$7)=\"\",\"\",INDEX(E_SourceStreams!$A:$N,CV49,Q$7)))","v":""},{"$f":"IF($E49=\"\",\"\",IF(INDEX(E_SourceStreams!$A:$N,CW49,R$7)=\"\",\"\",INDEX(E_SourceStreams!$A:$N,CW49,R$7)))","v":""},{"$f":"IF($E49=\"\",\"\",IF(INDEX(E_SourceStreams!$A:$N,CX49,S$7)=\"\",\"\",INDEX(E_SourceStreams!$A:$N,CX49,S$7)))","v":""},{"$f":"IF($E49=\"\",\"\",IF(INDEX(E_SourceStreams!$A:$N,CY49,T$7)=\"\",\"\",INDEX(E_SourceStreams!$A:$N,CY49,T$7)))","v":""},{"$f":"IF($E49=\"\",\"\",IF(INDEX(E_SourceStreams!$A:$N,CZ49,U$7)=\"\",\"\",INDEX(E_SourceStreams!$A:$N,CZ49,U$7)))","v":""},{"$f":"IF($E49=\"\",\"\",IF(INDEX(E_SourceStreams!$A:$N,DA49,V$7)=\"\",\"\",INDEX(E_SourceStreams!$A:$N,DA49,V$7)))","v":""},{"$f":"IF($E49=\"\",\"\",IF(INDEX(E_SourceStreams!$A:$N,DB49,W$7)=\"\",\"\",INDEX(E_SourceStreams!$A:$N,DB49,W$7)))","v":""},{"$f":"IF($E49=\"\",\"\",IF(INDEX(E_SourceStreams!$A:$N,DC49,X$7)=\"\",\"\",INDEX(E_SourceStreams!$A:$N,DC49,X$7)))","v":""},{"$f":"IF($E49=\"\",\"\",IF(INDEX(E_SourceStreams!$A:$N,DD49,Y$7)=\"\",\"\",INDEX(E_SourceStreams!$A:$N,DD49,Y$7)))","v":""},{"$f":"IF($E49=\"\",\"\",IF(INDEX(E_SourceStreams!$A:$N,DE49,Z$7)=\"\",\"\",INDEX(E_SourceStreams!$A:$N,DE49,Z$7)))","v":""},{"$f":"IF($E49=\"\",\"\",IF(INDEX(E_SourceStreams!$A:$N,DF49,AA$7)=\"\",\"\",INDEX(E_SourceStreams!$A:$N,DF49,AA$7)))","v":""},{"$f":"IF($E49=\"\",\"\",IF(INDEX(E_SourceStreams!$A:$N,DG49,AB$7)=\"\",\"\",INDEX(E_SourceStreams!$A:$N,DG49,AB$7)))","v":""},{"$f":"IF($E49=\"\",\"\",IF(INDEX(E_SourceStreams!$A:$N,DH49,AC$7)=\"\",\"\",INDEX(E_SourceStreams!$A:$N,DH49,AC$7)))","v":""},{"$f":"IF($E49=\"\",\"\",IF(INDEX(E_SourceStreams!$A:$N,DI49,AD$7)=\"\",\"\",INDEX(E_SourceStreams!$A:$N,DI49,AD$7)))","v":""},{"$f":"IF($E49=\"\",\"\",IF(INDEX(E_SourceStreams!$A:$N,DJ49,AE$7)=\"\",\"\",INDEX(E_SourceStreams!$A:$N,DJ49,AE$7)))","v":""},{"$f":"IF($E49=\"\",\"\",IF(INDEX(E_SourceStreams!$A:$N,DK49,AF$7)=\"\",\"\",INDEX(E_SourceStreams!$A:$N,DK49,AF$7)))","v":""},{"$f":"IF($E49=\"\",\"\",IF(INDEX(E_SourceStreams!$A:$N,DL49,AG$7)=\"\",\"\",INDEX(E_SourceStreams!$A:$N,DL49,AG$7)))","v":""},{"$f":"IF($E49=\"\",\"\",IF(INDEX(E_SourceStreams!$A:$N,DM49,AH$7)=\"\",\"\",INDEX(E_SourceStreams!$A:$N,DM49,AH$7)))","v":""},{"$f":"IF($E49=\"\",\"\",IF(INDEX(E_SourceStreams!$A:$N,DN49,AI$7)=\"\",\"\",INDEX(E_SourceStreams!$A:$N,DN49,AI$7)))","v":""},{"$f":"IF($E49=\"\",\"\",IF(INDEX(E_SourceStreams!$A:$N,DO49,AJ$7)=\"\",\"\",INDEX(E_SourceStreams!$A:$N,DO49,AJ$7)))","v":""},{"$f":"IF($E49=\"\",\"\",IF(INDEX(E_SourceStreams!$A:$N,DP49,AK$7)=\"\",\"\",INDEX(E_SourceStreams!$A:$N,DP49,AK$7)))","v":""},{"$f":"IF($E49=\"\",\"\",IF(INDEX(E_SourceStreams!$A:$N,DQ49,AL$7)=\"\",\"\",INDEX(E_SourceStreams!$A:$N,DQ49,AL$7)))","v":""},{"$f":"IF($E49=\"\",\"\",IF(INDEX(E_SourceStreams!$A:$N,DR49,AM$7)=\"\",\"\",INDEX(E_SourceStreams!$A:$N,DR49,AM$7)))","v":""},{"$f":"IF($E49=\"\",\"\",IF(INDEX(E_SourceStreams!$A:$N,DS49,AN$7)=\"\",\"\",INDEX(E_SourceStreams!$A:$N,DS49,AN$7)))","v":""},{"$f":"IF($E49=\"\",\"\",IF(INDEX(E_SourceStreams!$A:$N,DT49,AO$7)=\"\",\"\",INDEX(E_SourceStreams!$A:$N,DT49,AO$7)))","v":""},{"$f":"IF($E49=\"\",\"\",IF(INDEX(E_SourceStreams!$A:$N,DU49,AP$7)=\"\",\"\",INDEX(E_SourceStreams!$A:$N,DU49,AP$7)))","v":""},{"$f":"IF($E49=\"\",\"\",IF(INDEX(E_SourceStreams!$A:$N,DV49,AQ$7)=\"\",\"\",INDEX(E_SourceStreams!$A:$N,DV49,AQ$7)))","v":""},{"$f":"IF($E49=\"\",\"\",IF(INDEX(E_SourceStreams!$A:$N,DW49,AR$7)=\"\",\"\",INDEX(E_SourceStreams!$A:$N,DW49,AR$7)))","v":""},{"$f":"IF($E49=\"\",\"\",IF(INDEX(E_SourceStreams!$A:$N,DX49,AS$7)=\"\",\"\",INDEX(E_SourceStreams!$A:$N,DX49,AS$7)))","v":""},{"$f":"IF($E49=\"\",\"\",IF(INDEX(E_SourceStreams!$A:$N,DY49,AT$7)=\"\",\"\",INDEX(E_SourceStreams!$A:$N,DY49,AT$7)))","v":""},{"$f":"IF($E49=\"\",\"\",IF(INDEX(E_SourceStreams!$A:$N,DZ49,AU$7)=\"\",\"\",INDEX(E_SourceStreams!$A:$N,DZ49,AU$7)))","v":""},{"$f":"IF($E49=\"\",\"\",IF(INDEX(E_SourceStreams!$A:$N,EA49,AV$7)=\"\",\"\",INDEX(E_SourceStreams!$A:$N,EA49,AV$7)))","v":""},{"$f":"IF($E49=\"\",\"\",IF(INDEX(E_SourceStreams!$A:$N,EB49,AW$7)=\"\",\"\",INDEX(E_SourceStreams!$A:$N,EB49,AW$7)))","v":""},{"$f":"IF($E49=\"\",\"\",IF(INDEX(E_SourceStreams!$A:$N,EC49,AX$7)=\"\",\"\",INDEX(E_SourceStreams!$A:$N,EC49,AX$7)))","v":""},{"$f":"IF($E49=\"\",\"\",IF(INDEX(E_SourceStreams!$A:$N,ED49,AY$7)=\"\",\"\",INDEX(E_SourceStreams!$A:$N,ED49,AY$7)))","v":""},{"$f":"IF($E49=\"\",\"\",IF(INDEX(E_SourceStreams!$A:$N,EE49,AZ$7)=\"\",\"\",INDEX(E_SourceStreams!$A:$N,EE49,AZ$7)))","v":""},{"$f":"IF($E49=\"\",\"\",IF(INDEX(E_SourceStreams!$A:$N,EF49,BA$7)=\"\",\"\",INDEX(E_SourceStreams!$A:$N,EF49,BA$7)))","v":""},{"$f":"IF($E49=\"\",\"\",IF(INDEX(E_SourceStreams!$A:$N,EG49,BB$7)=\"\",\"\",INDEX(E_SourceStreams!$A:$N,EG49,BB$7)))","v":""},{"$f":"IF($E49=\"\",\"\",IF(INDEX(E_SourceStreams!$A:$N,EH49,BC$7)=\"\",\"\",INDEX(E_SourceStreams!$A:$N,EH49,BC$7)))","v":""},{"$f":"IF($E49=\"\",\"\",IF(INDEX(E_SourceStreams!$A:$N,EI49,BD$7)=\"\",\"\",INDEX(E_SourceStreams!$A:$N,EI49,BD$7)))","v":""},{"$f":"IF($E49=\"\",\"\",IF(INDEX(E_SourceStreams!$A:$N,EJ49,BE$7)=\"\",\"\",INDEX(E_SourceStreams!$A:$N,EJ49,BE$7)))","v":""},{"$f":"IF($E49=\"\",\"\",IF(INDEX(E_SourceStreams!$A:$N,EK49,BF$7)=\"\",\"\",INDEX(E_SourceStreams!$A:$N,EK49,BF$7)))","v":""},{"$f":"IF($E49=\"\",\"\",IF(INDEX(E_SourceStreams!$A:$N,EL49,BG$7)=\"\",\"\",INDEX(E_SourceStreams!$A:$N,EL49,BG$7)))","v":""},{"$f":"IF($E49=\"\",\"\",IF(INDEX(E_SourceStreams!$A:$N,EM49,BH$7)=\"\",\"\",INDEX(E_SourceStreams!$A:$N,EM49,BH$7)))","v":""},{"$f":"IF($E49=\"\",\"\",IF(INDEX(E_SourceStreams!$A:$N,EN49,BI$7)=\"\",\"\",INDEX(E_SourceStreams!$A:$N,EN49,BI$7)))","v":""},{"$f":"IF($E49=\"\",\"\",IF(INDEX(E_SourceStreams!$A:$N,EO49,BJ$7)=\"\",\"\",INDEX(E_SourceStreams!$A:$N,EO49,BJ$7)))","v":""},{"$f":"IF($E49=\"\",\"\",IF(INDEX(E_SourceStreams!$A:$N,EP49,BK$7)=\"\",\"\",INDEX(E_SourceStreams!$A:$N,EP49,BK$7)))","v":""},{"$f":"IF($E49=\"\",\"\",IF(INDEX(E_SourceStreams!$A:$N,EQ49,BL$7)=\"\",\"\",INDEX(E_SourceStreams!$A:$N,EQ49,BL$7)))","v":""},{"$f":"IF($E49=\"\",\"\",IF(INDEX(E_SourceStreams!$A:$N,ER49,BM$7)=\"\",\"\",INDEX(E_SourceStreams!$A:$N,ER49,BM$7)))","v":""},{"$f":"IF($E49=\"\",\"\",IF(INDEX(E_SourceStreams!$A:$N,ES49,BN$7)=\"\",\"\",INDEX(E_SourceStreams!$A:$N,ES49,BN$7)))","v":""},{"$f":"IF($E49=\"\",\"\",IF(INDEX(E_SourceStreams!$A:$N,ET49,BO$7)=\"\",\"\",INDEX(E_SourceStreams!$A:$N,ET49,BO$7)))","v":""},{"$f":"IF($E49=\"\",\"\",IF(INDEX(E_SourceStreams!$A:$N,EU49,BP$7)=\"\",\"\",INDEX(E_SourceStreams!$A:$N,EU49,BP$7)))","v":""},{"$f":"IF($E49=\"\",\"\",IF(INDEX(E_SourceStreams!$A:$N,EV49,BQ$7)=\"\",\"\",INDEX(E_SourceStreams!$A:$N,EV49,BQ$7)))","v":""},{"$f":"IF($E49=\"\",\"\",IF(INDEX(E_SourceStreams!$A:$N,EW49,BR$7)=\"\",\"\",INDEX(E_SourceStreams!$A:$N,EW49,BR$7)))","v":""},{"$f":"IF($E49=\"\",\"\",IF(INDEX(E_SourceStreams!$A:$N,EX49,BS$7)=\"\",\"\",INDEX(E_SourceStreams!$A:$N,EX49,BS$7)))","v":""},{"$f":"IF($E49=\"\",\"\",IF(INDEX(E_SourceStreams!$A:$N,EY49,BT$7)=\"\",\"\",INDEX(E_SourceStreams!$A:$N,EY49,BT$7)))","v":""},null,null,null,null,null,null,null,null,null,null,null,null,null,null,null,"SourceCategory_",{"$f":"INDEX(C_InstallationDescription!$A$226:$A$332,ROWS($CI$11:CI49))=\"ausblenden\"","v":false},"SourceStreamName_",null,2641,2643,2645,2647,2649,2651,2653,2653,2653,2653,2653,2656,2660,2661,2662,2669,2679,2679,2679,2679,2679,2679,2679,2670,2680,2680,2680,2680,2680,2680,2680,2671,2681,2681,2681,2681,2681,2681,2681,2672,2682,2682,2682,2682,2682,2682,2682,2673,2683,2683,2683,2683,2683,2683,2683,2674,2684,2684,2684,2684,2684,2684,2684,2690]
[null,{"$f":"IF(COUNTIF($CK$10:CK50,TRUE)>0,\"\",INDEX(C_InstallationDescription!$E$226:$E$242,ROWS($A$11:A50)))","v":""},{"$f":"IF($E50=\"\",\"\",INDEX(C_InstallationDescription!F:F,MATCH($B50,C_InstallationDescription!$E:$E,0)))","v":""},{"$f":"IF($E50=\"\",\"\",INDEX(C_InstallationDescription!I:I,MATCH($B50,C_InstallationDescription!$E:$E,0)))","v":""},{"$f":"IF($B50=\"\",\"\",INDEX(C_InstallationDescription!F:F,MATCH($CJ50,C_InstallationDescription!$Q:$Q,0)))","v":""},{"$f":"IF($E50=\"\",\"\",INDEX(C_InstallationDescription!L:L,MATCH($CJ50,C_InstallationDescription!$Q:$Q,0)))","v":""},{"$f":"IF($E50=\"\",\"\",INDEX(C_InstallationDescription!M:M,MATCH($CJ50,C_InstallationDescription!$Q:$Q,0)))","v":""},{"$f":"IF($E50=\"\",\"\",INDEX(C_InstallationDescription!N:N,MATCH($CJ50,C_InstallationDescription!$Q:$Q,0)))","v":""},{"$f":"IF($E50=\"\",\"\",IF(INDEX(E_SourceStreams!$A:$N,CN50,I$7)=\"\",\"\",INDEX(E_SourceStreams!$A:$N,CN50,I$7)))","v":""},{"$f":"IF($E50=\"\",\"\",IF(INDEX(E_SourceStreams!$A:$N,CO50,J$7)=\"\",\"\",INDEX(E_SourceStreams!$A:$N,CO50,J$7)))","v":""},{"$f":"IF($E50=\"\",\"\",IF(INDEX(E_SourceStreams!$A:$N,CP50,K$7)=\"\",\"\",INDEX(E_SourceStreams!$A:$N,CP50,K$7)))","v":""},{"$f":"IF($E50=\"\",\"\",IF(INDEX(E_SourceStreams!$A:$N,CQ50,L$7)=\"\",\"\",INDEX(E_SourceStreams!$A:$N,CQ50,L$7)))","v":""},{"$f":"IF($E50=\"\",\"\",IF(INDEX(E_SourceStreams!$A:$N,CR50,M$7)=\"\",\"\",INDEX(E_SourceStreams!$A:$N,CR50,M$7)))","v":""},{"$f":"IF($E50=\"\",\"\",IF(INDEX(E_SourceStreams!$A:$N,CS50,N$7)=\"\",\"\",INDEX(E_SourceStreams!$A:$N,CS50,N$7)))","v":""},{"$f":"IF($E50=\"\",\"\",IF(INDEX(E_SourceStreams!$A:$N,CT50,O$7)=\"\",\"\",INDEX(E_SourceStreams!$A:$N,CT50,O$7)))","v":""},{"$f":"IF($E50=\"\",\"\",IF(INDEX(E_SourceStreams!$A:$N,CU50,P$7)=\"\",\"\",INDEX(E_SourceStreams!$A:$N,CU50,P$7)))","v":""},{"$f":"IF($E50=\"\",\"\",IF(INDEX(E_SourceStreams!$A:$N,CV50,Q$7)=\"\",\"\",INDEX(E_SourceStreams!$A:$N,CV50,Q$7)))","v":""},{"$f":"IF($E50=\"\",\"\",IF(INDEX(E_SourceStreams!$A:$N,CW50,R$7)=\"\",\"\",INDEX(E_SourceStreams!$A:$N,CW50,R$7)))","v":""},{"$f":"IF($E50=\"\",\"\",IF(INDEX(E_SourceStreams!$A:$N,CX50,S$7)=\"\",\"\",INDEX(E_SourceStreams!$A:$N,CX50,S$7)))","v":""},{"$f":"IF($E50=\"\",\"\",IF(INDEX(E_SourceStreams!$A:$N,CY50,T$7)=\"\",\"\",INDEX(E_SourceStreams!$A:$N,CY50,T$7)))","v":""},{"$f":"IF($E50=\"\",\"\",IF(INDEX(E_SourceStreams!$A:$N,CZ50,U$7)=\"\",\"\",INDEX(E_SourceStreams!$A:$N,CZ50,U$7)))","v":""},{"$f":"IF($E50=\"\",\"\",IF(INDEX(E_SourceStreams!$A:$N,DA50,V$7)=\"\",\"\",INDEX(E_SourceStreams!$A:$N,DA50,V$7)))","v":""},{"$f":"IF($E50=\"\",\"\",IF(INDEX(E_SourceStreams!$A:$N,DB50,W$7)=\"\",\"\",INDEX(E_SourceStreams!$A:$N,DB50,W$7)))","v":""},{"$f":"IF($E50=\"\",\"\",IF(INDEX(E_SourceStreams!$A:$N,DC50,X$7)=\"\",\"\",INDEX(E_SourceStreams!$A:$N,DC50,X$7)))","v":""},{"$f":"IF($E50=\"\",\"\",IF(INDEX(E_SourceStreams!$A:$N,DD50,Y$7)=\"\",\"\",INDEX(E_SourceStreams!$A:$N,DD50,Y$7)))","v":""},{"$f":"IF($E50=\"\",\"\",IF(INDEX(E_SourceStreams!$A:$N,DE50,Z$7)=\"\",\"\",INDEX(E_SourceStreams!$A:$N,DE50,Z$7)))","v":""},{"$f":"IF($E50=\"\",\"\",IF(INDEX(E_SourceStreams!$A:$N,DF50,AA$7)=\"\",\"\",INDEX(E_SourceStreams!$A:$N,DF50,AA$7)))","v":""},{"$f":"IF($E50=\"\",\"\",IF(INDEX(E_SourceStreams!$A:$N,DG50,AB$7)=\"\",\"\",INDEX(E_SourceStreams!$A:$N,DG50,AB$7)))","v":""},{"$f":"IF($E50=\"\",\"\",IF(INDEX(E_SourceStreams!$A:$N,DH50,AC$7)=\"\",\"\",INDEX(E_SourceStreams!$A:$N,DH50,AC$7)))","v":""},{"$f":"IF($E50=\"\",\"\",IF(INDEX(E_SourceStreams!$A:$N,DI50,AD$7)=\"\",\"\",INDEX(E_SourceStreams!$A:$N,DI50,AD$7)))","v":""},{"$f":"IF($E50=\"\",\"\",IF(INDEX(E_SourceStreams!$A:$N,DJ50,AE$7)=\"\",\"\",INDEX(E_SourceStreams!$A:$N,DJ50,AE$7)))","v":""},{"$f":"IF($E50=\"\",\"\",IF(INDEX(E_SourceStreams!$A:$N,DK50,AF$7)=\"\",\"\",INDEX(E_SourceStreams!$A:$N,DK50,AF$7)))","v":""},{"$f":"IF($E50=\"\",\"\",IF(INDEX(E_SourceStreams!$A:$N,DL50,AG$7)=\"\",\"\",INDEX(E_SourceStreams!$A:$N,DL50,AG$7)))","v":""},{"$f":"IF($E50=\"\",\"\",IF(INDEX(E_SourceStreams!$A:$N,DM50,AH$7)=\"\",\"\",INDEX(E_SourceStreams!$A:$N,DM50,AH$7)))","v":""},{"$f":"IF($E50=\"\",\"\",IF(INDEX(E_SourceStreams!$A:$N,DN50,AI$7)=\"\",\"\",INDEX(E_SourceStreams!$A:$N,DN50,AI$7)))","v":""},{"$f":"IF($E50=\"\",\"\",IF(INDEX(E_SourceStreams!$A:$N,DO50,AJ$7)=\"\",\"\",INDEX(E_SourceStreams!$A:$N,DO50,AJ$7)))","v":""},{"$f":"IF($E50=\"\",\"\",IF(INDEX(E_SourceStreams!$A:$N,DP50,AK$7)=\"\",\"\",INDEX(E_SourceStreams!$A:$N,DP50,AK$7)))","v":""},{"$f":"IF($E50=\"\",\"\",IF(INDEX(E_SourceStreams!$A:$N,DQ50,AL$7)=\"\",\"\",INDEX(E_SourceStreams!$A:$N,DQ50,AL$7)))","v":""},{"$f":"IF($E50=\"\",\"\",IF(INDEX(E_SourceStreams!$A:$N,DR50,AM$7)=\"\",\"\",INDEX(E_SourceStreams!$A:$N,DR50,AM$7)))","v":""},{"$f":"IF($E50=\"\",\"\",IF(INDEX(E_SourceStreams!$A:$N,DS50,AN$7)=\"\",\"\",INDEX(E_SourceStreams!$A:$N,DS50,AN$7)))","v":""},{"$f":"IF($E50=\"\",\"\",IF(INDEX(E_SourceStreams!$A:$N,DT50,AO$7)=\"\",\"\",INDEX(E_SourceStreams!$A:$N,DT50,AO$7)))","v":""},{"$f":"IF($E50=\"\",\"\",IF(INDEX(E_SourceStreams!$A:$N,DU50,AP$7)=\"\",\"\",INDEX(E_SourceStreams!$A:$N,DU50,AP$7)))","v":""},{"$f":"IF($E50=\"\",\"\",IF(INDEX(E_SourceStreams!$A:$N,DV50,AQ$7)=\"\",\"\",INDEX(E_SourceStreams!$A:$N,DV50,AQ$7)))","v":""},{"$f":"IF($E50=\"\",\"\",IF(INDEX(E_SourceStreams!$A:$N,DW50,AR$7)=\"\",\"\",INDEX(E_SourceStreams!$A:$N,DW50,AR$7)))","v":""},{"$f":"IF($E50=\"\",\"\",IF(INDEX(E_SourceStreams!$A:$N,DX50,AS$7)=\"\",\"\",INDEX(E_SourceStreams!$A:$N,DX50,AS$7)))","v":""},{"$f":"IF($E50=\"\",\"\",IF(INDEX(E_SourceStreams!$A:$N,DY50,AT$7)=\"\",\"\",INDEX(E_SourceStreams!$A:$N,DY50,AT$7)))","v":""},{"$f":"IF($E50=\"\",\"\",IF(INDEX(E_SourceStreams!$A:$N,DZ50,AU$7)=\"\",\"\",INDEX(E_SourceStreams!$A:$N,DZ50,AU$7)))","v":""},{"$f":"IF($E50=\"\",\"\",IF(INDEX(E_SourceStreams!$A:$N,EA50,AV$7)=\"\",\"\",INDEX(E_SourceStreams!$A:$N,EA50,AV$7)))","v":""},{"$f":"IF($E50=\"\",\"\",IF(INDEX(E_SourceStreams!$A:$N,EB50,AW$7)=\"\",\"\",INDEX(E_SourceStreams!$A:$N,EB50,AW$7)))","v":""},{"$f":"IF($E50=\"\",\"\",IF(INDEX(E_SourceStreams!$A:$N,EC50,AX$7)=\"\",\"\",INDEX(E_SourceStreams!$A:$N,EC50,AX$7)))","v":""},{"$f":"IF($E50=\"\",\"\",IF(INDEX(E_SourceStreams!$A:$N,ED50,AY$7)=\"\",\"\",INDEX(E_SourceStreams!$A:$N,ED50,AY$7)))","v":""},{"$f":"IF($E50=\"\",\"\",IF(INDEX(E_SourceStreams!$A:$N,EE50,AZ$7)=\"\",\"\",INDEX(E_SourceStreams!$A:$N,EE50,AZ$7)))","v":""},{"$f":"IF($E50=\"\",\"\",IF(INDEX(E_SourceStreams!$A:$N,EF50,BA$7)=\"\",\"\",INDEX(E_SourceStreams!$A:$N,EF50,BA$7)))","v":""},{"$f":"IF($E50=\"\",\"\",IF(INDEX(E_SourceStreams!$A:$N,EG50,BB$7)=\"\",\"\",INDEX(E_SourceStreams!$A:$N,EG50,BB$7)))","v":""},{"$f":"IF($E50=\"\",\"\",IF(INDEX(E_SourceStreams!$A:$N,EH50,BC$7)=\"\",\"\",INDEX(E_SourceStreams!$A:$N,EH50,BC$7)))","v":""},{"$f":"IF($E50=\"\",\"\",IF(INDEX(E_SourceStreams!$A:$N,EI50,BD$7)=\"\",\"\",INDEX(E_SourceStreams!$A:$N,EI50,BD$7)))","v":""},{"$f":"IF($E50=\"\",\"\",IF(INDEX(E_SourceStreams!$A:$N,EJ50,BE$7)=\"\",\"\",INDEX(E_SourceStreams!$A:$N,EJ50,BE$7)))","v":""},{"$f":"IF($E50=\"\",\"\",IF(INDEX(E_SourceStreams!$A:$N,EK50,BF$7)=\"\",\"\",INDEX(E_SourceStreams!$A:$N,EK50,BF$7)))","v":""},{"$f":"IF($E50=\"\",\"\",IF(INDEX(E_SourceStreams!$A:$N,EL50,BG$7)=\"\",\"\",INDEX(E_SourceStreams!$A:$N,EL50,BG$7)))","v":""},{"$f":"IF($E50=\"\",\"\",IF(INDEX(E_SourceStreams!$A:$N,EM50,BH$7)=\"\",\"\",INDEX(E_SourceStreams!$A:$N,EM50,BH$7)))","v":""},{"$f":"IF($E50=\"\",\"\",IF(INDEX(E_SourceStreams!$A:$N,EN50,BI$7)=\"\",\"\",INDEX(E_SourceStreams!$A:$N,EN50,BI$7)))","v":""},{"$f":"IF($E50=\"\",\"\",IF(INDEX(E_SourceStreams!$A:$N,EO50,BJ$7)=\"\",\"\",INDEX(E_SourceStreams!$A:$N,EO50,BJ$7)))","v":""},{"$f":"IF($E50=\"\",\"\",IF(INDEX(E_SourceStreams!$A:$N,EP50,BK$7)=\"\",\"\",INDEX(E_SourceStreams!$A:$N,EP50,BK$7)))","v":""},{"$f":"IF($E50=\"\",\"\",IF(INDEX(E_SourceStreams!$A:$N,EQ50,BL$7)=\"\",\"\",INDEX(E_SourceStreams!$A:$N,EQ50,BL$7)))","v":""},{"$f":"IF($E50=\"\",\"\",IF(INDEX(E_SourceStreams!$A:$N,ER50,BM$7)=\"\",\"\",INDEX(E_SourceStreams!$A:$N,ER50,BM$7)))","v":""},{"$f":"IF($E50=\"\",\"\",IF(INDEX(E_SourceStreams!$A:$N,ES50,BN$7)=\"\",\"\",INDEX(E_SourceStreams!$A:$N,ES50,BN$7)))","v":""},{"$f":"IF($E50=\"\",\"\",IF(INDEX(E_SourceStreams!$A:$N,ET50,BO$7)=\"\",\"\",INDEX(E_SourceStreams!$A:$N,ET50,BO$7)))","v":""},{"$f":"IF($E50=\"\",\"\",IF(INDEX(E_SourceStreams!$A:$N,EU50,BP$7)=\"\",\"\",INDEX(E_SourceStreams!$A:$N,EU50,BP$7)))","v":""},{"$f":"IF($E50=\"\",\"\",IF(INDEX(E_SourceStreams!$A:$N,EV50,BQ$7)=\"\",\"\",INDEX(E_SourceStreams!$A:$N,EV50,BQ$7)))","v":""},{"$f":"IF($E50=\"\",\"\",IF(INDEX(E_SourceStreams!$A:$N,EW50,BR$7)=\"\",\"\",INDEX(E_SourceStreams!$A:$N,EW50,BR$7)))","v":""},{"$f":"IF($E50=\"\",\"\",IF(INDEX(E_SourceStreams!$A:$N,EX50,BS$7)=\"\",\"\",INDEX(E_SourceStreams!$A:$N,EX50,BS$7)))","v":""},{"$f":"IF($E50=\"\",\"\",IF(INDEX(E_SourceStreams!$A:$N,EY50,BT$7)=\"\",\"\",INDEX(E_SourceStreams!$A:$N,EY50,BT$7)))","v":""},null,null,null,null,null,null,null,null,null,null,null,null,null,null,null,"SourceCategory_",{"$f":"INDEX(C_InstallationDescription!$A$226:$A$332,ROWS($CI$11:CI50))=\"ausblenden\"","v":false},"SourceStreamName_",null,2707,2709,2711,2713,2715,2717,2719,2719,2719,2719,2719,2722,2726,2727,2728,2735,2745,2745,2745,2745,2745,2745,2745,2736,2746,2746,2746,2746,2746,2746,2746,2737,2747,2747,2747,2747,2747,2747,2747,2738,2748,2748,2748,2748,2748,2748,2748,2739,2749,2749,2749,2749,2749,2749,2749,2740,2750,2750,2750,2750,2750,2750,2750,2756]
[null,{"$f":"IF(COUNTIF($CK$10:CK51,TRUE)>0,\"\",INDEX(C_InstallationDescription!$E$226:$E$242,ROWS($A$11:A51)))","v":""},{"$f":"IF($E51=\"\",\"\",INDEX(C_InstallationDescription!F:F,MATCH($B51,C_InstallationDescription!$E:$E,0)))","v":""},{"$f":"IF($E51=\"\",\"\",INDEX(C_InstallationDescription!I:I,MATCH($B51,C_InstallationDescription!$E:$E,0)))","v":""},{"$f":"IF($B51=\"\",\"\",INDEX(C_InstallationDescription!F:F,MATCH($CJ51,C_InstallationDescription!$Q:$Q,0)))","v":""},{"$f":"IF($E51=\"\",\"\",INDEX(C_InstallationDescription!L:L,MATCH($CJ51,C_InstallationDescription!$Q:$Q,0)))","v":""},{"$f":"IF($E51=\"\",\"\",INDEX(C_InstallationDescription!M:M,MATCH($CJ51,C_InstallationDescription!$Q:$Q,0)))","v":""},{"$f":"IF($E51=\"\",\"\",INDEX(C_InstallationDescription!N:N,MATCH($CJ51,C_InstallationDescription!$Q:$Q,0)))","v":""},{"$f":"IF($E51=\"\",\"\",IF(INDEX(E_SourceStreams!$A:$N,CN51,I$7)=\"\",\"\",INDEX(E_SourceStreams!$A:$N,CN51,I$7)))","v":""},{"$f":"IF($E51=\"\",\"\",IF(INDEX(E_SourceStreams!$A:$N,CO51,J$7)=\"\",\"\",INDEX(E_SourceStreams!$A:$N,CO51,J$7)))","v":""},{"$f":"IF($E51=\"\",\"\",IF(INDEX(E_SourceStreams!$A:$N,CP51,K$7)=\"\",\"\",INDEX(E_SourceStreams!$A:$N,CP51,K$7)))","v":""},{"$f":"IF($E51=\"\",\"\",IF(INDEX(E_SourceStreams!$A:$N,CQ51,L$7)=\"\",\"\",INDEX(E_SourceStreams!$A:$N,CQ51,L$7)))","v":""},{"$f":"IF($E51=\"\",\"\",IF(INDEX(E_SourceStreams!$A:$N,CR51,M$7)=\"\",\"\",INDEX(E_SourceStreams!$A:$N,CR51,M$7)))","v":""},{"$f":"IF($E51=\"\",\"\",IF(INDEX(E_SourceStreams!$A:$N,CS51,N$7)=\"\",\"\",INDEX(E_SourceStreams!$A:$N,CS51,N$7)))","v":""},{"$f":"IF($E51=\"\",\"\",IF(INDEX(E_SourceStreams!$A:$N,CT51,O$7)=\"\",\"\",INDEX(E_SourceStreams!$A:$N,CT51,O$7)))","v":""},{"$f":"IF($E51=\"\",\"\",IF(INDEX(E_SourceStreams!$A:$N,CU51,P$7)=\"\",\"\",INDEX(E_SourceStreams!$A:$N,CU51,P$7)))","v":""},{"$f":"IF($E51=\"\",\"\",IF(INDEX(E_SourceStreams!$A:$N,CV51,Q$7)=\"\",\"\",INDEX(E_SourceStreams!$A:$N,CV51,Q$7)))","v":""},{"$f":"IF($E51=\"\",\"\",IF(INDEX(E_SourceStreams!$A:$N,CW51,R$7)=\"\",\"\",INDEX(E_SourceStreams!$A:$N,CW51,R$7)))","v":""},{"$f":"IF($E51=\"\",\"\",IF(INDEX(E_SourceStreams!$A:$N,CX51,S$7)=\"\",\"\",INDEX(E_SourceStreams!$A:$N,CX51,S$7)))","v":""},{"$f":"IF($E51=\"\",\"\",IF(INDEX(E_SourceStreams!$A:$N,CY51,T$7)=\"\",\"\",INDEX(E_SourceStreams!$A:$N,CY51,T$7)))","v":""},{"$f":"IF($E51=\"\",\"\",IF(INDEX(E_SourceStreams!$A:$N,CZ51,U$7)=\"\",\"\",INDEX(E_SourceStreams!$A:$N,CZ51,U$7)))","v":""},{"$f":"IF($E51=\"\",\"\",IF(INDEX(E_SourceStreams!$A:$N,DA51,V$7)=\"\",\"\",INDEX(E_SourceStreams!$A:$N,DA51,V$7)))","v":""},{"$f":"IF($E51=\"\",\"\",IF(INDEX(E_SourceStreams!$A:$N,DB51,W$7)=\"\",\"\",INDEX(E_SourceStreams!$A:$N,DB51,W$7)))","v":""},{"$f":"IF($E51=\"\",\"\",IF(INDEX(E_SourceStreams!$A:$N,DC51,X$7)=\"\",\"\",INDEX(E_SourceStreams!$A:$N,DC51,X$7)))","v":""},{"$f":"IF($E51=\"\",\"\",IF(INDEX(E_SourceStreams!$A:$N,DD51,Y$7)=\"\",\"\",INDEX(E_SourceStreams!$A:$N,DD51,Y$7)))","v":""},{"$f":"IF($E51=\"\",\"\",IF(INDEX(E_SourceStreams!$A:$N,DE51,Z$7)=\"\",\"\",INDEX(E_SourceStreams!$A:$N,DE51,Z$7)))","v":""},{"$f":"IF($E51=\"\",\"\",IF(INDEX(E_SourceStreams!$A:$N,DF51,AA$7)=\"\",\"\",INDEX(E_SourceStreams!$A:$N,DF51,AA$7)))","v":""},{"$f":"IF($E51=\"\",\"\",IF(INDEX(E_SourceStreams!$A:$N,DG51,AB$7)=\"\",\"\",INDEX(E_SourceStreams!$A:$N,DG51,AB$7)))","v":""},{"$f":"IF($E51=\"\",\"\",IF(INDEX(E_SourceStreams!$A:$N,DH51,AC$7)=\"\",\"\",INDEX(E_SourceStreams!$A:$N,DH51,AC$7)))","v":""},{"$f":"IF($E51=\"\",\"\",IF(INDEX(E_SourceStreams!$A:$N,DI51,AD$7)=\"\",\"\",INDEX(E_SourceStreams!$A:$N,DI51,AD$7)))","v":""},{"$f":"IF($E51=\"\",\"\",IF(INDEX(E_SourceStreams!$A:$N,DJ51,AE$7)=\"\",\"\",INDEX(E_SourceStreams!$A:$N,DJ51,AE$7)))","v":""},{"$f":"IF($E51=\"\",\"\",IF(INDEX(E_SourceStreams!$A:$N,DK51,AF$7)=\"\",\"\",INDEX(E_SourceStreams!$A:$N,DK51,AF$7)))","v":""},{"$f":"IF($E51=\"\",\"\",IF(INDEX(E_SourceStreams!$A:$N,DL51,AG$7)=\"\",\"\",INDEX(E_SourceStreams!$A:$N,DL51,AG$7)))","v":""},{"$f":"IF($E51=\"\",\"\",IF(INDEX(E_SourceStreams!$A:$N,DM51,AH$7)=\"\",\"\",INDEX(E_SourceStreams!$A:$N,DM51,AH$7)))","v":""},{"$f":"IF($E51=\"\",\"\",IF(INDEX(E_SourceStreams!$A:$N,DN51,AI$7)=\"\",\"\",INDEX(E_SourceStreams!$A:$N,DN51,AI$7)))","v":""},{"$f":"IF($E51=\"\",\"\",IF(INDEX(E_SourceStreams!$A:$N,DO51,AJ$7)=\"\",\"\",INDEX(E_SourceStreams!$A:$N,DO51,AJ$7)))","v":""},{"$f":"IF($E51=\"\",\"\",IF(INDEX(E_SourceStreams!$A:$N,DP51,AK$7)=\"\",\"\",INDEX(E_SourceStreams!$A:$N,DP51,AK$7)))","v":""},{"$f":"IF($E51=\"\",\"\",IF(INDEX(E_SourceStreams!$A:$N,DQ51,AL$7)=\"\",\"\",INDEX(E_SourceStreams!$A:$N,DQ51,AL$7)))","v":""},{"$f":"IF($E51=\"\",\"\",IF(INDEX(E_SourceStreams!$A:$N,DR51,AM$7)=\"\",\"\",INDEX(E_SourceStreams!$A:$N,DR51,AM$7)))","v":""},{"$f":"IF($E51=\"\",\"\",IF(INDEX(E_SourceStreams!$A:$N,DS51,AN$7)=\"\",\"\",INDEX(E_SourceStreams!$A:$N,DS51,AN$7)))","v":""},{"$f":"IF($E51=\"\",\"\",IF(INDEX(E_SourceStreams!$A:$N,DT51,AO$7)=\"\",\"\",INDEX(E_SourceStreams!$A:$N,DT51,AO$7)))","v":""},{"$f":"IF($E51=\"\",\"\",IF(INDEX(E_SourceStreams!$A:$N,DU51,AP$7)=\"\",\"\",INDEX(E_SourceStreams!$A:$N,DU51,AP$7)))","v":""},{"$f":"IF($E51=\"\",\"\",IF(INDEX(E_SourceStreams!$A:$N,DV51,AQ$7)=\"\",\"\",INDEX(E_SourceStreams!$A:$N,DV51,AQ$7)))","v":""},{"$f":"IF($E51=\"\",\"\",IF(INDEX(E_SourceStreams!$A:$N,DW51,AR$7)=\"\",\"\",INDEX(E_SourceStreams!$A:$N,DW51,AR$7)))","v":""},{"$f":"IF($E51=\"\",\"\",IF(INDEX(E_SourceStreams!$A:$N,DX51,AS$7)=\"\",\"\",INDEX(E_SourceStreams!$A:$N,DX51,AS$7)))","v":""},{"$f":"IF($E51=\"\",\"\",IF(INDEX(E_SourceStreams!$A:$N,DY51,AT$7)=\"\",\"\",INDEX(E_SourceStreams!$A:$N,DY51,AT$7)))","v":""},{"$f":"IF($E51=\"\",\"\",IF(INDEX(E_SourceStreams!$A:$N,DZ51,AU$7)=\"\",\"\",INDEX(E_SourceStreams!$A:$N,DZ51,AU$7)))","v":""},{"$f":"IF($E51=\"\",\"\",IF(INDEX(E_SourceStreams!$A:$N,EA51,AV$7)=\"\",\"\",INDEX(E_SourceStreams!$A:$N,EA51,AV$7)))","v":""},{"$f":"IF($E51=\"\",\"\",IF(INDEX(E_SourceStreams!$A:$N,EB51,AW$7)=\"\",\"\",INDEX(E_SourceStreams!$A:$N,EB51,AW$7)))","v":""},{"$f":"IF($E51=\"\",\"\",IF(INDEX(E_SourceStreams!$A:$N,EC51,AX$7)=\"\",\"\",INDEX(E_SourceStreams!$A:$N,EC51,AX$7)))","v":""},{"$f":"IF($E51=\"\",\"\",IF(INDEX(E_SourceStreams!$A:$N,ED51,AY$7)=\"\",\"\",INDEX(E_SourceStreams!$A:$N,ED51,AY$7)))","v":""},{"$f":"IF($E51=\"\",\"\",IF(INDEX(E_SourceStreams!$A:$N,EE51,AZ$7)=\"\",\"\",INDEX(E_SourceStreams!$A:$N,EE51,AZ$7)))","v":""},{"$f":"IF($E51=\"\",\"\",IF(INDEX(E_SourceStreams!$A:$N,EF51,BA$7)=\"\",\"\",INDEX(E_SourceStreams!$A:$N,EF51,BA$7)))","v":""},{"$f":"IF($E51=\"\",\"\",IF(INDEX(E_SourceStreams!$A:$N,EG51,BB$7)=\"\",\"\",INDEX(E_SourceStreams!$A:$N,EG51,BB$7)))","v":""},{"$f":"IF($E51=\"\",\"\",IF(INDEX(E_SourceStreams!$A:$N,EH51,BC$7)=\"\",\"\",INDEX(E_SourceStreams!$A:$N,EH51,BC$7)))","v":""},{"$f":"IF($E51=\"\",\"\",IF(INDEX(E_SourceStreams!$A:$N,EI51,BD$7)=\"\",\"\",INDEX(E_SourceStreams!$A:$N,EI51,BD$7)))","v":""},{"$f":"IF($E51=\"\",\"\",IF(INDEX(E_SourceStreams!$A:$N,EJ51,BE$7)=\"\",\"\",INDEX(E_SourceStreams!$A:$N,EJ51,BE$7)))","v":""},{"$f":"IF($E51=\"\",\"\",IF(INDEX(E_SourceStreams!$A:$N,EK51,BF$7)=\"\",\"\",INDEX(E_SourceStreams!$A:$N,EK51,BF$7)))","v":""},{"$f":"IF($E51=\"\",\"\",IF(INDEX(E_SourceStreams!$A:$N,EL51,BG$7)=\"\",\"\",INDEX(E_SourceStreams!$A:$N,EL51,BG$7)))","v":""},{"$f":"IF($E51=\"\",\"\",IF(INDEX(E_SourceStreams!$A:$N,EM51,BH$7)=\"\",\"\",INDEX(E_SourceStreams!$A:$N,EM51,BH$7)))","v":""},{"$f":"IF($E51=\"\",\"\",IF(INDEX(E_SourceStreams!$A:$N,EN51,BI$7)=\"\",\"\",INDEX(E_SourceStreams!$A:$N,EN51,BI$7)))","v":""},{"$f":"IF($E51=\"\",\"\",IF(INDEX(E_SourceStreams!$A:$N,EO51,BJ$7)=\"\",\"\",INDEX(E_SourceStreams!$A:$N,EO51,BJ$7)))","v":""},{"$f":"IF($E51=\"\",\"\",IF(INDEX(E_SourceStreams!$A:$N,EP51,BK$7)=\"\",\"\",INDEX(E_SourceStreams!$A:$N,EP51,BK$7)))","v":""},{"$f":"IF($E51=\"\",\"\",IF(INDEX(E_SourceStreams!$A:$N,EQ51,BL$7)=\"\",\"\",INDEX(E_SourceStreams!$A:$N,EQ51,BL$7)))","v":""},{"$f":"IF($E51=\"\",\"\",IF(INDEX(E_SourceStreams!$A:$N,ER51,BM$7)=\"\",\"\",INDEX(E_SourceStreams!$A:$N,ER51,BM$7)))","v":""},{"$f":"IF($E51=\"\",\"\",IF(INDEX(E_SourceStreams!$A:$N,ES51,BN$7)=\"\",\"\",INDEX(E_SourceStreams!$A:$N,ES51,BN$7)))","v":""},{"$f":"IF($E51=\"\",\"\",IF(INDEX(E_SourceStreams!$A:$N,ET51,BO$7)=\"\",\"\",INDEX(E_SourceStreams!$A:$N,ET51,BO$7)))","v":""},{"$f":"IF($E51=\"\",\"\",IF(INDEX(E_SourceStreams!$A:$N,EU51,BP$7)=\"\",\"\",INDEX(E_SourceStreams!$A:$N,EU51,BP$7)))","v":""},{"$f":"IF($E51=\"\",\"\",IF(INDEX(E_SourceStreams!$A:$N,EV51,BQ$7)=\"\",\"\",INDEX(E_SourceStreams!$A:$N,EV51,BQ$7)))","v":""},{"$f":"IF($E51=\"\",\"\",IF(INDEX(E_SourceStreams!$A:$N,EW51,BR$7)=\"\",\"\",INDEX(E_SourceStreams!$A:$N,EW51,BR$7)))","v":""},{"$f":"IF($E51=\"\",\"\",IF(INDEX(E_SourceStreams!$A:$N,EX51,BS$7)=\"\",\"\",INDEX(E_SourceStreams!$A:$N,EX51,BS$7)))","v":""},{"$f":"IF($E51=\"\",\"\",IF(INDEX(E_SourceStreams!$A:$N,EY51,BT$7)=\"\",\"\",INDEX(E_SourceStreams!$A:$N,EY51,BT$7)))","v":""},null,null,null,null,null,null,null,null,null,null,null,null,null,null,null,"SourceCategory_",{"$f":"INDEX(C_InstallationDescription!$A$226:$A$332,ROWS($CI$11:CI51))=\"ausblenden\"","v":false},"SourceStreamName_",null,2773,2775,2777,2779,2781,2783,2785,2785,2785,2785,2785,2788,2792,2793,2794,2801,2811,2811,2811,2811,2811,2811,2811,2802,2812,2812,2812,2812,2812,2812,2812,2803,2813,2813,2813,2813,2813,2813,2813,2804,2814,2814,2814,2814,2814,2814,2814,2805,2815,2815,2815,2815,2815,2815,2815,2806,2816,2816,2816,2816,2816,2816,2816,2822]
[null,{"$f":"IF(COUNTIF($CK$10:CK52,TRUE)>0,\"\",INDEX(C_InstallationDescription!$E$226:$E$242,ROWS($A$11:A52)))","v":""},{"$f":"IF($E52=\"\",\"\",INDEX(C_InstallationDescription!F:F,MATCH($B52,C_InstallationDescription!$E:$E,0)))","v":""},{"$f":"IF($E52=\"\",\"\",INDEX(C_InstallationDescription!I:I,MATCH($B52,C_InstallationDescription!$E:$E,0)))","v":""},{"$f":"IF($B52=\"\",\"\",INDEX(C_InstallationDescription!F:F,MATCH($CJ52,C_InstallationDescription!$Q:$Q,0)))","v":""},{"$f":"IF($E52=\"\",\"\",INDEX(C_InstallationDescription!L:L,MATCH($CJ52,C_InstallationDescription!$Q:$Q,0)))","v":""},{"$f":"IF($E52=\"\",\"\",INDEX(C_InstallationDescription!M:M,MATCH($CJ52,C_InstallationDescription!$Q:$Q,0)))","v":""},{"$f":"IF($E52=\"\",\"\",INDEX(C_InstallationDescription!N:N,MATCH($CJ52,C_InstallationDescription!$Q:$Q,0)))","v":""},{"$f":"IF($E52=\"\",\"\",IF(INDEX(E_SourceStreams!$A:$N,CN52,I$7)=\"\",\"\",INDEX(E_SourceStreams!$A:$N,CN52,I$7)))","v":""},{"$f":"IF($E52=\"\",\"\",IF(INDEX(E_SourceStreams!$A:$N,CO52,J$7)=\"\",\"\",INDEX(E_SourceStreams!$A:$N,CO52,J$7)))","v":""},{"$f":"IF($E52=\"\",\"\",IF(INDEX(E_SourceStreams!$A:$N,CP52,K$7)=\"\",\"\",INDEX(E_SourceStreams!$A:$N,CP52,K$7)))","v":""},{"$f":"IF($E52=\"\",\"\",IF(INDEX(E_SourceStreams!$A:$N,CQ52,L$7)=\"\",\"\",INDEX(E_SourceStreams!$A:$N,CQ52,L$7)))","v":""},{"$f":"IF($E52=\"\",\"\",IF(INDEX(E_SourceStreams!$A:$N,CR52,M$7)=\"\",\"\",INDEX(E_SourceStreams!$A:$N,CR52,M$7)))","v":""},{"$f":"IF($E52=\"\",\"\",IF(INDEX(E_SourceStreams!$A:$N,CS52,N$7)=\"\",\"\",INDEX(E_SourceStreams!$A:$N,CS52,N$7)))","v":""},{"$f":"IF($E52=\"\",\"\",IF(INDEX(E_SourceStreams!$A:$N,CT52,O$7)=\"\",\"\",INDEX(E_SourceStreams!$A:$N,CT52,O$7)))","v":""},{"$f":"IF($E52=\"\",\"\",IF(INDEX(E_SourceStreams!$A:$N,CU52,P$7)=\"\",\"\",INDEX(E_SourceStreams!$A:$N,CU52,P$7)))","v":""},{"$f":"IF($E52=\"\",\"\",IF(INDEX(E_SourceStreams!$A:$N,CV52,Q$7)=\"\",\"\",INDEX(E_SourceStreams!$A:$N,CV52,Q$7)))","v":""},{"$f":"IF($E52=\"\",\"\",IF(INDEX(E_SourceStreams!$A:$N,CW52,R$7)=\"\",\"\",INDEX(E_SourceStreams!$A:$N,CW52,R$7)))","v":""},{"$f":"IF($E52=\"\",\"\",IF(INDEX(E_SourceStreams!$A:$N,CX52,S$7)=\"\",\"\",INDEX(E_SourceStreams!$A:$N,CX52,S$7)))","v":""},{"$f":"IF($E52=\"\",\"\",IF(INDEX(E_SourceStreams!$A:$N,CY52,T$7)=\"\",\"\",INDEX(E_SourceStreams!$A:$N,CY52,T$7)))","v":""},{"$f":"IF($E52=\"\",\"\",IF(INDEX(E_SourceStreams!$A:$N,CZ52,U$7)=\"\",\"\",INDEX(E_SourceStreams!$A:$N,CZ52,U$7)))","v":""},{"$f":"IF($E52=\"\",\"\",IF(INDEX(E_SourceStreams!$A:$N,DA52,V$7)=\"\",\"\",INDEX(E_SourceStreams!$A:$N,DA52,V$7)))","v":""},{"$f":"IF($E52=\"\",\"\",IF(INDEX(E_SourceStreams!$A:$N,DB52,W$7)=\"\",\"\",INDEX(E_SourceStreams!$A:$N,DB52,W$7)))","v":""},{"$f":"IF($E52=\"\",\"\",IF(INDEX(E_SourceStreams!$A:$N,DC52,X$7)=\"\",\"\",INDEX(E_SourceStreams!$A:$N,DC52,X$7)))","v":""},{"$f":"IF($E52=\"\",\"\",IF(INDEX(E_SourceStreams!$A:$N,DD52,Y$7)=\"\",\"\",INDEX(E_SourceStreams!$A:$N,DD52,Y$7)))","v":""},{"$f":"IF($E52=\"\",\"\",IF(INDEX(E_SourceStreams!$A:$N,DE52,Z$7)=\"\",\"\",INDEX(E_SourceStreams!$A:$N,DE52,Z$7)))","v":""},{"$f":"IF($E52=\"\",\"\",IF(INDEX(E_SourceStreams!$A:$N,DF52,AA$7)=\"\",\"\",INDEX(E_SourceStreams!$A:$N,DF52,AA$7)))","v":""},{"$f":"IF($E52=\"\",\"\",IF(INDEX(E_SourceStreams!$A:$N,DG52,AB$7)=\"\",\"\",INDEX(E_SourceStreams!$A:$N,DG52,AB$7)))","v":""},{"$f":"IF($E52=\"\",\"\",IF(INDEX(E_SourceStreams!$A:$N,DH52,AC$7)=\"\",\"\",INDEX(E_SourceStreams!$A:$N,DH52,AC$7)))","v":""},{"$f":"IF($E52=\"\",\"\",IF(INDEX(E_SourceStreams!$A:$N,DI52,AD$7)=\"\",\"\",INDEX(E_SourceStreams!$A:$N,DI52,AD$7)))","v":""},{"$f":"IF($E52=\"\",\"\",IF(INDEX(E_SourceStreams!$A:$N,DJ52,AE$7)=\"\",\"\",INDEX(E_SourceStreams!$A:$N,DJ52,AE$7)))","v":""},{"$f":"IF($E52=\"\",\"\",IF(INDEX(E_SourceStreams!$A:$N,DK52,AF$7)=\"\",\"\",INDEX(E_SourceStreams!$A:$N,DK52,AF$7)))","v":""},{"$f":"IF($E52=\"\",\"\",IF(INDEX(E_SourceStreams!$A:$N,DL52,AG$7)=\"\",\"\",INDEX(E_SourceStreams!$A:$N,DL52,AG$7)))","v":""},{"$f":"IF($E52=\"\",\"\",IF(INDEX(E_SourceStreams!$A:$N,DM52,AH$7)=\"\",\"\",INDEX(E_SourceStreams!$A:$N,DM52,AH$7)))","v":""},{"$f":"IF($E52=\"\",\"\",IF(INDEX(E_SourceStreams!$A:$N,DN52,AI$7)=\"\",\"\",INDEX(E_SourceStreams!$A:$N,DN52,AI$7)))","v":""},{"$f":"IF($E52=\"\",\"\",IF(INDEX(E_SourceStreams!$A:$N,DO52,AJ$7)=\"\",\"\",INDEX(E_SourceStreams!$A:$N,DO52,AJ$7)))","v":""},{"$f":"IF($E52=\"\",\"\",IF(INDEX(E_SourceStreams!$A:$N,DP52,AK$7)=\"\",\"\",INDEX(E_SourceStreams!$A:$N,DP52,AK$7)))","v":""},{"$f":"IF($E52=\"\",\"\",IF(INDEX(E_SourceStreams!$A:$N,DQ52,AL$7)=\"\",\"\",INDEX(E_SourceStreams!$A:$N,DQ52,AL$7)))","v":""},{"$f":"IF($E52=\"\",\"\",IF(INDEX(E_SourceStreams!$A:$N,DR52,AM$7)=\"\",\"\",INDEX(E_SourceStreams!$A:$N,DR52,AM$7)))","v":""},{"$f":"IF($E52=\"\",\"\",IF(INDEX(E_SourceStreams!$A:$N,DS52,AN$7)=\"\",\"\",INDEX(E_SourceStreams!$A:$N,DS52,AN$7)))","v":""},{"$f":"IF($E52=\"\",\"\",IF(INDEX(E_SourceStreams!$A:$N,DT52,AO$7)=\"\",\"\",INDEX(E_SourceStreams!$A:$N,DT52,AO$7)))","v":""},{"$f":"IF($E52=\"\",\"\",IF(INDEX(E_SourceStreams!$A:$N,DU52,AP$7)=\"\",\"\",INDEX(E_SourceStreams!$A:$N,DU52,AP$7)))","v":""},{"$f":"IF($E52=\"\",\"\",IF(INDEX(E_SourceStreams!$A:$N,DV52,AQ$7)=\"\",\"\",INDEX(E_SourceStreams!$A:$N,DV52,AQ$7)))","v":""},{"$f":"IF($E52=\"\",\"\",IF(INDEX(E_SourceStreams!$A:$N,DW52,AR$7)=\"\",\"\",INDEX(E_SourceStreams!$A:$N,DW52,AR$7)))","v":""},{"$f":"IF($E52=\"\",\"\",IF(INDEX(E_SourceStreams!$A:$N,DX52,AS$7)=\"\",\"\",INDEX(E_SourceStreams!$A:$N,DX52,AS$7)))","v":""},{"$f":"IF($E52=\"\",\"\",IF(INDEX(E_SourceStreams!$A:$N,DY52,AT$7)=\"\",\"\",INDEX(E_SourceStreams!$A:$N,DY52,AT$7)))","v":""},{"$f":"IF($E52=\"\",\"\",IF(INDEX(E_SourceStreams!$A:$N,DZ52,AU$7)=\"\",\"\",INDEX(E_SourceStreams!$A:$N,DZ52,AU$7)))","v":""},{"$f":"IF($E52=\"\",\"\",IF(INDEX(E_SourceStreams!$A:$N,EA52,AV$7)=\"\",\"\",INDEX(E_SourceStreams!$A:$N,EA52,AV$7)))","v":""},{"$f":"IF($E52=\"\",\"\",IF(INDEX(E_SourceStreams!$A:$N,EB52,AW$7)=\"\",\"\",INDEX(E_SourceStreams!$A:$N,EB52,AW$7)))","v":""},{"$f":"IF($E52=\"\",\"\",IF(INDEX(E_SourceStreams!$A:$N,EC52,AX$7)=\"\",\"\",INDEX(E_SourceStreams!$A:$N,EC52,AX$7)))","v":""},{"$f":"IF($E52=\"\",\"\",IF(INDEX(E_SourceStreams!$A:$N,ED52,AY$7)=\"\",\"\",INDEX(E_SourceStreams!$A:$N,ED52,AY$7)))","v":""},{"$f":"IF($E52=\"\",\"\",IF(INDEX(E_SourceStreams!$A:$N,EE52,AZ$7)=\"\",\"\",INDEX(E_SourceStreams!$A:$N,EE52,AZ$7)))","v":""},{"$f":"IF($E52=\"\",\"\",IF(INDEX(E_SourceStreams!$A:$N,EF52,BA$7)=\"\",\"\",INDEX(E_SourceStreams!$A:$N,EF52,BA$7)))","v":""},{"$f":"IF($E52=\"\",\"\",IF(INDEX(E_SourceStreams!$A:$N,EG52,BB$7)=\"\",\"\",INDEX(E_SourceStreams!$A:$N,EG52,BB$7)))","v":""},{"$f":"IF($E52=\"\",\"\",IF(INDEX(E_SourceStreams!$A:$N,EH52,BC$7)=\"\",\"\",INDEX(E_SourceStreams!$A:$N,EH52,BC$7)))","v":""},{"$f":"IF($E52=\"\",\"\",IF(INDEX(E_SourceStreams!$A:$N,EI52,BD$7)=\"\",\"\",INDEX(E_SourceStreams!$A:$N,EI52,BD$7)))","v":""},{"$f":"IF($E52=\"\",\"\",IF(INDEX(E_SourceStreams!$A:$N,EJ52,BE$7)=\"\",\"\",INDEX(E_SourceStreams!$A:$N,EJ52,BE$7)))","v":""},{"$f":"IF($E52=\"\",\"\",IF(INDEX(E_SourceStreams!$A:$N,EK52,BF$7)=\"\",\"\",INDEX(E_SourceStreams!$A:$N,EK52,BF$7)))","v":""},{"$f":"IF($E52=\"\",\"\",IF(INDEX(E_SourceStreams!$A:$N,EL52,BG$7)=\"\",\"\",INDEX(E_SourceStreams!$A:$N,EL52,BG$7)))","v":""},{"$f":"IF($E52=\"\",\"\",IF(INDEX(E_SourceStreams!$A:$N,EM52,BH$7)=\"\",\"\",INDEX(E_SourceStreams!$A:$N,EM52,BH$7)))","v":""},{"$f":"IF($E52=\"\",\"\",IF(INDEX(E_SourceStreams!$A:$N,EN52,BI$7)=\"\",\"\",INDEX(E_SourceStreams!$A:$N,EN52,BI$7)))","v":""},{"$f":"IF($E52=\"\",\"\",IF(INDEX(E_SourceStreams!$A:$N,EO52,BJ$7)=\"\",\"\",INDEX(E_SourceStreams!$A:$N,EO52,BJ$7)))","v":""},{"$f":"IF($E52=\"\",\"\",IF(INDEX(E_SourceStreams!$A:$N,EP52,BK$7)=\"\",\"\",INDEX(E_SourceStreams!$A:$N,EP52,BK$7)))","v":""},{"$f":"IF($E52=\"\",\"\",IF(INDEX(E_SourceStreams!$A:$N,EQ52,BL$7)=\"\",\"\",INDEX(E_SourceStreams!$A:$N,EQ52,BL$7)))","v":""},{"$f":"IF($E52=\"\",\"\",IF(INDEX(E_SourceStreams!$A:$N,ER52,BM$7)=\"\",\"\",INDEX(E_SourceStreams!$A:$N,ER52,BM$7)))","v":""},{"$f":"IF($E52=\"\",\"\",IF(INDEX(E_SourceStreams!$A:$N,ES52,BN$7)=\"\",\"\",INDEX(E_SourceStreams!$A:$N,ES52,BN$7)))","v":""},{"$f":"IF($E52=\"\",\"\",IF(INDEX(E_SourceStreams!$A:$N,ET52,BO$7)=\"\",\"\",INDEX(E_SourceStreams!$A:$N,ET52,BO$7)))","v":""},{"$f":"IF($E52=\"\",\"\",IF(INDEX(E_SourceStreams!$A:$N,EU52,BP$7)=\"\",\"\",INDEX(E_SourceStreams!$A:$N,EU52,BP$7)))","v":""},{"$f":"IF($E52=\"\",\"\",IF(INDEX(E_SourceStreams!$A:$N,EV52,BQ$7)=\"\",\"\",INDEX(E_SourceStreams!$A:$N,EV52,BQ$7)))","v":""},{"$f":"IF($E52=\"\",\"\",IF(INDEX(E_SourceStreams!$A:$N,EW52,BR$7)=\"\",\"\",INDEX(E_SourceStreams!$A:$N,EW52,BR$7)))","v":""},{"$f":"IF($E52=\"\",\"\",IF(INDEX(E_SourceStreams!$A:$N,EX52,BS$7)=\"\",\"\",INDEX(E_SourceStreams!$A:$N,EX52,BS$7)))","v":""},{"$f":"IF($E52=\"\",\"\",IF(INDEX(E_SourceStreams!$A:$N,EY52,BT$7)=\"\",\"\",INDEX(E_SourceStreams!$A:$N,EY52,BT$7)))","v":""},null,null,null,null,null,null,null,null,null,null,null,null,null,null,null,"SourceCategory_",{"$f":"INDEX(C_InstallationDescription!$A$226:$A$332,ROWS($CI$11:CI52))=\"ausblenden\"","v":false},"SourceStreamName_",null,2839,2841,2843,2845,2847,2849,2851,2851,2851,2851,2851,2854,2858,2859,2860,2867,2877,2877,2877,2877,2877,2877,2877,2868,2878,2878,2878,2878,2878,2878,2878,2869,2879,2879,2879,2879,2879,2879,2879,2870,2880,2880,2880,2880,2880,2880,2880,2871,2881,2881,2881,2881,2881,2881,2881,2872,2882,2882,2882,2882,2882,2882,2882,2888]
[null,{"$f":"IF(COUNTIF($CK$10:CK53,TRUE)>0,\"\",INDEX(C_InstallationDescription!$E$226:$E$242,ROWS($A$11:A53)))","v":""},{"$f":"IF($E53=\"\",\"\",INDEX(C_InstallationDescription!F:F,MATCH($B53,C_InstallationDescription!$E:$E,0)))","v":""},{"$f":"IF($E53=\"\",\"\",INDEX(C_InstallationDescription!I:I,MATCH($B53,C_InstallationDescription!$E:$E,0)))","v":""},{"$f":"IF($B53=\"\",\"\",INDEX(C_InstallationDescription!F:F,MATCH($CJ53,C_InstallationDescription!$Q:$Q,0)))","v":""},{"$f":"IF($E53=\"\",\"\",INDEX(C_InstallationDescription!L:L,MATCH($CJ53,C_InstallationDescription!$Q:$Q,0)))","v":""},{"$f":"IF($E53=\"\",\"\",INDEX(C_InstallationDescription!M:M,MATCH($CJ53,C_InstallationDescription!$Q:$Q,0)))","v":""},{"$f":"IF($E53=\"\",\"\",INDEX(C_InstallationDescription!N:N,MATCH($CJ53,C_InstallationDescription!$Q:$Q,0)))","v":""},{"$f":"IF($E53=\"\",\"\",IF(INDEX(E_SourceStreams!$A:$N,CN53,I$7)=\"\",\"\",INDEX(E_SourceStreams!$A:$N,CN53,I$7)))","v":""},{"$f":"IF($E53=\"\",\"\",IF(INDEX(E_SourceStreams!$A:$N,CO53,J$7)=\"\",\"\",INDEX(E_SourceStreams!$A:$N,CO53,J$7)))","v":""},{"$f":"IF($E53=\"\",\"\",IF(INDEX(E_SourceStreams!$A:$N,CP53,K$7)=\"\",\"\",INDEX(E_SourceStreams!$A:$N,CP53,K$7)))","v":""},{"$f":"IF($E53=\"\",\"\",IF(INDEX(E_SourceStreams!$A:$N,CQ53,L$7)=\"\",\"\",INDEX(E_SourceStreams!$A:$N,CQ53,L$7)))","v":""},{"$f":"IF($E53=\"\",\"\",IF(INDEX(E_SourceStreams!$A:$N,CR53,M$7)=\"\",\"\",INDEX(E_SourceStreams!$A:$N,CR53,M$7)))","v":""},{"$f":"IF($E53=\"\",\"\",IF(INDEX(E_SourceStreams!$A:$N,CS53,N$7)=\"\",\"\",INDEX(E_SourceStreams!$A:$N,CS53,N$7)))","v":""},{"$f":"IF($E53=\"\",\"\",IF(INDEX(E_SourceStreams!$A:$N,CT53,O$7)=\"\",\"\",INDEX(E_SourceStreams!$A:$N,CT53,O$7)))","v":""},{"$f":"IF($E53=\"\",\"\",IF(INDEX(E_SourceStreams!$A:$N,CU53,P$7)=\"\",\"\",INDEX(E_SourceStreams!$A:$N,CU53,P$7)))","v":""},{"$f":"IF($E53=\"\",\"\",IF(INDEX(E_SourceStreams!$A:$N,CV53,Q$7)=\"\",\"\",INDEX(E_SourceStreams!$A:$N,CV53,Q$7)))","v":""},{"$f":"IF($E53=\"\",\"\",IF(INDEX(E_SourceStreams!$A:$N,CW53,R$7)=\"\",\"\",INDEX(E_SourceStreams!$A:$N,CW53,R$7)))","v":""},{"$f":"IF($E53=\"\",\"\",IF(INDEX(E_SourceStreams!$A:$N,CX53,S$7)=\"\",\"\",INDEX(E_SourceStreams!$A:$N,CX53,S$7)))","v":""},{"$f":"IF($E53=\"\",\"\",IF(INDEX(E_SourceStreams!$A:$N,CY53,T$7)=\"\",\"\",INDEX(E_SourceStreams!$A:$N,CY53,T$7)))","v":""},{"$f":"IF($E53=\"\",\"\",IF(INDEX(E_SourceStreams!$A:$N,CZ53,U$7)=\"\",\"\",INDEX(E_SourceStreams!$A:$N,CZ53,U$7)))","v":""},{"$f":"IF($E53=\"\",\"\",IF(INDEX(E_SourceStreams!$A:$N,DA53,V$7)=\"\",\"\",INDEX(E_SourceStreams!$A:$N,DA53,V$7)))","v":""},{"$f":"IF($E53=\"\",\"\",IF(INDEX(E_SourceStreams!$A:$N,DB53,W$7)=\"\",\"\",INDEX(E_SourceStreams!$A:$N,DB53,W$7)))","v":""},{"$f":"IF($E53=\"\",\"\",IF(INDEX(E_SourceStreams!$A:$N,DC53,X$7)=\"\",\"\",INDEX(E_SourceStreams!$A:$N,DC53,X$7)))","v":""},{"$f":"IF($E53=\"\",\"\",IF(INDEX(E_SourceStreams!$A:$N,DD53,Y$7)=\"\",\"\",INDEX(E_SourceStreams!$A:$N,DD53,Y$7)))","v":""},{"$f":"IF($E53=\"\",\"\",IF(INDEX(E_SourceStreams!$A:$N,DE53,Z$7)=\"\",\"\",INDEX(E_SourceStreams!$A:$N,DE53,Z$7)))","v":""},{"$f":"IF($E53=\"\",\"\",IF(INDEX(E_SourceStreams!$A:$N,DF53,AA$7)=\"\",\"\",INDEX(E_SourceStreams!$A:$N,DF53,AA$7)))","v":""},{"$f":"IF($E53=\"\",\"\",IF(INDEX(E_SourceStreams!$A:$N,DG53,AB$7)=\"\",\"\",INDEX(E_SourceStreams!$A:$N,DG53,AB$7)))","v":""},{"$f":"IF($E53=\"\",\"\",IF(INDEX(E_SourceStreams!$A:$N,DH53,AC$7)=\"\",\"\",INDEX(E_SourceStreams!$A:$N,DH53,AC$7)))","v":""},{"$f":"IF($E53=\"\",\"\",IF(INDEX(E_SourceStreams!$A:$N,DI53,AD$7)=\"\",\"\",INDEX(E_SourceStreams!$A:$N,DI53,AD$7)))","v":""},{"$f":"IF($E53=\"\",\"\",IF(INDEX(E_SourceStreams!$A:$N,DJ53,AE$7)=\"\",\"\",INDEX(E_SourceStreams!$A:$N,DJ53,AE$7)))","v":""},{"$f":"IF($E53=\"\",\"\",IF(INDEX(E_SourceStreams!$A:$N,DK53,AF$7)=\"\",\"\",INDEX(E_SourceStreams!$A:$N,DK53,AF$7)))","v":""},{"$f":"IF($E53=\"\",\"\",IF(INDEX(E_SourceStreams!$A:$N,DL53,AG$7)=\"\",\"\",INDEX(E_SourceStreams!$A:$N,DL53,AG$7)))","v":""},{"$f":"IF($E53=\"\",\"\",IF(INDEX(E_SourceStreams!$A:$N,DM53,AH$7)=\"\",\"\",INDEX(E_SourceStreams!$A:$N,DM53,AH$7)))","v":""},{"$f":"IF($E53=\"\",\"\",IF(INDEX(E_SourceStreams!$A:$N,DN53,AI$7)=\"\",\"\",INDEX(E_SourceStreams!$A:$N,DN53,AI$7)))","v":""},{"$f":"IF($E53=\"\",\"\",IF(INDEX(E_SourceStreams!$A:$N,DO53,AJ$7)=\"\",\"\",INDEX(E_SourceStreams!$A:$N,DO53,AJ$7)))","v":""},{"$f":"IF($E53=\"\",\"\",IF(INDEX(E_SourceStreams!$A:$N,DP53,AK$7)=\"\",\"\",INDEX(E_SourceStreams!$A:$N,DP53,AK$7)))","v":""},{"$f":"IF($E53=\"\",\"\",IF(INDEX(E_SourceStreams!$A:$N,DQ53,AL$7)=\"\",\"\",INDEX(E_SourceStreams!$A:$N,DQ53,AL$7)))","v":""},{"$f":"IF($E53=\"\",\"\",IF(INDEX(E_SourceStreams!$A:$N,DR53,AM$7)=\"\",\"\",INDEX(E_SourceStreams!$A:$N,DR53,AM$7)))","v":""},{"$f":"IF($E53=\"\",\"\",IF(INDEX(E_SourceStreams!$A:$N,DS53,AN$7)=\"\",\"\",INDEX(E_SourceStreams!$A:$N,DS53,AN$7)))","v":""},{"$f":"IF($E53=\"\",\"\",IF(INDEX(E_SourceStreams!$A:$N,DT53,AO$7)=\"\",\"\",INDEX(E_SourceStreams!$A:$N,DT53,AO$7)))","v":""},{"$f":"IF($E53=\"\",\"\",IF(INDEX(E_SourceStreams!$A:$N,DU53,AP$7)=\"\",\"\",INDEX(E_SourceStreams!$A:$N,DU53,AP$7)))","v":""},{"$f":"IF($E53=\"\",\"\",IF(INDEX(E_SourceStreams!$A:$N,DV53,AQ$7)=\"\",\"\",INDEX(E_SourceStreams!$A:$N,DV53,AQ$7)))","v":""},{"$f":"IF($E53=\"\",\"\",IF(INDEX(E_SourceStreams!$A:$N,DW53,AR$7)=\"\",\"\",INDEX(E_SourceStreams!$A:$N,DW53,AR$7)))","v":""},{"$f":"IF($E53=\"\",\"\",IF(INDEX(E_SourceStreams!$A:$N,DX53,AS$7)=\"\",\"\",INDEX(E_SourceStreams!$A:$N,DX53,AS$7)))","v":""},{"$f":"IF($E53=\"\",\"\",IF(INDEX(E_SourceStreams!$A:$N,DY53,AT$7)=\"\",\"\",INDEX(E_SourceStreams!$A:$N,DY53,AT$7)))","v":""},{"$f":"IF($E53=\"\",\"\",IF(INDEX(E_SourceStreams!$A:$N,DZ53,AU$7)=\"\",\"\",INDEX(E_SourceStreams!$A:$N,DZ53,AU$7)))","v":""},{"$f":"IF($E53=\"\",\"\",IF(INDEX(E_SourceStreams!$A:$N,EA53,AV$7)=\"\",\"\",INDEX(E_SourceStreams!$A:$N,EA53,AV$7)))","v":""},{"$f":"IF($E53=\"\",\"\",IF(INDEX(E_SourceStreams!$A:$N,EB53,AW$7)=\"\",\"\",INDEX(E_SourceStreams!$A:$N,EB53,AW$7)))","v":""},{"$f":"IF($E53=\"\",\"\",IF(INDEX(E_SourceStreams!$A:$N,EC53,AX$7)=\"\",\"\",INDEX(E_SourceStreams!$A:$N,EC53,AX$7)))","v":""},{"$f":"IF($E53=\"\",\"\",IF(INDEX(E_SourceStreams!$A:$N,ED53,AY$7)=\"\",\"\",INDEX(E_SourceStreams!$A:$N,ED53,AY$7)))","v":""},{"$f":"IF($E53=\"\",\"\",IF(INDEX(E_SourceStreams!$A:$N,EE53,AZ$7)=\"\",\"\",INDEX(E_SourceStreams!$A:$N,EE53,AZ$7)))","v":""},{"$f":"IF($E53=\"\",\"\",IF(INDEX(E_SourceStreams!$A:$N,EF53,BA$7)=\"\",\"\",INDEX(E_SourceStreams!$A:$N,EF53,BA$7)))","v":""},{"$f":"IF($E53=\"\",\"\",IF(INDEX(E_SourceStreams!$A:$N,EG53,BB$7)=\"\",\"\",INDEX(E_SourceStreams!$A:$N,EG53,BB$7)))","v":""},{"$f":"IF($E53=\"\",\"\",IF(INDEX(E_SourceStreams!$A:$N,EH53,BC$7)=\"\",\"\",INDEX(E_SourceStreams!$A:$N,EH53,BC$7)))","v":""},{"$f":"IF($E53=\"\",\"\",IF(INDEX(E_SourceStreams!$A:$N,EI53,BD$7)=\"\",\"\",INDEX(E_SourceStreams!$A:$N,EI53,BD$7)))","v":""},{"$f":"IF($E53=\"\",\"\",IF(INDEX(E_SourceStreams!$A:$N,EJ53,BE$7)=\"\",\"\",INDEX(E_SourceStreams!$A:$N,EJ53,BE$7)))","v":""},{"$f":"IF($E53=\"\",\"\",IF(INDEX(E_SourceStreams!$A:$N,EK53,BF$7)=\"\",\"\",INDEX(E_SourceStreams!$A:$N,EK53,BF$7)))","v":""},{"$f":"IF($E53=\"\",\"\",IF(INDEX(E_SourceStreams!$A:$N,EL53,BG$7)=\"\",\"\",INDEX(E_SourceStreams!$A:$N,EL53,BG$7)))","v":""},{"$f":"IF($E53=\"\",\"\",IF(INDEX(E_SourceStreams!$A:$N,EM53,BH$7)=\"\",\"\",INDEX(E_SourceStreams!$A:$N,EM53,BH$7)))","v":""},{"$f":"IF($E53=\"\",\"\",IF(INDEX(E_SourceStreams!$A:$N,EN53,BI$7)=\"\",\"\",INDEX(E_SourceStreams!$A:$N,EN53,BI$7)))","v":""},{"$f":"IF($E53=\"\",\"\",IF(INDEX(E_SourceStreams!$A:$N,EO53,BJ$7)=\"\",\"\",INDEX(E_SourceStreams!$A:$N,EO53,BJ$7)))","v":""},{"$f":"IF($E53=\"\",\"\",IF(INDEX(E_SourceStreams!$A:$N,EP53,BK$7)=\"\",\"\",INDEX(E_SourceStreams!$A:$N,EP53,BK$7)))","v":""},{"$f":"IF($E53=\"\",\"\",IF(INDEX(E_SourceStreams!$A:$N,EQ53,BL$7)=\"\",\"\",INDEX(E_SourceStreams!$A:$N,EQ53,BL$7)))","v":""},{"$f":"IF($E53=\"\",\"\",IF(INDEX(E_SourceStreams!$A:$N,ER53,BM$7)=\"\",\"\",INDEX(E_SourceStreams!$A:$N,ER53,BM$7)))","v":""},{"$f":"IF($E53=\"\",\"\",IF(INDEX(E_SourceStreams!$A:$N,ES53,BN$7)=\"\",\"\",INDEX(E_SourceStreams!$A:$N,ES53,BN$7)))","v":""},{"$f":"IF($E53=\"\",\"\",IF(INDEX(E_SourceStreams!$A:$N,ET53,BO$7)=\"\",\"\",INDEX(E_SourceStreams!$A:$N,ET53,BO$7)))","v":""},{"$f":"IF($E53=\"\",\"\",IF(INDEX(E_SourceStreams!$A:$N,EU53,BP$7)=\"\",\"\",INDEX(E_SourceStreams!$A:$N,EU53,BP$7)))","v":""},{"$f":"IF($E53=\"\",\"\",IF(INDEX(E_SourceStreams!$A:$N,EV53,BQ$7)=\"\",\"\",INDEX(E_SourceStreams!$A:$N,EV53,BQ$7)))","v":""},{"$f":"IF($E53=\"\",\"\",IF(INDEX(E_SourceStreams!$A:$N,EW53,BR$7)=\"\",\"\",INDEX(E_SourceStreams!$A:$N,EW53,BR$7)))","v":""},{"$f":"IF($E53=\"\",\"\",IF(INDEX(E_SourceStreams!$A:$N,EX53,BS$7)=\"\",\"\",INDEX(E_SourceStreams!$A:$N,EX53,BS$7)))","v":""},{"$f":"IF($E53=\"\",\"\",IF(INDEX(E_SourceStreams!$A:$N,EY53,BT$7)=\"\",\"\",INDEX(E_SourceStreams!$A:$N,EY53,BT$7)))","v":""},null,null,null,null,null,null,null,null,null,null,null,null,null,null,null,"SourceCategory_",{"$f":"INDEX(C_InstallationDescription!$A$226:$A$332,ROWS($CI$11:CI53))=\"ausblenden\"","v":false},"SourceStreamName_",null,2905,2907,2909,2911,2913,2915,2917,2917,2917,2917,2917,2920,2924,2925,2926,2933,2943,2943,2943,2943,2943,2943,2943,2934,2944,2944,2944,2944,2944,2944,2944,2935,2945,2945,2945,2945,2945,2945,2945,2936,2946,2946,2946,2946,2946,2946,2946,2937,2947,2947,2947,2947,2947,2947,2947,2938,2948,2948,2948,2948,2948,2948,2948,2954]
[null,{"$f":"IF(COUNTIF($CK$10:CK54,TRUE)>0,\"\",INDEX(C_InstallationDescription!$E$226:$E$242,ROWS($A$11:A54)))","v":""},{"$f":"IF($E54=\"\",\"\",INDEX(C_InstallationDescription!F:F,MATCH($B54,C_InstallationDescription!$E:$E,0)))","v":""},{"$f":"IF($E54=\"\",\"\",INDEX(C_InstallationDescription!I:I,MATCH($B54,C_InstallationDescription!$E:$E,0)))","v":""},{"$f":"IF($B54=\"\",\"\",INDEX(C_InstallationDescription!F:F,MATCH($CJ54,C_InstallationDescription!$Q:$Q,0)))","v":""},{"$f":"IF($E54=\"\",\"\",INDEX(C_InstallationDescription!L:L,MATCH($CJ54,C_InstallationDescription!$Q:$Q,0)))","v":""},{"$f":"IF($E54=\"\",\"\",INDEX(C_InstallationDescription!M:M,MATCH($CJ54,C_InstallationDescription!$Q:$Q,0)))","v":""},{"$f":"IF($E54=\"\",\"\",INDEX(C_InstallationDescription!N:N,MATCH($CJ54,C_InstallationDescription!$Q:$Q,0)))","v":""},{"$f":"IF($E54=\"\",\"\",IF(INDEX(E_SourceStreams!$A:$N,CN54,I$7)=\"\",\"\",INDEX(E_SourceStreams!$A:$N,CN54,I$7)))","v":""},{"$f":"IF($E54=\"\",\"\",IF(INDEX(E_SourceStreams!$A:$N,CO54,J$7)=\"\",\"\",INDEX(E_SourceStreams!$A:$N,CO54,J$7)))","v":""},{"$f":"IF($E54=\"\",\"\",IF(INDEX(E_SourceStreams!$A:$N,CP54,K$7)=\"\",\"\",INDEX(E_SourceStreams!$A:$N,CP54,K$7)))","v":""},{"$f":"IF($E54=\"\",\"\",IF(INDEX(E_SourceStreams!$A:$N,CQ54,L$7)=\"\",\"\",INDEX(E_SourceStreams!$A:$N,CQ54,L$7)))","v":""},{"$f":"IF($E54=\"\",\"\",IF(INDEX(E_SourceStreams!$A:$N,CR54,M$7)=\"\",\"\",INDEX(E_SourceStreams!$A:$N,CR54,M$7)))","v":""},{"$f":"IF($E54=\"\",\"\",IF(INDEX(E_SourceStreams!$A:$N,CS54,N$7)=\"\",\"\",INDEX(E_SourceStreams!$A:$N,CS54,N$7)))","v":""},{"$f":"IF($E54=\"\",\"\",IF(INDEX(E_SourceStreams!$A:$N,CT54,O$7)=\"\",\"\",INDEX(E_SourceStreams!$A:$N,CT54,O$7)))","v":""},{"$f":"IF($E54=\"\",\"\",IF(INDEX(E_SourceStreams!$A:$N,CU54,P$7)=\"\",\"\",INDEX(E_SourceStreams!$A:$N,CU54,P$7)))","v":""},{"$f":"IF($E54=\"\",\"\",IF(INDEX(E_SourceStreams!$A:$N,CV54,Q$7)=\"\",\"\",INDEX(E_SourceStreams!$A:$N,CV54,Q$7)))","v":""},{"$f":"IF($E54=\"\",\"\",IF(INDEX(E_SourceStreams!$A:$N,CW54,R$7)=\"\",\"\",INDEX(E_SourceStreams!$A:$N,CW54,R$7)))","v":""},{"$f":"IF($E54=\"\",\"\",IF(INDEX(E_SourceStreams!$A:$N,CX54,S$7)=\"\",\"\",INDEX(E_SourceStreams!$A:$N,CX54,S$7)))","v":""},{"$f":"IF($E54=\"\",\"\",IF(INDEX(E_SourceStreams!$A:$N,CY54,T$7)=\"\",\"\",INDEX(E_SourceStreams!$A:$N,CY54,T$7)))","v":""},{"$f":"IF($E54=\"\",\"\",IF(INDEX(E_SourceStreams!$A:$N,CZ54,U$7)=\"\",\"\",INDEX(E_SourceStreams!$A:$N,CZ54,U$7)))","v":""},{"$f":"IF($E54=\"\",\"\",IF(INDEX(E_SourceStreams!$A:$N,DA54,V$7)=\"\",\"\",INDEX(E_SourceStreams!$A:$N,DA54,V$7)))","v":""},{"$f":"IF($E54=\"\",\"\",IF(INDEX(E_SourceStreams!$A:$N,DB54,W$7)=\"\",\"\",INDEX(E_SourceStreams!$A:$N,DB54,W$7)))","v":""},{"$f":"IF($E54=\"\",\"\",IF(INDEX(E_SourceStreams!$A:$N,DC54,X$7)=\"\",\"\",INDEX(E_SourceStreams!$A:$N,DC54,X$7)))","v":""},{"$f":"IF($E54=\"\",\"\",IF(INDEX(E_SourceStreams!$A:$N,DD54,Y$7)=\"\",\"\",INDEX(E_SourceStreams!$A:$N,DD54,Y$7)))","v":""},{"$f":"IF($E54=\"\",\"\",IF(INDEX(E_SourceStreams!$A:$N,DE54,Z$7)=\"\",\"\",INDEX(E_SourceStreams!$A:$N,DE54,Z$7)))","v":""},{"$f":"IF($E54=\"\",\"\",IF(INDEX(E_SourceStreams!$A:$N,DF54,AA$7)=\"\",\"\",INDEX(E_SourceStreams!$A:$N,DF54,AA$7)))","v":""},{"$f":"IF($E54=\"\",\"\",IF(INDEX(E_SourceStreams!$A:$N,DG54,AB$7)=\"\",\"\",INDEX(E_SourceStreams!$A:$N,DG54,AB$7)))","v":""},{"$f":"IF($E54=\"\",\"\",IF(INDEX(E_SourceStreams!$A:$N,DH54,AC$7)=\"\",\"\",INDEX(E_SourceStreams!$A:$N,DH54,AC$7)))","v":""},{"$f":"IF($E54=\"\",\"\",IF(INDEX(E_SourceStreams!$A:$N,DI54,AD$7)=\"\",\"\",INDEX(E_SourceStreams!$A:$N,DI54,AD$7)))","v":""},{"$f":"IF($E54=\"\",\"\",IF(INDEX(E_SourceStreams!$A:$N,DJ54,AE$7)=\"\",\"\",INDEX(E_SourceStreams!$A:$N,DJ54,AE$7)))","v":""},{"$f":"IF($E54=\"\",\"\",IF(INDEX(E_SourceStreams!$A:$N,DK54,AF$7)=\"\",\"\",INDEX(E_SourceStreams!$A:$N,DK54,AF$7)))","v":""},{"$f":"IF($E54=\"\",\"\",IF(INDEX(E_SourceStreams!$A:$N,DL54,AG$7)=\"\",\"\",INDEX(E_SourceStreams!$A:$N,DL54,AG$7)))","v":""},{"$f":"IF($E54=\"\",\"\",IF(INDEX(E_SourceStreams!$A:$N,DM54,AH$7)=\"\",\"\",INDEX(E_SourceStreams!$A:$N,DM54,AH$7)))","v":""},{"$f":"IF($E54=\"\",\"\",IF(INDEX(E_SourceStreams!$A:$N,DN54,AI$7)=\"\",\"\",INDEX(E_SourceStreams!$A:$N,DN54,AI$7)))","v":""},{"$f":"IF($E54=\"\",\"\",IF(INDEX(E_SourceStreams!$A:$N,DO54,AJ$7)=\"\",\"\",INDEX(E_SourceStreams!$A:$N,DO54,AJ$7)))","v":""},{"$f":"IF($E54=\"\",\"\",IF(INDEX(E_SourceStreams!$A:$N,DP54,AK$7)=\"\",\"\",INDEX(E_SourceStreams!$A:$N,DP54,AK$7)))","v":""},{"$f":"IF($E54=\"\",\"\",IF(INDEX(E_SourceStreams!$A:$N,DQ54,AL$7)=\"\",\"\",INDEX(E_SourceStreams!$A:$N,DQ54,AL$7)))","v":""},{"$f":"IF($E54=\"\",\"\",IF(INDEX(E_SourceStreams!$A:$N,DR54,AM$7)=\"\",\"\",INDEX(E_SourceStreams!$A:$N,DR54,AM$7)))","v":""},{"$f":"IF($E54=\"\",\"\",IF(INDEX(E_SourceStreams!$A:$N,DS54,AN$7)=\"\",\"\",INDEX(E_SourceStreams!$A:$N,DS54,AN$7)))","v":""},{"$f":"IF($E54=\"\",\"\",IF(INDEX(E_SourceStreams!$A:$N,DT54,AO$7)=\"\",\"\",INDEX(E_SourceStreams!$A:$N,DT54,AO$7)))","v":""},{"$f":"IF($E54=\"\",\"\",IF(INDEX(E_SourceStreams!$A:$N,DU54,AP$7)=\"\",\"\",INDEX(E_SourceStreams!$A:$N,DU54,AP$7)))","v":""},{"$f":"IF($E54=\"\",\"\",IF(INDEX(E_SourceStreams!$A:$N,DV54,AQ$7)=\"\",\"\",INDEX(E_SourceStreams!$A:$N,DV54,AQ$7)))","v":""},{"$f":"IF($E54=\"\",\"\",IF(INDEX(E_SourceStreams!$A:$N,DW54,AR$7)=\"\",\"\",INDEX(E_SourceStreams!$A:$N,DW54,AR$7)))","v":""},{"$f":"IF($E54=\"\",\"\",IF(INDEX(E_SourceStreams!$A:$N,DX54,AS$7)=\"\",\"\",INDEX(E_SourceStreams!$A:$N,DX54,AS$7)))","v":""},{"$f":"IF($E54=\"\",\"\",IF(INDEX(E_SourceStreams!$A:$N,DY54,AT$7)=\"\",\"\",INDEX(E_SourceStreams!$A:$N,DY54,AT$7)))","v":""},{"$f":"IF($E54=\"\",\"\",IF(INDEX(E_SourceStreams!$A:$N,DZ54,AU$7)=\"\",\"\",INDEX(E_SourceStreams!$A:$N,DZ54,AU$7)))","v":""},{"$f":"IF($E54=\"\",\"\",IF(INDEX(E_SourceStreams!$A:$N,EA54,AV$7)=\"\",\"\",INDEX(E_SourceStreams!$A:$N,EA54,AV$7)))","v":""},{"$f":"IF($E54=\"\",\"\",IF(INDEX(E_SourceStreams!$A:$N,EB54,AW$7)=\"\",\"\",INDEX(E_SourceStreams!$A:$N,EB54,AW$7)))","v":""},{"$f":"IF($E54=\"\",\"\",IF(INDEX(E_SourceStreams!$A:$N,EC54,AX$7)=\"\",\"\",INDEX(E_SourceStreams!$A:$N,EC54,AX$7)))","v":""},{"$f":"IF($E54=\"\",\"\",IF(INDEX(E_SourceStreams!$A:$N,ED54,AY$7)=\"\",\"\",INDEX(E_SourceStreams!$A:$N,ED54,AY$7)))","v":""},{"$f":"IF($E54=\"\",\"\",IF(INDEX(E_SourceStreams!$A:$N,EE54,AZ$7)=\"\",\"\",INDEX(E_SourceStreams!$A:$N,EE54,AZ$7)))","v":""},{"$f":"IF($E54=\"\",\"\",IF(INDEX(E_SourceStreams!$A:$N,EF54,BA$7)=\"\",\"\",INDEX(E_SourceStreams!$A:$N,EF54,BA$7)))","v":""},{"$f":"IF($E54=\"\",\"\",IF(INDEX(E_SourceStreams!$A:$N,EG54,BB$7)=\"\",\"\",INDEX(E_SourceStreams!$A:$N,EG54,BB$7)))","v":""},{"$f":"IF($E54=\"\",\"\",IF(INDEX(E_SourceStreams!$A:$N,EH54,BC$7)=\"\",\"\",INDEX(E_SourceStreams!$A:$N,EH54,BC$7)))","v":""},{"$f":"IF($E54=\"\",\"\",IF(INDEX(E_SourceStreams!$A:$N,EI54,BD$7)=\"\",\"\",INDEX(E_SourceStreams!$A:$N,EI54,BD$7)))","v":""},{"$f":"IF($E54=\"\",\"\",IF(INDEX(E_SourceStreams!$A:$N,EJ54,BE$7)=\"\",\"\",INDEX(E_SourceStreams!$A:$N,EJ54,BE$7)))","v":""},{"$f":"IF($E54=\"\",\"\",IF(INDEX(E_SourceStreams!$A:$N,EK54,BF$7)=\"\",\"\",INDEX(E_SourceStreams!$A:$N,EK54,BF$7)))","v":""},{"$f":"IF($E54=\"\",\"\",IF(INDEX(E_SourceStreams!$A:$N,EL54,BG$7)=\"\",\"\",INDEX(E_SourceStreams!$A:$N,EL54,BG$7)))","v":""},{"$f":"IF($E54=\"\",\"\",IF(INDEX(E_SourceStreams!$A:$N,EM54,BH$7)=\"\",\"\",INDEX(E_SourceStreams!$A:$N,EM54,BH$7)))","v":""},{"$f":"IF($E54=\"\",\"\",IF(INDEX(E_SourceStreams!$A:$N,EN54,BI$7)=\"\",\"\",INDEX(E_SourceStreams!$A:$N,EN54,BI$7)))","v":""},{"$f":"IF($E54=\"\",\"\",IF(INDEX(E_SourceStreams!$A:$N,EO54,BJ$7)=\"\",\"\",INDEX(E_SourceStreams!$A:$N,EO54,BJ$7)))","v":""},{"$f":"IF($E54=\"\",\"\",IF(INDEX(E_SourceStreams!$A:$N,EP54,BK$7)=\"\",\"\",INDEX(E_SourceStreams!$A:$N,EP54,BK$7)))","v":""},{"$f":"IF($E54=\"\",\"\",IF(INDEX(E_SourceStreams!$A:$N,EQ54,BL$7)=\"\",\"\",INDEX(E_SourceStreams!$A:$N,EQ54,BL$7)))","v":""},{"$f":"IF($E54=\"\",\"\",IF(INDEX(E_SourceStreams!$A:$N,ER54,BM$7)=\"\",\"\",INDEX(E_SourceStreams!$A:$N,ER54,BM$7)))","v":""},{"$f":"IF($E54=\"\",\"\",IF(INDEX(E_SourceStreams!$A:$N,ES54,BN$7)=\"\",\"\",INDEX(E_SourceStreams!$A:$N,ES54,BN$7)))","v":""},{"$f":"IF($E54=\"\",\"\",IF(INDEX(E_SourceStreams!$A:$N,ET54,BO$7)=\"\",\"\",INDEX(E_SourceStreams!$A:$N,ET54,BO$7)))","v":""},{"$f":"IF($E54=\"\",\"\",IF(INDEX(E_SourceStreams!$A:$N,EU54,BP$7)=\"\",\"\",INDEX(E_SourceStreams!$A:$N,EU54,BP$7)))","v":""},{"$f":"IF($E54=\"\",\"\",IF(INDEX(E_SourceStreams!$A:$N,EV54,BQ$7)=\"\",\"\",INDEX(E_SourceStreams!$A:$N,EV54,BQ$7)))","v":""},{"$f":"IF($E54=\"\",\"\",IF(INDEX(E_SourceStreams!$A:$N,EW54,BR$7)=\"\",\"\",INDEX(E_SourceStreams!$A:$N,EW54,BR$7)))","v":""},{"$f":"IF($E54=\"\",\"\",IF(INDEX(E_SourceStreams!$A:$N,EX54,BS$7)=\"\",\"\",INDEX(E_SourceStreams!$A:$N,EX54,BS$7)))","v":""},{"$f":"IF($E54=\"\",\"\",IF(INDEX(E_SourceStreams!$A:$N,EY54,BT$7)=\"\",\"\",INDEX(E_SourceStreams!$A:$N,EY54,BT$7)))","v":""},null,null,null,null,null,null,null,null,null,null,null,null,null,null,null,"SourceCategory_",{"$f":"INDEX(C_InstallationDescription!$A$226:$A$332,ROWS($CI$11:CI54))=\"ausblenden\"","v":true},"SourceStreamName_",null,2971,2973,2975,2977,2979,2981,2983,2983,2983,2983,2983,2986,2990,2991,2992,2999,3009,3009,3009,3009,3009,3009,3009,3000,3010,3010,3010,3010,3010,3010,3010,3001,3011,3011,3011,3011,3011,3011,3011,3002,3012,3012,3012,3012,3012,3012,3012,3003,3013,3013,3013,3013,3013,3013,3013,3004,3014,3014,3014,3014,3014,3014,3014,3020]
[null,{"$f":"IF(COUNTIF($CK$10:CK55,TRUE)>0,\"\",INDEX(C_InstallationDescription!$E$226:$E$242,ROWS($A$11:A55)))","v":""},{"$f":"IF($E55=\"\",\"\",INDEX(C_InstallationDescription!F:F,MATCH($B55,C_InstallationDescription!$E:$E,0)))","v":""},{"$f":"IF($E55=\"\",\"\",INDEX(C_InstallationDescription!I:I,MATCH($B55,C_InstallationDescription!$E:$E,0)))","v":""},{"$f":"IF($B55=\"\",\"\",INDEX(C_InstallationDescription!F:F,MATCH($CJ55,C_InstallationDescription!$Q:$Q,0)))","v":""},{"$f":"IF($E55=\"\",\"\",INDEX(C_InstallationDescription!L:L,MATCH($CJ55,C_InstallationDescription!$Q:$Q,0)))","v":""},{"$f":"IF($E55=\"\",\"\",INDEX(C_InstallationDescription!M:M,MATCH($CJ55,C_InstallationDescription!$Q:$Q,0)))","v":""},{"$f":"IF($E55=\"\",\"\",INDEX(C_InstallationDescription!N:N,MATCH($CJ55,C_InstallationDescription!$Q:$Q,0)))","v":""},{"$f":"IF($E55=\"\",\"\",IF(INDEX(E_SourceStreams!$A:$N,CN55,I$7)=\"\",\"\",INDEX(E_SourceStreams!$A:$N,CN55,I$7)))","v":""},{"$f":"IF($E55=\"\",\"\",IF(INDEX(E_SourceStreams!$A:$N,CO55,J$7)=\"\",\"\",INDEX(E_SourceStreams!$A:$N,CO55,J$7)))","v":""},{"$f":"IF($E55=\"\",\"\",IF(INDEX(E_SourceStreams!$A:$N,CP55,K$7)=\"\",\"\",INDEX(E_SourceStreams!$A:$N,CP55,K$7)))","v":""},{"$f":"IF($E55=\"\",\"\",IF(INDEX(E_SourceStreams!$A:$N,CQ55,L$7)=\"\",\"\",INDEX(E_SourceStreams!$A:$N,CQ55,L$7)))","v":""},{"$f":"IF($E55=\"\",\"\",IF(INDEX(E_SourceStreams!$A:$N,CR55,M$7)=\"\",\"\",INDEX(E_SourceStreams!$A:$N,CR55,M$7)))","v":""},{"$f":"IF($E55=\"\",\"\",IF(INDEX(E_SourceStreams!$A:$N,CS55,N$7)=\"\",\"\",INDEX(E_SourceStreams!$A:$N,CS55,N$7)))","v":""},{"$f":"IF($E55=\"\",\"\",IF(INDEX(E_SourceStreams!$A:$N,CT55,O$7)=\"\",\"\",INDEX(E_SourceStreams!$A:$N,CT55,O$7)))","v":""},{"$f":"IF($E55=\"\",\"\",IF(INDEX(E_SourceStreams!$A:$N,CU55,P$7)=\"\",\"\",INDEX(E_SourceStreams!$A:$N,CU55,P$7)))","v":""},{"$f":"IF($E55=\"\",\"\",IF(INDEX(E_SourceStreams!$A:$N,CV55,Q$7)=\"\",\"\",INDEX(E_SourceStreams!$A:$N,CV55,Q$7)))","v":""},{"$f":"IF($E55=\"\",\"\",IF(INDEX(E_SourceStreams!$A:$N,CW55,R$7)=\"\",\"\",INDEX(E_SourceStreams!$A:$N,CW55,R$7)))","v":""},{"$f":"IF($E55=\"\",\"\",IF(INDEX(E_SourceStreams!$A:$N,CX55,S$7)=\"\",\"\",INDEX(E_SourceStreams!$A:$N,CX55,S$7)))","v":""},{"$f":"IF($E55=\"\",\"\",IF(INDEX(E_SourceStreams!$A:$N,CY55,T$7)=\"\",\"\",INDEX(E_SourceStreams!$A:$N,CY55,T$7)))","v":""},{"$f":"IF($E55=\"\",\"\",IF(INDEX(E_SourceStreams!$A:$N,CZ55,U$7)=\"\",\"\",INDEX(E_SourceStreams!$A:$N,CZ55,U$7)))","v":""},{"$f":"IF($E55=\"\",\"\",IF(INDEX(E_SourceStreams!$A:$N,DA55,V$7)=\"\",\"\",INDEX(E_SourceStreams!$A:$N,DA55,V$7)))","v":""},{"$f":"IF($E55=\"\",\"\",IF(INDEX(E_SourceStreams!$A:$N,DB55,W$7)=\"\",\"\",INDEX(E_SourceStreams!$A:$N,DB55,W$7)))","v":""},{"$f":"IF($E55=\"\",\"\",IF(INDEX(E_SourceStreams!$A:$N,DC55,X$7)=\"\",\"\",INDEX(E_SourceStreams!$A:$N,DC55,X$7)))","v":""},{"$f":"IF($E55=\"\",\"\",IF(INDEX(E_SourceStreams!$A:$N,DD55,Y$7)=\"\",\"\",INDEX(E_SourceStreams!$A:$N,DD55,Y$7)))","v":""},{"$f":"IF($E55=\"\",\"\",IF(INDEX(E_SourceStreams!$A:$N,DE55,Z$7)=\"\",\"\",INDEX(E_SourceStreams!$A:$N,DE55,Z$7)))","v":""},{"$f":"IF($E55=\"\",\"\",IF(INDEX(E_SourceStreams!$A:$N,DF55,AA$7)=\"\",\"\",INDEX(E_SourceStreams!$A:$N,DF55,AA$7)))","v":""},{"$f":"IF($E55=\"\",\"\",IF(INDEX(E_SourceStreams!$A:$N,DG55,AB$7)=\"\",\"\",INDEX(E_SourceStreams!$A:$N,DG55,AB$7)))","v":""},{"$f":"IF($E55=\"\",\"\",IF(INDEX(E_SourceStreams!$A:$N,DH55,AC$7)=\"\",\"\",INDEX(E_SourceStreams!$A:$N,DH55,AC$7)))","v":""},{"$f":"IF($E55=\"\",\"\",IF(INDEX(E_SourceStreams!$A:$N,DI55,AD$7)=\"\",\"\",INDEX(E_SourceStreams!$A:$N,DI55,AD$7)))","v":""},{"$f":"IF($E55=\"\",\"\",IF(INDEX(E_SourceStreams!$A:$N,DJ55,AE$7)=\"\",\"\",INDEX(E_SourceStreams!$A:$N,DJ55,AE$7)))","v":""},{"$f":"IF($E55=\"\",\"\",IF(INDEX(E_SourceStreams!$A:$N,DK55,AF$7)=\"\",\"\",INDEX(E_SourceStreams!$A:$N,DK55,AF$7)))","v":""},{"$f":"IF($E55=\"\",\"\",IF(INDEX(E_SourceStreams!$A:$N,DL55,AG$7)=\"\",\"\",INDEX(E_SourceStreams!$A:$N,DL55,AG$7)))","v":""},{"$f":"IF($E55=\"\",\"\",IF(INDEX(E_SourceStreams!$A:$N,DM55,AH$7)=\"\",\"\",INDEX(E_SourceStreams!$A:$N,DM55,AH$7)))","v":""},{"$f":"IF($E55=\"\",\"\",IF(INDEX(E_SourceStreams!$A:$N,DN55,AI$7)=\"\",\"\",INDEX(E_SourceStreams!$A:$N,DN55,AI$7)))","v":""},{"$f":"IF($E55=\"\",\"\",IF(INDEX(E_SourceStreams!$A:$N,DO55,AJ$7)=\"\",\"\",INDEX(E_SourceStreams!$A:$N,DO55,AJ$7)))","v":""},{"$f":"IF($E55=\"\",\"\",IF(INDEX(E_SourceStreams!$A:$N,DP55,AK$7)=\"\",\"\",INDEX(E_SourceStreams!$A:$N,DP55,AK$7)))","v":""},{"$f":"IF($E55=\"\",\"\",IF(INDEX(E_SourceStreams!$A:$N,DQ55,AL$7)=\"\",\"\",INDEX(E_SourceStreams!$A:$N,DQ55,AL$7)))","v":""},{"$f":"IF($E55=\"\",\"\",IF(INDEX(E_SourceStreams!$A:$N,DR55,AM$7)=\"\",\"\",INDEX(E_SourceStreams!$A:$N,DR55,AM$7)))","v":""},{"$f":"IF($E55=\"\",\"\",IF(INDEX(E_SourceStreams!$A:$N,DS55,AN$7)=\"\",\"\",INDEX(E_SourceStreams!$A:$N,DS55,AN$7)))","v":""},{"$f":"IF($E55=\"\",\"\",IF(INDEX(E_SourceStreams!$A:$N,DT55,AO$7)=\"\",\"\",INDEX(E_SourceStreams!$A:$N,DT55,AO$7)))","v":""},{"$f":"IF($E55=\"\",\"\",IF(INDEX(E_SourceStreams!$A:$N,DU55,AP$7)=\"\",\"\",INDEX(E_SourceStreams!$A:$N,DU55,AP$7)))","v":""},{"$f":"IF($E55=\"\",\"\",IF(INDEX(E_SourceStreams!$A:$N,DV55,AQ$7)=\"\",\"\",INDEX(E_SourceStreams!$A:$N,DV55,AQ$7)))","v":""},{"$f":"IF($E55=\"\",\"\",IF(INDEX(E_SourceStreams!$A:$N,DW55,AR$7)=\"\",\"\",INDEX(E_SourceStreams!$A:$N,DW55,AR$7)))","v":""},{"$f":"IF($E55=\"\",\"\",IF(INDEX(E_SourceStreams!$A:$N,DX55,AS$7)=\"\",\"\",INDEX(E_SourceStreams!$A:$N,DX55,AS$7)))","v":""},{"$f":"IF($E55=\"\",\"\",IF(INDEX(E_SourceStreams!$A:$N,DY55,AT$7)=\"\",\"\",INDEX(E_SourceStreams!$A:$N,DY55,AT$7)))","v":""},{"$f":"IF($E55=\"\",\"\",IF(INDEX(E_SourceStreams!$A:$N,DZ55,AU$7)=\"\",\"\",INDEX(E_SourceStreams!$A:$N,DZ55,AU$7)))","v":""},{"$f":"IF($E55=\"\",\"\",IF(INDEX(E_SourceStreams!$A:$N,EA55,AV$7)=\"\",\"\",INDEX(E_SourceStreams!$A:$N,EA55,AV$7)))","v":""},{"$f":"IF($E55=\"\",\"\",IF(INDEX(E_SourceStreams!$A:$N,EB55,AW$7)=\"\",\"\",INDEX(E_SourceStreams!$A:$N,EB55,AW$7)))","v":""},{"$f":"IF($E55=\"\",\"\",IF(INDEX(E_SourceStreams!$A:$N,EC55,AX$7)=\"\",\"\",INDEX(E_SourceStreams!$A:$N,EC55,AX$7)))","v":""},{"$f":"IF($E55=\"\",\"\",IF(INDEX(E_SourceStreams!$A:$N,ED55,AY$7)=\"\",\"\",INDEX(E_SourceStreams!$A:$N,ED55,AY$7)))","v":""},{"$f":"IF($E55=\"\",\"\",IF(INDEX(E_SourceStreams!$A:$N,EE55,AZ$7)=\"\",\"\",INDEX(E_SourceStreams!$A:$N,EE55,AZ$7)))","v":""},{"$f":"IF($E55=\"\",\"\",IF(INDEX(E_SourceStreams!$A:$N,EF55,BA$7)=\"\",\"\",INDEX(E_SourceStreams!$A:$N,EF55,BA$7)))","v":""},{"$f":"IF($E55=\"\",\"\",IF(INDEX(E_SourceStreams!$A:$N,EG55,BB$7)=\"\",\"\",INDEX(E_SourceStreams!$A:$N,EG55,BB$7)))","v":""},{"$f":"IF($E55=\"\",\"\",IF(INDEX(E_SourceStreams!$A:$N,EH55,BC$7)=\"\",\"\",INDEX(E_SourceStreams!$A:$N,EH55,BC$7)))","v":""},{"$f":"IF($E55=\"\",\"\",IF(INDEX(E_SourceStreams!$A:$N,EI55,BD$7)=\"\",\"\",INDEX(E_SourceStreams!$A:$N,EI55,BD$7)))","v":""},{"$f":"IF($E55=\"\",\"\",IF(INDEX(E_SourceStreams!$A:$N,EJ55,BE$7)=\"\",\"\",INDEX(E_SourceStreams!$A:$N,EJ55,BE$7)))","v":""},{"$f":"IF($E55=\"\",\"\",IF(INDEX(E_SourceStreams!$A:$N,EK55,BF$7)=\"\",\"\",INDEX(E_SourceStreams!$A:$N,EK55,BF$7)))","v":""},{"$f":"IF($E55=\"\",\"\",IF(INDEX(E_SourceStreams!$A:$N,EL55,BG$7)=\"\",\"\",INDEX(E_SourceStreams!$A:$N,EL55,BG$7)))","v":""},{"$f":"IF($E55=\"\",\"\",IF(INDEX(E_SourceStreams!$A:$N,EM55,BH$7)=\"\",\"\",INDEX(E_SourceStreams!$A:$N,EM55,BH$7)))","v":""},{"$f":"IF($E55=\"\",\"\",IF(INDEX(E_SourceStreams!$A:$N,EN55,BI$7)=\"\",\"\",INDEX(E_SourceStreams!$A:$N,EN55,BI$7)))","v":""},{"$f":"IF($E55=\"\",\"\",IF(INDEX(E_SourceStreams!$A:$N,EO55,BJ$7)=\"\",\"\",INDEX(E_SourceStreams!$A:$N,EO55,BJ$7)))","v":""},{"$f":"IF($E55=\"\",\"\",IF(INDEX(E_SourceStreams!$A:$N,EP55,BK$7)=\"\",\"\",INDEX(E_SourceStreams!$A:$N,EP55,BK$7)))","v":""},{"$f":"IF($E55=\"\",\"\",IF(INDEX(E_SourceStreams!$A:$N,EQ55,BL$7)=\"\",\"\",INDEX(E_SourceStreams!$A:$N,EQ55,BL$7)))","v":""},{"$f":"IF($E55=\"\",\"\",IF(INDEX(E_SourceStreams!$A:$N,ER55,BM$7)=\"\",\"\",INDEX(E_SourceStreams!$A:$N,ER55,BM$7)))","v":""},{"$f":"IF($E55=\"\",\"\",IF(INDEX(E_SourceStreams!$A:$N,ES55,BN$7)=\"\",\"\",INDEX(E_SourceStreams!$A:$N,ES55,BN$7)))","v":""},{"$f":"IF($E55=\"\",\"\",IF(INDEX(E_SourceStreams!$A:$N,ET55,BO$7)=\"\",\"\",INDEX(E_SourceStreams!$A:$N,ET55,BO$7)))","v":""},{"$f":"IF($E55=\"\",\"\",IF(INDEX(E_SourceStreams!$A:$N,EU55,BP$7)=\"\",\"\",INDEX(E_SourceStreams!$A:$N,EU55,BP$7)))","v":""},{"$f":"IF($E55=\"\",\"\",IF(INDEX(E_SourceStreams!$A:$N,EV55,BQ$7)=\"\",\"\",INDEX(E_SourceStreams!$A:$N,EV55,BQ$7)))","v":""},{"$f":"IF($E55=\"\",\"\",IF(INDEX(E_SourceStreams!$A:$N,EW55,BR$7)=\"\",\"\",INDEX(E_SourceStreams!$A:$N,EW55,BR$7)))","v":""},{"$f":"IF($E55=\"\",\"\",IF(INDEX(E_SourceStreams!$A:$N,EX55,BS$7)=\"\",\"\",INDEX(E_SourceStreams!$A:$N,EX55,BS$7)))","v":""},{"$f":"IF($E55=\"\",\"\",IF(INDEX(E_SourceStreams!$A:$N,EY55,BT$7)=\"\",\"\",INDEX(E_SourceStreams!$A:$N,EY55,BT$7)))","v":""},null,null,null,null,null,null,null,null,null,null,null,null,null,null,null,"SourceCategory_",{"$f":"INDEX(C_InstallationDescription!$A$226:$A$332,ROWS($CI$11:CI55))=\"ausblenden\"","v":true},"SourceStreamName_",null,3037,3039,3041,3043,3045,3047,3049,3049,3049,3049,3049,3052,3056,3057,3058,3065,3075,3075,3075,3075,3075,3075,3075,3066,3076,3076,3076,3076,3076,3076,3076,3067,3077,3077,3077,3077,3077,3077,3077,3068,3078,3078,3078,3078,3078,3078,3078,3069,3079,3079,3079,3079,3079,3079,3079,3070,3080,3080,3080,3080,3080,3080,3080,3086]
[null,{"$f":"IF(COUNTIF($CK$10:CK56,TRUE)>0,\"\",INDEX(C_InstallationDescription!$E$226:$E$242,ROWS($A$11:A56)))","v":""},{"$f":"IF($E56=\"\",\"\",INDEX(C_InstallationDescription!F:F,MATCH($B56,C_InstallationDescription!$E:$E,0)))","v":""},{"$f":"IF($E56=\"\",\"\",INDEX(C_InstallationDescription!I:I,MATCH($B56,C_InstallationDescription!$E:$E,0)))","v":""},{"$f":"IF($B56=\"\",\"\",INDEX(C_InstallationDescription!F:F,MATCH($CJ56,C_InstallationDescription!$Q:$Q,0)))","v":""},{"$f":"IF($E56=\"\",\"\",INDEX(C_InstallationDescription!L:L,MATCH($CJ56,C_InstallationDescription!$Q:$Q,0)))","v":""},{"$f":"IF($E56=\"\",\"\",INDEX(C_InstallationDescription!M:M,MATCH($CJ56,C_InstallationDescription!$Q:$Q,0)))","v":""},{"$f":"IF($E56=\"\",\"\",INDEX(C_InstallationDescription!N:N,MATCH($CJ56,C_InstallationDescription!$Q:$Q,0)))","v":""},{"$f":"IF($E56=\"\",\"\",IF(INDEX(E_SourceStreams!$A:$N,CN56,I$7)=\"\",\"\",INDEX(E_SourceStreams!$A:$N,CN56,I$7)))","v":""},{"$f":"IF($E56=\"\",\"\",IF(INDEX(E_SourceStreams!$A:$N,CO56,J$7)=\"\",\"\",INDEX(E_SourceStreams!$A:$N,CO56,J$7)))","v":""},{"$f":"IF($E56=\"\",\"\",IF(INDEX(E_SourceStreams!$A:$N,CP56,K$7)=\"\",\"\",INDEX(E_SourceStreams!$A:$N,CP56,K$7)))","v":""},{"$f":"IF($E56=\"\",\"\",IF(INDEX(E_SourceStreams!$A:$N,CQ56,L$7)=\"\",\"\",INDEX(E_SourceStreams!$A:$N,CQ56,L$7)))","v":""},{"$f":"IF($E56=\"\",\"\",IF(INDEX(E_SourceStreams!$A:$N,CR56,M$7)=\"\",\"\",INDEX(E_SourceStreams!$A:$N,CR56,M$7)))","v":""},{"$f":"IF($E56=\"\",\"\",IF(INDEX(E_SourceStreams!$A:$N,CS56,N$7)=\"\",\"\",INDEX(E_SourceStreams!$A:$N,CS56,N$7)))","v":""},{"$f":"IF($E56=\"\",\"\",IF(INDEX(E_SourceStreams!$A:$N,CT56,O$7)=\"\",\"\",INDEX(E_SourceStreams!$A:$N,CT56,O$7)))","v":""},{"$f":"IF($E56=\"\",\"\",IF(INDEX(E_SourceStreams!$A:$N,CU56,P$7)=\"\",\"\",INDEX(E_SourceStreams!$A:$N,CU56,P$7)))","v":""},{"$f":"IF($E56=\"\",\"\",IF(INDEX(E_SourceStreams!$A:$N,CV56,Q$7)=\"\",\"\",INDEX(E_SourceStreams!$A:$N,CV56,Q$7)))","v":""},{"$f":"IF($E56=\"\",\"\",IF(INDEX(E_SourceStreams!$A:$N,CW56,R$7)=\"\",\"\",INDEX(E_SourceStreams!$A:$N,CW56,R$7)))","v":""},{"$f":"IF($E56=\"\",\"\",IF(INDEX(E_SourceStreams!$A:$N,CX56,S$7)=\"\",\"\",INDEX(E_SourceStreams!$A:$N,CX56,S$7)))","v":""},{"$f":"IF($E56=\"\",\"\",IF(INDEX(E_SourceStreams!$A:$N,CY56,T$7)=\"\",\"\",INDEX(E_SourceStreams!$A:$N,CY56,T$7)))","v":""},{"$f":"IF($E56=\"\",\"\",IF(INDEX(E_SourceStreams!$A:$N,CZ56,U$7)=\"\",\"\",INDEX(E_SourceStreams!$A:$N,CZ56,U$7)))","v":""},{"$f":"IF($E56=\"\",\"\",IF(INDEX(E_SourceStreams!$A:$N,DA56,V$7)=\"\",\"\",INDEX(E_SourceStreams!$A:$N,DA56,V$7)))","v":""},{"$f":"IF($E56=\"\",\"\",IF(INDEX(E_SourceStreams!$A:$N,DB56,W$7)=\"\",\"\",INDEX(E_SourceStreams!$A:$N,DB56,W$7)))","v":""},{"$f":"IF($E56=\"\",\"\",IF(INDEX(E_SourceStreams!$A:$N,DC56,X$7)=\"\",\"\",INDEX(E_SourceStreams!$A:$N,DC56,X$7)))","v":""},{"$f":"IF($E56=\"\",\"\",IF(INDEX(E_SourceStreams!$A:$N,DD56,Y$7)=\"\",\"\",INDEX(E_SourceStreams!$A:$N,DD56,Y$7)))","v":""},{"$f":"IF($E56=\"\",\"\",IF(INDEX(E_SourceStreams!$A:$N,DE56,Z$7)=\"\",\"\",INDEX(E_SourceStreams!$A:$N,DE56,Z$7)))","v":""},{"$f":"IF($E56=\"\",\"\",IF(INDEX(E_SourceStreams!$A:$N,DF56,AA$7)=\"\",\"\",INDEX(E_SourceStreams!$A:$N,DF56,AA$7)))","v":""},{"$f":"IF($E56=\"\",\"\",IF(INDEX(E_SourceStreams!$A:$N,DG56,AB$7)=\"\",\"\",INDEX(E_SourceStreams!$A:$N,DG56,AB$7)))","v":""},{"$f":"IF($E56=\"\",\"\",IF(INDEX(E_SourceStreams!$A:$N,DH56,AC$7)=\"\",\"\",INDEX(E_SourceStreams!$A:$N,DH56,AC$7)))","v":""},{"$f":"IF($E56=\"\",\"\",IF(INDEX(E_SourceStreams!$A:$N,DI56,AD$7)=\"\",\"\",INDEX(E_SourceStreams!$A:$N,DI56,AD$7)))","v":""},{"$f":"IF($E56=\"\",\"\",IF(INDEX(E_SourceStreams!$A:$N,DJ56,AE$7)=\"\",\"\",INDEX(E_SourceStreams!$A:$N,DJ56,AE$7)))","v":""},{"$f":"IF($E56=\"\",\"\",IF(INDEX(E_SourceStreams!$A:$N,DK56,AF$7)=\"\",\"\",INDEX(E_SourceStreams!$A:$N,DK56,AF$7)))","v":""},{"$f":"IF($E56=\"\",\"\",IF(INDEX(E_SourceStreams!$A:$N,DL56,AG$7)=\"\",\"\",INDEX(E_SourceStreams!$A:$N,DL56,AG$7)))","v":""},{"$f":"IF($E56=\"\",\"\",IF(INDEX(E_SourceStreams!$A:$N,DM56,AH$7)=\"\",\"\",INDEX(E_SourceStreams!$A:$N,DM56,AH$7)))","v":""},{"$f":"IF($E56=\"\",\"\",IF(INDEX(E_SourceStreams!$A:$N,DN56,AI$7)=\"\",\"\",INDEX(E_SourceStreams!$A:$N,DN56,AI$7)))","v":""},{"$f":"IF($E56=\"\",\"\",IF(INDEX(E_SourceStreams!$A:$N,DO56,AJ$7)=\"\",\"\",INDEX(E_SourceStreams!$A:$N,DO56,AJ$7)))","v":""},{"$f":"IF($E56=\"\",\"\",IF(INDEX(E_SourceStreams!$A:$N,DP56,AK$7)=\"\",\"\",INDEX(E_SourceStreams!$A:$N,DP56,AK$7)))","v":""},{"$f":"IF($E56=\"\",\"\",IF(INDEX(E_SourceStreams!$A:$N,DQ56,AL$7)=\"\",\"\",INDEX(E_SourceStreams!$A:$N,DQ56,AL$7)))","v":""},{"$f":"IF($E56=\"\",\"\",IF(INDEX(E_SourceStreams!$A:$N,DR56,AM$7)=\"\",\"\",INDEX(E_SourceStreams!$A:$N,DR56,AM$7)))","v":""},{"$f":"IF($E56=\"\",\"\",IF(INDEX(E_SourceStreams!$A:$N,DS56,AN$7)=\"\",\"\",INDEX(E_SourceStreams!$A:$N,DS56,AN$7)))","v":""},{"$f":"IF($E56=\"\",\"\",IF(INDEX(E_SourceStreams!$A:$N,DT56,AO$7)=\"\",\"\",INDEX(E_SourceStreams!$A:$N,DT56,AO$7)))","v":""},{"$f":"IF($E56=\"\",\"\",IF(INDEX(E_SourceStreams!$A:$N,DU56,AP$7)=\"\",\"\",INDEX(E_SourceStreams!$A:$N,DU56,AP$7)))","v":""},{"$f":"IF($E56=\"\",\"\",IF(INDEX(E_SourceStreams!$A:$N,DV56,AQ$7)=\"\",\"\",INDEX(E_SourceStreams!$A:$N,DV56,AQ$7)))","v":""},{"$f":"IF($E56=\"\",\"\",IF(INDEX(E_SourceStreams!$A:$N,DW56,AR$7)=\"\",\"\",INDEX(E_SourceStreams!$A:$N,DW56,AR$7)))","v":""},{"$f":"IF($E56=\"\",\"\",IF(INDEX(E_SourceStreams!$A:$N,DX56,AS$7)=\"\",\"\",INDEX(E_SourceStreams!$A:$N,DX56,AS$7)))","v":""},{"$f":"IF($E56=\"\",\"\",IF(INDEX(E_SourceStreams!$A:$N,DY56,AT$7)=\"\",\"\",INDEX(E_SourceStreams!$A:$N,DY56,AT$7)))","v":""},{"$f":"IF($E56=\"\",\"\",IF(INDEX(E_SourceStreams!$A:$N,DZ56,AU$7)=\"\",\"\",INDEX(E_SourceStreams!$A:$N,DZ56,AU$7)))","v":""},{"$f":"IF($E56=\"\",\"\",IF(INDEX(E_SourceStreams!$A:$N,EA56,AV$7)=\"\",\"\",INDEX(E_SourceStreams!$A:$N,EA56,AV$7)))","v":""},{"$f":"IF($E56=\"\",\"\",IF(INDEX(E_SourceStreams!$A:$N,EB56,AW$7)=\"\",\"\",INDEX(E_SourceStreams!$A:$N,EB56,AW$7)))","v":""},{"$f":"IF($E56=\"\",\"\",IF(INDEX(E_SourceStreams!$A:$N,EC56,AX$7)=\"\",\"\",INDEX(E_SourceStreams!$A:$N,EC56,AX$7)))","v":""},{"$f":"IF($E56=\"\",\"\",IF(INDEX(E_SourceStreams!$A:$N,ED56,AY$7)=\"\",\"\",INDEX(E_SourceStreams!$A:$N,ED56,AY$7)))","v":""},{"$f":"IF($E56=\"\",\"\",IF(INDEX(E_SourceStreams!$A:$N,EE56,AZ$7)=\"\",\"\",INDEX(E_SourceStreams!$A:$N,EE56,AZ$7)))","v":""},{"$f":"IF($E56=\"\",\"\",IF(INDEX(E_SourceStreams!$A:$N,EF56,BA$7)=\"\",\"\",INDEX(E_SourceStreams!$A:$N,EF56,BA$7)))","v":""},{"$f":"IF($E56=\"\",\"\",IF(INDEX(E_SourceStreams!$A:$N,EG56,BB$7)=\"\",\"\",INDEX(E_SourceStreams!$A:$N,EG56,BB$7)))","v":""},{"$f":"IF($E56=\"\",\"\",IF(INDEX(E_SourceStreams!$A:$N,EH56,BC$7)=\"\",\"\",INDEX(E_SourceStreams!$A:$N,EH56,BC$7)))","v":""},{"$f":"IF($E56=\"\",\"\",IF(INDEX(E_SourceStreams!$A:$N,EI56,BD$7)=\"\",\"\",INDEX(E_SourceStreams!$A:$N,EI56,BD$7)))","v":""},{"$f":"IF($E56=\"\",\"\",IF(INDEX(E_SourceStreams!$A:$N,EJ56,BE$7)=\"\",\"\",INDEX(E_SourceStreams!$A:$N,EJ56,BE$7)))","v":""},{"$f":"IF($E56=\"\",\"\",IF(INDEX(E_SourceStreams!$A:$N,EK56,BF$7)=\"\",\"\",INDEX(E_SourceStreams!$A:$N,EK56,BF$7)))","v":""},{"$f":"IF($E56=\"\",\"\",IF(INDEX(E_SourceStreams!$A:$N,EL56,BG$7)=\"\",\"\",INDEX(E_SourceStreams!$A:$N,EL56,BG$7)))","v":""},{"$f":"IF($E56=\"\",\"\",IF(INDEX(E_SourceStreams!$A:$N,EM56,BH$7)=\"\",\"\",INDEX(E_SourceStreams!$A:$N,EM56,BH$7)))","v":""},{"$f":"IF($E56=\"\",\"\",IF(INDEX(E_SourceStreams!$A:$N,EN56,BI$7)=\"\",\"\",INDEX(E_SourceStreams!$A:$N,EN56,BI$7)))","v":""},{"$f":"IF($E56=\"\",\"\",IF(INDEX(E_SourceStreams!$A:$N,EO56,BJ$7)=\"\",\"\",INDEX(E_SourceStreams!$A:$N,EO56,BJ$7)))","v":""},{"$f":"IF($E56=\"\",\"\",IF(INDEX(E_SourceStreams!$A:$N,EP56,BK$7)=\"\",\"\",INDEX(E_SourceStreams!$A:$N,EP56,BK$7)))","v":""},{"$f":"IF($E56=\"\",\"\",IF(INDEX(E_SourceStreams!$A:$N,EQ56,BL$7)=\"\",\"\",INDEX(E_SourceStreams!$A:$N,EQ56,BL$7)))","v":""},{"$f":"IF($E56=\"\",\"\",IF(INDEX(E_SourceStreams!$A:$N,ER56,BM$7)=\"\",\"\",INDEX(E_SourceStreams!$A:$N,ER56,BM$7)))","v":""},{"$f":"IF($E56=\"\",\"\",IF(INDEX(E_SourceStreams!$A:$N,ES56,BN$7)=\"\",\"\",INDEX(E_SourceStreams!$A:$N,ES56,BN$7)))","v":""},{"$f":"IF($E56=\"\",\"\",IF(INDEX(E_SourceStreams!$A:$N,ET56,BO$7)=\"\",\"\",INDEX(E_SourceStreams!$A:$N,ET56,BO$7)))","v":""},{"$f":"IF($E56=\"\",\"\",IF(INDEX(E_SourceStreams!$A:$N,EU56,BP$7)=\"\",\"\",INDEX(E_SourceStreams!$A:$N,EU56,BP$7)))","v":""},{"$f":"IF($E56=\"\",\"\",IF(INDEX(E_SourceStreams!$A:$N,EV56,BQ$7)=\"\",\"\",INDEX(E_SourceStreams!$A:$N,EV56,BQ$7)))","v":""},{"$f":"IF($E56=\"\",\"\",IF(INDEX(E_SourceStreams!$A:$N,EW56,BR$7)=\"\",\"\",INDEX(E_SourceStreams!$A:$N,EW56,BR$7)))","v":""},{"$f":"IF($E56=\"\",\"\",IF(INDEX(E_SourceStreams!$A:$N,EX56,BS$7)=\"\",\"\",INDEX(E_SourceStreams!$A:$N,EX56,BS$7)))","v":""},{"$f":"IF($E56=\"\",\"\",IF(INDEX(E_SourceStreams!$A:$N,EY56,BT$7)=\"\",\"\",INDEX(E_SourceStreams!$A:$N,EY56,BT$7)))","v":""},null,null,null,null,null,null,null,null,null,null,null,null,null,null,null,"SourceCategory_",{"$f":"INDEX(C_InstallationDescription!$A$226:$A$332,ROWS($CI$11:CI56))=\"ausblenden\"","v":true},"SourceStreamName_",null,3103,3105,3107,3109,3111,3113,3115,3115,3115,3115,3115,3118,3122,3123,3124,3131,3141,3141,3141,3141,3141,3141,3141,3132,3142,3142,3142,3142,3142,3142,3142,3133,3143,3143,3143,3143,3143,3143,3143,3134,3144,3144,3144,3144,3144,3144,3144,3135,3145,3145,3145,3145,3145,3145,3145,3136,3146,3146,3146,3146,3146,3146,3146,3152]
[null,{"$f":"IF(COUNTIF($CK$10:CK57,TRUE)>0,\"\",INDEX(C_InstallationDescription!$E$226:$E$242,ROWS($A$11:A57)))","v":""},{"$f":"IF($E57=\"\",\"\",INDEX(C_InstallationDescription!F:F,MATCH($B57,C_InstallationDescription!$E:$E,0)))","v":""},{"$f":"IF($E57=\"\",\"\",INDEX(C_InstallationDescription!I:I,MATCH($B57,C_InstallationDescription!$E:$E,0)))","v":""},{"$f":"IF($B57=\"\",\"\",INDEX(C_InstallationDescription!F:F,MATCH($CJ57,C_InstallationDescription!$Q:$Q,0)))","v":""},{"$f":"IF($E57=\"\",\"\",INDEX(C_InstallationDescription!L:L,MATCH($CJ57,C_InstallationDescription!$Q:$Q,0)))","v":""},{"$f":"IF($E57=\"\",\"\",INDEX(C_InstallationDescription!M:M,MATCH($CJ57,C_InstallationDescription!$Q:$Q,0)))","v":""},{"$f":"IF($E57=\"\",\"\",INDEX(C_InstallationDescription!N:N,MATCH($CJ57,C_InstallationDescription!$Q:$Q,0)))","v":""},{"$f":"IF($E57=\"\",\"\",IF(INDEX(E_SourceStreams!$A:$N,CN57,I$7)=\"\",\"\",INDEX(E_SourceStreams!$A:$N,CN57,I$7)))","v":""},{"$f":"IF($E57=\"\",\"\",IF(INDEX(E_SourceStreams!$A:$N,CO57,J$7)=\"\",\"\",INDEX(E_SourceStreams!$A:$N,CO57,J$7)))","v":""},{"$f":"IF($E57=\"\",\"\",IF(INDEX(E_SourceStreams!$A:$N,CP57,K$7)=\"\",\"\",INDEX(E_SourceStreams!$A:$N,CP57,K$7)))","v":""},{"$f":"IF($E57=\"\",\"\",IF(INDEX(E_SourceStreams!$A:$N,CQ57,L$7)=\"\",\"\",INDEX(E_SourceStreams!$A:$N,CQ57,L$7)))","v":""},{"$f":"IF($E57=\"\",\"\",IF(INDEX(E_SourceStreams!$A:$N,CR57,M$7)=\"\",\"\",INDEX(E_SourceStreams!$A:$N,CR57,M$7)))","v":""},{"$f":"IF($E57=\"\",\"\",IF(INDEX(E_SourceStreams!$A:$N,CS57,N$7)=\"\",\"\",INDEX(E_SourceStreams!$A:$N,CS57,N$7)))","v":""},{"$f":"IF($E57=\"\",\"\",IF(INDEX(E_SourceStreams!$A:$N,CT57,O$7)=\"\",\"\",INDEX(E_SourceStreams!$A:$N,CT57,O$7)))","v":""},{"$f":"IF($E57=\"\",\"\",IF(INDEX(E_SourceStreams!$A:$N,CU57,P$7)=\"\",\"\",INDEX(E_SourceStreams!$A:$N,CU57,P$7)))","v":""},{"$f":"IF($E57=\"\",\"\",IF(INDEX(E_SourceStreams!$A:$N,CV57,Q$7)=\"\",\"\",INDEX(E_SourceStreams!$A:$N,CV57,Q$7)))","v":""},{"$f":"IF($E57=\"\",\"\",IF(INDEX(E_SourceStreams!$A:$N,CW57,R$7)=\"\",\"\",INDEX(E_SourceStreams!$A:$N,CW57,R$7)))","v":""},{"$f":"IF($E57=\"\",\"\",IF(INDEX(E_SourceStreams!$A:$N,CX57,S$7)=\"\",\"\",INDEX(E_SourceStreams!$A:$N,CX57,S$7)))","v":""},{"$f":"IF($E57=\"\",\"\",IF(INDEX(E_SourceStreams!$A:$N,CY57,T$7)=\"\",\"\",INDEX(E_SourceStreams!$A:$N,CY57,T$7)))","v":""},{"$f":"IF($E57=\"\",\"\",IF(INDEX(E_SourceStreams!$A:$N,CZ57,U$7)=\"\",\"\",INDEX(E_SourceStreams!$A:$N,CZ57,U$7)))","v":""},{"$f":"IF($E57=\"\",\"\",IF(INDEX(E_SourceStreams!$A:$N,DA57,V$7)=\"\",\"\",INDEX(E_SourceStreams!$A:$N,DA57,V$7)))","v":""},{"$f":"IF($E57=\"\",\"\",IF(INDEX(E_SourceStreams!$A:$N,DB57,W$7)=\"\",\"\",INDEX(E_SourceStreams!$A:$N,DB57,W$7)))","v":""},{"$f":"IF($E57=\"\",\"\",IF(INDEX(E_SourceStreams!$A:$N,DC57,X$7)=\"\",\"\",INDEX(E_SourceStreams!$A:$N,DC57,X$7)))","v":""},{"$f":"IF($E57=\"\",\"\",IF(INDEX(E_SourceStreams!$A:$N,DD57,Y$7)=\"\",\"\",INDEX(E_SourceStreams!$A:$N,DD57,Y$7)))","v":""},{"$f":"IF($E57=\"\",\"\",IF(INDEX(E_SourceStreams!$A:$N,DE57,Z$7)=\"\",\"\",INDEX(E_SourceStreams!$A:$N,DE57,Z$7)))","v":""},{"$f":"IF($E57=\"\",\"\",IF(INDEX(E_SourceStreams!$A:$N,DF57,AA$7)=\"\",\"\",INDEX(E_SourceStreams!$A:$N,DF57,AA$7)))","v":""},{"$f":"IF($E57=\"\",\"\",IF(INDEX(E_SourceStreams!$A:$N,DG57,AB$7)=\"\",\"\",INDEX(E_SourceStreams!$A:$N,DG57,AB$7)))","v":""},{"$f":"IF($E57=\"\",\"\",IF(INDEX(E_SourceStreams!$A:$N,DH57,AC$7)=\"\",\"\",INDEX(E_SourceStreams!$A:$N,DH57,AC$7)))","v":""},{"$f":"IF($E57=\"\",\"\",IF(INDEX(E_SourceStreams!$A:$N,DI57,AD$7)=\"\",\"\",INDEX(E_SourceStreams!$A:$N,DI57,AD$7)))","v":""},{"$f":"IF($E57=\"\",\"\",IF(INDEX(E_SourceStreams!$A:$N,DJ57,AE$7)=\"\",\"\",INDEX(E_SourceStreams!$A:$N,DJ57,AE$7)))","v":""},{"$f":"IF($E57=\"\",\"\",IF(INDEX(E_SourceStreams!$A:$N,DK57,AF$7)=\"\",\"\",INDEX(E_SourceStreams!$A:$N,DK57,AF$7)))","v":""},{"$f":"IF($E57=\"\",\"\",IF(INDEX(E_SourceStreams!$A:$N,DL57,AG$7)=\"\",\"\",INDEX(E_SourceStreams!$A:$N,DL57,AG$7)))","v":""},{"$f":"IF($E57=\"\",\"\",IF(INDEX(E_SourceStreams!$A:$N,DM57,AH$7)=\"\",\"\",INDEX(E_SourceStreams!$A:$N,DM57,AH$7)))","v":""},{"$f":"IF($E57=\"\",\"\",IF(INDEX(E_SourceStreams!$A:$N,DN57,AI$7)=\"\",\"\",INDEX(E_SourceStreams!$A:$N,DN57,AI$7)))","v":""},{"$f":"IF($E57=\"\",\"\",IF(INDEX(E_SourceStreams!$A:$N,DO57,AJ$7)=\"\",\"\",INDEX(E_SourceStreams!$A:$N,DO57,AJ$7)))","v":""},{"$f":"IF($E57=\"\",\"\",IF(INDEX(E_SourceStreams!$A:$N,DP57,AK$7)=\"\",\"\",INDEX(E_SourceStreams!$A:$N,DP57,AK$7)))","v":""},{"$f":"IF($E57=\"\",\"\",IF(INDEX(E_SourceStreams!$A:$N,DQ57,AL$7)=\"\",\"\",INDEX(E_SourceStreams!$A:$N,DQ57,AL$7)))","v":""},{"$f":"IF($E57=\"\",\"\",IF(INDEX(E_SourceStreams!$A:$N,DR57,AM$7)=\"\",\"\",INDEX(E_SourceStreams!$A:$N,DR57,AM$7)))","v":""},{"$f":"IF($E57=\"\",\"\",IF(INDEX(E_SourceStreams!$A:$N,DS57,AN$7)=\"\",\"\",INDEX(E_SourceStreams!$A:$N,DS57,AN$7)))","v":""},{"$f":"IF($E57=\"\",\"\",IF(INDEX(E_SourceStreams!$A:$N,DT57,AO$7)=\"\",\"\",INDEX(E_SourceStreams!$A:$N,DT57,AO$7)))","v":""},{"$f":"IF($E57=\"\",\"\",IF(INDEX(E_SourceStreams!$A:$N,DU57,AP$7)=\"\",\"\",INDEX(E_SourceStreams!$A:$N,DU57,AP$7)))","v":""},{"$f":"IF($E57=\"\",\"\",IF(INDEX(E_SourceStreams!$A:$N,DV57,AQ$7)=\"\",\"\",INDEX(E_SourceStreams!$A:$N,DV57,AQ$7)))","v":""},{"$f":"IF($E57=\"\",\"\",IF(INDEX(E_SourceStreams!$A:$N,DW57,AR$7)=\"\",\"\",INDEX(E_SourceStreams!$A:$N,DW57,AR$7)))","v":""},{"$f":"IF($E57=\"\",\"\",IF(INDEX(E_SourceStreams!$A:$N,DX57,AS$7)=\"\",\"\",INDEX(E_SourceStreams!$A:$N,DX57,AS$7)))","v":""},{"$f":"IF($E57=\"\",\"\",IF(INDEX(E_SourceStreams!$A:$N,DY57,AT$7)=\"\",\"\",INDEX(E_SourceStreams!$A:$N,DY57,AT$7)))","v":""},{"$f":"IF($E57=\"\",\"\",IF(INDEX(E_SourceStreams!$A:$N,DZ57,AU$7)=\"\",\"\",INDEX(E_SourceStreams!$A:$N,DZ57,AU$7)))","v":""},{"$f":"IF($E57=\"\",\"\",IF(INDEX(E_SourceStreams!$A:$N,EA57,AV$7)=\"\",\"\",INDEX(E_SourceStreams!$A:$N,EA57,AV$7)))","v":""},{"$f":"IF($E57=\"\",\"\",IF(INDEX(E_SourceStreams!$A:$N,EB57,AW$7)=\"\",\"\",INDEX(E_SourceStreams!$A:$N,EB57,AW$7)))","v":""},{"$f":"IF($E57=\"\",\"\",IF(INDEX(E_SourceStreams!$A:$N,EC57,AX$7)=\"\",\"\",INDEX(E_SourceStreams!$A:$N,EC57,AX$7)))","v":""},{"$f":"IF($E57=\"\",\"\",IF(INDEX(E_SourceStreams!$A:$N,ED57,AY$7)=\"\",\"\",INDEX(E_SourceStreams!$A:$N,ED57,AY$7)))","v":""},{"$f":"IF($E57=\"\",\"\",IF(INDEX(E_SourceStreams!$A:$N,EE57,AZ$7)=\"\",\"\",INDEX(E_SourceStreams!$A:$N,EE57,AZ$7)))","v":""},{"$f":"IF($E57=\"\",\"\",IF(INDEX(E_SourceStreams!$A:$N,EF57,BA$7)=\"\",\"\",INDEX(E_SourceStreams!$A:$N,EF57,BA$7)))","v":""},{"$f":"IF($E57=\"\",\"\",IF(INDEX(E_SourceStreams!$A:$N,EG57,BB$7)=\"\",\"\",INDEX(E_SourceStreams!$A:$N,EG57,BB$7)))","v":""},{"$f":"IF($E57=\"\",\"\",IF(INDEX(E_SourceStreams!$A:$N,EH57,BC$7)=\"\",\"\",INDEX(E_SourceStreams!$A:$N,EH57,BC$7)))","v":""},{"$f":"IF($E57=\"\",\"\",IF(INDEX(E_SourceStreams!$A:$N,EI57,BD$7)=\"\",\"\",INDEX(E_SourceStreams!$A:$N,EI57,BD$7)))","v":""},{"$f":"IF($E57=\"\",\"\",IF(INDEX(E_SourceStreams!$A:$N,EJ57,BE$7)=\"\",\"\",INDEX(E_SourceStreams!$A:$N,EJ57,BE$7)))","v":""},{"$f":"IF($E57=\"\",\"\",IF(INDEX(E_SourceStreams!$A:$N,EK57,BF$7)=\"\",\"\",INDEX(E_SourceStreams!$A:$N,EK57,BF$7)))","v":""},{"$f":"IF($E57=\"\",\"\",IF(INDEX(E_SourceStreams!$A:$N,EL57,BG$7)=\"\",\"\",INDEX(E_SourceStreams!$A:$N,EL57,BG$7)))","v":""},{"$f":"IF($E57=\"\",\"\",IF(INDEX(E_SourceStreams!$A:$N,EM57,BH$7)=\"\",\"\",INDEX(E_SourceStreams!$A:$N,EM57,BH$7)))","v":""},{"$f":"IF($E57=\"\",\"\",IF(INDEX(E_SourceStreams!$A:$N,EN57,BI$7)=\"\",\"\",INDEX(E_SourceStreams!$A:$N,EN57,BI$7)))","v":""},{"$f":"IF($E57=\"\",\"\",IF(INDEX(E_SourceStreams!$A:$N,EO57,BJ$7)=\"\",\"\",INDEX(E_SourceStreams!$A:$N,EO57,BJ$7)))","v":""},{"$f":"IF($E57=\"\",\"\",IF(INDEX(E_SourceStreams!$A:$N,EP57,BK$7)=\"\",\"\",INDEX(E_SourceStreams!$A:$N,EP57,BK$7)))","v":""},{"$f":"IF($E57=\"\",\"\",IF(INDEX(E_SourceStreams!$A:$N,EQ57,BL$7)=\"\",\"\",INDEX(E_SourceStreams!$A:$N,EQ57,BL$7)))","v":""},{"$f":"IF($E57=\"\",\"\",IF(INDEX(E_SourceStreams!$A:$N,ER57,BM$7)=\"\",\"\",INDEX(E_SourceStreams!$A:$N,ER57,BM$7)))","v":""},{"$f":"IF($E57=\"\",\"\",IF(INDEX(E_SourceStreams!$A:$N,ES57,BN$7)=\"\",\"\",INDEX(E_SourceStreams!$A:$N,ES57,BN$7)))","v":""},{"$f":"IF($E57=\"\",\"\",IF(INDEX(E_SourceStreams!$A:$N,ET57,BO$7)=\"\",\"\",INDEX(E_SourceStreams!$A:$N,ET57,BO$7)))","v":""},{"$f":"IF($E57=\"\",\"\",IF(INDEX(E_SourceStreams!$A:$N,EU57,BP$7)=\"\",\"\",INDEX(E_SourceStreams!$A:$N,EU57,BP$7)))","v":""},{"$f":"IF($E57=\"\",\"\",IF(INDEX(E_SourceStreams!$A:$N,EV57,BQ$7)=\"\",\"\",INDEX(E_SourceStreams!$A:$N,EV57,BQ$7)))","v":""},{"$f":"IF($E57=\"\",\"\",IF(INDEX(E_SourceStreams!$A:$N,EW57,BR$7)=\"\",\"\",INDEX(E_SourceStreams!$A:$N,EW57,BR$7)))","v":""},{"$f":"IF($E57=\"\",\"\",IF(INDEX(E_SourceStreams!$A:$N,EX57,BS$7)=\"\",\"\",INDEX(E_SourceStreams!$A:$N,EX57,BS$7)))","v":""},{"$f":"IF($E57=\"\",\"\",IF(INDEX(E_SourceStreams!$A:$N,EY57,BT$7)=\"\",\"\",INDEX(E_SourceStreams!$A:$N,EY57,BT$7)))","v":""},null,null,null,null,null,null,null,null,null,null,null,null,null,null,null,"SourceCategory_",{"$f":"INDEX(C_InstallationDescription!$A$226:$A$332,ROWS($CI$11:CI57))=\"ausblenden\"","v":true},"SourceStreamName_",null,3169,3171,3173,3175,3177,3179,3181,3181,3181,3181,3181,3184,3188,3189,3190,3197,3207,3207,3207,3207,3207,3207,3207,3198,3208,3208,3208,3208,3208,3208,3208,3199,3209,3209,3209,3209,3209,3209,3209,3200,3210,3210,3210,3210,3210,3210,3210,3201,3211,3211,3211,3211,3211,3211,3211,3202,3212,3212,3212,3212,3212,3212,3212,3218]
[null,{"$f":"IF(COUNTIF($CK$10:CK58,TRUE)>0,\"\",INDEX(C_InstallationDescription!$E$226:$E$242,ROWS($A$11:A58)))","v":""},{"$f":"IF($E58=\"\",\"\",INDEX(C_InstallationDescription!F:F,MATCH($B58,C_InstallationDescription!$E:$E,0)))","v":""},{"$f":"IF($E58=\"\",\"\",INDEX(C_InstallationDescription!I:I,MATCH($B58,C_InstallationDescription!$E:$E,0)))","v":""},{"$f":"IF($B58=\"\",\"\",INDEX(C_InstallationDescription!F:F,MATCH($CJ58,C_InstallationDescription!$Q:$Q,0)))","v":""},{"$f":"IF($E58=\"\",\"\",INDEX(C_InstallationDescription!L:L,MATCH($CJ58,C_InstallationDescription!$Q:$Q,0)))","v":""},{"$f":"IF($E58=\"\",\"\",INDEX(C_InstallationDescription!M:M,MATCH($CJ58,C_InstallationDescription!$Q:$Q,0)))","v":""},{"$f":"IF($E58=\"\",\"\",INDEX(C_InstallationDescription!N:N,MATCH($CJ58,C_InstallationDescription!$Q:$Q,0)))","v":""},{"$f":"IF($E58=\"\",\"\",IF(INDEX(E_SourceStreams!$A:$N,CN58,I$7)=\"\",\"\",INDEX(E_SourceStreams!$A:$N,CN58,I$7)))","v":""},{"$f":"IF($E58=\"\",\"\",IF(INDEX(E_SourceStreams!$A:$N,CO58,J$7)=\"\",\"\",INDEX(E_SourceStreams!$A:$N,CO58,J$7)))","v":""},{"$f":"IF($E58=\"\",\"\",IF(INDEX(E_SourceStreams!$A:$N,CP58,K$7)=\"\",\"\",INDEX(E_SourceStreams!$A:$N,CP58,K$7)))","v":""},{"$f":"IF($E58=\"\",\"\",IF(INDEX(E_SourceStreams!$A:$N,CQ58,L$7)=\"\",\"\",INDEX(E_SourceStreams!$A:$N,CQ58,L$7)))","v":""},{"$f":"IF($E58=\"\",\"\",IF(INDEX(E_SourceStreams!$A:$N,CR58,M$7)=\"\",\"\",INDEX(E_SourceStreams!$A:$N,CR58,M$7)))","v":""},{"$f":"IF($E58=\"\",\"\",IF(INDEX(E_SourceStreams!$A:$N,CS58,N$7)=\"\",\"\",INDEX(E_SourceStreams!$A:$N,CS58,N$7)))","v":""},{"$f":"IF($E58=\"\",\"\",IF(INDEX(E_SourceStreams!$A:$N,CT58,O$7)=\"\",\"\",INDEX(E_SourceStreams!$A:$N,CT58,O$7)))","v":""},{"$f":"IF($E58=\"\",\"\",IF(INDEX(E_SourceStreams!$A:$N,CU58,P$7)=\"\",\"\",INDEX(E_SourceStreams!$A:$N,CU58,P$7)))","v":""},{"$f":"IF($E58=\"\",\"\",IF(INDEX(E_SourceStreams!$A:$N,CV58,Q$7)=\"\",\"\",INDEX(E_SourceStreams!$A:$N,CV58,Q$7)))","v":""},{"$f":"IF($E58=\"\",\"\",IF(INDEX(E_SourceStreams!$A:$N,CW58,R$7)=\"\",\"\",INDEX(E_SourceStreams!$A:$N,CW58,R$7)))","v":""},{"$f":"IF($E58=\"\",\"\",IF(INDEX(E_SourceStreams!$A:$N,CX58,S$7)=\"\",\"\",INDEX(E_SourceStreams!$A:$N,CX58,S$7)))","v":""},{"$f":"IF($E58=\"\",\"\",IF(INDEX(E_SourceStreams!$A:$N,CY58,T$7)=\"\",\"\",INDEX(E_SourceStreams!$A:$N,CY58,T$7)))","v":""},{"$f":"IF($E58=\"\",\"\",IF(INDEX(E_SourceStreams!$A:$N,CZ58,U$7)=\"\",\"\",INDEX(E_SourceStreams!$A:$N,CZ58,U$7)))","v":""},{"$f":"IF($E58=\"\",\"\",IF(INDEX(E_SourceStreams!$A:$N,DA58,V$7)=\"\",\"\",INDEX(E_SourceStreams!$A:$N,DA58,V$7)))","v":""},{"$f":"IF($E58=\"\",\"\",IF(INDEX(E_SourceStreams!$A:$N,DB58,W$7)=\"\",\"\",INDEX(E_SourceStreams!$A:$N,DB58,W$7)))","v":""},{"$f":"IF($E58=\"\",\"\",IF(INDEX(E_SourceStreams!$A:$N,DC58,X$7)=\"\",\"\",INDEX(E_SourceStreams!$A:$N,DC58,X$7)))","v":""},{"$f":"IF($E58=\"\",\"\",IF(INDEX(E_SourceStreams!$A:$N,DD58,Y$7)=\"\",\"\",INDEX(E_SourceStreams!$A:$N,DD58,Y$7)))","v":""},{"$f":"IF($E58=\"\",\"\",IF(INDEX(E_SourceStreams!$A:$N,DE58,Z$7)=\"\",\"\",INDEX(E_SourceStreams!$A:$N,DE58,Z$7)))","v":""},{"$f":"IF($E58=\"\",\"\",IF(INDEX(E_SourceStreams!$A:$N,DF58,AA$7)=\"\",\"\",INDEX(E_SourceStreams!$A:$N,DF58,AA$7)))","v":""},{"$f":"IF($E58=\"\",\"\",IF(INDEX(E_SourceStreams!$A:$N,DG58,AB$7)=\"\",\"\",INDEX(E_SourceStreams!$A:$N,DG58,AB$7)))","v":""},{"$f":"IF($E58=\"\",\"\",IF(INDEX(E_SourceStreams!$A:$N,DH58,AC$7)=\"\",\"\",INDEX(E_SourceStreams!$A:$N,DH58,AC$7)))","v":""},{"$f":"IF($E58=\"\",\"\",IF(INDEX(E_SourceStreams!$A:$N,DI58,AD$7)=\"\",\"\",INDEX(E_SourceStreams!$A:$N,DI58,AD$7)))","v":""},{"$f":"IF($E58=\"\",\"\",IF(INDEX(E_SourceStreams!$A:$N,DJ58,AE$7)=\"\",\"\",INDEX(E_SourceStreams!$A:$N,DJ58,AE$7)))","v":""},{"$f":"IF($E58=\"\",\"\",IF(INDEX(E_SourceStreams!$A:$N,DK58,AF$7)=\"\",\"\",INDEX(E_SourceStreams!$A:$N,DK58,AF$7)))","v":""},{"$f":"IF($E58=\"\",\"\",IF(INDEX(E_SourceStreams!$A:$N,DL58,AG$7)=\"\",\"\",INDEX(E_SourceStreams!$A:$N,DL58,AG$7)))","v":""},{"$f":"IF($E58=\"\",\"\",IF(INDEX(E_SourceStreams!$A:$N,DM58,AH$7)=\"\",\"\",INDEX(E_SourceStreams!$A:$N,DM58,AH$7)))","v":""},{"$f":"IF($E58=\"\",\"\",IF(INDEX(E_SourceStreams!$A:$N,DN58,AI$7)=\"\",\"\",INDEX(E_SourceStreams!$A:$N,DN58,AI$7)))","v":""},{"$f":"IF($E58=\"\",\"\",IF(INDEX(E_SourceStreams!$A:$N,DO58,AJ$7)=\"\",\"\",INDEX(E_SourceStreams!$A:$N,DO58,AJ$7)))","v":""},{"$f":"IF($E58=\"\",\"\",IF(INDEX(E_SourceStreams!$A:$N,DP58,AK$7)=\"\",\"\",INDEX(E_SourceStreams!$A:$N,DP58,AK$7)))","v":""},{"$f":"IF($E58=\"\",\"\",IF(INDEX(E_SourceStreams!$A:$N,DQ58,AL$7)=\"\",\"\",INDEX(E_SourceStreams!$A:$N,DQ58,AL$7)))","v":""},{"$f":"IF($E58=\"\",\"\",IF(INDEX(E_SourceStreams!$A:$N,DR58,AM$7)=\"\",\"\",INDEX(E_SourceStreams!$A:$N,DR58,AM$7)))","v":""},{"$f":"IF($E58=\"\",\"\",IF(INDEX(E_SourceStreams!$A:$N,DS58,AN$7)=\"\",\"\",INDEX(E_SourceStreams!$A:$N,DS58,AN$7)))","v":""},{"$f":"IF($E58=\"\",\"\",IF(INDEX(E_SourceStreams!$A:$N,DT58,AO$7)=\"\",\"\",INDEX(E_SourceStreams!$A:$N,DT58,AO$7)))","v":""},{"$f":"IF($E58=\"\",\"\",IF(INDEX(E_SourceStreams!$A:$N,DU58,AP$7)=\"\",\"\",INDEX(E_SourceStreams!$A:$N,DU58,AP$7)))","v":""},{"$f":"IF($E58=\"\",\"\",IF(INDEX(E_SourceStreams!$A:$N,DV58,AQ$7)=\"\",\"\",INDEX(E_SourceStreams!$A:$N,DV58,AQ$7)))","v":""},{"$f":"IF($E58=\"\",\"\",IF(INDEX(E_SourceStreams!$A:$N,DW58,AR$7)=\"\",\"\",INDEX(E_SourceStreams!$A:$N,DW58,AR$7)))","v":""},{"$f":"IF($E58=\"\",\"\",IF(INDEX(E_SourceStreams!$A:$N,DX58,AS$7)=\"\",\"\",INDEX(E_SourceStreams!$A:$N,DX58,AS$7)))","v":""},{"$f":"IF($E58=\"\",\"\",IF(INDEX(E_SourceStreams!$A:$N,DY58,AT$7)=\"\",\"\",INDEX(E_SourceStreams!$A:$N,DY58,AT$7)))","v":""},{"$f":"IF($E58=\"\",\"\",IF(INDEX(E_SourceStreams!$A:$N,DZ58,AU$7)=\"\",\"\",INDEX(E_SourceStreams!$A:$N,DZ58,AU$7)))","v":""},{"$f":"IF($E58=\"\",\"\",IF(INDEX(E_SourceStreams!$A:$N,EA58,AV$7)=\"\",\"\",INDEX(E_SourceStreams!$A:$N,EA58,AV$7)))","v":""},{"$f":"IF($E58=\"\",\"\",IF(INDEX(E_SourceStreams!$A:$N,EB58,AW$7)=\"\",\"\",INDEX(E_SourceStreams!$A:$N,EB58,AW$7)))","v":""},{"$f":"IF($E58=\"\",\"\",IF(INDEX(E_SourceStreams!$A:$N,EC58,AX$7)=\"\",\"\",INDEX(E_SourceStreams!$A:$N,EC58,AX$7)))","v":""},{"$f":"IF($E58=\"\",\"\",IF(INDEX(E_SourceStreams!$A:$N,ED58,AY$7)=\"\",\"\",INDEX(E_SourceStreams!$A:$N,ED58,AY$7)))","v":""},{"$f":"IF($E58=\"\",\"\",IF(INDEX(E_SourceStreams!$A:$N,EE58,AZ$7)=\"\",\"\",INDEX(E_SourceStreams!$A:$N,EE58,AZ$7)))","v":""},{"$f":"IF($E58=\"\",\"\",IF(INDEX(E_SourceStreams!$A:$N,EF58,BA$7)=\"\",\"\",INDEX(E_SourceStreams!$A:$N,EF58,BA$7)))","v":""},{"$f":"IF($E58=\"\",\"\",IF(INDEX(E_SourceStreams!$A:$N,EG58,BB$7)=\"\",\"\",INDEX(E_SourceStreams!$A:$N,EG58,BB$7)))","v":""},{"$f":"IF($E58=\"\",\"\",IF(INDEX(E_SourceStreams!$A:$N,EH58,BC$7)=\"\",\"\",INDEX(E_SourceStreams!$A:$N,EH58,BC$7)))","v":""},{"$f":"IF($E58=\"\",\"\",IF(INDEX(E_SourceStreams!$A:$N,EI58,BD$7)=\"\",\"\",INDEX(E_SourceStreams!$A:$N,EI58,BD$7)))","v":""},{"$f":"IF($E58=\"\",\"\",IF(INDEX(E_SourceStreams!$A:$N,EJ58,BE$7)=\"\",\"\",INDEX(E_SourceStreams!$A:$N,EJ58,BE$7)))","v":""},{"$f":"IF($E58=\"\",\"\",IF(INDEX(E_SourceStreams!$A:$N,EK58,BF$7)=\"\",\"\",INDEX(E_SourceStreams!$A:$N,EK58,BF$7)))","v":""},{"$f":"IF($E58=\"\",\"\",IF(INDEX(E_SourceStreams!$A:$N,EL58,BG$7)=\"\",\"\",INDEX(E_SourceStreams!$A:$N,EL58,BG$7)))","v":""},{"$f":"IF($E58=\"\",\"\",IF(INDEX(E_SourceStreams!$A:$N,EM58,BH$7)=\"\",\"\",INDEX(E_SourceStreams!$A:$N,EM58,BH$7)))","v":""},{"$f":"IF($E58=\"\",\"\",IF(INDEX(E_SourceStreams!$A:$N,EN58,BI$7)=\"\",\"\",INDEX(E_SourceStreams!$A:$N,EN58,BI$7)))","v":""},{"$f":"IF($E58=\"\",\"\",IF(INDEX(E_SourceStreams!$A:$N,EO58,BJ$7)=\"\",\"\",INDEX(E_SourceStreams!$A:$N,EO58,BJ$7)))","v":""},{"$f":"IF($E58=\"\",\"\",IF(INDEX(E_SourceStreams!$A:$N,EP58,BK$7)=\"\",\"\",INDEX(E_SourceStreams!$A:$N,EP58,BK$7)))","v":""},{"$f":"IF($E58=\"\",\"\",IF(INDEX(E_SourceStreams!$A:$N,EQ58,BL$7)=\"\",\"\",INDEX(E_SourceStreams!$A:$N,EQ58,BL$7)))","v":""},{"$f":"IF($E58=\"\",\"\",IF(INDEX(E_SourceStreams!$A:$N,ER58,BM$7)=\"\",\"\",INDEX(E_SourceStreams!$A:$N,ER58,BM$7)))","v":""},{"$f":"IF($E58=\"\",\"\",IF(INDEX(E_SourceStreams!$A:$N,ES58,BN$7)=\"\",\"\",INDEX(E_SourceStreams!$A:$N,ES58,BN$7)))","v":""},{"$f":"IF($E58=\"\",\"\",IF(INDEX(E_SourceStreams!$A:$N,ET58,BO$7)=\"\",\"\",INDEX(E_SourceStreams!$A:$N,ET58,BO$7)))","v":""},{"$f":"IF($E58=\"\",\"\",IF(INDEX(E_SourceStreams!$A:$N,EU58,BP$7)=\"\",\"\",INDEX(E_SourceStreams!$A:$N,EU58,BP$7)))","v":""},{"$f":"IF($E58=\"\",\"\",IF(INDEX(E_SourceStreams!$A:$N,EV58,BQ$7)=\"\",\"\",INDEX(E_SourceStreams!$A:$N,EV58,BQ$7)))","v":""},{"$f":"IF($E58=\"\",\"\",IF(INDEX(E_SourceStreams!$A:$N,EW58,BR$7)=\"\",\"\",INDEX(E_SourceStreams!$A:$N,EW58,BR$7)))","v":""},{"$f":"IF($E58=\"\",\"\",IF(INDEX(E_SourceStreams!$A:$N,EX58,BS$7)=\"\",\"\",INDEX(E_SourceStreams!$A:$N,EX58,BS$7)))","v":""},{"$f":"IF($E58=\"\",\"\",IF(INDEX(E_SourceStreams!$A:$N,EY58,BT$7)=\"\",\"\",INDEX(E_SourceStreams!$A:$N,EY58,BT$7)))","v":""},null,null,null,null,null,null,null,null,null,null,null,null,null,null,null,"SourceCategory_",{"$f":"INDEX(C_InstallationDescription!$A$226:$A$332,ROWS($CI$11:CI58))=\"ausblenden\"","v":true},"SourceStreamName_",null,3235,3237,3239,3241,3243,3245,3247,3247,3247,3247,3247,3250,3254,3255,3256,3263,3273,3273,3273,3273,3273,3273,3273,3264,3274,3274,3274,3274,3274,3274,3274,3265,3275,3275,3275,3275,3275,3275,3275,3266,3276,3276,3276,3276,3276,3276,3276,3267,3277,3277,3277,3277,3277,3277,3277,3268,3278,3278,3278,3278,3278,3278,3278,3284]
[null,{"$f":"IF(COUNTIF($CK$10:CK59,TRUE)>0,\"\",INDEX(C_InstallationDescription!$E$226:$E$242,ROWS($A$11:A59)))","v":""},{"$f":"IF($E59=\"\",\"\",INDEX(C_InstallationDescription!F:F,MATCH($B59,C_InstallationDescription!$E:$E,0)))","v":""},{"$f":"IF($E59=\"\",\"\",INDEX(C_InstallationDescription!I:I,MATCH($B59,C_InstallationDescription!$E:$E,0)))","v":""},{"$f":"IF($B59=\"\",\"\",INDEX(C_InstallationDescription!F:F,MATCH($CJ59,C_InstallationDescription!$Q:$Q,0)))","v":""},{"$f":"IF($E59=\"\",\"\",INDEX(C_InstallationDescription!L:L,MATCH($CJ59,C_InstallationDescription!$Q:$Q,0)))","v":""},{"$f":"IF($E59=\"\",\"\",INDEX(C_InstallationDescription!M:M,MATCH($CJ59,C_InstallationDescription!$Q:$Q,0)))","v":""},{"$f":"IF($E59=\"\",\"\",INDEX(C_InstallationDescription!N:N,MATCH($CJ59,C_InstallationDescription!$Q:$Q,0)))","v":""},{"$f":"IF($E59=\"\",\"\",IF(INDEX(E_SourceStreams!$A:$N,CN59,I$7)=\"\",\"\",INDEX(E_SourceStreams!$A:$N,CN59,I$7)))","v":""},{"$f":"IF($E59=\"\",\"\",IF(INDEX(E_SourceStreams!$A:$N,CO59,J$7)=\"\",\"\",INDEX(E_SourceStreams!$A:$N,CO59,J$7)))","v":""},{"$f":"IF($E59=\"\",\"\",IF(INDEX(E_SourceStreams!$A:$N,CP59,K$7)=\"\",\"\",INDEX(E_SourceStreams!$A:$N,CP59,K$7)))","v":""},{"$f":"IF($E59=\"\",\"\",IF(INDEX(E_SourceStreams!$A:$N,CQ59,L$7)=\"\",\"\",INDEX(E_SourceStreams!$A:$N,CQ59,L$7)))","v":""},{"$f":"IF($E59=\"\",\"\",IF(INDEX(E_SourceStreams!$A:$N,CR59,M$7)=\"\",\"\",INDEX(E_SourceStreams!$A:$N,CR59,M$7)))","v":""},{"$f":"IF($E59=\"\",\"\",IF(INDEX(E_SourceStreams!$A:$N,CS59,N$7)=\"\",\"\",INDEX(E_SourceStreams!$A:$N,CS59,N$7)))","v":""},{"$f":"IF($E59=\"\",\"\",IF(INDEX(E_SourceStreams!$A:$N,CT59,O$7)=\"\",\"\",INDEX(E_SourceStreams!$A:$N,CT59,O$7)))","v":""},{"$f":"IF($E59=\"\",\"\",IF(INDEX(E_SourceStreams!$A:$N,CU59,P$7)=\"\",\"\",INDEX(E_SourceStreams!$A:$N,CU59,P$7)))","v":""},{"$f":"IF($E59=\"\",\"\",IF(INDEX(E_SourceStreams!$A:$N,CV59,Q$7)=\"\",\"\",INDEX(E_SourceStreams!$A:$N,CV59,Q$7)))","v":""},{"$f":"IF($E59=\"\",\"\",IF(INDEX(E_SourceStreams!$A:$N,CW59,R$7)=\"\",\"\",INDEX(E_SourceStreams!$A:$N,CW59,R$7)))","v":""},{"$f":"IF($E59=\"\",\"\",IF(INDEX(E_SourceStreams!$A:$N,CX59,S$7)=\"\",\"\",INDEX(E_SourceStreams!$A:$N,CX59,S$7)))","v":""},{"$f":"IF($E59=\"\",\"\",IF(INDEX(E_SourceStreams!$A:$N,CY59,T$7)=\"\",\"\",INDEX(E_SourceStreams!$A:$N,CY59,T$7)))","v":""},{"$f":"IF($E59=\"\",\"\",IF(INDEX(E_SourceStreams!$A:$N,CZ59,U$7)=\"\",\"\",INDEX(E_SourceStreams!$A:$N,CZ59,U$7)))","v":""},{"$f":"IF($E59=\"\",\"\",IF(INDEX(E_SourceStreams!$A:$N,DA59,V$7)=\"\",\"\",INDEX(E_SourceStreams!$A:$N,DA59,V$7)))","v":""},{"$f":"IF($E59=\"\",\"\",IF(INDEX(E_SourceStreams!$A:$N,DB59,W$7)=\"\",\"\",INDEX(E_SourceStreams!$A:$N,DB59,W$7)))","v":""},{"$f":"IF($E59=\"\",\"\",IF(INDEX(E_SourceStreams!$A:$N,DC59,X$7)=\"\",\"\",INDEX(E_SourceStreams!$A:$N,DC59,X$7)))","v":""},{"$f":"IF($E59=\"\",\"\",IF(INDEX(E_SourceStreams!$A:$N,DD59,Y$7)=\"\",\"\",INDEX(E_SourceStreams!$A:$N,DD59,Y$7)))","v":""},{"$f":"IF($E59=\"\",\"\",IF(INDEX(E_SourceStreams!$A:$N,DE59,Z$7)=\"\",\"\",INDEX(E_SourceStreams!$A:$N,DE59,Z$7)))","v":""},{"$f":"IF($E59=\"\",\"\",IF(INDEX(E_SourceStreams!$A:$N,DF59,AA$7)=\"\",\"\",INDEX(E_SourceStreams!$A:$N,DF59,AA$7)))","v":""},{"$f":"IF($E59=\"\",\"\",IF(INDEX(E_SourceStreams!$A:$N,DG59,AB$7)=\"\",\"\",INDEX(E_SourceStreams!$A:$N,DG59,AB$7)))","v":""},{"$f":"IF($E59=\"\",\"\",IF(INDEX(E_SourceStreams!$A:$N,DH59,AC$7)=\"\",\"\",INDEX(E_SourceStreams!$A:$N,DH59,AC$7)))","v":""},{"$f":"IF($E59=\"\",\"\",IF(INDEX(E_SourceStreams!$A:$N,DI59,AD$7)=\"\",\"\",INDEX(E_SourceStreams!$A:$N,DI59,AD$7)))","v":""},{"$f":"IF($E59=\"\",\"\",IF(INDEX(E_SourceStreams!$A:$N,DJ59,AE$7)=\"\",\"\",INDEX(E_SourceStreams!$A:$N,DJ59,AE$7)))","v":""},{"$f":"IF($E59=\"\",\"\",IF(INDEX(E_SourceStreams!$A:$N,DK59,AF$7)=\"\",\"\",INDEX(E_SourceStreams!$A:$N,DK59,AF$7)))","v":""},{"$f":"IF($E59=\"\",\"\",IF(INDEX(E_SourceStreams!$A:$N,DL59,AG$7)=\"\",\"\",INDEX(E_SourceStreams!$A:$N,DL59,AG$7)))","v":""},{"$f":"IF($E59=\"\",\"\",IF(INDEX(E_SourceStreams!$A:$N,DM59,AH$7)=\"\",\"\",INDEX(E_SourceStreams!$A:$N,DM59,AH$7)))","v":""},{"$f":"IF($E59=\"\",\"\",IF(INDEX(E_SourceStreams!$A:$N,DN59,AI$7)=\"\",\"\",INDEX(E_SourceStreams!$A:$N,DN59,AI$7)))","v":""},{"$f":"IF($E59=\"\",\"\",IF(INDEX(E_SourceStreams!$A:$N,DO59,AJ$7)=\"\",\"\",INDEX(E_SourceStreams!$A:$N,DO59,AJ$7)))","v":""},{"$f":"IF($E59=\"\",\"\",IF(INDEX(E_SourceStreams!$A:$N,DP59,AK$7)=\"\",\"\",INDEX(E_SourceStreams!$A:$N,DP59,AK$7)))","v":""},{"$f":"IF($E59=\"\",\"\",IF(INDEX(E_SourceStreams!$A:$N,DQ59,AL$7)=\"\",\"\",INDEX(E_SourceStreams!$A:$N,DQ59,AL$7)))","v":""},{"$f":"IF($E59=\"\",\"\",IF(INDEX(E_SourceStreams!$A:$N,DR59,AM$7)=\"\",\"\",INDEX(E_SourceStreams!$A:$N,DR59,AM$7)))","v":""},{"$f":"IF($E59=\"\",\"\",IF(INDEX(E_SourceStreams!$A:$N,DS59,AN$7)=\"\",\"\",INDEX(E_SourceStreams!$A:$N,DS59,AN$7)))","v":""},{"$f":"IF($E59=\"\",\"\",IF(INDEX(E_SourceStreams!$A:$N,DT59,AO$7)=\"\",\"\",INDEX(E_SourceStreams!$A:$N,DT59,AO$7)))","v":""},{"$f":"IF($E59=\"\",\"\",IF(INDEX(E_SourceStreams!$A:$N,DU59,AP$7)=\"\",\"\",INDEX(E_SourceStreams!$A:$N,DU59,AP$7)))","v":""},{"$f":"IF($E59=\"\",\"\",IF(INDEX(E_SourceStreams!$A:$N,DV59,AQ$7)=\"\",\"\",INDEX(E_SourceStreams!$A:$N,DV59,AQ$7)))","v":""},{"$f":"IF($E59=\"\",\"\",IF(INDEX(E_SourceStreams!$A:$N,DW59,AR$7)=\"\",\"\",INDEX(E_SourceStreams!$A:$N,DW59,AR$7)))","v":""},{"$f":"IF($E59=\"\",\"\",IF(INDEX(E_SourceStreams!$A:$N,DX59,AS$7)=\"\",\"\",INDEX(E_SourceStreams!$A:$N,DX59,AS$7)))","v":""},{"$f":"IF($E59=\"\",\"\",IF(INDEX(E_SourceStreams!$A:$N,DY59,AT$7)=\"\",\"\",INDEX(E_SourceStreams!$A:$N,DY59,AT$7)))","v":""},{"$f":"IF($E59=\"\",\"\",IF(INDEX(E_SourceStreams!$A:$N,DZ59,AU$7)=\"\",\"\",INDEX(E_SourceStreams!$A:$N,DZ59,AU$7)))","v":""},{"$f":"IF($E59=\"\",\"\",IF(INDEX(E_SourceStreams!$A:$N,EA59,AV$7)=\"\",\"\",INDEX(E_SourceStreams!$A:$N,EA59,AV$7)))","v":""},{"$f":"IF($E59=\"\",\"\",IF(INDEX(E_SourceStreams!$A:$N,EB59,AW$7)=\"\",\"\",INDEX(E_SourceStreams!$A:$N,EB59,AW$7)))","v":""},{"$f":"IF($E59=\"\",\"\",IF(INDEX(E_SourceStreams!$A:$N,EC59,AX$7)=\"\",\"\",INDEX(E_SourceStreams!$A:$N,EC59,AX$7)))","v":""},{"$f":"IF($E59=\"\",\"\",IF(INDEX(E_SourceStreams!$A:$N,ED59,AY$7)=\"\",\"\",INDEX(E_SourceStreams!$A:$N,ED59,AY$7)))","v":""},{"$f":"IF($E59=\"\",\"\",IF(INDEX(E_SourceStreams!$A:$N,EE59,AZ$7)=\"\",\"\",INDEX(E_SourceStreams!$A:$N,EE59,AZ$7)))","v":""},{"$f":"IF($E59=\"\",\"\",IF(INDEX(E_SourceStreams!$A:$N,EF59,BA$7)=\"\",\"\",INDEX(E_SourceStreams!$A:$N,EF59,BA$7)))","v":""},{"$f":"IF($E59=\"\",\"\",IF(INDEX(E_SourceStreams!$A:$N,EG59,BB$7)=\"\",\"\",INDEX(E_SourceStreams!$A:$N,EG59,BB$7)))","v":""},{"$f":"IF($E59=\"\",\"\",IF(INDEX(E_SourceStreams!$A:$N,EH59,BC$7)=\"\",\"\",INDEX(E_SourceStreams!$A:$N,EH59,BC$7)))","v":""},{"$f":"IF($E59=\"\",\"\",IF(INDEX(E_SourceStreams!$A:$N,EI59,BD$7)=\"\",\"\",INDEX(E_SourceStreams!$A:$N,EI59,BD$7)))","v":""},{"$f":"IF($E59=\"\",\"\",IF(INDEX(E_SourceStreams!$A:$N,EJ59,BE$7)=\"\",\"\",INDEX(E_SourceStreams!$A:$N,EJ59,BE$7)))","v":""},{"$f":"IF($E59=\"\",\"\",IF(INDEX(E_SourceStreams!$A:$N,EK59,BF$7)=\"\",\"\",INDEX(E_SourceStreams!$A:$N,EK59,BF$7)))","v":""},{"$f":"IF($E59=\"\",\"\",IF(INDEX(E_SourceStreams!$A:$N,EL59,BG$7)=\"\",\"\",INDEX(E_SourceStreams!$A:$N,EL59,BG$7)))","v":""},{"$f":"IF($E59=\"\",\"\",IF(INDEX(E_SourceStreams!$A:$N,EM59,BH$7)=\"\",\"\",INDEX(E_SourceStreams!$A:$N,EM59,BH$7)))","v":""},{"$f":"IF($E59=\"\",\"\",IF(INDEX(E_SourceStreams!$A:$N,EN59,BI$7)=\"\",\"\",INDEX(E_SourceStreams!$A:$N,EN59,BI$7)))","v":""},{"$f":"IF($E59=\"\",\"\",IF(INDEX(E_SourceStreams!$A:$N,EO59,BJ$7)=\"\",\"\",INDEX(E_SourceStreams!$A:$N,EO59,BJ$7)))","v":""},{"$f":"IF($E59=\"\",\"\",IF(INDEX(E_SourceStreams!$A:$N,EP59,BK$7)=\"\",\"\",INDEX(E_SourceStreams!$A:$N,EP59,BK$7)))","v":""},{"$f":"IF($E59=\"\",\"\",IF(INDEX(E_SourceStreams!$A:$N,EQ59,BL$7)=\"\",\"\",INDEX(E_SourceStreams!$A:$N,EQ59,BL$7)))","v":""},{"$f":"IF($E59=\"\",\"\",IF(INDEX(E_SourceStreams!$A:$N,ER59,BM$7)=\"\",\"\",INDEX(E_SourceStreams!$A:$N,ER59,BM$7)))","v":""},{"$f":"IF($E59=\"\",\"\",IF(INDEX(E_SourceStreams!$A:$N,ES59,BN$7)=\"\",\"\",INDEX(E_SourceStreams!$A:$N,ES59,BN$7)))","v":""},{"$f":"IF($E59=\"\",\"\",IF(INDEX(E_SourceStreams!$A:$N,ET59,BO$7)=\"\",\"\",INDEX(E_SourceStreams!$A:$N,ET59,BO$7)))","v":""},{"$f":"IF($E59=\"\",\"\",IF(INDEX(E_SourceStreams!$A:$N,EU59,BP$7)=\"\",\"\",INDEX(E_SourceStreams!$A:$N,EU59,BP$7)))","v":""},{"$f":"IF($E59=\"\",\"\",IF(INDEX(E_SourceStreams!$A:$N,EV59,BQ$7)=\"\",\"\",INDEX(E_SourceStreams!$A:$N,EV59,BQ$7)))","v":""},{"$f":"IF($E59=\"\",\"\",IF(INDEX(E_SourceStreams!$A:$N,EW59,BR$7)=\"\",\"\",INDEX(E_SourceStreams!$A:$N,EW59,BR$7)))","v":""},{"$f":"IF($E59=\"\",\"\",IF(INDEX(E_SourceStreams!$A:$N,EX59,BS$7)=\"\",\"\",INDEX(E_SourceStreams!$A:$N,EX59,BS$7)))","v":""},{"$f":"IF($E59=\"\",\"\",IF(INDEX(E_SourceStreams!$A:$N,EY59,BT$7)=\"\",\"\",INDEX(E_SourceStreams!$A:$N,EY59,BT$7)))","v":""},null,null,null,null,null,null,null,null,null,null,null,null,null,null,null,"SourceCategory_",{"$f":"INDEX(C_InstallationDescription!$A$226:$A$332,ROWS($CI$11:CI59))=\"ausblenden\"","v":true},"SourceStreamName_",null,3301,3303,3305,3307,3309,3311,3313,3313,3313,3313,3313,3316,3320,3321,3322,3329,3339,3339,3339,3339,3339,3339,3339,3330,3340,3340,3340,3340,3340,3340,3340,3331,3341,3341,3341,3341,3341,3341,3341,3332,3342,3342,3342,3342,3342,3342,3342,3333,3343,3343,3343,3343,3343,3343,3343,3334,3344,3344,3344,3344,3344,3344,3344,3350]
[null,{"$f":"IF(COUNTIF($CK$10:CK60,TRUE)>0,\"\",INDEX(C_InstallationDescription!$E$226:$E$242,ROWS($A$11:A60)))","v":""},{"$f":"IF($E60=\"\",\"\",INDEX(C_InstallationDescription!F:F,MATCH($B60,C_InstallationDescription!$E:$E,0)))","v":""},{"$f":"IF($E60=\"\",\"\",INDEX(C_InstallationDescription!I:I,MATCH($B60,C_InstallationDescription!$E:$E,0)))","v":""},{"$f":"IF($B60=\"\",\"\",INDEX(C_InstallationDescription!F:F,MATCH($CJ60,C_InstallationDescription!$Q:$Q,0)))","v":""},{"$f":"IF($E60=\"\",\"\",INDEX(C_InstallationDescription!L:L,MATCH($CJ60,C_InstallationDescription!$Q:$Q,0)))","v":""},{"$f":"IF($E60=\"\",\"\",INDEX(C_InstallationDescription!M:M,MATCH($CJ60,C_InstallationDescription!$Q:$Q,0)))","v":""},{"$f":"IF($E60=\"\",\"\",INDEX(C_InstallationDescription!N:N,MATCH($CJ60,C_InstallationDescription!$Q:$Q,0)))","v":""},{"$f":"IF($E60=\"\",\"\",IF(INDEX(E_SourceStreams!$A:$N,CN60,I$7)=\"\",\"\",INDEX(E_SourceStreams!$A:$N,CN60,I$7)))","v":""},{"$f":"IF($E60=\"\",\"\",IF(INDEX(E_SourceStreams!$A:$N,CO60,J$7)=\"\",\"\",INDEX(E_SourceStreams!$A:$N,CO60,J$7)))","v":""},{"$f":"IF($E60=\"\",\"\",IF(INDEX(E_SourceStreams!$A:$N,CP60,K$7)=\"\",\"\",INDEX(E_SourceStreams!$A:$N,CP60,K$7)))","v":""},{"$f":"IF($E60=\"\",\"\",IF(INDEX(E_SourceStreams!$A:$N,CQ60,L$7)=\"\",\"\",INDEX(E_SourceStreams!$A:$N,CQ60,L$7)))","v":""},{"$f":"IF($E60=\"\",\"\",IF(INDEX(E_SourceStreams!$A:$N,CR60,M$7)=\"\",\"\",INDEX(E_SourceStreams!$A:$N,CR60,M$7)))","v":""},{"$f":"IF($E60=\"\",\"\",IF(INDEX(E_SourceStreams!$A:$N,CS60,N$7)=\"\",\"\",INDEX(E_SourceStreams!$A:$N,CS60,N$7)))","v":""},{"$f":"IF($E60=\"\",\"\",IF(INDEX(E_SourceStreams!$A:$N,CT60,O$7)=\"\",\"\",INDEX(E_SourceStreams!$A:$N,CT60,O$7)))","v":""},{"$f":"IF($E60=\"\",\"\",IF(INDEX(E_SourceStreams!$A:$N,CU60,P$7)=\"\",\"\",INDEX(E_SourceStreams!$A:$N,CU60,P$7)))","v":""},{"$f":"IF($E60=\"\",\"\",IF(INDEX(E_SourceStreams!$A:$N,CV60,Q$7)=\"\",\"\",INDEX(E_SourceStreams!$A:$N,CV60,Q$7)))","v":""},{"$f":"IF($E60=\"\",\"\",IF(INDEX(E_SourceStreams!$A:$N,CW60,R$7)=\"\",\"\",INDEX(E_SourceStreams!$A:$N,CW60,R$7)))","v":""},{"$f":"IF($E60=\"\",\"\",IF(INDEX(E_SourceStreams!$A:$N,CX60,S$7)=\"\",\"\",INDEX(E_SourceStreams!$A:$N,CX60,S$7)))","v":""},{"$f":"IF($E60=\"\",\"\",IF(INDEX(E_SourceStreams!$A:$N,CY60,T$7)=\"\",\"\",INDEX(E_SourceStreams!$A:$N,CY60,T$7)))","v":""},{"$f":"IF($E60=\"\",\"\",IF(INDEX(E_SourceStreams!$A:$N,CZ60,U$7)=\"\",\"\",INDEX(E_SourceStreams!$A:$N,CZ60,U$7)))","v":""},{"$f":"IF($E60=\"\",\"\",IF(INDEX(E_SourceStreams!$A:$N,DA60,V$7)=\"\",\"\",INDEX(E_SourceStreams!$A:$N,DA60,V$7)))","v":""},{"$f":"IF($E60=\"\",\"\",IF(INDEX(E_SourceStreams!$A:$N,DB60,W$7)=\"\",\"\",INDEX(E_SourceStreams!$A:$N,DB60,W$7)))","v":""},{"$f":"IF($E60=\"\",\"\",IF(INDEX(E_SourceStreams!$A:$N,DC60,X$7)=\"\",\"\",INDEX(E_SourceStreams!$A:$N,DC60,X$7)))","v":""},{"$f":"IF($E60=\"\",\"\",IF(INDEX(E_SourceStreams!$A:$N,DD60,Y$7)=\"\",\"\",INDEX(E_SourceStreams!$A:$N,DD60,Y$7)))","v":""},{"$f":"IF($E60=\"\",\"\",IF(INDEX(E_SourceStreams!$A:$N,DE60,Z$7)=\"\",\"\",INDEX(E_SourceStreams!$A:$N,DE60,Z$7)))","v":""},{"$f":"IF($E60=\"\",\"\",IF(INDEX(E_SourceStreams!$A:$N,DF60,AA$7)=\"\",\"\",INDEX(E_SourceStreams!$A:$N,DF60,AA$7)))","v":""},{"$f":"IF($E60=\"\",\"\",IF(INDEX(E_SourceStreams!$A:$N,DG60,AB$7)=\"\",\"\",INDEX(E_SourceStreams!$A:$N,DG60,AB$7)))","v":""},{"$f":"IF($E60=\"\",\"\",IF(INDEX(E_SourceStreams!$A:$N,DH60,AC$7)=\"\",\"\",INDEX(E_SourceStreams!$A:$N,DH60,AC$7)))","v":""},{"$f":"IF($E60=\"\",\"\",IF(INDEX(E_SourceStreams!$A:$N,DI60,AD$7)=\"\",\"\",INDEX(E_SourceStreams!$A:$N,DI60,AD$7)))","v":""},{"$f":"IF($E60=\"\",\"\",IF(INDEX(E_SourceStreams!$A:$N,DJ60,AE$7)=\"\",\"\",INDEX(E_SourceStreams!$A:$N,DJ60,AE$7)))","v":""},{"$f":"IF($E60=\"\",\"\",IF(INDEX(E_SourceStreams!$A:$N,DK60,AF$7)=\"\",\"\",INDEX(E_SourceStreams!$A:$N,DK60,AF$7)))","v":""},{"$f":"IF($E60=\"\",\"\",IF(INDEX(E_SourceStreams!$A:$N,DL60,AG$7)=\"\",\"\",INDEX(E_SourceStreams!$A:$N,DL60,AG$7)))","v":""},{"$f":"IF($E60=\"\",\"\",IF(INDEX(E_SourceStreams!$A:$N,DM60,AH$7)=\"\",\"\",INDEX(E_SourceStreams!$A:$N,DM60,AH$7)))","v":""},{"$f":"IF($E60=\"\",\"\",IF(INDEX(E_SourceStreams!$A:$N,DN60,AI$7)=\"\",\"\",INDEX(E_SourceStreams!$A:$N,DN60,AI$7)))","v":""},{"$f":"IF($E60=\"\",\"\",IF(INDEX(E_SourceStreams!$A:$N,DO60,AJ$7)=\"\",\"\",INDEX(E_SourceStreams!$A:$N,DO60,AJ$7)))","v":""},{"$f":"IF($E60=\"\",\"\",IF(INDEX(E_SourceStreams!$A:$N,DP60,AK$7)=\"\",\"\",INDEX(E_SourceStreams!$A:$N,DP60,AK$7)))","v":""},{"$f":"IF($E60=\"\",\"\",IF(INDEX(E_SourceStreams!$A:$N,DQ60,AL$7)=\"\",\"\",INDEX(E_SourceStreams!$A:$N,DQ60,AL$7)))","v":""},{"$f":"IF($E60=\"\",\"\",IF(INDEX(E_SourceStreams!$A:$N,DR60,AM$7)=\"\",\"\",INDEX(E_SourceStreams!$A:$N,DR60,AM$7)))","v":""},{"$f":"IF($E60=\"\",\"\",IF(INDEX(E_SourceStreams!$A:$N,DS60,AN$7)=\"\",\"\",INDEX(E_SourceStreams!$A:$N,DS60,AN$7)))","v":""},{"$f":"IF($E60=\"\",\"\",IF(INDEX(E_SourceStreams!$A:$N,DT60,AO$7)=\"\",\"\",INDEX(E_SourceStreams!$A:$N,DT60,AO$7)))","v":""},{"$f":"IF($E60=\"\",\"\",IF(INDEX(E_SourceStreams!$A:$N,DU60,AP$7)=\"\",\"\",INDEX(E_SourceStreams!$A:$N,DU60,AP$7)))","v":""},{"$f":"IF($E60=\"\",\"\",IF(INDEX(E_SourceStreams!$A:$N,DV60,AQ$7)=\"\",\"\",INDEX(E_SourceStreams!$A:$N,DV60,AQ$7)))","v":""},{"$f":"IF($E60=\"\",\"\",IF(INDEX(E_SourceStreams!$A:$N,DW60,AR$7)=\"\",\"\",INDEX(E_SourceStreams!$A:$N,DW60,AR$7)))","v":""},{"$f":"IF($E60=\"\",\"\",IF(INDEX(E_SourceStreams!$A:$N,DX60,AS$7)=\"\",\"\",INDEX(E_SourceStreams!$A:$N,DX60,AS$7)))","v":""},{"$f":"IF($E60=\"\",\"\",IF(INDEX(E_SourceStreams!$A:$N,DY60,AT$7)=\"\",\"\",INDEX(E_SourceStreams!$A:$N,DY60,AT$7)))","v":""},{"$f":"IF($E60=\"\",\"\",IF(INDEX(E_SourceStreams!$A:$N,DZ60,AU$7)=\"\",\"\",INDEX(E_SourceStreams!$A:$N,DZ60,AU$7)))","v":""},{"$f":"IF($E60=\"\",\"\",IF(INDEX(E_SourceStreams!$A:$N,EA60,AV$7)=\"\",\"\",INDEX(E_SourceStreams!$A:$N,EA60,AV$7)))","v":""},{"$f":"IF($E60=\"\",\"\",IF(INDEX(E_SourceStreams!$A:$N,EB60,AW$7)=\"\",\"\",INDEX(E_SourceStreams!$A:$N,EB60,AW$7)))","v":""},{"$f":"IF($E60=\"\",\"\",IF(INDEX(E_SourceStreams!$A:$N,EC60,AX$7)=\"\",\"\",INDEX(E_SourceStreams!$A:$N,EC60,AX$7)))","v":""},{"$f":"IF($E60=\"\",\"\",IF(INDEX(E_SourceStreams!$A:$N,ED60,AY$7)=\"\",\"\",INDEX(E_SourceStreams!$A:$N,ED60,AY$7)))","v":""},{"$f":"IF($E60=\"\",\"\",IF(INDEX(E_SourceStreams!$A:$N,EE60,AZ$7)=\"\",\"\",INDEX(E_SourceStreams!$A:$N,EE60,AZ$7)))","v":""},{"$f":"IF($E60=\"\",\"\",IF(INDEX(E_SourceStreams!$A:$N,EF60,BA$7)=\"\",\"\",INDEX(E_SourceStreams!$A:$N,EF60,BA$7)))","v":""},{"$f":"IF($E60=\"\",\"\",IF(INDEX(E_SourceStreams!$A:$N,EG60,BB$7)=\"\",\"\",INDEX(E_SourceStreams!$A:$N,EG60,BB$7)))","v":""},{"$f":"IF($E60=\"\",\"\",IF(INDEX(E_SourceStreams!$A:$N,EH60,BC$7)=\"\",\"\",INDEX(E_SourceStreams!$A:$N,EH60,BC$7)))","v":""},{"$f":"IF($E60=\"\",\"\",IF(INDEX(E_SourceStreams!$A:$N,EI60,BD$7)=\"\",\"\",INDEX(E_SourceStreams!$A:$N,EI60,BD$7)))","v":""},{"$f":"IF($E60=\"\",\"\",IF(INDEX(E_SourceStreams!$A:$N,EJ60,BE$7)=\"\",\"\",INDEX(E_SourceStreams!$A:$N,EJ60,BE$7)))","v":""},{"$f":"IF($E60=\"\",\"\",IF(INDEX(E_SourceStreams!$A:$N,EK60,BF$7)=\"\",\"\",INDEX(E_SourceStreams!$A:$N,EK60,BF$7)))","v":""},{"$f":"IF($E60=\"\",\"\",IF(INDEX(E_SourceStreams!$A:$N,EL60,BG$7)=\"\",\"\",INDEX(E_SourceStreams!$A:$N,EL60,BG$7)))","v":""},{"$f":"IF($E60=\"\",\"\",IF(INDEX(E_SourceStreams!$A:$N,EM60,BH$7)=\"\",\"\",INDEX(E_SourceStreams!$A:$N,EM60,BH$7)))","v":""},{"$f":"IF($E60=\"\",\"\",IF(INDEX(E_SourceStreams!$A:$N,EN60,BI$7)=\"\",\"\",INDEX(E_SourceStreams!$A:$N,EN60,BI$7)))","v":""},{"$f":"IF($E60=\"\",\"\",IF(INDEX(E_SourceStreams!$A:$N,EO60,BJ$7)=\"\",\"\",INDEX(E_SourceStreams!$A:$N,EO60,BJ$7)))","v":""},{"$f":"IF($E60=\"\",\"\",IF(INDEX(E_SourceStreams!$A:$N,EP60,BK$7)=\"\",\"\",INDEX(E_SourceStreams!$A:$N,EP60,BK$7)))","v":""},{"$f":"IF($E60=\"\",\"\",IF(INDEX(E_SourceStreams!$A:$N,EQ60,BL$7)=\"\",\"\",INDEX(E_SourceStreams!$A:$N,EQ60,BL$7)))","v":""},{"$f":"IF($E60=\"\",\"\",IF(INDEX(E_SourceStreams!$A:$N,ER60,BM$7)=\"\",\"\",INDEX(E_SourceStreams!$A:$N,ER60,BM$7)))","v":""},{"$f":"IF($E60=\"\",\"\",IF(INDEX(E_SourceStreams!$A:$N,ES60,BN$7)=\"\",\"\",INDEX(E_SourceStreams!$A:$N,ES60,BN$7)))","v":""},{"$f":"IF($E60=\"\",\"\",IF(INDEX(E_SourceStreams!$A:$N,ET60,BO$7)=\"\",\"\",INDEX(E_SourceStreams!$A:$N,ET60,BO$7)))","v":""},{"$f":"IF($E60=\"\",\"\",IF(INDEX(E_SourceStreams!$A:$N,EU60,BP$7)=\"\",\"\",INDEX(E_SourceStreams!$A:$N,EU60,BP$7)))","v":""},{"$f":"IF($E60=\"\",\"\",IF(INDEX(E_SourceStreams!$A:$N,EV60,BQ$7)=\"\",\"\",INDEX(E_SourceStreams!$A:$N,EV60,BQ$7)))","v":""},{"$f":"IF($E60=\"\",\"\",IF(INDEX(E_SourceStreams!$A:$N,EW60,BR$7)=\"\",\"\",INDEX(E_SourceStreams!$A:$N,EW60,BR$7)))","v":""},{"$f":"IF($E60=\"\",\"\",IF(INDEX(E_SourceStreams!$A:$N,EX60,BS$7)=\"\",\"\",INDEX(E_SourceStreams!$A:$N,EX60,BS$7)))","v":""},{"$f":"IF($E60=\"\",\"\",IF(INDEX(E_SourceStreams!$A:$N,EY60,BT$7)=\"\",\"\",INDEX(E_SourceStreams!$A:$N,EY60,BT$7)))","v":""},null,null,null,null,null,null,null,null,null,null,null,null,null,null,null,"SourceCategory_",{"$f":"INDEX(C_InstallationDescription!$A$226:$A$332,ROWS($CI$11:CI60))=\"ausblenden\"","v":true},"SourceStreamName_",null,3367,3369,3371,3373,3375,3377,3379,3379,3379,3379,3379,3382,3386,3387,3388,3395,3405,3405,3405,3405,3405,3405,3405,3396,3406,3406,3406,3406,3406,3406,3406,3397,3407,3407,3407,3407,3407,3407,3407,3398,3408,3408,3408,3408,3408,3408,3408,3399,3409,3409,3409,3409,3409,3409,3409,3400,3410,3410,3410,3410,3410,3410,3410,3416]
[null,{"$f":"IF(COUNTIF($CK$10:CK61,TRUE)>0,\"\",INDEX(C_InstallationDescription!$E$226:$E$242,ROWS($A$11:A61)))","v":""},{"$f":"IF($E61=\"\",\"\",INDEX(C_InstallationDescription!F:F,MATCH($B61,C_InstallationDescription!$E:$E,0)))","v":""},{"$f":"IF($E61=\"\",\"\",INDEX(C_InstallationDescription!I:I,MATCH($B61,C_InstallationDescription!$E:$E,0)))","v":""},{"$f":"IF($B61=\"\",\"\",INDEX(C_InstallationDescription!F:F,MATCH($CJ61,C_InstallationDescription!$Q:$Q,0)))","v":""},{"$f":"IF($E61=\"\",\"\",INDEX(C_InstallationDescription!L:L,MATCH($CJ61,C_InstallationDescription!$Q:$Q,0)))","v":""},{"$f":"IF($E61=\"\",\"\",INDEX(C_InstallationDescription!M:M,MATCH($CJ61,C_InstallationDescription!$Q:$Q,0)))","v":""},{"$f":"IF($E61=\"\",\"\",INDEX(C_InstallationDescription!N:N,MATCH($CJ61,C_InstallationDescription!$Q:$Q,0)))","v":""},{"$f":"IF($E61=\"\",\"\",IF(INDEX(E_SourceStreams!$A:$N,CN61,I$7)=\"\",\"\",INDEX(E_SourceStreams!$A:$N,CN61,I$7)))","v":""},{"$f":"IF($E61=\"\",\"\",IF(INDEX(E_SourceStreams!$A:$N,CO61,J$7)=\"\",\"\",INDEX(E_SourceStreams!$A:$N,CO61,J$7)))","v":""},{"$f":"IF($E61=\"\",\"\",IF(INDEX(E_SourceStreams!$A:$N,CP61,K$7)=\"\",\"\",INDEX(E_SourceStreams!$A:$N,CP61,K$7)))","v":""},{"$f":"IF($E61=\"\",\"\",IF(INDEX(E_SourceStreams!$A:$N,CQ61,L$7)=\"\",\"\",INDEX(E_SourceStreams!$A:$N,CQ61,L$7)))","v":""},{"$f":"IF($E61=\"\",\"\",IF(INDEX(E_SourceStreams!$A:$N,CR61,M$7)=\"\",\"\",INDEX(E_SourceStreams!$A:$N,CR61,M$7)))","v":""},{"$f":"IF($E61=\"\",\"\",IF(INDEX(E_SourceStreams!$A:$N,CS61,N$7)=\"\",\"\",INDEX(E_SourceStreams!$A:$N,CS61,N$7)))","v":""},{"$f":"IF($E61=\"\",\"\",IF(INDEX(E_SourceStreams!$A:$N,CT61,O$7)=\"\",\"\",INDEX(E_SourceStreams!$A:$N,CT61,O$7)))","v":""},{"$f":"IF($E61=\"\",\"\",IF(INDEX(E_SourceStreams!$A:$N,CU61,P$7)=\"\",\"\",INDEX(E_SourceStreams!$A:$N,CU61,P$7)))","v":""},{"$f":"IF($E61=\"\",\"\",IF(INDEX(E_SourceStreams!$A:$N,CV61,Q$7)=\"\",\"\",INDEX(E_SourceStreams!$A:$N,CV61,Q$7)))","v":""},{"$f":"IF($E61=\"\",\"\",IF(INDEX(E_SourceStreams!$A:$N,CW61,R$7)=\"\",\"\",INDEX(E_SourceStreams!$A:$N,CW61,R$7)))","v":""},{"$f":"IF($E61=\"\",\"\",IF(INDEX(E_SourceStreams!$A:$N,CX61,S$7)=\"\",\"\",INDEX(E_SourceStreams!$A:$N,CX61,S$7)))","v":""},{"$f":"IF($E61=\"\",\"\",IF(INDEX(E_SourceStreams!$A:$N,CY61,T$7)=\"\",\"\",INDEX(E_SourceStreams!$A:$N,CY61,T$7)))","v":""},{"$f":"IF($E61=\"\",\"\",IF(INDEX(E_SourceStreams!$A:$N,CZ61,U$7)=\"\",\"\",INDEX(E_SourceStreams!$A:$N,CZ61,U$7)))","v":""},{"$f":"IF($E61=\"\",\"\",IF(INDEX(E_SourceStreams!$A:$N,DA61,V$7)=\"\",\"\",INDEX(E_SourceStreams!$A:$N,DA61,V$7)))","v":""},{"$f":"IF($E61=\"\",\"\",IF(INDEX(E_SourceStreams!$A:$N,DB61,W$7)=\"\",\"\",INDEX(E_SourceStreams!$A:$N,DB61,W$7)))","v":""},{"$f":"IF($E61=\"\",\"\",IF(INDEX(E_SourceStreams!$A:$N,DC61,X$7)=\"\",\"\",INDEX(E_SourceStreams!$A:$N,DC61,X$7)))","v":""},{"$f":"IF($E61=\"\",\"\",IF(INDEX(E_SourceStreams!$A:$N,DD61,Y$7)=\"\",\"\",INDEX(E_SourceStreams!$A:$N,DD61,Y$7)))","v":""},{"$f":"IF($E61=\"\",\"\",IF(INDEX(E_SourceStreams!$A:$N,DE61,Z$7)=\"\",\"\",INDEX(E_SourceStreams!$A:$N,DE61,Z$7)))","v":""},{"$f":"IF($E61=\"\",\"\",IF(INDEX(E_SourceStreams!$A:$N,DF61,AA$7)=\"\",\"\",INDEX(E_SourceStreams!$A:$N,DF61,AA$7)))","v":""},{"$f":"IF($E61=\"\",\"\",IF(INDEX(E_SourceStreams!$A:$N,DG61,AB$7)=\"\",\"\",INDEX(E_SourceStreams!$A:$N,DG61,AB$7)))","v":""},{"$f":"IF($E61=\"\",\"\",IF(INDEX(E_SourceStreams!$A:$N,DH61,AC$7)=\"\",\"\",INDEX(E_SourceStreams!$A:$N,DH61,AC$7)))","v":""},{"$f":"IF($E61=\"\",\"\",IF(INDEX(E_SourceStreams!$A:$N,DI61,AD$7)=\"\",\"\",INDEX(E_SourceStreams!$A:$N,DI61,AD$7)))","v":""},{"$f":"IF($E61=\"\",\"\",IF(INDEX(E_SourceStreams!$A:$N,DJ61,AE$7)=\"\",\"\",INDEX(E_SourceStreams!$A:$N,DJ61,AE$7)))","v":""},{"$f":"IF($E61=\"\",\"\",IF(INDEX(E_SourceStreams!$A:$N,DK61,AF$7)=\"\",\"\",INDEX(E_SourceStreams!$A:$N,DK61,AF$7)))","v":""},{"$f":"IF($E61=\"\",\"\",IF(INDEX(E_SourceStreams!$A:$N,DL61,AG$7)=\"\",\"\",INDEX(E_SourceStreams!$A:$N,DL61,AG$7)))","v":""},{"$f":"IF($E61=\"\",\"\",IF(INDEX(E_SourceStreams!$A:$N,DM61,AH$7)=\"\",\"\",INDEX(E_SourceStreams!$A:$N,DM61,AH$7)))","v":""},{"$f":"IF($E61=\"\",\"\",IF(INDEX(E_SourceStreams!$A:$N,DN61,AI$7)=\"\",\"\",INDEX(E_SourceStreams!$A:$N,DN61,AI$7)))","v":""},{"$f":"IF($E61=\"\",\"\",IF(INDEX(E_SourceStreams!$A:$N,DO61,AJ$7)=\"\",\"\",INDEX(E_SourceStreams!$A:$N,DO61,AJ$7)))","v":""},{"$f":"IF($E61=\"\",\"\",IF(INDEX(E_SourceStreams!$A:$N,DP61,AK$7)=\"\",\"\",INDEX(E_SourceStreams!$A:$N,DP61,AK$7)))","v":""},{"$f":"IF($E61=\"\",\"\",IF(INDEX(E_SourceStreams!$A:$N,DQ61,AL$7)=\"\",\"\",INDEX(E_SourceStreams!$A:$N,DQ61,AL$7)))","v":""},{"$f":"IF($E61=\"\",\"\",IF(INDEX(E_SourceStreams!$A:$N,DR61,AM$7)=\"\",\"\",INDEX(E_SourceStreams!$A:$N,DR61,AM$7)))","v":""},{"$f":"IF($E61=\"\",\"\",IF(INDEX(E_SourceStreams!$A:$N,DS61,AN$7)=\"\",\"\",INDEX(E_SourceStreams!$A:$N,DS61,AN$7)))","v":""},{"$f":"IF($E61=\"\",\"\",IF(INDEX(E_SourceStreams!$A:$N,DT61,AO$7)=\"\",\"\",INDEX(E_SourceStreams!$A:$N,DT61,AO$7)))","v":""},{"$f":"IF($E61=\"\",\"\",IF(INDEX(E_SourceStreams!$A:$N,DU61,AP$7)=\"\",\"\",INDEX(E_SourceStreams!$A:$N,DU61,AP$7)))","v":""},{"$f":"IF($E61=\"\",\"\",IF(INDEX(E_SourceStreams!$A:$N,DV61,AQ$7)=\"\",\"\",INDEX(E_SourceStreams!$A:$N,DV61,AQ$7)))","v":""},{"$f":"IF($E61=\"\",\"\",IF(INDEX(E_SourceStreams!$A:$N,DW61,AR$7)=\"\",\"\",INDEX(E_SourceStreams!$A:$N,DW61,AR$7)))","v":""},{"$f":"IF($E61=\"\",\"\",IF(INDEX(E_SourceStreams!$A:$N,DX61,AS$7)=\"\",\"\",INDEX(E_SourceStreams!$A:$N,DX61,AS$7)))","v":""},{"$f":"IF($E61=\"\",\"\",IF(INDEX(E_SourceStreams!$A:$N,DY61,AT$7)=\"\",\"\",INDEX(E_SourceStreams!$A:$N,DY61,AT$7)))","v":""},{"$f":"IF($E61=\"\",\"\",IF(INDEX(E_SourceStreams!$A:$N,DZ61,AU$7)=\"\",\"\",INDEX(E_SourceStreams!$A:$N,DZ61,AU$7)))","v":""},{"$f":"IF($E61=\"\",\"\",IF(INDEX(E_SourceStreams!$A:$N,EA61,AV$7)=\"\",\"\",INDEX(E_SourceStreams!$A:$N,EA61,AV$7)))","v":""},{"$f":"IF($E61=\"\",\"\",IF(INDEX(E_SourceStreams!$A:$N,EB61,AW$7)=\"\",\"\",INDEX(E_SourceStreams!$A:$N,EB61,AW$7)))","v":""},{"$f":"IF($E61=\"\",\"\",IF(INDEX(E_SourceStreams!$A:$N,EC61,AX$7)=\"\",\"\",INDEX(E_SourceStreams!$A:$N,EC61,AX$7)))","v":""},{"$f":"IF($E61=\"\",\"\",IF(INDEX(E_SourceStreams!$A:$N,ED61,AY$7)=\"\",\"\",INDEX(E_SourceStreams!$A:$N,ED61,AY$7)))","v":""},{"$f":"IF($E61=\"\",\"\",IF(INDEX(E_SourceStreams!$A:$N,EE61,AZ$7)=\"\",\"\",INDEX(E_SourceStreams!$A:$N,EE61,AZ$7)))","v":""},{"$f":"IF($E61=\"\",\"\",IF(INDEX(E_SourceStreams!$A:$N,EF61,BA$7)=\"\",\"\",INDEX(E_SourceStreams!$A:$N,EF61,BA$7)))","v":""},{"$f":"IF($E61=\"\",\"\",IF(INDEX(E_SourceStreams!$A:$N,EG61,BB$7)=\"\",\"\",INDEX(E_SourceStreams!$A:$N,EG61,BB$7)))","v":""},{"$f":"IF($E61=\"\",\"\",IF(INDEX(E_SourceStreams!$A:$N,EH61,BC$7)=\"\",\"\",INDEX(E_SourceStreams!$A:$N,EH61,BC$7)))","v":""},{"$f":"IF($E61=\"\",\"\",IF(INDEX(E_SourceStreams!$A:$N,EI61,BD$7)=\"\",\"\",INDEX(E_SourceStreams!$A:$N,EI61,BD$7)))","v":""},{"$f":"IF($E61=\"\",\"\",IF(INDEX(E_SourceStreams!$A:$N,EJ61,BE$7)=\"\",\"\",INDEX(E_SourceStreams!$A:$N,EJ61,BE$7)))","v":""},{"$f":"IF($E61=\"\",\"\",IF(INDEX(E_SourceStreams!$A:$N,EK61,BF$7)=\"\",\"\",INDEX(E_SourceStreams!$A:$N,EK61,BF$7)))","v":""},{"$f":"IF($E61=\"\",\"\",IF(INDEX(E_SourceStreams!$A:$N,EL61,BG$7)=\"\",\"\",INDEX(E_SourceStreams!$A:$N,EL61,BG$7)))","v":""},{"$f":"IF($E61=\"\",\"\",IF(INDEX(E_SourceStreams!$A:$N,EM61,BH$7)=\"\",\"\",INDEX(E_SourceStreams!$A:$N,EM61,BH$7)))","v":""},{"$f":"IF($E61=\"\",\"\",IF(INDEX(E_SourceStreams!$A:$N,EN61,BI$7)=\"\",\"\",INDEX(E_SourceStreams!$A:$N,EN61,BI$7)))","v":""},{"$f":"IF($E61=\"\",\"\",IF(INDEX(E_SourceStreams!$A:$N,EO61,BJ$7)=\"\",\"\",INDEX(E_SourceStreams!$A:$N,EO61,BJ$7)))","v":""},{"$f":"IF($E61=\"\",\"\",IF(INDEX(E_SourceStreams!$A:$N,EP61,BK$7)=\"\",\"\",INDEX(E_SourceStreams!$A:$N,EP61,BK$7)))","v":""},{"$f":"IF($E61=\"\",\"\",IF(INDEX(E_SourceStreams!$A:$N,EQ61,BL$7)=\"\",\"\",INDEX(E_SourceStreams!$A:$N,EQ61,BL$7)))","v":""},{"$f":"IF($E61=\"\",\"\",IF(INDEX(E_SourceStreams!$A:$N,ER61,BM$7)=\"\",\"\",INDEX(E_SourceStreams!$A:$N,ER61,BM$7)))","v":""},{"$f":"IF($E61=\"\",\"\",IF(INDEX(E_SourceStreams!$A:$N,ES61,BN$7)=\"\",\"\",INDEX(E_SourceStreams!$A:$N,ES61,BN$7)))","v":""},{"$f":"IF($E61=\"\",\"\",IF(INDEX(E_SourceStreams!$A:$N,ET61,BO$7)=\"\",\"\",INDEX(E_SourceStreams!$A:$N,ET61,BO$7)))","v":""},{"$f":"IF($E61=\"\",\"\",IF(INDEX(E_SourceStreams!$A:$N,EU61,BP$7)=\"\",\"\",INDEX(E_SourceStreams!$A:$N,EU61,BP$7)))","v":""},{"$f":"IF($E61=\"\",\"\",IF(INDEX(E_SourceStreams!$A:$N,EV61,BQ$7)=\"\",\"\",INDEX(E_SourceStreams!$A:$N,EV61,BQ$7)))","v":""},{"$f":"IF($E61=\"\",\"\",IF(INDEX(E_SourceStreams!$A:$N,EW61,BR$7)=\"\",\"\",INDEX(E_SourceStreams!$A:$N,EW61,BR$7)))","v":""},{"$f":"IF($E61=\"\",\"\",IF(INDEX(E_SourceStreams!$A:$N,EX61,BS$7)=\"\",\"\",INDEX(E_SourceStreams!$A:$N,EX61,BS$7)))","v":""},{"$f":"IF($E61=\"\",\"\",IF(INDEX(E_SourceStreams!$A:$N,EY61,BT$7)=\"\",\"\",INDEX(E_SourceStreams!$A:$N,EY61,BT$7)))","v":""},null,null,null,null,null,null,null,null,null,null,null,null,null,null,null,"SourceCategory_",{"$f":"INDEX(C_InstallationDescription!$A$226:$A$332,ROWS($CI$11:CI61))=\"ausblenden\"","v":true},"SourceStreamName_",null,3433,3435,3437,3439,3441,3443,3445,3445,3445,3445,3445,3448,3452,3453,3454,3461,3471,3471,3471,3471,3471,3471,3471,3462,3472,3472,3472,3472,3472,3472,3472,3463,3473,3473,3473,3473,3473,3473,3473,3464,3474,3474,3474,3474,3474,3474,3474,3465,3475,3475,3475,3475,3475,3475,3475,3466,3476,3476,3476,3476,3476,3476,3476,3482]
[null,{"$f":"IF(COUNTIF($CK$10:CK62,TRUE)>0,\"\",INDEX(C_InstallationDescription!$E$226:$E$242,ROWS($A$11:A62)))","v":""},{"$f":"IF($E62=\"\",\"\",INDEX(C_InstallationDescription!F:F,MATCH($B62,C_InstallationDescription!$E:$E,0)))","v":""},{"$f":"IF($E62=\"\",\"\",INDEX(C_InstallationDescription!I:I,MATCH($B62,C_InstallationDescription!$E:$E,0)))","v":""},{"$f":"IF($B62=\"\",\"\",INDEX(C_InstallationDescription!F:F,MATCH($CJ62,C_InstallationDescription!$Q:$Q,0)))","v":""},{"$f":"IF($E62=\"\",\"\",INDEX(C_InstallationDescription!L:L,MATCH($CJ62,C_InstallationDescription!$Q:$Q,0)))","v":""},{"$f":"IF($E62=\"\",\"\",INDEX(C_InstallationDescription!M:M,MATCH($CJ62,C_InstallationDescription!$Q:$Q,0)))","v":""},{"$f":"IF($E62=\"\",\"\",INDEX(C_InstallationDescription!N:N,MATCH($CJ62,C_InstallationDescription!$Q:$Q,0)))","v":""},{"$f":"IF($E62=\"\",\"\",IF(INDEX(E_SourceStreams!$A:$N,CN62,I$7)=\"\",\"\",INDEX(E_SourceStreams!$A:$N,CN62,I$7)))","v":""},{"$f":"IF($E62=\"\",\"\",IF(INDEX(E_SourceStreams!$A:$N,CO62,J$7)=\"\",\"\",INDEX(E_SourceStreams!$A:$N,CO62,J$7)))","v":""},{"$f":"IF($E62=\"\",\"\",IF(INDEX(E_SourceStreams!$A:$N,CP62,K$7)=\"\",\"\",INDEX(E_SourceStreams!$A:$N,CP62,K$7)))","v":""},{"$f":"IF($E62=\"\",\"\",IF(INDEX(E_SourceStreams!$A:$N,CQ62,L$7)=\"\",\"\",INDEX(E_SourceStreams!$A:$N,CQ62,L$7)))","v":""},{"$f":"IF($E62=\"\",\"\",IF(INDEX(E_SourceStreams!$A:$N,CR62,M$7)=\"\",\"\",INDEX(E_SourceStreams!$A:$N,CR62,M$7)))","v":""},{"$f":"IF($E62=\"\",\"\",IF(INDEX(E_SourceStreams!$A:$N,CS62,N$7)=\"\",\"\",INDEX(E_SourceStreams!$A:$N,CS62,N$7)))","v":""},{"$f":"IF($E62=\"\",\"\",IF(INDEX(E_SourceStreams!$A:$N,CT62,O$7)=\"\",\"\",INDEX(E_SourceStreams!$A:$N,CT62,O$7)))","v":""},{"$f":"IF($E62=\"\",\"\",IF(INDEX(E_SourceStreams!$A:$N,CU62,P$7)=\"\",\"\",INDEX(E_SourceStreams!$A:$N,CU62,P$7)))","v":""},{"$f":"IF($E62=\"\",\"\",IF(INDEX(E_SourceStreams!$A:$N,CV62,Q$7)=\"\",\"\",INDEX(E_SourceStreams!$A:$N,CV62,Q$7)))","v":""},{"$f":"IF($E62=\"\",\"\",IF(INDEX(E_SourceStreams!$A:$N,CW62,R$7)=\"\",\"\",INDEX(E_SourceStreams!$A:$N,CW62,R$7)))","v":""},{"$f":"IF($E62=\"\",\"\",IF(INDEX(E_SourceStreams!$A:$N,CX62,S$7)=\"\",\"\",INDEX(E_SourceStreams!$A:$N,CX62,S$7)))","v":""},{"$f":"IF($E62=\"\",\"\",IF(INDEX(E_SourceStreams!$A:$N,CY62,T$7)=\"\",\"\",INDEX(E_SourceStreams!$A:$N,CY62,T$7)))","v":""},{"$f":"IF($E62=\"\",\"\",IF(INDEX(E_SourceStreams!$A:$N,CZ62,U$7)=\"\",\"\",INDEX(E_SourceStreams!$A:$N,CZ62,U$7)))","v":""},{"$f":"IF($E62=\"\",\"\",IF(INDEX(E_SourceStreams!$A:$N,DA62,V$7)=\"\",\"\",INDEX(E_SourceStreams!$A:$N,DA62,V$7)))","v":""},{"$f":"IF($E62=\"\",\"\",IF(INDEX(E_SourceStreams!$A:$N,DB62,W$7)=\"\",\"\",INDEX(E_SourceStreams!$A:$N,DB62,W$7)))","v":""},{"$f":"IF($E62=\"\",\"\",IF(INDEX(E_SourceStreams!$A:$N,DC62,X$7)=\"\",\"\",INDEX(E_SourceStreams!$A:$N,DC62,X$7)))","v":""},{"$f":"IF($E62=\"\",\"\",IF(INDEX(E_SourceStreams!$A:$N,DD62,Y$7)=\"\",\"\",INDEX(E_SourceStreams!$A:$N,DD62,Y$7)))","v":""},{"$f":"IF($E62=\"\",\"\",IF(INDEX(E_SourceStreams!$A:$N,DE62,Z$7)=\"\",\"\",INDEX(E_SourceStreams!$A:$N,DE62,Z$7)))","v":""},{"$f":"IF($E62=\"\",\"\",IF(INDEX(E_SourceStreams!$A:$N,DF62,AA$7)=\"\",\"\",INDEX(E_SourceStreams!$A:$N,DF62,AA$7)))","v":""},{"$f":"IF($E62=\"\",\"\",IF(INDEX(E_SourceStreams!$A:$N,DG62,AB$7)=\"\",\"\",INDEX(E_SourceStreams!$A:$N,DG62,AB$7)))","v":""},{"$f":"IF($E62=\"\",\"\",IF(INDEX(E_SourceStreams!$A:$N,DH62,AC$7)=\"\",\"\",INDEX(E_SourceStreams!$A:$N,DH62,AC$7)))","v":""},{"$f":"IF($E62=\"\",\"\",IF(INDEX(E_SourceStreams!$A:$N,DI62,AD$7)=\"\",\"\",INDEX(E_SourceStreams!$A:$N,DI62,AD$7)))","v":""},{"$f":"IF($E62=\"\",\"\",IF(INDEX(E_SourceStreams!$A:$N,DJ62,AE$7)=\"\",\"\",INDEX(E_SourceStreams!$A:$N,DJ62,AE$7)))","v":""},{"$f":"IF($E62=\"\",\"\",IF(INDEX(E_SourceStreams!$A:$N,DK62,AF$7)=\"\",\"\",INDEX(E_SourceStreams!$A:$N,DK62,AF$7)))","v":""},{"$f":"IF($E62=\"\",\"\",IF(INDEX(E_SourceStreams!$A:$N,DL62,AG$7)=\"\",\"\",INDEX(E_SourceStreams!$A:$N,DL62,AG$7)))","v":""},{"$f":"IF($E62=\"\",\"\",IF(INDEX(E_SourceStreams!$A:$N,DM62,AH$7)=\"\",\"\",INDEX(E_SourceStreams!$A:$N,DM62,AH$7)))","v":""},{"$f":"IF($E62=\"\",\"\",IF(INDEX(E_SourceStreams!$A:$N,DN62,AI$7)=\"\",\"\",INDEX(E_SourceStreams!$A:$N,DN62,AI$7)))","v":""},{"$f":"IF($E62=\"\",\"\",IF(INDEX(E_SourceStreams!$A:$N,DO62,AJ$7)=\"\",\"\",INDEX(E_SourceStreams!$A:$N,DO62,AJ$7)))","v":""},{"$f":"IF($E62=\"\",\"\",IF(INDEX(E_SourceStreams!$A:$N,DP62,AK$7)=\"\",\"\",INDEX(E_SourceStreams!$A:$N,DP62,AK$7)))","v":""},{"$f":"IF($E62=\"\",\"\",IF(INDEX(E_SourceStreams!$A:$N,DQ62,AL$7)=\"\",\"\",INDEX(E_SourceStreams!$A:$N,DQ62,AL$7)))","v":""},{"$f":"IF($E62=\"\",\"\",IF(INDEX(E_SourceStreams!$A:$N,DR62,AM$7)=\"\",\"\",INDEX(E_SourceStreams!$A:$N,DR62,AM$7)))","v":""},{"$f":"IF($E62=\"\",\"\",IF(INDEX(E_SourceStreams!$A:$N,DS62,AN$7)=\"\",\"\",INDEX(E_SourceStreams!$A:$N,DS62,AN$7)))","v":""},{"$f":"IF($E62=\"\",\"\",IF(INDEX(E_SourceStreams!$A:$N,DT62,AO$7)=\"\",\"\",INDEX(E_SourceStreams!$A:$N,DT62,AO$7)))","v":""},{"$f":"IF($E62=\"\",\"\",IF(INDEX(E_SourceStreams!$A:$N,DU62,AP$7)=\"\",\"\",INDEX(E_SourceStreams!$A:$N,DU62,AP$7)))","v":""},{"$f":"IF($E62=\"\",\"\",IF(INDEX(E_SourceStreams!$A:$N,DV62,AQ$7)=\"\",\"\",INDEX(E_SourceStreams!$A:$N,DV62,AQ$7)))","v":""},{"$f":"IF($E62=\"\",\"\",IF(INDEX(E_SourceStreams!$A:$N,DW62,AR$7)=\"\",\"\",INDEX(E_SourceStreams!$A:$N,DW62,AR$7)))","v":""},{"$f":"IF($E62=\"\",\"\",IF(INDEX(E_SourceStreams!$A:$N,DX62,AS$7)=\"\",\"\",INDEX(E_SourceStreams!$A:$N,DX62,AS$7)))","v":""},{"$f":"IF($E62=\"\",\"\",IF(INDEX(E_SourceStreams!$A:$N,DY62,AT$7)=\"\",\"\",INDEX(E_SourceStreams!$A:$N,DY62,AT$7)))","v":""},{"$f":"IF($E62=\"\",\"\",IF(INDEX(E_SourceStreams!$A:$N,DZ62,AU$7)=\"\",\"\",INDEX(E_SourceStreams!$A:$N,DZ62,AU$7)))","v":""},{"$f":"IF($E62=\"\",\"\",IF(INDEX(E_SourceStreams!$A:$N,EA62,AV$7)=\"\",\"\",INDEX(E_SourceStreams!$A:$N,EA62,AV$7)))","v":""},{"$f":"IF($E62=\"\",\"\",IF(INDEX(E_SourceStreams!$A:$N,EB62,AW$7)=\"\",\"\",INDEX(E_SourceStreams!$A:$N,EB62,AW$7)))","v":""},{"$f":"IF($E62=\"\",\"\",IF(INDEX(E_SourceStreams!$A:$N,EC62,AX$7)=\"\",\"\",INDEX(E_SourceStreams!$A:$N,EC62,AX$7)))","v":""},{"$f":"IF($E62=\"\",\"\",IF(INDEX(E_SourceStreams!$A:$N,ED62,AY$7)=\"\",\"\",INDEX(E_SourceStreams!$A:$N,ED62,AY$7)))","v":""},{"$f":"IF($E62=\"\",\"\",IF(INDEX(E_SourceStreams!$A:$N,EE62,AZ$7)=\"\",\"\",INDEX(E_SourceStreams!$A:$N,EE62,AZ$7)))","v":""},{"$f":"IF($E62=\"\",\"\",IF(INDEX(E_SourceStreams!$A:$N,EF62,BA$7)=\"\",\"\",INDEX(E_SourceStreams!$A:$N,EF62,BA$7)))","v":""},{"$f":"IF($E62=\"\",\"\",IF(INDEX(E_SourceStreams!$A:$N,EG62,BB$7)=\"\",\"\",INDEX(E_SourceStreams!$A:$N,EG62,BB$7)))","v":""},{"$f":"IF($E62=\"\",\"\",IF(INDEX(E_SourceStreams!$A:$N,EH62,BC$7)=\"\",\"\",INDEX(E_SourceStreams!$A:$N,EH62,BC$7)))","v":""},{"$f":"IF($E62=\"\",\"\",IF(INDEX(E_SourceStreams!$A:$N,EI62,BD$7)=\"\",\"\",INDEX(E_SourceStreams!$A:$N,EI62,BD$7)))","v":""},{"$f":"IF($E62=\"\",\"\",IF(INDEX(E_SourceStreams!$A:$N,EJ62,BE$7)=\"\",\"\",INDEX(E_SourceStreams!$A:$N,EJ62,BE$7)))","v":""},{"$f":"IF($E62=\"\",\"\",IF(INDEX(E_SourceStreams!$A:$N,EK62,BF$7)=\"\",\"\",INDEX(E_SourceStreams!$A:$N,EK62,BF$7)))","v":""},{"$f":"IF($E62=\"\",\"\",IF(INDEX(E_SourceStreams!$A:$N,EL62,BG$7)=\"\",\"\",INDEX(E_SourceStreams!$A:$N,EL62,BG$7)))","v":""},{"$f":"IF($E62=\"\",\"\",IF(INDEX(E_SourceStreams!$A:$N,EM62,BH$7)=\"\",\"\",INDEX(E_SourceStreams!$A:$N,EM62,BH$7)))","v":""},{"$f":"IF($E62=\"\",\"\",IF(INDEX(E_SourceStreams!$A:$N,EN62,BI$7)=\"\",\"\",INDEX(E_SourceStreams!$A:$N,EN62,BI$7)))","v":""},{"$f":"IF($E62=\"\",\"\",IF(INDEX(E_SourceStreams!$A:$N,EO62,BJ$7)=\"\",\"\",INDEX(E_SourceStreams!$A:$N,EO62,BJ$7)))","v":""},{"$f":"IF($E62=\"\",\"\",IF(INDEX(E_SourceStreams!$A:$N,EP62,BK$7)=\"\",\"\",INDEX(E_SourceStreams!$A:$N,EP62,BK$7)))","v":""},{"$f":"IF($E62=\"\",\"\",IF(INDEX(E_SourceStreams!$A:$N,EQ62,BL$7)=\"\",\"\",INDEX(E_SourceStreams!$A:$N,EQ62,BL$7)))","v":""},{"$f":"IF($E62=\"\",\"\",IF(INDEX(E_SourceStreams!$A:$N,ER62,BM$7)=\"\",\"\",INDEX(E_SourceStreams!$A:$N,ER62,BM$7)))","v":""},{"$f":"IF($E62=\"\",\"\",IF(INDEX(E_SourceStreams!$A:$N,ES62,BN$7)=\"\",\"\",INDEX(E_SourceStreams!$A:$N,ES62,BN$7)))","v":""},{"$f":"IF($E62=\"\",\"\",IF(INDEX(E_SourceStreams!$A:$N,ET62,BO$7)=\"\",\"\",INDEX(E_SourceStreams!$A:$N,ET62,BO$7)))","v":""},{"$f":"IF($E62=\"\",\"\",IF(INDEX(E_SourceStreams!$A:$N,EU62,BP$7)=\"\",\"\",INDEX(E_SourceStreams!$A:$N,EU62,BP$7)))","v":""},{"$f":"IF($E62=\"\",\"\",IF(INDEX(E_SourceStreams!$A:$N,EV62,BQ$7)=\"\",\"\",INDEX(E_SourceStreams!$A:$N,EV62,BQ$7)))","v":""},{"$f":"IF($E62=\"\",\"\",IF(INDEX(E_SourceStreams!$A:$N,EW62,BR$7)=\"\",\"\",INDEX(E_SourceStreams!$A:$N,EW62,BR$7)))","v":""},{"$f":"IF($E62=\"\",\"\",IF(INDEX(E_SourceStreams!$A:$N,EX62,BS$7)=\"\",\"\",INDEX(E_SourceStreams!$A:$N,EX62,BS$7)))","v":""},{"$f":"IF($E62=\"\",\"\",IF(INDEX(E_SourceStreams!$A:$N,EY62,BT$7)=\"\",\"\",INDEX(E_SourceStreams!$A:$N,EY62,BT$7)))","v":""},null,null,null,null,null,null,null,null,null,null,null,null,null,null,null,"SourceCategory_",{"$f":"INDEX(C_InstallationDescription!$A$226:$A$332,ROWS($CI$11:CI62))=\"ausblenden\"","v":true},"SourceStreamName_",null,3499,3501,3503,3505,3507,3509,3511,3511,3511,3511,3511,3514,3518,3519,3520,3527,3537,3537,3537,3537,3537,3537,3537,3528,3538,3538,3538,3538,3538,3538,3538,3529,3539,3539,3539,3539,3539,3539,3539,3530,3540,3540,3540,3540,3540,3540,3540,3531,3541,3541,3541,3541,3541,3541,3541,3532,3542,3542,3542,3542,3542,3542,3542,3548]
[null,{"$f":"IF(COUNTIF($CK$10:CK63,TRUE)>0,\"\",INDEX(C_InstallationDescription!$E$226:$E$242,ROWS($A$11:A63)))","v":""},{"$f":"IF($E63=\"\",\"\",INDEX(C_InstallationDescription!F:F,MATCH($B63,C_InstallationDescription!$E:$E,0)))","v":""},{"$f":"IF($E63=\"\",\"\",INDEX(C_InstallationDescription!I:I,MATCH($B63,C_InstallationDescription!$E:$E,0)))","v":""},{"$f":"IF($B63=\"\",\"\",INDEX(C_InstallationDescription!F:F,MATCH($CJ63,C_InstallationDescription!$Q:$Q,0)))","v":""},{"$f":"IF($E63=\"\",\"\",INDEX(C_InstallationDescription!L:L,MATCH($CJ63,C_InstallationDescription!$Q:$Q,0)))","v":""},{"$f":"IF($E63=\"\",\"\",INDEX(C_InstallationDescription!M:M,MATCH($CJ63,C_InstallationDescription!$Q:$Q,0)))","v":""},{"$f":"IF($E63=\"\",\"\",INDEX(C_InstallationDescription!N:N,MATCH($CJ63,C_InstallationDescription!$Q:$Q,0)))","v":""},{"$f":"IF($E63=\"\",\"\",IF(INDEX(E_SourceStreams!$A:$N,CN63,I$7)=\"\",\"\",INDEX(E_SourceStreams!$A:$N,CN63,I$7)))","v":""},{"$f":"IF($E63=\"\",\"\",IF(INDEX(E_SourceStreams!$A:$N,CO63,J$7)=\"\",\"\",INDEX(E_SourceStreams!$A:$N,CO63,J$7)))","v":""},{"$f":"IF($E63=\"\",\"\",IF(INDEX(E_SourceStreams!$A:$N,CP63,K$7)=\"\",\"\",INDEX(E_SourceStreams!$A:$N,CP63,K$7)))","v":""},{"$f":"IF($E63=\"\",\"\",IF(INDEX(E_SourceStreams!$A:$N,CQ63,L$7)=\"\",\"\",INDEX(E_SourceStreams!$A:$N,CQ63,L$7)))","v":""},{"$f":"IF($E63=\"\",\"\",IF(INDEX(E_SourceStreams!$A:$N,CR63,M$7)=\"\",\"\",INDEX(E_SourceStreams!$A:$N,CR63,M$7)))","v":""},{"$f":"IF($E63=\"\",\"\",IF(INDEX(E_SourceStreams!$A:$N,CS63,N$7)=\"\",\"\",INDEX(E_SourceStreams!$A:$N,CS63,N$7)))","v":""},{"$f":"IF($E63=\"\",\"\",IF(INDEX(E_SourceStreams!$A:$N,CT63,O$7)=\"\",\"\",INDEX(E_SourceStreams!$A:$N,CT63,O$7)))","v":""},{"$f":"IF($E63=\"\",\"\",IF(INDEX(E_SourceStreams!$A:$N,CU63,P$7)=\"\",\"\",INDEX(E_SourceStreams!$A:$N,CU63,P$7)))","v":""},{"$f":"IF($E63=\"\",\"\",IF(INDEX(E_SourceStreams!$A:$N,CV63,Q$7)=\"\",\"\",INDEX(E_SourceStreams!$A:$N,CV63,Q$7)))","v":""},{"$f":"IF($E63=\"\",\"\",IF(INDEX(E_SourceStreams!$A:$N,CW63,R$7)=\"\",\"\",INDEX(E_SourceStreams!$A:$N,CW63,R$7)))","v":""},{"$f":"IF($E63=\"\",\"\",IF(INDEX(E_SourceStreams!$A:$N,CX63,S$7)=\"\",\"\",INDEX(E_SourceStreams!$A:$N,CX63,S$7)))","v":""},{"$f":"IF($E63=\"\",\"\",IF(INDEX(E_SourceStreams!$A:$N,CY63,T$7)=\"\",\"\",INDEX(E_SourceStreams!$A:$N,CY63,T$7)))","v":""},{"$f":"IF($E63=\"\",\"\",IF(INDEX(E_SourceStreams!$A:$N,CZ63,U$7)=\"\",\"\",INDEX(E_SourceStreams!$A:$N,CZ63,U$7)))","v":""},{"$f":"IF($E63=\"\",\"\",IF(INDEX(E_SourceStreams!$A:$N,DA63,V$7)=\"\",\"\",INDEX(E_SourceStreams!$A:$N,DA63,V$7)))","v":""},{"$f":"IF($E63=\"\",\"\",IF(INDEX(E_SourceStreams!$A:$N,DB63,W$7)=\"\",\"\",INDEX(E_SourceStreams!$A:$N,DB63,W$7)))","v":""},{"$f":"IF($E63=\"\",\"\",IF(INDEX(E_SourceStreams!$A:$N,DC63,X$7)=\"\",\"\",INDEX(E_SourceStreams!$A:$N,DC63,X$7)))","v":""},{"$f":"IF($E63=\"\",\"\",IF(INDEX(E_SourceStreams!$A:$N,DD63,Y$7)=\"\",\"\",INDEX(E_SourceStreams!$A:$N,DD63,Y$7)))","v":""},{"$f":"IF($E63=\"\",\"\",IF(INDEX(E_SourceStreams!$A:$N,DE63,Z$7)=\"\",\"\",INDEX(E_SourceStreams!$A:$N,DE63,Z$7)))","v":""},{"$f":"IF($E63=\"\",\"\",IF(INDEX(E_SourceStreams!$A:$N,DF63,AA$7)=\"\",\"\",INDEX(E_SourceStreams!$A:$N,DF63,AA$7)))","v":""},{"$f":"IF($E63=\"\",\"\",IF(INDEX(E_SourceStreams!$A:$N,DG63,AB$7)=\"\",\"\",INDEX(E_SourceStreams!$A:$N,DG63,AB$7)))","v":""},{"$f":"IF($E63=\"\",\"\",IF(INDEX(E_SourceStreams!$A:$N,DH63,AC$7)=\"\",\"\",INDEX(E_SourceStreams!$A:$N,DH63,AC$7)))","v":""},{"$f":"IF($E63=\"\",\"\",IF(INDEX(E_SourceStreams!$A:$N,DI63,AD$7)=\"\",\"\",INDEX(E_SourceStreams!$A:$N,DI63,AD$7)))","v":""},{"$f":"IF($E63=\"\",\"\",IF(INDEX(E_SourceStreams!$A:$N,DJ63,AE$7)=\"\",\"\",INDEX(E_SourceStreams!$A:$N,DJ63,AE$7)))","v":""},{"$f":"IF($E63=\"\",\"\",IF(INDEX(E_SourceStreams!$A:$N,DK63,AF$7)=\"\",\"\",INDEX(E_SourceStreams!$A:$N,DK63,AF$7)))","v":""},{"$f":"IF($E63=\"\",\"\",IF(INDEX(E_SourceStreams!$A:$N,DL63,AG$7)=\"\",\"\",INDEX(E_SourceStreams!$A:$N,DL63,AG$7)))","v":""},{"$f":"IF($E63=\"\",\"\",IF(INDEX(E_SourceStreams!$A:$N,DM63,AH$7)=\"\",\"\",INDEX(E_SourceStreams!$A:$N,DM63,AH$7)))","v":""},{"$f":"IF($E63=\"\",\"\",IF(INDEX(E_SourceStreams!$A:$N,DN63,AI$7)=\"\",\"\",INDEX(E_SourceStreams!$A:$N,DN63,AI$7)))","v":""},{"$f":"IF($E63=\"\",\"\",IF(INDEX(E_SourceStreams!$A:$N,DO63,AJ$7)=\"\",\"\",INDEX(E_SourceStreams!$A:$N,DO63,AJ$7)))","v":""},{"$f":"IF($E63=\"\",\"\",IF(INDEX(E_SourceStreams!$A:$N,DP63,AK$7)=\"\",\"\",INDEX(E_SourceStreams!$A:$N,DP63,AK$7)))","v":""},{"$f":"IF($E63=\"\",\"\",IF(INDEX(E_SourceStreams!$A:$N,DQ63,AL$7)=\"\",\"\",INDEX(E_SourceStreams!$A:$N,DQ63,AL$7)))","v":""},{"$f":"IF($E63=\"\",\"\",IF(INDEX(E_SourceStreams!$A:$N,DR63,AM$7)=\"\",\"\",INDEX(E_SourceStreams!$A:$N,DR63,AM$7)))","v":""},{"$f":"IF($E63=\"\",\"\",IF(INDEX(E_SourceStreams!$A:$N,DS63,AN$7)=\"\",\"\",INDEX(E_SourceStreams!$A:$N,DS63,AN$7)))","v":""},{"$f":"IF($E63=\"\",\"\",IF(INDEX(E_SourceStreams!$A:$N,DT63,AO$7)=\"\",\"\",INDEX(E_SourceStreams!$A:$N,DT63,AO$7)))","v":""},{"$f":"IF($E63=\"\",\"\",IF(INDEX(E_SourceStreams!$A:$N,DU63,AP$7)=\"\",\"\",INDEX(E_SourceStreams!$A:$N,DU63,AP$7)))","v":""},{"$f":"IF($E63=\"\",\"\",IF(INDEX(E_SourceStreams!$A:$N,DV63,AQ$7)=\"\",\"\",INDEX(E_SourceStreams!$A:$N,DV63,AQ$7)))","v":""},{"$f":"IF($E63=\"\",\"\",IF(INDEX(E_SourceStreams!$A:$N,DW63,AR$7)=\"\",\"\",INDEX(E_SourceStreams!$A:$N,DW63,AR$7)))","v":""},{"$f":"IF($E63=\"\",\"\",IF(INDEX(E_SourceStreams!$A:$N,DX63,AS$7)=\"\",\"\",INDEX(E_SourceStreams!$A:$N,DX63,AS$7)))","v":""},{"$f":"IF($E63=\"\",\"\",IF(INDEX(E_SourceStreams!$A:$N,DY63,AT$7)=\"\",\"\",INDEX(E_SourceStreams!$A:$N,DY63,AT$7)))","v":""},{"$f":"IF($E63=\"\",\"\",IF(INDEX(E_SourceStreams!$A:$N,DZ63,AU$7)=\"\",\"\",INDEX(E_SourceStreams!$A:$N,DZ63,AU$7)))","v":""},{"$f":"IF($E63=\"\",\"\",IF(INDEX(E_SourceStreams!$A:$N,EA63,AV$7)=\"\",\"\",INDEX(E_SourceStreams!$A:$N,EA63,AV$7)))","v":""},{"$f":"IF($E63=\"\",\"\",IF(INDEX(E_SourceStreams!$A:$N,EB63,AW$7)=\"\",\"\",INDEX(E_SourceStreams!$A:$N,EB63,AW$7)))","v":""},{"$f":"IF($E63=\"\",\"\",IF(INDEX(E_SourceStreams!$A:$N,EC63,AX$7)=\"\",\"\",INDEX(E_SourceStreams!$A:$N,EC63,AX$7)))","v":""},{"$f":"IF($E63=\"\",\"\",IF(INDEX(E_SourceStreams!$A:$N,ED63,AY$7)=\"\",\"\",INDEX(E_SourceStreams!$A:$N,ED63,AY$7)))","v":""},{"$f":"IF($E63=\"\",\"\",IF(INDEX(E_SourceStreams!$A:$N,EE63,AZ$7)=\"\",\"\",INDEX(E_SourceStreams!$A:$N,EE63,AZ$7)))","v":""},{"$f":"IF($E63=\"\",\"\",IF(INDEX(E_SourceStreams!$A:$N,EF63,BA$7)=\"\",\"\",INDEX(E_SourceStreams!$A:$N,EF63,BA$7)))","v":""},{"$f":"IF($E63=\"\",\"\",IF(INDEX(E_SourceStreams!$A:$N,EG63,BB$7)=\"\",\"\",INDEX(E_SourceStreams!$A:$N,EG63,BB$7)))","v":""},{"$f":"IF($E63=\"\",\"\",IF(INDEX(E_SourceStreams!$A:$N,EH63,BC$7)=\"\",\"\",INDEX(E_SourceStreams!$A:$N,EH63,BC$7)))","v":""},{"$f":"IF($E63=\"\",\"\",IF(INDEX(E_SourceStreams!$A:$N,EI63,BD$7)=\"\",\"\",INDEX(E_SourceStreams!$A:$N,EI63,BD$7)))","v":""},{"$f":"IF($E63=\"\",\"\",IF(INDEX(E_SourceStreams!$A:$N,EJ63,BE$7)=\"\",\"\",INDEX(E_SourceStreams!$A:$N,EJ63,BE$7)))","v":""},{"$f":"IF($E63=\"\",\"\",IF(INDEX(E_SourceStreams!$A:$N,EK63,BF$7)=\"\",\"\",INDEX(E_SourceStreams!$A:$N,EK63,BF$7)))","v":""},{"$f":"IF($E63=\"\",\"\",IF(INDEX(E_SourceStreams!$A:$N,EL63,BG$7)=\"\",\"\",INDEX(E_SourceStreams!$A:$N,EL63,BG$7)))","v":""},{"$f":"IF($E63=\"\",\"\",IF(INDEX(E_SourceStreams!$A:$N,EM63,BH$7)=\"\",\"\",INDEX(E_SourceStreams!$A:$N,EM63,BH$7)))","v":""},{"$f":"IF($E63=\"\",\"\",IF(INDEX(E_SourceStreams!$A:$N,EN63,BI$7)=\"\",\"\",INDEX(E_SourceStreams!$A:$N,EN63,BI$7)))","v":""},{"$f":"IF($E63=\"\",\"\",IF(INDEX(E_SourceStreams!$A:$N,EO63,BJ$7)=\"\",\"\",INDEX(E_SourceStreams!$A:$N,EO63,BJ$7)))","v":""},{"$f":"IF($E63=\"\",\"\",IF(INDEX(E_SourceStreams!$A:$N,EP63,BK$7)=\"\",\"\",INDEX(E_SourceStreams!$A:$N,EP63,BK$7)))","v":""},{"$f":"IF($E63=\"\",\"\",IF(INDEX(E_SourceStreams!$A:$N,EQ63,BL$7)=\"\",\"\",INDEX(E_SourceStreams!$A:$N,EQ63,BL$7)))","v":""},{"$f":"IF($E63=\"\",\"\",IF(INDEX(E_SourceStreams!$A:$N,ER63,BM$7)=\"\",\"\",INDEX(E_SourceStreams!$A:$N,ER63,BM$7)))","v":""},{"$f":"IF($E63=\"\",\"\",IF(INDEX(E_SourceStreams!$A:$N,ES63,BN$7)=\"\",\"\",INDEX(E_SourceStreams!$A:$N,ES63,BN$7)))","v":""},{"$f":"IF($E63=\"\",\"\",IF(INDEX(E_SourceStreams!$A:$N,ET63,BO$7)=\"\",\"\",INDEX(E_SourceStreams!$A:$N,ET63,BO$7)))","v":""},{"$f":"IF($E63=\"\",\"\",IF(INDEX(E_SourceStreams!$A:$N,EU63,BP$7)=\"\",\"\",INDEX(E_SourceStreams!$A:$N,EU63,BP$7)))","v":""},{"$f":"IF($E63=\"\",\"\",IF(INDEX(E_SourceStreams!$A:$N,EV63,BQ$7)=\"\",\"\",INDEX(E_SourceStreams!$A:$N,EV63,BQ$7)))","v":""},{"$f":"IF($E63=\"\",\"\",IF(INDEX(E_SourceStreams!$A:$N,EW63,BR$7)=\"\",\"\",INDEX(E_SourceStreams!$A:$N,EW63,BR$7)))","v":""},{"$f":"IF($E63=\"\",\"\",IF(INDEX(E_SourceStreams!$A:$N,EX63,BS$7)=\"\",\"\",INDEX(E_SourceStreams!$A:$N,EX63,BS$7)))","v":""},{"$f":"IF($E63=\"\",\"\",IF(INDEX(E_SourceStreams!$A:$N,EY63,BT$7)=\"\",\"\",INDEX(E_SourceStreams!$A:$N,EY63,BT$7)))","v":""},null,null,null,null,null,null,null,null,null,null,null,null,null,null,null,"SourceCategory_",{"$f":"INDEX(C_InstallationDescription!$A$226:$A$332,ROWS($CI$11:CI63))=\"ausblenden\"","v":true},"SourceStreamName_",null,3565,3567,3569,3571,3573,3575,3577,3577,3577,3577,3577,3580,3584,3585,3586,3593,3603,3603,3603,3603,3603,3603,3603,3594,3604,3604,3604,3604,3604,3604,3604,3595,3605,3605,3605,3605,3605,3605,3605,3596,3606,3606,3606,3606,3606,3606,3606,3597,3607,3607,3607,3607,3607,3607,3607,3598,3608,3608,3608,3608,3608,3608,3608,3614]
[null,{"$f":"IF(COUNTIF($CK$10:CK64,TRUE)>0,\"\",INDEX(C_InstallationDescription!$E$226:$E$242,ROWS($A$11:A64)))","v":""},{"$f":"IF($E64=\"\",\"\",INDEX(C_InstallationDescription!F:F,MATCH($B64,C_InstallationDescription!$E:$E,0)))","v":""},{"$f":"IF($E64=\"\",\"\",INDEX(C_InstallationDescription!I:I,MATCH($B64,C_InstallationDescription!$E:$E,0)))","v":""},{"$f":"IF($B64=\"\",\"\",INDEX(C_InstallationDescription!F:F,MATCH($CJ64,C_InstallationDescription!$Q:$Q,0)))","v":""},{"$f":"IF($E64=\"\",\"\",INDEX(C_InstallationDescription!L:L,MATCH($CJ64,C_InstallationDescription!$Q:$Q,0)))","v":""},{"$f":"IF($E64=\"\",\"\",INDEX(C_InstallationDescription!M:M,MATCH($CJ64,C_InstallationDescription!$Q:$Q,0)))","v":""},{"$f":"IF($E64=\"\",\"\",INDEX(C_InstallationDescription!N:N,MATCH($CJ64,C_InstallationDescription!$Q:$Q,0)))","v":""},{"$f":"IF($E64=\"\",\"\",IF(INDEX(E_SourceStreams!$A:$N,CN64,I$7)=\"\",\"\",INDEX(E_SourceStreams!$A:$N,CN64,I$7)))","v":""},{"$f":"IF($E64=\"\",\"\",IF(INDEX(E_SourceStreams!$A:$N,CO64,J$7)=\"\",\"\",INDEX(E_SourceStreams!$A:$N,CO64,J$7)))","v":""},{"$f":"IF($E64=\"\",\"\",IF(INDEX(E_SourceStreams!$A:$N,CP64,K$7)=\"\",\"\",INDEX(E_SourceStreams!$A:$N,CP64,K$7)))","v":""},{"$f":"IF($E64=\"\",\"\",IF(INDEX(E_SourceStreams!$A:$N,CQ64,L$7)=\"\",\"\",INDEX(E_SourceStreams!$A:$N,CQ64,L$7)))","v":""},{"$f":"IF($E64=\"\",\"\",IF(INDEX(E_SourceStreams!$A:$N,CR64,M$7)=\"\",\"\",INDEX(E_SourceStreams!$A:$N,CR64,M$7)))","v":""},{"$f":"IF($E64=\"\",\"\",IF(INDEX(E_SourceStreams!$A:$N,CS64,N$7)=\"\",\"\",INDEX(E_SourceStreams!$A:$N,CS64,N$7)))","v":""},{"$f":"IF($E64=\"\",\"\",IF(INDEX(E_SourceStreams!$A:$N,CT64,O$7)=\"\",\"\",INDEX(E_SourceStreams!$A:$N,CT64,O$7)))","v":""},{"$f":"IF($E64=\"\",\"\",IF(INDEX(E_SourceStreams!$A:$N,CU64,P$7)=\"\",\"\",INDEX(E_SourceStreams!$A:$N,CU64,P$7)))","v":""},{"$f":"IF($E64=\"\",\"\",IF(INDEX(E_SourceStreams!$A:$N,CV64,Q$7)=\"\",\"\",INDEX(E_SourceStreams!$A:$N,CV64,Q$7)))","v":""},{"$f":"IF($E64=\"\",\"\",IF(INDEX(E_SourceStreams!$A:$N,CW64,R$7)=\"\",\"\",INDEX(E_SourceStreams!$A:$N,CW64,R$7)))","v":""},{"$f":"IF($E64=\"\",\"\",IF(INDEX(E_SourceStreams!$A:$N,CX64,S$7)=\"\",\"\",INDEX(E_SourceStreams!$A:$N,CX64,S$7)))","v":""},{"$f":"IF($E64=\"\",\"\",IF(INDEX(E_SourceStreams!$A:$N,CY64,T$7)=\"\",\"\",INDEX(E_SourceStreams!$A:$N,CY64,T$7)))","v":""},{"$f":"IF($E64=\"\",\"\",IF(INDEX(E_SourceStreams!$A:$N,CZ64,U$7)=\"\",\"\",INDEX(E_SourceStreams!$A:$N,CZ64,U$7)))","v":""},{"$f":"IF($E64=\"\",\"\",IF(INDEX(E_SourceStreams!$A:$N,DA64,V$7)=\"\",\"\",INDEX(E_SourceStreams!$A:$N,DA64,V$7)))","v":""},{"$f":"IF($E64=\"\",\"\",IF(INDEX(E_SourceStreams!$A:$N,DB64,W$7)=\"\",\"\",INDEX(E_SourceStreams!$A:$N,DB64,W$7)))","v":""},{"$f":"IF($E64=\"\",\"\",IF(INDEX(E_SourceStreams!$A:$N,DC64,X$7)=\"\",\"\",INDEX(E_SourceStreams!$A:$N,DC64,X$7)))","v":""},{"$f":"IF($E64=\"\",\"\",IF(INDEX(E_SourceStreams!$A:$N,DD64,Y$7)=\"\",\"\",INDEX(E_SourceStreams!$A:$N,DD64,Y$7)))","v":""},{"$f":"IF($E64=\"\",\"\",IF(INDEX(E_SourceStreams!$A:$N,DE64,Z$7)=\"\",\"\",INDEX(E_SourceStreams!$A:$N,DE64,Z$7)))","v":""},{"$f":"IF($E64=\"\",\"\",IF(INDEX(E_SourceStreams!$A:$N,DF64,AA$7)=\"\",\"\",INDEX(E_SourceStreams!$A:$N,DF64,AA$7)))","v":""},{"$f":"IF($E64=\"\",\"\",IF(INDEX(E_SourceStreams!$A:$N,DG64,AB$7)=\"\",\"\",INDEX(E_SourceStreams!$A:$N,DG64,AB$7)))","v":""},{"$f":"IF($E64=\"\",\"\",IF(INDEX(E_SourceStreams!$A:$N,DH64,AC$7)=\"\",\"\",INDEX(E_SourceStreams!$A:$N,DH64,AC$7)))","v":""},{"$f":"IF($E64=\"\",\"\",IF(INDEX(E_SourceStreams!$A:$N,DI64,AD$7)=\"\",\"\",INDEX(E_SourceStreams!$A:$N,DI64,AD$7)))","v":""},{"$f":"IF($E64=\"\",\"\",IF(INDEX(E_SourceStreams!$A:$N,DJ64,AE$7)=\"\",\"\",INDEX(E_SourceStreams!$A:$N,DJ64,AE$7)))","v":""},{"$f":"IF($E64=\"\",\"\",IF(INDEX(E_SourceStreams!$A:$N,DK64,AF$7)=\"\",\"\",INDEX(E_SourceStreams!$A:$N,DK64,AF$7)))","v":""},{"$f":"IF($E64=\"\",\"\",IF(INDEX(E_SourceStreams!$A:$N,DL64,AG$7)=\"\",\"\",INDEX(E_SourceStreams!$A:$N,DL64,AG$7)))","v":""},{"$f":"IF($E64=\"\",\"\",IF(INDEX(E_SourceStreams!$A:$N,DM64,AH$7)=\"\",\"\",INDEX(E_SourceStreams!$A:$N,DM64,AH$7)))","v":""},{"$f":"IF($E64=\"\",\"\",IF(INDEX(E_SourceStreams!$A:$N,DN64,AI$7)=\"\",\"\",INDEX(E_SourceStreams!$A:$N,DN64,AI$7)))","v":""},{"$f":"IF($E64=\"\",\"\",IF(INDEX(E_SourceStreams!$A:$N,DO64,AJ$7)=\"\",\"\",INDEX(E_SourceStreams!$A:$N,DO64,AJ$7)))","v":""},{"$f":"IF($E64=\"\",\"\",IF(INDEX(E_SourceStreams!$A:$N,DP64,AK$7)=\"\",\"\",INDEX(E_SourceStreams!$A:$N,DP64,AK$7)))","v":""},{"$f":"IF($E64=\"\",\"\",IF(INDEX(E_SourceStreams!$A:$N,DQ64,AL$7)=\"\",\"\",INDEX(E_SourceStreams!$A:$N,DQ64,AL$7)))","v":""},{"$f":"IF($E64=\"\",\"\",IF(INDEX(E_SourceStreams!$A:$N,DR64,AM$7)=\"\",\"\",INDEX(E_SourceStreams!$A:$N,DR64,AM$7)))","v":""},{"$f":"IF($E64=\"\",\"\",IF(INDEX(E_SourceStreams!$A:$N,DS64,AN$7)=\"\",\"\",INDEX(E_SourceStreams!$A:$N,DS64,AN$7)))","v":""},{"$f":"IF($E64=\"\",\"\",IF(INDEX(E_SourceStreams!$A:$N,DT64,AO$7)=\"\",\"\",INDEX(E_SourceStreams!$A:$N,DT64,AO$7)))","v":""},{"$f":"IF($E64=\"\",\"\",IF(INDEX(E_SourceStreams!$A:$N,DU64,AP$7)=\"\",\"\",INDEX(E_SourceStreams!$A:$N,DU64,AP$7)))","v":""},{"$f":"IF($E64=\"\",\"\",IF(INDEX(E_SourceStreams!$A:$N,DV64,AQ$7)=\"\",\"\",INDEX(E_SourceStreams!$A:$N,DV64,AQ$7)))","v":""},{"$f":"IF($E64=\"\",\"\",IF(INDEX(E_SourceStreams!$A:$N,DW64,AR$7)=\"\",\"\",INDEX(E_SourceStreams!$A:$N,DW64,AR$7)))","v":""},{"$f":"IF($E64=\"\",\"\",IF(INDEX(E_SourceStreams!$A:$N,DX64,AS$7)=\"\",\"\",INDEX(E_SourceStreams!$A:$N,DX64,AS$7)))","v":""},{"$f":"IF($E64=\"\",\"\",IF(INDEX(E_SourceStreams!$A:$N,DY64,AT$7)=\"\",\"\",INDEX(E_SourceStreams!$A:$N,DY64,AT$7)))","v":""},{"$f":"IF($E64=\"\",\"\",IF(INDEX(E_SourceStreams!$A:$N,DZ64,AU$7)=\"\",\"\",INDEX(E_SourceStreams!$A:$N,DZ64,AU$7)))","v":""},{"$f":"IF($E64=\"\",\"\",IF(INDEX(E_SourceStreams!$A:$N,EA64,AV$7)=\"\",\"\",INDEX(E_SourceStreams!$A:$N,EA64,AV$7)))","v":""},{"$f":"IF($E64=\"\",\"\",IF(INDEX(E_SourceStreams!$A:$N,EB64,AW$7)=\"\",\"\",INDEX(E_SourceStreams!$A:$N,EB64,AW$7)))","v":""},{"$f":"IF($E64=\"\",\"\",IF(INDEX(E_SourceStreams!$A:$N,EC64,AX$7)=\"\",\"\",INDEX(E_SourceStreams!$A:$N,EC64,AX$7)))","v":""},{"$f":"IF($E64=\"\",\"\",IF(INDEX(E_SourceStreams!$A:$N,ED64,AY$7)=\"\",\"\",INDEX(E_SourceStreams!$A:$N,ED64,AY$7)))","v":""},{"$f":"IF($E64=\"\",\"\",IF(INDEX(E_SourceStreams!$A:$N,EE64,AZ$7)=\"\",\"\",INDEX(E_SourceStreams!$A:$N,EE64,AZ$7)))","v":""},{"$f":"IF($E64=\"\",\"\",IF(INDEX(E_SourceStreams!$A:$N,EF64,BA$7)=\"\",\"\",INDEX(E_SourceStreams!$A:$N,EF64,BA$7)))","v":""},{"$f":"IF($E64=\"\",\"\",IF(INDEX(E_SourceStreams!$A:$N,EG64,BB$7)=\"\",\"\",INDEX(E_SourceStreams!$A:$N,EG64,BB$7)))","v":""},{"$f":"IF($E64=\"\",\"\",IF(INDEX(E_SourceStreams!$A:$N,EH64,BC$7)=\"\",\"\",INDEX(E_SourceStreams!$A:$N,EH64,BC$7)))","v":""},{"$f":"IF($E64=\"\",\"\",IF(INDEX(E_SourceStreams!$A:$N,EI64,BD$7)=\"\",\"\",INDEX(E_SourceStreams!$A:$N,EI64,BD$7)))","v":""},{"$f":"IF($E64=\"\",\"\",IF(INDEX(E_SourceStreams!$A:$N,EJ64,BE$7)=\"\",\"\",INDEX(E_SourceStreams!$A:$N,EJ64,BE$7)))","v":""},{"$f":"IF($E64=\"\",\"\",IF(INDEX(E_SourceStreams!$A:$N,EK64,BF$7)=\"\",\"\",INDEX(E_SourceStreams!$A:$N,EK64,BF$7)))","v":""},{"$f":"IF($E64=\"\",\"\",IF(INDEX(E_SourceStreams!$A:$N,EL64,BG$7)=\"\",\"\",INDEX(E_SourceStreams!$A:$N,EL64,BG$7)))","v":""},{"$f":"IF($E64=\"\",\"\",IF(INDEX(E_SourceStreams!$A:$N,EM64,BH$7)=\"\",\"\",INDEX(E_SourceStreams!$A:$N,EM64,BH$7)))","v":""},{"$f":"IF($E64=\"\",\"\",IF(INDEX(E_SourceStreams!$A:$N,EN64,BI$7)=\"\",\"\",INDEX(E_SourceStreams!$A:$N,EN64,BI$7)))","v":""},{"$f":"IF($E64=\"\",\"\",IF(INDEX(E_SourceStreams!$A:$N,EO64,BJ$7)=\"\",\"\",INDEX(E_SourceStreams!$A:$N,EO64,BJ$7)))","v":""},{"$f":"IF($E64=\"\",\"\",IF(INDEX(E_SourceStreams!$A:$N,EP64,BK$7)=\"\",\"\",INDEX(E_SourceStreams!$A:$N,EP64,BK$7)))","v":""},{"$f":"IF($E64=\"\",\"\",IF(INDEX(E_SourceStreams!$A:$N,EQ64,BL$7)=\"\",\"\",INDEX(E_SourceStreams!$A:$N,EQ64,BL$7)))","v":""},{"$f":"IF($E64=\"\",\"\",IF(INDEX(E_SourceStreams!$A:$N,ER64,BM$7)=\"\",\"\",INDEX(E_SourceStreams!$A:$N,ER64,BM$7)))","v":""},{"$f":"IF($E64=\"\",\"\",IF(INDEX(E_SourceStreams!$A:$N,ES64,BN$7)=\"\",\"\",INDEX(E_SourceStreams!$A:$N,ES64,BN$7)))","v":""},{"$f":"IF($E64=\"\",\"\",IF(INDEX(E_SourceStreams!$A:$N,ET64,BO$7)=\"\",\"\",INDEX(E_SourceStreams!$A:$N,ET64,BO$7)))","v":""},{"$f":"IF($E64=\"\",\"\",IF(INDEX(E_SourceStreams!$A:$N,EU64,BP$7)=\"\",\"\",INDEX(E_SourceStreams!$A:$N,EU64,BP$7)))","v":""},{"$f":"IF($E64=\"\",\"\",IF(INDEX(E_SourceStreams!$A:$N,EV64,BQ$7)=\"\",\"\",INDEX(E_SourceStreams!$A:$N,EV64,BQ$7)))","v":""},{"$f":"IF($E64=\"\",\"\",IF(INDEX(E_SourceStreams!$A:$N,EW64,BR$7)=\"\",\"\",INDEX(E_SourceStreams!$A:$N,EW64,BR$7)))","v":""},{"$f":"IF($E64=\"\",\"\",IF(INDEX(E_SourceStreams!$A:$N,EX64,BS$7)=\"\",\"\",INDEX(E_SourceStreams!$A:$N,EX64,BS$7)))","v":""},{"$f":"IF($E64=\"\",\"\",IF(INDEX(E_SourceStreams!$A:$N,EY64,BT$7)=\"\",\"\",INDEX(E_SourceStreams!$A:$N,EY64,BT$7)))","v":""},null,null,null,null,null,null,null,null,null,null,null,null,null,null,null,"SourceCategory_",{"$f":"INDEX(C_InstallationDescription!$A$226:$A$332,ROWS($CI$11:CI64))=\"ausblenden\"","v":true},"SourceStreamName_",null,3631,3633,3635,3637,3639,3641,3643,3643,3643,3643,3643,3646,3650,3651,3652,3659,3669,3669,3669,3669,3669,3669,3669,3660,3670,3670,3670,3670,3670,3670,3670,3661,3671,3671,3671,3671,3671,3671,3671,3662,3672,3672,3672,3672,3672,3672,3672,3663,3673,3673,3673,3673,3673,3673,3673,3664,3674,3674,3674,3674,3674,3674,3674,3680]
[null,{"$f":"IF(COUNTIF($CK$10:CK65,TRUE)>0,\"\",INDEX(C_InstallationDescription!$E$226:$E$242,ROWS($A$11:A65)))","v":""},{"$f":"IF($E65=\"\",\"\",INDEX(C_InstallationDescription!F:F,MATCH($B65,C_InstallationDescription!$E:$E,0)))","v":""},{"$f":"IF($E65=\"\",\"\",INDEX(C_InstallationDescription!I:I,MATCH($B65,C_InstallationDescription!$E:$E,0)))","v":""},{"$f":"IF($B65=\"\",\"\",INDEX(C_InstallationDescription!F:F,MATCH($CJ65,C_InstallationDescription!$Q:$Q,0)))","v":""},{"$f":"IF($E65=\"\",\"\",INDEX(C_InstallationDescription!L:L,MATCH($CJ65,C_InstallationDescription!$Q:$Q,0)))","v":""},{"$f":"IF($E65=\"\",\"\",INDEX(C_InstallationDescription!M:M,MATCH($CJ65,C_InstallationDescription!$Q:$Q,0)))","v":""},{"$f":"IF($E65=\"\",\"\",INDEX(C_InstallationDescription!N:N,MATCH($CJ65,C_InstallationDescription!$Q:$Q,0)))","v":""},{"$f":"IF($E65=\"\",\"\",IF(INDEX(E_SourceStreams!$A:$N,CN65,I$7)=\"\",\"\",INDEX(E_SourceStreams!$A:$N,CN65,I$7)))","v":""},{"$f":"IF($E65=\"\",\"\",IF(INDEX(E_SourceStreams!$A:$N,CO65,J$7)=\"\",\"\",INDEX(E_SourceStreams!$A:$N,CO65,J$7)))","v":""},{"$f":"IF($E65=\"\",\"\",IF(INDEX(E_SourceStreams!$A:$N,CP65,K$7)=\"\",\"\",INDEX(E_SourceStreams!$A:$N,CP65,K$7)))","v":""},{"$f":"IF($E65=\"\",\"\",IF(INDEX(E_SourceStreams!$A:$N,CQ65,L$7)=\"\",\"\",INDEX(E_SourceStreams!$A:$N,CQ65,L$7)))","v":""},{"$f":"IF($E65=\"\",\"\",IF(INDEX(E_SourceStreams!$A:$N,CR65,M$7)=\"\",\"\",INDEX(E_SourceStreams!$A:$N,CR65,M$7)))","v":""},{"$f":"IF($E65=\"\",\"\",IF(INDEX(E_SourceStreams!$A:$N,CS65,N$7)=\"\",\"\",INDEX(E_SourceStreams!$A:$N,CS65,N$7)))","v":""},{"$f":"IF($E65=\"\",\"\",IF(INDEX(E_SourceStreams!$A:$N,CT65,O$7)=\"\",\"\",INDEX(E_SourceStreams!$A:$N,CT65,O$7)))","v":""},{"$f":"IF($E65=\"\",\"\",IF(INDEX(E_SourceStreams!$A:$N,CU65,P$7)=\"\",\"\",INDEX(E_SourceStreams!$A:$N,CU65,P$7)))","v":""},{"$f":"IF($E65=\"\",\"\",IF(INDEX(E_SourceStreams!$A:$N,CV65,Q$7)=\"\",\"\",INDEX(E_SourceStreams!$A:$N,CV65,Q$7)))","v":""},{"$f":"IF($E65=\"\",\"\",IF(INDEX(E_SourceStreams!$A:$N,CW65,R$7)=\"\",\"\",INDEX(E_SourceStreams!$A:$N,CW65,R$7)))","v":""},{"$f":"IF($E65=\"\",\"\",IF(INDEX(E_SourceStreams!$A:$N,CX65,S$7)=\"\",\"\",INDEX(E_SourceStreams!$A:$N,CX65,S$7)))","v":""},{"$f":"IF($E65=\"\",\"\",IF(INDEX(E_SourceStreams!$A:$N,CY65,T$7)=\"\",\"\",INDEX(E_SourceStreams!$A:$N,CY65,T$7)))","v":""},{"$f":"IF($E65=\"\",\"\",IF(INDEX(E_SourceStreams!$A:$N,CZ65,U$7)=\"\",\"\",INDEX(E_SourceStreams!$A:$N,CZ65,U$7)))","v":""},{"$f":"IF($E65=\"\",\"\",IF(INDEX(E_SourceStreams!$A:$N,DA65,V$7)=\"\",\"\",INDEX(E_SourceStreams!$A:$N,DA65,V$7)))","v":""},{"$f":"IF($E65=\"\",\"\",IF(INDEX(E_SourceStreams!$A:$N,DB65,W$7)=\"\",\"\",INDEX(E_SourceStreams!$A:$N,DB65,W$7)))","v":""},{"$f":"IF($E65=\"\",\"\",IF(INDEX(E_SourceStreams!$A:$N,DC65,X$7)=\"\",\"\",INDEX(E_SourceStreams!$A:$N,DC65,X$7)))","v":""},{"$f":"IF($E65=\"\",\"\",IF(INDEX(E_SourceStreams!$A:$N,DD65,Y$7)=\"\",\"\",INDEX(E_SourceStreams!$A:$N,DD65,Y$7)))","v":""},{"$f":"IF($E65=\"\",\"\",IF(INDEX(E_SourceStreams!$A:$N,DE65,Z$7)=\"\",\"\",INDEX(E_SourceStreams!$A:$N,DE65,Z$7)))","v":""},{"$f":"IF($E65=\"\",\"\",IF(INDEX(E_SourceStreams!$A:$N,DF65,AA$7)=\"\",\"\",INDEX(E_SourceStreams!$A:$N,DF65,AA$7)))","v":""},{"$f":"IF($E65=\"\",\"\",IF(INDEX(E_SourceStreams!$A:$N,DG65,AB$7)=\"\",\"\",INDEX(E_SourceStreams!$A:$N,DG65,AB$7)))","v":""},{"$f":"IF($E65=\"\",\"\",IF(INDEX(E_SourceStreams!$A:$N,DH65,AC$7)=\"\",\"\",INDEX(E_SourceStreams!$A:$N,DH65,AC$7)))","v":""},{"$f":"IF($E65=\"\",\"\",IF(INDEX(E_SourceStreams!$A:$N,DI65,AD$7)=\"\",\"\",INDEX(E_SourceStreams!$A:$N,DI65,AD$7)))","v":""},{"$f":"IF($E65=\"\",\"\",IF(INDEX(E_SourceStreams!$A:$N,DJ65,AE$7)=\"\",\"\",INDEX(E_SourceStreams!$A:$N,DJ65,AE$7)))","v":""},{"$f":"IF($E65=\"\",\"\",IF(INDEX(E_SourceStreams!$A:$N,DK65,AF$7)=\"\",\"\",INDEX(E_SourceStreams!$A:$N,DK65,AF$7)))","v":""},{"$f":"IF($E65=\"\",\"\",IF(INDEX(E_SourceStreams!$A:$N,DL65,AG$7)=\"\",\"\",INDEX(E_SourceStreams!$A:$N,DL65,AG$7)))","v":""},{"$f":"IF($E65=\"\",\"\",IF(INDEX(E_SourceStreams!$A:$N,DM65,AH$7)=\"\",\"\",INDEX(E_SourceStreams!$A:$N,DM65,AH$7)))","v":""},{"$f":"IF($E65=\"\",\"\",IF(INDEX(E_SourceStreams!$A:$N,DN65,AI$7)=\"\",\"\",INDEX(E_SourceStreams!$A:$N,DN65,AI$7)))","v":""},{"$f":"IF($E65=\"\",\"\",IF(INDEX(E_SourceStreams!$A:$N,DO65,AJ$7)=\"\",\"\",INDEX(E_SourceStreams!$A:$N,DO65,AJ$7)))","v":""},{"$f":"IF($E65=\"\",\"\",IF(INDEX(E_SourceStreams!$A:$N,DP65,AK$7)=\"\",\"\",INDEX(E_SourceStreams!$A:$N,DP65,AK$7)))","v":""},{"$f":"IF($E65=\"\",\"\",IF(INDEX(E_SourceStreams!$A:$N,DQ65,AL$7)=\"\",\"\",INDEX(E_SourceStreams!$A:$N,DQ65,AL$7)))","v":""},{"$f":"IF($E65=\"\",\"\",IF(INDEX(E_SourceStreams!$A:$N,DR65,AM$7)=\"\",\"\",INDEX(E_SourceStreams!$A:$N,DR65,AM$7)))","v":""},{"$f":"IF($E65=\"\",\"\",IF(INDEX(E_SourceStreams!$A:$N,DS65,AN$7)=\"\",\"\",INDEX(E_SourceStreams!$A:$N,DS65,AN$7)))","v":""},{"$f":"IF($E65=\"\",\"\",IF(INDEX(E_SourceStreams!$A:$N,DT65,AO$7)=\"\",\"\",INDEX(E_SourceStreams!$A:$N,DT65,AO$7)))","v":""},{"$f":"IF($E65=\"\",\"\",IF(INDEX(E_SourceStreams!$A:$N,DU65,AP$7)=\"\",\"\",INDEX(E_SourceStreams!$A:$N,DU65,AP$7)))","v":""},{"$f":"IF($E65=\"\",\"\",IF(INDEX(E_SourceStreams!$A:$N,DV65,AQ$7)=\"\",\"\",INDEX(E_SourceStreams!$A:$N,DV65,AQ$7)))","v":""},{"$f":"IF($E65=\"\",\"\",IF(INDEX(E_SourceStreams!$A:$N,DW65,AR$7)=\"\",\"\",INDEX(E_SourceStreams!$A:$N,DW65,AR$7)))","v":""},{"$f":"IF($E65=\"\",\"\",IF(INDEX(E_SourceStreams!$A:$N,DX65,AS$7)=\"\",\"\",INDEX(E_SourceStreams!$A:$N,DX65,AS$7)))","v":""},{"$f":"IF($E65=\"\",\"\",IF(INDEX(E_SourceStreams!$A:$N,DY65,AT$7)=\"\",\"\",INDEX(E_SourceStreams!$A:$N,DY65,AT$7)))","v":""},{"$f":"IF($E65=\"\",\"\",IF(INDEX(E_SourceStreams!$A:$N,DZ65,AU$7)=\"\",\"\",INDEX(E_SourceStreams!$A:$N,DZ65,AU$7)))","v":""},{"$f":"IF($E65=\"\",\"\",IF(INDEX(E_SourceStreams!$A:$N,EA65,AV$7)=\"\",\"\",INDEX(E_SourceStreams!$A:$N,EA65,AV$7)))","v":""},{"$f":"IF($E65=\"\",\"\",IF(INDEX(E_SourceStreams!$A:$N,EB65,AW$7)=\"\",\"\",INDEX(E_SourceStreams!$A:$N,EB65,AW$7)))","v":""},{"$f":"IF($E65=\"\",\"\",IF(INDEX(E_SourceStreams!$A:$N,EC65,AX$7)=\"\",\"\",INDEX(E_SourceStreams!$A:$N,EC65,AX$7)))","v":""},{"$f":"IF($E65=\"\",\"\",IF(INDEX(E_SourceStreams!$A:$N,ED65,AY$7)=\"\",\"\",INDEX(E_SourceStreams!$A:$N,ED65,AY$7)))","v":""},{"$f":"IF($E65=\"\",\"\",IF(INDEX(E_SourceStreams!$A:$N,EE65,AZ$7)=\"\",\"\",INDEX(E_SourceStreams!$A:$N,EE65,AZ$7)))","v":""},{"$f":"IF($E65=\"\",\"\",IF(INDEX(E_SourceStreams!$A:$N,EF65,BA$7)=\"\",\"\",INDEX(E_SourceStreams!$A:$N,EF65,BA$7)))","v":""},{"$f":"IF($E65=\"\",\"\",IF(INDEX(E_SourceStreams!$A:$N,EG65,BB$7)=\"\",\"\",INDEX(E_SourceStreams!$A:$N,EG65,BB$7)))","v":""},{"$f":"IF($E65=\"\",\"\",IF(INDEX(E_SourceStreams!$A:$N,EH65,BC$7)=\"\",\"\",INDEX(E_SourceStreams!$A:$N,EH65,BC$7)))","v":""},{"$f":"IF($E65=\"\",\"\",IF(INDEX(E_SourceStreams!$A:$N,EI65,BD$7)=\"\",\"\",INDEX(E_SourceStreams!$A:$N,EI65,BD$7)))","v":""},{"$f":"IF($E65=\"\",\"\",IF(INDEX(E_SourceStreams!$A:$N,EJ65,BE$7)=\"\",\"\",INDEX(E_SourceStreams!$A:$N,EJ65,BE$7)))","v":""},{"$f":"IF($E65=\"\",\"\",IF(INDEX(E_SourceStreams!$A:$N,EK65,BF$7)=\"\",\"\",INDEX(E_SourceStreams!$A:$N,EK65,BF$7)))","v":""},{"$f":"IF($E65=\"\",\"\",IF(INDEX(E_SourceStreams!$A:$N,EL65,BG$7)=\"\",\"\",INDEX(E_SourceStreams!$A:$N,EL65,BG$7)))","v":""},{"$f":"IF($E65=\"\",\"\",IF(INDEX(E_SourceStreams!$A:$N,EM65,BH$7)=\"\",\"\",INDEX(E_SourceStreams!$A:$N,EM65,BH$7)))","v":""},{"$f":"IF($E65=\"\",\"\",IF(INDEX(E_SourceStreams!$A:$N,EN65,BI$7)=\"\",\"\",INDEX(E_SourceStreams!$A:$N,EN65,BI$7)))","v":""},{"$f":"IF($E65=\"\",\"\",IF(INDEX(E_SourceStreams!$A:$N,EO65,BJ$7)=\"\",\"\",INDEX(E_SourceStreams!$A:$N,EO65,BJ$7)))","v":""},{"$f":"IF($E65=\"\",\"\",IF(INDEX(E_SourceStreams!$A:$N,EP65,BK$7)=\"\",\"\",INDEX(E_SourceStreams!$A:$N,EP65,BK$7)))","v":""},{"$f":"IF($E65=\"\",\"\",IF(INDEX(E_SourceStreams!$A:$N,EQ65,BL$7)=\"\",\"\",INDEX(E_SourceStreams!$A:$N,EQ65,BL$7)))","v":""},{"$f":"IF($E65=\"\",\"\",IF(INDEX(E_SourceStreams!$A:$N,ER65,BM$7)=\"\",\"\",INDEX(E_SourceStreams!$A:$N,ER65,BM$7)))","v":""},{"$f":"IF($E65=\"\",\"\",IF(INDEX(E_SourceStreams!$A:$N,ES65,BN$7)=\"\",\"\",INDEX(E_SourceStreams!$A:$N,ES65,BN$7)))","v":""},{"$f":"IF($E65=\"\",\"\",IF(INDEX(E_SourceStreams!$A:$N,ET65,BO$7)=\"\",\"\",INDEX(E_SourceStreams!$A:$N,ET65,BO$7)))","v":""},{"$f":"IF($E65=\"\",\"\",IF(INDEX(E_SourceStreams!$A:$N,EU65,BP$7)=\"\",\"\",INDEX(E_SourceStreams!$A:$N,EU65,BP$7)))","v":""},{"$f":"IF($E65=\"\",\"\",IF(INDEX(E_SourceStreams!$A:$N,EV65,BQ$7)=\"\",\"\",INDEX(E_SourceStreams!$A:$N,EV65,BQ$7)))","v":""},{"$f":"IF($E65=\"\",\"\",IF(INDEX(E_SourceStreams!$A:$N,EW65,BR$7)=\"\",\"\",INDEX(E_SourceStreams!$A:$N,EW65,BR$7)))","v":""},{"$f":"IF($E65=\"\",\"\",IF(INDEX(E_SourceStreams!$A:$N,EX65,BS$7)=\"\",\"\",INDEX(E_SourceStreams!$A:$N,EX65,BS$7)))","v":""},{"$f":"IF($E65=\"\",\"\",IF(INDEX(E_SourceStreams!$A:$N,EY65,BT$7)=\"\",\"\",INDEX(E_SourceStreams!$A:$N,EY65,BT$7)))","v":""},null,null,null,null,null,null,null,null,null,null,null,null,null,null,null,"SourceCategory_",{"$f":"INDEX(C_InstallationDescription!$A$226:$A$332,ROWS($CI$11:CI65))=\"ausblenden\"","v":true},"SourceStreamName_",null,3697,3699,3701,3703,3705,3707,3709,3709,3709,3709,3709,3712,3716,3717,3718,3725,3735,3735,3735,3735,3735,3735,3735,3726,3736,3736,3736,3736,3736,3736,3736,3727,3737,3737,3737,3737,3737,3737,3737,3728,3738,3738,3738,3738,3738,3738,3738,3729,3739,3739,3739,3739,3739,3739,3739,3730,3740,3740,3740,3740,3740,3740,3740,3746]
[null,{"$f":"IF(COUNTIF($CK$10:CK66,TRUE)>0,\"\",INDEX(C_InstallationDescription!$E$226:$E$242,ROWS($A$11:A66)))","v":""},{"$f":"IF($E66=\"\",\"\",INDEX(C_InstallationDescription!F:F,MATCH($B66,C_InstallationDescription!$E:$E,0)))","v":""},{"$f":"IF($E66=\"\",\"\",INDEX(C_InstallationDescription!I:I,MATCH($B66,C_InstallationDescription!$E:$E,0)))","v":""},{"$f":"IF($B66=\"\",\"\",INDEX(C_InstallationDescription!F:F,MATCH($CJ66,C_InstallationDescription!$Q:$Q,0)))","v":""},{"$f":"IF($E66=\"\",\"\",INDEX(C_InstallationDescription!L:L,MATCH($CJ66,C_InstallationDescription!$Q:$Q,0)))","v":""},{"$f":"IF($E66=\"\",\"\",INDEX(C_InstallationDescription!M:M,MATCH($CJ66,C_InstallationDescription!$Q:$Q,0)))","v":""},{"$f":"IF($E66=\"\",\"\",INDEX(C_InstallationDescription!N:N,MATCH($CJ66,C_InstallationDescription!$Q:$Q,0)))","v":""},{"$f":"IF($E66=\"\",\"\",IF(INDEX(E_SourceStreams!$A:$N,CN66,I$7)=\"\",\"\",INDEX(E_SourceStreams!$A:$N,CN66,I$7)))","v":""},{"$f":"IF($E66=\"\",\"\",IF(INDEX(E_SourceStreams!$A:$N,CO66,J$7)=\"\",\"\",INDEX(E_SourceStreams!$A:$N,CO66,J$7)))","v":""},{"$f":"IF($E66=\"\",\"\",IF(INDEX(E_SourceStreams!$A:$N,CP66,K$7)=\"\",\"\",INDEX(E_SourceStreams!$A:$N,CP66,K$7)))","v":""},{"$f":"IF($E66=\"\",\"\",IF(INDEX(E_SourceStreams!$A:$N,CQ66,L$7)=\"\",\"\",INDEX(E_SourceStreams!$A:$N,CQ66,L$7)))","v":""},{"$f":"IF($E66=\"\",\"\",IF(INDEX(E_SourceStreams!$A:$N,CR66,M$7)=\"\",\"\",INDEX(E_SourceStreams!$A:$N,CR66,M$7)))","v":""},{"$f":"IF($E66=\"\",\"\",IF(INDEX(E_SourceStreams!$A:$N,CS66,N$7)=\"\",\"\",INDEX(E_SourceStreams!$A:$N,CS66,N$7)))","v":""},{"$f":"IF($E66=\"\",\"\",IF(INDEX(E_SourceStreams!$A:$N,CT66,O$7)=\"\",\"\",INDEX(E_SourceStreams!$A:$N,CT66,O$7)))","v":""},{"$f":"IF($E66=\"\",\"\",IF(INDEX(E_SourceStreams!$A:$N,CU66,P$7)=\"\",\"\",INDEX(E_SourceStreams!$A:$N,CU66,P$7)))","v":""},{"$f":"IF($E66=\"\",\"\",IF(INDEX(E_SourceStreams!$A:$N,CV66,Q$7)=\"\",\"\",INDEX(E_SourceStreams!$A:$N,CV66,Q$7)))","v":""},{"$f":"IF($E66=\"\",\"\",IF(INDEX(E_SourceStreams!$A:$N,CW66,R$7)=\"\",\"\",INDEX(E_SourceStreams!$A:$N,CW66,R$7)))","v":""},{"$f":"IF($E66=\"\",\"\",IF(INDEX(E_SourceStreams!$A:$N,CX66,S$7)=\"\",\"\",INDEX(E_SourceStreams!$A:$N,CX66,S$7)))","v":""},{"$f":"IF($E66=\"\",\"\",IF(INDEX(E_SourceStreams!$A:$N,CY66,T$7)=\"\",\"\",INDEX(E_SourceStreams!$A:$N,CY66,T$7)))","v":""},{"$f":"IF($E66=\"\",\"\",IF(INDEX(E_SourceStreams!$A:$N,CZ66,U$7)=\"\",\"\",INDEX(E_SourceStreams!$A:$N,CZ66,U$7)))","v":""},{"$f":"IF($E66=\"\",\"\",IF(INDEX(E_SourceStreams!$A:$N,DA66,V$7)=\"\",\"\",INDEX(E_SourceStreams!$A:$N,DA66,V$7)))","v":""},{"$f":"IF($E66=\"\",\"\",IF(INDEX(E_SourceStreams!$A:$N,DB66,W$7)=\"\",\"\",INDEX(E_SourceStreams!$A:$N,DB66,W$7)))","v":""},{"$f":"IF($E66=\"\",\"\",IF(INDEX(E_SourceStreams!$A:$N,DC66,X$7)=\"\",\"\",INDEX(E_SourceStreams!$A:$N,DC66,X$7)))","v":""},{"$f":"IF($E66=\"\",\"\",IF(INDEX(E_SourceStreams!$A:$N,DD66,Y$7)=\"\",\"\",INDEX(E_SourceStreams!$A:$N,DD66,Y$7)))","v":""},{"$f":"IF($E66=\"\",\"\",IF(INDEX(E_SourceStreams!$A:$N,DE66,Z$7)=\"\",\"\",INDEX(E_SourceStreams!$A:$N,DE66,Z$7)))","v":""},{"$f":"IF($E66=\"\",\"\",IF(INDEX(E_SourceStreams!$A:$N,DF66,AA$7)=\"\",\"\",INDEX(E_SourceStreams!$A:$N,DF66,AA$7)))","v":""},{"$f":"IF($E66=\"\",\"\",IF(INDEX(E_SourceStreams!$A:$N,DG66,AB$7)=\"\",\"\",INDEX(E_SourceStreams!$A:$N,DG66,AB$7)))","v":""},{"$f":"IF($E66=\"\",\"\",IF(INDEX(E_SourceStreams!$A:$N,DH66,AC$7)=\"\",\"\",INDEX(E_SourceStreams!$A:$N,DH66,AC$7)))","v":""},{"$f":"IF($E66=\"\",\"\",IF(INDEX(E_SourceStreams!$A:$N,DI66,AD$7)=\"\",\"\",INDEX(E_SourceStreams!$A:$N,DI66,AD$7)))","v":""},{"$f":"IF($E66=\"\",\"\",IF(INDEX(E_SourceStreams!$A:$N,DJ66,AE$7)=\"\",\"\",INDEX(E_SourceStreams!$A:$N,DJ66,AE$7)))","v":""},{"$f":"IF($E66=\"\",\"\",IF(INDEX(E_SourceStreams!$A:$N,DK66,AF$7)=\"\",\"\",INDEX(E_SourceStreams!$A:$N,DK66,AF$7)))","v":""},{"$f":"IF($E66=\"\",\"\",IF(INDEX(E_SourceStreams!$A:$N,DL66,AG$7)=\"\",\"\",INDEX(E_SourceStreams!$A:$N,DL66,AG$7)))","v":""},{"$f":"IF($E66=\"\",\"\",IF(INDEX(E_SourceStreams!$A:$N,DM66,AH$7)=\"\",\"\",INDEX(E_SourceStreams!$A:$N,DM66,AH$7)))","v":""},{"$f":"IF($E66=\"\",\"\",IF(INDEX(E_SourceStreams!$A:$N,DN66,AI$7)=\"\",\"\",INDEX(E_SourceStreams!$A:$N,DN66,AI$7)))","v":""},{"$f":"IF($E66=\"\",\"\",IF(INDEX(E_SourceStreams!$A:$N,DO66,AJ$7)=\"\",\"\",INDEX(E_SourceStreams!$A:$N,DO66,AJ$7)))","v":""},{"$f":"IF($E66=\"\",\"\",IF(INDEX(E_SourceStreams!$A:$N,DP66,AK$7)=\"\",\"\",INDEX(E_SourceStreams!$A:$N,DP66,AK$7)))","v":""},{"$f":"IF($E66=\"\",\"\",IF(INDEX(E_SourceStreams!$A:$N,DQ66,AL$7)=\"\",\"\",INDEX(E_SourceStreams!$A:$N,DQ66,AL$7)))","v":""},{"$f":"IF($E66=\"\",\"\",IF(INDEX(E_SourceStreams!$A:$N,DR66,AM$7)=\"\",\"\",INDEX(E_SourceStreams!$A:$N,DR66,AM$7)))","v":""},{"$f":"IF($E66=\"\",\"\",IF(INDEX(E_SourceStreams!$A:$N,DS66,AN$7)=\"\",\"\",INDEX(E_SourceStreams!$A:$N,DS66,AN$7)))","v":""},{"$f":"IF($E66=\"\",\"\",IF(INDEX(E_SourceStreams!$A:$N,DT66,AO$7)=\"\",\"\",INDEX(E_SourceStreams!$A:$N,DT66,AO$7)))","v":""},{"$f":"IF($E66=\"\",\"\",IF(INDEX(E_SourceStreams!$A:$N,DU66,AP$7)=\"\",\"\",INDEX(E_SourceStreams!$A:$N,DU66,AP$7)))","v":""},{"$f":"IF($E66=\"\",\"\",IF(INDEX(E_SourceStreams!$A:$N,DV66,AQ$7)=\"\",\"\",INDEX(E_SourceStreams!$A:$N,DV66,AQ$7)))","v":""},{"$f":"IF($E66=\"\",\"\",IF(INDEX(E_SourceStreams!$A:$N,DW66,AR$7)=\"\",\"\",INDEX(E_SourceStreams!$A:$N,DW66,AR$7)))","v":""},{"$f":"IF($E66=\"\",\"\",IF(INDEX(E_SourceStreams!$A:$N,DX66,AS$7)=\"\",\"\",INDEX(E_SourceStreams!$A:$N,DX66,AS$7)))","v":""},{"$f":"IF($E66=\"\",\"\",IF(INDEX(E_SourceStreams!$A:$N,DY66,AT$7)=\"\",\"\",INDEX(E_SourceStreams!$A:$N,DY66,AT$7)))","v":""},{"$f":"IF($E66=\"\",\"\",IF(INDEX(E_SourceStreams!$A:$N,DZ66,AU$7)=\"\",\"\",INDEX(E_SourceStreams!$A:$N,DZ66,AU$7)))","v":""},{"$f":"IF($E66=\"\",\"\",IF(INDEX(E_SourceStreams!$A:$N,EA66,AV$7)=\"\",\"\",INDEX(E_SourceStreams!$A:$N,EA66,AV$7)))","v":""},{"$f":"IF($E66=\"\",\"\",IF(INDEX(E_SourceStreams!$A:$N,EB66,AW$7)=\"\",\"\",INDEX(E_SourceStreams!$A:$N,EB66,AW$7)))","v":""},{"$f":"IF($E66=\"\",\"\",IF(INDEX(E_SourceStreams!$A:$N,EC66,AX$7)=\"\",\"\",INDEX(E_SourceStreams!$A:$N,EC66,AX$7)))","v":""},{"$f":"IF($E66=\"\",\"\",IF(INDEX(E_SourceStreams!$A:$N,ED66,AY$7)=\"\",\"\",INDEX(E_SourceStreams!$A:$N,ED66,AY$7)))","v":""},{"$f":"IF($E66=\"\",\"\",IF(INDEX(E_SourceStreams!$A:$N,EE66,AZ$7)=\"\",\"\",INDEX(E_SourceStreams!$A:$N,EE66,AZ$7)))","v":""},{"$f":"IF($E66=\"\",\"\",IF(INDEX(E_SourceStreams!$A:$N,EF66,BA$7)=\"\",\"\",INDEX(E_SourceStreams!$A:$N,EF66,BA$7)))","v":""},{"$f":"IF($E66=\"\",\"\",IF(INDEX(E_SourceStreams!$A:$N,EG66,BB$7)=\"\",\"\",INDEX(E_SourceStreams!$A:$N,EG66,BB$7)))","v":""},{"$f":"IF($E66=\"\",\"\",IF(INDEX(E_SourceStreams!$A:$N,EH66,BC$7)=\"\",\"\",INDEX(E_SourceStreams!$A:$N,EH66,BC$7)))","v":""},{"$f":"IF($E66=\"\",\"\",IF(INDEX(E_SourceStreams!$A:$N,EI66,BD$7)=\"\",\"\",INDEX(E_SourceStreams!$A:$N,EI66,BD$7)))","v":""},{"$f":"IF($E66=\"\",\"\",IF(INDEX(E_SourceStreams!$A:$N,EJ66,BE$7)=\"\",\"\",INDEX(E_SourceStreams!$A:$N,EJ66,BE$7)))","v":""},{"$f":"IF($E66=\"\",\"\",IF(INDEX(E_SourceStreams!$A:$N,EK66,BF$7)=\"\",\"\",INDEX(E_SourceStreams!$A:$N,EK66,BF$7)))","v":""},{"$f":"IF($E66=\"\",\"\",IF(INDEX(E_SourceStreams!$A:$N,EL66,BG$7)=\"\",\"\",INDEX(E_SourceStreams!$A:$N,EL66,BG$7)))","v":""},{"$f":"IF($E66=\"\",\"\",IF(INDEX(E_SourceStreams!$A:$N,EM66,BH$7)=\"\",\"\",INDEX(E_SourceStreams!$A:$N,EM66,BH$7)))","v":""},{"$f":"IF($E66=\"\",\"\",IF(INDEX(E_SourceStreams!$A:$N,EN66,BI$7)=\"\",\"\",INDEX(E_SourceStreams!$A:$N,EN66,BI$7)))","v":""},{"$f":"IF($E66=\"\",\"\",IF(INDEX(E_SourceStreams!$A:$N,EO66,BJ$7)=\"\",\"\",INDEX(E_SourceStreams!$A:$N,EO66,BJ$7)))","v":""},{"$f":"IF($E66=\"\",\"\",IF(INDEX(E_SourceStreams!$A:$N,EP66,BK$7)=\"\",\"\",INDEX(E_SourceStreams!$A:$N,EP66,BK$7)))","v":""},{"$f":"IF($E66=\"\",\"\",IF(INDEX(E_SourceStreams!$A:$N,EQ66,BL$7)=\"\",\"\",INDEX(E_SourceStreams!$A:$N,EQ66,BL$7)))","v":""},{"$f":"IF($E66=\"\",\"\",IF(INDEX(E_SourceStreams!$A:$N,ER66,BM$7)=\"\",\"\",INDEX(E_SourceStreams!$A:$N,ER66,BM$7)))","v":""},{"$f":"IF($E66=\"\",\"\",IF(INDEX(E_SourceStreams!$A:$N,ES66,BN$7)=\"\",\"\",INDEX(E_SourceStreams!$A:$N,ES66,BN$7)))","v":""},{"$f":"IF($E66=\"\",\"\",IF(INDEX(E_SourceStreams!$A:$N,ET66,BO$7)=\"\",\"\",INDEX(E_SourceStreams!$A:$N,ET66,BO$7)))","v":""},{"$f":"IF($E66=\"\",\"\",IF(INDEX(E_SourceStreams!$A:$N,EU66,BP$7)=\"\",\"\",INDEX(E_SourceStreams!$A:$N,EU66,BP$7)))","v":""},{"$f":"IF($E66=\"\",\"\",IF(INDEX(E_SourceStreams!$A:$N,EV66,BQ$7)=\"\",\"\",INDEX(E_SourceStreams!$A:$N,EV66,BQ$7)))","v":""},{"$f":"IF($E66=\"\",\"\",IF(INDEX(E_SourceStreams!$A:$N,EW66,BR$7)=\"\",\"\",INDEX(E_SourceStreams!$A:$N,EW66,BR$7)))","v":""},{"$f":"IF($E66=\"\",\"\",IF(INDEX(E_SourceStreams!$A:$N,EX66,BS$7)=\"\",\"\",INDEX(E_SourceStreams!$A:$N,EX66,BS$7)))","v":""},{"$f":"IF($E66=\"\",\"\",IF(INDEX(E_SourceStreams!$A:$N,EY66,BT$7)=\"\",\"\",INDEX(E_SourceStreams!$A:$N,EY66,BT$7)))","v":""},null,null,null,null,null,null,null,null,null,null,null,null,null,null,null,"SourceCategory_",{"$f":"INDEX(C_InstallationDescription!$A$226:$A$332,ROWS($CI$11:CI66))=\"ausblenden\"","v":true},"SourceStreamName_",null,3763,3765,3767,3769,3771,3773,3775,3775,3775,3775,3775,3778,3782,3783,3784,3791,3801,3801,3801,3801,3801,3801,3801,3792,3802,3802,3802,3802,3802,3802,3802,3793,3803,3803,3803,3803,3803,3803,3803,3794,3804,3804,3804,3804,3804,3804,3804,3795,3805,3805,3805,3805,3805,3805,3805,3796,3806,3806,3806,3806,3806,3806,3806,3812]
[null,{"$f":"IF(COUNTIF($CK$10:CK67,TRUE)>0,\"\",INDEX(C_InstallationDescription!$E$226:$E$242,ROWS($A$11:A67)))","v":""},{"$f":"IF($E67=\"\",\"\",INDEX(C_InstallationDescription!F:F,MATCH($B67,C_InstallationDescription!$E:$E,0)))","v":""},{"$f":"IF($E67=\"\",\"\",INDEX(C_InstallationDescription!I:I,MATCH($B67,C_InstallationDescription!$E:$E,0)))","v":""},{"$f":"IF($B67=\"\",\"\",INDEX(C_InstallationDescription!F:F,MATCH($CJ67,C_InstallationDescription!$Q:$Q,0)))","v":""},{"$f":"IF($E67=\"\",\"\",INDEX(C_InstallationDescription!L:L,MATCH($CJ67,C_InstallationDescription!$Q:$Q,0)))","v":""},{"$f":"IF($E67=\"\",\"\",INDEX(C_InstallationDescription!M:M,MATCH($CJ67,C_InstallationDescription!$Q:$Q,0)))","v":""},{"$f":"IF($E67=\"\",\"\",INDEX(C_InstallationDescription!N:N,MATCH($CJ67,C_InstallationDescription!$Q:$Q,0)))","v":""},{"$f":"IF($E67=\"\",\"\",IF(INDEX(E_SourceStreams!$A:$N,CN67,I$7)=\"\",\"\",INDEX(E_SourceStreams!$A:$N,CN67,I$7)))","v":""},{"$f":"IF($E67=\"\",\"\",IF(INDEX(E_SourceStreams!$A:$N,CO67,J$7)=\"\",\"\",INDEX(E_SourceStreams!$A:$N,CO67,J$7)))","v":""},{"$f":"IF($E67=\"\",\"\",IF(INDEX(E_SourceStreams!$A:$N,CP67,K$7)=\"\",\"\",INDEX(E_SourceStreams!$A:$N,CP67,K$7)))","v":""},{"$f":"IF($E67=\"\",\"\",IF(INDEX(E_SourceStreams!$A:$N,CQ67,L$7)=\"\",\"\",INDEX(E_SourceStreams!$A:$N,CQ67,L$7)))","v":""},{"$f":"IF($E67=\"\",\"\",IF(INDEX(E_SourceStreams!$A:$N,CR67,M$7)=\"\",\"\",INDEX(E_SourceStreams!$A:$N,CR67,M$7)))","v":""},{"$f":"IF($E67=\"\",\"\",IF(INDEX(E_SourceStreams!$A:$N,CS67,N$7)=\"\",\"\",INDEX(E_SourceStreams!$A:$N,CS67,N$7)))","v":""},{"$f":"IF($E67=\"\",\"\",IF(INDEX(E_SourceStreams!$A:$N,CT67,O$7)=\"\",\"\",INDEX(E_SourceStreams!$A:$N,CT67,O$7)))","v":""},{"$f":"IF($E67=\"\",\"\",IF(INDEX(E_SourceStreams!$A:$N,CU67,P$7)=\"\",\"\",INDEX(E_SourceStreams!$A:$N,CU67,P$7)))","v":""},{"$f":"IF($E67=\"\",\"\",IF(INDEX(E_SourceStreams!$A:$N,CV67,Q$7)=\"\",\"\",INDEX(E_SourceStreams!$A:$N,CV67,Q$7)))","v":""},{"$f":"IF($E67=\"\",\"\",IF(INDEX(E_SourceStreams!$A:$N,CW67,R$7)=\"\",\"\",INDEX(E_SourceStreams!$A:$N,CW67,R$7)))","v":""},{"$f":"IF($E67=\"\",\"\",IF(INDEX(E_SourceStreams!$A:$N,CX67,S$7)=\"\",\"\",INDEX(E_SourceStreams!$A:$N,CX67,S$7)))","v":""},{"$f":"IF($E67=\"\",\"\",IF(INDEX(E_SourceStreams!$A:$N,CY67,T$7)=\"\",\"\",INDEX(E_SourceStreams!$A:$N,CY67,T$7)))","v":""},{"$f":"IF($E67=\"\",\"\",IF(INDEX(E_SourceStreams!$A:$N,CZ67,U$7)=\"\",\"\",INDEX(E_SourceStreams!$A:$N,CZ67,U$7)))","v":""},{"$f":"IF($E67=\"\",\"\",IF(INDEX(E_SourceStreams!$A:$N,DA67,V$7)=\"\",\"\",INDEX(E_SourceStreams!$A:$N,DA67,V$7)))","v":""},{"$f":"IF($E67=\"\",\"\",IF(INDEX(E_SourceStreams!$A:$N,DB67,W$7)=\"\",\"\",INDEX(E_SourceStreams!$A:$N,DB67,W$7)))","v":""},{"$f":"IF($E67=\"\",\"\",IF(INDEX(E_SourceStreams!$A:$N,DC67,X$7)=\"\",\"\",INDEX(E_SourceStreams!$A:$N,DC67,X$7)))","v":""},{"$f":"IF($E67=\"\",\"\",IF(INDEX(E_SourceStreams!$A:$N,DD67,Y$7)=\"\",\"\",INDEX(E_SourceStreams!$A:$N,DD67,Y$7)))","v":""},{"$f":"IF($E67=\"\",\"\",IF(INDEX(E_SourceStreams!$A:$N,DE67,Z$7)=\"\",\"\",INDEX(E_SourceStreams!$A:$N,DE67,Z$7)))","v":""},{"$f":"IF($E67=\"\",\"\",IF(INDEX(E_SourceStreams!$A:$N,DF67,AA$7)=\"\",\"\",INDEX(E_SourceStreams!$A:$N,DF67,AA$7)))","v":""},{"$f":"IF($E67=\"\",\"\",IF(INDEX(E_SourceStreams!$A:$N,DG67,AB$7)=\"\",\"\",INDEX(E_SourceStreams!$A:$N,DG67,AB$7)))","v":""},{"$f":"IF($E67=\"\",\"\",IF(INDEX(E_SourceStreams!$A:$N,DH67,AC$7)=\"\",\"\",INDEX(E_SourceStreams!$A:$N,DH67,AC$7)))","v":""},{"$f":"IF($E67=\"\",\"\",IF(INDEX(E_SourceStreams!$A:$N,DI67,AD$7)=\"\",\"\",INDEX(E_SourceStreams!$A:$N,DI67,AD$7)))","v":""},{"$f":"IF($E67=\"\",\"\",IF(INDEX(E_SourceStreams!$A:$N,DJ67,AE$7)=\"\",\"\",INDEX(E_SourceStreams!$A:$N,DJ67,AE$7)))","v":""},{"$f":"IF($E67=\"\",\"\",IF(INDEX(E_SourceStreams!$A:$N,DK67,AF$7)=\"\",\"\",INDEX(E_SourceStreams!$A:$N,DK67,AF$7)))","v":""},{"$f":"IF($E67=\"\",\"\",IF(INDEX(E_SourceStreams!$A:$N,DL67,AG$7)=\"\",\"\",INDEX(E_SourceStreams!$A:$N,DL67,AG$7)))","v":""},{"$f":"IF($E67=\"\",\"\",IF(INDEX(E_SourceStreams!$A:$N,DM67,AH$7)=\"\",\"\",INDEX(E_SourceStreams!$A:$N,DM67,AH$7)))","v":""},{"$f":"IF($E67=\"\",\"\",IF(INDEX(E_SourceStreams!$A:$N,DN67,AI$7)=\"\",\"\",INDEX(E_SourceStreams!$A:$N,DN67,AI$7)))","v":""},{"$f":"IF($E67=\"\",\"\",IF(INDEX(E_SourceStreams!$A:$N,DO67,AJ$7)=\"\",\"\",INDEX(E_SourceStreams!$A:$N,DO67,AJ$7)))","v":""},{"$f":"IF($E67=\"\",\"\",IF(INDEX(E_SourceStreams!$A:$N,DP67,AK$7)=\"\",\"\",INDEX(E_SourceStreams!$A:$N,DP67,AK$7)))","v":""},{"$f":"IF($E67=\"\",\"\",IF(INDEX(E_SourceStreams!$A:$N,DQ67,AL$7)=\"\",\"\",INDEX(E_SourceStreams!$A:$N,DQ67,AL$7)))","v":""},{"$f":"IF($E67=\"\",\"\",IF(INDEX(E_SourceStreams!$A:$N,DR67,AM$7)=\"\",\"\",INDEX(E_SourceStreams!$A:$N,DR67,AM$7)))","v":""},{"$f":"IF($E67=\"\",\"\",IF(INDEX(E_SourceStreams!$A:$N,DS67,AN$7)=\"\",\"\",INDEX(E_SourceStreams!$A:$N,DS67,AN$7)))","v":""},{"$f":"IF($E67=\"\",\"\",IF(INDEX(E_SourceStreams!$A:$N,DT67,AO$7)=\"\",\"\",INDEX(E_SourceStreams!$A:$N,DT67,AO$7)))","v":""},{"$f":"IF($E67=\"\",\"\",IF(INDEX(E_SourceStreams!$A:$N,DU67,AP$7)=\"\",\"\",INDEX(E_SourceStreams!$A:$N,DU67,AP$7)))","v":""},{"$f":"IF($E67=\"\",\"\",IF(INDEX(E_SourceStreams!$A:$N,DV67,AQ$7)=\"\",\"\",INDEX(E_SourceStreams!$A:$N,DV67,AQ$7)))","v":""},{"$f":"IF($E67=\"\",\"\",IF(INDEX(E_SourceStreams!$A:$N,DW67,AR$7)=\"\",\"\",INDEX(E_SourceStreams!$A:$N,DW67,AR$7)))","v":""},{"$f":"IF($E67=\"\",\"\",IF(INDEX(E_SourceStreams!$A:$N,DX67,AS$7)=\"\",\"\",INDEX(E_SourceStreams!$A:$N,DX67,AS$7)))","v":""},{"$f":"IF($E67=\"\",\"\",IF(INDEX(E_SourceStreams!$A:$N,DY67,AT$7)=\"\",\"\",INDEX(E_SourceStreams!$A:$N,DY67,AT$7)))","v":""},{"$f":"IF($E67=\"\",\"\",IF(INDEX(E_SourceStreams!$A:$N,DZ67,AU$7)=\"\",\"\",INDEX(E_SourceStreams!$A:$N,DZ67,AU$7)))","v":""},{"$f":"IF($E67=\"\",\"\",IF(INDEX(E_SourceStreams!$A:$N,EA67,AV$7)=\"\",\"\",INDEX(E_SourceStreams!$A:$N,EA67,AV$7)))","v":""},{"$f":"IF($E67=\"\",\"\",IF(INDEX(E_SourceStreams!$A:$N,EB67,AW$7)=\"\",\"\",INDEX(E_SourceStreams!$A:$N,EB67,AW$7)))","v":""},{"$f":"IF($E67=\"\",\"\",IF(INDEX(E_SourceStreams!$A:$N,EC67,AX$7)=\"\",\"\",INDEX(E_SourceStreams!$A:$N,EC67,AX$7)))","v":""},{"$f":"IF($E67=\"\",\"\",IF(INDEX(E_SourceStreams!$A:$N,ED67,AY$7)=\"\",\"\",INDEX(E_SourceStreams!$A:$N,ED67,AY$7)))","v":""},{"$f":"IF($E67=\"\",\"\",IF(INDEX(E_SourceStreams!$A:$N,EE67,AZ$7)=\"\",\"\",INDEX(E_SourceStreams!$A:$N,EE67,AZ$7)))","v":""},{"$f":"IF($E67=\"\",\"\",IF(INDEX(E_SourceStreams!$A:$N,EF67,BA$7)=\"\",\"\",INDEX(E_SourceStreams!$A:$N,EF67,BA$7)))","v":""},{"$f":"IF($E67=\"\",\"\",IF(INDEX(E_SourceStreams!$A:$N,EG67,BB$7)=\"\",\"\",INDEX(E_SourceStreams!$A:$N,EG67,BB$7)))","v":""},{"$f":"IF($E67=\"\",\"\",IF(INDEX(E_SourceStreams!$A:$N,EH67,BC$7)=\"\",\"\",INDEX(E_SourceStreams!$A:$N,EH67,BC$7)))","v":""},{"$f":"IF($E67=\"\",\"\",IF(INDEX(E_SourceStreams!$A:$N,EI67,BD$7)=\"\",\"\",INDEX(E_SourceStreams!$A:$N,EI67,BD$7)))","v":""},{"$f":"IF($E67=\"\",\"\",IF(INDEX(E_SourceStreams!$A:$N,EJ67,BE$7)=\"\",\"\",INDEX(E_SourceStreams!$A:$N,EJ67,BE$7)))","v":""},{"$f":"IF($E67=\"\",\"\",IF(INDEX(E_SourceStreams!$A:$N,EK67,BF$7)=\"\",\"\",INDEX(E_SourceStreams!$A:$N,EK67,BF$7)))","v":""},{"$f":"IF($E67=\"\",\"\",IF(INDEX(E_SourceStreams!$A:$N,EL67,BG$7)=\"\",\"\",INDEX(E_SourceStreams!$A:$N,EL67,BG$7)))","v":""},{"$f":"IF($E67=\"\",\"\",IF(INDEX(E_SourceStreams!$A:$N,EM67,BH$7)=\"\",\"\",INDEX(E_SourceStreams!$A:$N,EM67,BH$7)))","v":""},{"$f":"IF($E67=\"\",\"\",IF(INDEX(E_SourceStreams!$A:$N,EN67,BI$7)=\"\",\"\",INDEX(E_SourceStreams!$A:$N,EN67,BI$7)))","v":""},{"$f":"IF($E67=\"\",\"\",IF(INDEX(E_SourceStreams!$A:$N,EO67,BJ$7)=\"\",\"\",INDEX(E_SourceStreams!$A:$N,EO67,BJ$7)))","v":""},{"$f":"IF($E67=\"\",\"\",IF(INDEX(E_SourceStreams!$A:$N,EP67,BK$7)=\"\",\"\",INDEX(E_SourceStreams!$A:$N,EP67,BK$7)))","v":""},{"$f":"IF($E67=\"\",\"\",IF(INDEX(E_SourceStreams!$A:$N,EQ67,BL$7)=\"\",\"\",INDEX(E_SourceStreams!$A:$N,EQ67,BL$7)))","v":""},{"$f":"IF($E67=\"\",\"\",IF(INDEX(E_SourceStreams!$A:$N,ER67,BM$7)=\"\",\"\",INDEX(E_SourceStreams!$A:$N,ER67,BM$7)))","v":""},{"$f":"IF($E67=\"\",\"\",IF(INDEX(E_SourceStreams!$A:$N,ES67,BN$7)=\"\",\"\",INDEX(E_SourceStreams!$A:$N,ES67,BN$7)))","v":""},{"$f":"IF($E67=\"\",\"\",IF(INDEX(E_SourceStreams!$A:$N,ET67,BO$7)=\"\",\"\",INDEX(E_SourceStreams!$A:$N,ET67,BO$7)))","v":""},{"$f":"IF($E67=\"\",\"\",IF(INDEX(E_SourceStreams!$A:$N,EU67,BP$7)=\"\",\"\",INDEX(E_SourceStreams!$A:$N,EU67,BP$7)))","v":""},{"$f":"IF($E67=\"\",\"\",IF(INDEX(E_SourceStreams!$A:$N,EV67,BQ$7)=\"\",\"\",INDEX(E_SourceStreams!$A:$N,EV67,BQ$7)))","v":""},{"$f":"IF($E67=\"\",\"\",IF(INDEX(E_SourceStreams!$A:$N,EW67,BR$7)=\"\",\"\",INDEX(E_SourceStreams!$A:$N,EW67,BR$7)))","v":""},{"$f":"IF($E67=\"\",\"\",IF(INDEX(E_SourceStreams!$A:$N,EX67,BS$7)=\"\",\"\",INDEX(E_SourceStreams!$A:$N,EX67,BS$7)))","v":""},{"$f":"IF($E67=\"\",\"\",IF(INDEX(E_SourceStreams!$A:$N,EY67,BT$7)=\"\",\"\",INDEX(E_SourceStreams!$A:$N,EY67,BT$7)))","v":""},null,null,null,null,null,null,null,null,null,null,null,null,null,null,null,"SourceCategory_",{"$f":"INDEX(C_InstallationDescription!$A$226:$A$332,ROWS($CI$11:CI67))=\"ausblenden\"","v":true},"SourceStreamName_",null,3829,3831,3833,3835,3837,3839,3841,3841,3841,3841,3841,3844,3848,3849,3850,3857,3867,3867,3867,3867,3867,3867,3867,3858,3868,3868,3868,3868,3868,3868,3868,3859,3869,3869,3869,3869,3869,3869,3869,3860,3870,3870,3870,3870,3870,3870,3870,3861,3871,3871,3871,3871,3871,3871,3871,3862,3872,3872,3872,3872,3872,3872,3872,3878]
[null,{"$f":"IF(COUNTIF($CK$10:CK68,TRUE)>0,\"\",INDEX(C_InstallationDescription!$E$226:$E$242,ROWS($A$11:A68)))","v":""},{"$f":"IF($E68=\"\",\"\",INDEX(C_InstallationDescription!F:F,MATCH($B68,C_InstallationDescription!$E:$E,0)))","v":""},{"$f":"IF($E68=\"\",\"\",INDEX(C_InstallationDescription!I:I,MATCH($B68,C_InstallationDescription!$E:$E,0)))","v":""},{"$f":"IF($B68=\"\",\"\",INDEX(C_InstallationDescription!F:F,MATCH($CJ68,C_InstallationDescription!$Q:$Q,0)))","v":""},{"$f":"IF($E68=\"\",\"\",INDEX(C_InstallationDescription!L:L,MATCH($CJ68,C_InstallationDescription!$Q:$Q,0)))","v":""},{"$f":"IF($E68=\"\",\"\",INDEX(C_InstallationDescription!M:M,MATCH($CJ68,C_InstallationDescription!$Q:$Q,0)))","v":""},{"$f":"IF($E68=\"\",\"\",INDEX(C_InstallationDescription!N:N,MATCH($CJ68,C_InstallationDescription!$Q:$Q,0)))","v":""},{"$f":"IF($E68=\"\",\"\",IF(INDEX(E_SourceStreams!$A:$N,CN68,I$7)=\"\",\"\",INDEX(E_SourceStreams!$A:$N,CN68,I$7)))","v":""},{"$f":"IF($E68=\"\",\"\",IF(INDEX(E_SourceStreams!$A:$N,CO68,J$7)=\"\",\"\",INDEX(E_SourceStreams!$A:$N,CO68,J$7)))","v":""},{"$f":"IF($E68=\"\",\"\",IF(INDEX(E_SourceStreams!$A:$N,CP68,K$7)=\"\",\"\",INDEX(E_SourceStreams!$A:$N,CP68,K$7)))","v":""},{"$f":"IF($E68=\"\",\"\",IF(INDEX(E_SourceStreams!$A:$N,CQ68,L$7)=\"\",\"\",INDEX(E_SourceStreams!$A:$N,CQ68,L$7)))","v":""},{"$f":"IF($E68=\"\",\"\",IF(INDEX(E_SourceStreams!$A:$N,CR68,M$7)=\"\",\"\",INDEX(E_SourceStreams!$A:$N,CR68,M$7)))","v":""},{"$f":"IF($E68=\"\",\"\",IF(INDEX(E_SourceStreams!$A:$N,CS68,N$7)=\"\",\"\",INDEX(E_SourceStreams!$A:$N,CS68,N$7)))","v":""},{"$f":"IF($E68=\"\",\"\",IF(INDEX(E_SourceStreams!$A:$N,CT68,O$7)=\"\",\"\",INDEX(E_SourceStreams!$A:$N,CT68,O$7)))","v":""},{"$f":"IF($E68=\"\",\"\",IF(INDEX(E_SourceStreams!$A:$N,CU68,P$7)=\"\",\"\",INDEX(E_SourceStreams!$A:$N,CU68,P$7)))","v":""},{"$f":"IF($E68=\"\",\"\",IF(INDEX(E_SourceStreams!$A:$N,CV68,Q$7)=\"\",\"\",INDEX(E_SourceStreams!$A:$N,CV68,Q$7)))","v":""},{"$f":"IF($E68=\"\",\"\",IF(INDEX(E_SourceStreams!$A:$N,CW68,R$7)=\"\",\"\",INDEX(E_SourceStreams!$A:$N,CW68,R$7)))","v":""},{"$f":"IF($E68=\"\",\"\",IF(INDEX(E_SourceStreams!$A:$N,CX68,S$7)=\"\",\"\",INDEX(E_SourceStreams!$A:$N,CX68,S$7)))","v":""},{"$f":"IF($E68=\"\",\"\",IF(INDEX(E_SourceStreams!$A:$N,CY68,T$7)=\"\",\"\",INDEX(E_SourceStreams!$A:$N,CY68,T$7)))","v":""},{"$f":"IF($E68=\"\",\"\",IF(INDEX(E_SourceStreams!$A:$N,CZ68,U$7)=\"\",\"\",INDEX(E_SourceStreams!$A:$N,CZ68,U$7)))","v":""},{"$f":"IF($E68=\"\",\"\",IF(INDEX(E_SourceStreams!$A:$N,DA68,V$7)=\"\",\"\",INDEX(E_SourceStreams!$A:$N,DA68,V$7)))","v":""},{"$f":"IF($E68=\"\",\"\",IF(INDEX(E_SourceStreams!$A:$N,DB68,W$7)=\"\",\"\",INDEX(E_SourceStreams!$A:$N,DB68,W$7)))","v":""},{"$f":"IF($E68=\"\",\"\",IF(INDEX(E_SourceStreams!$A:$N,DC68,X$7)=\"\",\"\",INDEX(E_SourceStreams!$A:$N,DC68,X$7)))","v":""},{"$f":"IF($E68=\"\",\"\",IF(INDEX(E_SourceStreams!$A:$N,DD68,Y$7)=\"\",\"\",INDEX(E_SourceStreams!$A:$N,DD68,Y$7)))","v":""},{"$f":"IF($E68=\"\",\"\",IF(INDEX(E_SourceStreams!$A:$N,DE68,Z$7)=\"\",\"\",INDEX(E_SourceStreams!$A:$N,DE68,Z$7)))","v":""},{"$f":"IF($E68=\"\",\"\",IF(INDEX(E_SourceStreams!$A:$N,DF68,AA$7)=\"\",\"\",INDEX(E_SourceStreams!$A:$N,DF68,AA$7)))","v":""},{"$f":"IF($E68=\"\",\"\",IF(INDEX(E_SourceStreams!$A:$N,DG68,AB$7)=\"\",\"\",INDEX(E_SourceStreams!$A:$N,DG68,AB$7)))","v":""},{"$f":"IF($E68=\"\",\"\",IF(INDEX(E_SourceStreams!$A:$N,DH68,AC$7)=\"\",\"\",INDEX(E_SourceStreams!$A:$N,DH68,AC$7)))","v":""},{"$f":"IF($E68=\"\",\"\",IF(INDEX(E_SourceStreams!$A:$N,DI68,AD$7)=\"\",\"\",INDEX(E_SourceStreams!$A:$N,DI68,AD$7)))","v":""},{"$f":"IF($E68=\"\",\"\",IF(INDEX(E_SourceStreams!$A:$N,DJ68,AE$7)=\"\",\"\",INDEX(E_SourceStreams!$A:$N,DJ68,AE$7)))","v":""},{"$f":"IF($E68=\"\",\"\",IF(INDEX(E_SourceStreams!$A:$N,DK68,AF$7)=\"\",\"\",INDEX(E_SourceStreams!$A:$N,DK68,AF$7)))","v":""},{"$f":"IF($E68=\"\",\"\",IF(INDEX(E_SourceStreams!$A:$N,DL68,AG$7)=\"\",\"\",INDEX(E_SourceStreams!$A:$N,DL68,AG$7)))","v":""},{"$f":"IF($E68=\"\",\"\",IF(INDEX(E_SourceStreams!$A:$N,DM68,AH$7)=\"\",\"\",INDEX(E_SourceStreams!$A:$N,DM68,AH$7)))","v":""},{"$f":"IF($E68=\"\",\"\",IF(INDEX(E_SourceStreams!$A:$N,DN68,AI$7)=\"\",\"\",INDEX(E_SourceStreams!$A:$N,DN68,AI$7)))","v":""},{"$f":"IF($E68=\"\",\"\",IF(INDEX(E_SourceStreams!$A:$N,DO68,AJ$7)=\"\",\"\",INDEX(E_SourceStreams!$A:$N,DO68,AJ$7)))","v":""},{"$f":"IF($E68=\"\",\"\",IF(INDEX(E_SourceStreams!$A:$N,DP68,AK$7)=\"\",\"\",INDEX(E_SourceStreams!$A:$N,DP68,AK$7)))","v":""},{"$f":"IF($E68=\"\",\"\",IF(INDEX(E_SourceStreams!$A:$N,DQ68,AL$7)=\"\",\"\",INDEX(E_SourceStreams!$A:$N,DQ68,AL$7)))","v":""},{"$f":"IF($E68=\"\",\"\",IF(INDEX(E_SourceStreams!$A:$N,DR68,AM$7)=\"\",\"\",INDEX(E_SourceStreams!$A:$N,DR68,AM$7)))","v":""},{"$f":"IF($E68=\"\",\"\",IF(INDEX(E_SourceStreams!$A:$N,DS68,AN$7)=\"\",\"\",INDEX(E_SourceStreams!$A:$N,DS68,AN$7)))","v":""},{"$f":"IF($E68=\"\",\"\",IF(INDEX(E_SourceStreams!$A:$N,DT68,AO$7)=\"\",\"\",INDEX(E_SourceStreams!$A:$N,DT68,AO$7)))","v":""},{"$f":"IF($E68=\"\",\"\",IF(INDEX(E_SourceStreams!$A:$N,DU68,AP$7)=\"\",\"\",INDEX(E_SourceStreams!$A:$N,DU68,AP$7)))","v":""},{"$f":"IF($E68=\"\",\"\",IF(INDEX(E_SourceStreams!$A:$N,DV68,AQ$7)=\"\",\"\",INDEX(E_SourceStreams!$A:$N,DV68,AQ$7)))","v":""},{"$f":"IF($E68=\"\",\"\",IF(INDEX(E_SourceStreams!$A:$N,DW68,AR$7)=\"\",\"\",INDEX(E_SourceStreams!$A:$N,DW68,AR$7)))","v":""},{"$f":"IF($E68=\"\",\"\",IF(INDEX(E_SourceStreams!$A:$N,DX68,AS$7)=\"\",\"\",INDEX(E_SourceStreams!$A:$N,DX68,AS$7)))","v":""},{"$f":"IF($E68=\"\",\"\",IF(INDEX(E_SourceStreams!$A:$N,DY68,AT$7)=\"\",\"\",INDEX(E_SourceStreams!$A:$N,DY68,AT$7)))","v":""},{"$f":"IF($E68=\"\",\"\",IF(INDEX(E_SourceStreams!$A:$N,DZ68,AU$7)=\"\",\"\",INDEX(E_SourceStreams!$A:$N,DZ68,AU$7)))","v":""},{"$f":"IF($E68=\"\",\"\",IF(INDEX(E_SourceStreams!$A:$N,EA68,AV$7)=\"\",\"\",INDEX(E_SourceStreams!$A:$N,EA68,AV$7)))","v":""},{"$f":"IF($E68=\"\",\"\",IF(INDEX(E_SourceStreams!$A:$N,EB68,AW$7)=\"\",\"\",INDEX(E_SourceStreams!$A:$N,EB68,AW$7)))","v":""},{"$f":"IF($E68=\"\",\"\",IF(INDEX(E_SourceStreams!$A:$N,EC68,AX$7)=\"\",\"\",INDEX(E_SourceStreams!$A:$N,EC68,AX$7)))","v":""},{"$f":"IF($E68=\"\",\"\",IF(INDEX(E_SourceStreams!$A:$N,ED68,AY$7)=\"\",\"\",INDEX(E_SourceStreams!$A:$N,ED68,AY$7)))","v":""},{"$f":"IF($E68=\"\",\"\",IF(INDEX(E_SourceStreams!$A:$N,EE68,AZ$7)=\"\",\"\",INDEX(E_SourceStreams!$A:$N,EE68,AZ$7)))","v":""},{"$f":"IF($E68=\"\",\"\",IF(INDEX(E_SourceStreams!$A:$N,EF68,BA$7)=\"\",\"\",INDEX(E_SourceStreams!$A:$N,EF68,BA$7)))","v":""},{"$f":"IF($E68=\"\",\"\",IF(INDEX(E_SourceStreams!$A:$N,EG68,BB$7)=\"\",\"\",INDEX(E_SourceStreams!$A:$N,EG68,BB$7)))","v":""},{"$f":"IF($E68=\"\",\"\",IF(INDEX(E_SourceStreams!$A:$N,EH68,BC$7)=\"\",\"\",INDEX(E_SourceStreams!$A:$N,EH68,BC$7)))","v":""},{"$f":"IF($E68=\"\",\"\",IF(INDEX(E_SourceStreams!$A:$N,EI68,BD$7)=\"\",\"\",INDEX(E_SourceStreams!$A:$N,EI68,BD$7)))","v":""},{"$f":"IF($E68=\"\",\"\",IF(INDEX(E_SourceStreams!$A:$N,EJ68,BE$7)=\"\",\"\",INDEX(E_SourceStreams!$A:$N,EJ68,BE$7)))","v":""},{"$f":"IF($E68=\"\",\"\",IF(INDEX(E_SourceStreams!$A:$N,EK68,BF$7)=\"\",\"\",INDEX(E_SourceStreams!$A:$N,EK68,BF$7)))","v":""},{"$f":"IF($E68=\"\",\"\",IF(INDEX(E_SourceStreams!$A:$N,EL68,BG$7)=\"\",\"\",INDEX(E_SourceStreams!$A:$N,EL68,BG$7)))","v":""},{"$f":"IF($E68=\"\",\"\",IF(INDEX(E_SourceStreams!$A:$N,EM68,BH$7)=\"\",\"\",INDEX(E_SourceStreams!$A:$N,EM68,BH$7)))","v":""},{"$f":"IF($E68=\"\",\"\",IF(INDEX(E_SourceStreams!$A:$N,EN68,BI$7)=\"\",\"\",INDEX(E_SourceStreams!$A:$N,EN68,BI$7)))","v":""},{"$f":"IF($E68=\"\",\"\",IF(INDEX(E_SourceStreams!$A:$N,EO68,BJ$7)=\"\",\"\",INDEX(E_SourceStreams!$A:$N,EO68,BJ$7)))","v":""},{"$f":"IF($E68=\"\",\"\",IF(INDEX(E_SourceStreams!$A:$N,EP68,BK$7)=\"\",\"\",INDEX(E_SourceStreams!$A:$N,EP68,BK$7)))","v":""},{"$f":"IF($E68=\"\",\"\",IF(INDEX(E_SourceStreams!$A:$N,EQ68,BL$7)=\"\",\"\",INDEX(E_SourceStreams!$A:$N,EQ68,BL$7)))","v":""},{"$f":"IF($E68=\"\",\"\",IF(INDEX(E_SourceStreams!$A:$N,ER68,BM$7)=\"\",\"\",INDEX(E_SourceStreams!$A:$N,ER68,BM$7)))","v":""},{"$f":"IF($E68=\"\",\"\",IF(INDEX(E_SourceStreams!$A:$N,ES68,BN$7)=\"\",\"\",INDEX(E_SourceStreams!$A:$N,ES68,BN$7)))","v":""},{"$f":"IF($E68=\"\",\"\",IF(INDEX(E_SourceStreams!$A:$N,ET68,BO$7)=\"\",\"\",INDEX(E_SourceStreams!$A:$N,ET68,BO$7)))","v":""},{"$f":"IF($E68=\"\",\"\",IF(INDEX(E_SourceStreams!$A:$N,EU68,BP$7)=\"\",\"\",INDEX(E_SourceStreams!$A:$N,EU68,BP$7)))","v":""},{"$f":"IF($E68=\"\",\"\",IF(INDEX(E_SourceStreams!$A:$N,EV68,BQ$7)=\"\",\"\",INDEX(E_SourceStreams!$A:$N,EV68,BQ$7)))","v":""},{"$f":"IF($E68=\"\",\"\",IF(INDEX(E_SourceStreams!$A:$N,EW68,BR$7)=\"\",\"\",INDEX(E_SourceStreams!$A:$N,EW68,BR$7)))","v":""},{"$f":"IF($E68=\"\",\"\",IF(INDEX(E_SourceStreams!$A:$N,EX68,BS$7)=\"\",\"\",INDEX(E_SourceStreams!$A:$N,EX68,BS$7)))","v":""},{"$f":"IF($E68=\"\",\"\",IF(INDEX(E_SourceStreams!$A:$N,EY68,BT$7)=\"\",\"\",INDEX(E_SourceStreams!$A:$N,EY68,BT$7)))","v":""},null,null,null,null,null,null,null,null,null,null,null,null,null,null,null,"SourceCategory_",{"$f":"INDEX(C_InstallationDescription!$A$226:$A$332,ROWS($CI$11:CI68))=\"ausblenden\"","v":true},"SourceStreamName_",null,3895,3897,3899,3901,3903,3905,3907,3907,3907,3907,3907,3910,3914,3915,3916,3923,3933,3933,3933,3933,3933,3933,3933,3924,3934,3934,3934,3934,3934,3934,3934,3925,3935,3935,3935,3935,3935,3935,3935,3926,3936,3936,3936,3936,3936,3936,3936,3927,3937,3937,3937,3937,3937,3937,3937,3928,3938,3938,3938,3938,3938,3938,3938,3944]
[null,{"$f":"IF(COUNTIF($CK$10:CK69,TRUE)>0,\"\",INDEX(C_InstallationDescription!$E$226:$E$242,ROWS($A$11:A69)))","v":""},{"$f":"IF($E69=\"\",\"\",INDEX(C_InstallationDescription!F:F,MATCH($B69,C_InstallationDescription!$E:$E,0)))","v":""},{"$f":"IF($E69=\"\",\"\",INDEX(C_InstallationDescription!I:I,MATCH($B69,C_InstallationDescription!$E:$E,0)))","v":""},{"$f":"IF($B69=\"\",\"\",INDEX(C_InstallationDescription!F:F,MATCH($CJ69,C_InstallationDescription!$Q:$Q,0)))","v":""},{"$f":"IF($E69=\"\",\"\",INDEX(C_InstallationDescription!L:L,MATCH($CJ69,C_InstallationDescription!$Q:$Q,0)))","v":""},{"$f":"IF($E69=\"\",\"\",INDEX(C_InstallationDescription!M:M,MATCH($CJ69,C_InstallationDescription!$Q:$Q,0)))","v":""},{"$f":"IF($E69=\"\",\"\",INDEX(C_InstallationDescription!N:N,MATCH($CJ69,C_InstallationDescription!$Q:$Q,0)))","v":""},{"$f":"IF($E69=\"\",\"\",IF(INDEX(E_SourceStreams!$A:$N,CN69,I$7)=\"\",\"\",INDEX(E_SourceStreams!$A:$N,CN69,I$7)))","v":""},{"$f":"IF($E69=\"\",\"\",IF(INDEX(E_SourceStreams!$A:$N,CO69,J$7)=\"\",\"\",INDEX(E_SourceStreams!$A:$N,CO69,J$7)))","v":""},{"$f":"IF($E69=\"\",\"\",IF(INDEX(E_SourceStreams!$A:$N,CP69,K$7)=\"\",\"\",INDEX(E_SourceStreams!$A:$N,CP69,K$7)))","v":""},{"$f":"IF($E69=\"\",\"\",IF(INDEX(E_SourceStreams!$A:$N,CQ69,L$7)=\"\",\"\",INDEX(E_SourceStreams!$A:$N,CQ69,L$7)))","v":""},{"$f":"IF($E69=\"\",\"\",IF(INDEX(E_SourceStreams!$A:$N,CR69,M$7)=\"\",\"\",INDEX(E_SourceStreams!$A:$N,CR69,M$7)))","v":""},{"$f":"IF($E69=\"\",\"\",IF(INDEX(E_SourceStreams!$A:$N,CS69,N$7)=\"\",\"\",INDEX(E_SourceStreams!$A:$N,CS69,N$7)))","v":""},{"$f":"IF($E69=\"\",\"\",IF(INDEX(E_SourceStreams!$A:$N,CT69,O$7)=\"\",\"\",INDEX(E_SourceStreams!$A:$N,CT69,O$7)))","v":""},{"$f":"IF($E69=\"\",\"\",IF(INDEX(E_SourceStreams!$A:$N,CU69,P$7)=\"\",\"\",INDEX(E_SourceStreams!$A:$N,CU69,P$7)))","v":""},{"$f":"IF($E69=\"\",\"\",IF(INDEX(E_SourceStreams!$A:$N,CV69,Q$7)=\"\",\"\",INDEX(E_SourceStreams!$A:$N,CV69,Q$7)))","v":""},{"$f":"IF($E69=\"\",\"\",IF(INDEX(E_SourceStreams!$A:$N,CW69,R$7)=\"\",\"\",INDEX(E_SourceStreams!$A:$N,CW69,R$7)))","v":""},{"$f":"IF($E69=\"\",\"\",IF(INDEX(E_SourceStreams!$A:$N,CX69,S$7)=\"\",\"\",INDEX(E_SourceStreams!$A:$N,CX69,S$7)))","v":""},{"$f":"IF($E69=\"\",\"\",IF(INDEX(E_SourceStreams!$A:$N,CY69,T$7)=\"\",\"\",INDEX(E_SourceStreams!$A:$N,CY69,T$7)))","v":""},{"$f":"IF($E69=\"\",\"\",IF(INDEX(E_SourceStreams!$A:$N,CZ69,U$7)=\"\",\"\",INDEX(E_SourceStreams!$A:$N,CZ69,U$7)))","v":""},{"$f":"IF($E69=\"\",\"\",IF(INDEX(E_SourceStreams!$A:$N,DA69,V$7)=\"\",\"\",INDEX(E_SourceStreams!$A:$N,DA69,V$7)))","v":""},{"$f":"IF($E69=\"\",\"\",IF(INDEX(E_SourceStreams!$A:$N,DB69,W$7)=\"\",\"\",INDEX(E_SourceStreams!$A:$N,DB69,W$7)))","v":""},{"$f":"IF($E69=\"\",\"\",IF(INDEX(E_SourceStreams!$A:$N,DC69,X$7)=\"\",\"\",INDEX(E_SourceStreams!$A:$N,DC69,X$7)))","v":""},{"$f":"IF($E69=\"\",\"\",IF(INDEX(E_SourceStreams!$A:$N,DD69,Y$7)=\"\",\"\",INDEX(E_SourceStreams!$A:$N,DD69,Y$7)))","v":""},{"$f":"IF($E69=\"\",\"\",IF(INDEX(E_SourceStreams!$A:$N,DE69,Z$7)=\"\",\"\",INDEX(E_SourceStreams!$A:$N,DE69,Z$7)))","v":""},{"$f":"IF($E69=\"\",\"\",IF(INDEX(E_SourceStreams!$A:$N,DF69,AA$7)=\"\",\"\",INDEX(E_SourceStreams!$A:$N,DF69,AA$7)))","v":""},{"$f":"IF($E69=\"\",\"\",IF(INDEX(E_SourceStreams!$A:$N,DG69,AB$7)=\"\",\"\",INDEX(E_SourceStreams!$A:$N,DG69,AB$7)))","v":""},{"$f":"IF($E69=\"\",\"\",IF(INDEX(E_SourceStreams!$A:$N,DH69,AC$7)=\"\",\"\",INDEX(E_SourceStreams!$A:$N,DH69,AC$7)))","v":""},{"$f":"IF($E69=\"\",\"\",IF(INDEX(E_SourceStreams!$A:$N,DI69,AD$7)=\"\",\"\",INDEX(E_SourceStreams!$A:$N,DI69,AD$7)))","v":""},{"$f":"IF($E69=\"\",\"\",IF(INDEX(E_SourceStreams!$A:$N,DJ69,AE$7)=\"\",\"\",INDEX(E_SourceStreams!$A:$N,DJ69,AE$7)))","v":""},{"$f":"IF($E69=\"\",\"\",IF(INDEX(E_SourceStreams!$A:$N,DK69,AF$7)=\"\",\"\",INDEX(E_SourceStreams!$A:$N,DK69,AF$7)))","v":""},{"$f":"IF($E69=\"\",\"\",IF(INDEX(E_SourceStreams!$A:$N,DL69,AG$7)=\"\",\"\",INDEX(E_SourceStreams!$A:$N,DL69,AG$7)))","v":""},{"$f":"IF($E69=\"\",\"\",IF(INDEX(E_SourceStreams!$A:$N,DM69,AH$7)=\"\",\"\",INDEX(E_SourceStreams!$A:$N,DM69,AH$7)))","v":""},{"$f":"IF($E69=\"\",\"\",IF(INDEX(E_SourceStreams!$A:$N,DN69,AI$7)=\"\",\"\",INDEX(E_SourceStreams!$A:$N,DN69,AI$7)))","v":""},{"$f":"IF($E69=\"\",\"\",IF(INDEX(E_SourceStreams!$A:$N,DO69,AJ$7)=\"\",\"\",INDEX(E_SourceStreams!$A:$N,DO69,AJ$7)))","v":""},{"$f":"IF($E69=\"\",\"\",IF(INDEX(E_SourceStreams!$A:$N,DP69,AK$7)=\"\",\"\",INDEX(E_SourceStreams!$A:$N,DP69,AK$7)))","v":""},{"$f":"IF($E69=\"\",\"\",IF(INDEX(E_SourceStreams!$A:$N,DQ69,AL$7)=\"\",\"\",INDEX(E_SourceStreams!$A:$N,DQ69,AL$7)))","v":""},{"$f":"IF($E69=\"\",\"\",IF(INDEX(E_SourceStreams!$A:$N,DR69,AM$7)=\"\",\"\",INDEX(E_SourceStreams!$A:$N,DR69,AM$7)))","v":""},{"$f":"IF($E69=\"\",\"\",IF(INDEX(E_SourceStreams!$A:$N,DS69,AN$7)=\"\",\"\",INDEX(E_SourceStreams!$A:$N,DS69,AN$7)))","v":""},{"$f":"IF($E69=\"\",\"\",IF(INDEX(E_SourceStreams!$A:$N,DT69,AO$7)=\"\",\"\",INDEX(E_SourceStreams!$A:$N,DT69,AO$7)))","v":""},{"$f":"IF($E69=\"\",\"\",IF(INDEX(E_SourceStreams!$A:$N,DU69,AP$7)=\"\",\"\",INDEX(E_SourceStreams!$A:$N,DU69,AP$7)))","v":""},{"$f":"IF($E69=\"\",\"\",IF(INDEX(E_SourceStreams!$A:$N,DV69,AQ$7)=\"\",\"\",INDEX(E_SourceStreams!$A:$N,DV69,AQ$7)))","v":""},{"$f":"IF($E69=\"\",\"\",IF(INDEX(E_SourceStreams!$A:$N,DW69,AR$7)=\"\",\"\",INDEX(E_SourceStreams!$A:$N,DW69,AR$7)))","v":""},{"$f":"IF($E69=\"\",\"\",IF(INDEX(E_SourceStreams!$A:$N,DX69,AS$7)=\"\",\"\",INDEX(E_SourceStreams!$A:$N,DX69,AS$7)))","v":""},{"$f":"IF($E69=\"\",\"\",IF(INDEX(E_SourceStreams!$A:$N,DY69,AT$7)=\"\",\"\",INDEX(E_SourceStreams!$A:$N,DY69,AT$7)))","v":""},{"$f":"IF($E69=\"\",\"\",IF(INDEX(E_SourceStreams!$A:$N,DZ69,AU$7)=\"\",\"\",INDEX(E_SourceStreams!$A:$N,DZ69,AU$7)))","v":""},{"$f":"IF($E69=\"\",\"\",IF(INDEX(E_SourceStreams!$A:$N,EA69,AV$7)=\"\",\"\",INDEX(E_SourceStreams!$A:$N,EA69,AV$7)))","v":""},{"$f":"IF($E69=\"\",\"\",IF(INDEX(E_SourceStreams!$A:$N,EB69,AW$7)=\"\",\"\",INDEX(E_SourceStreams!$A:$N,EB69,AW$7)))","v":""},{"$f":"IF($E69=\"\",\"\",IF(INDEX(E_SourceStreams!$A:$N,EC69,AX$7)=\"\",\"\",INDEX(E_SourceStreams!$A:$N,EC69,AX$7)))","v":""},{"$f":"IF($E69=\"\",\"\",IF(INDEX(E_SourceStreams!$A:$N,ED69,AY$7)=\"\",\"\",INDEX(E_SourceStreams!$A:$N,ED69,AY$7)))","v":""},{"$f":"IF($E69=\"\",\"\",IF(INDEX(E_SourceStreams!$A:$N,EE69,AZ$7)=\"\",\"\",INDEX(E_SourceStreams!$A:$N,EE69,AZ$7)))","v":""},{"$f":"IF($E69=\"\",\"\",IF(INDEX(E_SourceStreams!$A:$N,EF69,BA$7)=\"\",\"\",INDEX(E_SourceStreams!$A:$N,EF69,BA$7)))","v":""},{"$f":"IF($E69=\"\",\"\",IF(INDEX(E_SourceStreams!$A:$N,EG69,BB$7)=\"\",\"\",INDEX(E_SourceStreams!$A:$N,EG69,BB$7)))","v":""},{"$f":"IF($E69=\"\",\"\",IF(INDEX(E_SourceStreams!$A:$N,EH69,BC$7)=\"\",\"\",INDEX(E_SourceStreams!$A:$N,EH69,BC$7)))","v":""},{"$f":"IF($E69=\"\",\"\",IF(INDEX(E_SourceStreams!$A:$N,EI69,BD$7)=\"\",\"\",INDEX(E_SourceStreams!$A:$N,EI69,BD$7)))","v":""},{"$f":"IF($E69=\"\",\"\",IF(INDEX(E_SourceStreams!$A:$N,EJ69,BE$7)=\"\",\"\",INDEX(E_SourceStreams!$A:$N,EJ69,BE$7)))","v":""},{"$f":"IF($E69=\"\",\"\",IF(INDEX(E_SourceStreams!$A:$N,EK69,BF$7)=\"\",\"\",INDEX(E_SourceStreams!$A:$N,EK69,BF$7)))","v":""},{"$f":"IF($E69=\"\",\"\",IF(INDEX(E_SourceStreams!$A:$N,EL69,BG$7)=\"\",\"\",INDEX(E_SourceStreams!$A:$N,EL69,BG$7)))","v":""},{"$f":"IF($E69=\"\",\"\",IF(INDEX(E_SourceStreams!$A:$N,EM69,BH$7)=\"\",\"\",INDEX(E_SourceStreams!$A:$N,EM69,BH$7)))","v":""},{"$f":"IF($E69=\"\",\"\",IF(INDEX(E_SourceStreams!$A:$N,EN69,BI$7)=\"\",\"\",INDEX(E_SourceStreams!$A:$N,EN69,BI$7)))","v":""},{"$f":"IF($E69=\"\",\"\",IF(INDEX(E_SourceStreams!$A:$N,EO69,BJ$7)=\"\",\"\",INDEX(E_SourceStreams!$A:$N,EO69,BJ$7)))","v":""},{"$f":"IF($E69=\"\",\"\",IF(INDEX(E_SourceStreams!$A:$N,EP69,BK$7)=\"\",\"\",INDEX(E_SourceStreams!$A:$N,EP69,BK$7)))","v":""},{"$f":"IF($E69=\"\",\"\",IF(INDEX(E_SourceStreams!$A:$N,EQ69,BL$7)=\"\",\"\",INDEX(E_SourceStreams!$A:$N,EQ69,BL$7)))","v":""},{"$f":"IF($E69=\"\",\"\",IF(INDEX(E_SourceStreams!$A:$N,ER69,BM$7)=\"\",\"\",INDEX(E_SourceStreams!$A:$N,ER69,BM$7)))","v":""},{"$f":"IF($E69=\"\",\"\",IF(INDEX(E_SourceStreams!$A:$N,ES69,BN$7)=\"\",\"\",INDEX(E_SourceStreams!$A:$N,ES69,BN$7)))","v":""},{"$f":"IF($E69=\"\",\"\",IF(INDEX(E_SourceStreams!$A:$N,ET69,BO$7)=\"\",\"\",INDEX(E_SourceStreams!$A:$N,ET69,BO$7)))","v":""},{"$f":"IF($E69=\"\",\"\",IF(INDEX(E_SourceStreams!$A:$N,EU69,BP$7)=\"\",\"\",INDEX(E_SourceStreams!$A:$N,EU69,BP$7)))","v":""},{"$f":"IF($E69=\"\",\"\",IF(INDEX(E_SourceStreams!$A:$N,EV69,BQ$7)=\"\",\"\",INDEX(E_SourceStreams!$A:$N,EV69,BQ$7)))","v":""},{"$f":"IF($E69=\"\",\"\",IF(INDEX(E_SourceStreams!$A:$N,EW69,BR$7)=\"\",\"\",INDEX(E_SourceStreams!$A:$N,EW69,BR$7)))","v":""},{"$f":"IF($E69=\"\",\"\",IF(INDEX(E_SourceStreams!$A:$N,EX69,BS$7)=\"\",\"\",INDEX(E_SourceStreams!$A:$N,EX69,BS$7)))","v":""},{"$f":"IF($E69=\"\",\"\",IF(INDEX(E_SourceStreams!$A:$N,EY69,BT$7)=\"\",\"\",INDEX(E_SourceStreams!$A:$N,EY69,BT$7)))","v":""},null,null,null,null,null,null,null,null,null,null,null,null,null,null,null,"SourceCategory_",{"$f":"INDEX(C_InstallationDescription!$A$226:$A$332,ROWS($CI$11:CI69))=\"ausblenden\"","v":true},"SourceStreamName_",null,3961,3963,3965,3967,3969,3971,3973,3973,3973,3973,3973,3976,3980,3981,3982,3989,3999,3999,3999,3999,3999,3999,3999,3990,4000,4000,4000,4000,4000,4000,4000,3991,4001,4001,4001,4001,4001,4001,4001,3992,4002,4002,4002,4002,4002,4002,4002,3993,4003,4003,4003,4003,4003,4003,4003,3994,4004,4004,4004,4004,4004,4004,4004,4010]
[null,{"$f":"IF(COUNTIF($CK$10:CK70,TRUE)>0,\"\",INDEX(C_InstallationDescription!$E$226:$E$242,ROWS($A$11:A70)))","v":""},{"$f":"IF($E70=\"\",\"\",INDEX(C_InstallationDescription!F:F,MATCH($B70,C_InstallationDescription!$E:$E,0)))","v":""},{"$f":"IF($E70=\"\",\"\",INDEX(C_InstallationDescription!I:I,MATCH($B70,C_InstallationDescription!$E:$E,0)))","v":""},{"$f":"IF($B70=\"\",\"\",INDEX(C_InstallationDescription!F:F,MATCH($CJ70,C_InstallationDescription!$Q:$Q,0)))","v":""},{"$f":"IF($E70=\"\",\"\",INDEX(C_InstallationDescription!L:L,MATCH($CJ70,C_InstallationDescription!$Q:$Q,0)))","v":""},{"$f":"IF($E70=\"\",\"\",INDEX(C_InstallationDescription!M:M,MATCH($CJ70,C_InstallationDescription!$Q:$Q,0)))","v":""},{"$f":"IF($E70=\"\",\"\",INDEX(C_InstallationDescription!N:N,MATCH($CJ70,C_InstallationDescription!$Q:$Q,0)))","v":""},{"$f":"IF($E70=\"\",\"\",IF(INDEX(E_SourceStreams!$A:$N,CN70,I$7)=\"\",\"\",INDEX(E_SourceStreams!$A:$N,CN70,I$7)))","v":""},{"$f":"IF($E70=\"\",\"\",IF(INDEX(E_SourceStreams!$A:$N,CO70,J$7)=\"\",\"\",INDEX(E_SourceStreams!$A:$N,CO70,J$7)))","v":""},{"$f":"IF($E70=\"\",\"\",IF(INDEX(E_SourceStreams!$A:$N,CP70,K$7)=\"\",\"\",INDEX(E_SourceStreams!$A:$N,CP70,K$7)))","v":""},{"$f":"IF($E70=\"\",\"\",IF(INDEX(E_SourceStreams!$A:$N,CQ70,L$7)=\"\",\"\",INDEX(E_SourceStreams!$A:$N,CQ70,L$7)))","v":""},{"$f":"IF($E70=\"\",\"\",IF(INDEX(E_SourceStreams!$A:$N,CR70,M$7)=\"\",\"\",INDEX(E_SourceStreams!$A:$N,CR70,M$7)))","v":""},{"$f":"IF($E70=\"\",\"\",IF(INDEX(E_SourceStreams!$A:$N,CS70,N$7)=\"\",\"\",INDEX(E_SourceStreams!$A:$N,CS70,N$7)))","v":""},{"$f":"IF($E70=\"\",\"\",IF(INDEX(E_SourceStreams!$A:$N,CT70,O$7)=\"\",\"\",INDEX(E_SourceStreams!$A:$N,CT70,O$7)))","v":""},{"$f":"IF($E70=\"\",\"\",IF(INDEX(E_SourceStreams!$A:$N,CU70,P$7)=\"\",\"\",INDEX(E_SourceStreams!$A:$N,CU70,P$7)))","v":""},{"$f":"IF($E70=\"\",\"\",IF(INDEX(E_SourceStreams!$A:$N,CV70,Q$7)=\"\",\"\",INDEX(E_SourceStreams!$A:$N,CV70,Q$7)))","v":""},{"$f":"IF($E70=\"\",\"\",IF(INDEX(E_SourceStreams!$A:$N,CW70,R$7)=\"\",\"\",INDEX(E_SourceStreams!$A:$N,CW70,R$7)))","v":""},{"$f":"IF($E70=\"\",\"\",IF(INDEX(E_SourceStreams!$A:$N,CX70,S$7)=\"\",\"\",INDEX(E_SourceStreams!$A:$N,CX70,S$7)))","v":""},{"$f":"IF($E70=\"\",\"\",IF(INDEX(E_SourceStreams!$A:$N,CY70,T$7)=\"\",\"\",INDEX(E_SourceStreams!$A:$N,CY70,T$7)))","v":""},{"$f":"IF($E70=\"\",\"\",IF(INDEX(E_SourceStreams!$A:$N,CZ70,U$7)=\"\",\"\",INDEX(E_SourceStreams!$A:$N,CZ70,U$7)))","v":""},{"$f":"IF($E70=\"\",\"\",IF(INDEX(E_SourceStreams!$A:$N,DA70,V$7)=\"\",\"\",INDEX(E_SourceStreams!$A:$N,DA70,V$7)))","v":""},{"$f":"IF($E70=\"\",\"\",IF(INDEX(E_SourceStreams!$A:$N,DB70,W$7)=\"\",\"\",INDEX(E_SourceStreams!$A:$N,DB70,W$7)))","v":""},{"$f":"IF($E70=\"\",\"\",IF(INDEX(E_SourceStreams!$A:$N,DC70,X$7)=\"\",\"\",INDEX(E_SourceStreams!$A:$N,DC70,X$7)))","v":""},{"$f":"IF($E70=\"\",\"\",IF(INDEX(E_SourceStreams!$A:$N,DD70,Y$7)=\"\",\"\",INDEX(E_SourceStreams!$A:$N,DD70,Y$7)))","v":""},{"$f":"IF($E70=\"\",\"\",IF(INDEX(E_SourceStreams!$A:$N,DE70,Z$7)=\"\",\"\",INDEX(E_SourceStreams!$A:$N,DE70,Z$7)))","v":""},{"$f":"IF($E70=\"\",\"\",IF(INDEX(E_SourceStreams!$A:$N,DF70,AA$7)=\"\",\"\",INDEX(E_SourceStreams!$A:$N,DF70,AA$7)))","v":""},{"$f":"IF($E70=\"\",\"\",IF(INDEX(E_SourceStreams!$A:$N,DG70,AB$7)=\"\",\"\",INDEX(E_SourceStreams!$A:$N,DG70,AB$7)))","v":""},{"$f":"IF($E70=\"\",\"\",IF(INDEX(E_SourceStreams!$A:$N,DH70,AC$7)=\"\",\"\",INDEX(E_SourceStreams!$A:$N,DH70,AC$7)))","v":""},{"$f":"IF($E70=\"\",\"\",IF(INDEX(E_SourceStreams!$A:$N,DI70,AD$7)=\"\",\"\",INDEX(E_SourceStreams!$A:$N,DI70,AD$7)))","v":""},{"$f":"IF($E70=\"\",\"\",IF(INDEX(E_SourceStreams!$A:$N,DJ70,AE$7)=\"\",\"\",INDEX(E_SourceStreams!$A:$N,DJ70,AE$7)))","v":""},{"$f":"IF($E70=\"\",\"\",IF(INDEX(E_SourceStreams!$A:$N,DK70,AF$7)=\"\",\"\",INDEX(E_SourceStreams!$A:$N,DK70,AF$7)))","v":""},{"$f":"IF($E70=\"\",\"\",IF(INDEX(E_SourceStreams!$A:$N,DL70,AG$7)=\"\",\"\",INDEX(E_SourceStreams!$A:$N,DL70,AG$7)))","v":""},{"$f":"IF($E70=\"\",\"\",IF(INDEX(E_SourceStreams!$A:$N,DM70,AH$7)=\"\",\"\",INDEX(E_SourceStreams!$A:$N,DM70,AH$7)))","v":""},{"$f":"IF($E70=\"\",\"\",IF(INDEX(E_SourceStreams!$A:$N,DN70,AI$7)=\"\",\"\",INDEX(E_SourceStreams!$A:$N,DN70,AI$7)))","v":""},{"$f":"IF($E70=\"\",\"\",IF(INDEX(E_SourceStreams!$A:$N,DO70,AJ$7)=\"\",\"\",INDEX(E_SourceStreams!$A:$N,DO70,AJ$7)))","v":""},{"$f":"IF($E70=\"\",\"\",IF(INDEX(E_SourceStreams!$A:$N,DP70,AK$7)=\"\",\"\",INDEX(E_SourceStreams!$A:$N,DP70,AK$7)))","v":""},{"$f":"IF($E70=\"\",\"\",IF(INDEX(E_SourceStreams!$A:$N,DQ70,AL$7)=\"\",\"\",INDEX(E_SourceStreams!$A:$N,DQ70,AL$7)))","v":""},{"$f":"IF($E70=\"\",\"\",IF(INDEX(E_SourceStreams!$A:$N,DR70,AM$7)=\"\",\"\",INDEX(E_SourceStreams!$A:$N,DR70,AM$7)))","v":""},{"$f":"IF($E70=\"\",\"\",IF(INDEX(E_SourceStreams!$A:$N,DS70,AN$7)=\"\",\"\",INDEX(E_SourceStreams!$A:$N,DS70,AN$7)))","v":""},{"$f":"IF($E70=\"\",\"\",IF(INDEX(E_SourceStreams!$A:$N,DT70,AO$7)=\"\",\"\",INDEX(E_SourceStreams!$A:$N,DT70,AO$7)))","v":""},{"$f":"IF($E70=\"\",\"\",IF(INDEX(E_SourceStreams!$A:$N,DU70,AP$7)=\"\",\"\",INDEX(E_SourceStreams!$A:$N,DU70,AP$7)))","v":""},{"$f":"IF($E70=\"\",\"\",IF(INDEX(E_SourceStreams!$A:$N,DV70,AQ$7)=\"\",\"\",INDEX(E_SourceStreams!$A:$N,DV70,AQ$7)))","v":""},{"$f":"IF($E70=\"\",\"\",IF(INDEX(E_SourceStreams!$A:$N,DW70,AR$7)=\"\",\"\",INDEX(E_SourceStreams!$A:$N,DW70,AR$7)))","v":""},{"$f":"IF($E70=\"\",\"\",IF(INDEX(E_SourceStreams!$A:$N,DX70,AS$7)=\"\",\"\",INDEX(E_SourceStreams!$A:$N,DX70,AS$7)))","v":""},{"$f":"IF($E70=\"\",\"\",IF(INDEX(E_SourceStreams!$A:$N,DY70,AT$7)=\"\",\"\",INDEX(E_SourceStreams!$A:$N,DY70,AT$7)))","v":""},{"$f":"IF($E70=\"\",\"\",IF(INDEX(E_SourceStreams!$A:$N,DZ70,AU$7)=\"\",\"\",INDEX(E_SourceStreams!$A:$N,DZ70,AU$7)))","v":""},{"$f":"IF($E70=\"\",\"\",IF(INDEX(E_SourceStreams!$A:$N,EA70,AV$7)=\"\",\"\",INDEX(E_SourceStreams!$A:$N,EA70,AV$7)))","v":""},{"$f":"IF($E70=\"\",\"\",IF(INDEX(E_SourceStreams!$A:$N,EB70,AW$7)=\"\",\"\",INDEX(E_SourceStreams!$A:$N,EB70,AW$7)))","v":""},{"$f":"IF($E70=\"\",\"\",IF(INDEX(E_SourceStreams!$A:$N,EC70,AX$7)=\"\",\"\",INDEX(E_SourceStreams!$A:$N,EC70,AX$7)))","v":""},{"$f":"IF($E70=\"\",\"\",IF(INDEX(E_SourceStreams!$A:$N,ED70,AY$7)=\"\",\"\",INDEX(E_SourceStreams!$A:$N,ED70,AY$7)))","v":""},{"$f":"IF($E70=\"\",\"\",IF(INDEX(E_SourceStreams!$A:$N,EE70,AZ$7)=\"\",\"\",INDEX(E_SourceStreams!$A:$N,EE70,AZ$7)))","v":""},{"$f":"IF($E70=\"\",\"\",IF(INDEX(E_SourceStreams!$A:$N,EF70,BA$7)=\"\",\"\",INDEX(E_SourceStreams!$A:$N,EF70,BA$7)))","v":""},{"$f":"IF($E70=\"\",\"\",IF(INDEX(E_SourceStreams!$A:$N,EG70,BB$7)=\"\",\"\",INDEX(E_SourceStreams!$A:$N,EG70,BB$7)))","v":""},{"$f":"IF($E70=\"\",\"\",IF(INDEX(E_SourceStreams!$A:$N,EH70,BC$7)=\"\",\"\",INDEX(E_SourceStreams!$A:$N,EH70,BC$7)))","v":""},{"$f":"IF($E70=\"\",\"\",IF(INDEX(E_SourceStreams!$A:$N,EI70,BD$7)=\"\",\"\",INDEX(E_SourceStreams!$A:$N,EI70,BD$7)))","v":""},{"$f":"IF($E70=\"\",\"\",IF(INDEX(E_SourceStreams!$A:$N,EJ70,BE$7)=\"\",\"\",INDEX(E_SourceStreams!$A:$N,EJ70,BE$7)))","v":""},{"$f":"IF($E70=\"\",\"\",IF(INDEX(E_SourceStreams!$A:$N,EK70,BF$7)=\"\",\"\",INDEX(E_SourceStreams!$A:$N,EK70,BF$7)))","v":""},{"$f":"IF($E70=\"\",\"\",IF(INDEX(E_SourceStreams!$A:$N,EL70,BG$7)=\"\",\"\",INDEX(E_SourceStreams!$A:$N,EL70,BG$7)))","v":""},{"$f":"IF($E70=\"\",\"\",IF(INDEX(E_SourceStreams!$A:$N,EM70,BH$7)=\"\",\"\",INDEX(E_SourceStreams!$A:$N,EM70,BH$7)))","v":""},{"$f":"IF($E70=\"\",\"\",IF(INDEX(E_SourceStreams!$A:$N,EN70,BI$7)=\"\",\"\",INDEX(E_SourceStreams!$A:$N,EN70,BI$7)))","v":""},{"$f":"IF($E70=\"\",\"\",IF(INDEX(E_SourceStreams!$A:$N,EO70,BJ$7)=\"\",\"\",INDEX(E_SourceStreams!$A:$N,EO70,BJ$7)))","v":""},{"$f":"IF($E70=\"\",\"\",IF(INDEX(E_SourceStreams!$A:$N,EP70,BK$7)=\"\",\"\",INDEX(E_SourceStreams!$A:$N,EP70,BK$7)))","v":""},{"$f":"IF($E70=\"\",\"\",IF(INDEX(E_SourceStreams!$A:$N,EQ70,BL$7)=\"\",\"\",INDEX(E_SourceStreams!$A:$N,EQ70,BL$7)))","v":""},{"$f":"IF($E70=\"\",\"\",IF(INDEX(E_SourceStreams!$A:$N,ER70,BM$7)=\"\",\"\",INDEX(E_SourceStreams!$A:$N,ER70,BM$7)))","v":""},{"$f":"IF($E70=\"\",\"\",IF(INDEX(E_SourceStreams!$A:$N,ES70,BN$7)=\"\",\"\",INDEX(E_SourceStreams!$A:$N,ES70,BN$7)))","v":""},{"$f":"IF($E70=\"\",\"\",IF(INDEX(E_SourceStreams!$A:$N,ET70,BO$7)=\"\",\"\",INDEX(E_SourceStreams!$A:$N,ET70,BO$7)))","v":""},{"$f":"IF($E70=\"\",\"\",IF(INDEX(E_SourceStreams!$A:$N,EU70,BP$7)=\"\",\"\",INDEX(E_SourceStreams!$A:$N,EU70,BP$7)))","v":""},{"$f":"IF($E70=\"\",\"\",IF(INDEX(E_SourceStreams!$A:$N,EV70,BQ$7)=\"\",\"\",INDEX(E_SourceStreams!$A:$N,EV70,BQ$7)))","v":""},{"$f":"IF($E70=\"\",\"\",IF(INDEX(E_SourceStreams!$A:$N,EW70,BR$7)=\"\",\"\",INDEX(E_SourceStreams!$A:$N,EW70,BR$7)))","v":""},{"$f":"IF($E70=\"\",\"\",IF(INDEX(E_SourceStreams!$A:$N,EX70,BS$7)=\"\",\"\",INDEX(E_SourceStreams!$A:$N,EX70,BS$7)))","v":""},{"$f":"IF($E70=\"\",\"\",IF(INDEX(E_SourceStreams!$A:$N,EY70,BT$7)=\"\",\"\",INDEX(E_SourceStreams!$A:$N,EY70,BT$7)))","v":""},null,null,null,null,null,null,null,null,null,null,null,null,null,null,null,"SourceCategory_",{"$f":"INDEX(C_InstallationDescription!$A$226:$A$332,ROWS($CI$11:CI70))=\"ausblenden\"","v":true},"SourceStreamName_",null,4027,4029,4031,4033,4035,4037,4039,4039,4039,4039,4039,4042,4046,4047,4048,4055,4065,4065,4065,4065,4065,4065,4065,4056,4066,4066,4066,4066,4066,4066,4066,4057,4067,4067,4067,4067,4067,4067,4067,4058,4068,4068,4068,4068,4068,4068,4068,4059,4069,4069,4069,4069,4069,4069,4069,4060,4070,4070,4070,4070,4070,4070,4070,4076]
[null,{"$f":"IF(COUNTIF($CK$10:CK71,TRUE)>0,\"\",INDEX(C_InstallationDescription!$E$226:$E$242,ROWS($A$11:A71)))","v":""},{"$f":"IF($E71=\"\",\"\",INDEX(C_InstallationDescription!F:F,MATCH($B71,C_InstallationDescription!$E:$E,0)))","v":""},{"$f":"IF($E71=\"\",\"\",INDEX(C_InstallationDescription!I:I,MATCH($B71,C_InstallationDescription!$E:$E,0)))","v":""},{"$f":"IF($B71=\"\",\"\",INDEX(C_InstallationDescription!F:F,MATCH($CJ71,C_InstallationDescription!$Q:$Q,0)))","v":""},{"$f":"IF($E71=\"\",\"\",INDEX(C_InstallationDescription!L:L,MATCH($CJ71,C_InstallationDescription!$Q:$Q,0)))","v":""},{"$f":"IF($E71=\"\",\"\",INDEX(C_InstallationDescription!M:M,MATCH($CJ71,C_InstallationDescription!$Q:$Q,0)))","v":""},{"$f":"IF($E71=\"\",\"\",INDEX(C_InstallationDescription!N:N,MATCH($CJ71,C_InstallationDescription!$Q:$Q,0)))","v":""},{"$f":"IF($E71=\"\",\"\",IF(INDEX(E_SourceStreams!$A:$N,CN71,I$7)=\"\",\"\",INDEX(E_SourceStreams!$A:$N,CN71,I$7)))","v":""},{"$f":"IF($E71=\"\",\"\",IF(INDEX(E_SourceStreams!$A:$N,CO71,J$7)=\"\",\"\",INDEX(E_SourceStreams!$A:$N,CO71,J$7)))","v":""},{"$f":"IF($E71=\"\",\"\",IF(INDEX(E_SourceStreams!$A:$N,CP71,K$7)=\"\",\"\",INDEX(E_SourceStreams!$A:$N,CP71,K$7)))","v":""},{"$f":"IF($E71=\"\",\"\",IF(INDEX(E_SourceStreams!$A:$N,CQ71,L$7)=\"\",\"\",INDEX(E_SourceStreams!$A:$N,CQ71,L$7)))","v":""},{"$f":"IF($E71=\"\",\"\",IF(INDEX(E_SourceStreams!$A:$N,CR71,M$7)=\"\",\"\",INDEX(E_SourceStreams!$A:$N,CR71,M$7)))","v":""},{"$f":"IF($E71=\"\",\"\",IF(INDEX(E_SourceStreams!$A:$N,CS71,N$7)=\"\",\"\",INDEX(E_SourceStreams!$A:$N,CS71,N$7)))","v":""},{"$f":"IF($E71=\"\",\"\",IF(INDEX(E_SourceStreams!$A:$N,CT71,O$7)=\"\",\"\",INDEX(E_SourceStreams!$A:$N,CT71,O$7)))","v":""},{"$f":"IF($E71=\"\",\"\",IF(INDEX(E_SourceStreams!$A:$N,CU71,P$7)=\"\",\"\",INDEX(E_SourceStreams!$A:$N,CU71,P$7)))","v":""},{"$f":"IF($E71=\"\",\"\",IF(INDEX(E_SourceStreams!$A:$N,CV71,Q$7)=\"\",\"\",INDEX(E_SourceStreams!$A:$N,CV71,Q$7)))","v":""},{"$f":"IF($E71=\"\",\"\",IF(INDEX(E_SourceStreams!$A:$N,CW71,R$7)=\"\",\"\",INDEX(E_SourceStreams!$A:$N,CW71,R$7)))","v":""},{"$f":"IF($E71=\"\",\"\",IF(INDEX(E_SourceStreams!$A:$N,CX71,S$7)=\"\",\"\",INDEX(E_SourceStreams!$A:$N,CX71,S$7)))","v":""},{"$f":"IF($E71=\"\",\"\",IF(INDEX(E_SourceStreams!$A:$N,CY71,T$7)=\"\",\"\",INDEX(E_SourceStreams!$A:$N,CY71,T$7)))","v":""},{"$f":"IF($E71=\"\",\"\",IF(INDEX(E_SourceStreams!$A:$N,CZ71,U$7)=\"\",\"\",INDEX(E_SourceStreams!$A:$N,CZ71,U$7)))","v":""},{"$f":"IF($E71=\"\",\"\",IF(INDEX(E_SourceStreams!$A:$N,DA71,V$7)=\"\",\"\",INDEX(E_SourceStreams!$A:$N,DA71,V$7)))","v":""},{"$f":"IF($E71=\"\",\"\",IF(INDEX(E_SourceStreams!$A:$N,DB71,W$7)=\"\",\"\",INDEX(E_SourceStreams!$A:$N,DB71,W$7)))","v":""},{"$f":"IF($E71=\"\",\"\",IF(INDEX(E_SourceStreams!$A:$N,DC71,X$7)=\"\",\"\",INDEX(E_SourceStreams!$A:$N,DC71,X$7)))","v":""},{"$f":"IF($E71=\"\",\"\",IF(INDEX(E_SourceStreams!$A:$N,DD71,Y$7)=\"\",\"\",INDEX(E_SourceStreams!$A:$N,DD71,Y$7)))","v":""},{"$f":"IF($E71=\"\",\"\",IF(INDEX(E_SourceStreams!$A:$N,DE71,Z$7)=\"\",\"\",INDEX(E_SourceStreams!$A:$N,DE71,Z$7)))","v":""},{"$f":"IF($E71=\"\",\"\",IF(INDEX(E_SourceStreams!$A:$N,DF71,AA$7)=\"\",\"\",INDEX(E_SourceStreams!$A:$N,DF71,AA$7)))","v":""},{"$f":"IF($E71=\"\",\"\",IF(INDEX(E_SourceStreams!$A:$N,DG71,AB$7)=\"\",\"\",INDEX(E_SourceStreams!$A:$N,DG71,AB$7)))","v":""},{"$f":"IF($E71=\"\",\"\",IF(INDEX(E_SourceStreams!$A:$N,DH71,AC$7)=\"\",\"\",INDEX(E_SourceStreams!$A:$N,DH71,AC$7)))","v":""},{"$f":"IF($E71=\"\",\"\",IF(INDEX(E_SourceStreams!$A:$N,DI71,AD$7)=\"\",\"\",INDEX(E_SourceStreams!$A:$N,DI71,AD$7)))","v":""},{"$f":"IF($E71=\"\",\"\",IF(INDEX(E_SourceStreams!$A:$N,DJ71,AE$7)=\"\",\"\",INDEX(E_SourceStreams!$A:$N,DJ71,AE$7)))","v":""},{"$f":"IF($E71=\"\",\"\",IF(INDEX(E_SourceStreams!$A:$N,DK71,AF$7)=\"\",\"\",INDEX(E_SourceStreams!$A:$N,DK71,AF$7)))","v":""},{"$f":"IF($E71=\"\",\"\",IF(INDEX(E_SourceStreams!$A:$N,DL71,AG$7)=\"\",\"\",INDEX(E_SourceStreams!$A:$N,DL71,AG$7)))","v":""},{"$f":"IF($E71=\"\",\"\",IF(INDEX(E_SourceStreams!$A:$N,DM71,AH$7)=\"\",\"\",INDEX(E_SourceStreams!$A:$N,DM71,AH$7)))","v":""},{"$f":"IF($E71=\"\",\"\",IF(INDEX(E_SourceStreams!$A:$N,DN71,AI$7)=\"\",\"\",INDEX(E_SourceStreams!$A:$N,DN71,AI$7)))","v":""},{"$f":"IF($E71=\"\",\"\",IF(INDEX(E_SourceStreams!$A:$N,DO71,AJ$7)=\"\",\"\",INDEX(E_SourceStreams!$A:$N,DO71,AJ$7)))","v":""},{"$f":"IF($E71=\"\",\"\",IF(INDEX(E_SourceStreams!$A:$N,DP71,AK$7)=\"\",\"\",INDEX(E_SourceStreams!$A:$N,DP71,AK$7)))","v":""},{"$f":"IF($E71=\"\",\"\",IF(INDEX(E_SourceStreams!$A:$N,DQ71,AL$7)=\"\",\"\",INDEX(E_SourceStreams!$A:$N,DQ71,AL$7)))","v":""},{"$f":"IF($E71=\"\",\"\",IF(INDEX(E_SourceStreams!$A:$N,DR71,AM$7)=\"\",\"\",INDEX(E_SourceStreams!$A:$N,DR71,AM$7)))","v":""},{"$f":"IF($E71=\"\",\"\",IF(INDEX(E_SourceStreams!$A:$N,DS71,AN$7)=\"\",\"\",INDEX(E_SourceStreams!$A:$N,DS71,AN$7)))","v":""},{"$f":"IF($E71=\"\",\"\",IF(INDEX(E_SourceStreams!$A:$N,DT71,AO$7)=\"\",\"\",INDEX(E_SourceStreams!$A:$N,DT71,AO$7)))","v":""},{"$f":"IF($E71=\"\",\"\",IF(INDEX(E_SourceStreams!$A:$N,DU71,AP$7)=\"\",\"\",INDEX(E_SourceStreams!$A:$N,DU71,AP$7)))","v":""},{"$f":"IF($E71=\"\",\"\",IF(INDEX(E_SourceStreams!$A:$N,DV71,AQ$7)=\"\",\"\",INDEX(E_SourceStreams!$A:$N,DV71,AQ$7)))","v":""},{"$f":"IF($E71=\"\",\"\",IF(INDEX(E_SourceStreams!$A:$N,DW71,AR$7)=\"\",\"\",INDEX(E_SourceStreams!$A:$N,DW71,AR$7)))","v":""},{"$f":"IF($E71=\"\",\"\",IF(INDEX(E_SourceStreams!$A:$N,DX71,AS$7)=\"\",\"\",INDEX(E_SourceStreams!$A:$N,DX71,AS$7)))","v":""},{"$f":"IF($E71=\"\",\"\",IF(INDEX(E_SourceStreams!$A:$N,DY71,AT$7)=\"\",\"\",INDEX(E_SourceStreams!$A:$N,DY71,AT$7)))","v":""},{"$f":"IF($E71=\"\",\"\",IF(INDEX(E_SourceStreams!$A:$N,DZ71,AU$7)=\"\",\"\",INDEX(E_SourceStreams!$A:$N,DZ71,AU$7)))","v":""},{"$f":"IF($E71=\"\",\"\",IF(INDEX(E_SourceStreams!$A:$N,EA71,AV$7)=\"\",\"\",INDEX(E_SourceStreams!$A:$N,EA71,AV$7)))","v":""},{"$f":"IF($E71=\"\",\"\",IF(INDEX(E_SourceStreams!$A:$N,EB71,AW$7)=\"\",\"\",INDEX(E_SourceStreams!$A:$N,EB71,AW$7)))","v":""},{"$f":"IF($E71=\"\",\"\",IF(INDEX(E_SourceStreams!$A:$N,EC71,AX$7)=\"\",\"\",INDEX(E_SourceStreams!$A:$N,EC71,AX$7)))","v":""},{"$f":"IF($E71=\"\",\"\",IF(INDEX(E_SourceStreams!$A:$N,ED71,AY$7)=\"\",\"\",INDEX(E_SourceStreams!$A:$N,ED71,AY$7)))","v":""},{"$f":"IF($E71=\"\",\"\",IF(INDEX(E_SourceStreams!$A:$N,EE71,AZ$7)=\"\",\"\",INDEX(E_SourceStreams!$A:$N,EE71,AZ$7)))","v":""},{"$f":"IF($E71=\"\",\"\",IF(INDEX(E_SourceStreams!$A:$N,EF71,BA$7)=\"\",\"\",INDEX(E_SourceStreams!$A:$N,EF71,BA$7)))","v":""},{"$f":"IF($E71=\"\",\"\",IF(INDEX(E_SourceStreams!$A:$N,EG71,BB$7)=\"\",\"\",INDEX(E_SourceStreams!$A:$N,EG71,BB$7)))","v":""},{"$f":"IF($E71=\"\",\"\",IF(INDEX(E_SourceStreams!$A:$N,EH71,BC$7)=\"\",\"\",INDEX(E_SourceStreams!$A:$N,EH71,BC$7)))","v":""},{"$f":"IF($E71=\"\",\"\",IF(INDEX(E_SourceStreams!$A:$N,EI71,BD$7)=\"\",\"\",INDEX(E_SourceStreams!$A:$N,EI71,BD$7)))","v":""},{"$f":"IF($E71=\"\",\"\",IF(INDEX(E_SourceStreams!$A:$N,EJ71,BE$7)=\"\",\"\",INDEX(E_SourceStreams!$A:$N,EJ71,BE$7)))","v":""},{"$f":"IF($E71=\"\",\"\",IF(INDEX(E_SourceStreams!$A:$N,EK71,BF$7)=\"\",\"\",INDEX(E_SourceStreams!$A:$N,EK71,BF$7)))","v":""},{"$f":"IF($E71=\"\",\"\",IF(INDEX(E_SourceStreams!$A:$N,EL71,BG$7)=\"\",\"\",INDEX(E_SourceStreams!$A:$N,EL71,BG$7)))","v":""},{"$f":"IF($E71=\"\",\"\",IF(INDEX(E_SourceStreams!$A:$N,EM71,BH$7)=\"\",\"\",INDEX(E_SourceStreams!$A:$N,EM71,BH$7)))","v":""},{"$f":"IF($E71=\"\",\"\",IF(INDEX(E_SourceStreams!$A:$N,EN71,BI$7)=\"\",\"\",INDEX(E_SourceStreams!$A:$N,EN71,BI$7)))","v":""},{"$f":"IF($E71=\"\",\"\",IF(INDEX(E_SourceStreams!$A:$N,EO71,BJ$7)=\"\",\"\",INDEX(E_SourceStreams!$A:$N,EO71,BJ$7)))","v":""},{"$f":"IF($E71=\"\",\"\",IF(INDEX(E_SourceStreams!$A:$N,EP71,BK$7)=\"\",\"\",INDEX(E_SourceStreams!$A:$N,EP71,BK$7)))","v":""},{"$f":"IF($E71=\"\",\"\",IF(INDEX(E_SourceStreams!$A:$N,EQ71,BL$7)=\"\",\"\",INDEX(E_SourceStreams!$A:$N,EQ71,BL$7)))","v":""},{"$f":"IF($E71=\"\",\"\",IF(INDEX(E_SourceStreams!$A:$N,ER71,BM$7)=\"\",\"\",INDEX(E_SourceStreams!$A:$N,ER71,BM$7)))","v":""},{"$f":"IF($E71=\"\",\"\",IF(INDEX(E_SourceStreams!$A:$N,ES71,BN$7)=\"\",\"\",INDEX(E_SourceStreams!$A:$N,ES71,BN$7)))","v":""},{"$f":"IF($E71=\"\",\"\",IF(INDEX(E_SourceStreams!$A:$N,ET71,BO$7)=\"\",\"\",INDEX(E_SourceStreams!$A:$N,ET71,BO$7)))","v":""},{"$f":"IF($E71=\"\",\"\",IF(INDEX(E_SourceStreams!$A:$N,EU71,BP$7)=\"\",\"\",INDEX(E_SourceStreams!$A:$N,EU71,BP$7)))","v":""},{"$f":"IF($E71=\"\",\"\",IF(INDEX(E_SourceStreams!$A:$N,EV71,BQ$7)=\"\",\"\",INDEX(E_SourceStreams!$A:$N,EV71,BQ$7)))","v":""},{"$f":"IF($E71=\"\",\"\",IF(INDEX(E_SourceStreams!$A:$N,EW71,BR$7)=\"\",\"\",INDEX(E_SourceStreams!$A:$N,EW71,BR$7)))","v":""},{"$f":"IF($E71=\"\",\"\",IF(INDEX(E_SourceStreams!$A:$N,EX71,BS$7)=\"\",\"\",INDEX(E_SourceStreams!$A:$N,EX71,BS$7)))","v":""},{"$f":"IF($E71=\"\",\"\",IF(INDEX(E_SourceStreams!$A:$N,EY71,BT$7)=\"\",\"\",INDEX(E_SourceStreams!$A:$N,EY71,BT$7)))","v":""},null,null,null,null,null,null,null,null,null,null,null,null,null,null,null,"SourceCategory_",{"$f":"INDEX(C_InstallationDescription!$A$226:$A$332,ROWS($CI$11:CI71))=\"ausblenden\"","v":true},"SourceStreamName_",null,4093,4095,4097,4099,4101,4103,4105,4105,4105,4105,4105,4108,4112,4113,4114,4121,4131,4131,4131,4131,4131,4131,4131,4122,4132,4132,4132,4132,4132,4132,4132,4123,4133,4133,4133,4133,4133,4133,4133,4124,4134,4134,4134,4134,4134,4134,4134,4125,4135,4135,4135,4135,4135,4135,4135,4126,4136,4136,4136,4136,4136,4136,4136,4142]
[null,{"$f":"IF(COUNTIF($CK$10:CK72,TRUE)>0,\"\",INDEX(C_InstallationDescription!$E$226:$E$242,ROWS($A$11:A72)))","v":""},{"$f":"IF($E72=\"\",\"\",INDEX(C_InstallationDescription!F:F,MATCH($B72,C_InstallationDescription!$E:$E,0)))","v":""},{"$f":"IF($E72=\"\",\"\",INDEX(C_InstallationDescription!I:I,MATCH($B72,C_InstallationDescription!$E:$E,0)))","v":""},{"$f":"IF($B72=\"\",\"\",INDEX(C_InstallationDescription!F:F,MATCH($CJ72,C_InstallationDescription!$Q:$Q,0)))","v":""},{"$f":"IF($E72=\"\",\"\",INDEX(C_InstallationDescription!L:L,MATCH($CJ72,C_InstallationDescription!$Q:$Q,0)))","v":""},{"$f":"IF($E72=\"\",\"\",INDEX(C_InstallationDescription!M:M,MATCH($CJ72,C_InstallationDescription!$Q:$Q,0)))","v":""},{"$f":"IF($E72=\"\",\"\",INDEX(C_InstallationDescription!N:N,MATCH($CJ72,C_InstallationDescription!$Q:$Q,0)))","v":""},{"$f":"IF($E72=\"\",\"\",IF(INDEX(E_SourceStreams!$A:$N,CN72,I$7)=\"\",\"\",INDEX(E_SourceStreams!$A:$N,CN72,I$7)))","v":""},{"$f":"IF($E72=\"\",\"\",IF(INDEX(E_SourceStreams!$A:$N,CO72,J$7)=\"\",\"\",INDEX(E_SourceStreams!$A:$N,CO72,J$7)))","v":""},{"$f":"IF($E72=\"\",\"\",IF(INDEX(E_SourceStreams!$A:$N,CP72,K$7)=\"\",\"\",INDEX(E_SourceStreams!$A:$N,CP72,K$7)))","v":""},{"$f":"IF($E72=\"\",\"\",IF(INDEX(E_SourceStreams!$A:$N,CQ72,L$7)=\"\",\"\",INDEX(E_SourceStreams!$A:$N,CQ72,L$7)))","v":""},{"$f":"IF($E72=\"\",\"\",IF(INDEX(E_SourceStreams!$A:$N,CR72,M$7)=\"\",\"\",INDEX(E_SourceStreams!$A:$N,CR72,M$7)))","v":""},{"$f":"IF($E72=\"\",\"\",IF(INDEX(E_SourceStreams!$A:$N,CS72,N$7)=\"\",\"\",INDEX(E_SourceStreams!$A:$N,CS72,N$7)))","v":""},{"$f":"IF($E72=\"\",\"\",IF(INDEX(E_SourceStreams!$A:$N,CT72,O$7)=\"\",\"\",INDEX(E_SourceStreams!$A:$N,CT72,O$7)))","v":""},{"$f":"IF($E72=\"\",\"\",IF(INDEX(E_SourceStreams!$A:$N,CU72,P$7)=\"\",\"\",INDEX(E_SourceStreams!$A:$N,CU72,P$7)))","v":""},{"$f":"IF($E72=\"\",\"\",IF(INDEX(E_SourceStreams!$A:$N,CV72,Q$7)=\"\",\"\",INDEX(E_SourceStreams!$A:$N,CV72,Q$7)))","v":""},{"$f":"IF($E72=\"\",\"\",IF(INDEX(E_SourceStreams!$A:$N,CW72,R$7)=\"\",\"\",INDEX(E_SourceStreams!$A:$N,CW72,R$7)))","v":""},{"$f":"IF($E72=\"\",\"\",IF(INDEX(E_SourceStreams!$A:$N,CX72,S$7)=\"\",\"\",INDEX(E_SourceStreams!$A:$N,CX72,S$7)))","v":""},{"$f":"IF($E72=\"\",\"\",IF(INDEX(E_SourceStreams!$A:$N,CY72,T$7)=\"\",\"\",INDEX(E_SourceStreams!$A:$N,CY72,T$7)))","v":""},{"$f":"IF($E72=\"\",\"\",IF(INDEX(E_SourceStreams!$A:$N,CZ72,U$7)=\"\",\"\",INDEX(E_SourceStreams!$A:$N,CZ72,U$7)))","v":""},{"$f":"IF($E72=\"\",\"\",IF(INDEX(E_SourceStreams!$A:$N,DA72,V$7)=\"\",\"\",INDEX(E_SourceStreams!$A:$N,DA72,V$7)))","v":""},{"$f":"IF($E72=\"\",\"\",IF(INDEX(E_SourceStreams!$A:$N,DB72,W$7)=\"\",\"\",INDEX(E_SourceStreams!$A:$N,DB72,W$7)))","v":""},{"$f":"IF($E72=\"\",\"\",IF(INDEX(E_SourceStreams!$A:$N,DC72,X$7)=\"\",\"\",INDEX(E_SourceStreams!$A:$N,DC72,X$7)))","v":""},{"$f":"IF($E72=\"\",\"\",IF(INDEX(E_SourceStreams!$A:$N,DD72,Y$7)=\"\",\"\",INDEX(E_SourceStreams!$A:$N,DD72,Y$7)))","v":""},{"$f":"IF($E72=\"\",\"\",IF(INDEX(E_SourceStreams!$A:$N,DE72,Z$7)=\"\",\"\",INDEX(E_SourceStreams!$A:$N,DE72,Z$7)))","v":""},{"$f":"IF($E72=\"\",\"\",IF(INDEX(E_SourceStreams!$A:$N,DF72,AA$7)=\"\",\"\",INDEX(E_SourceStreams!$A:$N,DF72,AA$7)))","v":""},{"$f":"IF($E72=\"\",\"\",IF(INDEX(E_SourceStreams!$A:$N,DG72,AB$7)=\"\",\"\",INDEX(E_SourceStreams!$A:$N,DG72,AB$7)))","v":""},{"$f":"IF($E72=\"\",\"\",IF(INDEX(E_SourceStreams!$A:$N,DH72,AC$7)=\"\",\"\",INDEX(E_SourceStreams!$A:$N,DH72,AC$7)))","v":""},{"$f":"IF($E72=\"\",\"\",IF(INDEX(E_SourceStreams!$A:$N,DI72,AD$7)=\"\",\"\",INDEX(E_SourceStreams!$A:$N,DI72,AD$7)))","v":""},{"$f":"IF($E72=\"\",\"\",IF(INDEX(E_SourceStreams!$A:$N,DJ72,AE$7)=\"\",\"\",INDEX(E_SourceStreams!$A:$N,DJ72,AE$7)))","v":""},{"$f":"IF($E72=\"\",\"\",IF(INDEX(E_SourceStreams!$A:$N,DK72,AF$7)=\"\",\"\",INDEX(E_SourceStreams!$A:$N,DK72,AF$7)))","v":""},{"$f":"IF($E72=\"\",\"\",IF(INDEX(E_SourceStreams!$A:$N,DL72,AG$7)=\"\",\"\",INDEX(E_SourceStreams!$A:$N,DL72,AG$7)))","v":""},{"$f":"IF($E72=\"\",\"\",IF(INDEX(E_SourceStreams!$A:$N,DM72,AH$7)=\"\",\"\",INDEX(E_SourceStreams!$A:$N,DM72,AH$7)))","v":""},{"$f":"IF($E72=\"\",\"\",IF(INDEX(E_SourceStreams!$A:$N,DN72,AI$7)=\"\",\"\",INDEX(E_SourceStreams!$A:$N,DN72,AI$7)))","v":""},{"$f":"IF($E72=\"\",\"\",IF(INDEX(E_SourceStreams!$A:$N,DO72,AJ$7)=\"\",\"\",INDEX(E_SourceStreams!$A:$N,DO72,AJ$7)))","v":""},{"$f":"IF($E72=\"\",\"\",IF(INDEX(E_SourceStreams!$A:$N,DP72,AK$7)=\"\",\"\",INDEX(E_SourceStreams!$A:$N,DP72,AK$7)))","v":""},{"$f":"IF($E72=\"\",\"\",IF(INDEX(E_SourceStreams!$A:$N,DQ72,AL$7)=\"\",\"\",INDEX(E_SourceStreams!$A:$N,DQ72,AL$7)))","v":""},{"$f":"IF($E72=\"\",\"\",IF(INDEX(E_SourceStreams!$A:$N,DR72,AM$7)=\"\",\"\",INDEX(E_SourceStreams!$A:$N,DR72,AM$7)))","v":""},{"$f":"IF($E72=\"\",\"\",IF(INDEX(E_SourceStreams!$A:$N,DS72,AN$7)=\"\",\"\",INDEX(E_SourceStreams!$A:$N,DS72,AN$7)))","v":""},{"$f":"IF($E72=\"\",\"\",IF(INDEX(E_SourceStreams!$A:$N,DT72,AO$7)=\"\",\"\",INDEX(E_SourceStreams!$A:$N,DT72,AO$7)))","v":""},{"$f":"IF($E72=\"\",\"\",IF(INDEX(E_SourceStreams!$A:$N,DU72,AP$7)=\"\",\"\",INDEX(E_SourceStreams!$A:$N,DU72,AP$7)))","v":""},{"$f":"IF($E72=\"\",\"\",IF(INDEX(E_SourceStreams!$A:$N,DV72,AQ$7)=\"\",\"\",INDEX(E_SourceStreams!$A:$N,DV72,AQ$7)))","v":""},{"$f":"IF($E72=\"\",\"\",IF(INDEX(E_SourceStreams!$A:$N,DW72,AR$7)=\"\",\"\",INDEX(E_SourceStreams!$A:$N,DW72,AR$7)))","v":""},{"$f":"IF($E72=\"\",\"\",IF(INDEX(E_SourceStreams!$A:$N,DX72,AS$7)=\"\",\"\",INDEX(E_SourceStreams!$A:$N,DX72,AS$7)))","v":""},{"$f":"IF($E72=\"\",\"\",IF(INDEX(E_SourceStreams!$A:$N,DY72,AT$7)=\"\",\"\",INDEX(E_SourceStreams!$A:$N,DY72,AT$7)))","v":""},{"$f":"IF($E72=\"\",\"\",IF(INDEX(E_SourceStreams!$A:$N,DZ72,AU$7)=\"\",\"\",INDEX(E_SourceStreams!$A:$N,DZ72,AU$7)))","v":""},{"$f":"IF($E72=\"\",\"\",IF(INDEX(E_SourceStreams!$A:$N,EA72,AV$7)=\"\",\"\",INDEX(E_SourceStreams!$A:$N,EA72,AV$7)))","v":""},{"$f":"IF($E72=\"\",\"\",IF(INDEX(E_SourceStreams!$A:$N,EB72,AW$7)=\"\",\"\",INDEX(E_SourceStreams!$A:$N,EB72,AW$7)))","v":""},{"$f":"IF($E72=\"\",\"\",IF(INDEX(E_SourceStreams!$A:$N,EC72,AX$7)=\"\",\"\",INDEX(E_SourceStreams!$A:$N,EC72,AX$7)))","v":""},{"$f":"IF($E72=\"\",\"\",IF(INDEX(E_SourceStreams!$A:$N,ED72,AY$7)=\"\",\"\",INDEX(E_SourceStreams!$A:$N,ED72,AY$7)))","v":""},{"$f":"IF($E72=\"\",\"\",IF(INDEX(E_SourceStreams!$A:$N,EE72,AZ$7)=\"\",\"\",INDEX(E_SourceStreams!$A:$N,EE72,AZ$7)))","v":""},{"$f":"IF($E72=\"\",\"\",IF(INDEX(E_SourceStreams!$A:$N,EF72,BA$7)=\"\",\"\",INDEX(E_SourceStreams!$A:$N,EF72,BA$7)))","v":""},{"$f":"IF($E72=\"\",\"\",IF(INDEX(E_SourceStreams!$A:$N,EG72,BB$7)=\"\",\"\",INDEX(E_SourceStreams!$A:$N,EG72,BB$7)))","v":""},{"$f":"IF($E72=\"\",\"\",IF(INDEX(E_SourceStreams!$A:$N,EH72,BC$7)=\"\",\"\",INDEX(E_SourceStreams!$A:$N,EH72,BC$7)))","v":""},{"$f":"IF($E72=\"\",\"\",IF(INDEX(E_SourceStreams!$A:$N,EI72,BD$7)=\"\",\"\",INDEX(E_SourceStreams!$A:$N,EI72,BD$7)))","v":""},{"$f":"IF($E72=\"\",\"\",IF(INDEX(E_SourceStreams!$A:$N,EJ72,BE$7)=\"\",\"\",INDEX(E_SourceStreams!$A:$N,EJ72,BE$7)))","v":""},{"$f":"IF($E72=\"\",\"\",IF(INDEX(E_SourceStreams!$A:$N,EK72,BF$7)=\"\",\"\",INDEX(E_SourceStreams!$A:$N,EK72,BF$7)))","v":""},{"$f":"IF($E72=\"\",\"\",IF(INDEX(E_SourceStreams!$A:$N,EL72,BG$7)=\"\",\"\",INDEX(E_SourceStreams!$A:$N,EL72,BG$7)))","v":""},{"$f":"IF($E72=\"\",\"\",IF(INDEX(E_SourceStreams!$A:$N,EM72,BH$7)=\"\",\"\",INDEX(E_SourceStreams!$A:$N,EM72,BH$7)))","v":""},{"$f":"IF($E72=\"\",\"\",IF(INDEX(E_SourceStreams!$A:$N,EN72,BI$7)=\"\",\"\",INDEX(E_SourceStreams!$A:$N,EN72,BI$7)))","v":""},{"$f":"IF($E72=\"\",\"\",IF(INDEX(E_SourceStreams!$A:$N,EO72,BJ$7)=\"\",\"\",INDEX(E_SourceStreams!$A:$N,EO72,BJ$7)))","v":""},{"$f":"IF($E72=\"\",\"\",IF(INDEX(E_SourceStreams!$A:$N,EP72,BK$7)=\"\",\"\",INDEX(E_SourceStreams!$A:$N,EP72,BK$7)))","v":""},{"$f":"IF($E72=\"\",\"\",IF(INDEX(E_SourceStreams!$A:$N,EQ72,BL$7)=\"\",\"\",INDEX(E_SourceStreams!$A:$N,EQ72,BL$7)))","v":""},{"$f":"IF($E72=\"\",\"\",IF(INDEX(E_SourceStreams!$A:$N,ER72,BM$7)=\"\",\"\",INDEX(E_SourceStreams!$A:$N,ER72,BM$7)))","v":""},{"$f":"IF($E72=\"\",\"\",IF(INDEX(E_SourceStreams!$A:$N,ES72,BN$7)=\"\",\"\",INDEX(E_SourceStreams!$A:$N,ES72,BN$7)))","v":""},{"$f":"IF($E72=\"\",\"\",IF(INDEX(E_SourceStreams!$A:$N,ET72,BO$7)=\"\",\"\",INDEX(E_SourceStreams!$A:$N,ET72,BO$7)))","v":""},{"$f":"IF($E72=\"\",\"\",IF(INDEX(E_SourceStreams!$A:$N,EU72,BP$7)=\"\",\"\",INDEX(E_SourceStreams!$A:$N,EU72,BP$7)))","v":""},{"$f":"IF($E72=\"\",\"\",IF(INDEX(E_SourceStreams!$A:$N,EV72,BQ$7)=\"\",\"\",INDEX(E_SourceStreams!$A:$N,EV72,BQ$7)))","v":""},{"$f":"IF($E72=\"\",\"\",IF(INDEX(E_SourceStreams!$A:$N,EW72,BR$7)=\"\",\"\",INDEX(E_SourceStreams!$A:$N,EW72,BR$7)))","v":""},{"$f":"IF($E72=\"\",\"\",IF(INDEX(E_SourceStreams!$A:$N,EX72,BS$7)=\"\",\"\",INDEX(E_SourceStreams!$A:$N,EX72,BS$7)))","v":""},{"$f":"IF($E72=\"\",\"\",IF(INDEX(E_SourceStreams!$A:$N,EY72,BT$7)=\"\",\"\",INDEX(E_SourceStreams!$A:$N,EY72,BT$7)))","v":""},null,null,null,null,null,null,null,null,null,null,null,null,null,null,null,"SourceCategory_",{"$f":"INDEX(C_InstallationDescription!$A$226:$A$332,ROWS($CI$11:CI72))=\"ausblenden\"","v":true},"SourceStreamName_",null,4159,4161,4163,4165,4167,4169,4171,4171,4171,4171,4171,4174,4178,4179,4180,4187,4197,4197,4197,4197,4197,4197,4197,4188,4198,4198,4198,4198,4198,4198,4198,4189,4199,4199,4199,4199,4199,4199,4199,4190,4200,4200,4200,4200,4200,4200,4200,4191,4201,4201,4201,4201,4201,4201,4201,4192,4202,4202,4202,4202,4202,4202,4202,4208]
[null,{"$f":"IF(COUNTIF($CK$10:CK73,TRUE)>0,\"\",INDEX(C_InstallationDescription!$E$226:$E$242,ROWS($A$11:A73)))","v":""},{"$f":"IF($E73=\"\",\"\",INDEX(C_InstallationDescription!F:F,MATCH($B73,C_InstallationDescription!$E:$E,0)))","v":""},{"$f":"IF($E73=\"\",\"\",INDEX(C_InstallationDescription!I:I,MATCH($B73,C_InstallationDescription!$E:$E,0)))","v":""},{"$f":"IF($B73=\"\",\"\",INDEX(C_InstallationDescription!F:F,MATCH($CJ73,C_InstallationDescription!$Q:$Q,0)))","v":""},{"$f":"IF($E73=\"\",\"\",INDEX(C_InstallationDescription!L:L,MATCH($CJ73,C_InstallationDescription!$Q:$Q,0)))","v":""},{"$f":"IF($E73=\"\",\"\",INDEX(C_InstallationDescription!M:M,MATCH($CJ73,C_InstallationDescription!$Q:$Q,0)))","v":""},{"$f":"IF($E73=\"\",\"\",INDEX(C_InstallationDescription!N:N,MATCH($CJ73,C_InstallationDescription!$Q:$Q,0)))","v":""},{"$f":"IF($E73=\"\",\"\",IF(INDEX(E_SourceStreams!$A:$N,CN73,I$7)=\"\",\"\",INDEX(E_SourceStreams!$A:$N,CN73,I$7)))","v":""},{"$f":"IF($E73=\"\",\"\",IF(INDEX(E_SourceStreams!$A:$N,CO73,J$7)=\"\",\"\",INDEX(E_SourceStreams!$A:$N,CO73,J$7)))","v":""},{"$f":"IF($E73=\"\",\"\",IF(INDEX(E_SourceStreams!$A:$N,CP73,K$7)=\"\",\"\",INDEX(E_SourceStreams!$A:$N,CP73,K$7)))","v":""},{"$f":"IF($E73=\"\",\"\",IF(INDEX(E_SourceStreams!$A:$N,CQ73,L$7)=\"\",\"\",INDEX(E_SourceStreams!$A:$N,CQ73,L$7)))","v":""},{"$f":"IF($E73=\"\",\"\",IF(INDEX(E_SourceStreams!$A:$N,CR73,M$7)=\"\",\"\",INDEX(E_SourceStreams!$A:$N,CR73,M$7)))","v":""},{"$f":"IF($E73=\"\",\"\",IF(INDEX(E_SourceStreams!$A:$N,CS73,N$7)=\"\",\"\",INDEX(E_SourceStreams!$A:$N,CS73,N$7)))","v":""},{"$f":"IF($E73=\"\",\"\",IF(INDEX(E_SourceStreams!$A:$N,CT73,O$7)=\"\",\"\",INDEX(E_SourceStreams!$A:$N,CT73,O$7)))","v":""},{"$f":"IF($E73=\"\",\"\",IF(INDEX(E_SourceStreams!$A:$N,CU73,P$7)=\"\",\"\",INDEX(E_SourceStreams!$A:$N,CU73,P$7)))","v":""},{"$f":"IF($E73=\"\",\"\",IF(INDEX(E_SourceStreams!$A:$N,CV73,Q$7)=\"\",\"\",INDEX(E_SourceStreams!$A:$N,CV73,Q$7)))","v":""},{"$f":"IF($E73=\"\",\"\",IF(INDEX(E_SourceStreams!$A:$N,CW73,R$7)=\"\",\"\",INDEX(E_SourceStreams!$A:$N,CW73,R$7)))","v":""},{"$f":"IF($E73=\"\",\"\",IF(INDEX(E_SourceStreams!$A:$N,CX73,S$7)=\"\",\"\",INDEX(E_SourceStreams!$A:$N,CX73,S$7)))","v":""},{"$f":"IF($E73=\"\",\"\",IF(INDEX(E_SourceStreams!$A:$N,CY73,T$7)=\"\",\"\",INDEX(E_SourceStreams!$A:$N,CY73,T$7)))","v":""},{"$f":"IF($E73=\"\",\"\",IF(INDEX(E_SourceStreams!$A:$N,CZ73,U$7)=\"\",\"\",INDEX(E_SourceStreams!$A:$N,CZ73,U$7)))","v":""},{"$f":"IF($E73=\"\",\"\",IF(INDEX(E_SourceStreams!$A:$N,DA73,V$7)=\"\",\"\",INDEX(E_SourceStreams!$A:$N,DA73,V$7)))","v":""},{"$f":"IF($E73=\"\",\"\",IF(INDEX(E_SourceStreams!$A:$N,DB73,W$7)=\"\",\"\",INDEX(E_SourceStreams!$A:$N,DB73,W$7)))","v":""},{"$f":"IF($E73=\"\",\"\",IF(INDEX(E_SourceStreams!$A:$N,DC73,X$7)=\"\",\"\",INDEX(E_SourceStreams!$A:$N,DC73,X$7)))","v":""},{"$f":"IF($E73=\"\",\"\",IF(INDEX(E_SourceStreams!$A:$N,DD73,Y$7)=\"\",\"\",INDEX(E_SourceStreams!$A:$N,DD73,Y$7)))","v":""},{"$f":"IF($E73=\"\",\"\",IF(INDEX(E_SourceStreams!$A:$N,DE73,Z$7)=\"\",\"\",INDEX(E_SourceStreams!$A:$N,DE73,Z$7)))","v":""},{"$f":"IF($E73=\"\",\"\",IF(INDEX(E_SourceStreams!$A:$N,DF73,AA$7)=\"\",\"\",INDEX(E_SourceStreams!$A:$N,DF73,AA$7)))","v":""},{"$f":"IF($E73=\"\",\"\",IF(INDEX(E_SourceStreams!$A:$N,DG73,AB$7)=\"\",\"\",INDEX(E_SourceStreams!$A:$N,DG73,AB$7)))","v":""},{"$f":"IF($E73=\"\",\"\",IF(INDEX(E_SourceStreams!$A:$N,DH73,AC$7)=\"\",\"\",INDEX(E_SourceStreams!$A:$N,DH73,AC$7)))","v":""},{"$f":"IF($E73=\"\",\"\",IF(INDEX(E_SourceStreams!$A:$N,DI73,AD$7)=\"\",\"\",INDEX(E_SourceStreams!$A:$N,DI73,AD$7)))","v":""},{"$f":"IF($E73=\"\",\"\",IF(INDEX(E_SourceStreams!$A:$N,DJ73,AE$7)=\"\",\"\",INDEX(E_SourceStreams!$A:$N,DJ73,AE$7)))","v":""},{"$f":"IF($E73=\"\",\"\",IF(INDEX(E_SourceStreams!$A:$N,DK73,AF$7)=\"\",\"\",INDEX(E_SourceStreams!$A:$N,DK73,AF$7)))","v":""},{"$f":"IF($E73=\"\",\"\",IF(INDEX(E_SourceStreams!$A:$N,DL73,AG$7)=\"\",\"\",INDEX(E_SourceStreams!$A:$N,DL73,AG$7)))","v":""},{"$f":"IF($E73=\"\",\"\",IF(INDEX(E_SourceStreams!$A:$N,DM73,AH$7)=\"\",\"\",INDEX(E_SourceStreams!$A:$N,DM73,AH$7)))","v":""},{"$f":"IF($E73=\"\",\"\",IF(INDEX(E_SourceStreams!$A:$N,DN73,AI$7)=\"\",\"\",INDEX(E_SourceStreams!$A:$N,DN73,AI$7)))","v":""},{"$f":"IF($E73=\"\",\"\",IF(INDEX(E_SourceStreams!$A:$N,DO73,AJ$7)=\"\",\"\",INDEX(E_SourceStreams!$A:$N,DO73,AJ$7)))","v":""},{"$f":"IF($E73=\"\",\"\",IF(INDEX(E_SourceStreams!$A:$N,DP73,AK$7)=\"\",\"\",INDEX(E_SourceStreams!$A:$N,DP73,AK$7)))","v":""},{"$f":"IF($E73=\"\",\"\",IF(INDEX(E_SourceStreams!$A:$N,DQ73,AL$7)=\"\",\"\",INDEX(E_SourceStreams!$A:$N,DQ73,AL$7)))","v":""},{"$f":"IF($E73=\"\",\"\",IF(INDEX(E_SourceStreams!$A:$N,DR73,AM$7)=\"\",\"\",INDEX(E_SourceStreams!$A:$N,DR73,AM$7)))","v":""},{"$f":"IF($E73=\"\",\"\",IF(INDEX(E_SourceStreams!$A:$N,DS73,AN$7)=\"\",\"\",INDEX(E_SourceStreams!$A:$N,DS73,AN$7)))","v":""},{"$f":"IF($E73=\"\",\"\",IF(INDEX(E_SourceStreams!$A:$N,DT73,AO$7)=\"\",\"\",INDEX(E_SourceStreams!$A:$N,DT73,AO$7)))","v":""},{"$f":"IF($E73=\"\",\"\",IF(INDEX(E_SourceStreams!$A:$N,DU73,AP$7)=\"\",\"\",INDEX(E_SourceStreams!$A:$N,DU73,AP$7)))","v":""},{"$f":"IF($E73=\"\",\"\",IF(INDEX(E_SourceStreams!$A:$N,DV73,AQ$7)=\"\",\"\",INDEX(E_SourceStreams!$A:$N,DV73,AQ$7)))","v":""},{"$f":"IF($E73=\"\",\"\",IF(INDEX(E_SourceStreams!$A:$N,DW73,AR$7)=\"\",\"\",INDEX(E_SourceStreams!$A:$N,DW73,AR$7)))","v":""},{"$f":"IF($E73=\"\",\"\",IF(INDEX(E_SourceStreams!$A:$N,DX73,AS$7)=\"\",\"\",INDEX(E_SourceStreams!$A:$N,DX73,AS$7)))","v":""},{"$f":"IF($E73=\"\",\"\",IF(INDEX(E_SourceStreams!$A:$N,DY73,AT$7)=\"\",\"\",INDEX(E_SourceStreams!$A:$N,DY73,AT$7)))","v":""},{"$f":"IF($E73=\"\",\"\",IF(INDEX(E_SourceStreams!$A:$N,DZ73,AU$7)=\"\",\"\",INDEX(E_SourceStreams!$A:$N,DZ73,AU$7)))","v":""},{"$f":"IF($E73=\"\",\"\",IF(INDEX(E_SourceStreams!$A:$N,EA73,AV$7)=\"\",\"\",INDEX(E_SourceStreams!$A:$N,EA73,AV$7)))","v":""},{"$f":"IF($E73=\"\",\"\",IF(INDEX(E_SourceStreams!$A:$N,EB73,AW$7)=\"\",\"\",INDEX(E_SourceStreams!$A:$N,EB73,AW$7)))","v":""},{"$f":"IF($E73=\"\",\"\",IF(INDEX(E_SourceStreams!$A:$N,EC73,AX$7)=\"\",\"\",INDEX(E_SourceStreams!$A:$N,EC73,AX$7)))","v":""},{"$f":"IF($E73=\"\",\"\",IF(INDEX(E_SourceStreams!$A:$N,ED73,AY$7)=\"\",\"\",INDEX(E_SourceStreams!$A:$N,ED73,AY$7)))","v":""},{"$f":"IF($E73=\"\",\"\",IF(INDEX(E_SourceStreams!$A:$N,EE73,AZ$7)=\"\",\"\",INDEX(E_SourceStreams!$A:$N,EE73,AZ$7)))","v":""},{"$f":"IF($E73=\"\",\"\",IF(INDEX(E_SourceStreams!$A:$N,EF73,BA$7)=\"\",\"\",INDEX(E_SourceStreams!$A:$N,EF73,BA$7)))","v":""},{"$f":"IF($E73=\"\",\"\",IF(INDEX(E_SourceStreams!$A:$N,EG73,BB$7)=\"\",\"\",INDEX(E_SourceStreams!$A:$N,EG73,BB$7)))","v":""},{"$f":"IF($E73=\"\",\"\",IF(INDEX(E_SourceStreams!$A:$N,EH73,BC$7)=\"\",\"\",INDEX(E_SourceStreams!$A:$N,EH73,BC$7)))","v":""},{"$f":"IF($E73=\"\",\"\",IF(INDEX(E_SourceStreams!$A:$N,EI73,BD$7)=\"\",\"\",INDEX(E_SourceStreams!$A:$N,EI73,BD$7)))","v":""},{"$f":"IF($E73=\"\",\"\",IF(INDEX(E_SourceStreams!$A:$N,EJ73,BE$7)=\"\",\"\",INDEX(E_SourceStreams!$A:$N,EJ73,BE$7)))","v":""},{"$f":"IF($E73=\"\",\"\",IF(INDEX(E_SourceStreams!$A:$N,EK73,BF$7)=\"\",\"\",INDEX(E_SourceStreams!$A:$N,EK73,BF$7)))","v":""},{"$f":"IF($E73=\"\",\"\",IF(INDEX(E_SourceStreams!$A:$N,EL73,BG$7)=\"\",\"\",INDEX(E_SourceStreams!$A:$N,EL73,BG$7)))","v":""},{"$f":"IF($E73=\"\",\"\",IF(INDEX(E_SourceStreams!$A:$N,EM73,BH$7)=\"\",\"\",INDEX(E_SourceStreams!$A:$N,EM73,BH$7)))","v":""},{"$f":"IF($E73=\"\",\"\",IF(INDEX(E_SourceStreams!$A:$N,EN73,BI$7)=\"\",\"\",INDEX(E_SourceStreams!$A:$N,EN73,BI$7)))","v":""},{"$f":"IF($E73=\"\",\"\",IF(INDEX(E_SourceStreams!$A:$N,EO73,BJ$7)=\"\",\"\",INDEX(E_SourceStreams!$A:$N,EO73,BJ$7)))","v":""},{"$f":"IF($E73=\"\",\"\",IF(INDEX(E_SourceStreams!$A:$N,EP73,BK$7)=\"\",\"\",INDEX(E_SourceStreams!$A:$N,EP73,BK$7)))","v":""},{"$f":"IF($E73=\"\",\"\",IF(INDEX(E_SourceStreams!$A:$N,EQ73,BL$7)=\"\",\"\",INDEX(E_SourceStreams!$A:$N,EQ73,BL$7)))","v":""},{"$f":"IF($E73=\"\",\"\",IF(INDEX(E_SourceStreams!$A:$N,ER73,BM$7)=\"\",\"\",INDEX(E_SourceStreams!$A:$N,ER73,BM$7)))","v":""},{"$f":"IF($E73=\"\",\"\",IF(INDEX(E_SourceStreams!$A:$N,ES73,BN$7)=\"\",\"\",INDEX(E_SourceStreams!$A:$N,ES73,BN$7)))","v":""},{"$f":"IF($E73=\"\",\"\",IF(INDEX(E_SourceStreams!$A:$N,ET73,BO$7)=\"\",\"\",INDEX(E_SourceStreams!$A:$N,ET73,BO$7)))","v":""},{"$f":"IF($E73=\"\",\"\",IF(INDEX(E_SourceStreams!$A:$N,EU73,BP$7)=\"\",\"\",INDEX(E_SourceStreams!$A:$N,EU73,BP$7)))","v":""},{"$f":"IF($E73=\"\",\"\",IF(INDEX(E_SourceStreams!$A:$N,EV73,BQ$7)=\"\",\"\",INDEX(E_SourceStreams!$A:$N,EV73,BQ$7)))","v":""},{"$f":"IF($E73=\"\",\"\",IF(INDEX(E_SourceStreams!$A:$N,EW73,BR$7)=\"\",\"\",INDEX(E_SourceStreams!$A:$N,EW73,BR$7)))","v":""},{"$f":"IF($E73=\"\",\"\",IF(INDEX(E_SourceStreams!$A:$N,EX73,BS$7)=\"\",\"\",INDEX(E_SourceStreams!$A:$N,EX73,BS$7)))","v":""},{"$f":"IF($E73=\"\",\"\",IF(INDEX(E_SourceStreams!$A:$N,EY73,BT$7)=\"\",\"\",INDEX(E_SourceStreams!$A:$N,EY73,BT$7)))","v":""},null,null,null,null,null,null,null,null,null,null,null,null,null,null,null,"SourceCategory_",{"$f":"INDEX(C_InstallationDescription!$A$226:$A$332,ROWS($CI$11:CI73))=\"ausblenden\"","v":true},"SourceStreamName_",null,4225,4227,4229,4231,4233,4235,4237,4237,4237,4237,4237,4240,4244,4245,4246,4253,4263,4263,4263,4263,4263,4263,4263,4254,4264,4264,4264,4264,4264,4264,4264,4255,4265,4265,4265,4265,4265,4265,4265,4256,4266,4266,4266,4266,4266,4266,4266,4257,4267,4267,4267,4267,4267,4267,4267,4258,4268,4268,4268,4268,4268,4268,4268,4274]
[null,{"$f":"IF(COUNTIF($CK$10:CK74,TRUE)>0,\"\",INDEX(C_InstallationDescription!$E$226:$E$242,ROWS($A$11:A74)))","v":""},{"$f":"IF($E74=\"\",\"\",INDEX(C_InstallationDescription!F:F,MATCH($B74,C_InstallationDescription!$E:$E,0)))","v":""},{"$f":"IF($E74=\"\",\"\",INDEX(C_InstallationDescription!I:I,MATCH($B74,C_InstallationDescription!$E:$E,0)))","v":""},{"$f":"IF($B74=\"\",\"\",INDEX(C_InstallationDescription!F:F,MATCH($CJ74,C_InstallationDescription!$Q:$Q,0)))","v":""},{"$f":"IF($E74=\"\",\"\",INDEX(C_InstallationDescription!L:L,MATCH($CJ74,C_InstallationDescription!$Q:$Q,0)))","v":""},{"$f":"IF($E74=\"\",\"\",INDEX(C_InstallationDescription!M:M,MATCH($CJ74,C_InstallationDescription!$Q:$Q,0)))","v":""},{"$f":"IF($E74=\"\",\"\",INDEX(C_InstallationDescription!N:N,MATCH($CJ74,C_InstallationDescription!$Q:$Q,0)))","v":""},{"$f":"IF($E74=\"\",\"\",IF(INDEX(E_SourceStreams!$A:$N,CN74,I$7)=\"\",\"\",INDEX(E_SourceStreams!$A:$N,CN74,I$7)))","v":""},{"$f":"IF($E74=\"\",\"\",IF(INDEX(E_SourceStreams!$A:$N,CO74,J$7)=\"\",\"\",INDEX(E_SourceStreams!$A:$N,CO74,J$7)))","v":""},{"$f":"IF($E74=\"\",\"\",IF(INDEX(E_SourceStreams!$A:$N,CP74,K$7)=\"\",\"\",INDEX(E_SourceStreams!$A:$N,CP74,K$7)))","v":""},{"$f":"IF($E74=\"\",\"\",IF(INDEX(E_SourceStreams!$A:$N,CQ74,L$7)=\"\",\"\",INDEX(E_SourceStreams!$A:$N,CQ74,L$7)))","v":""},{"$f":"IF($E74=\"\",\"\",IF(INDEX(E_SourceStreams!$A:$N,CR74,M$7)=\"\",\"\",INDEX(E_SourceStreams!$A:$N,CR74,M$7)))","v":""},{"$f":"IF($E74=\"\",\"\",IF(INDEX(E_SourceStreams!$A:$N,CS74,N$7)=\"\",\"\",INDEX(E_SourceStreams!$A:$N,CS74,N$7)))","v":""},{"$f":"IF($E74=\"\",\"\",IF(INDEX(E_SourceStreams!$A:$N,CT74,O$7)=\"\",\"\",INDEX(E_SourceStreams!$A:$N,CT74,O$7)))","v":""},{"$f":"IF($E74=\"\",\"\",IF(INDEX(E_SourceStreams!$A:$N,CU74,P$7)=\"\",\"\",INDEX(E_SourceStreams!$A:$N,CU74,P$7)))","v":""},{"$f":"IF($E74=\"\",\"\",IF(INDEX(E_SourceStreams!$A:$N,CV74,Q$7)=\"\",\"\",INDEX(E_SourceStreams!$A:$N,CV74,Q$7)))","v":""},{"$f":"IF($E74=\"\",\"\",IF(INDEX(E_SourceStreams!$A:$N,CW74,R$7)=\"\",\"\",INDEX(E_SourceStreams!$A:$N,CW74,R$7)))","v":""},{"$f":"IF($E74=\"\",\"\",IF(INDEX(E_SourceStreams!$A:$N,CX74,S$7)=\"\",\"\",INDEX(E_SourceStreams!$A:$N,CX74,S$7)))","v":""},{"$f":"IF($E74=\"\",\"\",IF(INDEX(E_SourceStreams!$A:$N,CY74,T$7)=\"\",\"\",INDEX(E_SourceStreams!$A:$N,CY74,T$7)))","v":""},{"$f":"IF($E74=\"\",\"\",IF(INDEX(E_SourceStreams!$A:$N,CZ74,U$7)=\"\",\"\",INDEX(E_SourceStreams!$A:$N,CZ74,U$7)))","v":""},{"$f":"IF($E74=\"\",\"\",IF(INDEX(E_SourceStreams!$A:$N,DA74,V$7)=\"\",\"\",INDEX(E_SourceStreams!$A:$N,DA74,V$7)))","v":""},{"$f":"IF($E74=\"\",\"\",IF(INDEX(E_SourceStreams!$A:$N,DB74,W$7)=\"\",\"\",INDEX(E_SourceStreams!$A:$N,DB74,W$7)))","v":""},{"$f":"IF($E74=\"\",\"\",IF(INDEX(E_SourceStreams!$A:$N,DC74,X$7)=\"\",\"\",INDEX(E_SourceStreams!$A:$N,DC74,X$7)))","v":""},{"$f":"IF($E74=\"\",\"\",IF(INDEX(E_SourceStreams!$A:$N,DD74,Y$7)=\"\",\"\",INDEX(E_SourceStreams!$A:$N,DD74,Y$7)))","v":""},{"$f":"IF($E74=\"\",\"\",IF(INDEX(E_SourceStreams!$A:$N,DE74,Z$7)=\"\",\"\",INDEX(E_SourceStreams!$A:$N,DE74,Z$7)))","v":""},{"$f":"IF($E74=\"\",\"\",IF(INDEX(E_SourceStreams!$A:$N,DF74,AA$7)=\"\",\"\",INDEX(E_SourceStreams!$A:$N,DF74,AA$7)))","v":""},{"$f":"IF($E74=\"\",\"\",IF(INDEX(E_SourceStreams!$A:$N,DG74,AB$7)=\"\",\"\",INDEX(E_SourceStreams!$A:$N,DG74,AB$7)))","v":""},{"$f":"IF($E74=\"\",\"\",IF(INDEX(E_SourceStreams!$A:$N,DH74,AC$7)=\"\",\"\",INDEX(E_SourceStreams!$A:$N,DH74,AC$7)))","v":""},{"$f":"IF($E74=\"\",\"\",IF(INDEX(E_SourceStreams!$A:$N,DI74,AD$7)=\"\",\"\",INDEX(E_SourceStreams!$A:$N,DI74,AD$7)))","v":""},{"$f":"IF($E74=\"\",\"\",IF(INDEX(E_SourceStreams!$A:$N,DJ74,AE$7)=\"\",\"\",INDEX(E_SourceStreams!$A:$N,DJ74,AE$7)))","v":""},{"$f":"IF($E74=\"\",\"\",IF(INDEX(E_SourceStreams!$A:$N,DK74,AF$7)=\"\",\"\",INDEX(E_SourceStreams!$A:$N,DK74,AF$7)))","v":""},{"$f":"IF($E74=\"\",\"\",IF(INDEX(E_SourceStreams!$A:$N,DL74,AG$7)=\"\",\"\",INDEX(E_SourceStreams!$A:$N,DL74,AG$7)))","v":""},{"$f":"IF($E74=\"\",\"\",IF(INDEX(E_SourceStreams!$A:$N,DM74,AH$7)=\"\",\"\",INDEX(E_SourceStreams!$A:$N,DM74,AH$7)))","v":""},{"$f":"IF($E74=\"\",\"\",IF(INDEX(E_SourceStreams!$A:$N,DN74,AI$7)=\"\",\"\",INDEX(E_SourceStreams!$A:$N,DN74,AI$7)))","v":""},{"$f":"IF($E74=\"\",\"\",IF(INDEX(E_SourceStreams!$A:$N,DO74,AJ$7)=\"\",\"\",INDEX(E_SourceStreams!$A:$N,DO74,AJ$7)))","v":""},{"$f":"IF($E74=\"\",\"\",IF(INDEX(E_SourceStreams!$A:$N,DP74,AK$7)=\"\",\"\",INDEX(E_SourceStreams!$A:$N,DP74,AK$7)))","v":""},{"$f":"IF($E74=\"\",\"\",IF(INDEX(E_SourceStreams!$A:$N,DQ74,AL$7)=\"\",\"\",INDEX(E_SourceStreams!$A:$N,DQ74,AL$7)))","v":""},{"$f":"IF($E74=\"\",\"\",IF(INDEX(E_SourceStreams!$A:$N,DR74,AM$7)=\"\",\"\",INDEX(E_SourceStreams!$A:$N,DR74,AM$7)))","v":""},{"$f":"IF($E74=\"\",\"\",IF(INDEX(E_SourceStreams!$A:$N,DS74,AN$7)=\"\",\"\",INDEX(E_SourceStreams!$A:$N,DS74,AN$7)))","v":""},{"$f":"IF($E74=\"\",\"\",IF(INDEX(E_SourceStreams!$A:$N,DT74,AO$7)=\"\",\"\",INDEX(E_SourceStreams!$A:$N,DT74,AO$7)))","v":""},{"$f":"IF($E74=\"\",\"\",IF(INDEX(E_SourceStreams!$A:$N,DU74,AP$7)=\"\",\"\",INDEX(E_SourceStreams!$A:$N,DU74,AP$7)))","v":""},{"$f":"IF($E74=\"\",\"\",IF(INDEX(E_SourceStreams!$A:$N,DV74,AQ$7)=\"\",\"\",INDEX(E_SourceStreams!$A:$N,DV74,AQ$7)))","v":""},{"$f":"IF($E74=\"\",\"\",IF(INDEX(E_SourceStreams!$A:$N,DW74,AR$7)=\"\",\"\",INDEX(E_SourceStreams!$A:$N,DW74,AR$7)))","v":""},{"$f":"IF($E74=\"\",\"\",IF(INDEX(E_SourceStreams!$A:$N,DX74,AS$7)=\"\",\"\",INDEX(E_SourceStreams!$A:$N,DX74,AS$7)))","v":""},{"$f":"IF($E74=\"\",\"\",IF(INDEX(E_SourceStreams!$A:$N,DY74,AT$7)=\"\",\"\",INDEX(E_SourceStreams!$A:$N,DY74,AT$7)))","v":""},{"$f":"IF($E74=\"\",\"\",IF(INDEX(E_SourceStreams!$A:$N,DZ74,AU$7)=\"\",\"\",INDEX(E_SourceStreams!$A:$N,DZ74,AU$7)))","v":""},{"$f":"IF($E74=\"\",\"\",IF(INDEX(E_SourceStreams!$A:$N,EA74,AV$7)=\"\",\"\",INDEX(E_SourceStreams!$A:$N,EA74,AV$7)))","v":""},{"$f":"IF($E74=\"\",\"\",IF(INDEX(E_SourceStreams!$A:$N,EB74,AW$7)=\"\",\"\",INDEX(E_SourceStreams!$A:$N,EB74,AW$7)))","v":""},{"$f":"IF($E74=\"\",\"\",IF(INDEX(E_SourceStreams!$A:$N,EC74,AX$7)=\"\",\"\",INDEX(E_SourceStreams!$A:$N,EC74,AX$7)))","v":""},{"$f":"IF($E74=\"\",\"\",IF(INDEX(E_SourceStreams!$A:$N,ED74,AY$7)=\"\",\"\",INDEX(E_SourceStreams!$A:$N,ED74,AY$7)))","v":""},{"$f":"IF($E74=\"\",\"\",IF(INDEX(E_SourceStreams!$A:$N,EE74,AZ$7)=\"\",\"\",INDEX(E_SourceStreams!$A:$N,EE74,AZ$7)))","v":""},{"$f":"IF($E74=\"\",\"\",IF(INDEX(E_SourceStreams!$A:$N,EF74,BA$7)=\"\",\"\",INDEX(E_SourceStreams!$A:$N,EF74,BA$7)))","v":""},{"$f":"IF($E74=\"\",\"\",IF(INDEX(E_SourceStreams!$A:$N,EG74,BB$7)=\"\",\"\",INDEX(E_SourceStreams!$A:$N,EG74,BB$7)))","v":""},{"$f":"IF($E74=\"\",\"\",IF(INDEX(E_SourceStreams!$A:$N,EH74,BC$7)=\"\",\"\",INDEX(E_SourceStreams!$A:$N,EH74,BC$7)))","v":""},{"$f":"IF($E74=\"\",\"\",IF(INDEX(E_SourceStreams!$A:$N,EI74,BD$7)=\"\",\"\",INDEX(E_SourceStreams!$A:$N,EI74,BD$7)))","v":""},{"$f":"IF($E74=\"\",\"\",IF(INDEX(E_SourceStreams!$A:$N,EJ74,BE$7)=\"\",\"\",INDEX(E_SourceStreams!$A:$N,EJ74,BE$7)))","v":""},{"$f":"IF($E74=\"\",\"\",IF(INDEX(E_SourceStreams!$A:$N,EK74,BF$7)=\"\",\"\",INDEX(E_SourceStreams!$A:$N,EK74,BF$7)))","v":""},{"$f":"IF($E74=\"\",\"\",IF(INDEX(E_SourceStreams!$A:$N,EL74,BG$7)=\"\",\"\",INDEX(E_SourceStreams!$A:$N,EL74,BG$7)))","v":""},{"$f":"IF($E74=\"\",\"\",IF(INDEX(E_SourceStreams!$A:$N,EM74,BH$7)=\"\",\"\",INDEX(E_SourceStreams!$A:$N,EM74,BH$7)))","v":""},{"$f":"IF($E74=\"\",\"\",IF(INDEX(E_SourceStreams!$A:$N,EN74,BI$7)=\"\",\"\",INDEX(E_SourceStreams!$A:$N,EN74,BI$7)))","v":""},{"$f":"IF($E74=\"\",\"\",IF(INDEX(E_SourceStreams!$A:$N,EO74,BJ$7)=\"\",\"\",INDEX(E_SourceStreams!$A:$N,EO74,BJ$7)))","v":""},{"$f":"IF($E74=\"\",\"\",IF(INDEX(E_SourceStreams!$A:$N,EP74,BK$7)=\"\",\"\",INDEX(E_SourceStreams!$A:$N,EP74,BK$7)))","v":""},{"$f":"IF($E74=\"\",\"\",IF(INDEX(E_SourceStreams!$A:$N,EQ74,BL$7)=\"\",\"\",INDEX(E_SourceStreams!$A:$N,EQ74,BL$7)))","v":""},{"$f":"IF($E74=\"\",\"\",IF(INDEX(E_SourceStreams!$A:$N,ER74,BM$7)=\"\",\"\",INDEX(E_SourceStreams!$A:$N,ER74,BM$7)))","v":""},{"$f":"IF($E74=\"\",\"\",IF(INDEX(E_SourceStreams!$A:$N,ES74,BN$7)=\"\",\"\",INDEX(E_SourceStreams!$A:$N,ES74,BN$7)))","v":""},{"$f":"IF($E74=\"\",\"\",IF(INDEX(E_SourceStreams!$A:$N,ET74,BO$7)=\"\",\"\",INDEX(E_SourceStreams!$A:$N,ET74,BO$7)))","v":""},{"$f":"IF($E74=\"\",\"\",IF(INDEX(E_SourceStreams!$A:$N,EU74,BP$7)=\"\",\"\",INDEX(E_SourceStreams!$A:$N,EU74,BP$7)))","v":""},{"$f":"IF($E74=\"\",\"\",IF(INDEX(E_SourceStreams!$A:$N,EV74,BQ$7)=\"\",\"\",INDEX(E_SourceStreams!$A:$N,EV74,BQ$7)))","v":""},{"$f":"IF($E74=\"\",\"\",IF(INDEX(E_SourceStreams!$A:$N,EW74,BR$7)=\"\",\"\",INDEX(E_SourceStreams!$A:$N,EW74,BR$7)))","v":""},{"$f":"IF($E74=\"\",\"\",IF(INDEX(E_SourceStreams!$A:$N,EX74,BS$7)=\"\",\"\",INDEX(E_SourceStreams!$A:$N,EX74,BS$7)))","v":""},{"$f":"IF($E74=\"\",\"\",IF(INDEX(E_SourceStreams!$A:$N,EY74,BT$7)=\"\",\"\",INDEX(E_SourceStreams!$A:$N,EY74,BT$7)))","v":""},null,null,null,null,null,null,null,null,null,null,null,null,null,null,null,"SourceCategory_",{"$f":"INDEX(C_InstallationDescription!$A$226:$A$332,ROWS($CI$11:CI74))=\"ausblenden\"","v":true},"SourceStreamName_",null,4291,4293,4295,4297,4299,4301,4303,4303,4303,4303,4303,4306,4310,4311,4312,4319,4329,4329,4329,4329,4329,4329,4329,4320,4330,4330,4330,4330,4330,4330,4330,4321,4331,4331,4331,4331,4331,4331,4331,4322,4332,4332,4332,4332,4332,4332,4332,4323,4333,4333,4333,4333,4333,4333,4333,4324,4334,4334,4334,4334,4334,4334,4334,4340]
[null,{"$f":"IF(COUNTIF($CK$10:CK75,TRUE)>0,\"\",INDEX(C_InstallationDescription!$E$226:$E$242,ROWS($A$11:A75)))","v":""},{"$f":"IF($E75=\"\",\"\",INDEX(C_InstallationDescription!F:F,MATCH($B75,C_InstallationDescription!$E:$E,0)))","v":""},{"$f":"IF($E75=\"\",\"\",INDEX(C_InstallationDescription!I:I,MATCH($B75,C_InstallationDescription!$E:$E,0)))","v":""},{"$f":"IF($B75=\"\",\"\",INDEX(C_InstallationDescription!F:F,MATCH($CJ75,C_InstallationDescription!$Q:$Q,0)))","v":""},{"$f":"IF($E75=\"\",\"\",INDEX(C_InstallationDescription!L:L,MATCH($CJ75,C_InstallationDescription!$Q:$Q,0)))","v":""},{"$f":"IF($E75=\"\",\"\",INDEX(C_InstallationDescription!M:M,MATCH($CJ75,C_InstallationDescription!$Q:$Q,0)))","v":""},{"$f":"IF($E75=\"\",\"\",INDEX(C_InstallationDescription!N:N,MATCH($CJ75,C_InstallationDescription!$Q:$Q,0)))","v":""},{"$f":"IF($E75=\"\",\"\",IF(INDEX(E_SourceStreams!$A:$N,CN75,I$7)=\"\",\"\",INDEX(E_SourceStreams!$A:$N,CN75,I$7)))","v":""},{"$f":"IF($E75=\"\",\"\",IF(INDEX(E_SourceStreams!$A:$N,CO75,J$7)=\"\",\"\",INDEX(E_SourceStreams!$A:$N,CO75,J$7)))","v":""},{"$f":"IF($E75=\"\",\"\",IF(INDEX(E_SourceStreams!$A:$N,CP75,K$7)=\"\",\"\",INDEX(E_SourceStreams!$A:$N,CP75,K$7)))","v":""},{"$f":"IF($E75=\"\",\"\",IF(INDEX(E_SourceStreams!$A:$N,CQ75,L$7)=\"\",\"\",INDEX(E_SourceStreams!$A:$N,CQ75,L$7)))","v":""},{"$f":"IF($E75=\"\",\"\",IF(INDEX(E_SourceStreams!$A:$N,CR75,M$7)=\"\",\"\",INDEX(E_SourceStreams!$A:$N,CR75,M$7)))","v":""},{"$f":"IF($E75=\"\",\"\",IF(INDEX(E_SourceStreams!$A:$N,CS75,N$7)=\"\",\"\",INDEX(E_SourceStreams!$A:$N,CS75,N$7)))","v":""},{"$f":"IF($E75=\"\",\"\",IF(INDEX(E_SourceStreams!$A:$N,CT75,O$7)=\"\",\"\",INDEX(E_SourceStreams!$A:$N,CT75,O$7)))","v":""},{"$f":"IF($E75=\"\",\"\",IF(INDEX(E_SourceStreams!$A:$N,CU75,P$7)=\"\",\"\",INDEX(E_SourceStreams!$A:$N,CU75,P$7)))","v":""},{"$f":"IF($E75=\"\",\"\",IF(INDEX(E_SourceStreams!$A:$N,CV75,Q$7)=\"\",\"\",INDEX(E_SourceStreams!$A:$N,CV75,Q$7)))","v":""},{"$f":"IF($E75=\"\",\"\",IF(INDEX(E_SourceStreams!$A:$N,CW75,R$7)=\"\",\"\",INDEX(E_SourceStreams!$A:$N,CW75,R$7)))","v":""},{"$f":"IF($E75=\"\",\"\",IF(INDEX(E_SourceStreams!$A:$N,CX75,S$7)=\"\",\"\",INDEX(E_SourceStreams!$A:$N,CX75,S$7)))","v":""},{"$f":"IF($E75=\"\",\"\",IF(INDEX(E_SourceStreams!$A:$N,CY75,T$7)=\"\",\"\",INDEX(E_SourceStreams!$A:$N,CY75,T$7)))","v":""},{"$f":"IF($E75=\"\",\"\",IF(INDEX(E_SourceStreams!$A:$N,CZ75,U$7)=\"\",\"\",INDEX(E_SourceStreams!$A:$N,CZ75,U$7)))","v":""},{"$f":"IF($E75=\"\",\"\",IF(INDEX(E_SourceStreams!$A:$N,DA75,V$7)=\"\",\"\",INDEX(E_SourceStreams!$A:$N,DA75,V$7)))","v":""},{"$f":"IF($E75=\"\",\"\",IF(INDEX(E_SourceStreams!$A:$N,DB75,W$7)=\"\",\"\",INDEX(E_SourceStreams!$A:$N,DB75,W$7)))","v":""},{"$f":"IF($E75=\"\",\"\",IF(INDEX(E_SourceStreams!$A:$N,DC75,X$7)=\"\",\"\",INDEX(E_SourceStreams!$A:$N,DC75,X$7)))","v":""},{"$f":"IF($E75=\"\",\"\",IF(INDEX(E_SourceStreams!$A:$N,DD75,Y$7)=\"\",\"\",INDEX(E_SourceStreams!$A:$N,DD75,Y$7)))","v":""},{"$f":"IF($E75=\"\",\"\",IF(INDEX(E_SourceStreams!$A:$N,DE75,Z$7)=\"\",\"\",INDEX(E_SourceStreams!$A:$N,DE75,Z$7)))","v":""},{"$f":"IF($E75=\"\",\"\",IF(INDEX(E_SourceStreams!$A:$N,DF75,AA$7)=\"\",\"\",INDEX(E_SourceStreams!$A:$N,DF75,AA$7)))","v":""},{"$f":"IF($E75=\"\",\"\",IF(INDEX(E_SourceStreams!$A:$N,DG75,AB$7)=\"\",\"\",INDEX(E_SourceStreams!$A:$N,DG75,AB$7)))","v":""},{"$f":"IF($E75=\"\",\"\",IF(INDEX(E_SourceStreams!$A:$N,DH75,AC$7)=\"\",\"\",INDEX(E_SourceStreams!$A:$N,DH75,AC$7)))","v":""},{"$f":"IF($E75=\"\",\"\",IF(INDEX(E_SourceStreams!$A:$N,DI75,AD$7)=\"\",\"\",INDEX(E_SourceStreams!$A:$N,DI75,AD$7)))","v":""},{"$f":"IF($E75=\"\",\"\",IF(INDEX(E_SourceStreams!$A:$N,DJ75,AE$7)=\"\",\"\",INDEX(E_SourceStreams!$A:$N,DJ75,AE$7)))","v":""},{"$f":"IF($E75=\"\",\"\",IF(INDEX(E_SourceStreams!$A:$N,DK75,AF$7)=\"\",\"\",INDEX(E_SourceStreams!$A:$N,DK75,AF$7)))","v":""},{"$f":"IF($E75=\"\",\"\",IF(INDEX(E_SourceStreams!$A:$N,DL75,AG$7)=\"\",\"\",INDEX(E_SourceStreams!$A:$N,DL75,AG$7)))","v":""},{"$f":"IF($E75=\"\",\"\",IF(INDEX(E_SourceStreams!$A:$N,DM75,AH$7)=\"\",\"\",INDEX(E_SourceStreams!$A:$N,DM75,AH$7)))","v":""},{"$f":"IF($E75=\"\",\"\",IF(INDEX(E_SourceStreams!$A:$N,DN75,AI$7)=\"\",\"\",INDEX(E_SourceStreams!$A:$N,DN75,AI$7)))","v":""},{"$f":"IF($E75=\"\",\"\",IF(INDEX(E_SourceStreams!$A:$N,DO75,AJ$7)=\"\",\"\",INDEX(E_SourceStreams!$A:$N,DO75,AJ$7)))","v":""},{"$f":"IF($E75=\"\",\"\",IF(INDEX(E_SourceStreams!$A:$N,DP75,AK$7)=\"\",\"\",INDEX(E_SourceStreams!$A:$N,DP75,AK$7)))","v":""},{"$f":"IF($E75=\"\",\"\",IF(INDEX(E_SourceStreams!$A:$N,DQ75,AL$7)=\"\",\"\",INDEX(E_SourceStreams!$A:$N,DQ75,AL$7)))","v":""},{"$f":"IF($E75=\"\",\"\",IF(INDEX(E_SourceStreams!$A:$N,DR75,AM$7)=\"\",\"\",INDEX(E_SourceStreams!$A:$N,DR75,AM$7)))","v":""},{"$f":"IF($E75=\"\",\"\",IF(INDEX(E_SourceStreams!$A:$N,DS75,AN$7)=\"\",\"\",INDEX(E_SourceStreams!$A:$N,DS75,AN$7)))","v":""},{"$f":"IF($E75=\"\",\"\",IF(INDEX(E_SourceStreams!$A:$N,DT75,AO$7)=\"\",\"\",INDEX(E_SourceStreams!$A:$N,DT75,AO$7)))","v":""},{"$f":"IF($E75=\"\",\"\",IF(INDEX(E_SourceStreams!$A:$N,DU75,AP$7)=\"\",\"\",INDEX(E_SourceStreams!$A:$N,DU75,AP$7)))","v":""},{"$f":"IF($E75=\"\",\"\",IF(INDEX(E_SourceStreams!$A:$N,DV75,AQ$7)=\"\",\"\",INDEX(E_SourceStreams!$A:$N,DV75,AQ$7)))","v":""},{"$f":"IF($E75=\"\",\"\",IF(INDEX(E_SourceStreams!$A:$N,DW75,AR$7)=\"\",\"\",INDEX(E_SourceStreams!$A:$N,DW75,AR$7)))","v":""},{"$f":"IF($E75=\"\",\"\",IF(INDEX(E_SourceStreams!$A:$N,DX75,AS$7)=\"\",\"\",INDEX(E_SourceStreams!$A:$N,DX75,AS$7)))","v":""},{"$f":"IF($E75=\"\",\"\",IF(INDEX(E_SourceStreams!$A:$N,DY75,AT$7)=\"\",\"\",INDEX(E_SourceStreams!$A:$N,DY75,AT$7)))","v":""},{"$f":"IF($E75=\"\",\"\",IF(INDEX(E_SourceStreams!$A:$N,DZ75,AU$7)=\"\",\"\",INDEX(E_SourceStreams!$A:$N,DZ75,AU$7)))","v":""},{"$f":"IF($E75=\"\",\"\",IF(INDEX(E_SourceStreams!$A:$N,EA75,AV$7)=\"\",\"\",INDEX(E_SourceStreams!$A:$N,EA75,AV$7)))","v":""},{"$f":"IF($E75=\"\",\"\",IF(INDEX(E_SourceStreams!$A:$N,EB75,AW$7)=\"\",\"\",INDEX(E_SourceStreams!$A:$N,EB75,AW$7)))","v":""},{"$f":"IF($E75=\"\",\"\",IF(INDEX(E_SourceStreams!$A:$N,EC75,AX$7)=\"\",\"\",INDEX(E_SourceStreams!$A:$N,EC75,AX$7)))","v":""},{"$f":"IF($E75=\"\",\"\",IF(INDEX(E_SourceStreams!$A:$N,ED75,AY$7)=\"\",\"\",INDEX(E_SourceStreams!$A:$N,ED75,AY$7)))","v":""},{"$f":"IF($E75=\"\",\"\",IF(INDEX(E_SourceStreams!$A:$N,EE75,AZ$7)=\"\",\"\",INDEX(E_SourceStreams!$A:$N,EE75,AZ$7)))","v":""},{"$f":"IF($E75=\"\",\"\",IF(INDEX(E_SourceStreams!$A:$N,EF75,BA$7)=\"\",\"\",INDEX(E_SourceStreams!$A:$N,EF75,BA$7)))","v":""},{"$f":"IF($E75=\"\",\"\",IF(INDEX(E_SourceStreams!$A:$N,EG75,BB$7)=\"\",\"\",INDEX(E_SourceStreams!$A:$N,EG75,BB$7)))","v":""},{"$f":"IF($E75=\"\",\"\",IF(INDEX(E_SourceStreams!$A:$N,EH75,BC$7)=\"\",\"\",INDEX(E_SourceStreams!$A:$N,EH75,BC$7)))","v":""},{"$f":"IF($E75=\"\",\"\",IF(INDEX(E_SourceStreams!$A:$N,EI75,BD$7)=\"\",\"\",INDEX(E_SourceStreams!$A:$N,EI75,BD$7)))","v":""},{"$f":"IF($E75=\"\",\"\",IF(INDEX(E_SourceStreams!$A:$N,EJ75,BE$7)=\"\",\"\",INDEX(E_SourceStreams!$A:$N,EJ75,BE$7)))","v":""},{"$f":"IF($E75=\"\",\"\",IF(INDEX(E_SourceStreams!$A:$N,EK75,BF$7)=\"\",\"\",INDEX(E_SourceStreams!$A:$N,EK75,BF$7)))","v":""},{"$f":"IF($E75=\"\",\"\",IF(INDEX(E_SourceStreams!$A:$N,EL75,BG$7)=\"\",\"\",INDEX(E_SourceStreams!$A:$N,EL75,BG$7)))","v":""},{"$f":"IF($E75=\"\",\"\",IF(INDEX(E_SourceStreams!$A:$N,EM75,BH$7)=\"\",\"\",INDEX(E_SourceStreams!$A:$N,EM75,BH$7)))","v":""},{"$f":"IF($E75=\"\",\"\",IF(INDEX(E_SourceStreams!$A:$N,EN75,BI$7)=\"\",\"\",INDEX(E_SourceStreams!$A:$N,EN75,BI$7)))","v":""},{"$f":"IF($E75=\"\",\"\",IF(INDEX(E_SourceStreams!$A:$N,EO75,BJ$7)=\"\",\"\",INDEX(E_SourceStreams!$A:$N,EO75,BJ$7)))","v":""},{"$f":"IF($E75=\"\",\"\",IF(INDEX(E_SourceStreams!$A:$N,EP75,BK$7)=\"\",\"\",INDEX(E_SourceStreams!$A:$N,EP75,BK$7)))","v":""},{"$f":"IF($E75=\"\",\"\",IF(INDEX(E_SourceStreams!$A:$N,EQ75,BL$7)=\"\",\"\",INDEX(E_SourceStreams!$A:$N,EQ75,BL$7)))","v":""},{"$f":"IF($E75=\"\",\"\",IF(INDEX(E_SourceStreams!$A:$N,ER75,BM$7)=\"\",\"\",INDEX(E_SourceStreams!$A:$N,ER75,BM$7)))","v":""},{"$f":"IF($E75=\"\",\"\",IF(INDEX(E_SourceStreams!$A:$N,ES75,BN$7)=\"\",\"\",INDEX(E_SourceStreams!$A:$N,ES75,BN$7)))","v":""},{"$f":"IF($E75=\"\",\"\",IF(INDEX(E_SourceStreams!$A:$N,ET75,BO$7)=\"\",\"\",INDEX(E_SourceStreams!$A:$N,ET75,BO$7)))","v":""},{"$f":"IF($E75=\"\",\"\",IF(INDEX(E_SourceStreams!$A:$N,EU75,BP$7)=\"\",\"\",INDEX(E_SourceStreams!$A:$N,EU75,BP$7)))","v":""},{"$f":"IF($E75=\"\",\"\",IF(INDEX(E_SourceStreams!$A:$N,EV75,BQ$7)=\"\",\"\",INDEX(E_SourceStreams!$A:$N,EV75,BQ$7)))","v":""},{"$f":"IF($E75=\"\",\"\",IF(INDEX(E_SourceStreams!$A:$N,EW75,BR$7)=\"\",\"\",INDEX(E_SourceStreams!$A:$N,EW75,BR$7)))","v":""},{"$f":"IF($E75=\"\",\"\",IF(INDEX(E_SourceStreams!$A:$N,EX75,BS$7)=\"\",\"\",INDEX(E_SourceStreams!$A:$N,EX75,BS$7)))","v":""},{"$f":"IF($E75=\"\",\"\",IF(INDEX(E_SourceStreams!$A:$N,EY75,BT$7)=\"\",\"\",INDEX(E_SourceStreams!$A:$N,EY75,BT$7)))","v":""},null,null,null,null,null,null,null,null,null,null,null,null,null,null,null,{"$f":"EUconst_CNTR_SourceCategory&B75","v":"SourceCategory_"},{"$f":"INDEX(C_InstallationDescription!$A$226:$A$332,ROWS($CI$11:CI75))=\"ausblenden\"","v":true},{"$f":"EUconst_CNTR_SourceStreamName&B75","v":"SourceStreamName_"},null,4357,4359,4361,4363,4365,4367,4369,4369,4369,4369,4369,4372,4376,4377,4378,4385,4395,4395,4395,4395,4395,4395,4395,4386,4396,4396,4396,4396,4396,4396,4396,4387,4397,4397,4397,4397,4397,4397,4397,4388,4398,4398,4398,4398,4398,4398,4398,4389,4399,4399,4399,4399,4399,4399,4399,4390,4400,4400,4400,4400,4400,4400,4400,4406]
[null,{"$f":"IF(COUNTIF($CK$10:CK76,TRUE)>0,\"\",INDEX(C_InstallationDescription!$E$226:$E$242,ROWS($A$11:A76)))","v":""},{"$f":"IF($E76=\"\",\"\",INDEX(C_InstallationDescription!F:F,MATCH($B76,C_InstallationDescription!$E:$E,0)))","v":""},{"$f":"IF($E76=\"\",\"\",INDEX(C_InstallationDescription!I:I,MATCH($B76,C_InstallationDescription!$E:$E,0)))","v":""},{"$f":"IF($B76=\"\",\"\",INDEX(C_InstallationDescription!F:F,MATCH($CJ76,C_InstallationDescription!$Q:$Q,0)))","v":""},{"$f":"IF($E76=\"\",\"\",INDEX(C_InstallationDescription!L:L,MATCH($CJ76,C_InstallationDescription!$Q:$Q,0)))","v":""},{"$f":"IF($E76=\"\",\"\",INDEX(C_InstallationDescription!M:M,MATCH($CJ76,C_InstallationDescription!$Q:$Q,0)))","v":""},{"$f":"IF($E76=\"\",\"\",INDEX(C_InstallationDescription!N:N,MATCH($CJ76,C_InstallationDescription!$Q:$Q,0)))","v":""},{"$f":"IF($E76=\"\",\"\",IF(INDEX(E_SourceStreams!$A:$N,CN76,I$7)=\"\",\"\",INDEX(E_SourceStreams!$A:$N,CN76,I$7)))","v":""},{"$f":"IF($E76=\"\",\"\",IF(INDEX(E_SourceStreams!$A:$N,CO76,J$7)=\"\",\"\",INDEX(E_SourceStreams!$A:$N,CO76,J$7)))","v":""},{"$f":"IF($E76=\"\",\"\",IF(INDEX(E_SourceStreams!$A:$N,CP76,K$7)=\"\",\"\",INDEX(E_SourceStreams!$A:$N,CP76,K$7)))","v":""},{"$f":"IF($E76=\"\",\"\",IF(INDEX(E_SourceStreams!$A:$N,CQ76,L$7)=\"\",\"\",INDEX(E_SourceStreams!$A:$N,CQ76,L$7)))","v":""},{"$f":"IF($E76=\"\",\"\",IF(INDEX(E_SourceStreams!$A:$N,CR76,M$7)=\"\",\"\",INDEX(E_SourceStreams!$A:$N,CR76,M$7)))","v":""},{"$f":"IF($E76=\"\",\"\",IF(INDEX(E_SourceStreams!$A:$N,CS76,N$7)=\"\",\"\",INDEX(E_SourceStreams!$A:$N,CS76,N$7)))","v":""},{"$f":"IF($E76=\"\",\"\",IF(INDEX(E_SourceStreams!$A:$N,CT76,O$7)=\"\",\"\",INDEX(E_SourceStreams!$A:$N,CT76,O$7)))","v":""},{"$f":"IF($E76=\"\",\"\",IF(INDEX(E_SourceStreams!$A:$N,CU76,P$7)=\"\",\"\",INDEX(E_SourceStreams!$A:$N,CU76,P$7)))","v":""},{"$f":"IF($E76=\"\",\"\",IF(INDEX(E_SourceStreams!$A:$N,CV76,Q$7)=\"\",\"\",INDEX(E_SourceStreams!$A:$N,CV76,Q$7)))","v":""},{"$f":"IF($E76=\"\",\"\",IF(INDEX(E_SourceStreams!$A:$N,CW76,R$7)=\"\",\"\",INDEX(E_SourceStreams!$A:$N,CW76,R$7)))","v":""},{"$f":"IF($E76=\"\",\"\",IF(INDEX(E_SourceStreams!$A:$N,CX76,S$7)=\"\",\"\",INDEX(E_SourceStreams!$A:$N,CX76,S$7)))","v":""},{"$f":"IF($E76=\"\",\"\",IF(INDEX(E_SourceStreams!$A:$N,CY76,T$7)=\"\",\"\",INDEX(E_SourceStreams!$A:$N,CY76,T$7)))","v":""},{"$f":"IF($E76=\"\",\"\",IF(INDEX(E_SourceStreams!$A:$N,CZ76,U$7)=\"\",\"\",INDEX(E_SourceStreams!$A:$N,CZ76,U$7)))","v":""},{"$f":"IF($E76=\"\",\"\",IF(INDEX(E_SourceStreams!$A:$N,DA76,V$7)=\"\",\"\",INDEX(E_SourceStreams!$A:$N,DA76,V$7)))","v":""},{"$f":"IF($E76=\"\",\"\",IF(INDEX(E_SourceStreams!$A:$N,DB76,W$7)=\"\",\"\",INDEX(E_SourceStreams!$A:$N,DB76,W$7)))","v":""},{"$f":"IF($E76=\"\",\"\",IF(INDEX(E_SourceStreams!$A:$N,DC76,X$7)=\"\",\"\",INDEX(E_SourceStreams!$A:$N,DC76,X$7)))","v":""},{"$f":"IF($E76=\"\",\"\",IF(INDEX(E_SourceStreams!$A:$N,DD76,Y$7)=\"\",\"\",INDEX(E_SourceStreams!$A:$N,DD76,Y$7)))","v":""},{"$f":"IF($E76=\"\",\"\",IF(INDEX(E_SourceStreams!$A:$N,DE76,Z$7)=\"\",\"\",INDEX(E_SourceStreams!$A:$N,DE76,Z$7)))","v":""},{"$f":"IF($E76=\"\",\"\",IF(INDEX(E_SourceStreams!$A:$N,DF76,AA$7)=\"\",\"\",INDEX(E_SourceStreams!$A:$N,DF76,AA$7)))","v":""},{"$f":"IF($E76=\"\",\"\",IF(INDEX(E_SourceStreams!$A:$N,DG76,AB$7)=\"\",\"\",INDEX(E_SourceStreams!$A:$N,DG76,AB$7)))","v":""},{"$f":"IF($E76=\"\",\"\",IF(INDEX(E_SourceStreams!$A:$N,DH76,AC$7)=\"\",\"\",INDEX(E_SourceStreams!$A:$N,DH76,AC$7)))","v":""},{"$f":"IF($E76=\"\",\"\",IF(INDEX(E_SourceStreams!$A:$N,DI76,AD$7)=\"\",\"\",INDEX(E_SourceStreams!$A:$N,DI76,AD$7)))","v":""},{"$f":"IF($E76=\"\",\"\",IF(INDEX(E_SourceStreams!$A:$N,DJ76,AE$7)=\"\",\"\",INDEX(E_SourceStreams!$A:$N,DJ76,AE$7)))","v":""},{"$f":"IF($E76=\"\",\"\",IF(INDEX(E_SourceStreams!$A:$N,DK76,AF$7)=\"\",\"\",INDEX(E_SourceStreams!$A:$N,DK76,AF$7)))","v":""},{"$f":"IF($E76=\"\",\"\",IF(INDEX(E_SourceStreams!$A:$N,DL76,AG$7)=\"\",\"\",INDEX(E_SourceStreams!$A:$N,DL76,AG$7)))","v":""},{"$f":"IF($E76=\"\",\"\",IF(INDEX(E_SourceStreams!$A:$N,DM76,AH$7)=\"\",\"\",INDEX(E_SourceStreams!$A:$N,DM76,AH$7)))","v":""},{"$f":"IF($E76=\"\",\"\",IF(INDEX(E_SourceStreams!$A:$N,DN76,AI$7)=\"\",\"\",INDEX(E_SourceStreams!$A:$N,DN76,AI$7)))","v":""},{"$f":"IF($E76=\"\",\"\",IF(INDEX(E_SourceStreams!$A:$N,DO76,AJ$7)=\"\",\"\",INDEX(E_SourceStreams!$A:$N,DO76,AJ$7)))","v":""},{"$f":"IF($E76=\"\",\"\",IF(INDEX(E_SourceStreams!$A:$N,DP76,AK$7)=\"\",\"\",INDEX(E_SourceStreams!$A:$N,DP76,AK$7)))","v":""},{"$f":"IF($E76=\"\",\"\",IF(INDEX(E_SourceStreams!$A:$N,DQ76,AL$7)=\"\",\"\",INDEX(E_SourceStreams!$A:$N,DQ76,AL$7)))","v":""},{"$f":"IF($E76=\"\",\"\",IF(INDEX(E_SourceStreams!$A:$N,DR76,AM$7)=\"\",\"\",INDEX(E_SourceStreams!$A:$N,DR76,AM$7)))","v":""},{"$f":"IF($E76=\"\",\"\",IF(INDEX(E_SourceStreams!$A:$N,DS76,AN$7)=\"\",\"\",INDEX(E_SourceStreams!$A:$N,DS76,AN$7)))","v":""},{"$f":"IF($E76=\"\",\"\",IF(INDEX(E_SourceStreams!$A:$N,DT76,AO$7)=\"\",\"\",INDEX(E_SourceStreams!$A:$N,DT76,AO$7)))","v":""},{"$f":"IF($E76=\"\",\"\",IF(INDEX(E_SourceStreams!$A:$N,DU76,AP$7)=\"\",\"\",INDEX(E_SourceStreams!$A:$N,DU76,AP$7)))","v":""},{"$f":"IF($E76=\"\",\"\",IF(INDEX(E_SourceStreams!$A:$N,DV76,AQ$7)=\"\",\"\",INDEX(E_SourceStreams!$A:$N,DV76,AQ$7)))","v":""},{"$f":"IF($E76=\"\",\"\",IF(INDEX(E_SourceStreams!$A:$N,DW76,AR$7)=\"\",\"\",INDEX(E_SourceStreams!$A:$N,DW76,AR$7)))","v":""},{"$f":"IF($E76=\"\",\"\",IF(INDEX(E_SourceStreams!$A:$N,DX76,AS$7)=\"\",\"\",INDEX(E_SourceStreams!$A:$N,DX76,AS$7)))","v":""},{"$f":"IF($E76=\"\",\"\",IF(INDEX(E_SourceStreams!$A:$N,DY76,AT$7)=\"\",\"\",INDEX(E_SourceStreams!$A:$N,DY76,AT$7)))","v":""},{"$f":"IF($E76=\"\",\"\",IF(INDEX(E_SourceStreams!$A:$N,DZ76,AU$7)=\"\",\"\",INDEX(E_SourceStreams!$A:$N,DZ76,AU$7)))","v":""},{"$f":"IF($E76=\"\",\"\",IF(INDEX(E_SourceStreams!$A:$N,EA76,AV$7)=\"\",\"\",INDEX(E_SourceStreams!$A:$N,EA76,AV$7)))","v":""},{"$f":"IF($E76=\"\",\"\",IF(INDEX(E_SourceStreams!$A:$N,EB76,AW$7)=\"\",\"\",INDEX(E_SourceStreams!$A:$N,EB76,AW$7)))","v":""},{"$f":"IF($E76=\"\",\"\",IF(INDEX(E_SourceStreams!$A:$N,EC76,AX$7)=\"\",\"\",INDEX(E_SourceStreams!$A:$N,EC76,AX$7)))","v":""},{"$f":"IF($E76=\"\",\"\",IF(INDEX(E_SourceStreams!$A:$N,ED76,AY$7)=\"\",\"\",INDEX(E_SourceStreams!$A:$N,ED76,AY$7)))","v":""},{"$f":"IF($E76=\"\",\"\",IF(INDEX(E_SourceStreams!$A:$N,EE76,AZ$7)=\"\",\"\",INDEX(E_SourceStreams!$A:$N,EE76,AZ$7)))","v":""},{"$f":"IF($E76=\"\",\"\",IF(INDEX(E_SourceStreams!$A:$N,EF76,BA$7)=\"\",\"\",INDEX(E_SourceStreams!$A:$N,EF76,BA$7)))","v":""},{"$f":"IF($E76=\"\",\"\",IF(INDEX(E_SourceStreams!$A:$N,EG76,BB$7)=\"\",\"\",INDEX(E_SourceStreams!$A:$N,EG76,BB$7)))","v":""},{"$f":"IF($E76=\"\",\"\",IF(INDEX(E_SourceStreams!$A:$N,EH76,BC$7)=\"\",\"\",INDEX(E_SourceStreams!$A:$N,EH76,BC$7)))","v":""},{"$f":"IF($E76=\"\",\"\",IF(INDEX(E_SourceStreams!$A:$N,EI76,BD$7)=\"\",\"\",INDEX(E_SourceStreams!$A:$N,EI76,BD$7)))","v":""},{"$f":"IF($E76=\"\",\"\",IF(INDEX(E_SourceStreams!$A:$N,EJ76,BE$7)=\"\",\"\",INDEX(E_SourceStreams!$A:$N,EJ76,BE$7)))","v":""},{"$f":"IF($E76=\"\",\"\",IF(INDEX(E_SourceStreams!$A:$N,EK76,BF$7)=\"\",\"\",INDEX(E_SourceStreams!$A:$N,EK76,BF$7)))","v":""},{"$f":"IF($E76=\"\",\"\",IF(INDEX(E_SourceStreams!$A:$N,EL76,BG$7)=\"\",\"\",INDEX(E_SourceStreams!$A:$N,EL76,BG$7)))","v":""},{"$f":"IF($E76=\"\",\"\",IF(INDEX(E_SourceStreams!$A:$N,EM76,BH$7)=\"\",\"\",INDEX(E_SourceStreams!$A:$N,EM76,BH$7)))","v":""},{"$f":"IF($E76=\"\",\"\",IF(INDEX(E_SourceStreams!$A:$N,EN76,BI$7)=\"\",\"\",INDEX(E_SourceStreams!$A:$N,EN76,BI$7)))","v":""},{"$f":"IF($E76=\"\",\"\",IF(INDEX(E_SourceStreams!$A:$N,EO76,BJ$7)=\"\",\"\",INDEX(E_SourceStreams!$A:$N,EO76,BJ$7)))","v":""},{"$f":"IF($E76=\"\",\"\",IF(INDEX(E_SourceStreams!$A:$N,EP76,BK$7)=\"\",\"\",INDEX(E_SourceStreams!$A:$N,EP76,BK$7)))","v":""},{"$f":"IF($E76=\"\",\"\",IF(INDEX(E_SourceStreams!$A:$N,EQ76,BL$7)=\"\",\"\",INDEX(E_SourceStreams!$A:$N,EQ76,BL$7)))","v":""},{"$f":"IF($E76=\"\",\"\",IF(INDEX(E_SourceStreams!$A:$N,ER76,BM$7)=\"\",\"\",INDEX(E_SourceStreams!$A:$N,ER76,BM$7)))","v":""},{"$f":"IF($E76=\"\",\"\",IF(INDEX(E_SourceStreams!$A:$N,ES76,BN$7)=\"\",\"\",INDEX(E_SourceStreams!$A:$N,ES76,BN$7)))","v":""},{"$f":"IF($E76=\"\",\"\",IF(INDEX(E_SourceStreams!$A:$N,ET76,BO$7)=\"\",\"\",INDEX(E_SourceStreams!$A:$N,ET76,BO$7)))","v":""},{"$f":"IF($E76=\"\",\"\",IF(INDEX(E_SourceStreams!$A:$N,EU76,BP$7)=\"\",\"\",INDEX(E_SourceStreams!$A:$N,EU76,BP$7)))","v":""},{"$f":"IF($E76=\"\",\"\",IF(INDEX(E_SourceStreams!$A:$N,EV76,BQ$7)=\"\",\"\",INDEX(E_SourceStreams!$A:$N,EV76,BQ$7)))","v":""},{"$f":"IF($E76=\"\",\"\",IF(INDEX(E_SourceStreams!$A:$N,EW76,BR$7)=\"\",\"\",INDEX(E_SourceStreams!$A:$N,EW76,BR$7)))","v":""},{"$f":"IF($E76=\"\",\"\",IF(INDEX(E_SourceStreams!$A:$N,EX76,BS$7)=\"\",\"\",INDEX(E_SourceStreams!$A:$N,EX76,BS$7)))","v":""},{"$f":"IF($E76=\"\",\"\",IF(INDEX(E_SourceStreams!$A:$N,EY76,BT$7)=\"\",\"\",INDEX(E_SourceStreams!$A:$N,EY76,BT$7)))","v":""},null,null,null,null,null,null,null,null,null,null,null,null,null,null,null,"SourceCategory_",{"$f":"INDEX(C_InstallationDescription!$A$226:$A$332,ROWS($CI$11:CI76))=\"ausblenden\"","v":true},"SourceStreamName_",null,4423,4425,4427,4429,4431,4433,4435,4435,4435,4435,4435,4438,4442,4443,4444,4451,4461,4461,4461,4461,4461,4461,4461,4452,4462,4462,4462,4462,4462,4462,4462,4453,4463,4463,4463,4463,4463,4463,4463,4454,4464,4464,4464,4464,4464,4464,4464,4455,4465,4465,4465,4465,4465,4465,4465,4456,4466,4466,4466,4466,4466,4466,4466,4472]
[null,{"$f":"IF(COUNTIF($CK$10:CK77,TRUE)>0,\"\",INDEX(C_InstallationDescription!$E$226:$E$242,ROWS($A$11:A77)))","v":""},{"$f":"IF($E77=\"\",\"\",INDEX(C_InstallationDescription!F:F,MATCH($B77,C_InstallationDescription!$E:$E,0)))","v":""},{"$f":"IF($E77=\"\",\"\",INDEX(C_InstallationDescription!I:I,MATCH($B77,C_InstallationDescription!$E:$E,0)))","v":""},{"$f":"IF($B77=\"\",\"\",INDEX(C_InstallationDescription!F:F,MATCH($CJ77,C_InstallationDescription!$Q:$Q,0)))","v":""},{"$f":"IF($E77=\"\",\"\",INDEX(C_InstallationDescription!L:L,MATCH($CJ77,C_InstallationDescription!$Q:$Q,0)))","v":""},{"$f":"IF($E77=\"\",\"\",INDEX(C_InstallationDescription!M:M,MATCH($CJ77,C_InstallationDescription!$Q:$Q,0)))","v":""},{"$f":"IF($E77=\"\",\"\",INDEX(C_InstallationDescription!N:N,MATCH($CJ77,C_InstallationDescription!$Q:$Q,0)))","v":""},{"$f":"IF($E77=\"\",\"\",IF(INDEX(E_SourceStreams!$A:$N,CN77,I$7)=\"\",\"\",INDEX(E_SourceStreams!$A:$N,CN77,I$7)))","v":""},{"$f":"IF($E77=\"\",\"\",IF(INDEX(E_SourceStreams!$A:$N,CO77,J$7)=\"\",\"\",INDEX(E_SourceStreams!$A:$N,CO77,J$7)))","v":""},{"$f":"IF($E77=\"\",\"\",IF(INDEX(E_SourceStreams!$A:$N,CP77,K$7)=\"\",\"\",INDEX(E_SourceStreams!$A:$N,CP77,K$7)))","v":""},{"$f":"IF($E77=\"\",\"\",IF(INDEX(E_SourceStreams!$A:$N,CQ77,L$7)=\"\",\"\",INDEX(E_SourceStreams!$A:$N,CQ77,L$7)))","v":""},{"$f":"IF($E77=\"\",\"\",IF(INDEX(E_SourceStreams!$A:$N,CR77,M$7)=\"\",\"\",INDEX(E_SourceStreams!$A:$N,CR77,M$7)))","v":""},{"$f":"IF($E77=\"\",\"\",IF(INDEX(E_SourceStreams!$A:$N,CS77,N$7)=\"\",\"\",INDEX(E_SourceStreams!$A:$N,CS77,N$7)))","v":""},{"$f":"IF($E77=\"\",\"\",IF(INDEX(E_SourceStreams!$A:$N,CT77,O$7)=\"\",\"\",INDEX(E_SourceStreams!$A:$N,CT77,O$7)))","v":""},{"$f":"IF($E77=\"\",\"\",IF(INDEX(E_SourceStreams!$A:$N,CU77,P$7)=\"\",\"\",INDEX(E_SourceStreams!$A:$N,CU77,P$7)))","v":""},{"$f":"IF($E77=\"\",\"\",IF(INDEX(E_SourceStreams!$A:$N,CV77,Q$7)=\"\",\"\",INDEX(E_SourceStreams!$A:$N,CV77,Q$7)))","v":""},{"$f":"IF($E77=\"\",\"\",IF(INDEX(E_SourceStreams!$A:$N,CW77,R$7)=\"\",\"\",INDEX(E_SourceStreams!$A:$N,CW77,R$7)))","v":""},{"$f":"IF($E77=\"\",\"\",IF(INDEX(E_SourceStreams!$A:$N,CX77,S$7)=\"\",\"\",INDEX(E_SourceStreams!$A:$N,CX77,S$7)))","v":""},{"$f":"IF($E77=\"\",\"\",IF(INDEX(E_SourceStreams!$A:$N,CY77,T$7)=\"\",\"\",INDEX(E_SourceStreams!$A:$N,CY77,T$7)))","v":""},{"$f":"IF($E77=\"\",\"\",IF(INDEX(E_SourceStreams!$A:$N,CZ77,U$7)=\"\",\"\",INDEX(E_SourceStreams!$A:$N,CZ77,U$7)))","v":""},{"$f":"IF($E77=\"\",\"\",IF(INDEX(E_SourceStreams!$A:$N,DA77,V$7)=\"\",\"\",INDEX(E_SourceStreams!$A:$N,DA77,V$7)))","v":""},{"$f":"IF($E77=\"\",\"\",IF(INDEX(E_SourceStreams!$A:$N,DB77,W$7)=\"\",\"\",INDEX(E_SourceStreams!$A:$N,DB77,W$7)))","v":""},{"$f":"IF($E77=\"\",\"\",IF(INDEX(E_SourceStreams!$A:$N,DC77,X$7)=\"\",\"\",INDEX(E_SourceStreams!$A:$N,DC77,X$7)))","v":""},{"$f":"IF($E77=\"\",\"\",IF(INDEX(E_SourceStreams!$A:$N,DD77,Y$7)=\"\",\"\",INDEX(E_SourceStreams!$A:$N,DD77,Y$7)))","v":""},{"$f":"IF($E77=\"\",\"\",IF(INDEX(E_SourceStreams!$A:$N,DE77,Z$7)=\"\",\"\",INDEX(E_SourceStreams!$A:$N,DE77,Z$7)))","v":""},{"$f":"IF($E77=\"\",\"\",IF(INDEX(E_SourceStreams!$A:$N,DF77,AA$7)=\"\",\"\",INDEX(E_SourceStreams!$A:$N,DF77,AA$7)))","v":""},{"$f":"IF($E77=\"\",\"\",IF(INDEX(E_SourceStreams!$A:$N,DG77,AB$7)=\"\",\"\",INDEX(E_SourceStreams!$A:$N,DG77,AB$7)))","v":""},{"$f":"IF($E77=\"\",\"\",IF(INDEX(E_SourceStreams!$A:$N,DH77,AC$7)=\"\",\"\",INDEX(E_SourceStreams!$A:$N,DH77,AC$7)))","v":""},{"$f":"IF($E77=\"\",\"\",IF(INDEX(E_SourceStreams!$A:$N,DI77,AD$7)=\"\",\"\",INDEX(E_SourceStreams!$A:$N,DI77,AD$7)))","v":""},{"$f":"IF($E77=\"\",\"\",IF(INDEX(E_SourceStreams!$A:$N,DJ77,AE$7)=\"\",\"\",INDEX(E_SourceStreams!$A:$N,DJ77,AE$7)))","v":""},{"$f":"IF($E77=\"\",\"\",IF(INDEX(E_SourceStreams!$A:$N,DK77,AF$7)=\"\",\"\",INDEX(E_SourceStreams!$A:$N,DK77,AF$7)))","v":""},{"$f":"IF($E77=\"\",\"\",IF(INDEX(E_SourceStreams!$A:$N,DL77,AG$7)=\"\",\"\",INDEX(E_SourceStreams!$A:$N,DL77,AG$7)))","v":""},{"$f":"IF($E77=\"\",\"\",IF(INDEX(E_SourceStreams!$A:$N,DM77,AH$7)=\"\",\"\",INDEX(E_SourceStreams!$A:$N,DM77,AH$7)))","v":""},{"$f":"IF($E77=\"\",\"\",IF(INDEX(E_SourceStreams!$A:$N,DN77,AI$7)=\"\",\"\",INDEX(E_SourceStreams!$A:$N,DN77,AI$7)))","v":""},{"$f":"IF($E77=\"\",\"\",IF(INDEX(E_SourceStreams!$A:$N,DO77,AJ$7)=\"\",\"\",INDEX(E_SourceStreams!$A:$N,DO77,AJ$7)))","v":""},{"$f":"IF($E77=\"\",\"\",IF(INDEX(E_SourceStreams!$A:$N,DP77,AK$7)=\"\",\"\",INDEX(E_SourceStreams!$A:$N,DP77,AK$7)))","v":""},{"$f":"IF($E77=\"\",\"\",IF(INDEX(E_SourceStreams!$A:$N,DQ77,AL$7)=\"\",\"\",INDEX(E_SourceStreams!$A:$N,DQ77,AL$7)))","v":""},{"$f":"IF($E77=\"\",\"\",IF(INDEX(E_SourceStreams!$A:$N,DR77,AM$7)=\"\",\"\",INDEX(E_SourceStreams!$A:$N,DR77,AM$7)))","v":""},{"$f":"IF($E77=\"\",\"\",IF(INDEX(E_SourceStreams!$A:$N,DS77,AN$7)=\"\",\"\",INDEX(E_SourceStreams!$A:$N,DS77,AN$7)))","v":""},{"$f":"IF($E77=\"\",\"\",IF(INDEX(E_SourceStreams!$A:$N,DT77,AO$7)=\"\",\"\",INDEX(E_SourceStreams!$A:$N,DT77,AO$7)))","v":""},{"$f":"IF($E77=\"\",\"\",IF(INDEX(E_SourceStreams!$A:$N,DU77,AP$7)=\"\",\"\",INDEX(E_SourceStreams!$A:$N,DU77,AP$7)))","v":""},{"$f":"IF($E77=\"\",\"\",IF(INDEX(E_SourceStreams!$A:$N,DV77,AQ$7)=\"\",\"\",INDEX(E_SourceStreams!$A:$N,DV77,AQ$7)))","v":""},{"$f":"IF($E77=\"\",\"\",IF(INDEX(E_SourceStreams!$A:$N,DW77,AR$7)=\"\",\"\",INDEX(E_SourceStreams!$A:$N,DW77,AR$7)))","v":""},{"$f":"IF($E77=\"\",\"\",IF(INDEX(E_SourceStreams!$A:$N,DX77,AS$7)=\"\",\"\",INDEX(E_SourceStreams!$A:$N,DX77,AS$7)))","v":""},{"$f":"IF($E77=\"\",\"\",IF(INDEX(E_SourceStreams!$A:$N,DY77,AT$7)=\"\",\"\",INDEX(E_SourceStreams!$A:$N,DY77,AT$7)))","v":""},{"$f":"IF($E77=\"\",\"\",IF(INDEX(E_SourceStreams!$A:$N,DZ77,AU$7)=\"\",\"\",INDEX(E_SourceStreams!$A:$N,DZ77,AU$7)))","v":""},{"$f":"IF($E77=\"\",\"\",IF(INDEX(E_SourceStreams!$A:$N,EA77,AV$7)=\"\",\"\",INDEX(E_SourceStreams!$A:$N,EA77,AV$7)))","v":""},{"$f":"IF($E77=\"\",\"\",IF(INDEX(E_SourceStreams!$A:$N,EB77,AW$7)=\"\",\"\",INDEX(E_SourceStreams!$A:$N,EB77,AW$7)))","v":""},{"$f":"IF($E77=\"\",\"\",IF(INDEX(E_SourceStreams!$A:$N,EC77,AX$7)=\"\",\"\",INDEX(E_SourceStreams!$A:$N,EC77,AX$7)))","v":""},{"$f":"IF($E77=\"\",\"\",IF(INDEX(E_SourceStreams!$A:$N,ED77,AY$7)=\"\",\"\",INDEX(E_SourceStreams!$A:$N,ED77,AY$7)))","v":""},{"$f":"IF($E77=\"\",\"\",IF(INDEX(E_SourceStreams!$A:$N,EE77,AZ$7)=\"\",\"\",INDEX(E_SourceStreams!$A:$N,EE77,AZ$7)))","v":""},{"$f":"IF($E77=\"\",\"\",IF(INDEX(E_SourceStreams!$A:$N,EF77,BA$7)=\"\",\"\",INDEX(E_SourceStreams!$A:$N,EF77,BA$7)))","v":""},{"$f":"IF($E77=\"\",\"\",IF(INDEX(E_SourceStreams!$A:$N,EG77,BB$7)=\"\",\"\",INDEX(E_SourceStreams!$A:$N,EG77,BB$7)))","v":""},{"$f":"IF($E77=\"\",\"\",IF(INDEX(E_SourceStreams!$A:$N,EH77,BC$7)=\"\",\"\",INDEX(E_SourceStreams!$A:$N,EH77,BC$7)))","v":""},{"$f":"IF($E77=\"\",\"\",IF(INDEX(E_SourceStreams!$A:$N,EI77,BD$7)=\"\",\"\",INDEX(E_SourceStreams!$A:$N,EI77,BD$7)))","v":""},{"$f":"IF($E77=\"\",\"\",IF(INDEX(E_SourceStreams!$A:$N,EJ77,BE$7)=\"\",\"\",INDEX(E_SourceStreams!$A:$N,EJ77,BE$7)))","v":""},{"$f":"IF($E77=\"\",\"\",IF(INDEX(E_SourceStreams!$A:$N,EK77,BF$7)=\"\",\"\",INDEX(E_SourceStreams!$A:$N,EK77,BF$7)))","v":""},{"$f":"IF($E77=\"\",\"\",IF(INDEX(E_SourceStreams!$A:$N,EL77,BG$7)=\"\",\"\",INDEX(E_SourceStreams!$A:$N,EL77,BG$7)))","v":""},{"$f":"IF($E77=\"\",\"\",IF(INDEX(E_SourceStreams!$A:$N,EM77,BH$7)=\"\",\"\",INDEX(E_SourceStreams!$A:$N,EM77,BH$7)))","v":""},{"$f":"IF($E77=\"\",\"\",IF(INDEX(E_SourceStreams!$A:$N,EN77,BI$7)=\"\",\"\",INDEX(E_SourceStreams!$A:$N,EN77,BI$7)))","v":""},{"$f":"IF($E77=\"\",\"\",IF(INDEX(E_SourceStreams!$A:$N,EO77,BJ$7)=\"\",\"\",INDEX(E_SourceStreams!$A:$N,EO77,BJ$7)))","v":""},{"$f":"IF($E77=\"\",\"\",IF(INDEX(E_SourceStreams!$A:$N,EP77,BK$7)=\"\",\"\",INDEX(E_SourceStreams!$A:$N,EP77,BK$7)))","v":""},{"$f":"IF($E77=\"\",\"\",IF(INDEX(E_SourceStreams!$A:$N,EQ77,BL$7)=\"\",\"\",INDEX(E_SourceStreams!$A:$N,EQ77,BL$7)))","v":""},{"$f":"IF($E77=\"\",\"\",IF(INDEX(E_SourceStreams!$A:$N,ER77,BM$7)=\"\",\"\",INDEX(E_SourceStreams!$A:$N,ER77,BM$7)))","v":""},{"$f":"IF($E77=\"\",\"\",IF(INDEX(E_SourceStreams!$A:$N,ES77,BN$7)=\"\",\"\",INDEX(E_SourceStreams!$A:$N,ES77,BN$7)))","v":""},{"$f":"IF($E77=\"\",\"\",IF(INDEX(E_SourceStreams!$A:$N,ET77,BO$7)=\"\",\"\",INDEX(E_SourceStreams!$A:$N,ET77,BO$7)))","v":""},{"$f":"IF($E77=\"\",\"\",IF(INDEX(E_SourceStreams!$A:$N,EU77,BP$7)=\"\",\"\",INDEX(E_SourceStreams!$A:$N,EU77,BP$7)))","v":""},{"$f":"IF($E77=\"\",\"\",IF(INDEX(E_SourceStreams!$A:$N,EV77,BQ$7)=\"\",\"\",INDEX(E_SourceStreams!$A:$N,EV77,BQ$7)))","v":""},{"$f":"IF($E77=\"\",\"\",IF(INDEX(E_SourceStreams!$A:$N,EW77,BR$7)=\"\",\"\",INDEX(E_SourceStreams!$A:$N,EW77,BR$7)))","v":""},{"$f":"IF($E77=\"\",\"\",IF(INDEX(E_SourceStreams!$A:$N,EX77,BS$7)=\"\",\"\",INDEX(E_SourceStreams!$A:$N,EX77,BS$7)))","v":""},{"$f":"IF($E77=\"\",\"\",IF(INDEX(E_SourceStreams!$A:$N,EY77,BT$7)=\"\",\"\",INDEX(E_SourceStreams!$A:$N,EY77,BT$7)))","v":""},null,null,null,null,null,null,null,null,null,null,null,null,null,null,null,"SourceCategory_",{"$f":"INDEX(C_InstallationDescription!$A$226:$A$332,ROWS($CI$11:CI77))=\"ausblenden\"","v":true},"SourceStreamName_",null,4489,{"$f":"CO76+66","v":4491},{"$f":"CP76+66","v":4493},{"$f":"CQ76+66","v":4495},{"$f":"CR76+66","v":4497},{"$f":"CS76+66","v":4499},{"$f":"CT76+66","v":4501},{"$f":"CU76+66","v":4501},{"$f":"CV76+66","v":4501},{"$f":"CW76+66","v":4501},{"$f":"CX76+66","v":4501},{"$f":"CY76+66","v":4504},{"$f":"CZ76+66","v":4508},{"$f":"DA76+66","v":4509},{"$f":"DB76+66","v":4510},{"$f":"DC76+66","v":4517},{"$f":"DD76+66","v":4527},{"$f":"DE76+66","v":4527},{"$f":"DF76+66","v":4527},{"$f":"DG76+66","v":4527},{"$f":"DH76+66","v":4527},{"$f":"DI76+66","v":4527},{"$f":"DJ76+66","v":4527},{"$f":"DK76+66","v":4518},{"$f":"DL76+66","v":4528},{"$f":"DM76+66","v":4528},{"$f":"DN76+66","v":4528},{"$f":"DO76+66","v":4528},{"$f":"DP76+66","v":4528},{"$f":"DQ76+66","v":4528},{"$f":"DR76+66","v":4528},{"$f":"DS76+66","v":4519},{"$f":"DT76+66","v":4529},{"$f":"DU76+66","v":4529},{"$f":"DV76+66","v":4529},{"$f":"DW76+66","v":4529},{"$f":"DX76+66","v":4529},{"$f":"DY76+66","v":4529},{"$f":"DZ76+66","v":4529},{"$f":"EA76+66","v":4520},{"$f":"EB76+66","v":4530},{"$f":"EC76+66","v":4530},{"$f":"ED76+66","v":4530},{"$f":"EE76+66","v":4530},{"$f":"EF76+66","v":4530},{"$f":"EG76+66","v":4530},{"$f":"EH76+66","v":4530},{"$f":"EI76+66","v":4521},{"$f":"EJ76+66","v":4531},{"$f":"EK76+66","v":4531},{"$f":"EL76+66","v":4531},{"$f":"EM76+66","v":4531},{"$f":"EN76+66","v":4531},{"$f":"EO76+66","v":4531},{"$f":"EP76+66","v":4531},{"$f":"EQ76+66","v":4522},{"$f":"ER76+66","v":4532},{"$f":"ES76+66","v":4532},{"$f":"ET76+66","v":4532},{"$f":"EU76+66","v":4532},{"$f":"EV76+66","v":4532},{"$f":"EW76+66","v":4532},{"$f":"EX76+66","v":4532},{"$f":"EY76+66","v":4538}]
[null,{"$f":"IF(COUNTIF($CK$10:CK78,TRUE)>0,\"\",INDEX(C_InstallationDescription!$E$226:$E$242,ROWS($A$11:A78)))","v":""},{"$f":"IF($E78=\"\",\"\",INDEX(C_InstallationDescription!F:F,MATCH($B78,C_InstallationDescription!$E:$E,0)))","v":""},{"$f":"IF($E78=\"\",\"\",INDEX(C_InstallationDescription!I:I,MATCH($B78,C_InstallationDescription!$E:$E,0)))","v":""},{"$f":"IF($B78=\"\",\"\",INDEX(C_InstallationDescription!F:F,MATCH($CJ78,C_InstallationDescription!$Q:$Q,0)))","v":""},{"$f":"IF($E78=\"\",\"\",INDEX(C_InstallationDescription!L:L,MATCH($CJ78,C_InstallationDescription!$Q:$Q,0)))","v":""},{"$f":"IF($E78=\"\",\"\",INDEX(C_InstallationDescription!M:M,MATCH($CJ78,C_InstallationDescription!$Q:$Q,0)))","v":""},{"$f":"IF($E78=\"\",\"\",INDEX(C_InstallationDescription!N:N,MATCH($CJ78,C_InstallationDescription!$Q:$Q,0)))","v":""},{"$f":"IF($E78=\"\",\"\",IF(INDEX(E_SourceStreams!$A:$N,CN78,I$7)=\"\",\"\",INDEX(E_SourceStreams!$A:$N,CN78,I$7)))","v":""},{"$f":"IF($E78=\"\",\"\",IF(INDEX(E_SourceStreams!$A:$N,CO78,J$7)=\"\",\"\",INDEX(E_SourceStreams!$A:$N,CO78,J$7)))","v":""},{"$f":"IF($E78=\"\",\"\",IF(INDEX(E_SourceStreams!$A:$N,CP78,K$7)=\"\",\"\",INDEX(E_SourceStreams!$A:$N,CP78,K$7)))","v":""},{"$f":"IF($E78=\"\",\"\",IF(INDEX(E_SourceStreams!$A:$N,CQ78,L$7)=\"\",\"\",INDEX(E_SourceStreams!$A:$N,CQ78,L$7)))","v":""},{"$f":"IF($E78=\"\",\"\",IF(INDEX(E_SourceStreams!$A:$N,CR78,M$7)=\"\",\"\",INDEX(E_SourceStreams!$A:$N,CR78,M$7)))","v":""},{"$f":"IF($E78=\"\",\"\",IF(INDEX(E_SourceStreams!$A:$N,CS78,N$7)=\"\",\"\",INDEX(E_SourceStreams!$A:$N,CS78,N$7)))","v":""},{"$f":"IF($E78=\"\",\"\",IF(INDEX(E_SourceStreams!$A:$N,CT78,O$7)=\"\",\"\",INDEX(E_SourceStreams!$A:$N,CT78,O$7)))","v":""},{"$f":"IF($E78=\"\",\"\",IF(INDEX(E_SourceStreams!$A:$N,CU78,P$7)=\"\",\"\",INDEX(E_SourceStreams!$A:$N,CU78,P$7)))","v":""},{"$f":"IF($E78=\"\",\"\",IF(INDEX(E_SourceStreams!$A:$N,CV78,Q$7)=\"\",\"\",INDEX(E_SourceStreams!$A:$N,CV78,Q$7)))","v":""},{"$f":"IF($E78=\"\",\"\",IF(INDEX(E_SourceStreams!$A:$N,CW78,R$7)=\"\",\"\",INDEX(E_SourceStreams!$A:$N,CW78,R$7)))","v":""},{"$f":"IF($E78=\"\",\"\",IF(INDEX(E_SourceStreams!$A:$N,CX78,S$7)=\"\",\"\",INDEX(E_SourceStreams!$A:$N,CX78,S$7)))","v":""},{"$f":"IF($E78=\"\",\"\",IF(INDEX(E_SourceStreams!$A:$N,CY78,T$7)=\"\",\"\",INDEX(E_SourceStreams!$A:$N,CY78,T$7)))","v":""},{"$f":"IF($E78=\"\",\"\",IF(INDEX(E_SourceStreams!$A:$N,CZ78,U$7)=\"\",\"\",INDEX(E_SourceStreams!$A:$N,CZ78,U$7)))","v":""},{"$f":"IF($E78=\"\",\"\",IF(INDEX(E_SourceStreams!$A:$N,DA78,V$7)=\"\",\"\",INDEX(E_SourceStreams!$A:$N,DA78,V$7)))","v":""},{"$f":"IF($E78=\"\",\"\",IF(INDEX(E_SourceStreams!$A:$N,DB78,W$7)=\"\",\"\",INDEX(E_SourceStreams!$A:$N,DB78,W$7)))","v":""},{"$f":"IF($E78=\"\",\"\",IF(INDEX(E_SourceStreams!$A:$N,DC78,X$7)=\"\",\"\",INDEX(E_SourceStreams!$A:$N,DC78,X$7)))","v":""},{"$f":"IF($E78=\"\",\"\",IF(INDEX(E_SourceStreams!$A:$N,DD78,Y$7)=\"\",\"\",INDEX(E_SourceStreams!$A:$N,DD78,Y$7)))","v":""},{"$f":"IF($E78=\"\",\"\",IF(INDEX(E_SourceStreams!$A:$N,DE78,Z$7)=\"\",\"\",INDEX(E_SourceStreams!$A:$N,DE78,Z$7)))","v":""},{"$f":"IF($E78=\"\",\"\",IF(INDEX(E_SourceStreams!$A:$N,DF78,AA$7)=\"\",\"\",INDEX(E_SourceStreams!$A:$N,DF78,AA$7)))","v":""},{"$f":"IF($E78=\"\",\"\",IF(INDEX(E_SourceStreams!$A:$N,DG78,AB$7)=\"\",\"\",INDEX(E_SourceStreams!$A:$N,DG78,AB$7)))","v":""},{"$f":"IF($E78=\"\",\"\",IF(INDEX(E_SourceStreams!$A:$N,DH78,AC$7)=\"\",\"\",INDEX(E_SourceStreams!$A:$N,DH78,AC$7)))","v":""},{"$f":"IF($E78=\"\",\"\",IF(INDEX(E_SourceStreams!$A:$N,DI78,AD$7)=\"\",\"\",INDEX(E_SourceStreams!$A:$N,DI78,AD$7)))","v":""},{"$f":"IF($E78=\"\",\"\",IF(INDEX(E_SourceStreams!$A:$N,DJ78,AE$7)=\"\",\"\",INDEX(E_SourceStreams!$A:$N,DJ78,AE$7)))","v":""},{"$f":"IF($E78=\"\",\"\",IF(INDEX(E_SourceStreams!$A:$N,DK78,AF$7)=\"\",\"\",INDEX(E_SourceStreams!$A:$N,DK78,AF$7)))","v":""},{"$f":"IF($E78=\"\",\"\",IF(INDEX(E_SourceStreams!$A:$N,DL78,AG$7)=\"\",\"\",INDEX(E_SourceStreams!$A:$N,DL78,AG$7)))","v":""},{"$f":"IF($E78=\"\",\"\",IF(INDEX(E_SourceStreams!$A:$N,DM78,AH$7)=\"\",\"\",INDEX(E_SourceStreams!$A:$N,DM78,AH$7)))","v":""},{"$f":"IF($E78=\"\",\"\",IF(INDEX(E_SourceStreams!$A:$N,DN78,AI$7)=\"\",\"\",INDEX(E_SourceStreams!$A:$N,DN78,AI$7)))","v":""},{"$f":"IF($E78=\"\",\"\",IF(INDEX(E_SourceStreams!$A:$N,DO78,AJ$7)=\"\",\"\",INDEX(E_SourceStreams!$A:$N,DO78,AJ$7)))","v":""},{"$f":"IF($E78=\"\",\"\",IF(INDEX(E_SourceStreams!$A:$N,DP78,AK$7)=\"\",\"\",INDEX(E_SourceStreams!$A:$N,DP78,AK$7)))","v":""},{"$f":"IF($E78=\"\",\"\",IF(INDEX(E_SourceStreams!$A:$N,DQ78,AL$7)=\"\",\"\",INDEX(E_SourceStreams!$A:$N,DQ78,AL$7)))","v":""},{"$f":"IF($E78=\"\",\"\",IF(INDEX(E_SourceStreams!$A:$N,DR78,AM$7)=\"\",\"\",INDEX(E_SourceStreams!$A:$N,DR78,AM$7)))","v":""},{"$f":"IF($E78=\"\",\"\",IF(INDEX(E_SourceStreams!$A:$N,DS78,AN$7)=\"\",\"\",INDEX(E_SourceStreams!$A:$N,DS78,AN$7)))","v":""},{"$f":"IF($E78=\"\",\"\",IF(INDEX(E_SourceStreams!$A:$N,DT78,AO$7)=\"\",\"\",INDEX(E_SourceStreams!$A:$N,DT78,AO$7)))","v":""},{"$f":"IF($E78=\"\",\"\",IF(INDEX(E_SourceStreams!$A:$N,DU78,AP$7)=\"\",\"\",INDEX(E_SourceStreams!$A:$N,DU78,AP$7)))","v":""},{"$f":"IF($E78=\"\",\"\",IF(INDEX(E_SourceStreams!$A:$N,DV78,AQ$7)=\"\",\"\",INDEX(E_SourceStreams!$A:$N,DV78,AQ$7)))","v":""},{"$f":"IF($E78=\"\",\"\",IF(INDEX(E_SourceStreams!$A:$N,DW78,AR$7)=\"\",\"\",INDEX(E_SourceStreams!$A:$N,DW78,AR$7)))","v":""},{"$f":"IF($E78=\"\",\"\",IF(INDEX(E_SourceStreams!$A:$N,DX78,AS$7)=\"\",\"\",INDEX(E_SourceStreams!$A:$N,DX78,AS$7)))","v":""},{"$f":"IF($E78=\"\",\"\",IF(INDEX(E_SourceStreams!$A:$N,DY78,AT$7)=\"\",\"\",INDEX(E_SourceStreams!$A:$N,DY78,AT$7)))","v":""},{"$f":"IF($E78=\"\",\"\",IF(INDEX(E_SourceStreams!$A:$N,DZ78,AU$7)=\"\",\"\",INDEX(E_SourceStreams!$A:$N,DZ78,AU$7)))","v":""},{"$f":"IF($E78=\"\",\"\",IF(INDEX(E_SourceStreams!$A:$N,EA78,AV$7)=\"\",\"\",INDEX(E_SourceStreams!$A:$N,EA78,AV$7)))","v":""},{"$f":"IF($E78=\"\",\"\",IF(INDEX(E_SourceStreams!$A:$N,EB78,AW$7)=\"\",\"\",INDEX(E_SourceStreams!$A:$N,EB78,AW$7)))","v":""},{"$f":"IF($E78=\"\",\"\",IF(INDEX(E_SourceStreams!$A:$N,EC78,AX$7)=\"\",\"\",INDEX(E_SourceStreams!$A:$N,EC78,AX$7)))","v":""},{"$f":"IF($E78=\"\",\"\",IF(INDEX(E_SourceStreams!$A:$N,ED78,AY$7)=\"\",\"\",INDEX(E_SourceStreams!$A:$N,ED78,AY$7)))","v":""},{"$f":"IF($E78=\"\",\"\",IF(INDEX(E_SourceStreams!$A:$N,EE78,AZ$7)=\"\",\"\",INDEX(E_SourceStreams!$A:$N,EE78,AZ$7)))","v":""},{"$f":"IF($E78=\"\",\"\",IF(INDEX(E_SourceStreams!$A:$N,EF78,BA$7)=\"\",\"\",INDEX(E_SourceStreams!$A:$N,EF78,BA$7)))","v":""},{"$f":"IF($E78=\"\",\"\",IF(INDEX(E_SourceStreams!$A:$N,EG78,BB$7)=\"\",\"\",INDEX(E_SourceStreams!$A:$N,EG78,BB$7)))","v":""},{"$f":"IF($E78=\"\",\"\",IF(INDEX(E_SourceStreams!$A:$N,EH78,BC$7)=\"\",\"\",INDEX(E_SourceStreams!$A:$N,EH78,BC$7)))","v":""},{"$f":"IF($E78=\"\",\"\",IF(INDEX(E_SourceStreams!$A:$N,EI78,BD$7)=\"\",\"\",INDEX(E_SourceStreams!$A:$N,EI78,BD$7)))","v":""},{"$f":"IF($E78=\"\",\"\",IF(INDEX(E_SourceStreams!$A:$N,EJ78,BE$7)=\"\",\"\",INDEX(E_SourceStreams!$A:$N,EJ78,BE$7)))","v":""},{"$f":"IF($E78=\"\",\"\",IF(INDEX(E_SourceStreams!$A:$N,EK78,BF$7)=\"\",\"\",INDEX(E_SourceStreams!$A:$N,EK78,BF$7)))","v":""},{"$f":"IF($E78=\"\",\"\",IF(INDEX(E_SourceStreams!$A:$N,EL78,BG$7)=\"\",\"\",INDEX(E_SourceStreams!$A:$N,EL78,BG$7)))","v":""},{"$f":"IF($E78=\"\",\"\",IF(INDEX(E_SourceStreams!$A:$N,EM78,BH$7)=\"\",\"\",INDEX(E_SourceStreams!$A:$N,EM78,BH$7)))","v":""},{"$f":"IF($E78=\"\",\"\",IF(INDEX(E_SourceStreams!$A:$N,EN78,BI$7)=\"\",\"\",INDEX(E_SourceStreams!$A:$N,EN78,BI$7)))","v":""},{"$f":"IF($E78=\"\",\"\",IF(INDEX(E_SourceStreams!$A:$N,EO78,BJ$7)=\"\",\"\",INDEX(E_SourceStreams!$A:$N,EO78,BJ$7)))","v":""},{"$f":"IF($E78=\"\",\"\",IF(INDEX(E_SourceStreams!$A:$N,EP78,BK$7)=\"\",\"\",INDEX(E_SourceStreams!$A:$N,EP78,BK$7)))","v":""},{"$f":"IF($E78=\"\",\"\",IF(INDEX(E_SourceStreams!$A:$N,EQ78,BL$7)=\"\",\"\",INDEX(E_SourceStreams!$A:$N,EQ78,BL$7)))","v":""},{"$f":"IF($E78=\"\",\"\",IF(INDEX(E_SourceStreams!$A:$N,ER78,BM$7)=\"\",\"\",INDEX(E_SourceStreams!$A:$N,ER78,BM$7)))","v":""},{"$f":"IF($E78=\"\",\"\",IF(INDEX(E_SourceStreams!$A:$N,ES78,BN$7)=\"\",\"\",INDEX(E_SourceStreams!$A:$N,ES78,BN$7)))","v":""},{"$f":"IF($E78=\"\",\"\",IF(INDEX(E_SourceStreams!$A:$N,ET78,BO$7)=\"\",\"\",INDEX(E_SourceStreams!$A:$N,ET78,BO$7)))","v":""},{"$f":"IF($E78=\"\",\"\",IF(INDEX(E_SourceStreams!$A:$N,EU78,BP$7)=\"\",\"\",INDEX(E_SourceStreams!$A:$N,EU78,BP$7)))","v":""},{"$f":"IF($E78=\"\",\"\",IF(INDEX(E_SourceStreams!$A:$N,EV78,BQ$7)=\"\",\"\",INDEX(E_SourceStreams!$A:$N,EV78,BQ$7)))","v":""},{"$f":"IF($E78=\"\",\"\",IF(INDEX(E_SourceStreams!$A:$N,EW78,BR$7)=\"\",\"\",INDEX(E_SourceStreams!$A:$N,EW78,BR$7)))","v":""},{"$f":"IF($E78=\"\",\"\",IF(INDEX(E_SourceStreams!$A:$N,EX78,BS$7)=\"\",\"\",INDEX(E_SourceStreams!$A:$N,EX78,BS$7)))","v":""},{"$f":"IF($E78=\"\",\"\",IF(INDEX(E_SourceStreams!$A:$N,EY78,BT$7)=\"\",\"\",INDEX(E_SourceStreams!$A:$N,EY78,BT$7)))","v":""},null,null,null,null,null,null,null,null,null,null,null,null,null,null,null,"SourceCategory_",{"$f":"INDEX(C_InstallationDescription!$A$226:$A$332,ROWS($CI$11:CI78))=\"ausblenden\"","v":true},"SourceStreamName_",null,{"$f":"CN77+66","v":4555},4557,4559,4561,4563,4565,4567,4567,4567,4567,4567,4570,4574,4575,4576,4583,4593,4593,4593,4593,4593,4593,4593,4584,4594,4594,4594,4594,4594,4594,4594,4585,4595,4595,4595,4595,4595,4595,4595,4586,4596,4596,4596,4596,4596,4596,4596,4587,4597,4597,4597,4597,4597,4597,4597,4588,4598,4598,4598,4598,4598,4598,4598,4604]
[null,{"$f":"IF(COUNTIF($CK$10:CK79,TRUE)>0,\"\",INDEX(C_InstallationDescription!$E$226:$E$242,ROWS($A$11:A79)))","v":""},{"$f":"IF($E79=\"\",\"\",INDEX(C_InstallationDescription!F:F,MATCH($B79,C_InstallationDescription!$E:$E,0)))","v":""},{"$f":"IF($E79=\"\",\"\",INDEX(C_InstallationDescription!I:I,MATCH($B79,C_InstallationDescription!$E:$E,0)))","v":""},{"$f":"IF($B79=\"\",\"\",INDEX(C_InstallationDescription!F:F,MATCH($CJ79,C_InstallationDescription!$Q:$Q,0)))","v":""},{"$f":"IF($E79=\"\",\"\",INDEX(C_InstallationDescription!L:L,MATCH($CJ79,C_InstallationDescription!$Q:$Q,0)))","v":""},{"$f":"IF($E79=\"\",\"\",INDEX(C_InstallationDescription!M:M,MATCH($CJ79,C_InstallationDescription!$Q:$Q,0)))","v":""},{"$f":"IF($E79=\"\",\"\",INDEX(C_InstallationDescription!N:N,MATCH($CJ79,C_InstallationDescription!$Q:$Q,0)))","v":""},{"$f":"IF($E79=\"\",\"\",IF(INDEX(E_SourceStreams!$A:$N,CN79,I$7)=\"\",\"\",INDEX(E_SourceStreams!$A:$N,CN79,I$7)))","v":""},{"$f":"IF($E79=\"\",\"\",IF(INDEX(E_SourceStreams!$A:$N,CO79,J$7)=\"\",\"\",INDEX(E_SourceStreams!$A:$N,CO79,J$7)))","v":""},{"$f":"IF($E79=\"\",\"\",IF(INDEX(E_SourceStreams!$A:$N,CP79,K$7)=\"\",\"\",INDEX(E_SourceStreams!$A:$N,CP79,K$7)))","v":""},{"$f":"IF($E79=\"\",\"\",IF(INDEX(E_SourceStreams!$A:$N,CQ79,L$7)=\"\",\"\",INDEX(E_SourceStreams!$A:$N,CQ79,L$7)))","v":""},{"$f":"IF($E79=\"\",\"\",IF(INDEX(E_SourceStreams!$A:$N,CR79,M$7)=\"\",\"\",INDEX(E_SourceStreams!$A:$N,CR79,M$7)))","v":""},{"$f":"IF($E79=\"\",\"\",IF(INDEX(E_SourceStreams!$A:$N,CS79,N$7)=\"\",\"\",INDEX(E_SourceStreams!$A:$N,CS79,N$7)))","v":""},{"$f":"IF($E79=\"\",\"\",IF(INDEX(E_SourceStreams!$A:$N,CT79,O$7)=\"\",\"\",INDEX(E_SourceStreams!$A:$N,CT79,O$7)))","v":""},{"$f":"IF($E79=\"\",\"\",IF(INDEX(E_SourceStreams!$A:$N,CU79,P$7)=\"\",\"\",INDEX(E_SourceStreams!$A:$N,CU79,P$7)))","v":""},{"$f":"IF($E79=\"\",\"\",IF(INDEX(E_SourceStreams!$A:$N,CV79,Q$7)=\"\",\"\",INDEX(E_SourceStreams!$A:$N,CV79,Q$7)))","v":""},{"$f":"IF($E79=\"\",\"\",IF(INDEX(E_SourceStreams!$A:$N,CW79,R$7)=\"\",\"\",INDEX(E_SourceStreams!$A:$N,CW79,R$7)))","v":""},{"$f":"IF($E79=\"\",\"\",IF(INDEX(E_SourceStreams!$A:$N,CX79,S$7)=\"\",\"\",INDEX(E_SourceStreams!$A:$N,CX79,S$7)))","v":""},{"$f":"IF($E79=\"\",\"\",IF(INDEX(E_SourceStreams!$A:$N,CY79,T$7)=\"\",\"\",INDEX(E_SourceStreams!$A:$N,CY79,T$7)))","v":""},{"$f":"IF($E79=\"\",\"\",IF(INDEX(E_SourceStreams!$A:$N,CZ79,U$7)=\"\",\"\",INDEX(E_SourceStreams!$A:$N,CZ79,U$7)))","v":""},{"$f":"IF($E79=\"\",\"\",IF(INDEX(E_SourceStreams!$A:$N,DA79,V$7)=\"\",\"\",INDEX(E_SourceStreams!$A:$N,DA79,V$7)))","v":""},{"$f":"IF($E79=\"\",\"\",IF(INDEX(E_SourceStreams!$A:$N,DB79,W$7)=\"\",\"\",INDEX(E_SourceStreams!$A:$N,DB79,W$7)))","v":""},{"$f":"IF($E79=\"\",\"\",IF(INDEX(E_SourceStreams!$A:$N,DC79,X$7)=\"\",\"\",INDEX(E_SourceStreams!$A:$N,DC79,X$7)))","v":""},{"$f":"IF($E79=\"\",\"\",IF(INDEX(E_SourceStreams!$A:$N,DD79,Y$7)=\"\",\"\",INDEX(E_SourceStreams!$A:$N,DD79,Y$7)))","v":""},{"$f":"IF($E79=\"\",\"\",IF(INDEX(E_SourceStreams!$A:$N,DE79,Z$7)=\"\",\"\",INDEX(E_SourceStreams!$A:$N,DE79,Z$7)))","v":""},{"$f":"IF($E79=\"\",\"\",IF(INDEX(E_SourceStreams!$A:$N,DF79,AA$7)=\"\",\"\",INDEX(E_SourceStreams!$A:$N,DF79,AA$7)))","v":""},{"$f":"IF($E79=\"\",\"\",IF(INDEX(E_SourceStreams!$A:$N,DG79,AB$7)=\"\",\"\",INDEX(E_SourceStreams!$A:$N,DG79,AB$7)))","v":""},{"$f":"IF($E79=\"\",\"\",IF(INDEX(E_SourceStreams!$A:$N,DH79,AC$7)=\"\",\"\",INDEX(E_SourceStreams!$A:$N,DH79,AC$7)))","v":""},{"$f":"IF($E79=\"\",\"\",IF(INDEX(E_SourceStreams!$A:$N,DI79,AD$7)=\"\",\"\",INDEX(E_SourceStreams!$A:$N,DI79,AD$7)))","v":""},{"$f":"IF($E79=\"\",\"\",IF(INDEX(E_SourceStreams!$A:$N,DJ79,AE$7)=\"\",\"\",INDEX(E_SourceStreams!$A:$N,DJ79,AE$7)))","v":""},{"$f":"IF($E79=\"\",\"\",IF(INDEX(E_SourceStreams!$A:$N,DK79,AF$7)=\"\",\"\",INDEX(E_SourceStreams!$A:$N,DK79,AF$7)))","v":""},{"$f":"IF($E79=\"\",\"\",IF(INDEX(E_SourceStreams!$A:$N,DL79,AG$7)=\"\",\"\",INDEX(E_SourceStreams!$A:$N,DL79,AG$7)))","v":""},{"$f":"IF($E79=\"\",\"\",IF(INDEX(E_SourceStreams!$A:$N,DM79,AH$7)=\"\",\"\",INDEX(E_SourceStreams!$A:$N,DM79,AH$7)))","v":""},{"$f":"IF($E79=\"\",\"\",IF(INDEX(E_SourceStreams!$A:$N,DN79,AI$7)=\"\",\"\",INDEX(E_SourceStreams!$A:$N,DN79,AI$7)))","v":""},{"$f":"IF($E79=\"\",\"\",IF(INDEX(E_SourceStreams!$A:$N,DO79,AJ$7)=\"\",\"\",INDEX(E_SourceStreams!$A:$N,DO79,AJ$7)))","v":""},{"$f":"IF($E79=\"\",\"\",IF(INDEX(E_SourceStreams!$A:$N,DP79,AK$7)=\"\",\"\",INDEX(E_SourceStreams!$A:$N,DP79,AK$7)))","v":""},{"$f":"IF($E79=\"\",\"\",IF(INDEX(E_SourceStreams!$A:$N,DQ79,AL$7)=\"\",\"\",INDEX(E_SourceStreams!$A:$N,DQ79,AL$7)))","v":""},{"$f":"IF($E79=\"\",\"\",IF(INDEX(E_SourceStreams!$A:$N,DR79,AM$7)=\"\",\"\",INDEX(E_SourceStreams!$A:$N,DR79,AM$7)))","v":""},{"$f":"IF($E79=\"\",\"\",IF(INDEX(E_SourceStreams!$A:$N,DS79,AN$7)=\"\",\"\",INDEX(E_SourceStreams!$A:$N,DS79,AN$7)))","v":""},{"$f":"IF($E79=\"\",\"\",IF(INDEX(E_SourceStreams!$A:$N,DT79,AO$7)=\"\",\"\",INDEX(E_SourceStreams!$A:$N,DT79,AO$7)))","v":""},{"$f":"IF($E79=\"\",\"\",IF(INDEX(E_SourceStreams!$A:$N,DU79,AP$7)=\"\",\"\",INDEX(E_SourceStreams!$A:$N,DU79,AP$7)))","v":""},{"$f":"IF($E79=\"\",\"\",IF(INDEX(E_SourceStreams!$A:$N,DV79,AQ$7)=\"\",\"\",INDEX(E_SourceStreams!$A:$N,DV79,AQ$7)))","v":""},{"$f":"IF($E79=\"\",\"\",IF(INDEX(E_SourceStreams!$A:$N,DW79,AR$7)=\"\",\"\",INDEX(E_SourceStreams!$A:$N,DW79,AR$7)))","v":""},{"$f":"IF($E79=\"\",\"\",IF(INDEX(E_SourceStreams!$A:$N,DX79,AS$7)=\"\",\"\",INDEX(E_SourceStreams!$A:$N,DX79,AS$7)))","v":""},{"$f":"IF($E79=\"\",\"\",IF(INDEX(E_SourceStreams!$A:$N,DY79,AT$7)=\"\",\"\",INDEX(E_SourceStreams!$A:$N,DY79,AT$7)))","v":""},{"$f":"IF($E79=\"\",\"\",IF(INDEX(E_SourceStreams!$A:$N,DZ79,AU$7)=\"\",\"\",INDEX(E_SourceStreams!$A:$N,DZ79,AU$7)))","v":""},{"$f":"IF($E79=\"\",\"\",IF(INDEX(E_SourceStreams!$A:$N,EA79,AV$7)=\"\",\"\",INDEX(E_SourceStreams!$A:$N,EA79,AV$7)))","v":""},{"$f":"IF($E79=\"\",\"\",IF(INDEX(E_SourceStreams!$A:$N,EB79,AW$7)=\"\",\"\",INDEX(E_SourceStreams!$A:$N,EB79,AW$7)))","v":""},{"$f":"IF($E79=\"\",\"\",IF(INDEX(E_SourceStreams!$A:$N,EC79,AX$7)=\"\",\"\",INDEX(E_SourceStreams!$A:$N,EC79,AX$7)))","v":""},{"$f":"IF($E79=\"\",\"\",IF(INDEX(E_SourceStreams!$A:$N,ED79,AY$7)=\"\",\"\",INDEX(E_SourceStreams!$A:$N,ED79,AY$7)))","v":""},{"$f":"IF($E79=\"\",\"\",IF(INDEX(E_SourceStreams!$A:$N,EE79,AZ$7)=\"\",\"\",INDEX(E_SourceStreams!$A:$N,EE79,AZ$7)))","v":""},{"$f":"IF($E79=\"\",\"\",IF(INDEX(E_SourceStreams!$A:$N,EF79,BA$7)=\"\",\"\",INDEX(E_SourceStreams!$A:$N,EF79,BA$7)))","v":""},{"$f":"IF($E79=\"\",\"\",IF(INDEX(E_SourceStreams!$A:$N,EG79,BB$7)=\"\",\"\",INDEX(E_SourceStreams!$A:$N,EG79,BB$7)))","v":""},{"$f":"IF($E79=\"\",\"\",IF(INDEX(E_SourceStreams!$A:$N,EH79,BC$7)=\"\",\"\",INDEX(E_SourceStreams!$A:$N,EH79,BC$7)))","v":""},{"$f":"IF($E79=\"\",\"\",IF(INDEX(E_SourceStreams!$A:$N,EI79,BD$7)=\"\",\"\",INDEX(E_SourceStreams!$A:$N,EI79,BD$7)))","v":""},{"$f":"IF($E79=\"\",\"\",IF(INDEX(E_SourceStreams!$A:$N,EJ79,BE$7)=\"\",\"\",INDEX(E_SourceStreams!$A:$N,EJ79,BE$7)))","v":""},{"$f":"IF($E79=\"\",\"\",IF(INDEX(E_SourceStreams!$A:$N,EK79,BF$7)=\"\",\"\",INDEX(E_SourceStreams!$A:$N,EK79,BF$7)))","v":""},{"$f":"IF($E79=\"\",\"\",IF(INDEX(E_SourceStreams!$A:$N,EL79,BG$7)=\"\",\"\",INDEX(E_SourceStreams!$A:$N,EL79,BG$7)))","v":""},{"$f":"IF($E79=\"\",\"\",IF(INDEX(E_SourceStreams!$A:$N,EM79,BH$7)=\"\",\"\",INDEX(E_SourceStreams!$A:$N,EM79,BH$7)))","v":""},{"$f":"IF($E79=\"\",\"\",IF(INDEX(E_SourceStreams!$A:$N,EN79,BI$7)=\"\",\"\",INDEX(E_SourceStreams!$A:$N,EN79,BI$7)))","v":""},{"$f":"IF($E79=\"\",\"\",IF(INDEX(E_SourceStreams!$A:$N,EO79,BJ$7)=\"\",\"\",INDEX(E_SourceStreams!$A:$N,EO79,BJ$7)))","v":""},{"$f":"IF($E79=\"\",\"\",IF(INDEX(E_SourceStreams!$A:$N,EP79,BK$7)=\"\",\"\",INDEX(E_SourceStreams!$A:$N,EP79,BK$7)))","v":""},{"$f":"IF($E79=\"\",\"\",IF(INDEX(E_SourceStreams!$A:$N,EQ79,BL$7)=\"\",\"\",INDEX(E_SourceStreams!$A:$N,EQ79,BL$7)))","v":""},{"$f":"IF($E79=\"\",\"\",IF(INDEX(E_SourceStreams!$A:$N,ER79,BM$7)=\"\",\"\",INDEX(E_SourceStreams!$A:$N,ER79,BM$7)))","v":""},{"$f":"IF($E79=\"\",\"\",IF(INDEX(E_SourceStreams!$A:$N,ES79,BN$7)=\"\",\"\",INDEX(E_SourceStreams!$A:$N,ES79,BN$7)))","v":""},{"$f":"IF($E79=\"\",\"\",IF(INDEX(E_SourceStreams!$A:$N,ET79,BO$7)=\"\",\"\",INDEX(E_SourceStreams!$A:$N,ET79,BO$7)))","v":""},{"$f":"IF($E79=\"\",\"\",IF(INDEX(E_SourceStreams!$A:$N,EU79,BP$7)=\"\",\"\",INDEX(E_SourceStreams!$A:$N,EU79,BP$7)))","v":""},{"$f":"IF($E79=\"\",\"\",IF(INDEX(E_SourceStreams!$A:$N,EV79,BQ$7)=\"\",\"\",INDEX(E_SourceStreams!$A:$N,EV79,BQ$7)))","v":""},{"$f":"IF($E79=\"\",\"\",IF(INDEX(E_SourceStreams!$A:$N,EW79,BR$7)=\"\",\"\",INDEX(E_SourceStreams!$A:$N,EW79,BR$7)))","v":""},{"$f":"IF($E79=\"\",\"\",IF(INDEX(E_SourceStreams!$A:$N,EX79,BS$7)=\"\",\"\",INDEX(E_SourceStreams!$A:$N,EX79,BS$7)))","v":""},{"$f":"IF($E79=\"\",\"\",IF(INDEX(E_SourceStreams!$A:$N,EY79,BT$7)=\"\",\"\",INDEX(E_SourceStreams!$A:$N,EY79,BT$7)))","v":""},null,null,null,null,null,null,null,null,null,null,null,null,null,null,null,"SourceCategory_",{"$f":"INDEX(C_InstallationDescription!$A$226:$A$332,ROWS($CI$11:CI79))=\"ausblenden\"","v":true},"SourceStreamName_",null,4621,4623,4625,4627,4629,4631,4633,4633,4633,4633,4633,4636,4640,4641,4642,4649,4659,4659,4659,4659,4659,4659,4659,4650,4660,4660,4660,4660,4660,4660,4660,4651,4661,4661,4661,4661,4661,4661,4661,4652,4662,4662,4662,4662,4662,4662,4662,4653,4663,4663,4663,4663,4663,4663,4663,4654,4664,4664,4664,4664,4664,4664,4664,4670]
[null,{"$f":"IF(COUNTIF($CK$10:CK80,TRUE)>0,\"\",INDEX(C_InstallationDescription!$E$226:$E$242,ROWS($A$11:A80)))","v":""},{"$f":"IF($E80=\"\",\"\",INDEX(C_InstallationDescription!F:F,MATCH($B80,C_InstallationDescription!$E:$E,0)))","v":""},{"$f":"IF($E80=\"\",\"\",INDEX(C_InstallationDescription!I:I,MATCH($B80,C_InstallationDescription!$E:$E,0)))","v":""},{"$f":"IF($B80=\"\",\"\",INDEX(C_InstallationDescription!F:F,MATCH($CJ80,C_InstallationDescription!$Q:$Q,0)))","v":""},{"$f":"IF($E80=\"\",\"\",INDEX(C_InstallationDescription!L:L,MATCH($CJ80,C_InstallationDescription!$Q:$Q,0)))","v":""},{"$f":"IF($E80=\"\",\"\",INDEX(C_InstallationDescription!M:M,MATCH($CJ80,C_InstallationDescription!$Q:$Q,0)))","v":""},{"$f":"IF($E80=\"\",\"\",INDEX(C_InstallationDescription!N:N,MATCH($CJ80,C_InstallationDescription!$Q:$Q,0)))","v":""},{"$f":"IF($E80=\"\",\"\",IF(INDEX(E_SourceStreams!$A:$N,CN80,I$7)=\"\",\"\",INDEX(E_SourceStreams!$A:$N,CN80,I$7)))","v":""},{"$f":"IF($E80=\"\",\"\",IF(INDEX(E_SourceStreams!$A:$N,CO80,J$7)=\"\",\"\",INDEX(E_SourceStreams!$A:$N,CO80,J$7)))","v":""},{"$f":"IF($E80=\"\",\"\",IF(INDEX(E_SourceStreams!$A:$N,CP80,K$7)=\"\",\"\",INDEX(E_SourceStreams!$A:$N,CP80,K$7)))","v":""},{"$f":"IF($E80=\"\",\"\",IF(INDEX(E_SourceStreams!$A:$N,CQ80,L$7)=\"\",\"\",INDEX(E_SourceStreams!$A:$N,CQ80,L$7)))","v":""},{"$f":"IF($E80=\"\",\"\",IF(INDEX(E_SourceStreams!$A:$N,CR80,M$7)=\"\",\"\",INDEX(E_SourceStreams!$A:$N,CR80,M$7)))","v":""},{"$f":"IF($E80=\"\",\"\",IF(INDEX(E_SourceStreams!$A:$N,CS80,N$7)=\"\",\"\",INDEX(E_SourceStreams!$A:$N,CS80,N$7)))","v":""},{"$f":"IF($E80=\"\",\"\",IF(INDEX(E_SourceStreams!$A:$N,CT80,O$7)=\"\",\"\",INDEX(E_SourceStreams!$A:$N,CT80,O$7)))","v":""},{"$f":"IF($E80=\"\",\"\",IF(INDEX(E_SourceStreams!$A:$N,CU80,P$7)=\"\",\"\",INDEX(E_SourceStreams!$A:$N,CU80,P$7)))","v":""},{"$f":"IF($E80=\"\",\"\",IF(INDEX(E_SourceStreams!$A:$N,CV80,Q$7)=\"\",\"\",INDEX(E_SourceStreams!$A:$N,CV80,Q$7)))","v":""},{"$f":"IF($E80=\"\",\"\",IF(INDEX(E_SourceStreams!$A:$N,CW80,R$7)=\"\",\"\",INDEX(E_SourceStreams!$A:$N,CW80,R$7)))","v":""},{"$f":"IF($E80=\"\",\"\",IF(INDEX(E_SourceStreams!$A:$N,CX80,S$7)=\"\",\"\",INDEX(E_SourceStreams!$A:$N,CX80,S$7)))","v":""},{"$f":"IF($E80=\"\",\"\",IF(INDEX(E_SourceStreams!$A:$N,CY80,T$7)=\"\",\"\",INDEX(E_SourceStreams!$A:$N,CY80,T$7)))","v":""},{"$f":"IF($E80=\"\",\"\",IF(INDEX(E_SourceStreams!$A:$N,CZ80,U$7)=\"\",\"\",INDEX(E_SourceStreams!$A:$N,CZ80,U$7)))","v":""},{"$f":"IF($E80=\"\",\"\",IF(INDEX(E_SourceStreams!$A:$N,DA80,V$7)=\"\",\"\",INDEX(E_SourceStreams!$A:$N,DA80,V$7)))","v":""},{"$f":"IF($E80=\"\",\"\",IF(INDEX(E_SourceStreams!$A:$N,DB80,W$7)=\"\",\"\",INDEX(E_SourceStreams!$A:$N,DB80,W$7)))","v":""},{"$f":"IF($E80=\"\",\"\",IF(INDEX(E_SourceStreams!$A:$N,DC80,X$7)=\"\",\"\",INDEX(E_SourceStreams!$A:$N,DC80,X$7)))","v":""},{"$f":"IF($E80=\"\",\"\",IF(INDEX(E_SourceStreams!$A:$N,DD80,Y$7)=\"\",\"\",INDEX(E_SourceStreams!$A:$N,DD80,Y$7)))","v":""},{"$f":"IF($E80=\"\",\"\",IF(INDEX(E_SourceStreams!$A:$N,DE80,Z$7)=\"\",\"\",INDEX(E_SourceStreams!$A:$N,DE80,Z$7)))","v":""},{"$f":"IF($E80=\"\",\"\",IF(INDEX(E_SourceStreams!$A:$N,DF80,AA$7)=\"\",\"\",INDEX(E_SourceStreams!$A:$N,DF80,AA$7)))","v":""},{"$f":"IF($E80=\"\",\"\",IF(INDEX(E_SourceStreams!$A:$N,DG80,AB$7)=\"\",\"\",INDEX(E_SourceStreams!$A:$N,DG80,AB$7)))","v":""},{"$f":"IF($E80=\"\",\"\",IF(INDEX(E_SourceStreams!$A:$N,DH80,AC$7)=\"\",\"\",INDEX(E_SourceStreams!$A:$N,DH80,AC$7)))","v":""},{"$f":"IF($E80=\"\",\"\",IF(INDEX(E_SourceStreams!$A:$N,DI80,AD$7)=\"\",\"\",INDEX(E_SourceStreams!$A:$N,DI80,AD$7)))","v":""},{"$f":"IF($E80=\"\",\"\",IF(INDEX(E_SourceStreams!$A:$N,DJ80,AE$7)=\"\",\"\",INDEX(E_SourceStreams!$A:$N,DJ80,AE$7)))","v":""},{"$f":"IF($E80=\"\",\"\",IF(INDEX(E_SourceStreams!$A:$N,DK80,AF$7)=\"\",\"\",INDEX(E_SourceStreams!$A:$N,DK80,AF$7)))","v":""},{"$f":"IF($E80=\"\",\"\",IF(INDEX(E_SourceStreams!$A:$N,DL80,AG$7)=\"\",\"\",INDEX(E_SourceStreams!$A:$N,DL80,AG$7)))","v":""},{"$f":"IF($E80=\"\",\"\",IF(INDEX(E_SourceStreams!$A:$N,DM80,AH$7)=\"\",\"\",INDEX(E_SourceStreams!$A:$N,DM80,AH$7)))","v":""},{"$f":"IF($E80=\"\",\"\",IF(INDEX(E_SourceStreams!$A:$N,DN80,AI$7)=\"\",\"\",INDEX(E_SourceStreams!$A:$N,DN80,AI$7)))","v":""},{"$f":"IF($E80=\"\",\"\",IF(INDEX(E_SourceStreams!$A:$N,DO80,AJ$7)=\"\",\"\",INDEX(E_SourceStreams!$A:$N,DO80,AJ$7)))","v":""},{"$f":"IF($E80=\"\",\"\",IF(INDEX(E_SourceStreams!$A:$N,DP80,AK$7)=\"\",\"\",INDEX(E_SourceStreams!$A:$N,DP80,AK$7)))","v":""},{"$f":"IF($E80=\"\",\"\",IF(INDEX(E_SourceStreams!$A:$N,DQ80,AL$7)=\"\",\"\",INDEX(E_SourceStreams!$A:$N,DQ80,AL$7)))","v":""},{"$f":"IF($E80=\"\",\"\",IF(INDEX(E_SourceStreams!$A:$N,DR80,AM$7)=\"\",\"\",INDEX(E_SourceStreams!$A:$N,DR80,AM$7)))","v":""},{"$f":"IF($E80=\"\",\"\",IF(INDEX(E_SourceStreams!$A:$N,DS80,AN$7)=\"\",\"\",INDEX(E_SourceStreams!$A:$N,DS80,AN$7)))","v":""},{"$f":"IF($E80=\"\",\"\",IF(INDEX(E_SourceStreams!$A:$N,DT80,AO$7)=\"\",\"\",INDEX(E_SourceStreams!$A:$N,DT80,AO$7)))","v":""},{"$f":"IF($E80=\"\",\"\",IF(INDEX(E_SourceStreams!$A:$N,DU80,AP$7)=\"\",\"\",INDEX(E_SourceStreams!$A:$N,DU80,AP$7)))","v":""},{"$f":"IF($E80=\"\",\"\",IF(INDEX(E_SourceStreams!$A:$N,DV80,AQ$7)=\"\",\"\",INDEX(E_SourceStreams!$A:$N,DV80,AQ$7)))","v":""},{"$f":"IF($E80=\"\",\"\",IF(INDEX(E_SourceStreams!$A:$N,DW80,AR$7)=\"\",\"\",INDEX(E_SourceStreams!$A:$N,DW80,AR$7)))","v":""},{"$f":"IF($E80=\"\",\"\",IF(INDEX(E_SourceStreams!$A:$N,DX80,AS$7)=\"\",\"\",INDEX(E_SourceStreams!$A:$N,DX80,AS$7)))","v":""},{"$f":"IF($E80=\"\",\"\",IF(INDEX(E_SourceStreams!$A:$N,DY80,AT$7)=\"\",\"\",INDEX(E_SourceStreams!$A:$N,DY80,AT$7)))","v":""},{"$f":"IF($E80=\"\",\"\",IF(INDEX(E_SourceStreams!$A:$N,DZ80,AU$7)=\"\",\"\",INDEX(E_SourceStreams!$A:$N,DZ80,AU$7)))","v":""},{"$f":"IF($E80=\"\",\"\",IF(INDEX(E_SourceStreams!$A:$N,EA80,AV$7)=\"\",\"\",INDEX(E_SourceStreams!$A:$N,EA80,AV$7)))","v":""},{"$f":"IF($E80=\"\",\"\",IF(INDEX(E_SourceStreams!$A:$N,EB80,AW$7)=\"\",\"\",INDEX(E_SourceStreams!$A:$N,EB80,AW$7)))","v":""},{"$f":"IF($E80=\"\",\"\",IF(INDEX(E_SourceStreams!$A:$N,EC80,AX$7)=\"\",\"\",INDEX(E_SourceStreams!$A:$N,EC80,AX$7)))","v":""},{"$f":"IF($E80=\"\",\"\",IF(INDEX(E_SourceStreams!$A:$N,ED80,AY$7)=\"\",\"\",INDEX(E_SourceStreams!$A:$N,ED80,AY$7)))","v":""},{"$f":"IF($E80=\"\",\"\",IF(INDEX(E_SourceStreams!$A:$N,EE80,AZ$7)=\"\",\"\",INDEX(E_SourceStreams!$A:$N,EE80,AZ$7)))","v":""},{"$f":"IF($E80=\"\",\"\",IF(INDEX(E_SourceStreams!$A:$N,EF80,BA$7)=\"\",\"\",INDEX(E_SourceStreams!$A:$N,EF80,BA$7)))","v":""},{"$f":"IF($E80=\"\",\"\",IF(INDEX(E_SourceStreams!$A:$N,EG80,BB$7)=\"\",\"\",INDEX(E_SourceStreams!$A:$N,EG80,BB$7)))","v":""},{"$f":"IF($E80=\"\",\"\",IF(INDEX(E_SourceStreams!$A:$N,EH80,BC$7)=\"\",\"\",INDEX(E_SourceStreams!$A:$N,EH80,BC$7)))","v":""},{"$f":"IF($E80=\"\",\"\",IF(INDEX(E_SourceStreams!$A:$N,EI80,BD$7)=\"\",\"\",INDEX(E_SourceStreams!$A:$N,EI80,BD$7)))","v":""},{"$f":"IF($E80=\"\",\"\",IF(INDEX(E_SourceStreams!$A:$N,EJ80,BE$7)=\"\",\"\",INDEX(E_SourceStreams!$A:$N,EJ80,BE$7)))","v":""},{"$f":"IF($E80=\"\",\"\",IF(INDEX(E_SourceStreams!$A:$N,EK80,BF$7)=\"\",\"\",INDEX(E_SourceStreams!$A:$N,EK80,BF$7)))","v":""},{"$f":"IF($E80=\"\",\"\",IF(INDEX(E_SourceStreams!$A:$N,EL80,BG$7)=\"\",\"\",INDEX(E_SourceStreams!$A:$N,EL80,BG$7)))","v":""},{"$f":"IF($E80=\"\",\"\",IF(INDEX(E_SourceStreams!$A:$N,EM80,BH$7)=\"\",\"\",INDEX(E_SourceStreams!$A:$N,EM80,BH$7)))","v":""},{"$f":"IF($E80=\"\",\"\",IF(INDEX(E_SourceStreams!$A:$N,EN80,BI$7)=\"\",\"\",INDEX(E_SourceStreams!$A:$N,EN80,BI$7)))","v":""},{"$f":"IF($E80=\"\",\"\",IF(INDEX(E_SourceStreams!$A:$N,EO80,BJ$7)=\"\",\"\",INDEX(E_SourceStreams!$A:$N,EO80,BJ$7)))","v":""},{"$f":"IF($E80=\"\",\"\",IF(INDEX(E_SourceStreams!$A:$N,EP80,BK$7)=\"\",\"\",INDEX(E_SourceStreams!$A:$N,EP80,BK$7)))","v":""},{"$f":"IF($E80=\"\",\"\",IF(INDEX(E_SourceStreams!$A:$N,EQ80,BL$7)=\"\",\"\",INDEX(E_SourceStreams!$A:$N,EQ80,BL$7)))","v":""},{"$f":"IF($E80=\"\",\"\",IF(INDEX(E_SourceStreams!$A:$N,ER80,BM$7)=\"\",\"\",INDEX(E_SourceStreams!$A:$N,ER80,BM$7)))","v":""},{"$f":"IF($E80=\"\",\"\",IF(INDEX(E_SourceStreams!$A:$N,ES80,BN$7)=\"\",\"\",INDEX(E_SourceStreams!$A:$N,ES80,BN$7)))","v":""},{"$f":"IF($E80=\"\",\"\",IF(INDEX(E_SourceStreams!$A:$N,ET80,BO$7)=\"\",\"\",INDEX(E_SourceStreams!$A:$N,ET80,BO$7)))","v":""},{"$f":"IF($E80=\"\",\"\",IF(INDEX(E_SourceStreams!$A:$N,EU80,BP$7)=\"\",\"\",INDEX(E_SourceStreams!$A:$N,EU80,BP$7)))","v":""},{"$f":"IF($E80=\"\",\"\",IF(INDEX(E_SourceStreams!$A:$N,EV80,BQ$7)=\"\",\"\",INDEX(E_SourceStreams!$A:$N,EV80,BQ$7)))","v":""},{"$f":"IF($E80=\"\",\"\",IF(INDEX(E_SourceStreams!$A:$N,EW80,BR$7)=\"\",\"\",INDEX(E_SourceStreams!$A:$N,EW80,BR$7)))","v":""},{"$f":"IF($E80=\"\",\"\",IF(INDEX(E_SourceStreams!$A:$N,EX80,BS$7)=\"\",\"\",INDEX(E_SourceStreams!$A:$N,EX80,BS$7)))","v":""},{"$f":"IF($E80=\"\",\"\",IF(INDEX(E_SourceStreams!$A:$N,EY80,BT$7)=\"\",\"\",INDEX(E_SourceStreams!$A:$N,EY80,BT$7)))","v":""},null,null,null,null,null,null,null,null,null,null,null,null,null,null,null,"SourceCategory_",{"$f":"INDEX(C_InstallationDescription!$A$226:$A$332,ROWS($CI$11:CI80))=\"ausblenden\"","v":true},"SourceStreamName_",null,4687,4689,4691,4693,4695,4697,4699,4699,4699,4699,4699,4702,4706,4707,4708,4715,4725,4725,4725,4725,4725,4725,4725,4716,4726,4726,4726,4726,4726,4726,4726,4717,4727,4727,4727,4727,4727,4727,4727,4718,4728,4728,4728,4728,4728,4728,4728,4719,4729,4729,4729,4729,4729,4729,4729,4720,4730,4730,4730,4730,4730,4730,4730,4736]
[null,{"$f":"IF(COUNTIF($CK$10:CK81,TRUE)>0,\"\",INDEX(C_InstallationDescription!$E$226:$E$242,ROWS($A$11:A81)))","v":""},{"$f":"IF($E81=\"\",\"\",INDEX(C_InstallationDescription!F:F,MATCH($B81,C_InstallationDescription!$E:$E,0)))","v":""},{"$f":"IF($E81=\"\",\"\",INDEX(C_InstallationDescription!I:I,MATCH($B81,C_InstallationDescription!$E:$E,0)))","v":""},{"$f":"IF($B81=\"\",\"\",INDEX(C_InstallationDescription!F:F,MATCH($CJ81,C_InstallationDescription!$Q:$Q,0)))","v":""},{"$f":"IF($E81=\"\",\"\",INDEX(C_InstallationDescription!L:L,MATCH($CJ81,C_InstallationDescription!$Q:$Q,0)))","v":""},{"$f":"IF($E81=\"\",\"\",INDEX(C_InstallationDescription!M:M,MATCH($CJ81,C_InstallationDescription!$Q:$Q,0)))","v":""},{"$f":"IF($E81=\"\",\"\",INDEX(C_InstallationDescription!N:N,MATCH($CJ81,C_InstallationDescription!$Q:$Q,0)))","v":""},{"$f":"IF($E81=\"\",\"\",IF(INDEX(E_SourceStreams!$A:$N,CN81,I$7)=\"\",\"\",INDEX(E_SourceStreams!$A:$N,CN81,I$7)))","v":""},{"$f":"IF($E81=\"\",\"\",IF(INDEX(E_SourceStreams!$A:$N,CO81,J$7)=\"\",\"\",INDEX(E_SourceStreams!$A:$N,CO81,J$7)))","v":""},{"$f":"IF($E81=\"\",\"\",IF(INDEX(E_SourceStreams!$A:$N,CP81,K$7)=\"\",\"\",INDEX(E_SourceStreams!$A:$N,CP81,K$7)))","v":""},{"$f":"IF($E81=\"\",\"\",IF(INDEX(E_SourceStreams!$A:$N,CQ81,L$7)=\"\",\"\",INDEX(E_SourceStreams!$A:$N,CQ81,L$7)))","v":""},{"$f":"IF($E81=\"\",\"\",IF(INDEX(E_SourceStreams!$A:$N,CR81,M$7)=\"\",\"\",INDEX(E_SourceStreams!$A:$N,CR81,M$7)))","v":""},{"$f":"IF($E81=\"\",\"\",IF(INDEX(E_SourceStreams!$A:$N,CS81,N$7)=\"\",\"\",INDEX(E_SourceStreams!$A:$N,CS81,N$7)))","v":""},{"$f":"IF($E81=\"\",\"\",IF(INDEX(E_SourceStreams!$A:$N,CT81,O$7)=\"\",\"\",INDEX(E_SourceStreams!$A:$N,CT81,O$7)))","v":""},{"$f":"IF($E81=\"\",\"\",IF(INDEX(E_SourceStreams!$A:$N,CU81,P$7)=\"\",\"\",INDEX(E_SourceStreams!$A:$N,CU81,P$7)))","v":""},{"$f":"IF($E81=\"\",\"\",IF(INDEX(E_SourceStreams!$A:$N,CV81,Q$7)=\"\",\"\",INDEX(E_SourceStreams!$A:$N,CV81,Q$7)))","v":""},{"$f":"IF($E81=\"\",\"\",IF(INDEX(E_SourceStreams!$A:$N,CW81,R$7)=\"\",\"\",INDEX(E_SourceStreams!$A:$N,CW81,R$7)))","v":""},{"$f":"IF($E81=\"\",\"\",IF(INDEX(E_SourceStreams!$A:$N,CX81,S$7)=\"\",\"\",INDEX(E_SourceStreams!$A:$N,CX81,S$7)))","v":""},{"$f":"IF($E81=\"\",\"\",IF(INDEX(E_SourceStreams!$A:$N,CY81,T$7)=\"\",\"\",INDEX(E_SourceStreams!$A:$N,CY81,T$7)))","v":""},{"$f":"IF($E81=\"\",\"\",IF(INDEX(E_SourceStreams!$A:$N,CZ81,U$7)=\"\",\"\",INDEX(E_SourceStreams!$A:$N,CZ81,U$7)))","v":""},{"$f":"IF($E81=\"\",\"\",IF(INDEX(E_SourceStreams!$A:$N,DA81,V$7)=\"\",\"\",INDEX(E_SourceStreams!$A:$N,DA81,V$7)))","v":""},{"$f":"IF($E81=\"\",\"\",IF(INDEX(E_SourceStreams!$A:$N,DB81,W$7)=\"\",\"\",INDEX(E_SourceStreams!$A:$N,DB81,W$7)))","v":""},{"$f":"IF($E81=\"\",\"\",IF(INDEX(E_SourceStreams!$A:$N,DC81,X$7)=\"\",\"\",INDEX(E_SourceStreams!$A:$N,DC81,X$7)))","v":""},{"$f":"IF($E81=\"\",\"\",IF(INDEX(E_SourceStreams!$A:$N,DD81,Y$7)=\"\",\"\",INDEX(E_SourceStreams!$A:$N,DD81,Y$7)))","v":""},{"$f":"IF($E81=\"\",\"\",IF(INDEX(E_SourceStreams!$A:$N,DE81,Z$7)=\"\",\"\",INDEX(E_SourceStreams!$A:$N,DE81,Z$7)))","v":""},{"$f":"IF($E81=\"\",\"\",IF(INDEX(E_SourceStreams!$A:$N,DF81,AA$7)=\"\",\"\",INDEX(E_SourceStreams!$A:$N,DF81,AA$7)))","v":""},{"$f":"IF($E81=\"\",\"\",IF(INDEX(E_SourceStreams!$A:$N,DG81,AB$7)=\"\",\"\",INDEX(E_SourceStreams!$A:$N,DG81,AB$7)))","v":""},{"$f":"IF($E81=\"\",\"\",IF(INDEX(E_SourceStreams!$A:$N,DH81,AC$7)=\"\",\"\",INDEX(E_SourceStreams!$A:$N,DH81,AC$7)))","v":""},{"$f":"IF($E81=\"\",\"\",IF(INDEX(E_SourceStreams!$A:$N,DI81,AD$7)=\"\",\"\",INDEX(E_SourceStreams!$A:$N,DI81,AD$7)))","v":""},{"$f":"IF($E81=\"\",\"\",IF(INDEX(E_SourceStreams!$A:$N,DJ81,AE$7)=\"\",\"\",INDEX(E_SourceStreams!$A:$N,DJ81,AE$7)))","v":""},{"$f":"IF($E81=\"\",\"\",IF(INDEX(E_SourceStreams!$A:$N,DK81,AF$7)=\"\",\"\",INDEX(E_SourceStreams!$A:$N,DK81,AF$7)))","v":""},{"$f":"IF($E81=\"\",\"\",IF(INDEX(E_SourceStreams!$A:$N,DL81,AG$7)=\"\",\"\",INDEX(E_SourceStreams!$A:$N,DL81,AG$7)))","v":""},{"$f":"IF($E81=\"\",\"\",IF(INDEX(E_SourceStreams!$A:$N,DM81,AH$7)=\"\",\"\",INDEX(E_SourceStreams!$A:$N,DM81,AH$7)))","v":""},{"$f":"IF($E81=\"\",\"\",IF(INDEX(E_SourceStreams!$A:$N,DN81,AI$7)=\"\",\"\",INDEX(E_SourceStreams!$A:$N,DN81,AI$7)))","v":""},{"$f":"IF($E81=\"\",\"\",IF(INDEX(E_SourceStreams!$A:$N,DO81,AJ$7)=\"\",\"\",INDEX(E_SourceStreams!$A:$N,DO81,AJ$7)))","v":""},{"$f":"IF($E81=\"\",\"\",IF(INDEX(E_SourceStreams!$A:$N,DP81,AK$7)=\"\",\"\",INDEX(E_SourceStreams!$A:$N,DP81,AK$7)))","v":""},{"$f":"IF($E81=\"\",\"\",IF(INDEX(E_SourceStreams!$A:$N,DQ81,AL$7)=\"\",\"\",INDEX(E_SourceStreams!$A:$N,DQ81,AL$7)))","v":""},{"$f":"IF($E81=\"\",\"\",IF(INDEX(E_SourceStreams!$A:$N,DR81,AM$7)=\"\",\"\",INDEX(E_SourceStreams!$A:$N,DR81,AM$7)))","v":""},{"$f":"IF($E81=\"\",\"\",IF(INDEX(E_SourceStreams!$A:$N,DS81,AN$7)=\"\",\"\",INDEX(E_SourceStreams!$A:$N,DS81,AN$7)))","v":""},{"$f":"IF($E81=\"\",\"\",IF(INDEX(E_SourceStreams!$A:$N,DT81,AO$7)=\"\",\"\",INDEX(E_SourceStreams!$A:$N,DT81,AO$7)))","v":""},{"$f":"IF($E81=\"\",\"\",IF(INDEX(E_SourceStreams!$A:$N,DU81,AP$7)=\"\",\"\",INDEX(E_SourceStreams!$A:$N,DU81,AP$7)))","v":""},{"$f":"IF($E81=\"\",\"\",IF(INDEX(E_SourceStreams!$A:$N,DV81,AQ$7)=\"\",\"\",INDEX(E_SourceStreams!$A:$N,DV81,AQ$7)))","v":""},{"$f":"IF($E81=\"\",\"\",IF(INDEX(E_SourceStreams!$A:$N,DW81,AR$7)=\"\",\"\",INDEX(E_SourceStreams!$A:$N,DW81,AR$7)))","v":""},{"$f":"IF($E81=\"\",\"\",IF(INDEX(E_SourceStreams!$A:$N,DX81,AS$7)=\"\",\"\",INDEX(E_SourceStreams!$A:$N,DX81,AS$7)))","v":""},{"$f":"IF($E81=\"\",\"\",IF(INDEX(E_SourceStreams!$A:$N,DY81,AT$7)=\"\",\"\",INDEX(E_SourceStreams!$A:$N,DY81,AT$7)))","v":""},{"$f":"IF($E81=\"\",\"\",IF(INDEX(E_SourceStreams!$A:$N,DZ81,AU$7)=\"\",\"\",INDEX(E_SourceStreams!$A:$N,DZ81,AU$7)))","v":""},{"$f":"IF($E81=\"\",\"\",IF(INDEX(E_SourceStreams!$A:$N,EA81,AV$7)=\"\",\"\",INDEX(E_SourceStreams!$A:$N,EA81,AV$7)))","v":""},{"$f":"IF($E81=\"\",\"\",IF(INDEX(E_SourceStreams!$A:$N,EB81,AW$7)=\"\",\"\",INDEX(E_SourceStreams!$A:$N,EB81,AW$7)))","v":""},{"$f":"IF($E81=\"\",\"\",IF(INDEX(E_SourceStreams!$A:$N,EC81,AX$7)=\"\",\"\",INDEX(E_SourceStreams!$A:$N,EC81,AX$7)))","v":""},{"$f":"IF($E81=\"\",\"\",IF(INDEX(E_SourceStreams!$A:$N,ED81,AY$7)=\"\",\"\",INDEX(E_SourceStreams!$A:$N,ED81,AY$7)))","v":""},{"$f":"IF($E81=\"\",\"\",IF(INDEX(E_SourceStreams!$A:$N,EE81,AZ$7)=\"\",\"\",INDEX(E_SourceStreams!$A:$N,EE81,AZ$7)))","v":""},{"$f":"IF($E81=\"\",\"\",IF(INDEX(E_SourceStreams!$A:$N,EF81,BA$7)=\"\",\"\",INDEX(E_SourceStreams!$A:$N,EF81,BA$7)))","v":""},{"$f":"IF($E81=\"\",\"\",IF(INDEX(E_SourceStreams!$A:$N,EG81,BB$7)=\"\",\"\",INDEX(E_SourceStreams!$A:$N,EG81,BB$7)))","v":""},{"$f":"IF($E81=\"\",\"\",IF(INDEX(E_SourceStreams!$A:$N,EH81,BC$7)=\"\",\"\",INDEX(E_SourceStreams!$A:$N,EH81,BC$7)))","v":""},{"$f":"IF($E81=\"\",\"\",IF(INDEX(E_SourceStreams!$A:$N,EI81,BD$7)=\"\",\"\",INDEX(E_SourceStreams!$A:$N,EI81,BD$7)))","v":""},{"$f":"IF($E81=\"\",\"\",IF(INDEX(E_SourceStreams!$A:$N,EJ81,BE$7)=\"\",\"\",INDEX(E_SourceStreams!$A:$N,EJ81,BE$7)))","v":""},{"$f":"IF($E81=\"\",\"\",IF(INDEX(E_SourceStreams!$A:$N,EK81,BF$7)=\"\",\"\",INDEX(E_SourceStreams!$A:$N,EK81,BF$7)))","v":""},{"$f":"IF($E81=\"\",\"\",IF(INDEX(E_SourceStreams!$A:$N,EL81,BG$7)=\"\",\"\",INDEX(E_SourceStreams!$A:$N,EL81,BG$7)))","v":""},{"$f":"IF($E81=\"\",\"\",IF(INDEX(E_SourceStreams!$A:$N,EM81,BH$7)=\"\",\"\",INDEX(E_SourceStreams!$A:$N,EM81,BH$7)))","v":""},{"$f":"IF($E81=\"\",\"\",IF(INDEX(E_SourceStreams!$A:$N,EN81,BI$7)=\"\",\"\",INDEX(E_SourceStreams!$A:$N,EN81,BI$7)))","v":""},{"$f":"IF($E81=\"\",\"\",IF(INDEX(E_SourceStreams!$A:$N,EO81,BJ$7)=\"\",\"\",INDEX(E_SourceStreams!$A:$N,EO81,BJ$7)))","v":""},{"$f":"IF($E81=\"\",\"\",IF(INDEX(E_SourceStreams!$A:$N,EP81,BK$7)=\"\",\"\",INDEX(E_SourceStreams!$A:$N,EP81,BK$7)))","v":""},{"$f":"IF($E81=\"\",\"\",IF(INDEX(E_SourceStreams!$A:$N,EQ81,BL$7)=\"\",\"\",INDEX(E_SourceStreams!$A:$N,EQ81,BL$7)))","v":""},{"$f":"IF($E81=\"\",\"\",IF(INDEX(E_SourceStreams!$A:$N,ER81,BM$7)=\"\",\"\",INDEX(E_SourceStreams!$A:$N,ER81,BM$7)))","v":""},{"$f":"IF($E81=\"\",\"\",IF(INDEX(E_SourceStreams!$A:$N,ES81,BN$7)=\"\",\"\",INDEX(E_SourceStreams!$A:$N,ES81,BN$7)))","v":""},{"$f":"IF($E81=\"\",\"\",IF(INDEX(E_SourceStreams!$A:$N,ET81,BO$7)=\"\",\"\",INDEX(E_SourceStreams!$A:$N,ET81,BO$7)))","v":""},{"$f":"IF($E81=\"\",\"\",IF(INDEX(E_SourceStreams!$A:$N,EU81,BP$7)=\"\",\"\",INDEX(E_SourceStreams!$A:$N,EU81,BP$7)))","v":""},{"$f":"IF($E81=\"\",\"\",IF(INDEX(E_SourceStreams!$A:$N,EV81,BQ$7)=\"\",\"\",INDEX(E_SourceStreams!$A:$N,EV81,BQ$7)))","v":""},{"$f":"IF($E81=\"\",\"\",IF(INDEX(E_SourceStreams!$A:$N,EW81,BR$7)=\"\",\"\",INDEX(E_SourceStreams!$A:$N,EW81,BR$7)))","v":""},{"$f":"IF($E81=\"\",\"\",IF(INDEX(E_SourceStreams!$A:$N,EX81,BS$7)=\"\",\"\",INDEX(E_SourceStreams!$A:$N,EX81,BS$7)))","v":""},{"$f":"IF($E81=\"\",\"\",IF(INDEX(E_SourceStreams!$A:$N,EY81,BT$7)=\"\",\"\",INDEX(E_SourceStreams!$A:$N,EY81,BT$7)))","v":""},null,null,null,null,null,null,null,null,null,null,null,null,null,null,null,"SourceCategory_",{"$f":"INDEX(C_InstallationDescription!$A$226:$A$332,ROWS($CI$11:CI81))=\"ausblenden\"","v":true},"SourceStreamName_",null,4753,4755,4757,4759,4761,4763,4765,4765,4765,4765,4765,4768,4772,4773,4774,4781,4791,4791,4791,4791,4791,4791,4791,4782,4792,4792,4792,4792,4792,4792,4792,4783,4793,4793,4793,4793,4793,4793,4793,4784,4794,4794,4794,4794,4794,4794,4794,4785,4795,4795,4795,4795,4795,4795,4795,4786,4796,4796,4796,4796,4796,4796,4796,4802]
[null,{"$f":"IF(COUNTIF($CK$10:CK82,TRUE)>0,\"\",INDEX(C_InstallationDescription!$E$226:$E$242,ROWS($A$11:A82)))","v":""},{"$f":"IF($E82=\"\",\"\",INDEX(C_InstallationDescription!F:F,MATCH($B82,C_InstallationDescription!$E:$E,0)))","v":""},{"$f":"IF($E82=\"\",\"\",INDEX(C_InstallationDescription!I:I,MATCH($B82,C_InstallationDescription!$E:$E,0)))","v":""},{"$f":"IF($B82=\"\",\"\",INDEX(C_InstallationDescription!F:F,MATCH($CJ82,C_InstallationDescription!$Q:$Q,0)))","v":""},{"$f":"IF($E82=\"\",\"\",INDEX(C_InstallationDescription!L:L,MATCH($CJ82,C_InstallationDescription!$Q:$Q,0)))","v":""},{"$f":"IF($E82=\"\",\"\",INDEX(C_InstallationDescription!M:M,MATCH($CJ82,C_InstallationDescription!$Q:$Q,0)))","v":""},{"$f":"IF($E82=\"\",\"\",INDEX(C_InstallationDescription!N:N,MATCH($CJ82,C_InstallationDescription!$Q:$Q,0)))","v":""},{"$f":"IF($E82=\"\",\"\",IF(INDEX(E_SourceStreams!$A:$N,CN82,I$7)=\"\",\"\",INDEX(E_SourceStreams!$A:$N,CN82,I$7)))","v":""},{"$f":"IF($E82=\"\",\"\",IF(INDEX(E_SourceStreams!$A:$N,CO82,J$7)=\"\",\"\",INDEX(E_SourceStreams!$A:$N,CO82,J$7)))","v":""},{"$f":"IF($E82=\"\",\"\",IF(INDEX(E_SourceStreams!$A:$N,CP82,K$7)=\"\",\"\",INDEX(E_SourceStreams!$A:$N,CP82,K$7)))","v":""},{"$f":"IF($E82=\"\",\"\",IF(INDEX(E_SourceStreams!$A:$N,CQ82,L$7)=\"\",\"\",INDEX(E_SourceStreams!$A:$N,CQ82,L$7)))","v":""},{"$f":"IF($E82=\"\",\"\",IF(INDEX(E_SourceStreams!$A:$N,CR82,M$7)=\"\",\"\",INDEX(E_SourceStreams!$A:$N,CR82,M$7)))","v":""},{"$f":"IF($E82=\"\",\"\",IF(INDEX(E_SourceStreams!$A:$N,CS82,N$7)=\"\",\"\",INDEX(E_SourceStreams!$A:$N,CS82,N$7)))","v":""},{"$f":"IF($E82=\"\",\"\",IF(INDEX(E_SourceStreams!$A:$N,CT82,O$7)=\"\",\"\",INDEX(E_SourceStreams!$A:$N,CT82,O$7)))","v":""},{"$f":"IF($E82=\"\",\"\",IF(INDEX(E_SourceStreams!$A:$N,CU82,P$7)=\"\",\"\",INDEX(E_SourceStreams!$A:$N,CU82,P$7)))","v":""},{"$f":"IF($E82=\"\",\"\",IF(INDEX(E_SourceStreams!$A:$N,CV82,Q$7)=\"\",\"\",INDEX(E_SourceStreams!$A:$N,CV82,Q$7)))","v":""},{"$f":"IF($E82=\"\",\"\",IF(INDEX(E_SourceStreams!$A:$N,CW82,R$7)=\"\",\"\",INDEX(E_SourceStreams!$A:$N,CW82,R$7)))","v":""},{"$f":"IF($E82=\"\",\"\",IF(INDEX(E_SourceStreams!$A:$N,CX82,S$7)=\"\",\"\",INDEX(E_SourceStreams!$A:$N,CX82,S$7)))","v":""},{"$f":"IF($E82=\"\",\"\",IF(INDEX(E_SourceStreams!$A:$N,CY82,T$7)=\"\",\"\",INDEX(E_SourceStreams!$A:$N,CY82,T$7)))","v":""},{"$f":"IF($E82=\"\",\"\",IF(INDEX(E_SourceStreams!$A:$N,CZ82,U$7)=\"\",\"\",INDEX(E_SourceStreams!$A:$N,CZ82,U$7)))","v":""},{"$f":"IF($E82=\"\",\"\",IF(INDEX(E_SourceStreams!$A:$N,DA82,V$7)=\"\",\"\",INDEX(E_SourceStreams!$A:$N,DA82,V$7)))","v":""},{"$f":"IF($E82=\"\",\"\",IF(INDEX(E_SourceStreams!$A:$N,DB82,W$7)=\"\",\"\",INDEX(E_SourceStreams!$A:$N,DB82,W$7)))","v":""},{"$f":"IF($E82=\"\",\"\",IF(INDEX(E_SourceStreams!$A:$N,DC82,X$7)=\"\",\"\",INDEX(E_SourceStreams!$A:$N,DC82,X$7)))","v":""},{"$f":"IF($E82=\"\",\"\",IF(INDEX(E_SourceStreams!$A:$N,DD82,Y$7)=\"\",\"\",INDEX(E_SourceStreams!$A:$N,DD82,Y$7)))","v":""},{"$f":"IF($E82=\"\",\"\",IF(INDEX(E_SourceStreams!$A:$N,DE82,Z$7)=\"\",\"\",INDEX(E_SourceStreams!$A:$N,DE82,Z$7)))","v":""},{"$f":"IF($E82=\"\",\"\",IF(INDEX(E_SourceStreams!$A:$N,DF82,AA$7)=\"\",\"\",INDEX(E_SourceStreams!$A:$N,DF82,AA$7)))","v":""},{"$f":"IF($E82=\"\",\"\",IF(INDEX(E_SourceStreams!$A:$N,DG82,AB$7)=\"\",\"\",INDEX(E_SourceStreams!$A:$N,DG82,AB$7)))","v":""},{"$f":"IF($E82=\"\",\"\",IF(INDEX(E_SourceStreams!$A:$N,DH82,AC$7)=\"\",\"\",INDEX(E_SourceStreams!$A:$N,DH82,AC$7)))","v":""},{"$f":"IF($E82=\"\",\"\",IF(INDEX(E_SourceStreams!$A:$N,DI82,AD$7)=\"\",\"\",INDEX(E_SourceStreams!$A:$N,DI82,AD$7)))","v":""},{"$f":"IF($E82=\"\",\"\",IF(INDEX(E_SourceStreams!$A:$N,DJ82,AE$7)=\"\",\"\",INDEX(E_SourceStreams!$A:$N,DJ82,AE$7)))","v":""},{"$f":"IF($E82=\"\",\"\",IF(INDEX(E_SourceStreams!$A:$N,DK82,AF$7)=\"\",\"\",INDEX(E_SourceStreams!$A:$N,DK82,AF$7)))","v":""},{"$f":"IF($E82=\"\",\"\",IF(INDEX(E_SourceStreams!$A:$N,DL82,AG$7)=\"\",\"\",INDEX(E_SourceStreams!$A:$N,DL82,AG$7)))","v":""},{"$f":"IF($E82=\"\",\"\",IF(INDEX(E_SourceStreams!$A:$N,DM82,AH$7)=\"\",\"\",INDEX(E_SourceStreams!$A:$N,DM82,AH$7)))","v":""},{"$f":"IF($E82=\"\",\"\",IF(INDEX(E_SourceStreams!$A:$N,DN82,AI$7)=\"\",\"\",INDEX(E_SourceStreams!$A:$N,DN82,AI$7)))","v":""},{"$f":"IF($E82=\"\",\"\",IF(INDEX(E_SourceStreams!$A:$N,DO82,AJ$7)=\"\",\"\",INDEX(E_SourceStreams!$A:$N,DO82,AJ$7)))","v":""},{"$f":"IF($E82=\"\",\"\",IF(INDEX(E_SourceStreams!$A:$N,DP82,AK$7)=\"\",\"\",INDEX(E_SourceStreams!$A:$N,DP82,AK$7)))","v":""},{"$f":"IF($E82=\"\",\"\",IF(INDEX(E_SourceStreams!$A:$N,DQ82,AL$7)=\"\",\"\",INDEX(E_SourceStreams!$A:$N,DQ82,AL$7)))","v":""},{"$f":"IF($E82=\"\",\"\",IF(INDEX(E_SourceStreams!$A:$N,DR82,AM$7)=\"\",\"\",INDEX(E_SourceStreams!$A:$N,DR82,AM$7)))","v":""},{"$f":"IF($E82=\"\",\"\",IF(INDEX(E_SourceStreams!$A:$N,DS82,AN$7)=\"\",\"\",INDEX(E_SourceStreams!$A:$N,DS82,AN$7)))","v":""},{"$f":"IF($E82=\"\",\"\",IF(INDEX(E_SourceStreams!$A:$N,DT82,AO$7)=\"\",\"\",INDEX(E_SourceStreams!$A:$N,DT82,AO$7)))","v":""},{"$f":"IF($E82=\"\",\"\",IF(INDEX(E_SourceStreams!$A:$N,DU82,AP$7)=\"\",\"\",INDEX(E_SourceStreams!$A:$N,DU82,AP$7)))","v":""},{"$f":"IF($E82=\"\",\"\",IF(INDEX(E_SourceStreams!$A:$N,DV82,AQ$7)=\"\",\"\",INDEX(E_SourceStreams!$A:$N,DV82,AQ$7)))","v":""},{"$f":"IF($E82=\"\",\"\",IF(INDEX(E_SourceStreams!$A:$N,DW82,AR$7)=\"\",\"\",INDEX(E_SourceStreams!$A:$N,DW82,AR$7)))","v":""},{"$f":"IF($E82=\"\",\"\",IF(INDEX(E_SourceStreams!$A:$N,DX82,AS$7)=\"\",\"\",INDEX(E_SourceStreams!$A:$N,DX82,AS$7)))","v":""},{"$f":"IF($E82=\"\",\"\",IF(INDEX(E_SourceStreams!$A:$N,DY82,AT$7)=\"\",\"\",INDEX(E_SourceStreams!$A:$N,DY82,AT$7)))","v":""},{"$f":"IF($E82=\"\",\"\",IF(INDEX(E_SourceStreams!$A:$N,DZ82,AU$7)=\"\",\"\",INDEX(E_SourceStreams!$A:$N,DZ82,AU$7)))","v":""},{"$f":"IF($E82=\"\",\"\",IF(INDEX(E_SourceStreams!$A:$N,EA82,AV$7)=\"\",\"\",INDEX(E_SourceStreams!$A:$N,EA82,AV$7)))","v":""},{"$f":"IF($E82=\"\",\"\",IF(INDEX(E_SourceStreams!$A:$N,EB82,AW$7)=\"\",\"\",INDEX(E_SourceStreams!$A:$N,EB82,AW$7)))","v":""},{"$f":"IF($E82=\"\",\"\",IF(INDEX(E_SourceStreams!$A:$N,EC82,AX$7)=\"\",\"\",INDEX(E_SourceStreams!$A:$N,EC82,AX$7)))","v":""},{"$f":"IF($E82=\"\",\"\",IF(INDEX(E_SourceStreams!$A:$N,ED82,AY$7)=\"\",\"\",INDEX(E_SourceStreams!$A:$N,ED82,AY$7)))","v":""},{"$f":"IF($E82=\"\",\"\",IF(INDEX(E_SourceStreams!$A:$N,EE82,AZ$7)=\"\",\"\",INDEX(E_SourceStreams!$A:$N,EE82,AZ$7)))","v":""},{"$f":"IF($E82=\"\",\"\",IF(INDEX(E_SourceStreams!$A:$N,EF82,BA$7)=\"\",\"\",INDEX(E_SourceStreams!$A:$N,EF82,BA$7)))","v":""},{"$f":"IF($E82=\"\",\"\",IF(INDEX(E_SourceStreams!$A:$N,EG82,BB$7)=\"\",\"\",INDEX(E_SourceStreams!$A:$N,EG82,BB$7)))","v":""},{"$f":"IF($E82=\"\",\"\",IF(INDEX(E_SourceStreams!$A:$N,EH82,BC$7)=\"\",\"\",INDEX(E_SourceStreams!$A:$N,EH82,BC$7)))","v":""},{"$f":"IF($E82=\"\",\"\",IF(INDEX(E_SourceStreams!$A:$N,EI82,BD$7)=\"\",\"\",INDEX(E_SourceStreams!$A:$N,EI82,BD$7)))","v":""},{"$f":"IF($E82=\"\",\"\",IF(INDEX(E_SourceStreams!$A:$N,EJ82,BE$7)=\"\",\"\",INDEX(E_SourceStreams!$A:$N,EJ82,BE$7)))","v":""},{"$f":"IF($E82=\"\",\"\",IF(INDEX(E_SourceStreams!$A:$N,EK82,BF$7)=\"\",\"\",INDEX(E_SourceStreams!$A:$N,EK82,BF$7)))","v":""},{"$f":"IF($E82=\"\",\"\",IF(INDEX(E_SourceStreams!$A:$N,EL82,BG$7)=\"\",\"\",INDEX(E_SourceStreams!$A:$N,EL82,BG$7)))","v":""},{"$f":"IF($E82=\"\",\"\",IF(INDEX(E_SourceStreams!$A:$N,EM82,BH$7)=\"\",\"\",INDEX(E_SourceStreams!$A:$N,EM82,BH$7)))","v":""},{"$f":"IF($E82=\"\",\"\",IF(INDEX(E_SourceStreams!$A:$N,EN82,BI$7)=\"\",\"\",INDEX(E_SourceStreams!$A:$N,EN82,BI$7)))","v":""},{"$f":"IF($E82=\"\",\"\",IF(INDEX(E_SourceStreams!$A:$N,EO82,BJ$7)=\"\",\"\",INDEX(E_SourceStreams!$A:$N,EO82,BJ$7)))","v":""},{"$f":"IF($E82=\"\",\"\",IF(INDEX(E_SourceStreams!$A:$N,EP82,BK$7)=\"\",\"\",INDEX(E_SourceStreams!$A:$N,EP82,BK$7)))","v":""},{"$f":"IF($E82=\"\",\"\",IF(INDEX(E_SourceStreams!$A:$N,EQ82,BL$7)=\"\",\"\",INDEX(E_SourceStreams!$A:$N,EQ82,BL$7)))","v":""},{"$f":"IF($E82=\"\",\"\",IF(INDEX(E_SourceStreams!$A:$N,ER82,BM$7)=\"\",\"\",INDEX(E_SourceStreams!$A:$N,ER82,BM$7)))","v":""},{"$f":"IF($E82=\"\",\"\",IF(INDEX(E_SourceStreams!$A:$N,ES82,BN$7)=\"\",\"\",INDEX(E_SourceStreams!$A:$N,ES82,BN$7)))","v":""},{"$f":"IF($E82=\"\",\"\",IF(INDEX(E_SourceStreams!$A:$N,ET82,BO$7)=\"\",\"\",INDEX(E_SourceStreams!$A:$N,ET82,BO$7)))","v":""},{"$f":"IF($E82=\"\",\"\",IF(INDEX(E_SourceStreams!$A:$N,EU82,BP$7)=\"\",\"\",INDEX(E_SourceStreams!$A:$N,EU82,BP$7)))","v":""},{"$f":"IF($E82=\"\",\"\",IF(INDEX(E_SourceStreams!$A:$N,EV82,BQ$7)=\"\",\"\",INDEX(E_SourceStreams!$A:$N,EV82,BQ$7)))","v":""},{"$f":"IF($E82=\"\",\"\",IF(INDEX(E_SourceStreams!$A:$N,EW82,BR$7)=\"\",\"\",INDEX(E_SourceStreams!$A:$N,EW82,BR$7)))","v":""},{"$f":"IF($E82=\"\",\"\",IF(INDEX(E_SourceStreams!$A:$N,EX82,BS$7)=\"\",\"\",INDEX(E_SourceStreams!$A:$N,EX82,BS$7)))","v":""},{"$f":"IF($E82=\"\",\"\",IF(INDEX(E_SourceStreams!$A:$N,EY82,BT$7)=\"\",\"\",INDEX(E_SourceStreams!$A:$N,EY82,BT$7)))","v":""},null,null,null,null,null,null,null,null,null,null,null,null,null,null,null,"SourceCategory_",{"$f":"INDEX(C_InstallationDescription!$A$226:$A$332,ROWS($CI$11:CI82))=\"ausblenden\"","v":true},"SourceStreamName_",null,4819,4821,4823,4825,4827,4829,4831,4831,4831,4831,4831,4834,4838,4839,4840,4847,4857,4857,4857,4857,4857,4857,4857,4848,4858,4858,4858,4858,4858,4858,4858,4849,4859,4859,4859,4859,4859,4859,4859,4850,4860,4860,4860,4860,4860,4860,4860,4851,4861,4861,4861,4861,4861,4861,4861,4852,4862,4862,4862,4862,4862,4862,4862,4868]
[null,{"$f":"IF(COUNTIF($CK$10:CK83,TRUE)>0,\"\",INDEX(C_InstallationDescription!$E$226:$E$242,ROWS($A$11:A83)))","v":""},{"$f":"IF($E83=\"\",\"\",INDEX(C_InstallationDescription!F:F,MATCH($B83,C_InstallationDescription!$E:$E,0)))","v":""},{"$f":"IF($E83=\"\",\"\",INDEX(C_InstallationDescription!I:I,MATCH($B83,C_InstallationDescription!$E:$E,0)))","v":""},{"$f":"IF($B83=\"\",\"\",INDEX(C_InstallationDescription!F:F,MATCH($CJ83,C_InstallationDescription!$Q:$Q,0)))","v":""},{"$f":"IF($E83=\"\",\"\",INDEX(C_InstallationDescription!L:L,MATCH($CJ83,C_InstallationDescription!$Q:$Q,0)))","v":""},{"$f":"IF($E83=\"\",\"\",INDEX(C_InstallationDescription!M:M,MATCH($CJ83,C_InstallationDescription!$Q:$Q,0)))","v":""},{"$f":"IF($E83=\"\",\"\",INDEX(C_InstallationDescription!N:N,MATCH($CJ83,C_InstallationDescription!$Q:$Q,0)))","v":""},{"$f":"IF($E83=\"\",\"\",IF(INDEX(E_SourceStreams!$A:$N,CN83,I$7)=\"\",\"\",INDEX(E_SourceStreams!$A:$N,CN83,I$7)))","v":""},{"$f":"IF($E83=\"\",\"\",IF(INDEX(E_SourceStreams!$A:$N,CO83,J$7)=\"\",\"\",INDEX(E_SourceStreams!$A:$N,CO83,J$7)))","v":""},{"$f":"IF($E83=\"\",\"\",IF(INDEX(E_SourceStreams!$A:$N,CP83,K$7)=\"\",\"\",INDEX(E_SourceStreams!$A:$N,CP83,K$7)))","v":""},{"$f":"IF($E83=\"\",\"\",IF(INDEX(E_SourceStreams!$A:$N,CQ83,L$7)=\"\",\"\",INDEX(E_SourceStreams!$A:$N,CQ83,L$7)))","v":""},{"$f":"IF($E83=\"\",\"\",IF(INDEX(E_SourceStreams!$A:$N,CR83,M$7)=\"\",\"\",INDEX(E_SourceStreams!$A:$N,CR83,M$7)))","v":""},{"$f":"IF($E83=\"\",\"\",IF(INDEX(E_SourceStreams!$A:$N,CS83,N$7)=\"\",\"\",INDEX(E_SourceStreams!$A:$N,CS83,N$7)))","v":""},{"$f":"IF($E83=\"\",\"\",IF(INDEX(E_SourceStreams!$A:$N,CT83,O$7)=\"\",\"\",INDEX(E_SourceStreams!$A:$N,CT83,O$7)))","v":""},{"$f":"IF($E83=\"\",\"\",IF(INDEX(E_SourceStreams!$A:$N,CU83,P$7)=\"\",\"\",INDEX(E_SourceStreams!$A:$N,CU83,P$7)))","v":""},{"$f":"IF($E83=\"\",\"\",IF(INDEX(E_SourceStreams!$A:$N,CV83,Q$7)=\"\",\"\",INDEX(E_SourceStreams!$A:$N,CV83,Q$7)))","v":""},{"$f":"IF($E83=\"\",\"\",IF(INDEX(E_SourceStreams!$A:$N,CW83,R$7)=\"\",\"\",INDEX(E_SourceStreams!$A:$N,CW83,R$7)))","v":""},{"$f":"IF($E83=\"\",\"\",IF(INDEX(E_SourceStreams!$A:$N,CX83,S$7)=\"\",\"\",INDEX(E_SourceStreams!$A:$N,CX83,S$7)))","v":""},{"$f":"IF($E83=\"\",\"\",IF(INDEX(E_SourceStreams!$A:$N,CY83,T$7)=\"\",\"\",INDEX(E_SourceStreams!$A:$N,CY83,T$7)))","v":""},{"$f":"IF($E83=\"\",\"\",IF(INDEX(E_SourceStreams!$A:$N,CZ83,U$7)=\"\",\"\",INDEX(E_SourceStreams!$A:$N,CZ83,U$7)))","v":""},{"$f":"IF($E83=\"\",\"\",IF(INDEX(E_SourceStreams!$A:$N,DA83,V$7)=\"\",\"\",INDEX(E_SourceStreams!$A:$N,DA83,V$7)))","v":""},{"$f":"IF($E83=\"\",\"\",IF(INDEX(E_SourceStreams!$A:$N,DB83,W$7)=\"\",\"\",INDEX(E_SourceStreams!$A:$N,DB83,W$7)))","v":""},{"$f":"IF($E83=\"\",\"\",IF(INDEX(E_SourceStreams!$A:$N,DC83,X$7)=\"\",\"\",INDEX(E_SourceStreams!$A:$N,DC83,X$7)))","v":""},{"$f":"IF($E83=\"\",\"\",IF(INDEX(E_SourceStreams!$A:$N,DD83,Y$7)=\"\",\"\",INDEX(E_SourceStreams!$A:$N,DD83,Y$7)))","v":""},{"$f":"IF($E83=\"\",\"\",IF(INDEX(E_SourceStreams!$A:$N,DE83,Z$7)=\"\",\"\",INDEX(E_SourceStreams!$A:$N,DE83,Z$7)))","v":""},{"$f":"IF($E83=\"\",\"\",IF(INDEX(E_SourceStreams!$A:$N,DF83,AA$7)=\"\",\"\",INDEX(E_SourceStreams!$A:$N,DF83,AA$7)))","v":""},{"$f":"IF($E83=\"\",\"\",IF(INDEX(E_SourceStreams!$A:$N,DG83,AB$7)=\"\",\"\",INDEX(E_SourceStreams!$A:$N,DG83,AB$7)))","v":""},{"$f":"IF($E83=\"\",\"\",IF(INDEX(E_SourceStreams!$A:$N,DH83,AC$7)=\"\",\"\",INDEX(E_SourceStreams!$A:$N,DH83,AC$7)))","v":""},{"$f":"IF($E83=\"\",\"\",IF(INDEX(E_SourceStreams!$A:$N,DI83,AD$7)=\"\",\"\",INDEX(E_SourceStreams!$A:$N,DI83,AD$7)))","v":""},{"$f":"IF($E83=\"\",\"\",IF(INDEX(E_SourceStreams!$A:$N,DJ83,AE$7)=\"\",\"\",INDEX(E_SourceStreams!$A:$N,DJ83,AE$7)))","v":""},{"$f":"IF($E83=\"\",\"\",IF(INDEX(E_SourceStreams!$A:$N,DK83,AF$7)=\"\",\"\",INDEX(E_SourceStreams!$A:$N,DK83,AF$7)))","v":""},{"$f":"IF($E83=\"\",\"\",IF(INDEX(E_SourceStreams!$A:$N,DL83,AG$7)=\"\",\"\",INDEX(E_SourceStreams!$A:$N,DL83,AG$7)))","v":""},{"$f":"IF($E83=\"\",\"\",IF(INDEX(E_SourceStreams!$A:$N,DM83,AH$7)=\"\",\"\",INDEX(E_SourceStreams!$A:$N,DM83,AH$7)))","v":""},{"$f":"IF($E83=\"\",\"\",IF(INDEX(E_SourceStreams!$A:$N,DN83,AI$7)=\"\",\"\",INDEX(E_SourceStreams!$A:$N,DN83,AI$7)))","v":""},{"$f":"IF($E83=\"\",\"\",IF(INDEX(E_SourceStreams!$A:$N,DO83,AJ$7)=\"\",\"\",INDEX(E_SourceStreams!$A:$N,DO83,AJ$7)))","v":""},{"$f":"IF($E83=\"\",\"\",IF(INDEX(E_SourceStreams!$A:$N,DP83,AK$7)=\"\",\"\",INDEX(E_SourceStreams!$A:$N,DP83,AK$7)))","v":""},{"$f":"IF($E83=\"\",\"\",IF(INDEX(E_SourceStreams!$A:$N,DQ83,AL$7)=\"\",\"\",INDEX(E_SourceStreams!$A:$N,DQ83,AL$7)))","v":""},{"$f":"IF($E83=\"\",\"\",IF(INDEX(E_SourceStreams!$A:$N,DR83,AM$7)=\"\",\"\",INDEX(E_SourceStreams!$A:$N,DR83,AM$7)))","v":""},{"$f":"IF($E83=\"\",\"\",IF(INDEX(E_SourceStreams!$A:$N,DS83,AN$7)=\"\",\"\",INDEX(E_SourceStreams!$A:$N,DS83,AN$7)))","v":""},{"$f":"IF($E83=\"\",\"\",IF(INDEX(E_SourceStreams!$A:$N,DT83,AO$7)=\"\",\"\",INDEX(E_SourceStreams!$A:$N,DT83,AO$7)))","v":""},{"$f":"IF($E83=\"\",\"\",IF(INDEX(E_SourceStreams!$A:$N,DU83,AP$7)=\"\",\"\",INDEX(E_SourceStreams!$A:$N,DU83,AP$7)))","v":""},{"$f":"IF($E83=\"\",\"\",IF(INDEX(E_SourceStreams!$A:$N,DV83,AQ$7)=\"\",\"\",INDEX(E_SourceStreams!$A:$N,DV83,AQ$7)))","v":""},{"$f":"IF($E83=\"\",\"\",IF(INDEX(E_SourceStreams!$A:$N,DW83,AR$7)=\"\",\"\",INDEX(E_SourceStreams!$A:$N,DW83,AR$7)))","v":""},{"$f":"IF($E83=\"\",\"\",IF(INDEX(E_SourceStreams!$A:$N,DX83,AS$7)=\"\",\"\",INDEX(E_SourceStreams!$A:$N,DX83,AS$7)))","v":""},{"$f":"IF($E83=\"\",\"\",IF(INDEX(E_SourceStreams!$A:$N,DY83,AT$7)=\"\",\"\",INDEX(E_SourceStreams!$A:$N,DY83,AT$7)))","v":""},{"$f":"IF($E83=\"\",\"\",IF(INDEX(E_SourceStreams!$A:$N,DZ83,AU$7)=\"\",\"\",INDEX(E_SourceStreams!$A:$N,DZ83,AU$7)))","v":""},{"$f":"IF($E83=\"\",\"\",IF(INDEX(E_SourceStreams!$A:$N,EA83,AV$7)=\"\",\"\",INDEX(E_SourceStreams!$A:$N,EA83,AV$7)))","v":""},{"$f":"IF($E83=\"\",\"\",IF(INDEX(E_SourceStreams!$A:$N,EB83,AW$7)=\"\",\"\",INDEX(E_SourceStreams!$A:$N,EB83,AW$7)))","v":""},{"$f":"IF($E83=\"\",\"\",IF(INDEX(E_SourceStreams!$A:$N,EC83,AX$7)=\"\",\"\",INDEX(E_SourceStreams!$A:$N,EC83,AX$7)))","v":""},{"$f":"IF($E83=\"\",\"\",IF(INDEX(E_SourceStreams!$A:$N,ED83,AY$7)=\"\",\"\",INDEX(E_SourceStreams!$A:$N,ED83,AY$7)))","v":""},{"$f":"IF($E83=\"\",\"\",IF(INDEX(E_SourceStreams!$A:$N,EE83,AZ$7)=\"\",\"\",INDEX(E_SourceStreams!$A:$N,EE83,AZ$7)))","v":""},{"$f":"IF($E83=\"\",\"\",IF(INDEX(E_SourceStreams!$A:$N,EF83,BA$7)=\"\",\"\",INDEX(E_SourceStreams!$A:$N,EF83,BA$7)))","v":""},{"$f":"IF($E83=\"\",\"\",IF(INDEX(E_SourceStreams!$A:$N,EG83,BB$7)=\"\",\"\",INDEX(E_SourceStreams!$A:$N,EG83,BB$7)))","v":""},{"$f":"IF($E83=\"\",\"\",IF(INDEX(E_SourceStreams!$A:$N,EH83,BC$7)=\"\",\"\",INDEX(E_SourceStreams!$A:$N,EH83,BC$7)))","v":""},{"$f":"IF($E83=\"\",\"\",IF(INDEX(E_SourceStreams!$A:$N,EI83,BD$7)=\"\",\"\",INDEX(E_SourceStreams!$A:$N,EI83,BD$7)))","v":""},{"$f":"IF($E83=\"\",\"\",IF(INDEX(E_SourceStreams!$A:$N,EJ83,BE$7)=\"\",\"\",INDEX(E_SourceStreams!$A:$N,EJ83,BE$7)))","v":""},{"$f":"IF($E83=\"\",\"\",IF(INDEX(E_SourceStreams!$A:$N,EK83,BF$7)=\"\",\"\",INDEX(E_SourceStreams!$A:$N,EK83,BF$7)))","v":""},{"$f":"IF($E83=\"\",\"\",IF(INDEX(E_SourceStreams!$A:$N,EL83,BG$7)=\"\",\"\",INDEX(E_SourceStreams!$A:$N,EL83,BG$7)))","v":""},{"$f":"IF($E83=\"\",\"\",IF(INDEX(E_SourceStreams!$A:$N,EM83,BH$7)=\"\",\"\",INDEX(E_SourceStreams!$A:$N,EM83,BH$7)))","v":""},{"$f":"IF($E83=\"\",\"\",IF(INDEX(E_SourceStreams!$A:$N,EN83,BI$7)=\"\",\"\",INDEX(E_SourceStreams!$A:$N,EN83,BI$7)))","v":""},{"$f":"IF($E83=\"\",\"\",IF(INDEX(E_SourceStreams!$A:$N,EO83,BJ$7)=\"\",\"\",INDEX(E_SourceStreams!$A:$N,EO83,BJ$7)))","v":""},{"$f":"IF($E83=\"\",\"\",IF(INDEX(E_SourceStreams!$A:$N,EP83,BK$7)=\"\",\"\",INDEX(E_SourceStreams!$A:$N,EP83,BK$7)))","v":""},{"$f":"IF($E83=\"\",\"\",IF(INDEX(E_SourceStreams!$A:$N,EQ83,BL$7)=\"\",\"\",INDEX(E_SourceStreams!$A:$N,EQ83,BL$7)))","v":""},{"$f":"IF($E83=\"\",\"\",IF(INDEX(E_SourceStreams!$A:$N,ER83,BM$7)=\"\",\"\",INDEX(E_SourceStreams!$A:$N,ER83,BM$7)))","v":""},{"$f":"IF($E83=\"\",\"\",IF(INDEX(E_SourceStreams!$A:$N,ES83,BN$7)=\"\",\"\",INDEX(E_SourceStreams!$A:$N,ES83,BN$7)))","v":""},{"$f":"IF($E83=\"\",\"\",IF(INDEX(E_SourceStreams!$A:$N,ET83,BO$7)=\"\",\"\",INDEX(E_SourceStreams!$A:$N,ET83,BO$7)))","v":""},{"$f":"IF($E83=\"\",\"\",IF(INDEX(E_SourceStreams!$A:$N,EU83,BP$7)=\"\",\"\",INDEX(E_SourceStreams!$A:$N,EU83,BP$7)))","v":""},{"$f":"IF($E83=\"\",\"\",IF(INDEX(E_SourceStreams!$A:$N,EV83,BQ$7)=\"\",\"\",INDEX(E_SourceStreams!$A:$N,EV83,BQ$7)))","v":""},{"$f":"IF($E83=\"\",\"\",IF(INDEX(E_SourceStreams!$A:$N,EW83,BR$7)=\"\",\"\",INDEX(E_SourceStreams!$A:$N,EW83,BR$7)))","v":""},{"$f":"IF($E83=\"\",\"\",IF(INDEX(E_SourceStreams!$A:$N,EX83,BS$7)=\"\",\"\",INDEX(E_SourceStreams!$A:$N,EX83,BS$7)))","v":""},{"$f":"IF($E83=\"\",\"\",IF(INDEX(E_SourceStreams!$A:$N,EY83,BT$7)=\"\",\"\",INDEX(E_SourceStreams!$A:$N,EY83,BT$7)))","v":""},null,null,null,null,null,null,null,null,null,null,null,null,null,null,null,"SourceCategory_",{"$f":"INDEX(C_InstallationDescription!$A$226:$A$332,ROWS($CI$11:CI83))=\"ausblenden\"","v":true},"SourceStreamName_",null,4885,4887,4889,4891,4893,4895,4897,4897,4897,4897,4897,4900,4904,4905,4906,4913,4923,4923,4923,4923,4923,4923,4923,4914,4924,4924,4924,4924,4924,4924,4924,4915,4925,4925,4925,4925,4925,4925,4925,4916,4926,4926,4926,4926,4926,4926,4926,4917,4927,4927,4927,4927,4927,4927,4927,4918,4928,4928,4928,4928,4928,4928,4928,4934]
[null,{"$f":"IF(COUNTIF($CK$10:CK84,TRUE)>0,\"\",INDEX(C_InstallationDescription!$E$226:$E$242,ROWS($A$11:A84)))","v":""},{"$f":"IF($E84=\"\",\"\",INDEX(C_InstallationDescription!F:F,MATCH($B84,C_InstallationDescription!$E:$E,0)))","v":""},{"$f":"IF($E84=\"\",\"\",INDEX(C_InstallationDescription!I:I,MATCH($B84,C_InstallationDescription!$E:$E,0)))","v":""},{"$f":"IF($B84=\"\",\"\",INDEX(C_InstallationDescription!F:F,MATCH($CJ84,C_InstallationDescription!$Q:$Q,0)))","v":""},{"$f":"IF($E84=\"\",\"\",INDEX(C_InstallationDescription!L:L,MATCH($CJ84,C_InstallationDescription!$Q:$Q,0)))","v":""},{"$f":"IF($E84=\"\",\"\",INDEX(C_InstallationDescription!M:M,MATCH($CJ84,C_InstallationDescription!$Q:$Q,0)))","v":""},{"$f":"IF($E84=\"\",\"\",INDEX(C_InstallationDescription!N:N,MATCH($CJ84,C_InstallationDescription!$Q:$Q,0)))","v":""},{"$f":"IF($E84=\"\",\"\",IF(INDEX(E_SourceStreams!$A:$N,CN84,I$7)=\"\",\"\",INDEX(E_SourceStreams!$A:$N,CN84,I$7)))","v":""},{"$f":"IF($E84=\"\",\"\",IF(INDEX(E_SourceStreams!$A:$N,CO84,J$7)=\"\",\"\",INDEX(E_SourceStreams!$A:$N,CO84,J$7)))","v":""},{"$f":"IF($E84=\"\",\"\",IF(INDEX(E_SourceStreams!$A:$N,CP84,K$7)=\"\",\"\",INDEX(E_SourceStreams!$A:$N,CP84,K$7)))","v":""},{"$f":"IF($E84=\"\",\"\",IF(INDEX(E_SourceStreams!$A:$N,CQ84,L$7)=\"\",\"\",INDEX(E_SourceStreams!$A:$N,CQ84,L$7)))","v":""},{"$f":"IF($E84=\"\",\"\",IF(INDEX(E_SourceStreams!$A:$N,CR84,M$7)=\"\",\"\",INDEX(E_SourceStreams!$A:$N,CR84,M$7)))","v":""},{"$f":"IF($E84=\"\",\"\",IF(INDEX(E_SourceStreams!$A:$N,CS84,N$7)=\"\",\"\",INDEX(E_SourceStreams!$A:$N,CS84,N$7)))","v":""},{"$f":"IF($E84=\"\",\"\",IF(INDEX(E_SourceStreams!$A:$N,CT84,O$7)=\"\",\"\",INDEX(E_SourceStreams!$A:$N,CT84,O$7)))","v":""},{"$f":"IF($E84=\"\",\"\",IF(INDEX(E_SourceStreams!$A:$N,CU84,P$7)=\"\",\"\",INDEX(E_SourceStreams!$A:$N,CU84,P$7)))","v":""},{"$f":"IF($E84=\"\",\"\",IF(INDEX(E_SourceStreams!$A:$N,CV84,Q$7)=\"\",\"\",INDEX(E_SourceStreams!$A:$N,CV84,Q$7)))","v":""},{"$f":"IF($E84=\"\",\"\",IF(INDEX(E_SourceStreams!$A:$N,CW84,R$7)=\"\",\"\",INDEX(E_SourceStreams!$A:$N,CW84,R$7)))","v":""},{"$f":"IF($E84=\"\",\"\",IF(INDEX(E_SourceStreams!$A:$N,CX84,S$7)=\"\",\"\",INDEX(E_SourceStreams!$A:$N,CX84,S$7)))","v":""},{"$f":"IF($E84=\"\",\"\",IF(INDEX(E_SourceStreams!$A:$N,CY84,T$7)=\"\",\"\",INDEX(E_SourceStreams!$A:$N,CY84,T$7)))","v":""},{"$f":"IF($E84=\"\",\"\",IF(INDEX(E_SourceStreams!$A:$N,CZ84,U$7)=\"\",\"\",INDEX(E_SourceStreams!$A:$N,CZ84,U$7)))","v":""},{"$f":"IF($E84=\"\",\"\",IF(INDEX(E_SourceStreams!$A:$N,DA84,V$7)=\"\",\"\",INDEX(E_SourceStreams!$A:$N,DA84,V$7)))","v":""},{"$f":"IF($E84=\"\",\"\",IF(INDEX(E_SourceStreams!$A:$N,DB84,W$7)=\"\",\"\",INDEX(E_SourceStreams!$A:$N,DB84,W$7)))","v":""},{"$f":"IF($E84=\"\",\"\",IF(INDEX(E_SourceStreams!$A:$N,DC84,X$7)=\"\",\"\",INDEX(E_SourceStreams!$A:$N,DC84,X$7)))","v":""},{"$f":"IF($E84=\"\",\"\",IF(INDEX(E_SourceStreams!$A:$N,DD84,Y$7)=\"\",\"\",INDEX(E_SourceStreams!$A:$N,DD84,Y$7)))","v":""},{"$f":"IF($E84=\"\",\"\",IF(INDEX(E_SourceStreams!$A:$N,DE84,Z$7)=\"\",\"\",INDEX(E_SourceStreams!$A:$N,DE84,Z$7)))","v":""},{"$f":"IF($E84=\"\",\"\",IF(INDEX(E_SourceStreams!$A:$N,DF84,AA$7)=\"\",\"\",INDEX(E_SourceStreams!$A:$N,DF84,AA$7)))","v":""},{"$f":"IF($E84=\"\",\"\",IF(INDEX(E_SourceStreams!$A:$N,DG84,AB$7)=\"\",\"\",INDEX(E_SourceStreams!$A:$N,DG84,AB$7)))","v":""},{"$f":"IF($E84=\"\",\"\",IF(INDEX(E_SourceStreams!$A:$N,DH84,AC$7)=\"\",\"\",INDEX(E_SourceStreams!$A:$N,DH84,AC$7)))","v":""},{"$f":"IF($E84=\"\",\"\",IF(INDEX(E_SourceStreams!$A:$N,DI84,AD$7)=\"\",\"\",INDEX(E_SourceStreams!$A:$N,DI84,AD$7)))","v":""},{"$f":"IF($E84=\"\",\"\",IF(INDEX(E_SourceStreams!$A:$N,DJ84,AE$7)=\"\",\"\",INDEX(E_SourceStreams!$A:$N,DJ84,AE$7)))","v":""},{"$f":"IF($E84=\"\",\"\",IF(INDEX(E_SourceStreams!$A:$N,DK84,AF$7)=\"\",\"\",INDEX(E_SourceStreams!$A:$N,DK84,AF$7)))","v":""},{"$f":"IF($E84=\"\",\"\",IF(INDEX(E_SourceStreams!$A:$N,DL84,AG$7)=\"\",\"\",INDEX(E_SourceStreams!$A:$N,DL84,AG$7)))","v":""},{"$f":"IF($E84=\"\",\"\",IF(INDEX(E_SourceStreams!$A:$N,DM84,AH$7)=\"\",\"\",INDEX(E_SourceStreams!$A:$N,DM84,AH$7)))","v":""},{"$f":"IF($E84=\"\",\"\",IF(INDEX(E_SourceStreams!$A:$N,DN84,AI$7)=\"\",\"\",INDEX(E_SourceStreams!$A:$N,DN84,AI$7)))","v":""},{"$f":"IF($E84=\"\",\"\",IF(INDEX(E_SourceStreams!$A:$N,DO84,AJ$7)=\"\",\"\",INDEX(E_SourceStreams!$A:$N,DO84,AJ$7)))","v":""},{"$f":"IF($E84=\"\",\"\",IF(INDEX(E_SourceStreams!$A:$N,DP84,AK$7)=\"\",\"\",INDEX(E_SourceStreams!$A:$N,DP84,AK$7)))","v":""},{"$f":"IF($E84=\"\",\"\",IF(INDEX(E_SourceStreams!$A:$N,DQ84,AL$7)=\"\",\"\",INDEX(E_SourceStreams!$A:$N,DQ84,AL$7)))","v":""},{"$f":"IF($E84=\"\",\"\",IF(INDEX(E_SourceStreams!$A:$N,DR84,AM$7)=\"\",\"\",INDEX(E_SourceStreams!$A:$N,DR84,AM$7)))","v":""},{"$f":"IF($E84=\"\",\"\",IF(INDEX(E_SourceStreams!$A:$N,DS84,AN$7)=\"\",\"\",INDEX(E_SourceStreams!$A:$N,DS84,AN$7)))","v":""},{"$f":"IF($E84=\"\",\"\",IF(INDEX(E_SourceStreams!$A:$N,DT84,AO$7)=\"\",\"\",INDEX(E_SourceStreams!$A:$N,DT84,AO$7)))","v":""},{"$f":"IF($E84=\"\",\"\",IF(INDEX(E_SourceStreams!$A:$N,DU84,AP$7)=\"\",\"\",INDEX(E_SourceStreams!$A:$N,DU84,AP$7)))","v":""},{"$f":"IF($E84=\"\",\"\",IF(INDEX(E_SourceStreams!$A:$N,DV84,AQ$7)=\"\",\"\",INDEX(E_SourceStreams!$A:$N,DV84,AQ$7)))","v":""},{"$f":"IF($E84=\"\",\"\",IF(INDEX(E_SourceStreams!$A:$N,DW84,AR$7)=\"\",\"\",INDEX(E_SourceStreams!$A:$N,DW84,AR$7)))","v":""},{"$f":"IF($E84=\"\",\"\",IF(INDEX(E_SourceStreams!$A:$N,DX84,AS$7)=\"\",\"\",INDEX(E_SourceStreams!$A:$N,DX84,AS$7)))","v":""},{"$f":"IF($E84=\"\",\"\",IF(INDEX(E_SourceStreams!$A:$N,DY84,AT$7)=\"\",\"\",INDEX(E_SourceStreams!$A:$N,DY84,AT$7)))","v":""},{"$f":"IF($E84=\"\",\"\",IF(INDEX(E_SourceStreams!$A:$N,DZ84,AU$7)=\"\",\"\",INDEX(E_SourceStreams!$A:$N,DZ84,AU$7)))","v":""},{"$f":"IF($E84=\"\",\"\",IF(INDEX(E_SourceStreams!$A:$N,EA84,AV$7)=\"\",\"\",INDEX(E_SourceStreams!$A:$N,EA84,AV$7)))","v":""},{"$f":"IF($E84=\"\",\"\",IF(INDEX(E_SourceStreams!$A:$N,EB84,AW$7)=\"\",\"\",INDEX(E_SourceStreams!$A:$N,EB84,AW$7)))","v":""},{"$f":"IF($E84=\"\",\"\",IF(INDEX(E_SourceStreams!$A:$N,EC84,AX$7)=\"\",\"\",INDEX(E_SourceStreams!$A:$N,EC84,AX$7)))","v":""},{"$f":"IF($E84=\"\",\"\",IF(INDEX(E_SourceStreams!$A:$N,ED84,AY$7)=\"\",\"\",INDEX(E_SourceStreams!$A:$N,ED84,AY$7)))","v":""},{"$f":"IF($E84=\"\",\"\",IF(INDEX(E_SourceStreams!$A:$N,EE84,AZ$7)=\"\",\"\",INDEX(E_SourceStreams!$A:$N,EE84,AZ$7)))","v":""},{"$f":"IF($E84=\"\",\"\",IF(INDEX(E_SourceStreams!$A:$N,EF84,BA$7)=\"\",\"\",INDEX(E_SourceStreams!$A:$N,EF84,BA$7)))","v":""},{"$f":"IF($E84=\"\",\"\",IF(INDEX(E_SourceStreams!$A:$N,EG84,BB$7)=\"\",\"\",INDEX(E_SourceStreams!$A:$N,EG84,BB$7)))","v":""},{"$f":"IF($E84=\"\",\"\",IF(INDEX(E_SourceStreams!$A:$N,EH84,BC$7)=\"\",\"\",INDEX(E_SourceStreams!$A:$N,EH84,BC$7)))","v":""},{"$f":"IF($E84=\"\",\"\",IF(INDEX(E_SourceStreams!$A:$N,EI84,BD$7)=\"\",\"\",INDEX(E_SourceStreams!$A:$N,EI84,BD$7)))","v":""},{"$f":"IF($E84=\"\",\"\",IF(INDEX(E_SourceStreams!$A:$N,EJ84,BE$7)=\"\",\"\",INDEX(E_SourceStreams!$A:$N,EJ84,BE$7)))","v":""},{"$f":"IF($E84=\"\",\"\",IF(INDEX(E_SourceStreams!$A:$N,EK84,BF$7)=\"\",\"\",INDEX(E_SourceStreams!$A:$N,EK84,BF$7)))","v":""},{"$f":"IF($E84=\"\",\"\",IF(INDEX(E_SourceStreams!$A:$N,EL84,BG$7)=\"\",\"\",INDEX(E_SourceStreams!$A:$N,EL84,BG$7)))","v":""},{"$f":"IF($E84=\"\",\"\",IF(INDEX(E_SourceStreams!$A:$N,EM84,BH$7)=\"\",\"\",INDEX(E_SourceStreams!$A:$N,EM84,BH$7)))","v":""},{"$f":"IF($E84=\"\",\"\",IF(INDEX(E_SourceStreams!$A:$N,EN84,BI$7)=\"\",\"\",INDEX(E_SourceStreams!$A:$N,EN84,BI$7)))","v":""},{"$f":"IF($E84=\"\",\"\",IF(INDEX(E_SourceStreams!$A:$N,EO84,BJ$7)=\"\",\"\",INDEX(E_SourceStreams!$A:$N,EO84,BJ$7)))","v":""},{"$f":"IF($E84=\"\",\"\",IF(INDEX(E_SourceStreams!$A:$N,EP84,BK$7)=\"\",\"\",INDEX(E_SourceStreams!$A:$N,EP84,BK$7)))","v":""},{"$f":"IF($E84=\"\",\"\",IF(INDEX(E_SourceStreams!$A:$N,EQ84,BL$7)=\"\",\"\",INDEX(E_SourceStreams!$A:$N,EQ84,BL$7)))","v":""},{"$f":"IF($E84=\"\",\"\",IF(INDEX(E_SourceStreams!$A:$N,ER84,BM$7)=\"\",\"\",INDEX(E_SourceStreams!$A:$N,ER84,BM$7)))","v":""},{"$f":"IF($E84=\"\",\"\",IF(INDEX(E_SourceStreams!$A:$N,ES84,BN$7)=\"\",\"\",INDEX(E_SourceStreams!$A:$N,ES84,BN$7)))","v":""},{"$f":"IF($E84=\"\",\"\",IF(INDEX(E_SourceStreams!$A:$N,ET84,BO$7)=\"\",\"\",INDEX(E_SourceStreams!$A:$N,ET84,BO$7)))","v":""},{"$f":"IF($E84=\"\",\"\",IF(INDEX(E_SourceStreams!$A:$N,EU84,BP$7)=\"\",\"\",INDEX(E_SourceStreams!$A:$N,EU84,BP$7)))","v":""},{"$f":"IF($E84=\"\",\"\",IF(INDEX(E_SourceStreams!$A:$N,EV84,BQ$7)=\"\",\"\",INDEX(E_SourceStreams!$A:$N,EV84,BQ$7)))","v":""},{"$f":"IF($E84=\"\",\"\",IF(INDEX(E_SourceStreams!$A:$N,EW84,BR$7)=\"\",\"\",INDEX(E_SourceStreams!$A:$N,EW84,BR$7)))","v":""},{"$f":"IF($E84=\"\",\"\",IF(INDEX(E_SourceStreams!$A:$N,EX84,BS$7)=\"\",\"\",INDEX(E_SourceStreams!$A:$N,EX84,BS$7)))","v":""},{"$f":"IF($E84=\"\",\"\",IF(INDEX(E_SourceStreams!$A:$N,EY84,BT$7)=\"\",\"\",INDEX(E_SourceStreams!$A:$N,EY84,BT$7)))","v":""},null,null,null,null,null,null,null,null,null,null,null,null,null,null,null,"SourceCategory_",{"$f":"INDEX(C_InstallationDescription!$A$226:$A$332,ROWS($CI$11:CI84))=\"ausblenden\"","v":true},"SourceStreamName_",null,4951,4953,4955,4957,4959,4961,4963,4963,4963,4963,4963,4966,4970,4971,4972,4979,4989,4989,4989,4989,4989,4989,4989,4980,4990,4990,4990,4990,4990,4990,4990,4981,4991,4991,4991,4991,4991,4991,4991,4982,4992,4992,4992,4992,4992,4992,4992,4983,4993,4993,4993,4993,4993,4993,4993,4984,4994,4994,4994,4994,4994,4994,4994,5000]
[null,{"$f":"IF(COUNTIF($CK$10:CK85,TRUE)>0,\"\",INDEX(C_InstallationDescription!$E$226:$E$242,ROWS($A$11:A85)))","v":""},{"$f":"IF($E85=\"\",\"\",INDEX(C_InstallationDescription!F:F,MATCH($B85,C_InstallationDescription!$E:$E,0)))","v":""},{"$f":"IF($E85=\"\",\"\",INDEX(C_InstallationDescription!I:I,MATCH($B85,C_InstallationDescription!$E:$E,0)))","v":""},{"$f":"IF($B85=\"\",\"\",INDEX(C_InstallationDescription!F:F,MATCH($CJ85,C_InstallationDescription!$Q:$Q,0)))","v":""},{"$f":"IF($E85=\"\",\"\",INDEX(C_InstallationDescription!L:L,MATCH($CJ85,C_InstallationDescription!$Q:$Q,0)))","v":""},{"$f":"IF($E85=\"\",\"\",INDEX(C_InstallationDescription!M:M,MATCH($CJ85,C_InstallationDescription!$Q:$Q,0)))","v":""},{"$f":"IF($E85=\"\",\"\",INDEX(C_InstallationDescription!N:N,MATCH($CJ85,C_InstallationDescription!$Q:$Q,0)))","v":""},{"$f":"IF($E85=\"\",\"\",IF(INDEX(E_SourceStreams!$A:$N,CN85,I$7)=\"\",\"\",INDEX(E_SourceStreams!$A:$N,CN85,I$7)))","v":""},{"$f":"IF($E85=\"\",\"\",IF(INDEX(E_SourceStreams!$A:$N,CO85,J$7)=\"\",\"\",INDEX(E_SourceStreams!$A:$N,CO85,J$7)))","v":""},{"$f":"IF($E85=\"\",\"\",IF(INDEX(E_SourceStreams!$A:$N,CP85,K$7)=\"\",\"\",INDEX(E_SourceStreams!$A:$N,CP85,K$7)))","v":""},{"$f":"IF($E85=\"\",\"\",IF(INDEX(E_SourceStreams!$A:$N,CQ85,L$7)=\"\",\"\",INDEX(E_SourceStreams!$A:$N,CQ85,L$7)))","v":""},{"$f":"IF($E85=\"\",\"\",IF(INDEX(E_SourceStreams!$A:$N,CR85,M$7)=\"\",\"\",INDEX(E_SourceStreams!$A:$N,CR85,M$7)))","v":""},{"$f":"IF($E85=\"\",\"\",IF(INDEX(E_SourceStreams!$A:$N,CS85,N$7)=\"\",\"\",INDEX(E_SourceStreams!$A:$N,CS85,N$7)))","v":""},{"$f":"IF($E85=\"\",\"\",IF(INDEX(E_SourceStreams!$A:$N,CT85,O$7)=\"\",\"\",INDEX(E_SourceStreams!$A:$N,CT85,O$7)))","v":""},{"$f":"IF($E85=\"\",\"\",IF(INDEX(E_SourceStreams!$A:$N,CU85,P$7)=\"\",\"\",INDEX(E_SourceStreams!$A:$N,CU85,P$7)))","v":""},{"$f":"IF($E85=\"\",\"\",IF(INDEX(E_SourceStreams!$A:$N,CV85,Q$7)=\"\",\"\",INDEX(E_SourceStreams!$A:$N,CV85,Q$7)))","v":""},{"$f":"IF($E85=\"\",\"\",IF(INDEX(E_SourceStreams!$A:$N,CW85,R$7)=\"\",\"\",INDEX(E_SourceStreams!$A:$N,CW85,R$7)))","v":""},{"$f":"IF($E85=\"\",\"\",IF(INDEX(E_SourceStreams!$A:$N,CX85,S$7)=\"\",\"\",INDEX(E_SourceStreams!$A:$N,CX85,S$7)))","v":""},{"$f":"IF($E85=\"\",\"\",IF(INDEX(E_SourceStreams!$A:$N,CY85,T$7)=\"\",\"\",INDEX(E_SourceStreams!$A:$N,CY85,T$7)))","v":""},{"$f":"IF($E85=\"\",\"\",IF(INDEX(E_SourceStreams!$A:$N,CZ85,U$7)=\"\",\"\",INDEX(E_SourceStreams!$A:$N,CZ85,U$7)))","v":""},{"$f":"IF($E85=\"\",\"\",IF(INDEX(E_SourceStreams!$A:$N,DA85,V$7)=\"\",\"\",INDEX(E_SourceStreams!$A:$N,DA85,V$7)))","v":""},{"$f":"IF($E85=\"\",\"\",IF(INDEX(E_SourceStreams!$A:$N,DB85,W$7)=\"\",\"\",INDEX(E_SourceStreams!$A:$N,DB85,W$7)))","v":""},{"$f":"IF($E85=\"\",\"\",IF(INDEX(E_SourceStreams!$A:$N,DC85,X$7)=\"\",\"\",INDEX(E_SourceStreams!$A:$N,DC85,X$7)))","v":""},{"$f":"IF($E85=\"\",\"\",IF(INDEX(E_SourceStreams!$A:$N,DD85,Y$7)=\"\",\"\",INDEX(E_SourceStreams!$A:$N,DD85,Y$7)))","v":""},{"$f":"IF($E85=\"\",\"\",IF(INDEX(E_SourceStreams!$A:$N,DE85,Z$7)=\"\",\"\",INDEX(E_SourceStreams!$A:$N,DE85,Z$7)))","v":""},{"$f":"IF($E85=\"\",\"\",IF(INDEX(E_SourceStreams!$A:$N,DF85,AA$7)=\"\",\"\",INDEX(E_SourceStreams!$A:$N,DF85,AA$7)))","v":""},{"$f":"IF($E85=\"\",\"\",IF(INDEX(E_SourceStreams!$A:$N,DG85,AB$7)=\"\",\"\",INDEX(E_SourceStreams!$A:$N,DG85,AB$7)))","v":""},{"$f":"IF($E85=\"\",\"\",IF(INDEX(E_SourceStreams!$A:$N,DH85,AC$7)=\"\",\"\",INDEX(E_SourceStreams!$A:$N,DH85,AC$7)))","v":""},{"$f":"IF($E85=\"\",\"\",IF(INDEX(E_SourceStreams!$A:$N,DI85,AD$7)=\"\",\"\",INDEX(E_SourceStreams!$A:$N,DI85,AD$7)))","v":""},{"$f":"IF($E85=\"\",\"\",IF(INDEX(E_SourceStreams!$A:$N,DJ85,AE$7)=\"\",\"\",INDEX(E_SourceStreams!$A:$N,DJ85,AE$7)))","v":""},{"$f":"IF($E85=\"\",\"\",IF(INDEX(E_SourceStreams!$A:$N,DK85,AF$7)=\"\",\"\",INDEX(E_SourceStreams!$A:$N,DK85,AF$7)))","v":""},{"$f":"IF($E85=\"\",\"\",IF(INDEX(E_SourceStreams!$A:$N,DL85,AG$7)=\"\",\"\",INDEX(E_SourceStreams!$A:$N,DL85,AG$7)))","v":""},{"$f":"IF($E85=\"\",\"\",IF(INDEX(E_SourceStreams!$A:$N,DM85,AH$7)=\"\",\"\",INDEX(E_SourceStreams!$A:$N,DM85,AH$7)))","v":""},{"$f":"IF($E85=\"\",\"\",IF(INDEX(E_SourceStreams!$A:$N,DN85,AI$7)=\"\",\"\",INDEX(E_SourceStreams!$A:$N,DN85,AI$7)))","v":""},{"$f":"IF($E85=\"\",\"\",IF(INDEX(E_SourceStreams!$A:$N,DO85,AJ$7)=\"\",\"\",INDEX(E_SourceStreams!$A:$N,DO85,AJ$7)))","v":""},{"$f":"IF($E85=\"\",\"\",IF(INDEX(E_SourceStreams!$A:$N,DP85,AK$7)=\"\",\"\",INDEX(E_SourceStreams!$A:$N,DP85,AK$7)))","v":""},{"$f":"IF($E85=\"\",\"\",IF(INDEX(E_SourceStreams!$A:$N,DQ85,AL$7)=\"\",\"\",INDEX(E_SourceStreams!$A:$N,DQ85,AL$7)))","v":""},{"$f":"IF($E85=\"\",\"\",IF(INDEX(E_SourceStreams!$A:$N,DR85,AM$7)=\"\",\"\",INDEX(E_SourceStreams!$A:$N,DR85,AM$7)))","v":""},{"$f":"IF($E85=\"\",\"\",IF(INDEX(E_SourceStreams!$A:$N,DS85,AN$7)=\"\",\"\",INDEX(E_SourceStreams!$A:$N,DS85,AN$7)))","v":""},{"$f":"IF($E85=\"\",\"\",IF(INDEX(E_SourceStreams!$A:$N,DT85,AO$7)=\"\",\"\",INDEX(E_SourceStreams!$A:$N,DT85,AO$7)))","v":""},{"$f":"IF($E85=\"\",\"\",IF(INDEX(E_SourceStreams!$A:$N,DU85,AP$7)=\"\",\"\",INDEX(E_SourceStreams!$A:$N,DU85,AP$7)))","v":""},{"$f":"IF($E85=\"\",\"\",IF(INDEX(E_SourceStreams!$A:$N,DV85,AQ$7)=\"\",\"\",INDEX(E_SourceStreams!$A:$N,DV85,AQ$7)))","v":""},{"$f":"IF($E85=\"\",\"\",IF(INDEX(E_SourceStreams!$A:$N,DW85,AR$7)=\"\",\"\",INDEX(E_SourceStreams!$A:$N,DW85,AR$7)))","v":""},{"$f":"IF($E85=\"\",\"\",IF(INDEX(E_SourceStreams!$A:$N,DX85,AS$7)=\"\",\"\",INDEX(E_SourceStreams!$A:$N,DX85,AS$7)))","v":""},{"$f":"IF($E85=\"\",\"\",IF(INDEX(E_SourceStreams!$A:$N,DY85,AT$7)=\"\",\"\",INDEX(E_SourceStreams!$A:$N,DY85,AT$7)))","v":""},{"$f":"IF($E85=\"\",\"\",IF(INDEX(E_SourceStreams!$A:$N,DZ85,AU$7)=\"\",\"\",INDEX(E_SourceStreams!$A:$N,DZ85,AU$7)))","v":""},{"$f":"IF($E85=\"\",\"\",IF(INDEX(E_SourceStreams!$A:$N,EA85,AV$7)=\"\",\"\",INDEX(E_SourceStreams!$A:$N,EA85,AV$7)))","v":""},{"$f":"IF($E85=\"\",\"\",IF(INDEX(E_SourceStreams!$A:$N,EB85,AW$7)=\"\",\"\",INDEX(E_SourceStreams!$A:$N,EB85,AW$7)))","v":""},{"$f":"IF($E85=\"\",\"\",IF(INDEX(E_SourceStreams!$A:$N,EC85,AX$7)=\"\",\"\",INDEX(E_SourceStreams!$A:$N,EC85,AX$7)))","v":""},{"$f":"IF($E85=\"\",\"\",IF(INDEX(E_SourceStreams!$A:$N,ED85,AY$7)=\"\",\"\",INDEX(E_SourceStreams!$A:$N,ED85,AY$7)))","v":""},{"$f":"IF($E85=\"\",\"\",IF(INDEX(E_SourceStreams!$A:$N,EE85,AZ$7)=\"\",\"\",INDEX(E_SourceStreams!$A:$N,EE85,AZ$7)))","v":""},{"$f":"IF($E85=\"\",\"\",IF(INDEX(E_SourceStreams!$A:$N,EF85,BA$7)=\"\",\"\",INDEX(E_SourceStreams!$A:$N,EF85,BA$7)))","v":""},{"$f":"IF($E85=\"\",\"\",IF(INDEX(E_SourceStreams!$A:$N,EG85,BB$7)=\"\",\"\",INDEX(E_SourceStreams!$A:$N,EG85,BB$7)))","v":""},{"$f":"IF($E85=\"\",\"\",IF(INDEX(E_SourceStreams!$A:$N,EH85,BC$7)=\"\",\"\",INDEX(E_SourceStreams!$A:$N,EH85,BC$7)))","v":""},{"$f":"IF($E85=\"\",\"\",IF(INDEX(E_SourceStreams!$A:$N,EI85,BD$7)=\"\",\"\",INDEX(E_SourceStreams!$A:$N,EI85,BD$7)))","v":""},{"$f":"IF($E85=\"\",\"\",IF(INDEX(E_SourceStreams!$A:$N,EJ85,BE$7)=\"\",\"\",INDEX(E_SourceStreams!$A:$N,EJ85,BE$7)))","v":""},{"$f":"IF($E85=\"\",\"\",IF(INDEX(E_SourceStreams!$A:$N,EK85,BF$7)=\"\",\"\",INDEX(E_SourceStreams!$A:$N,EK85,BF$7)))","v":""},{"$f":"IF($E85=\"\",\"\",IF(INDEX(E_SourceStreams!$A:$N,EL85,BG$7)=\"\",\"\",INDEX(E_SourceStreams!$A:$N,EL85,BG$7)))","v":""},{"$f":"IF($E85=\"\",\"\",IF(INDEX(E_SourceStreams!$A:$N,EM85,BH$7)=\"\",\"\",INDEX(E_SourceStreams!$A:$N,EM85,BH$7)))","v":""},{"$f":"IF($E85=\"\",\"\",IF(INDEX(E_SourceStreams!$A:$N,EN85,BI$7)=\"\",\"\",INDEX(E_SourceStreams!$A:$N,EN85,BI$7)))","v":""},{"$f":"IF($E85=\"\",\"\",IF(INDEX(E_SourceStreams!$A:$N,EO85,BJ$7)=\"\",\"\",INDEX(E_SourceStreams!$A:$N,EO85,BJ$7)))","v":""},{"$f":"IF($E85=\"\",\"\",IF(INDEX(E_SourceStreams!$A:$N,EP85,BK$7)=\"\",\"\",INDEX(E_SourceStreams!$A:$N,EP85,BK$7)))","v":""},{"$f":"IF($E85=\"\",\"\",IF(INDEX(E_SourceStreams!$A:$N,EQ85,BL$7)=\"\",\"\",INDEX(E_SourceStreams!$A:$N,EQ85,BL$7)))","v":""},{"$f":"IF($E85=\"\",\"\",IF(INDEX(E_SourceStreams!$A:$N,ER85,BM$7)=\"\",\"\",INDEX(E_SourceStreams!$A:$N,ER85,BM$7)))","v":""},{"$f":"IF($E85=\"\",\"\",IF(INDEX(E_SourceStreams!$A:$N,ES85,BN$7)=\"\",\"\",INDEX(E_SourceStreams!$A:$N,ES85,BN$7)))","v":""},{"$f":"IF($E85=\"\",\"\",IF(INDEX(E_SourceStreams!$A:$N,ET85,BO$7)=\"\",\"\",INDEX(E_SourceStreams!$A:$N,ET85,BO$7)))","v":""},{"$f":"IF($E85=\"\",\"\",IF(INDEX(E_SourceStreams!$A:$N,EU85,BP$7)=\"\",\"\",INDEX(E_SourceStreams!$A:$N,EU85,BP$7)))","v":""},{"$f":"IF($E85=\"\",\"\",IF(INDEX(E_SourceStreams!$A:$N,EV85,BQ$7)=\"\",\"\",INDEX(E_SourceStreams!$A:$N,EV85,BQ$7)))","v":""},{"$f":"IF($E85=\"\",\"\",IF(INDEX(E_SourceStreams!$A:$N,EW85,BR$7)=\"\",\"\",INDEX(E_SourceStreams!$A:$N,EW85,BR$7)))","v":""},{"$f":"IF($E85=\"\",\"\",IF(INDEX(E_SourceStreams!$A:$N,EX85,BS$7)=\"\",\"\",INDEX(E_SourceStreams!$A:$N,EX85,BS$7)))","v":""},{"$f":"IF($E85=\"\",\"\",IF(INDEX(E_SourceStreams!$A:$N,EY85,BT$7)=\"\",\"\",INDEX(E_SourceStreams!$A:$N,EY85,BT$7)))","v":""},null,null,null,null,null,null,null,null,null,null,null,null,null,null,null,"SourceCategory_",{"$f":"INDEX(C_InstallationDescription!$A$226:$A$332,ROWS($CI$11:CI85))=\"ausblenden\"","v":true},"SourceStreamName_",null,5017,5019,5021,5023,5025,5027,5029,5029,5029,5029,5029,5032,5036,5037,5038,5045,5055,5055,5055,5055,5055,5055,5055,5046,5056,5056,5056,5056,5056,5056,5056,5047,5057,5057,5057,5057,5057,5057,5057,5048,5058,5058,5058,5058,5058,5058,5058,5049,5059,5059,5059,5059,5059,5059,5059,5050,5060,5060,5060,5060,5060,5060,5060,5066]
[]
["ausblenden",null,null,null,null,null,null,8,8,9,10,11,12,8,8,8,5,6,6,6,6,6,5,5]
[null,{"$f":"Translations!$B$323","v":"Emissionsquellen"}]
[null,null,null,null,null,null,null,null,{"$f":"Translations!$B$472","v":"Verwendete Messgeräte:"}]
[null,{"$f":"C_InstallationDescription!$E$169","v":"Ref. Messstelle\nM1, M2, …"},{"$f":"C_InstallationDescription!F169","v":"Beschreibung"},{"$f":"C_InstallationDescription!K169","v":"Ref. Emissionspunkt"},null,{"$f":"C_InstallationDescription!L169","v":"Geschätzte Emissionen           [t CO2Äq / Jahr]"},{"$f":"C_InstallationDescription!M169","v":"Mögliche Kategorie"},{"$f":"C_InstallationDescription!N169","v":"Gemessene THG"},1,2,3,4,5,{"$f":"F_MeasurementBasedApproaches!$E$137","v":"Betriebszustand:"},{"$f":"F_MeasurementBasedApproaches!$E$168","v":"Vorgeschriebene Ebene:"},{"$f":"F_MeasurementBasedApproaches!$E$169","v":"Angewandte Ebene:"},{"$f":"F_MeasurementBasedApproaches!$E$170","v":"Erreichte Unsicherheit:"},{"$f":"F_MeasurementBasedApproaches!$E$182","v":"Angewandte Normen und etwaige Abweichungen davon"},{"$f":"F_MeasurementBasedApproaches!F192","v":"Berechnungsformeln für die Datenaggregation und zur Bestimmung der Jahresemissionen"},{"$f":"F_MeasurementBasedApproaches!F195","v":"Methode zur Feststellung, ob für die einzelnen Parameter gültige Stundendaten oder kürzere Referenzzeiträume berechnet werden können (unter Verwendung des Schwellenwerts gemäß Artikel 44 Absatz 2) und Methode zur Bestimmung von Ersatzwerten für fehlende Daten gemäß Artikel 45"},{"$f":"F_MeasurementBasedApproaches!F198","v":"Gegebenenfalls Berechnung des Abgasstroms"},{"$f":"F_MeasurementBasedApproaches!F201","v":"Gegebenenfalls Bestimmung von CO2 aus Biomasse oder aus einem anderen Anteil mit einem Emissionsfaktor von Null und von den gemessenen CO2-Emissionen abgezogen wird."},{"$f":"F_MeasurementBasedApproaches!F204","v":"Gegebenenfalls flankierende Emissionsberechnungen gemäß Artikel 46"},{"$f":"Translations!$B$1202","v":"Anmerkungen und Begründung für die Nichtanwendung der vorgeschriebenen Ebene:"}]
[null,{"$f":"IF(COUNTIF($CK$90:CK91,TRUE)>0,\"\",INDEX(C_InstallationDescription!$E$171:$E$188,ROWS($A$91:A91)))","v":"M1"},{"$f":"IF(INDEX(C_InstallationDescription!F:F,MATCH($B91,C_InstallationDescription!$E:$E,0))=\"\",\"\",INDEX(C_InstallationDescription!F:F,MATCH($B91,C_InstallationDescription!$E:$E,0)))","v":""},{"$f":"IF($C91=\"\",\"\",INDEX(C_InstallationDescription!K:K,MATCH($B91,C_InstallationDescription!$E:$E,0)))","v":""},null,{"$f":"IF($C91=\"\",\"\",INDEX(C_InstallationDescription!L:L,MATCH($B91,C_InstallationDescription!$E:$E,0)))","v":""},{"$f":"IF($C91=\"\",\"\",INDEX(C_InstallationDescription!M:M,MATCH($B91,C_InstallationDescription!$E:$E,0)))","v":""},{"$f":"IF($C91=\"\",\"\",INDEX(C_InstallationDescription!N:N,MATCH($B91,C_InstallationDescription!$E:$E,0)))","v":""},{"$f":"IF($C91=\"\",\"\",IF($C91=\"\",\"\",INDEX(F_MeasurementBasedApproaches!$A:$N,CM91,I$87)))","v":""},{"$f":"IF($C91=\"\",\"\",IF($C91=\"\",\"\",INDEX(F_MeasurementBasedApproaches!$A:$N,CN91,J$87)))","v":""},{"$f":"IF($C91=\"\",\"\",IF($C91=\"\",\"\",INDEX(F_MeasurementBasedApproaches!$A:$N,CO91,K$87)))","v":""},{"$f":"IF($C91=\"\",\"\",IF($C91=\"\",\"\",INDEX(F_MeasurementBasedApproaches!$A:$N,CP91,L$87)))","v":""},{"$f":"IF($C91=\"\",\"\",IF($C91=\"\",\"\",INDEX(F_MeasurementBasedApproaches!$A:$N,CQ91,M$87)))","v":""},{"$f":"IF($C91=\"\",\"\",IF($C91=\"\",\"\",INDEX(F_MeasurementBasedApproaches!$A:$N,CL91,N$87)))","v":""},{"$f":"IF($C91=\"\",\"\",IF($C91=\"\",\"\",INDEX(F_MeasurementBasedApproaches!$A:$N,CR91,N$87)))","v":""},{"$f":"IF($C91=\"\",\"\",IF($C91=\"\",\"\",INDEX(F_MeasurementBasedApproaches!$A:$N,CS91,O$87)))","v":""},{"$f":"IF($C91=\"\",\"\",IF($C91=\"\",\"\",INDEX(F_MeasurementBasedApproaches!$A:$N,CT91,P$87)))","v":""},{"$f":"IF($C91=\"\",\"\",IF($C91=\"\",\"\",INDEX(F_MeasurementBasedApproaches!$A:$N,CU91,Q$87)))","v":""},{"$f":"IF($C91=\"\",\"\",IF($C91=\"\",\"\",INDEX(F_MeasurementBasedApproaches!$A:$N,CV91,R$87)))","v":""},{"$f":"IF($C91=\"\",\"\",IF($C91=\"\",\"\",INDEX(F_MeasurementBasedApproaches!$A:$N,CW91,S$87)))","v":""},{"$f":"IF($C91=\"\",\"\",IF($C91=\"\",\"\",INDEX(F_MeasurementBasedApproaches!$A:$N,CX91,T$87)))","v":""},{"$f":"IF($C91=\"\",\"\",IF($C91=\"\",\"\",INDEX(F_MeasurementBasedApproaches!$A:$N,CY91,U$87)))","v":""},{"$f":"IF($C91=\"\",\"\",IF($C91=\"\",\"\",INDEX(F_MeasurementBasedApproaches!$A:$N,CZ91,V$87)))","v":""},{"$f":"IF($C91=\"\",\"\",IF($C91=\"\",\"\",INDEX(F_MeasurementBasedApproaches!$A:$N,DA91,W$87)))","v":""},null,null,null,null,null,null,null,null,null,null,null,null,null,null,null,null,null,null,null,null,null,null,null,null,null,null,null,null,null,null,null,null,null,null,null,null,null,null,null,null,null,null,null,null,null,null,null,null,null,null,null,null,null,null,null,null,null,null,null,null,null,null,null,{"$f":"EUconst_CNTR_SourceCategory&B91","v":"SourceCategory_M1"},{"$f":"INDEX(C_InstallationDescription!$A$171:$A$188,ROWS($CI$91:CI91))=\"ausblenden\"","v":false},137,156,156,156,156,156,164,168,169,170,185,193,196,199,202,205,213]
[null,{"$f":"IF(COUNTIF($CK$90:CK92,TRUE)>0,\"\",INDEX(C_InstallationDescription!$E$171:$E$188,ROWS($A$91:A92)))","v":"M2"},{"$f":"IF(INDEX(C_InstallationDescription!F:F,MATCH($B92,C_InstallationDescription!$E:$E,0))=\"\",\"\",INDEX(C_InstallationDescription!F:F,MATCH($B92,C_InstallationDescription!$E:$E,0)))","v":""},{"$f":"IF($C92=\"\",\"\",INDEX(C_InstallationDescription!K:K,MATCH($B92,C_InstallationDescription!$E:$E,0)))","v":""},null,{"$f":"IF($C92=\"\",\"\",INDEX(C_InstallationDescription!L:L,MATCH($B92,C_InstallationDescription!$E:$E,0)))","v":""},{"$f":"IF($C92=\"\",\"\",INDEX(C_InstallationDescription!M:M,MATCH($B92,C_InstallationDescription!$E:$E,0)))","v":""},{"$f":"IF($C92=\"\",\"\",INDEX(C_InstallationDescription!N:N,MATCH($B92,C_InstallationDescription!$E:$E,0)))","v":""},{"$f":"IF($C92=\"\",\"\",IF($C92=\"\",\"\",INDEX(F_MeasurementBasedApproaches!$A:$N,CM92,I$87)))","v":""},{"$f":"IF($C92=\"\",\"\",IF($C92=\"\",\"\",INDEX(F_MeasurementBasedApproaches!$A:$N,CN92,J$87)))","v":""},{"$f":"IF($C92=\"\",\"\",IF($C92=\"\",\"\",INDEX(F_MeasurementBasedApproaches!$A:$N,CO92,K$87)))","v":""},{"$f":"IF($C92=\"\",\"\",IF($C92=\"\",\"\",INDEX(F_MeasurementBasedApproaches!$A:$N,CP92,L$87)))","v":""},{"$f":"IF($C92=\"\",\"\",IF($C92=\"\",\"\",INDEX(F_MeasurementBasedApproaches!$A:$N,CQ92,M$87)))","v":""},{"$f":"IF($C92=\"\",\"\",IF($C92=\"\",\"\",INDEX(F_MeasurementBasedApproaches!$A:$N,CL92,H$87)))","v":""},{"$f":"IF($C92=\"\",\"\",IF($C92=\"\",\"\",INDEX(F_MeasurementBasedApproaches!$A:$N,CR92,N$87)))","v":""},{"$f":"IF($C92=\"\",\"\",IF($C92=\"\",\"\",INDEX(F_MeasurementBasedApproaches!$A:$N,CS92,O$87)))","v":""},{"$f":"IF($C92=\"\",\"\",IF($C92=\"\",\"\",INDEX(F_MeasurementBasedApproaches!$A:$N,CT92,P$87)))","v":""},{"$f":"IF($C92=\"\",\"\",IF($C92=\"\",\"\",INDEX(F_MeasurementBasedApproaches!$A:$N,CU92,Q$87)))","v":""},{"$f":"IF($C92=\"\",\"\",IF($C92=\"\",\"\",INDEX(F_MeasurementBasedApproaches!$A:$N,CV92,R$87)))","v":""},{"$f":"IF($C92=\"\",\"\",IF($C92=\"\",\"\",INDEX(F_MeasurementBasedApproaches!$A:$N,CW92,S$87)))","v":""},{"$f":"IF($C92=\"\",\"\",IF($C92=\"\",\"\",INDEX(F_MeasurementBasedApproaches!$A:$N,CX92,T$87)))","v":""},{"$f":"IF($C92=\"\",\"\",IF($C92=\"\",\"\",INDEX(F_MeasurementBasedApproaches!$A:$N,CY92,U$87)))","v":""},{"$f":"IF($C92=\"\",\"\",IF($C92=\"\",\"\",INDEX(F_MeasurementBasedApproaches!$A:$N,CZ92,V$87)))","v":""},{"$f":"IF($C92=\"\",\"\",IF($C92=\"\",\"\",INDEX(F_MeasurementBasedApproaches!$A:$N,DA92,W$87)))","v":""},null,null,null,null,null,null,null,null,null,null,null,null,null,null,null,null,null,null,null,null,null,null,null,null,null,null,null,null,null,null,null,null,null,null,null,null,null,null,null,null,null,null,null,null,null,null,null,null,null,null,null,null,null,null,null,null,null,null,null,null,null,null,null,"SourceCategory_M2",{"$f":"INDEX(C_InstallationDescription!$A$171:$A$188,ROWS($CI$91:CI92))=\"ausblenden\"","v":false},220,229,229,229,229,229,233,237,238,239,246,253,256,259,262,265,271]
[null,{"$f":"IF(COUNTIF($CK$90:CK93,TRUE)>0,\"\",INDEX(C_InstallationDescription!$E$171:$E$188,ROWS($A$91:A93)))","v":"M3"},{"$f":"IF(INDEX(C_InstallationDescription!F:F,MATCH($B93,C_InstallationDescription!$E:$E,0))=\"\",\"\",INDEX(C_InstallationDescription!F:F,MATCH($B93,C_InstallationDescription!$E:$E,0)))","v":""},{"$f":"IF($C93=\"\",\"\",INDEX(C_InstallationDescription!K:K,MATCH($B93,C_InstallationDescription!$E:$E,0)))","v":""},null,{"$f":"IF($C93=\"\",\"\",INDEX(C_InstallationDescription!L:L,MATCH($B93,C_InstallationDescription!$E:$E,0)))","v":""},{"$f":"IF($C93=\"\",\"\",INDEX(C_InstallationDescription!M:M,MATCH($B93,C_InstallationDescription!$E:$E,0)))","v":""},{"$f":"IF($C93=\"\",\"\",INDEX(C_InstallationDescription!N:N,MATCH($B93,C_InstallationDescription!$E:$E,0)))","v":""},{"$f":"IF($C93=\"\",\"\",IF($C93=\"\",\"\",INDEX(F_MeasurementBasedApproaches!$A:$N,CM93,I$87)))","v":""},{"$f":"IF($C93=\"\",\"\",IF($C93=\"\",\"\",INDEX(F_MeasurementBasedApproaches!$A:$N,CN93,J$87)))","v":""},{"$f":"IF($C93=\"\",\"\",IF($C93=\"\",\"\",INDEX(F_MeasurementBasedApproaches!$A:$N,CO93,K$87)))","v":""},{"$f":"IF($C93=\"\",\"\",IF($C93=\"\",\"\",INDEX(F_MeasurementBasedApproaches!$A:$N,CP93,L$87)))","v":""},{"$f":"IF($C93=\"\",\"\",IF($C93=\"\",\"\",INDEX(F_MeasurementBasedApproaches!$A:$N,CQ93,M$87)))","v":""},{"$f":"IF($C93=\"\",\"\",IF($C93=\"\",\"\",INDEX(F_MeasurementBasedApproaches!$A:$N,CL93,H$87)))","v":""},{"$f":"IF($C93=\"\",\"\",IF($C93=\"\",\"\",INDEX(F_MeasurementBasedApproaches!$A:$N,CR93,N$87)))","v":""},{"$f":"IF($C93=\"\",\"\",IF($C93=\"\",\"\",INDEX(F_MeasurementBasedApproaches!$A:$N,CS93,O$87)))","v":""},{"$f":"IF($C93=\"\",\"\",IF($C93=\"\",\"\",INDEX(F_MeasurementBasedApproaches!$A:$N,CT93,P$87)))","v":""},{"$f":"IF($C93=\"\",\"\",IF($C93=\"\",\"\",INDEX(F_MeasurementBasedApproaches!$A:$N,CU93,Q$87)))","v":""},{"$f":"IF($C93=\"\",\"\",IF($C93=\"\",\"\",INDEX(F_MeasurementBasedApproaches!$A:$N,CV93,R$87)))","v":""},{"$f":"IF($C93=\"\",\"\",IF($C93=\"\",\"\",INDEX(F_MeasurementBasedApproaches!$A:$N,CW93,S$87)))","v":""},{"$f":"IF($C93=\"\",\"\",IF($C93=\"\",\"\",INDEX(F_MeasurementBasedApproaches!$A:$N,CX93,T$87)))","v":""},{"$f":"IF($C93=\"\",\"\",IF($C93=\"\",\"\",INDEX(F_MeasurementBasedApproaches!$A:$N,CY93,U$87)))","v":""},{"$f":"IF($C93=\"\",\"\",IF($C93=\"\",\"\",INDEX(F_MeasurementBasedApproaches!$A:$N,CZ93,V$87)))","v":""},{"$f":"IF($C93=\"\",\"\",IF($C93=\"\",\"\",INDEX(F_MeasurementBasedApproaches!$A:$N,DA93,W$87)))","v":""},null,null,null,null,null,null,null,null,null,null,null,null,null,null,null,null,null,null,null,null,null,null,null,null,null,null,null,null,null,null,null,null,null,null,null,null,null,null,null,null,null,null,null,null,null,null,null,null,null,null,null,null,null,null,null,null,null,null,null,null,null,null,null,"SourceCategory_M3",{"$f":"INDEX(C_InstallationDescription!$A$171:$A$188,ROWS($CI$91:CI93))=\"ausblenden\"","v":false},{"$f":"CL92+58","v":278},{"$f":"CM92+58","v":287},{"$f":"CN92+58","v":287},{"$f":"CO92+58","v":287},{"$f":"CP92+58","v":287},{"$f":"CQ92+58","v":287},{"$f":"CR92+58","v":291},{"$f":"CS92+58","v":295},{"$f":"CT92+58","v":296},{"$f":"CU92+58","v":297},{"$f":"CV92+58","v":304},{"$f":"CW92+58","v":311},{"$f":"CX92+58","v":314},{"$f":"CY92+58","v":317},{"$f":"CZ92+58","v":320},{"$f":"DA92+58","v":323},{"$f":"DB92+58","v":329}]
[null,{"$f":"IF(COUNTIF($CK$90:CK94,TRUE)>0,\"\",INDEX(C_InstallationDescription!$E$171:$E$188,ROWS($A$91:A94)))","v":"M4"},{"$f":"IF(INDEX(C_InstallationDescription!F:F,MATCH($B94,C_InstallationDescription!$E:$E,0))=\"\",\"\",INDEX(C_InstallationDescription!F:F,MATCH($B94,C_InstallationDescription!$E:$E,0)))","v":""},{"$f":"IF($C94=\"\",\"\",INDEX(C_InstallationDescription!K:K,MATCH($B94,C_InstallationDescription!$E:$E,0)))","v":""},null,{"$f":"IF($C94=\"\",\"\",INDEX(C_InstallationDescription!L:L,MATCH($B94,C_InstallationDescription!$E:$E,0)))","v":""},{"$f":"IF($C94=\"\",\"\",INDEX(C_InstallationDescription!M:M,MATCH($B94,C_InstallationDescription!$E:$E,0)))","v":""},{"$f":"IF($C94=\"\",\"\",INDEX(C_InstallationDescription!N:N,MATCH($B94,C_InstallationDescription!$E:$E,0)))","v":""},{"$f":"IF($C94=\"\",\"\",IF($C94=\"\",\"\",INDEX(F_MeasurementBasedApproaches!$A:$N,CM94,I$87)))","v":""},{"$f":"IF($C94=\"\",\"\",IF($C94=\"\",\"\",INDEX(F_MeasurementBasedApproaches!$A:$N,CN94,J$87)))","v":""},{"$f":"IF($C94=\"\",\"\",IF($C94=\"\",\"\",INDEX(F_MeasurementBasedApproaches!$A:$N,CO94,K$87)))","v":""},{"$f":"IF($C94=\"\",\"\",IF($C94=\"\",\"\",INDEX(F_MeasurementBasedApproaches!$A:$N,CP94,L$87)))","v":""},{"$f":"IF($C94=\"\",\"\",IF($C94=\"\",\"\",INDEX(F_MeasurementBasedApproaches!$A:$N,CQ94,M$87)))","v":""},{"$f":"IF($C94=\"\",\"\",IF($C94=\"\",\"\",INDEX(F_MeasurementBasedApproaches!$A:$N,CL94,H$87)))","v":""},{"$f":"IF($C94=\"\",\"\",IF($C94=\"\",\"\",INDEX(F_MeasurementBasedApproaches!$A:$N,CR94,N$87)))","v":""},{"$f":"IF($C94=\"\",\"\",IF($C94=\"\",\"\",INDEX(F_MeasurementBasedApproaches!$A:$N,CS94,O$87)))","v":""},{"$f":"IF($C94=\"\",\"\",IF($C94=\"\",\"\",INDEX(F_MeasurementBasedApproaches!$A:$N,CT94,P$87)))","v":""},{"$f":"IF($C94=\"\",\"\",IF($C94=\"\",\"\",INDEX(F_MeasurementBasedApproaches!$A:$N,CU94,Q$87)))","v":""},{"$f":"IF($C94=\"\",\"\",IF($C94=\"\",\"\",INDEX(F_MeasurementBasedApproaches!$A:$N,CV94,R$87)))","v":""},{"$f":"IF($C94=\"\",\"\",IF($C94=\"\",\"\",INDEX(F_MeasurementBasedApproaches!$A:$N,CW94,S$87)))","v":""},{"$f":"IF($C94=\"\",\"\",IF($C94=\"\",\"\",INDEX(F_MeasurementBasedApproaches!$A:$N,CX94,T$87)))","v":""},{"$f":"IF($C94=\"\",\"\",IF($C94=\"\",\"\",INDEX(F_MeasurementBasedApproaches!$A:$N,CY94,U$87)))","v":""},{"$f":"IF($C94=\"\",\"\",IF($C94=\"\",\"\",INDEX(F_MeasurementBasedApproaches!$A:$N,CZ94,V$87)))","v":""},{"$f":"IF($C94=\"\",\"\",IF($C94=\"\",\"\",INDEX(F_MeasurementBasedApproaches!$A:$N,DA94,W$87)))","v":""},null,null,null,null,null,null,null,null,null,null,null,null,null,null,null,null,null,null,null,null,null,null,null,null,null,null,null,null,null,null,null,null,null,null,null,null,null,null,null,null,null,null,null,null,null,null,null,null,null,null,null,null,null,null,null,null,null,null,null,null,null,null,null,"SourceCategory_M4",{"$f":"INDEX(C_InstallationDescription!$A$171:$A$188,ROWS($CI$91:CI94))=\"ausblenden\"","v":false},{"$f":"CL93+58","v":336},345,345,345,345,345,349,353,354,355,362,369,372,375,378,381,387]
[null,{"$f":"IF(COUNTIF($CK$90:CK95,TRUE)>0,\"\",INDEX(C_InstallationDescription!$E$171:$E$188,ROWS($A$91:A95)))","v":"M5"},{"$f":"IF(INDEX(C_InstallationDescription!F:F,MATCH($B95,C_InstallationDescription!$E:$E,0))=\"\",\"\",INDEX(C_InstallationDescription!F:F,MATCH($B95,C_InstallationDescription!$E:$E,0)))","v":""},{"$f":"IF($C95=\"\",\"\",INDEX(C_InstallationDescription!K:K,MATCH($B95,C_InstallationDescription!$E:$E,0)))","v":""},null,{"$f":"IF($C95=\"\",\"\",INDEX(C_InstallationDescription!L:L,MATCH($B95,C_InstallationDescription!$E:$E,0)))","v":""},{"$f":"IF($C95=\"\",\"\",INDEX(C_InstallationDescription!M:M,MATCH($B95,C_InstallationDescription!$E:$E,0)))","v":""},{"$f":"IF($C95=\"\",\"\",INDEX(C_InstallationDescription!N:N,MATCH($B95,C_InstallationDescription!$E:$E,0)))","v":""},{"$f":"IF($C95=\"\",\"\",IF($C95=\"\",\"\",INDEX(F_MeasurementBasedApproaches!$A:$N,CM95,I$87)))","v":""},{"$f":"IF($C95=\"\",\"\",IF($C95=\"\",\"\",INDEX(F_MeasurementBasedApproaches!$A:$N,CN95,J$87)))","v":""},{"$f":"IF($C95=\"\",\"\",IF($C95=\"\",\"\",INDEX(F_MeasurementBasedApproaches!$A:$N,CO95,K$87)))","v":""},{"$f":"IF($C95=\"\",\"\",IF($C95=\"\",\"\",INDEX(F_MeasurementBasedApproaches!$A:$N,CP95,L$87)))","v":""},{"$f":"IF($C95=\"\",\"\",IF($C95=\"\",\"\",INDEX(F_MeasurementBasedApproaches!$A:$N,CQ95,M$87)))","v":""},{"$f":"IF($C95=\"\",\"\",IF($C95=\"\",\"\",INDEX(F_MeasurementBasedApproaches!$A:$N,CL95,H$87)))","v":""},{"$f":"IF($C95=\"\",\"\",IF($C95=\"\",\"\",INDEX(F_MeasurementBasedApproaches!$A:$N,CR95,N$87)))","v":""},{"$f":"IF($C95=\"\",\"\",IF($C95=\"\",\"\",INDEX(F_MeasurementBasedApproaches!$A:$N,CS95,O$87)))","v":""},{"$f":"IF($C95=\"\",\"\",IF($C95=\"\",\"\",INDEX(F_MeasurementBasedApproaches!$A:$N,CT95,P$87)))","v":""},{"$f":"IF($C95=\"\",\"\",IF($C95=\"\",\"\",INDEX(F_MeasurementBasedApproaches!$A:$N,CU95,Q$87)))","v":""},{"$f":"IF($C95=\"\",\"\",IF($C95=\"\",\"\",INDEX(F_MeasurementBasedApproaches!$A:$N,CV95,R$87)))","v":""},{"$f":"IF($C95=\"\",\"\",IF($C95=\"\",\"\",INDEX(F_MeasurementBasedApproaches!$A:$N,CW95,S$87)))","v":""},{"$f":"IF($C95=\"\",\"\",IF($C95=\"\",\"\",INDEX(F_MeasurementBasedApproaches!$A:$N,CX95,T$87)))","v":""},{"$f":"IF($C95=\"\",\"\",IF($C95=\"\",\"\",INDEX(F_MeasurementBasedApproaches!$A:$N,CY95,U$87)))","v":""},{"$f":"IF($C95=\"\",\"\",IF($C95=\"\",\"\",INDEX(F_MeasurementBasedApproaches!$A:$N,CZ95,V$87)))","v":""},{"$f":"IF($C95=\"\",\"\",IF($C95=\"\",\"\",INDEX(F_MeasurementBasedApproaches!$A:$N,DA95,W$87)))","v":""},null,null,null,null,null,null,null,null,null,null,null,null,null,null,null,null,null,null,null,null,null,null,null,null,null,null,null,null,null,null,null,null,null,null,null,null,null,null,null,null,null,null,null,null,null,null,null,null,null,null,null,null,null,null,null,null,null,null,null,null,null,null,null,"SourceCategory_M5",{"$f":"INDEX(C_InstallationDescription!$A$171:$A$188,ROWS($CI$91:CI95))=\"ausblenden\"","v":false},394,403,403,403,403,403,407,411,412,413,420,427,430,433,436,439,445]
[null,{"$f":"IF(COUNTIF($CK$90:CK96,TRUE)>0,\"\",INDEX(C_InstallationDescription!$E$171:$E$188,ROWS($A$91:A96)))","v":""},{"$f":"IF(INDEX(C_InstallationDescription!F:F,MATCH($B96,C_InstallationDescription!$E:$E,0))=\"\",\"\",INDEX(C_InstallationDescription!F:F,MATCH($B96,C_InstallationDescription!$E:$E,0)))","v":""},{"$f":"IF($C96=\"\",\"\",INDEX(C_InstallationDescription!K:K,MATCH($B96,C_InstallationDescription!$E:$E,0)))","v":""},null,{"$f":"IF($C96=\"\",\"\",INDEX(C_InstallationDescription!L:L,MATCH($B96,C_InstallationDescription!$E:$E,0)))","v":""},{"$f":"IF($C96=\"\",\"\",INDEX(C_InstallationDescription!M:M,MATCH($B96,C_InstallationDescription!$E:$E,0)))","v":""},{"$f":"IF($C96=\"\",\"\",INDEX(C_InstallationDescription!N:N,MATCH($B96,C_InstallationDescription!$E:$E,0)))","v":""},{"$f":"IF($C96=\"\",\"\",IF($C96=\"\",\"\",INDEX(F_MeasurementBasedApproaches!$A:$N,CM96,I$87)))","v":""},{"$f":"IF($C96=\"\",\"\",IF($C96=\"\",\"\",INDEX(F_MeasurementBasedApproaches!$A:$N,CN96,J$87)))","v":""},{"$f":"IF($C96=\"\",\"\",IF($C96=\"\",\"\",INDEX(F_MeasurementBasedApproaches!$A:$N,CO96,K$87)))","v":""},{"$f":"IF($C96=\"\",\"\",IF($C96=\"\",\"\",INDEX(F_MeasurementBasedApproaches!$A:$N,CP96,L$87)))","v":""},{"$f":"IF($C96=\"\",\"\",IF($C96=\"\",\"\",INDEX(F_MeasurementBasedApproaches!$A:$N,CQ96,M$87)))","v":""},{"$f":"IF($C96=\"\",\"\",IF($C96=\"\",\"\",INDEX(F_MeasurementBasedApproaches!$A:$N,CL96,H$87)))","v":""},{"$f":"IF($C96=\"\",\"\",IF($C96=\"\",\"\",INDEX(F_MeasurementBasedApproaches!$A:$N,CR96,N$87)))","v":""},{"$f":"IF($C96=\"\",\"\",IF($C96=\"\",\"\",INDEX(F_MeasurementBasedApproaches!$A:$N,CS96,O$87)))","v":""},{"$f":"IF($C96=\"\",\"\",IF($C96=\"\",\"\",INDEX(F_MeasurementBasedApproaches!$A:$N,CT96,P$87)))","v":""},{"$f":"IF($C96=\"\",\"\",IF($C96=\"\",\"\",INDEX(F_MeasurementBasedApproaches!$A:$N,CU96,Q$87)))","v":""},{"$f":"IF($C96=\"\",\"\",IF($C96=\"\",\"\",INDEX(F_MeasurementBasedApproaches!$A:$N,CV96,R$87)))","v":""},{"$f":"IF($C96=\"\",\"\",IF($C96=\"\",\"\",INDEX(F_MeasurementBasedApproaches!$A:$N,CW96,S$87)))","v":""},{"$f":"IF($C96=\"\",\"\",IF($C96=\"\",\"\",INDEX(F_MeasurementBasedApproaches!$A:$N,CX96,T$87)))","v":""},{"$f":"IF($C96=\"\",\"\",IF($C96=\"\",\"\",INDEX(F_MeasurementBasedApproaches!$A:$N,CY96,U$87)))","v":""},{"$f":"IF($C96=\"\",\"\",IF($C96=\"\",\"\",INDEX(F_MeasurementBasedApproaches!$A:$N,CZ96,V$87)))","v":""},{"$f":"IF($C96=\"\",\"\",IF($C96=\"\",\"\",INDEX(F_MeasurementBasedApproaches!$A:$N,DA96,W$87)))","v":""},null,null,null,null,null,null,null,null,null,null,null,null,null,null,null,null,null,null,null,null,null,null,null,null,null,null,null,null,null,null,null,null,null,null,null,null,null,null,null,null,null,null,null,null,null,null,null,null,null,null,null,null,null,null,null,null,null,null,null,null,null,null,null,"SourceCategory_",{"$f":"INDEX(C_InstallationDescription!$A$171:$A$188,ROWS($CI$91:CI96))=\"ausblenden\"","v":true},452,461,461,461,461,461,465,469,470,471,478,485,488,491,494,497,503]
[null,{"$f":"IF(COUNTIF($CK$90:CK97,TRUE)>0,\"\",INDEX(C_InstallationDescription!$E$171:$E$188,ROWS($A$91:A97)))","v":""},{"$f":"IF(INDEX(C_InstallationDescription!F:F,MATCH($B97,C_InstallationDescription!$E:$E,0))=\"\",\"\",INDEX(C_InstallationDescription!F:F,MATCH($B97,C_InstallationDescription!$E:$E,0)))","v":""},{"$f":"IF($C97=\"\",\"\",INDEX(C_InstallationDescription!K:K,MATCH($B97,C_InstallationDescription!$E:$E,0)))","v":""},null,{"$f":"IF($C97=\"\",\"\",INDEX(C_InstallationDescription!L:L,MATCH($B97,C_InstallationDescription!$E:$E,0)))","v":""},{"$f":"IF($C97=\"\",\"\",INDEX(C_InstallationDescription!M:M,MATCH($B97,C_InstallationDescription!$E:$E,0)))","v":""},{"$f":"IF($C97=\"\",\"\",INDEX(C_InstallationDescription!N:N,MATCH($B97,C_InstallationDescription!$E:$E,0)))","v":""},{"$f":"IF($C97=\"\",\"\",IF($C97=\"\",\"\",INDEX(F_MeasurementBasedApproaches!$A:$N,CM97,I$87)))","v":""},{"$f":"IF($C97=\"\",\"\",IF($C97=\"\",\"\",INDEX(F_MeasurementBasedApproaches!$A:$N,CN97,J$87)))","v":""},{"$f":"IF($C97=\"\",\"\",IF($C97=\"\",\"\",INDEX(F_MeasurementBasedApproaches!$A:$N,CO97,K$87)))","v":""},{"$f":"IF($C97=\"\",\"\",IF($C97=\"\",\"\",INDEX(F_MeasurementBasedApproaches!$A:$N,CP97,L$87)))","v":""},{"$f":"IF($C97=\"\",\"\",IF($C97=\"\",\"\",INDEX(F_MeasurementBasedApproaches!$A:$N,CQ97,M$87)))","v":""},{"$f":"IF($C97=\"\",\"\",IF($C97=\"\",\"\",INDEX(F_MeasurementBasedApproaches!$A:$N,CL97,H$87)))","v":""},{"$f":"IF($C97=\"\",\"\",IF($C97=\"\",\"\",INDEX(F_MeasurementBasedApproaches!$A:$N,CR97,N$87)))","v":""},{"$f":"IF($C97=\"\",\"\",IF($C97=\"\",\"\",INDEX(F_MeasurementBasedApproaches!$A:$N,CS97,O$87)))","v":""},{"$f":"IF($C97=\"\",\"\",IF($C97=\"\",\"\",INDEX(F_MeasurementBasedApproaches!$A:$N,CT97,P$87)))","v":""},{"$f":"IF($C97=\"\",\"\",IF($C97=\"\",\"\",INDEX(F_MeasurementBasedApproaches!$A:$N,CU97,Q$87)))","v":""},{"$f":"IF($C97=\"\",\"\",IF($C97=\"\",\"\",INDEX(F_MeasurementBasedApproaches!$A:$N,CV97,R$87)))","v":""},{"$f":"IF($C97=\"\",\"\",IF($C97=\"\",\"\",INDEX(F_MeasurementBasedApproaches!$A:$N,CW97,S$87)))","v":""},{"$f":"IF($C97=\"\",\"\",IF($C97=\"\",\"\",INDEX(F_MeasurementBasedApproaches!$A:$N,CX97,T$87)))","v":""},{"$f":"IF($C97=\"\",\"\",IF($C97=\"\",\"\",INDEX(F_MeasurementBasedApproaches!$A:$N,CY97,U$87)))","v":""},{"$f":"IF($C97=\"\",\"\",IF($C97=\"\",\"\",INDEX(F_MeasurementBasedApproaches!$A:$N,CZ97,V$87)))","v":""},{"$f":"IF($C97=\"\",\"\",IF($C97=\"\",\"\",INDEX(F_MeasurementBasedApproaches!$A:$N,DA97,W$87)))","v":""},null,null,null,null,null,null,null,null,null,null,null,null,null,null,null,null,null,null,null,null,null,null,null,null,null,null,null,null,null,null,null,null,null,null,null,null,null,null,null,null,null,null,null,null,null,null,null,null,null,null,null,null,null,null,null,null,null,null,null,null,null,null,null,"SourceCategory_",{"$f":"INDEX(C_InstallationDescription!$A$171:$A$188,ROWS($CI$91:CI97))=\"ausblenden\"","v":false},510,519,519,519,519,519,523,527,528,529,536,543,546,549,552,555,561]
[null,{"$f":"IF(COUNTIF($CK$90:CK98,TRUE)>0,\"\",INDEX(C_InstallationDescription!$E$171:$E$188,ROWS($A$91:A98)))","v":""},{"$f":"IF(INDEX(C_InstallationDescription!F:F,MATCH($B98,C_InstallationDescription!$E:$E,0))=\"\",\"\",INDEX(C_InstallationDescription!F:F,MATCH($B98,C_InstallationDescription!$E:$E,0)))","v":""},{"$f":"IF($C98=\"\",\"\",INDEX(C_InstallationDescription!K:K,MATCH($B98,C_InstallationDescription!$E:$E,0)))","v":""},null,{"$f":"IF($C98=\"\",\"\",INDEX(C_InstallationDescription!L:L,MATCH($B98,C_InstallationDescription!$E:$E,0)))","v":""},{"$f":"IF($C98=\"\",\"\",INDEX(C_InstallationDescription!M:M,MATCH($B98,C_InstallationDescription!$E:$E,0)))","v":""},{"$f":"IF($C98=\"\",\"\",INDEX(C_InstallationDescription!N:N,MATCH($B98,C_InstallationDescription!$E:$E,0)))","v":""},{"$f":"IF($C98=\"\",\"\",IF($C98=\"\",\"\",INDEX(F_MeasurementBasedApproaches!$A:$N,CM98,I$87)))","v":""},{"$f":"IF($C98=\"\",\"\",IF($C98=\"\",\"\",INDEX(F_MeasurementBasedApproaches!$A:$N,CN98,J$87)))","v":""},{"$f":"IF($C98=\"\",\"\",IF($C98=\"\",\"\",INDEX(F_MeasurementBasedApproaches!$A:$N,CO98,K$87)))","v":""},{"$f":"IF($C98=\"\",\"\",IF($C98=\"\",\"\",INDEX(F_MeasurementBasedApproaches!$A:$N,CP98,L$87)))","v":""},{"$f":"IF($C98=\"\",\"\",IF($C98=\"\",\"\",INDEX(F_MeasurementBasedApproaches!$A:$N,CQ98,M$87)))","v":""},{"$f":"IF($C98=\"\",\"\",IF($C98=\"\",\"\",INDEX(F_MeasurementBasedApproaches!$A:$N,CL98,H$87)))","v":""},{"$f":"IF($C98=\"\",\"\",IF($C98=\"\",\"\",INDEX(F_MeasurementBasedApproaches!$A:$N,CR98,N$87)))","v":""},{"$f":"IF($C98=\"\",\"\",IF($C98=\"\",\"\",INDEX(F_MeasurementBasedApproaches!$A:$N,CS98,O$87)))","v":""},{"$f":"IF($C98=\"\",\"\",IF($C98=\"\",\"\",INDEX(F_MeasurementBasedApproaches!$A:$N,CT98,P$87)))","v":""},{"$f":"IF($C98=\"\",\"\",IF($C98=\"\",\"\",INDEX(F_MeasurementBasedApproaches!$A:$N,CU98,Q$87)))","v":""},{"$f":"IF($C98=\"\",\"\",IF($C98=\"\",\"\",INDEX(F_MeasurementBasedApproaches!$A:$N,CV98,R$87)))","v":""},{"$f":"IF($C98=\"\",\"\",IF($C98=\"\",\"\",INDEX(F_MeasurementBasedApproaches!$A:$N,CW98,S$87)))","v":""},{"$f":"IF($C98=\"\",\"\",IF($C98=\"\",\"\",INDEX(F_MeasurementBasedApproaches!$A:$N,CX98,T$87)))","v":""},{"$f":"IF($C98=\"\",\"\",IF($C98=\"\",\"\",INDEX(F_MeasurementBasedApproaches!$A:$N,CY98,U$87)))","v":""},{"$f":"IF($C98=\"\",\"\",IF($C98=\"\",\"\",INDEX(F_MeasurementBasedApproaches!$A:$N,CZ98,V$87)))","v":""},{"$f":"IF($C98=\"\",\"\",IF($C98=\"\",\"\",INDEX(F_MeasurementBasedApproaches!$A:$N,DA98,W$87)))","v":""},null,null,null,null,null,null,null,null,null,null,null,null,null,null,null,null,null,null,null,null,null,null,null,null,null,null,null,null,null,null,null,null,null,null,null,null,null,null,null,null,null,null,null,null,null,null,null,null,null,null,null,null,null,null,null,null,null,null,null,null,null,null,null,"SourceCategory_",{"$f":"INDEX(C_InstallationDescription!$A$171:$A$188,ROWS($CI$91:CI98))=\"ausblenden\"","v":false},568,577,577,577,577,577,581,585,586,587,594,601,604,607,610,613,619]
[null,{"$f":"IF(COUNTIF($CK$90:CK99,TRUE)>0,\"\",INDEX(C_InstallationDescription!$E$171:$E$188,ROWS($A$91:A99)))","v":""},{"$f":"IF(INDEX(C_InstallationDescription!F:F,MATCH($B99,C_InstallationDescription!$E:$E,0))=\"\",\"\",INDEX(C_InstallationDescription!F:F,MATCH($B99,C_InstallationDescription!$E:$E,0)))","v":""},{"$f":"IF($C99=\"\",\"\",INDEX(C_InstallationDescription!K:K,MATCH($B99,C_InstallationDescription!$E:$E,0)))","v":""},null,{"$f":"IF($C99=\"\",\"\",INDEX(C_InstallationDescription!L:L,MATCH($B99,C_InstallationDescription!$E:$E,0)))","v":""},{"$f":"IF($C99=\"\",\"\",INDEX(C_InstallationDescription!M:M,MATCH($B99,C_InstallationDescription!$E:$E,0)))","v":""},{"$f":"IF($C99=\"\",\"\",INDEX(C_InstallationDescription!N:N,MATCH($B99,C_InstallationDescription!$E:$E,0)))","v":""},{"$f":"IF($C99=\"\",\"\",IF($C99=\"\",\"\",INDEX(F_MeasurementBasedApproaches!$A:$N,CM99,I$87)))","v":""},{"$f":"IF($C99=\"\",\"\",IF($C99=\"\",\"\",INDEX(F_MeasurementBasedApproaches!$A:$N,CN99,J$87)))","v":""},{"$f":"IF($C99=\"\",\"\",IF($C99=\"\",\"\",INDEX(F_MeasurementBasedApproaches!$A:$N,CO99,K$87)))","v":""},{"$f":"IF($C99=\"\",\"\",IF($C99=\"\",\"\",INDEX(F_MeasurementBasedApproaches!$A:$N,CP99,L$87)))","v":""},{"$f":"IF($C99=\"\",\"\",IF($C99=\"\",\"\",INDEX(F_MeasurementBasedApproaches!$A:$N,CQ99,M$87)))","v":""},{"$f":"IF($C99=\"\",\"\",IF($C99=\"\",\"\",INDEX(F_MeasurementBasedApproaches!$A:$N,CL99,H$87)))","v":""},{"$f":"IF($C99=\"\",\"\",IF($C99=\"\",\"\",INDEX(F_MeasurementBasedApproaches!$A:$N,CR99,N$87)))","v":""},{"$f":"IF($C99=\"\",\"\",IF($C99=\"\",\"\",INDEX(F_MeasurementBasedApproaches!$A:$N,CS99,O$87)))","v":""},{"$f":"IF($C99=\"\",\"\",IF($C99=\"\",\"\",INDEX(F_MeasurementBasedApproaches!$A:$N,CT99,P$87)))","v":""},{"$f":"IF($C99=\"\",\"\",IF($C99=\"\",\"\",INDEX(F_MeasurementBasedApproaches!$A:$N,CU99,Q$87)))","v":""},{"$f":"IF($C99=\"\",\"\",IF($C99=\"\",\"\",INDEX(F_MeasurementBasedApproaches!$A:$N,CV99,R$87)))","v":""},{"$f":"IF($C99=\"\",\"\",IF($C99=\"\",\"\",INDEX(F_MeasurementBasedApproaches!$A:$N,CW99,S$87)))","v":""},{"$f":"IF($C99=\"\",\"\",IF($C99=\"\",\"\",INDEX(F_MeasurementBasedApproaches!$A:$N,CX99,T$87)))","v":""},{"$f":"IF($C99=\"\",\"\",IF($C99=\"\",\"\",INDEX(F_MeasurementBasedApproaches!$A:$N,CY99,U$87)))","v":""},{"$f":"IF($C99=\"\",\"\",IF($C99=\"\",\"\",INDEX(F_MeasurementBasedApproaches!$A:$N,CZ99,V$87)))","v":""},{"$f":"IF($C99=\"\",\"\",IF($C99=\"\",\"\",INDEX(F_MeasurementBasedApproaches!$A:$N,DA99,W$87)))","v":""},null,null,null,null,null,null,null,null,null,null,null,null,null,null,null,null,null,null,null,null,null,null,null,null,null,null,null,null,null,null,null,null,null,null,null,null,null,null,null,null,null,null,null,null,null,null,null,null,null,null,null,null,null,null,null,null,null,null,null,null,null,null,null,"SourceCategory_",{"$f":"INDEX(C_InstallationDescription!$A$171:$A$188,ROWS($CI$91:CI99))=\"ausblenden\"","v":false},626,635,635,635,635,635,639,643,644,645,652,659,662,665,668,671,677]
[null,{"$f":"IF(COUNTIF($CK$90:CK100,TRUE)>0,\"\",INDEX(C_InstallationDescription!$E$171:$E$188,ROWS($A$91:A100)))","v":""},{"$f":"IF(INDEX(C_InstallationDescription!F:F,MATCH($B100,C_InstallationDescription!$E:$E,0))=\"\",\"\",INDEX(C_InstallationDescription!F:F,MATCH($B100,C_InstallationDescription!$E:$E,0)))","v":""},{"$f":"IF($C100=\"\",\"\",INDEX(C_InstallationDescription!K:K,MATCH($B100,C_InstallationDescription!$E:$E,0)))","v":""},null,{"$f":"IF($C100=\"\",\"\",INDEX(C_InstallationDescription!L:L,MATCH($B100,C_InstallationDescription!$E:$E,0)))","v":""},{"$f":"IF($C100=\"\",\"\",INDEX(C_InstallationDescription!M:M,MATCH($B100,C_InstallationDescription!$E:$E,0)))","v":""},{"$f":"IF($C100=\"\",\"\",INDEX(C_InstallationDescription!N:N,MATCH($B100,C_InstallationDescription!$E:$E,0)))","v":""},{"$f":"IF($C100=\"\",\"\",IF($C100=\"\",\"\",INDEX(F_MeasurementBasedApproaches!$A:$N,CM100,I$87)))","v":""},{"$f":"IF($C100=\"\",\"\",IF($C100=\"\",\"\",INDEX(F_MeasurementBasedApproaches!$A:$N,CN100,J$87)))","v":""},{"$f":"IF($C100=\"\",\"\",IF($C100=\"\",\"\",INDEX(F_MeasurementBasedApproaches!$A:$N,CO100,K$87)))","v":""},{"$f":"IF($C100=\"\",\"\",IF($C100=\"\",\"\",INDEX(F_MeasurementBasedApproaches!$A:$N,CP100,L$87)))","v":""},{"$f":"IF($C100=\"\",\"\",IF($C100=\"\",\"\",INDEX(F_MeasurementBasedApproaches!$A:$N,CQ100,M$87)))","v":""},{"$f":"IF($C100=\"\",\"\",IF($C100=\"\",\"\",INDEX(F_MeasurementBasedApproaches!$A:$N,CL100,H$87)))","v":""},{"$f":"IF($C100=\"\",\"\",IF($C100=\"\",\"\",INDEX(F_MeasurementBasedApproaches!$A:$N,CR100,N$87)))","v":""},{"$f":"IF($C100=\"\",\"\",IF($C100=\"\",\"\",INDEX(F_MeasurementBasedApproaches!$A:$N,CS100,O$87)))","v":""},{"$f":"IF($C100=\"\",\"\",IF($C100=\"\",\"\",INDEX(F_MeasurementBasedApproaches!$A:$N,CT100,P$87)))","v":""},{"$f":"IF($C100=\"\",\"\",IF($C100=\"\",\"\",INDEX(F_MeasurementBasedApproaches!$A:$N,CU100,Q$87)))","v":""},{"$f":"IF($C100=\"\",\"\",IF($C100=\"\",\"\",INDEX(F_MeasurementBasedApproaches!$A:$N,CV100,R$87)))","v":""},{"$f":"IF($C100=\"\",\"\",IF($C100=\"\",\"\",INDEX(F_MeasurementBasedApproaches!$A:$N,CW100,S$87)))","v":""},{"$f":"IF($C100=\"\",\"\",IF($C100=\"\",\"\",INDEX(F_MeasurementBasedApproaches!$A:$N,CX100,T$87)))","v":""},{"$f":"IF($C100=\"\",\"\",IF($C100=\"\",\"\",INDEX(F_MeasurementBasedApproaches!$A:$N,CY100,U$87)))","v":""},{"$f":"IF($C100=\"\",\"\",IF($C100=\"\",\"\",INDEX(F_MeasurementBasedApproaches!$A:$N,CZ100,V$87)))","v":""},{"$f":"IF($C100=\"\",\"\",IF($C100=\"\",\"\",INDEX(F_MeasurementBasedApproaches!$A:$N,DA100,W$87)))","v":""},null,null,null,null,null,null,null,null,null,null,null,null,null,null,null,null,null,null,null,null,null,null,null,null,null,null,null,null,null,null,null,null,null,null,null,null,null,null,null,null,null,null,null,null,null,null,null,null,null,null,null,null,null,null,null,null,null,null,null,null,null,null,null,"SourceCategory_",{"$f":"INDEX(C_InstallationDescription!$A$171:$A$188,ROWS($CI$91:CI100))=\"ausblenden\"","v":false},684,693,693,693,693,693,697,701,702,703,710,717,720,723,726,729,735]
[null,{"$f":"IF(COUNTIF($CK$90:CK101,TRUE)>0,\"\",INDEX(C_InstallationDescription!$E$171:$E$188,ROWS($A$91:A101)))","v":""},{"$f":"IF(INDEX(C_InstallationDescription!F:F,MATCH($B101,C_InstallationDescription!$E:$E,0))=\"\",\"\",INDEX(C_InstallationDescription!F:F,MATCH($B101,C_InstallationDescription!$E:$E,0)))","v":""},{"$f":"IF($C101=\"\",\"\",INDEX(C_InstallationDescription!K:K,MATCH($B101,C_InstallationDescription!$E:$E,0)))","v":""},null,{"$f":"IF($C101=\"\",\"\",INDEX(C_InstallationDescription!L:L,MATCH($B101,C_InstallationDescription!$E:$E,0)))","v":""},{"$f":"IF($C101=\"\",\"\",INDEX(C_InstallationDescription!M:M,MATCH($B101,C_InstallationDescription!$E:$E,0)))","v":""},{"$f":"IF($C101=\"\",\"\",INDEX(C_InstallationDescription!N:N,MATCH($B101,C_InstallationDescription!$E:$E,0)))","v":""},{"$f":"IF($C101=\"\",\"\",IF($C101=\"\",\"\",INDEX(F_MeasurementBasedApproaches!$A:$N,CM101,I$87)))","v":""},{"$f":"IF($C101=\"\",\"\",IF($C101=\"\",\"\",INDEX(F_MeasurementBasedApproaches!$A:$N,CN101,J$87)))","v":""},{"$f":"IF($C101=\"\",\"\",IF($C101=\"\",\"\",INDEX(F_MeasurementBasedApproaches!$A:$N,CO101,K$87)))","v":""},{"$f":"IF($C101=\"\",\"\",IF($C101=\"\",\"\",INDEX(F_MeasurementBasedApproaches!$A:$N,CP101,L$87)))","v":""},{"$f":"IF($C101=\"\",\"\",IF($C101=\"\",\"\",INDEX(F_MeasurementBasedApproaches!$A:$N,CQ101,M$87)))","v":""},{"$f":"IF($C101=\"\",\"\",IF($C101=\"\",\"\",INDEX(F_MeasurementBasedApproaches!$A:$N,CL101,H$87)))","v":""},{"$f":"IF($C101=\"\",\"\",IF($C101=\"\",\"\",INDEX(F_MeasurementBasedApproaches!$A:$N,CR101,N$87)))","v":""},{"$f":"IF($C101=\"\",\"\",IF($C101=\"\",\"\",INDEX(F_MeasurementBasedApproaches!$A:$N,CS101,O$87)))","v":""},{"$f":"IF($C101=\"\",\"\",IF($C101=\"\",\"\",INDEX(F_MeasurementBasedApproaches!$A:$N,CT101,P$87)))","v":""},{"$f":"IF($C101=\"\",\"\",IF($C101=\"\",\"\",INDEX(F_MeasurementBasedApproaches!$A:$N,CU101,Q$87)))","v":""},{"$f":"IF($C101=\"\",\"\",IF($C101=\"\",\"\",INDEX(F_MeasurementBasedApproaches!$A:$N,CV101,R$87)))","v":""},{"$f":"IF($C101=\"\",\"\",IF($C101=\"\",\"\",INDEX(F_MeasurementBasedApproaches!$A:$N,CW101,S$87)))","v":""},{"$f":"IF($C101=\"\",\"\",IF($C101=\"\",\"\",INDEX(F_MeasurementBasedApproaches!$A:$N,CX101,T$87)))","v":""},{"$f":"IF($C101=\"\",\"\",IF($C101=\"\",\"\",INDEX(F_MeasurementBasedApproaches!$A:$N,CY101,U$87)))","v":""},{"$f":"IF($C101=\"\",\"\",IF($C101=\"\",\"\",INDEX(F_MeasurementBasedApproaches!$A:$N,CZ101,V$87)))","v":""},{"$f":"IF($C101=\"\",\"\",IF($C101=\"\",\"\",INDEX(F_MeasurementBasedApproaches!$A:$N,DA101,W$87)))","v":""},null,null,null,null,null,null,null,null,null,null,null,null,null,null,null,null,null,null,null,null,null,null,null,null,null,null,null,null,null,null,null,null,null,null,null,null,null,null,null,null,null,null,null,null,null,null,null,null,null,null,null,null,null,null,null,null,null,null,null,null,null,null,null,"SourceCategory_",{"$f":"INDEX(C_InstallationDescription!$A$171:$A$188,ROWS($CI$91:CI101))=\"ausblenden\"","v":false},742,751,751,751,751,751,755,759,760,761,768,775,778,781,784,787,793]
[null,{"$f":"IF(COUNTIF($CK$90:CK102,TRUE)>0,\"\",INDEX(C_InstallationDescription!$E$171:$E$188,ROWS($A$91:A102)))","v":""},{"$f":"IF(INDEX(C_InstallationDescription!F:F,MATCH($B102,C_InstallationDescription!$E:$E,0))=\"\",\"\",INDEX(C_InstallationDescription!F:F,MATCH($B102,C_InstallationDescription!$E:$E,0)))","v":""},{"$f":"IF($C102=\"\",\"\",INDEX(C_InstallationDescription!K:K,MATCH($B102,C_InstallationDescription!$E:$E,0)))","v":""},null,{"$f":"IF($C102=\"\",\"\",INDEX(C_InstallationDescription!L:L,MATCH($B102,C_InstallationDescription!$E:$E,0)))","v":""},{"$f":"IF($C102=\"\",\"\",INDEX(C_InstallationDescription!M:M,MATCH($B102,C_InstallationDescription!$E:$E,0)))","v":""},{"$f":"IF($C102=\"\",\"\",INDEX(C_InstallationDescription!N:N,MATCH($B102,C_InstallationDescription!$E:$E,0)))","v":""},{"$f":"IF($C102=\"\",\"\",IF($C102=\"\",\"\",INDEX(F_MeasurementBasedApproaches!$A:$N,CM102,I$87)))","v":""},{"$f":"IF($C102=\"\",\"\",IF($C102=\"\",\"\",INDEX(F_MeasurementBasedApproaches!$A:$N,CN102,J$87)))","v":""},{"$f":"IF($C102=\"\",\"\",IF($C102=\"\",\"\",INDEX(F_MeasurementBasedApproaches!$A:$N,CO102,K$87)))","v":""},{"$f":"IF($C102=\"\",\"\",IF($C102=\"\",\"\",INDEX(F_MeasurementBasedApproaches!$A:$N,CP102,L$87)))","v":""},{"$f":"IF($C102=\"\",\"\",IF($C102=\"\",\"\",INDEX(F_MeasurementBasedApproaches!$A:$N,CQ102,M$87)))","v":""},{"$f":"IF($C102=\"\",\"\",IF($C102=\"\",\"\",INDEX(F_MeasurementBasedApproaches!$A:$N,CL102,H$87)))","v":""},{"$f":"IF($C102=\"\",\"\",IF($C102=\"\",\"\",INDEX(F_MeasurementBasedApproaches!$A:$N,CR102,N$87)))","v":""},{"$f":"IF($C102=\"\",\"\",IF($C102=\"\",\"\",INDEX(F_MeasurementBasedApproaches!$A:$N,CS102,O$87)))","v":""},{"$f":"IF($C102=\"\",\"\",IF($C102=\"\",\"\",INDEX(F_MeasurementBasedApproaches!$A:$N,CT102,P$87)))","v":""},{"$f":"IF($C102=\"\",\"\",IF($C102=\"\",\"\",INDEX(F_MeasurementBasedApproaches!$A:$N,CU102,Q$87)))","v":""},{"$f":"IF($C102=\"\",\"\",IF($C102=\"\",\"\",INDEX(F_MeasurementBasedApproaches!$A:$N,CV102,R$87)))","v":""},{"$f":"IF($C102=\"\",\"\",IF($C102=\"\",\"\",INDEX(F_MeasurementBasedApproaches!$A:$N,CW102,S$87)))","v":""},{"$f":"IF($C102=\"\",\"\",IF($C102=\"\",\"\",INDEX(F_MeasurementBasedApproaches!$A:$N,CX102,T$87)))","v":""},{"$f":"IF($C102=\"\",\"\",IF($C102=\"\",\"\",INDEX(F_MeasurementBasedApproaches!$A:$N,CY102,U$87)))","v":""},{"$f":"IF($C102=\"\",\"\",IF($C102=\"\",\"\",INDEX(F_MeasurementBasedApproaches!$A:$N,CZ102,V$87)))","v":""},{"$f":"IF($C102=\"\",\"\",IF($C102=\"\",\"\",INDEX(F_MeasurementBasedApproaches!$A:$N,DA102,W$87)))","v":""},null,null,null,null,null,null,null,null,null,null,null,null,null,null,null,null,null,null,null,null,null,null,null,null,null,null,null,null,null,null,null,null,null,null,null,null,null,null,null,null,null,null,null,null,null,null,null,null,null,null,null,null,null,null,null,null,null,null,null,null,null,null,null,"SourceCategory_",{"$f":"INDEX(C_InstallationDescription!$A$171:$A$188,ROWS($CI$91:CI102))=\"ausblenden\"","v":false},800,809,809,809,809,809,813,817,818,819,826,833,836,839,842,845,851]
[null,{"$f":"IF(COUNTIF($CK$90:CK103,TRUE)>0,\"\",INDEX(C_InstallationDescription!$E$171:$E$188,ROWS($A$91:A103)))","v":""},{"$f":"IF(INDEX(C_InstallationDescription!F:F,MATCH($B103,C_InstallationDescription!$E:$E,0))=\"\",\"\",INDEX(C_InstallationDescription!F:F,MATCH($B103,C_InstallationDescription!$E:$E,0)))","v":""},{"$f":"IF($C103=\"\",\"\",INDEX(C_InstallationDescription!K:K,MATCH($B103,C_InstallationDescription!$E:$E,0)))","v":""},null,{"$f":"IF($C103=\"\",\"\",INDEX(C_InstallationDescription!L:L,MATCH($B103,C_InstallationDescription!$E:$E,0)))","v":""},{"$f":"IF($C103=\"\",\"\",INDEX(C_InstallationDescription!M:M,MATCH($B103,C_InstallationDescription!$E:$E,0)))","v":""},{"$f":"IF($C103=\"\",\"\",INDEX(C_InstallationDescription!N:N,MATCH($B103,C_InstallationDescription!$E:$E,0)))","v":""},{"$f":"IF($C103=\"\",\"\",IF($C103=\"\",\"\",INDEX(F_MeasurementBasedApproaches!$A:$N,CM103,I$87)))","v":""},{"$f":"IF($C103=\"\",\"\",IF($C103=\"\",\"\",INDEX(F_MeasurementBasedApproaches!$A:$N,CN103,J$87)))","v":""},{"$f":"IF($C103=\"\",\"\",IF($C103=\"\",\"\",INDEX(F_MeasurementBasedApproaches!$A:$N,CO103,K$87)))","v":""},{"$f":"IF($C103=\"\",\"\",IF($C103=\"\",\"\",INDEX(F_MeasurementBasedApproaches!$A:$N,CP103,L$87)))","v":""},{"$f":"IF($C103=\"\",\"\",IF($C103=\"\",\"\",INDEX(F_MeasurementBasedApproaches!$A:$N,CQ103,M$87)))","v":""},{"$f":"IF($C103=\"\",\"\",IF($C103=\"\",\"\",INDEX(F_MeasurementBasedApproaches!$A:$N,CL103,H$87)))","v":""},{"$f":"IF($C103=\"\",\"\",IF($C103=\"\",\"\",INDEX(F_MeasurementBasedApproaches!$A:$N,CR103,N$87)))","v":""},{"$f":"IF($C103=\"\",\"\",IF($C103=\"\",\"\",INDEX(F_MeasurementBasedApproaches!$A:$N,CS103,O$87)))","v":""},{"$f":"IF($C103=\"\",\"\",IF($C103=\"\",\"\",INDEX(F_MeasurementBasedApproaches!$A:$N,CT103,P$87)))","v":""},{"$f":"IF($C103=\"\",\"\",IF($C103=\"\",\"\",INDEX(F_MeasurementBasedApproaches!$A:$N,CU103,Q$87)))","v":""},{"$f":"IF($C103=\"\",\"\",IF($C103=\"\",\"\",INDEX(F_MeasurementBasedApproaches!$A:$N,CV103,R$87)))","v":""},{"$f":"IF($C103=\"\",\"\",IF($C103=\"\",\"\",INDEX(F_MeasurementBasedApproaches!$A:$N,CW103,S$87)))","v":""},{"$f":"IF($C103=\"\",\"\",IF($C103=\"\",\"\",INDEX(F_MeasurementBasedApproaches!$A:$N,CX103,T$87)))","v":""},{"$f":"IF($C103=\"\",\"\",IF($C103=\"\",\"\",INDEX(F_MeasurementBasedApproaches!$A:$N,CY103,U$87)))","v":""},{"$f":"IF($C103=\"\",\"\",IF($C103=\"\",\"\",INDEX(F_MeasurementBasedApproaches!$A:$N,CZ103,V$87)))","v":""},{"$f":"IF($C103=\"\",\"\",IF($C103=\"\",\"\",INDEX(F_MeasurementBasedApproaches!$A:$N,DA103,W$87)))","v":""},null,null,null,null,null,null,null,null,null,null,null,null,null,null,null,null,null,null,null,null,null,null,null,null,null,null,null,null,null,null,null,null,null,null,null,null,null,null,null,null,null,null,null,null,null,null,null,null,null,null,null,null,null,null,null,null,null,null,null,null,null,null,null,"SourceCategory_",{"$f":"INDEX(C_InstallationDescription!$A$171:$A$188,ROWS($CI$91:CI103))=\"ausblenden\"","v":false},858,867,867,867,867,867,871,875,876,877,884,891,894,897,900,903,909]
[null,{"$f":"IF(COUNTIF($CK$90:CK104,TRUE)>0,\"\",INDEX(C_InstallationDescription!$E$171:$E$188,ROWS($A$91:A104)))","v":""},{"$f":"IF(INDEX(C_InstallationDescription!F:F,MATCH($B104,C_InstallationDescription!$E:$E,0))=\"\",\"\",INDEX(C_InstallationDescription!F:F,MATCH($B104,C_InstallationDescription!$E:$E,0)))","v":""},{"$f":"IF($C104=\"\",\"\",INDEX(C_InstallationDescription!K:K,MATCH($B104,C_InstallationDescription!$E:$E,0)))","v":""},null,{"$f":"IF($C104=\"\",\"\",INDEX(C_InstallationDescription!L:L,MATCH($B104,C_InstallationDescription!$E:$E,0)))","v":""},{"$f":"IF($C104=\"\",\"\",INDEX(C_InstallationDescription!M:M,MATCH($B104,C_InstallationDescription!$E:$E,0)))","v":""},{"$f":"IF($C104=\"\",\"\",INDEX(C_InstallationDescription!N:N,MATCH($B104,C_InstallationDescription!$E:$E,0)))","v":""},{"$f":"IF($C104=\"\",\"\",IF($C104=\"\",\"\",INDEX(F_MeasurementBasedApproaches!$A:$N,CM104,I$87)))","v":""},{"$f":"IF($C104=\"\",\"\",IF($C104=\"\",\"\",INDEX(F_MeasurementBasedApproaches!$A:$N,CN104,J$87)))","v":""},{"$f":"IF($C104=\"\",\"\",IF($C104=\"\",\"\",INDEX(F_MeasurementBasedApproaches!$A:$N,CO104,K$87)))","v":""},{"$f":"IF($C104=\"\",\"\",IF($C104=\"\",\"\",INDEX(F_MeasurementBasedApproaches!$A:$N,CP104,L$87)))","v":""},{"$f":"IF($C104=\"\",\"\",IF($C104=\"\",\"\",INDEX(F_MeasurementBasedApproaches!$A:$N,CQ104,M$87)))","v":""},{"$f":"IF($C104=\"\",\"\",IF($C104=\"\",\"\",INDEX(F_MeasurementBasedApproaches!$A:$N,CL104,H$87)))","v":""},{"$f":"IF($C104=\"\",\"\",IF($C104=\"\",\"\",INDEX(F_MeasurementBasedApproaches!$A:$N,CR104,N$87)))","v":""},{"$f":"IF($C104=\"\",\"\",IF($C104=\"\",\"\",INDEX(F_MeasurementBasedApproaches!$A:$N,CS104,O$87)))","v":""},{"$f":"IF($C104=\"\",\"\",IF($C104=\"\",\"\",INDEX(F_MeasurementBasedApproaches!$A:$N,CT104,P$87)))","v":""},{"$f":"IF($C104=\"\",\"\",IF($C104=\"\",\"\",INDEX(F_MeasurementBasedApproaches!$A:$N,CU104,Q$87)))","v":""},{"$f":"IF($C104=\"\",\"\",IF($C104=\"\",\"\",INDEX(F_MeasurementBasedApproaches!$A:$N,CV104,R$87)))","v":""},{"$f":"IF($C104=\"\",\"\",IF($C104=\"\",\"\",INDEX(F_MeasurementBasedApproaches!$A:$N,CW104,S$87)))","v":""},{"$f":"IF($C104=\"\",\"\",IF($C104=\"\",\"\",INDEX(F_MeasurementBasedApproaches!$A:$N,CX104,T$87)))","v":""},{"$f":"IF($C104=\"\",\"\",IF($C104=\"\",\"\",INDEX(F_MeasurementBasedApproaches!$A:$N,CY104,U$87)))","v":""},{"$f":"IF($C104=\"\",\"\",IF($C104=\"\",\"\",INDEX(F_MeasurementBasedApproaches!$A:$N,CZ104,V$87)))","v":""},{"$f":"IF($C104=\"\",\"\",IF($C104=\"\",\"\",INDEX(F_MeasurementBasedApproaches!$A:$N,DA104,W$87)))","v":""},null,null,null,null,null,null,null,null,null,null,null,null,null,null,null,null,null,null,null,null,null,null,null,null,null,null,null,null,null,null,null,null,null,null,null,null,null,null,null,null,null,null,null,null,null,null,null,null,null,null,null,null,null,null,null,null,null,null,null,null,null,null,null,"SourceCategory_",{"$f":"INDEX(C_InstallationDescription!$A$171:$A$188,ROWS($CI$91:CI104))=\"ausblenden\"","v":false},916,925,925,925,925,925,929,933,934,935,942,949,952,955,958,961,967]
[null,{"$f":"IF(COUNTIF($CK$90:CK105,TRUE)>0,\"\",INDEX(C_InstallationDescription!$E$171:$E$188,ROWS($A$91:A105)))","v":""},{"$f":"IF(INDEX(C_InstallationDescription!F:F,MATCH($B105,C_InstallationDescription!$E:$E,0))=\"\",\"\",INDEX(C_InstallationDescription!F:F,MATCH($B105,C_InstallationDescription!$E:$E,0)))","v":""},{"$f":"IF($C105=\"\",\"\",INDEX(C_InstallationDescription!K:K,MATCH($B105,C_InstallationDescription!$E:$E,0)))","v":""},null,{"$f":"IF($C105=\"\",\"\",INDEX(C_InstallationDescription!L:L,MATCH($B105,C_InstallationDescription!$E:$E,0)))","v":""},{"$f":"IF($C105=\"\",\"\",INDEX(C_InstallationDescription!M:M,MATCH($B105,C_InstallationDescription!$E:$E,0)))","v":""},{"$f":"IF($C105=\"\",\"\",INDEX(C_InstallationDescription!N:N,MATCH($B105,C_InstallationDescription!$E:$E,0)))","v":""},{"$f":"IF($C105=\"\",\"\",IF($C105=\"\",\"\",INDEX(F_MeasurementBasedApproaches!$A:$N,CM105,I$87)))","v":""},{"$f":"IF($C105=\"\",\"\",IF($C105=\"\",\"\",INDEX(F_MeasurementBasedApproaches!$A:$N,CN105,J$87)))","v":""},{"$f":"IF($C105=\"\",\"\",IF($C105=\"\",\"\",INDEX(F_MeasurementBasedApproaches!$A:$N,CO105,K$87)))","v":""},{"$f":"IF($C105=\"\",\"\",IF($C105=\"\",\"\",INDEX(F_MeasurementBasedApproaches!$A:$N,CP105,L$87)))","v":""},{"$f":"IF($C105=\"\",\"\",IF($C105=\"\",\"\",INDEX(F_MeasurementBasedApproaches!$A:$N,CQ105,M$87)))","v":""},{"$f":"IF($C105=\"\",\"\",IF($C105=\"\",\"\",INDEX(F_MeasurementBasedApproaches!$A:$N,CL105,H$87)))","v":""},{"$f":"IF($C105=\"\",\"\",IF($C105=\"\",\"\",INDEX(F_MeasurementBasedApproaches!$A:$N,CR105,N$87)))","v":""},{"$f":"IF($C105=\"\",\"\",IF($C105=\"\",\"\",INDEX(F_MeasurementBasedApproaches!$A:$N,CS105,O$87)))","v":""},{"$f":"IF($C105=\"\",\"\",IF($C105=\"\",\"\",INDEX(F_MeasurementBasedApproaches!$A:$N,CT105,P$87)))","v":""},{"$f":"IF($C105=\"\",\"\",IF($C105=\"\",\"\",INDEX(F_MeasurementBasedApproaches!$A:$N,CU105,Q$87)))","v":""},{"$f":"IF($C105=\"\",\"\",IF($C105=\"\",\"\",INDEX(F_MeasurementBasedApproaches!$A:$N,CV105,R$87)))","v":""},{"$f":"IF($C105=\"\",\"\",IF($C105=\"\",\"\",INDEX(F_MeasurementBasedApproaches!$A:$N,CW105,S$87)))","v":""},{"$f":"IF($C105=\"\",\"\",IF($C105=\"\",\"\",INDEX(F_MeasurementBasedApproaches!$A:$N,CX105,T$87)))","v":""},{"$f":"IF($C105=\"\",\"\",IF($C105=\"\",\"\",INDEX(F_MeasurementBasedApproaches!$A:$N,CY105,U$87)))","v":""},{"$f":"IF($C105=\"\",\"\",IF($C105=\"\",\"\",INDEX(F_MeasurementBasedApproaches!$A:$N,CZ105,V$87)))","v":""},{"$f":"IF($C105=\"\",\"\",IF($C105=\"\",\"\",INDEX(F_MeasurementBasedApproaches!$A:$N,DA105,W$87)))","v":""},null,null,null,null,null,null,null,null,null,null,null,null,null,null,null,null,null,null,null,null,null,null,null,null,null,null,null,null,null,null,null,null,null,null,null,null,null,null,null,null,null,null,null,null,null,null,null,null,null,null,null,null,null,null,null,null,null,null,null,null,null,null,null,"SourceCategory_",{"$f":"INDEX(C_InstallationDescription!$A$171:$A$188,ROWS($CI$91:CI105))=\"ausblenden\"","v":false},974,983,983,983,983,983,987,991,992,993,1000,1007,1010,1013,1016,1019,1025]
[]
["ausblenden",null,null,null,null,null,null,null,null,8,8,8,8,8,8,8,8,8,8,8,8,8,8,8,8,8,9,10,11,12,13,14,8,8,9,10,11,12,13,14,8,8,9,10,11,12,13,14,9,10,11,12,13,14,5,5]
[null,{"$f":"Translations!$B$1239","v":"PFC-Emissionen"}]
[null,null,null,null,null,null,null,null,null,{"$f":"I_PFC!D89","v":"Primäraluminiumproduktion:"},null,null,{"$f":"I_PFC!D94","v":"Methode A: Zahl der Anodeneffekte/Zelltag"},null,null,{"$f":"I_PFC!D99","v":"Methode A: durchschnittliche Anodeneffekt-Minuten/Häufigkeit"},null,null,{"$f":"I_PFC!D104","v":"Methode B: Anodeneffekt-Überspannung je Zelle"},null,null,{"$f":"I_PFC!D109","v":"Methode B: mittlere Stromeffizienz"},null,null,{"$f":"I_PFC!E118","v":"S(CF4) Steigungs-Emissionsfaktor"},null,null,null,null,null,null,null,{"$f":"I_PFC!E119","v":"OVC Überspannungskoeffizient"},null,null,null,null,null,null,null,{"$f":"I_PFC!E120","v":"F(C2F6) Gewichtungsfaktor von C2F6"},null,null,null,null,null,null,null,{"$f":"I_PFC!E133","v":"Abscheideleistung"}]
[null,{"$f":"Translations!$B$287","v":"Ref. Stoffstrom S1, S2, …"},{"$f":"I_PFC!E49","v":"Bezeichnung des Stoffstroms"},{"$f":"I_PFC!H49","v":"Stoffstromtyp"},{"$f":"Translations!$B$310","v":"Vollständige Bezeichnung des Stoffstroms (Bezeichnung und Typ)"},{"$f":"Translations!$B$276","v":"Geschätzte Emissionen           [t CO2Äq / Jahr]"},{"$f":"Translations!$B$277","v":"Mögliche Kategorie"},{"$f":"Translations!$B$311","v":"Ausgewählte Kategorie"},{"$f":"Translations!$B$647","v":"Zelltyp"},{"$f":"I_PFC!$E$90","v":"Vorgeschriebene Ebene Tätigkeitsdaten:"},{"$f":"I_PFC!$E$91","v":"Angewandte Ebene Tätigkeitsdaten:"},{"$f":"I_PFC!$E$92","v":"Erreichte Unsicherheit:"},{"$f":"I_PFC!$E$90","v":"Vorgeschriebene Ebene Tätigkeitsdaten:"},{"$f":"I_PFC!$E$91","v":"Angewandte Ebene Tätigkeitsdaten:"},{"$f":"I_PFC!$E$92","v":"Erreichte Unsicherheit:"},{"$f":"I_PFC!$E$90","v":"Vorgeschriebene Ebene Tätigkeitsdaten:"},{"$f":"I_PFC!$E$91","v":"Angewandte Ebene Tätigkeitsdaten:"},{"$f":"I_PFC!$E$92","v":"Erreichte Unsicherheit:"},{"$f":"I_PFC!$E$90","v":"Vorgeschriebene Ebene Tätigkeitsdaten:"},{"$f":"I_PFC!$E$91","v":"Angewandte Ebene Tätigkeitsdaten:"},{"$f":"I_PFC!$E$92","v":"Erreichte Unsicherheit:"},{"$f":"I_PFC!$E$90","v":"Vorgeschriebene Ebene Tätigkeitsdaten:"},{"$f":"I_PFC!$E$91","v":"Angewandte Ebene Tätigkeitsdaten:"},{"$f":"I_PFC!$E$92","v":"Erreichte Unsicherheit:"},{"$f":"I_PFC!$H$117","v":"vorgeschrie-bene Ebene"},{"$f":"I_PFC!$H$124","v":"angewandte Ebene"},{"$f":"I_PFC!$I$124","v":"Standard-wert oder letzter Wert"},{"$f":"I_PFC!$J$124","v":"Einheit"},{"$f":"I_PFC!$K$124","v":"Ref. Quelle"},{"$f":"I_PFC!$L$124","v":"Ref. Analyse"},{"$f":"I_PFC!$M$124","v":"Datum der letzten Analyse"},{"$f":"I_PFC!$N$124","v":"Analyse-häufigkeit"},{"$f":"I_PFC!$H$117","v":"vorgeschrie-bene Ebene"},{"$f":"I_PFC!$H$124","v":"angewandte Ebene"},{"$f":"I_PFC!$I$124","v":"Standard-wert oder letzter Wert"},{"$f":"I_PFC!$J$124","v":"Einheit"},{"$f":"I_PFC!$K$124","v":"Ref. Quelle"},{"$f":"I_PFC!$L$124","v":"Ref. Analyse"},{"$f":"I_PFC!$M$124","v":"Datum der letzten Analyse"},{"$f":"I_PFC!$N$124","v":"Analyse-häufigkeit"},{"$f":"I_PFC!$H$117","v":"vorgeschrie-bene Ebene"},{"$f":"I_PFC!$H$124","v":"angewandte Ebene"},{"$f":"I_PFC!$I$124","v":"Standard-wert oder letzter Wert"},{"$f":"I_PFC!$J$124","v":"Einheit"},{"$f":"I_PFC!$K$124","v":"Ref. Quelle"},{"$f":"I_PFC!$L$124","v":"Ref. Analyse"},{"$f":"I_PFC!$M$124","v":"Datum der letzten Analyse"},{"$f":"I_PFC!$N$124","v":"Analyse-häufigkeit"},{"$f":"I_PFC!$I$124","v":"Standard-wert oder letzter Wert"},{"$f":"I_PFC!$J$124","v":"Einheit"},{"$f":"I_PFC!$K$124","v":"Ref. Quelle"},{"$f":"I_PFC!$L$124","v":"Ref. Analyse"},{"$f":"I_PFC!$M$124","v":"Datum der letzten Analyse"},{"$f":"I_PFC!$N$124","v":"Analyse-häufigkeit"},{"$f":"Translations!$B$546","v":"Anmerkungen:"},{"$f":"Translations!$B$548","v":"Begründung für Nichtanwendung der vorgeschriebenen Ebene:"}]
[null,{"$f":"IF(OR(B110=\"\",CK111),\"\",I_PFC!D50)","v":""},{"$f":"IF(B111=\"\",\"\",I_PFC!E50)","v":""},{"$f":"IF(B111=\"\",\"\",I_PFC!H50)","v":""},{"$f":"IF($B111=\"\",\"\",INDEX(C_InstallationDescription!F:F,MATCH($CJ111,C_InstallationDescription!$Q:$Q,0)))","v":""},{"$f":"IF($E111=\"\",\"\",INDEX(C_InstallationDescription!L:L,MATCH($CJ111,C_InstallationDescription!$Q:$Q,0)))","v":""},{"$f":"IF($E111=\"\",\"\",INDEX(C_InstallationDescription!M:M,MATCH($CJ111,C_InstallationDescription!$Q:$Q,0)))","v":""},{"$f":"IF($E111=\"\",\"\",INDEX(C_InstallationDescription!N:N,MATCH($CJ111,C_InstallationDescription!$Q:$Q,0)))","v":""},{"$f":"IF(INDEX(I_PFC!$L$50:$L$56,MATCH(B111,I_PFC!$D$50:$D$56,0))=\"\",\"\",INDEX(I_PFC!$L$50:$L$56,MATCH(B111,I_PFC!$D$50:$D$56,0)))","v":""},{"$f":"IF($E111=\"\",\"\",INDEX(I_PFC!$A:$N,CL111,J$107))","v":""},{"$f":"IF($E111=\"\",\"\",INDEX(I_PFC!$A:$N,CM111,K$107))","v":""},{"$f":"IF($E111=\"\",\"\",INDEX(I_PFC!$A:$N,CN111,L$107))","v":""},{"$f":"IF($E111=\"\",\"\",INDEX(I_PFC!$A:$N,CO111,M$107))","v":""},{"$f":"IF($E111=\"\",\"\",INDEX(I_PFC!$A:$N,CP111,N$107))","v":""},{"$f":"IF($E111=\"\",\"\",INDEX(I_PFC!$A:$N,CQ111,O$107))","v":""},{"$f":"IF($E111=\"\",\"\",INDEX(I_PFC!$A:$N,CR111,P$107))","v":""},{"$f":"IF($E111=\"\",\"\",INDEX(I_PFC!$A:$N,CS111,Q$107))","v":""},{"$f":"IF($E111=\"\",\"\",INDEX(I_PFC!$A:$N,CT111,R$107))","v":""},{"$f":"IF($E111=\"\",\"\",INDEX(I_PFC!$A:$N,CU111,S$107))","v":""},{"$f":"IF($E111=\"\",\"\",INDEX(I_PFC!$A:$N,CV111,T$107))","v":""},{"$f":"IF($E111=\"\",\"\",INDEX(I_PFC!$A:$N,CW111,U$107))","v":""},{"$f":"IF($E111=\"\",\"\",INDEX(I_PFC!$A:$N,CX111,V$107))","v":""},{"$f":"IF($E111=\"\",\"\",INDEX(I_PFC!$A:$N,CY111,W$107))","v":""},{"$f":"IF($E111=\"\",\"\",INDEX(I_PFC!$A:$N,CZ111,X$107))","v":""},{"$f":"IF($E111=\"\",\"\",INDEX(I_PFC!$A:$N,DA111,Y$107))","v":""},{"$f":"IF($E111=\"\",\"\",INDEX(I_PFC!$A:$N,DB111,Z$107))","v":""},{"$f":"IF($E111=\"\",\"\",INDEX(I_PFC!$A:$N,DC111,AA$107))","v":""},{"$f":"IF($E111=\"\",\"\",INDEX(I_PFC!$A:$N,DD111,AB$107))","v":""},{"$f":"IF($E111=\"\",\"\",INDEX(I_PFC!$A:$N,DE111,AC$107))","v":""},{"$f":"IF($E111=\"\",\"\",INDEX(I_PFC!$A:$N,DF111,AD$107))","v":""},{"$f":"IF($E111=\"\",\"\",INDEX(I_PFC!$A:$N,DG111,AE$107))","v":""},{"$f":"IF($E111=\"\",\"\",INDEX(I_PFC!$A:$N,DH111,AF$107))","v":""},{"$f":"IF($E111=\"\",\"\",INDEX(I_PFC!$A:$N,DI111,AG$107))","v":""},{"$f":"IF($E111=\"\",\"\",INDEX(I_PFC!$A:$N,DJ111,AH$107))","v":""},{"$f":"IF($E111=\"\",\"\",INDEX(I_PFC!$A:$N,DK111,AI$107))","v":""},{"$f":"IF($E111=\"\",\"\",INDEX(I_PFC!$A:$N,DL111,AJ$107))","v":""},{"$f":"IF($E111=\"\",\"\",INDEX(I_PFC!$A:$N,DM111,AK$107))","v":""},{"$f":"IF($E111=\"\",\"\",INDEX(I_PFC!$A:$N,DN111,AL$107))","v":""},{"$f":"IF($E111=\"\",\"\",INDEX(I_PFC!$A:$N,DO111,AM$107))","v":""},{"$f":"IF($E111=\"\",\"\",INDEX(I_PFC!$A:$N,DP111,AN$107))","v":""},{"$f":"IF($E111=\"\",\"\",INDEX(I_PFC!$A:$N,DQ111,AO$107))","v":""},{"$f":"IF($E111=\"\",\"\",INDEX(I_PFC!$A:$N,DR111,AP$107))","v":""},{"$f":"IF($E111=\"\",\"\",INDEX(I_PFC!$A:$N,DS111,AQ$107))","v":""},{"$f":"IF($E111=\"\",\"\",INDEX(I_PFC!$A:$N,DT111,AR$107))","v":""},{"$f":"IF($E111=\"\",\"\",INDEX(I_PFC!$A:$N,DU111,AS$107))","v":""},{"$f":"IF($E111=\"\",\"\",INDEX(I_PFC!$A:$N,DV111,AT$107))","v":""},{"$f":"IF($E111=\"\",\"\",INDEX(I_PFC!$A:$N,DW111,AU$107))","v":""},{"$f":"IF($E111=\"\",\"\",INDEX(I_PFC!$A:$N,DX111,AV$107))","v":""},{"$f":"IF($E111=\"\",\"\",INDEX(I_PFC!$A:$N,DY111,AW$107))","v":""},{"$f":"IF($E111=\"\",\"\",INDEX(I_PFC!$A:$N,DZ111,AX$107))","v":""},{"$f":"IF($E111=\"\",\"\",INDEX(I_PFC!$A:$N,EA111,AY$107))","v":""},{"$f":"IF($E111=\"\",\"\",INDEX(I_PFC!$A:$N,EB111,AZ$107))","v":""},{"$f":"IF($E111=\"\",\"\",INDEX(I_PFC!$A:$N,EC111,BA$107))","v":""},{"$f":"IF($E111=\"\",\"\",INDEX(I_PFC!$A:$N,ED111,BB$107))","v":""},{"$f":"IF($E111=\"\",\"\",INDEX(I_PFC!$A:$N,EE111,BC$107))","v":""},{"$f":"IF($E111=\"\",\"\",INDEX(I_PFC!$A:$N,EF111,BD$107))","v":""},null,null,null,null,null,null,null,null,null,null,null,null,null,null,null,null,null,null,null,null,null,null,null,null,null,null,null,null,null,null,null,{"$f":"EUconst_CNTR_SourceCategory&B111","v":"SourceCategory_"},{"$f":"INDEX(I_PFC!$A$50:$A$60,ROWS($CI$111:CI111))=\"ausblenden\"","v":false},90,91,92,95,96,97,100,101,102,105,106,107,110,111,112,118,125,125,125,125,125,125,125,{"$f":"DA111+1","v":119},{"$f":"DB111+1","v":126},126,126,126,126,126,126,120,127,127,127,127,127,127,127,133,133,133,133,133,133,139,147]
[null,{"$f":"IF(OR(B111=\"\",CK112),\"\",I_PFC!D51)","v":""},{"$f":"IF(B112=\"\",\"\",I_PFC!E51)","v":""},{"$f":"IF(B112=\"\",\"\",I_PFC!H51)","v":""},{"$f":"IF($B112=\"\",\"\",INDEX(C_InstallationDescription!F:F,MATCH($CJ112,C_InstallationDescription!$Q:$Q,0)))","v":""},{"$f":"IF($E112=\"\",\"\",INDEX(C_InstallationDescription!L:L,MATCH($CJ112,C_InstallationDescription!$Q:$Q,0)))","v":""},{"$f":"IF($E112=\"\",\"\",INDEX(C_InstallationDescription!M:M,MATCH($CJ112,C_InstallationDescription!$Q:$Q,0)))","v":""},{"$f":"IF($E112=\"\",\"\",INDEX(C_InstallationDescription!N:N,MATCH($CJ112,C_InstallationDescription!$Q:$Q,0)))","v":""},{"$f":"IF(INDEX(I_PFC!$L$50:$L$56,MATCH(B112,I_PFC!$D$50:$D$56,0))=\"\",\"\",INDEX(I_PFC!$L$50:$L$56,MATCH(B112,I_PFC!$D$50:$D$56,0)))","v":""},{"$f":"IF($E112=\"\",\"\",INDEX(I_PFC!$A:$N,CL112,J$107))","v":""},{"$f":"IF($E112=\"\",\"\",INDEX(I_PFC!$A:$N,CM112,K$107))","v":""},{"$f":"IF($E112=\"\",\"\",INDEX(I_PFC!$A:$N,CN112,L$107))","v":""},{"$f":"IF($E112=\"\",\"\",INDEX(I_PFC!$A:$N,CO112,M$107))","v":""},{"$f":"IF($E112=\"\",\"\",INDEX(I_PFC!$A:$N,CP112,N$107))","v":""},{"$f":"IF($E112=\"\",\"\",INDEX(I_PFC!$A:$N,CQ112,O$107))","v":""},{"$f":"IF($E112=\"\",\"\",INDEX(I_PFC!$A:$N,CR112,P$107))","v":""},{"$f":"IF($E112=\"\",\"\",INDEX(I_PFC!$A:$N,CS112,Q$107))","v":""},{"$f":"IF($E112=\"\",\"\",INDEX(I_PFC!$A:$N,CT112,R$107))","v":""},{"$f":"IF($E112=\"\",\"\",INDEX(I_PFC!$A:$N,CU112,S$107))","v":""},{"$f":"IF($E112=\"\",\"\",INDEX(I_PFC!$A:$N,CV112,T$107))","v":""},{"$f":"IF($E112=\"\",\"\",INDEX(I_PFC!$A:$N,CW112,U$107))","v":""},{"$f":"IF($E112=\"\",\"\",INDEX(I_PFC!$A:$N,CX112,V$107))","v":""},{"$f":"IF($E112=\"\",\"\",INDEX(I_PFC!$A:$N,CY112,W$107))","v":""},{"$f":"IF($E112=\"\",\"\",INDEX(I_PFC!$A:$N,CZ112,X$107))","v":""},{"$f":"IF($E112=\"\",\"\",INDEX(I_PFC!$A:$N,DA112,Y$107))","v":""},{"$f":"IF($E112=\"\",\"\",INDEX(I_PFC!$A:$N,DB112,Z$107))","v":""},{"$f":"IF($E112=\"\",\"\",INDEX(I_PFC!$A:$N,DC112,AA$107))","v":""},{"$f":"IF($E112=\"\",\"\",INDEX(I_PFC!$A:$N,DD112,AB$107))","v":""},{"$f":"IF($E112=\"\",\"\",INDEX(I_PFC!$A:$N,DE112,AC$107))","v":""},{"$f":"IF($E112=\"\",\"\",INDEX(I_PFC!$A:$N,DF112,AD$107))","v":""},{"$f":"IF($E112=\"\",\"\",INDEX(I_PFC!$A:$N,DG112,AE$107))","v":""},{"$f":"IF($E112=\"\",\"\",INDEX(I_PFC!$A:$N,DH112,AF$107))","v":""},{"$f":"IF($E112=\"\",\"\",INDEX(I_PFC!$A:$N,DI112,AG$107))","v":""},{"$f":"IF($E112=\"\",\"\",INDEX(I_PFC!$A:$N,DJ112,AH$107))","v":""},{"$f":"IF($E112=\"\",\"\",INDEX(I_PFC!$A:$N,DK112,AI$107))","v":""},{"$f":"IF($E112=\"\",\"\",INDEX(I_PFC!$A:$N,DL112,AJ$107))","v":""},{"$f":"IF($E112=\"\",\"\",INDEX(I_PFC!$A:$N,DM112,AK$107))","v":""},{"$f":"IF($E112=\"\",\"\",INDEX(I_PFC!$A:$N,DN112,AL$107))","v":""},{"$f":"IF($E112=\"\",\"\",INDEX(I_PFC!$A:$N,DO112,AM$107))","v":""},{"$f":"IF($E112=\"\",\"\",INDEX(I_PFC!$A:$N,DP112,AN$107))","v":""},{"$f":"IF($E112=\"\",\"\",INDEX(I_PFC!$A:$N,DQ112,AO$107))","v":""},{"$f":"IF($E112=\"\",\"\",INDEX(I_PFC!$A:$N,DR112,AP$107))","v":""},{"$f":"IF($E112=\"\",\"\",INDEX(I_PFC!$A:$N,DS112,AQ$107))","v":""},{"$f":"IF($E112=\"\",\"\",INDEX(I_PFC!$A:$N,DT112,AR$107))","v":""},{"$f":"IF($E112=\"\",\"\",INDEX(I_PFC!$A:$N,DU112,AS$107))","v":""},{"$f":"IF($E112=\"\",\"\",INDEX(I_PFC!$A:$N,DV112,AT$107))","v":""},{"$f":"IF($E112=\"\",\"\",INDEX(I_PFC!$A:$N,DW112,AU$107))","v":""},{"$f":"IF($E112=\"\",\"\",INDEX(I_PFC!$A:$N,DX112,AV$107))","v":""},{"$f":"IF($E112=\"\",\"\",INDEX(I_PFC!$A:$N,DY112,AW$107))","v":""},{"$f":"IF($E112=\"\",\"\",INDEX(I_PFC!$A:$N,DZ112,AX$107))","v":""},{"$f":"IF($E112=\"\",\"\",INDEX(I_PFC!$A:$N,EA112,AY$107))","v":""},{"$f":"IF($E112=\"\",\"\",INDEX(I_PFC!$A:$N,EB112,AZ$107))","v":""},{"$f":"IF($E112=\"\",\"\",INDEX(I_PFC!$A:$N,EC112,BA$107))","v":""},{"$f":"IF($E112=\"\",\"\",INDEX(I_PFC!$A:$N,ED112,BB$107))","v":""},{"$f":"IF($E112=\"\",\"\",INDEX(I_PFC!$A:$N,EE112,BC$107))","v":""},{"$f":"IF($E112=\"\",\"\",INDEX(I_PFC!$A:$N,EF112,BD$107))","v":""},null,null,null,null,null,null,null,null,null,null,null,null,null,null,null,null,null,null,null,null,null,null,null,null,null,null,null,null,null,null,null,"SourceCategory_",{"$f":"INDEX(I_PFC!$A$50:$A$60,ROWS($CI$111:CI112))=\"ausblenden\"","v":false},{"$f":"CL111+75","v":165},{"$f":"CM111+75","v":166},167,170,171,172,175,176,177,180,181,182,185,186,187,193,200,200,200,200,200,200,200,194,201,201,201,201,201,201,201,195,202,202,202,202,202,202,202,208,208,208,208,208,208,213,219]
[null,{"$f":"IF(OR(B112=\"\",CK113),\"\",I_PFC!D52)","v":""},{"$f":"IF(B113=\"\",\"\",I_PFC!E52)","v":""},{"$f":"IF(B113=\"\",\"\",I_PFC!H52)","v":""},{"$f":"IF($B113=\"\",\"\",INDEX(C_InstallationDescription!F:F,MATCH($CJ113,C_InstallationDescription!$Q:$Q,0)))","v":""},{"$f":"IF($E113=\"\",\"\",INDEX(C_InstallationDescription!L:L,MATCH($CJ113,C_InstallationDescription!$Q:$Q,0)))","v":""},{"$f":"IF($E113=\"\",\"\",INDEX(C_InstallationDescription!M:M,MATCH($CJ113,C_InstallationDescription!$Q:$Q,0)))","v":""},{"$f":"IF($E113=\"\",\"\",INDEX(C_InstallationDescription!N:N,MATCH($CJ113,C_InstallationDescription!$Q:$Q,0)))","v":""},{"$f":"IF(INDEX(I_PFC!$L$50:$L$56,MATCH(B113,I_PFC!$D$50:$D$56,0))=\"\",\"\",INDEX(I_PFC!$L$50:$L$56,MATCH(B113,I_PFC!$D$50:$D$56,0)))","v":""},{"$f":"IF($E113=\"\",\"\",INDEX(I_PFC!$A:$N,CL113,J$107))","v":""},{"$f":"IF($E113=\"\",\"\",INDEX(I_PFC!$A:$N,CM113,K$107))","v":""},{"$f":"IF($E113=\"\",\"\",INDEX(I_PFC!$A:$N,CN113,L$107))","v":""},{"$f":"IF($E113=\"\",\"\",INDEX(I_PFC!$A:$N,CO113,M$107))","v":""},{"$f":"IF($E113=\"\",\"\",INDEX(I_PFC!$A:$N,CP113,N$107))","v":""},{"$f":"IF($E113=\"\",\"\",INDEX(I_PFC!$A:$N,CQ113,O$107))","v":""},{"$f":"IF($E113=\"\",\"\",INDEX(I_PFC!$A:$N,CR113,P$107))","v":""},{"$f":"IF($E113=\"\",\"\",INDEX(I_PFC!$A:$N,CS113,Q$107))","v":""},{"$f":"IF($E113=\"\",\"\",INDEX(I_PFC!$A:$N,CT113,R$107))","v":""},{"$f":"IF($E113=\"\",\"\",INDEX(I_PFC!$A:$N,CU113,S$107))","v":""},{"$f":"IF($E113=\"\",\"\",INDEX(I_PFC!$A:$N,CV113,T$107))","v":""},{"$f":"IF($E113=\"\",\"\",INDEX(I_PFC!$A:$N,CW113,U$107))","v":""},{"$f":"IF($E113=\"\",\"\",INDEX(I_PFC!$A:$N,CX113,V$107))","v":""},{"$f":"IF($E113=\"\",\"\",INDEX(I_PFC!$A:$N,CY113,W$107))","v":""},{"$f":"IF($E113=\"\",\"\",INDEX(I_PFC!$A:$N,CZ113,X$107))","v":""},{"$f":"IF($E113=\"\",\"\",INDEX(I_PFC!$A:$N,DA113,Y$107))","v":""},{"$f":"IF($E113=\"\",\"\",INDEX(I_PFC!$A:$N,DB113,Z$107))","v":""},{"$f":"IF($E113=\"\",\"\",INDEX(I_PFC!$A:$N,DC113,AA$107))","v":""},{"$f":"IF($E113=\"\",\"\",INDEX(I_PFC!$A:$N,DD113,AB$107))","v":""},{"$f":"IF($E113=\"\",\"\",INDEX(I_PFC!$A:$N,DE113,AC$107))","v":""},{"$f":"IF($E113=\"\",\"\",INDEX(I_PFC!$A:$N,DF113,AD$107))","v":""},{"$f":"IF($E113=\"\",\"\",INDEX(I_PFC!$A:$N,DG113,AE$107))","v":""},{"$f":"IF($E113=\"\",\"\",INDEX(I_PFC!$A:$N,DH113,AF$107))","v":""},{"$f":"IF($E113=\"\",\"\",INDEX(I_PFC!$A:$N,DI113,AG$107))","v":""},{"$f":"IF($E113=\"\",\"\",INDEX(I_PFC!$A:$N,DJ113,AH$107))","v":""},{"$f":"IF($E113=\"\",\"\",INDEX(I_PFC!$A:$N,DK113,AI$107))","v":""},{"$f":"IF($E113=\"\",\"\",INDEX(I_PFC!$A:$N,DL113,AJ$107))","v":""},{"$f":"IF($E113=\"\",\"\",INDEX(I_PFC!$A:$N,DM113,AK$107))","v":""},{"$f":"IF($E113=\"\",\"\",INDEX(I_PFC!$A:$N,DN113,AL$107))","v":""},{"$f":"IF($E113=\"\",\"\",INDEX(I_PFC!$A:$N,DO113,AM$107))","v":""},{"$f":"IF($E113=\"\",\"\",INDEX(I_PFC!$A:$N,DP113,AN$107))","v":""},{"$f":"IF($E113=\"\",\"\",INDEX(I_PFC!$A:$N,DQ113,AO$107))","v":""},{"$f":"IF($E113=\"\",\"\",INDEX(I_PFC!$A:$N,DR113,AP$107))","v":""},{"$f":"IF($E113=\"\",\"\",INDEX(I_PFC!$A:$N,DS113,AQ$107))","v":""},{"$f":"IF($E113=\"\",\"\",INDEX(I_PFC!$A:$N,DT113,AR$107))","v":""},{"$f":"IF($E113=\"\",\"\",INDEX(I_PFC!$A:$N,DU113,AS$107))","v":""},{"$f":"IF($E113=\"\",\"\",INDEX(I_PFC!$A:$N,DV113,AT$107))","v":""},{"$f":"IF($E113=\"\",\"\",INDEX(I_PFC!$A:$N,DW113,AU$107))","v":""},{"$f":"IF($E113=\"\",\"\",INDEX(I_PFC!$A:$N,DX113,AV$107))","v":""},{"$f":"IF($E113=\"\",\"\",INDEX(I_PFC!$A:$N,DY113,AW$107))","v":""},{"$f":"IF($E113=\"\",\"\",INDEX(I_PFC!$A:$N,DZ113,AX$107))","v":""},{"$f":"IF($E113=\"\",\"\",INDEX(I_PFC!$A:$N,EA113,AY$107))","v":""},{"$f":"IF($E113=\"\",\"\",INDEX(I_PFC!$A:$N,EB113,AZ$107))","v":""},{"$f":"IF($E113=\"\",\"\",INDEX(I_PFC!$A:$N,EC113,BA$107))","v":""},{"$f":"IF($E113=\"\",\"\",INDEX(I_PFC!$A:$N,ED113,BB$107))","v":""},{"$f":"IF($E113=\"\",\"\",INDEX(I_PFC!$A:$N,EE113,BC$107))","v":""},{"$f":"IF($E113=\"\",\"\",INDEX(I_PFC!$A:$N,EF113,BD$107))","v":""},null,null,null,null,null,null,null,null,null,null,null,null,null,null,null,null,null,null,null,null,null,null,null,null,null,null,null,null,null,null,null,"SourceCategory_",{"$f":"INDEX(I_PFC!$A$50:$A$60,ROWS($CI$111:CI113))=\"ausblenden\"","v":false},{"$f":"CL112+72","v":237},{"$f":"CM112+72","v":238},239,242,243,244,247,248,249,252,253,254,257,258,259,265,272,272,272,272,272,272,272,266,273,273,273,273,273,273,273,267,274,274,274,274,274,274,274,280,280,280,280,280,280,285,291]
[null,{"$f":"IF(OR(B113=\"\",CK114),\"\",I_PFC!D53)","v":""},{"$f":"IF(B114=\"\",\"\",I_PFC!E53)","v":""},{"$f":"IF(B114=\"\",\"\",I_PFC!H53)","v":""},{"$f":"IF($B114=\"\",\"\",INDEX(C_InstallationDescription!F:F,MATCH($CJ114,C_InstallationDescription!$Q:$Q,0)))","v":""},{"$f":"IF($E114=\"\",\"\",INDEX(C_InstallationDescription!L:L,MATCH($CJ114,C_InstallationDescription!$Q:$Q,0)))","v":""},{"$f":"IF($E114=\"\",\"\",INDEX(C_InstallationDescription!M:M,MATCH($CJ114,C_InstallationDescription!$Q:$Q,0)))","v":""},{"$f":"IF($E114=\"\",\"\",INDEX(C_InstallationDescription!N:N,MATCH($CJ114,C_InstallationDescription!$Q:$Q,0)))","v":""},{"$f":"IF(INDEX(I_PFC!$L$50:$L$56,MATCH(B114,I_PFC!$D$50:$D$56,0))=\"\",\"\",INDEX(I_PFC!$L$50:$L$56,MATCH(B114,I_PFC!$D$50:$D$56,0)))","v":""},{"$f":"IF($E114=\"\",\"\",INDEX(I_PFC!$A:$N,CL114,J$107))","v":""},{"$f":"IF($E114=\"\",\"\",INDEX(I_PFC!$A:$N,CM114,K$107))","v":""},{"$f":"IF($E114=\"\",\"\",INDEX(I_PFC!$A:$N,CN114,L$107))","v":""},{"$f":"IF($E114=\"\",\"\",INDEX(I_PFC!$A:$N,CO114,M$107))","v":""},{"$f":"IF($E114=\"\",\"\",INDEX(I_PFC!$A:$N,CP114,N$107))","v":""},{"$f":"IF($E114=\"\",\"\",INDEX(I_PFC!$A:$N,CQ114,O$107))","v":""},{"$f":"IF($E114=\"\",\"\",INDEX(I_PFC!$A:$N,CR114,P$107))","v":""},{"$f":"IF($E114=\"\",\"\",INDEX(I_PFC!$A:$N,CS114,Q$107))","v":""},{"$f":"IF($E114=\"\",\"\",INDEX(I_PFC!$A:$N,CT114,R$107))","v":""},{"$f":"IF($E114=\"\",\"\",INDEX(I_PFC!$A:$N,CU114,S$107))","v":""},{"$f":"IF($E114=\"\",\"\",INDEX(I_PFC!$A:$N,CV114,T$107))","v":""},{"$f":"IF($E114=\"\",\"\",INDEX(I_PFC!$A:$N,CW114,U$107))","v":""},{"$f":"IF($E114=\"\",\"\",INDEX(I_PFC!$A:$N,CX114,V$107))","v":""},{"$f":"IF($E114=\"\",\"\",INDEX(I_PFC!$A:$N,CY114,W$107))","v":""},{"$f":"IF($E114=\"\",\"\",INDEX(I_PFC!$A:$N,CZ114,X$107))","v":""},{"$f":"IF($E114=\"\",\"\",INDEX(I_PFC!$A:$N,DA114,Y$107))","v":""},{"$f":"IF($E114=\"\",\"\",INDEX(I_PFC!$A:$N,DB114,Z$107))","v":""},{"$f":"IF($E114=\"\",\"\",INDEX(I_PFC!$A:$N,DC114,AA$107))","v":""},{"$f":"IF($E114=\"\",\"\",INDEX(I_PFC!$A:$N,DD114,AB$107))","v":""},{"$f":"IF($E114=\"\",\"\",INDEX(I_PFC!$A:$N,DE114,AC$107))","v":""},{"$f":"IF($E114=\"\",\"\",INDEX(I_PFC!$A:$N,DF114,AD$107))","v":""},{"$f":"IF($E114=\"\",\"\",INDEX(I_PFC!$A:$N,DG114,AE$107))","v":""},{"$f":"IF($E114=\"\",\"\",INDEX(I_PFC!$A:$N,DH114,AF$107))","v":""},{"$f":"IF($E114=\"\",\"\",INDEX(I_PFC!$A:$N,DI114,AG$107))","v":""},{"$f":"IF($E114=\"\",\"\",INDEX(I_PFC!$A:$N,DJ114,AH$107))","v":""},{"$f":"IF($E114=\"\",\"\",INDEX(I_PFC!$A:$N,DK114,AI$107))","v":""},{"$f":"IF($E114=\"\",\"\",INDEX(I_PFC!$A:$N,DL114,AJ$107))","v":""},{"$f":"IF($E114=\"\",\"\",INDEX(I_PFC!$A:$N,DM114,AK$107))","v":""},{"$f":"IF($E114=\"\",\"\",INDEX(I_PFC!$A:$N,DN114,AL$107))","v":""},{"$f":"IF($E114=\"\",\"\",INDEX(I_PFC!$A:$N,DO114,AM$107))","v":""},{"$f":"IF($E114=\"\",\"\",INDEX(I_PFC!$A:$N,DP114,AN$107))","v":""},{"$f":"IF($E114=\"\",\"\",INDEX(I_PFC!$A:$N,DQ114,AO$107))","v":""},{"$f":"IF($E114=\"\",\"\",INDEX(I_PFC!$A:$N,DR114,AP$107))","v":""},{"$f":"IF($E114=\"\",\"\",INDEX(I_PFC!$A:$N,DS114,AQ$107))","v":""},{"$f":"IF($E114=\"\",\"\",INDEX(I_PFC!$A:$N,DT114,AR$107))","v":""},{"$f":"IF($E114=\"\",\"\",INDEX(I_PFC!$A:$N,DU114,AS$107))","v":""},{"$f":"IF($E114=\"\",\"\",INDEX(I_PFC!$A:$N,DV114,AT$107))","v":""},{"$f":"IF($E114=\"\",\"\",INDEX(I_PFC!$A:$N,DW114,AU$107))","v":""},{"$f":"IF($E114=\"\",\"\",INDEX(I_PFC!$A:$N,DX114,AV$107))","v":""},{"$f":"IF($E114=\"\",\"\",INDEX(I_PFC!$A:$N,DY114,AW$107))","v":""},{"$f":"IF($E114=\"\",\"\",INDEX(I_PFC!$A:$N,DZ114,AX$107))","v":""},{"$f":"IF($E114=\"\",\"\",INDEX(I_PFC!$A:$N,EA114,AY$107))","v":""},{"$f":"IF($E114=\"\",\"\",INDEX(I_PFC!$A:$N,EB114,AZ$107))","v":""},{"$f":"IF($E114=\"\",\"\",INDEX(I_PFC!$A:$N,EC114,BA$107))","v":""},{"$f":"IF($E114=\"\",\"\",INDEX(I_PFC!$A:$N,ED114,BB$107))","v":""},{"$f":"IF($E114=\"\",\"\",INDEX(I_PFC!$A:$N,EE114,BC$107))","v":""},{"$f":"IF($E114=\"\",\"\",INDEX(I_PFC!$A:$N,EF114,BD$107))","v":""},null,null,null,null,null,null,null,null,null,null,null,null,null,null,null,null,null,null,null,null,null,null,null,null,null,null,null,null,null,null,null,"SourceCategory_",{"$f":"INDEX(I_PFC!$A$50:$A$60,ROWS($CI$111:CI114))=\"ausblenden\"","v":false},309,310,311,314,315,316,319,320,321,324,325,326,329,330,331,337,344,344,344,344,344,344,344,338,345,345,345,345,345,345,345,339,346,346,346,346,346,346,346,352,352,352,352,352,352,357,363]
[null,{"$f":"IF(OR(B114=\"\",CK115),\"\",I_PFC!D54)","v":""},{"$f":"IF(B115=\"\",\"\",I_PFC!E54)","v":""},{"$f":"IF(B115=\"\",\"\",I_PFC!H54)","v":""},{"$f":"IF($B115=\"\",\"\",INDEX(C_InstallationDescription!F:F,MATCH($CJ115,C_InstallationDescription!$Q:$Q,0)))","v":""},{"$f":"IF($E115=\"\",\"\",INDEX(C_InstallationDescription!L:L,MATCH($CJ115,C_InstallationDescription!$Q:$Q,0)))","v":""},{"$f":"IF($E115=\"\",\"\",INDEX(C_InstallationDescription!M:M,MATCH($CJ115,C_InstallationDescription!$Q:$Q,0)))","v":""},{"$f":"IF($E115=\"\",\"\",INDEX(C_InstallationDescription!N:N,MATCH($CJ115,C_InstallationDescription!$Q:$Q,0)))","v":""},{"$f":"IF(INDEX(I_PFC!$L$50:$L$56,MATCH(B115,I_PFC!$D$50:$D$56,0))=\"\",\"\",INDEX(I_PFC!$L$50:$L$56,MATCH(B115,I_PFC!$D$50:$D$56,0)))","v":""},{"$f":"IF($E115=\"\",\"\",INDEX(I_PFC!$A:$N,CL115,J$107))","v":""},{"$f":"IF($E115=\"\",\"\",INDEX(I_PFC!$A:$N,CM115,K$107))","v":""},{"$f":"IF($E115=\"\",\"\",INDEX(I_PFC!$A:$N,CN115,L$107))","v":""},{"$f":"IF($E115=\"\",\"\",INDEX(I_PFC!$A:$N,CO115,M$107))","v":""},{"$f":"IF($E115=\"\",\"\",INDEX(I_PFC!$A:$N,CP115,N$107))","v":""},{"$f":"IF($E115=\"\",\"\",INDEX(I_PFC!$A:$N,CQ115,O$107))","v":""},{"$f":"IF($E115=\"\",\"\",INDEX(I_PFC!$A:$N,CR115,P$107))","v":""},{"$f":"IF($E115=\"\",\"\",INDEX(I_PFC!$A:$N,CS115,Q$107))","v":""},{"$f":"IF($E115=\"\",\"\",INDEX(I_PFC!$A:$N,CT115,R$107))","v":""},{"$f":"IF($E115=\"\",\"\",INDEX(I_PFC!$A:$N,CU115,S$107))","v":""},{"$f":"IF($E115=\"\",\"\",INDEX(I_PFC!$A:$N,CV115,T$107))","v":""},{"$f":"IF($E115=\"\",\"\",INDEX(I_PFC!$A:$N,CW115,U$107))","v":""},{"$f":"IF($E115=\"\",\"\",INDEX(I_PFC!$A:$N,CX115,V$107))","v":""},{"$f":"IF($E115=\"\",\"\",INDEX(I_PFC!$A:$N,CY115,W$107))","v":""},{"$f":"IF($E115=\"\",\"\",INDEX(I_PFC!$A:$N,CZ115,X$107))","v":""},{"$f":"IF($E115=\"\",\"\",INDEX(I_PFC!$A:$N,DA115,Y$107))","v":""},{"$f":"IF($E115=\"\",\"\",INDEX(I_PFC!$A:$N,DB115,Z$107))","v":""},{"$f":"IF($E115=\"\",\"\",INDEX(I_PFC!$A:$N,DC115,AA$107))","v":""},{"$f":"IF($E115=\"\",\"\",INDEX(I_PFC!$A:$N,DD115,AB$107))","v":""},{"$f":"IF($E115=\"\",\"\",INDEX(I_PFC!$A:$N,DE115,AC$107))","v":""},{"$f":"IF($E115=\"\",\"\",INDEX(I_PFC!$A:$N,DF115,AD$107))","v":""},{"$f":"IF($E115=\"\",\"\",INDEX(I_PFC!$A:$N,DG115,AE$107))","v":""},{"$f":"IF($E115=\"\",\"\",INDEX(I_PFC!$A:$N,DH115,AF$107))","v":""},{"$f":"IF($E115=\"\",\"\",INDEX(I_PFC!$A:$N,DI115,AG$107))","v":""},{"$f":"IF($E115=\"\",\"\",INDEX(I_PFC!$A:$N,DJ115,AH$107))","v":""},{"$f":"IF($E115=\"\",\"\",INDEX(I_PFC!$A:$N,DK115,AI$107))","v":""},{"$f":"IF($E115=\"\",\"\",INDEX(I_PFC!$A:$N,DL115,AJ$107))","v":""},{"$f":"IF($E115=\"\",\"\",INDEX(I_PFC!$A:$N,DM115,AK$107))","v":""},{"$f":"IF($E115=\"\",\"\",INDEX(I_PFC!$A:$N,DN115,AL$107))","v":""},{"$f":"IF($E115=\"\",\"\",INDEX(I_PFC!$A:$N,DO115,AM$107))","v":""},{"$f":"IF($E115=\"\",\"\",INDEX(I_PFC!$A:$N,DP115,AN$107))","v":""},{"$f":"IF($E115=\"\",\"\",INDEX(I_PFC!$A:$N,DQ115,AO$107))","v":""},{"$f":"IF($E115=\"\",\"\",INDEX(I_PFC!$A:$N,DR115,AP$107))","v":""},{"$f":"IF($E115=\"\",\"\",INDEX(I_PFC!$A:$N,DS115,AQ$107))","v":""},{"$f":"IF($E115=\"\",\"\",INDEX(I_PFC!$A:$N,DT115,AR$107))","v":""},{"$f":"IF($E115=\"\",\"\",INDEX(I_PFC!$A:$N,DU115,AS$107))","v":""},{"$f":"IF($E115=\"\",\"\",INDEX(I_PFC!$A:$N,DV115,AT$107))","v":""},{"$f":"IF($E115=\"\",\"\",INDEX(I_PFC!$A:$N,DW115,AU$107))","v":""},{"$f":"IF($E115=\"\",\"\",INDEX(I_PFC!$A:$N,DX115,AV$107))","v":""},{"$f":"IF($E115=\"\",\"\",INDEX(I_PFC!$A:$N,DY115,AW$107))","v":""},{"$f":"IF($E115=\"\",\"\",INDEX(I_PFC!$A:$N,DZ115,AX$107))","v":""},{"$f":"IF($E115=\"\",\"\",INDEX(I_PFC!$A:$N,EA115,AY$107))","v":""},{"$f":"IF($E115=\"\",\"\",INDEX(I_PFC!$A:$N,EB115,AZ$107))","v":""},{"$f":"IF($E115=\"\",\"\",INDEX(I_PFC!$A:$N,EC115,BA$107))","v":""},{"$f":"IF($E115=\"\",\"\",INDEX(I_PFC!$A:$N,ED115,BB$107))","v":""},{"$f":"IF($E115=\"\",\"\",INDEX(I_PFC!$A:$N,EE115,BC$107))","v":""},{"$f":"IF($E115=\"\",\"\",INDEX(I_PFC!$A:$N,EF115,BD$107))","v":""},null,null,null,null,null,null,null,null,null,null,null,null,null,null,null,null,null,null,null,null,null,null,null,null,null,null,null,null,null,null,null,"SourceCategory_",{"$f":"INDEX(I_PFC!$A$50:$A$60,ROWS($CI$111:CI115))=\"ausblenden\"","v":false},381,382,383,386,387,388,391,392,393,396,397,398,401,402,403,409,416,416,416,416,416,416,416,410,417,417,417,417,417,417,417,411,418,418,418,418,418,418,418,424,424,424,424,424,424,429,435]
[null,{"$f":"IF(OR(B115=\"\",CK116),\"\",I_PFC!D55)","v":""},{"$f":"IF(B116=\"\",\"\",I_PFC!E55)","v":""},{"$f":"IF(B116=\"\",\"\",I_PFC!H55)","v":""},{"$f":"IF($B116=\"\",\"\",INDEX(C_InstallationDescription!F:F,MATCH($CJ116,C_InstallationDescription!$Q:$Q,0)))","v":""},{"$f":"IF($E116=\"\",\"\",INDEX(C_InstallationDescription!L:L,MATCH($CJ116,C_InstallationDescription!$Q:$Q,0)))","v":""},{"$f":"IF($E116=\"\",\"\",INDEX(C_InstallationDescription!M:M,MATCH($CJ116,C_InstallationDescription!$Q:$Q,0)))","v":""},{"$f":"IF($E116=\"\",\"\",INDEX(C_InstallationDescription!N:N,MATCH($CJ116,C_InstallationDescription!$Q:$Q,0)))","v":""},{"$f":"IF(INDEX(I_PFC!$L$50:$L$56,MATCH(B116,I_PFC!$D$50:$D$56,0))=\"\",\"\",INDEX(I_PFC!$L$50:$L$56,MATCH(B116,I_PFC!$D$50:$D$56,0)))","v":""},{"$f":"IF($E116=\"\",\"\",INDEX(I_PFC!$A:$N,CL116,J$107))","v":""},{"$f":"IF($E116=\"\",\"\",INDEX(I_PFC!$A:$N,CM116,K$107))","v":""},{"$f":"IF($E116=\"\",\"\",INDEX(I_PFC!$A:$N,CN116,L$107))","v":""},{"$f":"IF($E116=\"\",\"\",INDEX(I_PFC!$A:$N,CO116,M$107))","v":""},{"$f":"IF($E116=\"\",\"\",INDEX(I_PFC!$A:$N,CP116,N$107))","v":""},{"$f":"IF($E116=\"\",\"\",INDEX(I_PFC!$A:$N,CQ116,O$107))","v":""},{"$f":"IF($E116=\"\",\"\",INDEX(I_PFC!$A:$N,CR116,P$107))","v":""},{"$f":"IF($E116=\"\",\"\",INDEX(I_PFC!$A:$N,CS116,Q$107))","v":""},{"$f":"IF($E116=\"\",\"\",INDEX(I_PFC!$A:$N,CT116,R$107))","v":""},{"$f":"IF($E116=\"\",\"\",INDEX(I_PFC!$A:$N,CU116,S$107))","v":""},{"$f":"IF($E116=\"\",\"\",INDEX(I_PFC!$A:$N,CV116,T$107))","v":""},{"$f":"IF($E116=\"\",\"\",INDEX(I_PFC!$A:$N,CW116,U$107))","v":""},{"$f":"IF($E116=\"\",\"\",INDEX(I_PFC!$A:$N,CX116,V$107))","v":""},{"$f":"IF($E116=\"\",\"\",INDEX(I_PFC!$A:$N,CY116,W$107))","v":""},{"$f":"IF($E116=\"\",\"\",INDEX(I_PFC!$A:$N,CZ116,X$107))","v":""},{"$f":"IF($E116=\"\",\"\",INDEX(I_PFC!$A:$N,DA116,Y$107))","v":""},{"$f":"IF($E116=\"\",\"\",INDEX(I_PFC!$A:$N,DB116,Z$107))","v":""},{"$f":"IF($E116=\"\",\"\",INDEX(I_PFC!$A:$N,DC116,AA$107))","v":""},{"$f":"IF($E116=\"\",\"\",INDEX(I_PFC!$A:$N,DD116,AB$107))","v":""},{"$f":"IF($E116=\"\",\"\",INDEX(I_PFC!$A:$N,DE116,AC$107))","v":""},{"$f":"IF($E116=\"\",\"\",INDEX(I_PFC!$A:$N,DF116,AD$107))","v":""},{"$f":"IF($E116=\"\",\"\",INDEX(I_PFC!$A:$N,DG116,AE$107))","v":""},{"$f":"IF($E116=\"\",\"\",INDEX(I_PFC!$A:$N,DH116,AF$107))","v":""},{"$f":"IF($E116=\"\",\"\",INDEX(I_PFC!$A:$N,DI116,AG$107))","v":""},{"$f":"IF($E116=\"\",\"\",INDEX(I_PFC!$A:$N,DJ116,AH$107))","v":""},{"$f":"IF($E116=\"\",\"\",INDEX(I_PFC!$A:$N,DK116,AI$107))","v":""},{"$f":"IF($E116=\"\",\"\",INDEX(I_PFC!$A:$N,DL116,AJ$107))","v":""},{"$f":"IF($E116=\"\",\"\",INDEX(I_PFC!$A:$N,DM116,AK$107))","v":""},{"$f":"IF($E116=\"\",\"\",INDEX(I_PFC!$A:$N,DN116,AL$107))","v":""},{"$f":"IF($E116=\"\",\"\",INDEX(I_PFC!$A:$N,DO116,AM$107))","v":""},{"$f":"IF($E116=\"\",\"\",INDEX(I_PFC!$A:$N,DP116,AN$107))","v":""},{"$f":"IF($E116=\"\",\"\",INDEX(I_PFC!$A:$N,DQ116,AO$107))","v":""},{"$f":"IF($E116=\"\",\"\",INDEX(I_PFC!$A:$N,DR116,AP$107))","v":""},{"$f":"IF($E116=\"\",\"\",INDEX(I_PFC!$A:$N,DS116,AQ$107))","v":""},{"$f":"IF($E116=\"\",\"\",INDEX(I_PFC!$A:$N,DT116,AR$107))","v":""},{"$f":"IF($E116=\"\",\"\",INDEX(I_PFC!$A:$N,DU116,AS$107))","v":""},{"$f":"IF($E116=\"\",\"\",INDEX(I_PFC!$A:$N,DV116,AT$107))","v":""},{"$f":"IF($E116=\"\",\"\",INDEX(I_PFC!$A:$N,DW116,AU$107))","v":""},{"$f":"IF($E116=\"\",\"\",INDEX(I_PFC!$A:$N,DX116,AV$107))","v":""},{"$f":"IF($E116=\"\",\"\",INDEX(I_PFC!$A:$N,DY116,AW$107))","v":""},{"$f":"IF($E116=\"\",\"\",INDEX(I_PFC!$A:$N,DZ116,AX$107))","v":""},{"$f":"IF($E116=\"\",\"\",INDEX(I_PFC!$A:$N,EA116,AY$107))","v":""},{"$f":"IF($E116=\"\",\"\",INDEX(I_PFC!$A:$N,EB116,AZ$107))","v":""},{"$f":"IF($E116=\"\",\"\",INDEX(I_PFC!$A:$N,EC116,BA$107))","v":""},{"$f":"IF($E116=\"\",\"\",INDEX(I_PFC!$A:$N,ED116,BB$107))","v":""},{"$f":"IF($E116=\"\",\"\",INDEX(I_PFC!$A:$N,EE116,BC$107))","v":""},{"$f":"IF($E116=\"\",\"\",INDEX(I_PFC!$A:$N,EF116,BD$107))","v":""},null,null,null,null,null,null,null,null,null,null,null,null,null,null,null,null,null,null,null,null,null,null,null,null,null,null,null,null,null,null,null,"SourceCategory_",{"$f":"INDEX(I_PFC!$A$50:$A$60,ROWS($CI$111:CI116))=\"ausblenden\"","v":true},453,454,455,458,459,460,463,464,465,468,469,470,473,474,475,481,488,488,488,488,488,488,488,482,489,489,489,489,489,489,489,483,490,490,490,490,490,490,490,496,496,496,496,496,496,501,507]
[null,{"$f":"IF(OR(B116=\"\",CK117),\"\",I_PFC!D56)","v":""},{"$f":"IF(B117=\"\",\"\",I_PFC!E56)","v":""},{"$f":"IF(B117=\"\",\"\",I_PFC!H56)","v":""},{"$f":"IF($B117=\"\",\"\",INDEX(C_InstallationDescription!F:F,MATCH($CJ117,C_InstallationDescription!$Q:$Q,0)))","v":""},{"$f":"IF($E117=\"\",\"\",INDEX(C_InstallationDescription!L:L,MATCH($CJ117,C_InstallationDescription!$Q:$Q,0)))","v":""},{"$f":"IF($E117=\"\",\"\",INDEX(C_InstallationDescription!M:M,MATCH($CJ117,C_InstallationDescription!$Q:$Q,0)))","v":""},{"$f":"IF($E117=\"\",\"\",INDEX(C_InstallationDescription!N:N,MATCH($CJ117,C_InstallationDescription!$Q:$Q,0)))","v":""},{"$f":"IF(INDEX(I_PFC!$L$50:$L$56,MATCH(B117,I_PFC!$D$50:$D$56,0))=\"\",\"\",INDEX(I_PFC!$L$50:$L$56,MATCH(B117,I_PFC!$D$50:$D$56,0)))","v":""},{"$f":"IF($E117=\"\",\"\",INDEX(I_PFC!$A:$N,CL117,J$107))","v":""},{"$f":"IF($E117=\"\",\"\",INDEX(I_PFC!$A:$N,CM117,K$107))","v":""},{"$f":"IF($E117=\"\",\"\",INDEX(I_PFC!$A:$N,CN117,L$107))","v":""},{"$f":"IF($E117=\"\",\"\",INDEX(I_PFC!$A:$N,CO117,M$107))","v":""},{"$f":"IF($E117=\"\",\"\",INDEX(I_PFC!$A:$N,CP117,N$107))","v":""},{"$f":"IF($E117=\"\",\"\",INDEX(I_PFC!$A:$N,CQ117,O$107))","v":""},{"$f":"IF($E117=\"\",\"\",INDEX(I_PFC!$A:$N,CR117,P$107))","v":""},{"$f":"IF($E117=\"\",\"\",INDEX(I_PFC!$A:$N,CS117,Q$107))","v":""},{"$f":"IF($E117=\"\",\"\",INDEX(I_PFC!$A:$N,CT117,R$107))","v":""},{"$f":"IF($E117=\"\",\"\",INDEX(I_PFC!$A:$N,CU117,S$107))","v":""},{"$f":"IF($E117=\"\",\"\",INDEX(I_PFC!$A:$N,CV117,T$107))","v":""},{"$f":"IF($E117=\"\",\"\",INDEX(I_PFC!$A:$N,CW117,U$107))","v":""},{"$f":"IF($E117=\"\",\"\",INDEX(I_PFC!$A:$N,CX117,V$107))","v":""},{"$f":"IF($E117=\"\",\"\",INDEX(I_PFC!$A:$N,CY117,W$107))","v":""},{"$f":"IF($E117=\"\",\"\",INDEX(I_PFC!$A:$N,CZ117,X$107))","v":""},{"$f":"IF($E117=\"\",\"\",INDEX(I_PFC!$A:$N,DA117,Y$107))","v":""},{"$f":"IF($E117=\"\",\"\",INDEX(I_PFC!$A:$N,DB117,Z$107))","v":""},{"$f":"IF($E117=\"\",\"\",INDEX(I_PFC!$A:$N,DC117,AA$107))","v":""},{"$f":"IF($E117=\"\",\"\",INDEX(I_PFC!$A:$N,DD117,AB$107))","v":""},{"$f":"IF($E117=\"\",\"\",INDEX(I_PFC!$A:$N,DE117,AC$107))","v":""},{"$f":"IF($E117=\"\",\"\",INDEX(I_PFC!$A:$N,DF117,AD$107))","v":""},{"$f":"IF($E117=\"\",\"\",INDEX(I_PFC!$A:$N,DG117,AE$107))","v":""},{"$f":"IF($E117=\"\",\"\",INDEX(I_PFC!$A:$N,DH117,AF$107))","v":""},{"$f":"IF($E117=\"\",\"\",INDEX(I_PFC!$A:$N,DI117,AG$107))","v":""},{"$f":"IF($E117=\"\",\"\",INDEX(I_PFC!$A:$N,DJ117,AH$107))","v":""},{"$f":"IF($E117=\"\",\"\",INDEX(I_PFC!$A:$N,DK117,AI$107))","v":""},{"$f":"IF($E117=\"\",\"\",INDEX(I_PFC!$A:$N,DL117,AJ$107))","v":""},{"$f":"IF($E117=\"\",\"\",INDEX(I_PFC!$A:$N,DM117,AK$107))","v":""},{"$f":"IF($E117=\"\",\"\",INDEX(I_PFC!$A:$N,DN117,AL$107))","v":""},{"$f":"IF($E117=\"\",\"\",INDEX(I_PFC!$A:$N,DO117,AM$107))","v":""},{"$f":"IF($E117=\"\",\"\",INDEX(I_PFC!$A:$N,DP117,AN$107))","v":""},{"$f":"IF($E117=\"\",\"\",INDEX(I_PFC!$A:$N,DQ117,AO$107))","v":""},{"$f":"IF($E117=\"\",\"\",INDEX(I_PFC!$A:$N,DR117,AP$107))","v":""},{"$f":"IF($E117=\"\",\"\",INDEX(I_PFC!$A:$N,DS117,AQ$107))","v":""},{"$f":"IF($E117=\"\",\"\",INDEX(I_PFC!$A:$N,DT117,AR$107))","v":""},{"$f":"IF($E117=\"\",\"\",INDEX(I_PFC!$A:$N,DU117,AS$107))","v":""},{"$f":"IF($E117=\"\",\"\",INDEX(I_PFC!$A:$N,DV117,AT$107))","v":""},{"$f":"IF($E117=\"\",\"\",INDEX(I_PFC!$A:$N,DW117,AU$107))","v":""},{"$f":"IF($E117=\"\",\"\",INDEX(I_PFC!$A:$N,DX117,AV$107))","v":""},{"$f":"IF($E117=\"\",\"\",INDEX(I_PFC!$A:$N,DY117,AW$107))","v":""},{"$f":"IF($E117=\"\",\"\",INDEX(I_PFC!$A:$N,DZ117,AX$107))","v":""},{"$f":"IF($E117=\"\",\"\",INDEX(I_PFC!$A:$N,EA117,AY$107))","v":""},{"$f":"IF($E117=\"\",\"\",INDEX(I_PFC!$A:$N,EB117,AZ$107))","v":""},{"$f":"IF($E117=\"\",\"\",INDEX(I_PFC!$A:$N,EC117,BA$107))","v":""},{"$f":"IF($E117=\"\",\"\",INDEX(I_PFC!$A:$N,ED117,BB$107))","v":""},{"$f":"IF($E117=\"\",\"\",INDEX(I_PFC!$A:$N,EE117,BC$107))","v":""},{"$f":"IF($E117=\"\",\"\",INDEX(I_PFC!$A:$N,EF117,BD$107))","v":""},null,null,null,null,null,null,null,null,null,null,null,null,null,null,null,null,null,null,null,null,null,null,null,null,null,null,null,null,null,null,null,"SourceCategory_",{"$f":"INDEX(I_PFC!$A$50:$A$60,ROWS($CI$111:CI117))=\"ausblenden\"","v":false},525,526,527,530,531,532,535,536,537,540,541,542,545,546,547,553,560,560,560,560,560,560,560,554,561,561,561,561,561,561,561,555,562,562,562,562,562,562,562,568,568,568,568,568,568,573,579]
[null,{"$f":"IF(OR(B117=\"\",CK118),\"\",I_PFC!D57)","v":""},{"$f":"IF(B118=\"\",\"\",I_PFC!E57)","v":""},{"$f":"IF(B118=\"\",\"\",I_PFC!H57)","v":""},{"$f":"IF($B118=\"\",\"\",INDEX(C_InstallationDescription!F:F,MATCH($CJ118,C_InstallationDescription!$Q:$Q,0)))","v":""},{"$f":"IF($E118=\"\",\"\",INDEX(C_InstallationDescription!L:L,MATCH($CJ118,C_InstallationDescription!$Q:$Q,0)))","v":""},{"$f":"IF($E118=\"\",\"\",INDEX(C_InstallationDescription!M:M,MATCH($CJ118,C_InstallationDescription!$Q:$Q,0)))","v":""},{"$f":"IF($E118=\"\",\"\",INDEX(C_InstallationDescription!N:N,MATCH($CJ118,C_InstallationDescription!$Q:$Q,0)))","v":""},{"$f":"IF(INDEX(I_PFC!$L$50:$L$56,MATCH(B118,I_PFC!$D$50:$D$56,0))=\"\",\"\",INDEX(I_PFC!$L$50:$L$56,MATCH(B118,I_PFC!$D$50:$D$56,0)))","v":""},{"$f":"IF($E118=\"\",\"\",INDEX(I_PFC!$A:$N,CL118,J$107))","v":""},{"$f":"IF($E118=\"\",\"\",INDEX(I_PFC!$A:$N,CM118,K$107))","v":""},{"$f":"IF($E118=\"\",\"\",INDEX(I_PFC!$A:$N,CN118,L$107))","v":""},{"$f":"IF($E118=\"\",\"\",INDEX(I_PFC!$A:$N,CO118,M$107))","v":""},{"$f":"IF($E118=\"\",\"\",INDEX(I_PFC!$A:$N,CP118,N$107))","v":""},{"$f":"IF($E118=\"\",\"\",INDEX(I_PFC!$A:$N,CQ118,O$107))","v":""},{"$f":"IF($E118=\"\",\"\",INDEX(I_PFC!$A:$N,CR118,P$107))","v":""},{"$f":"IF($E118=\"\",\"\",INDEX(I_PFC!$A:$N,CS118,Q$107))","v":""},{"$f":"IF($E118=\"\",\"\",INDEX(I_PFC!$A:$N,CT118,R$107))","v":""},{"$f":"IF($E118=\"\",\"\",INDEX(I_PFC!$A:$N,CU118,S$107))","v":""},{"$f":"IF($E118=\"\",\"\",INDEX(I_PFC!$A:$N,CV118,T$107))","v":""},{"$f":"IF($E118=\"\",\"\",INDEX(I_PFC!$A:$N,CW118,U$107))","v":""},{"$f":"IF($E118=\"\",\"\",INDEX(I_PFC!$A:$N,CX118,V$107))","v":""},{"$f":"IF($E118=\"\",\"\",INDEX(I_PFC!$A:$N,CY118,W$107))","v":""},{"$f":"IF($E118=\"\",\"\",INDEX(I_PFC!$A:$N,CZ118,X$107))","v":""},{"$f":"IF($E118=\"\",\"\",INDEX(I_PFC!$A:$N,DA118,Y$107))","v":""},{"$f":"IF($E118=\"\",\"\",INDEX(I_PFC!$A:$N,DB118,Z$107))","v":""},{"$f":"IF($E118=\"\",\"\",INDEX(I_PFC!$A:$N,DC118,AA$107))","v":""},{"$f":"IF($E118=\"\",\"\",INDEX(I_PFC!$A:$N,DD118,AB$107))","v":""},{"$f":"IF($E118=\"\",\"\",INDEX(I_PFC!$A:$N,DE118,AC$107))","v":""},{"$f":"IF($E118=\"\",\"\",INDEX(I_PFC!$A:$N,DF118,AD$107))","v":""},{"$f":"IF($E118=\"\",\"\",INDEX(I_PFC!$A:$N,DG118,AE$107))","v":""},{"$f":"IF($E118=\"\",\"\",INDEX(I_PFC!$A:$N,DH118,AF$107))","v":""},{"$f":"IF($E118=\"\",\"\",INDEX(I_PFC!$A:$N,DI118,AG$107))","v":""},{"$f":"IF($E118=\"\",\"\",INDEX(I_PFC!$A:$N,DJ118,AH$107))","v":""},{"$f":"IF($E118=\"\",\"\",INDEX(I_PFC!$A:$N,DK118,AI$107))","v":""},{"$f":"IF($E118=\"\",\"\",INDEX(I_PFC!$A:$N,DL118,AJ$107))","v":""},{"$f":"IF($E118=\"\",\"\",INDEX(I_PFC!$A:$N,DM118,AK$107))","v":""},{"$f":"IF($E118=\"\",\"\",INDEX(I_PFC!$A:$N,DN118,AL$107))","v":""},{"$f":"IF($E118=\"\",\"\",INDEX(I_PFC!$A:$N,DO118,AM$107))","v":""},{"$f":"IF($E118=\"\",\"\",INDEX(I_PFC!$A:$N,DP118,AN$107))","v":""},{"$f":"IF($E118=\"\",\"\",INDEX(I_PFC!$A:$N,DQ118,AO$107))","v":""},{"$f":"IF($E118=\"\",\"\",INDEX(I_PFC!$A:$N,DR118,AP$107))","v":""},{"$f":"IF($E118=\"\",\"\",INDEX(I_PFC!$A:$N,DS118,AQ$107))","v":""},{"$f":"IF($E118=\"\",\"\",INDEX(I_PFC!$A:$N,DT118,AR$107))","v":""},{"$f":"IF($E118=\"\",\"\",INDEX(I_PFC!$A:$N,DU118,AS$107))","v":""},{"$f":"IF($E118=\"\",\"\",INDEX(I_PFC!$A:$N,DV118,AT$107))","v":""},{"$f":"IF($E118=\"\",\"\",INDEX(I_PFC!$A:$N,DW118,AU$107))","v":""},{"$f":"IF($E118=\"\",\"\",INDEX(I_PFC!$A:$N,DX118,AV$107))","v":""},{"$f":"IF($E118=\"\",\"\",INDEX(I_PFC!$A:$N,DY118,AW$107))","v":""},{"$f":"IF($E118=\"\",\"\",INDEX(I_PFC!$A:$N,DZ118,AX$107))","v":""},{"$f":"IF($E118=\"\",\"\",INDEX(I_PFC!$A:$N,EA118,AY$107))","v":""},{"$f":"IF($E118=\"\",\"\",INDEX(I_PFC!$A:$N,EB118,AZ$107))","v":""},{"$f":"IF($E118=\"\",\"\",INDEX(I_PFC!$A:$N,EC118,BA$107))","v":""},{"$f":"IF($E118=\"\",\"\",INDEX(I_PFC!$A:$N,ED118,BB$107))","v":""},{"$f":"IF($E118=\"\",\"\",INDEX(I_PFC!$A:$N,EE118,BC$107))","v":""},{"$f":"IF($E118=\"\",\"\",INDEX(I_PFC!$A:$N,EF118,BD$107))","v":""},null,null,null,null,null,null,null,null,null,null,null,null,null,null,null,null,null,null,null,null,null,null,null,null,null,null,null,null,null,null,null,"SourceCategory_",{"$f":"INDEX(I_PFC!$A$50:$A$60,ROWS($CI$111:CI118))=\"ausblenden\"","v":false},597,598,599,602,603,604,607,608,609,612,613,614,617,618,619,625,632,632,632,632,632,632,632,626,633,633,{"$f":"DL117+72","v":633},633,633,633,633,627,634,634,634,634,634,634,634,640,640,640,640,640,640,645,651]
[null,{"$f":"IF(OR(B118=\"\",CK119),\"\",I_PFC!D58)","v":""},{"$f":"IF(B119=\"\",\"\",I_PFC!E58)","v":""},{"$f":"IF(B119=\"\",\"\",I_PFC!H58)","v":""},{"$f":"IF($B119=\"\",\"\",INDEX(C_InstallationDescription!F:F,MATCH($CJ119,C_InstallationDescription!$Q:$Q,0)))","v":""},{"$f":"IF($E119=\"\",\"\",INDEX(C_InstallationDescription!L:L,MATCH($CJ119,C_InstallationDescription!$Q:$Q,0)))","v":""},{"$f":"IF($E119=\"\",\"\",INDEX(C_InstallationDescription!M:M,MATCH($CJ119,C_InstallationDescription!$Q:$Q,0)))","v":""},{"$f":"IF($E119=\"\",\"\",INDEX(C_InstallationDescription!N:N,MATCH($CJ119,C_InstallationDescription!$Q:$Q,0)))","v":""},{"$f":"IF(INDEX(I_PFC!$L$50:$L$56,MATCH(B119,I_PFC!$D$50:$D$56,0))=\"\",\"\",INDEX(I_PFC!$L$50:$L$56,MATCH(B119,I_PFC!$D$50:$D$56,0)))","v":""},{"$f":"IF($E119=\"\",\"\",INDEX(I_PFC!$A:$N,CL119,J$107))","v":""},{"$f":"IF($E119=\"\",\"\",INDEX(I_PFC!$A:$N,CM119,K$107))","v":""},{"$f":"IF($E119=\"\",\"\",INDEX(I_PFC!$A:$N,CN119,L$107))","v":""},{"$f":"IF($E119=\"\",\"\",INDEX(I_PFC!$A:$N,CO119,M$107))","v":""},{"$f":"IF($E119=\"\",\"\",INDEX(I_PFC!$A:$N,CP119,N$107))","v":""},{"$f":"IF($E119=\"\",\"\",INDEX(I_PFC!$A:$N,CQ119,O$107))","v":""},{"$f":"IF($E119=\"\",\"\",INDEX(I_PFC!$A:$N,CR119,P$107))","v":""},{"$f":"IF($E119=\"\",\"\",INDEX(I_PFC!$A:$N,CS119,Q$107))","v":""},{"$f":"IF($E119=\"\",\"\",INDEX(I_PFC!$A:$N,CT119,R$107))","v":""},{"$f":"IF($E119=\"\",\"\",INDEX(I_PFC!$A:$N,CU119,S$107))","v":""},{"$f":"IF($E119=\"\",\"\",INDEX(I_PFC!$A:$N,CV119,T$107))","v":""},{"$f":"IF($E119=\"\",\"\",INDEX(I_PFC!$A:$N,CW119,U$107))","v":""},{"$f":"IF($E119=\"\",\"\",INDEX(I_PFC!$A:$N,CX119,V$107))","v":""},{"$f":"IF($E119=\"\",\"\",INDEX(I_PFC!$A:$N,CY119,W$107))","v":""},{"$f":"IF($E119=\"\",\"\",INDEX(I_PFC!$A:$N,CZ119,X$107))","v":""},{"$f":"IF($E119=\"\",\"\",INDEX(I_PFC!$A:$N,DA119,Y$107))","v":""},{"$f":"IF($E119=\"\",\"\",INDEX(I_PFC!$A:$N,DB119,Z$107))","v":""},{"$f":"IF($E119=\"\",\"\",INDEX(I_PFC!$A:$N,DC119,AA$107))","v":""},{"$f":"IF($E119=\"\",\"\",INDEX(I_PFC!$A:$N,DD119,AB$107))","v":""},{"$f":"IF($E119=\"\",\"\",INDEX(I_PFC!$A:$N,DE119,AC$107))","v":""},{"$f":"IF($E119=\"\",\"\",INDEX(I_PFC!$A:$N,DF119,AD$107))","v":""},{"$f":"IF($E119=\"\",\"\",INDEX(I_PFC!$A:$N,DG119,AE$107))","v":""},{"$f":"IF($E119=\"\",\"\",INDEX(I_PFC!$A:$N,DH119,AF$107))","v":""},{"$f":"IF($E119=\"\",\"\",INDEX(I_PFC!$A:$N,DI119,AG$107))","v":""},{"$f":"IF($E119=\"\",\"\",INDEX(I_PFC!$A:$N,DJ119,AH$107))","v":""},{"$f":"IF($E119=\"\",\"\",INDEX(I_PFC!$A:$N,DK119,AI$107))","v":""},{"$f":"IF($E119=\"\",\"\",INDEX(I_PFC!$A:$N,DL119,AJ$107))","v":""},{"$f":"IF($E119=\"\",\"\",INDEX(I_PFC!$A:$N,DM119,AK$107))","v":""},{"$f":"IF($E119=\"\",\"\",INDEX(I_PFC!$A:$N,DN119,AL$107))","v":""},{"$f":"IF($E119=\"\",\"\",INDEX(I_PFC!$A:$N,DO119,AM$107))","v":""},{"$f":"IF($E119=\"\",\"\",INDEX(I_PFC!$A:$N,DP119,AN$107))","v":""},{"$f":"IF($E119=\"\",\"\",INDEX(I_PFC!$A:$N,DQ119,AO$107))","v":""},{"$f":"IF($E119=\"\",\"\",INDEX(I_PFC!$A:$N,DR119,AP$107))","v":""},{"$f":"IF($E119=\"\",\"\",INDEX(I_PFC!$A:$N,DS119,AQ$107))","v":""},{"$f":"IF($E119=\"\",\"\",INDEX(I_PFC!$A:$N,DT119,AR$107))","v":""},{"$f":"IF($E119=\"\",\"\",INDEX(I_PFC!$A:$N,DU119,AS$107))","v":""},{"$f":"IF($E119=\"\",\"\",INDEX(I_PFC!$A:$N,DV119,AT$107))","v":""},{"$f":"IF($E119=\"\",\"\",INDEX(I_PFC!$A:$N,DW119,AU$107))","v":""},{"$f":"IF($E119=\"\",\"\",INDEX(I_PFC!$A:$N,DX119,AV$107))","v":""},{"$f":"IF($E119=\"\",\"\",INDEX(I_PFC!$A:$N,DY119,AW$107))","v":""},{"$f":"IF($E119=\"\",\"\",INDEX(I_PFC!$A:$N,DZ119,AX$107))","v":""},{"$f":"IF($E119=\"\",\"\",INDEX(I_PFC!$A:$N,EA119,AY$107))","v":""},{"$f":"IF($E119=\"\",\"\",INDEX(I_PFC!$A:$N,EB119,AZ$107))","v":""},{"$f":"IF($E119=\"\",\"\",INDEX(I_PFC!$A:$N,EC119,BA$107))","v":""},{"$f":"IF($E119=\"\",\"\",INDEX(I_PFC!$A:$N,ED119,BB$107))","v":""},{"$f":"IF($E119=\"\",\"\",INDEX(I_PFC!$A:$N,EE119,BC$107))","v":""},{"$f":"IF($E119=\"\",\"\",INDEX(I_PFC!$A:$N,EF119,BD$107))","v":""},null,null,null,null,null,null,null,null,null,null,null,null,null,null,null,null,null,null,null,null,null,null,null,null,null,null,null,null,null,null,null,"SourceCategory_",{"$f":"INDEX(I_PFC!$A$50:$A$60,ROWS($CI$111:CI119))=\"ausblenden\"","v":false},669,{"$f":"CM118+72","v":670},671,674,675,676,679,680,681,684,685,686,689,690,691,697,{"$f":"DB118+72","v":704},704,704,704,704,704,704,698,705,705,705,705,705,705,705,699,706,706,706,706,706,706,706,712,712,712,712,712,712,717,723]
[null,{"$f":"IF(OR(B119=\"\",CK120),\"\",I_PFC!D59)","v":""},{"$f":"IF(B120=\"\",\"\",I_PFC!E59)","v":""},{"$f":"IF(B120=\"\",\"\",I_PFC!H59)","v":""},{"$f":"IF($B120=\"\",\"\",INDEX(C_InstallationDescription!F:F,MATCH($CJ120,C_InstallationDescription!$Q:$Q,0)))","v":""},{"$f":"IF($E120=\"\",\"\",INDEX(C_InstallationDescription!L:L,MATCH($CJ120,C_InstallationDescription!$Q:$Q,0)))","v":""},{"$f":"IF($E120=\"\",\"\",INDEX(C_InstallationDescription!M:M,MATCH($CJ120,C_InstallationDescription!$Q:$Q,0)))","v":""},{"$f":"IF($E120=\"\",\"\",INDEX(C_InstallationDescription!N:N,MATCH($CJ120,C_InstallationDescription!$Q:$Q,0)))","v":""},{"$f":"IF(INDEX(I_PFC!$L$50:$L$56,MATCH(B120,I_PFC!$D$50:$D$56,0))=\"\",\"\",INDEX(I_PFC!$L$50:$L$56,MATCH(B120,I_PFC!$D$50:$D$56,0)))","v":""},{"$f":"IF($E120=\"\",\"\",INDEX(I_PFC!$A:$N,CL120,J$107))","v":""},{"$f":"IF($E120=\"\",\"\",INDEX(I_PFC!$A:$N,CM120,K$107))","v":""},{"$f":"IF($E120=\"\",\"\",INDEX(I_PFC!$A:$N,CN120,L$107))","v":""},{"$f":"IF($E120=\"\",\"\",INDEX(I_PFC!$A:$N,CO120,M$107))","v":""},{"$f":"IF($E120=\"\",\"\",INDEX(I_PFC!$A:$N,CP120,N$107))","v":""},{"$f":"IF($E120=\"\",\"\",INDEX(I_PFC!$A:$N,CQ120,O$107))","v":""},{"$f":"IF($E120=\"\",\"\",INDEX(I_PFC!$A:$N,CR120,P$107))","v":""},{"$f":"IF($E120=\"\",\"\",INDEX(I_PFC!$A:$N,CS120,Q$107))","v":""},{"$f":"IF($E120=\"\",\"\",INDEX(I_PFC!$A:$N,CT120,R$107))","v":""},{"$f":"IF($E120=\"\",\"\",INDEX(I_PFC!$A:$N,CU120,S$107))","v":""},{"$f":"IF($E120=\"\",\"\",INDEX(I_PFC!$A:$N,CV120,T$107))","v":""},{"$f":"IF($E120=\"\",\"\",INDEX(I_PFC!$A:$N,CW120,U$107))","v":""},{"$f":"IF($E120=\"\",\"\",INDEX(I_PFC!$A:$N,CX120,V$107))","v":""},{"$f":"IF($E120=\"\",\"\",INDEX(I_PFC!$A:$N,CY120,W$107))","v":""},{"$f":"IF($E120=\"\",\"\",INDEX(I_PFC!$A:$N,CZ120,X$107))","v":""},{"$f":"IF($E120=\"\",\"\",INDEX(I_PFC!$A:$N,DA120,Y$107))","v":""},{"$f":"IF($E120=\"\",\"\",INDEX(I_PFC!$A:$N,DB120,Z$107))","v":""},{"$f":"IF($E120=\"\",\"\",INDEX(I_PFC!$A:$N,DC120,AA$107))","v":""},{"$f":"IF($E120=\"\",\"\",INDEX(I_PFC!$A:$N,DD120,AB$107))","v":""},{"$f":"IF($E120=\"\",\"\",INDEX(I_PFC!$A:$N,DE120,AC$107))","v":""},{"$f":"IF($E120=\"\",\"\",INDEX(I_PFC!$A:$N,DF120,AD$107))","v":""},{"$f":"IF($E120=\"\",\"\",INDEX(I_PFC!$A:$N,DG120,AE$107))","v":""},{"$f":"IF($E120=\"\",\"\",INDEX(I_PFC!$A:$N,DH120,AF$107))","v":""},{"$f":"IF($E120=\"\",\"\",INDEX(I_PFC!$A:$N,DI120,AG$107))","v":""},{"$f":"IF($E120=\"\",\"\",INDEX(I_PFC!$A:$N,DJ120,AH$107))","v":""},{"$f":"IF($E120=\"\",\"\",INDEX(I_PFC!$A:$N,DK120,AI$107))","v":""},{"$f":"IF($E120=\"\",\"\",INDEX(I_PFC!$A:$N,DL120,AJ$107))","v":""},{"$f":"IF($E120=\"\",\"\",INDEX(I_PFC!$A:$N,DM120,AK$107))","v":""},{"$f":"IF($E120=\"\",\"\",INDEX(I_PFC!$A:$N,DN120,AL$107))","v":""},{"$f":"IF($E120=\"\",\"\",INDEX(I_PFC!$A:$N,DO120,AM$107))","v":""},{"$f":"IF($E120=\"\",\"\",INDEX(I_PFC!$A:$N,DP120,AN$107))","v":""},{"$f":"IF($E120=\"\",\"\",INDEX(I_PFC!$A:$N,DQ120,AO$107))","v":""},{"$f":"IF($E120=\"\",\"\",INDEX(I_PFC!$A:$N,DR120,AP$107))","v":""},{"$f":"IF($E120=\"\",\"\",INDEX(I_PFC!$A:$N,DS120,AQ$107))","v":""},{"$f":"IF($E120=\"\",\"\",INDEX(I_PFC!$A:$N,DT120,AR$107))","v":""},{"$f":"IF($E120=\"\",\"\",INDEX(I_PFC!$A:$N,DU120,AS$107))","v":""},{"$f":"IF($E120=\"\",\"\",INDEX(I_PFC!$A:$N,DV120,AT$107))","v":""},{"$f":"IF($E120=\"\",\"\",INDEX(I_PFC!$A:$N,DW120,AU$107))","v":""},{"$f":"IF($E120=\"\",\"\",INDEX(I_PFC!$A:$N,DX120,AV$107))","v":""},{"$f":"IF($E120=\"\",\"\",INDEX(I_PFC!$A:$N,DY120,AW$107))","v":""},{"$f":"IF($E120=\"\",\"\",INDEX(I_PFC!$A:$N,DZ120,AX$107))","v":""},{"$f":"IF($E120=\"\",\"\",INDEX(I_PFC!$A:$N,EA120,AY$107))","v":""},{"$f":"IF($E120=\"\",\"\",INDEX(I_PFC!$A:$N,EB120,AZ$107))","v":""},{"$f":"IF($E120=\"\",\"\",INDEX(I_PFC!$A:$N,EC120,BA$107))","v":""},{"$f":"IF($E120=\"\",\"\",INDEX(I_PFC!$A:$N,ED120,BB$107))","v":""},{"$f":"IF($E120=\"\",\"\",INDEX(I_PFC!$A:$N,EE120,BC$107))","v":""},{"$f":"IF($E120=\"\",\"\",INDEX(I_PFC!$A:$N,EF120,BD$107))","v":""},null,null,null,null,null,null,null,null,null,null,null,null,null,null,null,null,null,null,null,null,null,null,null,null,null,null,null,null,null,null,null,"SourceCategory_",{"$f":"INDEX(I_PFC!$A$50:$A$60,ROWS($CI$111:CI120))=\"ausblenden\"","v":false},741,742,743,746,747,748,751,752,753,756,757,758,761,762,763,769,776,776,776,776,776,776,776,770,777,777,777,777,777,777,777,771,778,778,778,778,778,778,778,784,784,784,784,784,784,789,795]
[]
["ausblenden"]
[null,{"$f":"Translations!$B$1240","v":"Weitergeleitetes CO2 und N2O"}]
[]
[null,{"$f":"'J_Transferred GHG'!E53","v":"Ref. Weiter-leitung"},{"$f":"'J_Transferred GHG'!F53","v":"Name der Anlage"},{"$f":"'J_Transferred GHG'!H53","v":"Name des Inhabers"},{"$f":"'J_Transferred GHG'!J53","v":"Kennung der Anlage"},{"$f":"'J_Transferred GHG'!K53","v":"Art der Weiterleitung"},{"$f":"'J_Transferred GHG'!M53","v":"Messansatz"}]
[null,{"$f":"'J_Transferred GHG'!E54","v":"TR1"},{"$f":"IF($B126=\"\",\"\",IF(INDEX('J_Transferred GHG'!$F$54:$F$60,ROWS($A$126:A126))=\"\",\"\",INDEX('J_Transferred GHG'!$F$54:$F$60,ROWS($A$126:A126))))","v":""},{"$f":"IF($B126=\"\",\"\",IF(INDEX('J_Transferred GHG'!$H$54:$H$60,ROWS($A$126:B126))=\"\",\"\",INDEX('J_Transferred GHG'!$H$54:$H$60,ROWS($A$126:B126))))","v":""},{"$f":"IF($B126=\"\",\"\",IF(INDEX('J_Transferred GHG'!$J$54:$J$60,ROWS($A$126:C126))=\"\",\"\",INDEX('J_Transferred GHG'!$J$54:$J$60,ROWS($A$126:C126))))","v":""},{"$f":"IF($B126=\"\",\"\",IF(INDEX('J_Transferred GHG'!$K$54:$K$60,ROWS($A$126:D126))=\"\",\"\",INDEX('J_Transferred GHG'!$K$54:$K$60,ROWS($A$126:D126))))","v":""},{"$f":"IF($B126=\"\",\"\",IF(INDEX('J_Transferred GHG'!$M$54:$M$60,ROWS($A$126:E126))=\"\",\"\",INDEX('J_Transferred GHG'!$M$54:$M$60,ROWS($A$126:E126))))","v":""},null,null,null,null,null,null,null,null,null,null,null,null,null,null,null,null,null,null,null,null,null,null,null,null,null,null,null,null,null,null,null,null,null,null,null,null,null,null,null,null,null,null,null,null,null,null,null,null,null,null,null,null,null,null,null,null,null,null,null,null,null,null,null,null,null,null,null,null,null,null,null,null,null,null,null,null,null,null,null,null,null,{"$f":"INDEX('J_Transferred GHG'!$A$54:$A$64,ROWS($CI$126:CI126))=\"ausblenden\"","v":false}]
[null,{"$f":"'J_Transferred GHG'!E55","v":"TR2"},{"$f":"IF($B127=\"\",\"\",IF(INDEX('J_Transferred GHG'!$F$54:$F$60,ROWS($A$126:A127))=\"\",\"\",INDEX('J_Transferred GHG'!$F$54:$F$60,ROWS($A$126:A127))))","v":""},{"$f":"IF($B127=\"\",\"\",IF(INDEX('J_Transferred GHG'!$H$54:$H$60,ROWS($A$126:B127))=\"\",\"\",INDEX('J_Transferred GHG'!$H$54:$H$60,ROWS($A$126:B127))))","v":""},{"$f":"IF($B127=\"\",\"\",IF(INDEX('J_Transferred GHG'!$J$54:$J$60,ROWS($A$126:C127))=\"\",\"\",INDEX('J_Transferred GHG'!$J$54:$J$60,ROWS($A$126:C127))))","v":""},{"$f":"IF($B127=\"\",\"\",IF(INDEX('J_Transferred GHG'!$K$54:$K$60,ROWS($A$126:D127))=\"\",\"\",INDEX('J_Transferred GHG'!$K$54:$K$60,ROWS($A$126:D127))))","v":""},{"$f":"IF($B127=\"\",\"\",IF(INDEX('J_Transferred GHG'!$M$54:$M$60,ROWS($A$126:E127))=\"\",\"\",INDEX('J_Transferred GHG'!$M$54:$M$60,ROWS($A$126:E127))))","v":""},null,null,null,null,null,null,null,null,null,null,null,null,null,null,null,null,null,null,null,null,null,null,null,null,null,null,null,null,null,null,null,null,null,null,null,null,null,null,null,null,null,null,null,null,null,null,null,null,null,null,null,null,null,null,null,null,null,null,null,null,null,null,null,null,null,null,null,null,null,null,null,null,null,null,null,null,null,null,null,null,null,{"$f":"INDEX('J_Transferred GHG'!$A$54:$A$64,ROWS($CI$126:CI127))=\"ausblenden\"","v":false}]
[null,{"$f":"'J_Transferred GHG'!E56","v":"TR3"},{"$f":"IF($B128=\"\",\"\",IF(INDEX('J_Transferred GHG'!$F$54:$F$60,ROWS($A$126:A128))=\"\",\"\",INDEX('J_Transferred GHG'!$F$54:$F$60,ROWS($A$126:A128))))","v":""},{"$f":"IF($B128=\"\",\"\",IF(INDEX('J_Transferred GHG'!$H$54:$H$60,ROWS($A$126:B128))=\"\",\"\",INDEX('J_Transferred GHG'!$H$54:$H$60,ROWS($A$126:B128))))","v":""},{"$f":"IF($B128=\"\",\"\",IF(INDEX('J_Transferred GHG'!$J$54:$J$60,ROWS($A$126:C128))=\"\",\"\",INDEX('J_Transferred GHG'!$J$54:$J$60,ROWS($A$126:C128))))","v":""},{"$f":"IF($B128=\"\",\"\",IF(INDEX('J_Transferred GHG'!$K$54:$K$60,ROWS($A$126:D128))=\"\",\"\",INDEX('J_Transferred GHG'!$K$54:$K$60,ROWS($A$126:D128))))","v":""},{"$f":"IF($B128=\"\",\"\",IF(INDEX('J_Transferred GHG'!$M$54:$M$60,ROWS($A$126:E128))=\"\",\"\",INDEX('J_Transferred GHG'!$M$54:$M$60,ROWS($A$126:E128))))","v":""},null,null,null,null,null,null,null,null,null,null,null,null,null,null,null,null,null,null,null,null,null,null,null,null,null,null,null,null,null,null,null,null,null,null,null,null,null,null,null,null,null,null,null,null,null,null,null,null,null,null,null,null,null,null,null,null,null,null,null,null,null,null,null,null,null,null,null,null,null,null,null,null,null,null,null,null,null,null,null,null,null,{"$f":"INDEX('J_Transferred GHG'!$A$54:$A$64,ROWS($CI$126:CI128))=\"ausblenden\"","v":false}]
[null,{"$f":"'J_Transferred GHG'!E57","v":"TR4"},{"$f":"IF($B129=\"\",\"\",IF(INDEX('J_Transferred GHG'!$F$54:$F$60,ROWS($A$126:A129))=\"\",\"\",INDEX('J_Transferred GHG'!$F$54:$F$60,ROWS($A$126:A129))))","v":""},{"$f":"IF($B129=\"\",\"\",IF(INDEX('J_Transferred GHG'!$H$54:$H$60,ROWS($A$126:B129))=\"\",\"\",INDEX('J_Transferred GHG'!$H$54:$H$60,ROWS($A$126:B129))))","v":""},{"$f":"IF($B129=\"\",\"\",IF(INDEX('J_Transferred GHG'!$J$54:$J$60,ROWS($A$126:C129))=\"\",\"\",INDEX('J_Transferred GHG'!$J$54:$J$60,ROWS($A$126:C129))))","v":""},{"$f":"IF($B129=\"\",\"\",IF(INDEX('J_Transferred GHG'!$K$54:$K$60,ROWS($A$126:D129))=\"\",\"\",INDEX('J_Transferred GHG'!$K$54:$K$60,ROWS($A$126:D129))))","v":""},{"$f":"IF($B129=\"\",\"\",IF(INDEX('J_Transferred GHG'!$M$54:$M$60,ROWS($A$126:E129))=\"\",\"\",INDEX('J_Transferred GHG'!$M$54:$M$60,ROWS($A$126:E129))))","v":""},null,null,null,null,null,null,null,null,null,null,null,null,null,null,null,null,null,null,null,null,null,null,null,null,null,null,null,null,null,null,null,null,null,null,null,null,null,null,null,null,null,null,null,null,null,null,null,null,null,null,null,null,null,null,null,null,null,null,null,null,null,null,null,null,null,null,null,null,null,null,null,null,null,null,null,null,null,null,null,null,null,{"$f":"INDEX('J_Transferred GHG'!$A$54:$A$64,ROWS($CI$126:CI129))=\"ausblenden\"","v":false}]
[null,{"$f":"'J_Transferred GHG'!E58","v":"TR5"},{"$f":"IF($B130=\"\",\"\",IF(INDEX('J_Transferred GHG'!$F$54:$F$60,ROWS($A$126:A130))=\"\",\"\",INDEX('J_Transferred GHG'!$F$54:$F$60,ROWS($A$126:A130))))","v":""},{"$f":"IF($B130=\"\",\"\",IF(INDEX('J_Transferred GHG'!$H$54:$H$60,ROWS($A$126:B130))=\"\",\"\",INDEX('J_Transferred GHG'!$H$54:$H$60,ROWS($A$126:B130))))","v":""},{"$f":"IF($B130=\"\",\"\",IF(INDEX('J_Transferred GHG'!$J$54:$J$60,ROWS($A$126:C130))=\"\",\"\",INDEX('J_Transferred GHG'!$J$54:$J$60,ROWS($A$126:C130))))","v":""},{"$f":"IF($B130=\"\",\"\",IF(INDEX('J_Transferred GHG'!$K$54:$K$60,ROWS($A$126:D130))=\"\",\"\",INDEX('J_Transferred GHG'!$K$54:$K$60,ROWS($A$126:D130))))","v":""},{"$f":"IF($B130=\"\",\"\",IF(INDEX('J_Transferred GHG'!$M$54:$M$60,ROWS($A$126:E130))=\"\",\"\",INDEX('J_Transferred GHG'!$M$54:$M$60,ROWS($A$126:E130))))","v":""},null,null,null,null,null,null,null,null,null,null,null,null,null,null,null,null,null,null,null,null,null,null,null,null,null,null,null,null,null,null,null,null,null,null,null,null,null,null,null,null,null,null,null,null,null,null,null,null,null,null,null,null,null,null,null,null,null,null,null,null,null,null,null,null,null,null,null,null,null,null,null,null,null,null,null,null,null,null,null,null,null,{"$f":"INDEX('J_Transferred GHG'!$A$54:$A$64,ROWS($CI$126:CI130))=\"ausblenden\"","v":false}]
[null,{"$f":"IF(OR(B130=\"\",CK131),\"\",I_PFC!D70)","v":""},{"$f":"IF($B131=\"\",\"\",IF(INDEX('J_Transferred GHG'!$F$54:$F$60,ROWS($A$126:A131))=\"\",\"\",INDEX('J_Transferred GHG'!$F$54:$F$60,ROWS($A$126:A131))))","v":""},{"$f":"IF($B131=\"\",\"\",IF(INDEX('J_Transferred GHG'!$H$54:$H$60,ROWS($A$126:B131))=\"\",\"\",INDEX('J_Transferred GHG'!$H$54:$H$60,ROWS($A$126:B131))))","v":""},{"$f":"IF($B131=\"\",\"\",IF(INDEX('J_Transferred GHG'!$J$54:$J$60,ROWS($A$126:C131))=\"\",\"\",INDEX('J_Transferred GHG'!$J$54:$J$60,ROWS($A$126:C131))))","v":""},{"$f":"IF($B131=\"\",\"\",IF(INDEX('J_Transferred GHG'!$K$54:$K$60,ROWS($A$126:D131))=\"\",\"\",INDEX('J_Transferred GHG'!$K$54:$K$60,ROWS($A$126:D131))))","v":""},{"$f":"IF($B131=\"\",\"\",IF(INDEX('J_Transferred GHG'!$M$54:$M$60,ROWS($A$126:E131))=\"\",\"\",INDEX('J_Transferred GHG'!$M$54:$M$60,ROWS($A$126:E131))))","v":""},null,null,null,null,null,null,null,null,null,null,null,null,null,null,null,null,null,null,null,null,null,null,null,null,null,null,null,null,null,null,null,null,null,null,null,null,null,null,null,null,null,null,null,null,null,null,null,null,null,null,null,null,null,null,null,null,null,null,null,null,null,null,null,null,null,null,null,null,null,null,null,null,null,null,null,null,null,null,null,null,null,{"$f":"INDEX('J_Transferred GHG'!$A$54:$A$64,ROWS($CI$126:CI131))=\"ausblenden\"","v":true}]
[null,{"$f":"IF(OR(B131=\"\",CK132),\"\",I_PFC!D71)","v":""},{"$f":"IF($B132=\"\",\"\",IF(INDEX('J_Transferred GHG'!$F$54:$F$60,ROWS($A$126:A132))=\"\",\"\",INDEX('J_Transferred GHG'!$F$54:$F$60,ROWS($A$126:A132))))","v":""},{"$f":"IF($B132=\"\",\"\",IF(INDEX('J_Transferred GHG'!$H$54:$H$60,ROWS($A$126:B132))=\"\",\"\",INDEX('J_Transferred GHG'!$H$54:$H$60,ROWS($A$126:B132))))","v":""},{"$f":"IF($B132=\"\",\"\",IF(INDEX('J_Transferred GHG'!$J$54:$J$60,ROWS($A$126:C132))=\"\",\"\",INDEX('J_Transferred GHG'!$J$54:$J$60,ROWS($A$126:C132))))","v":""},{"$f":"IF($B132=\"\",\"\",IF(INDEX('J_Transferred GHG'!$K$54:$K$60,ROWS($A$126:D132))=\"\",\"\",INDEX('J_Transferred GHG'!$K$54:$K$60,ROWS($A$126:D132))))","v":""},{"$f":"IF($B132=\"\",\"\",IF(INDEX('J_Transferred GHG'!$M$54:$M$60,ROWS($A$126:E132))=\"\",\"\",INDEX('J_Transferred GHG'!$M$54:$M$60,ROWS($A$126:E132))))","v":""},null,null,null,null,null,null,null,null,null,null,null,null,null,null,null,null,null,null,null,null,null,null,null,null,null,null,null,null,null,null,null,null,null,null,null,null,null,null,null,null,null,null,null,null,null,null,null,null,null,null,null,null,null,null,null,null,null,null,null,null,null,null,null,null,null,null,null,null,null,null,null,null,null,null,null,null,null,null,null,null,null,{"$f":"INDEX('J_Transferred GHG'!$A$54:$A$64,ROWS($CI$126:CI132))=\"ausblenden\"","v":false}]
[null,{"$f":"IF(OR(B132=\"\",CK133),\"\",I_PFC!D72)","v":""},{"$f":"IF($B133=\"\",\"\",IF(INDEX('J_Transferred GHG'!$F$54:$F$60,ROWS($A$126:A133))=\"\",\"\",INDEX('J_Transferred GHG'!$F$54:$F$60,ROWS($A$126:A133))))","v":""},{"$f":"IF($B133=\"\",\"\",IF(INDEX('J_Transferred GHG'!$H$54:$H$60,ROWS($A$126:B133))=\"\",\"\",INDEX('J_Transferred GHG'!$H$54:$H$60,ROWS($A$126:B133))))","v":""},{"$f":"IF($B133=\"\",\"\",IF(INDEX('J_Transferred GHG'!$J$54:$J$60,ROWS($A$126:C133))=\"\",\"\",INDEX('J_Transferred GHG'!$J$54:$J$60,ROWS($A$126:C133))))","v":""},{"$f":"IF($B133=\"\",\"\",IF(INDEX('J_Transferred GHG'!$K$54:$K$60,ROWS($A$126:D133))=\"\",\"\",INDEX('J_Transferred GHG'!$K$54:$K$60,ROWS($A$126:D133))))","v":""},{"$f":"IF($B133=\"\",\"\",IF(INDEX('J_Transferred GHG'!$M$54:$M$60,ROWS($A$126:E133))=\"\",\"\",INDEX('J_Transferred GHG'!$M$54:$M$60,ROWS($A$126:E133))))","v":""},null,null,null,null,null,null,null,null,null,null,null,null,null,null,null,null,null,null,null,null,null,null,null,null,null,null,null,null,null,null,null,null,null,null,null,null,null,null,null,null,null,null,null,null,null,null,null,null,null,null,null,null,null,null,null,null,null,null,null,null,null,null,null,null,null,null,null,null,null,null,null,null,null,null,null,null,null,null,null,null,null,{"$f":"INDEX('J_Transferred GHG'!$A$54:$A$64,ROWS($CI$126:CI133))=\"ausblenden\"","v":false}]
[null,{"$f":"IF(OR(B133=\"\",CK134),\"\",I_PFC!D73)","v":""},{"$f":"IF($B134=\"\",\"\",IF(INDEX('J_Transferred GHG'!$F$54:$F$60,ROWS($A$126:A134))=\"\",\"\",INDEX('J_Transferred GHG'!$F$54:$F$60,ROWS($A$126:A134))))","v":""},{"$f":"IF($B134=\"\",\"\",IF(INDEX('J_Transferred GHG'!$H$54:$H$60,ROWS($A$126:B134))=\"\",\"\",INDEX('J_Transferred GHG'!$H$54:$H$60,ROWS($A$126:B134))))","v":""},{"$f":"IF($B134=\"\",\"\",IF(INDEX('J_Transferred GHG'!$J$54:$J$60,ROWS($A$126:C134))=\"\",\"\",INDEX('J_Transferred GHG'!$J$54:$J$60,ROWS($A$126:C134))))","v":""},{"$f":"IF($B134=\"\",\"\",IF(INDEX('J_Transferred GHG'!$K$54:$K$60,ROWS($A$126:D134))=\"\",\"\",INDEX('J_Transferred GHG'!$K$54:$K$60,ROWS($A$126:D134))))","v":""},{"$f":"IF($B134=\"\",\"\",IF(INDEX('J_Transferred GHG'!$M$54:$M$60,ROWS($A$126:E134))=\"\",\"\",INDEX('J_Transferred GHG'!$M$54:$M$60,ROWS($A$126:E134))))","v":""},null,null,null,null,null,null,null,null,null,null,null,null,null,null,null,null,null,null,null,null,null,null,null,null,null,null,null,null,null,null,null,null,null,null,null,null,null,null,null,null,null,null,null,null,null,null,null,null,null,null,null,null,null,null,null,null,null,null,null,null,null,null,null,null,null,null,null,null,null,null,null,null,null,null,null,null,null,null,null,null,null,{"$f":"INDEX('J_Transferred GHG'!$A$54:$A$64,ROWS($CI$126:CI134))=\"ausblenden\"","v":false}]
[null,{"$f":"IF(OR(B134=\"\",CK135),\"\",I_PFC!D74)","v":""},{"$f":"IF($B135=\"\",\"\",IF(INDEX('J_Transferred GHG'!$F$54:$F$60,ROWS($A$126:A135))=\"\",\"\",INDEX('J_Transferred GHG'!$F$54:$F$60,ROWS($A$126:A135))))","v":""},{"$f":"IF($B135=\"\",\"\",IF(INDEX('J_Transferred GHG'!$H$54:$H$60,ROWS($A$126:B135))=\"\",\"\",INDEX('J_Transferred GHG'!$H$54:$H$60,ROWS($A$126:B135))))","v":""},{"$f":"IF($B135=\"\",\"\",IF(INDEX('J_Transferred GHG'!$J$54:$J$60,ROWS($A$126:C135))=\"\",\"\",INDEX('J_Transferred GHG'!$J$54:$J$60,ROWS($A$126:C135))))","v":""},{"$f":"IF($B135=\"\",\"\",IF(INDEX('J_Transferred GHG'!$K$54:$K$60,ROWS($A$126:D135))=\"\",\"\",INDEX('J_Transferred GHG'!$K$54:$K$60,ROWS($A$126:D135))))","v":""},{"$f":"IF($B135=\"\",\"\",IF(INDEX('J_Transferred GHG'!$M$54:$M$60,ROWS($A$126:E135))=\"\",\"\",INDEX('J_Transferred GHG'!$M$54:$M$60,ROWS($A$126:E135))))","v":""},null,null,null,null,null,null,null,null,null,null,null,null,null,null,null,null,null,null,null,null,null,null,null,null,null,null,null,null,null,null,null,null,null,null,null,null,null,null,null,null,null,null,null,null,null,null,null,null,null,null,null,null,null,null,null,null,null,null,null,null,null,null,null,null,null,null,null,null,null,null,null,null,null,null,null,null,null,null,null,null,null,{"$f":"INDEX('J_Transferred GHG'!$A$54:$A$64,ROWS($CI$126:CI135))=\"ausblenden\"","v":false}]

{"sheet":"UBA_Parameters","index":16,"n_rows":31,"n_cols":11,"rows_kept":31,"cut":false,"hidden":true,"merged":[[32,3,32,4],[22,3,22,4],[24,3,24,4],[26,3,26,4],[30,3,30,4],[2,1,4,1],[8,3,8,4],[10,3,10,4],[28,3,28,4],[12,3,12,4],[2,5,2,8],[18,3,18,4],[20,3,20,4],[2,10,4,10],[2,3,2,4],[4,3,4,4],[2,9,4,9],[14,3,14,4],[16,3,16,4],[6,3,6,4]]}
["Please be aware that these parameters are used by the macros. Do NOT make any changes to this page!"]
[]
[null,"ID",null,"RefColumn",null,"HelpAreaColumn",null,null,null,"Anchor name","Further macros attached"]
[null,null,null,"ColumnStart","ColumnEnd","Column","Column","Column","Column"]
[null,null,"# of lines","# of lines",null,"# of lines","# of lines","# of lines","# of lines"]
[null,"AddEmissionSource",1,"E","E","T","V","W",null,"ADD_EmissionSource"]
[null,null,null,1,null,1,1,1]
[null,"AddEmissionPoint",1,"E","E","T","V","W",null,"ADD_EmissionPoint"]
[null,null,null,1,null,1,1,1]
[null,"AddMeasurementPoint",1,"E","E","T","V","W",null,"ADD_MeasurementPoint","ADD_CompleteMeasurementPoint"]
[null,null,null,1,null,1,1,1]
[null,"AddSourceStream",1,"E","E","T","V","W",null,"ADD_SourceStream","ADD_CompleteSourceStream"]
[null,null,null,1,null,1,1,1]
[null,"AddAluSourceStream",1,null,null,"S",null,null,null,"ADD_AluSourceStream","ADD_CompleteAluSourceStream"]
[null,null,null,null,null,1]
[null,"AddActivitiesExcluded",1,"A","A",null,null,null,null,"ADD_ActivitiesExcluded"]
[null,null,null,1]
[null,"AddMPVersion",1,"A","A",null,null,null,null,"ADD_MPVersion"]
[null,null,null,1]
[null,"AddInformationSources",1,"E","E","T","V","W",null,"ADD_InformationSources"]
[null,null,null,1,null,1,1,1]
[null,"AddLaboratories",1,"E","E","T","V","W",null,"ADD_Laboratories"]
[null,null,null,1,null,1,1,1]
[null,"AddMeasuringInstrSheetD",2,"E","E","R","S","T","V","ADD_MeasurementInstrument"]
[null,null,null,2,null,1,2,2,1]
[null,"AddMeasuringInstrSheetF",2,"C","D","R","S","T","V","ADD_MeasurementInstrument"]
[null,null,null,2,null,1,2,2,1]
[null,"AddTransferCO2Installations",1,"E","E",null,null,null,null,"ADD_TransferCO2Installations"]
[null,null,null,1]
[null,"AddPipelineDevices",1,"E","E",null,null,null,null,"ADD_PipelineDevice"]
[null,null,null,1]

{"sheet":"MSParameters","index":17,"n_rows":319,"n_cols":38,"rows_kept":319,"cut":false,"hidden":true,"merged":[]}
[]
["MS are free to use this sheet"]
[]
[null,"MSPara_Brennstoffe",null,null,"Name optional?",null,null,"MSPara_ProzMB",null,null,"Name optional?"]
[1,"Erdgas",null,null,true,null,1,"Erdgas",null,null,true]
[2,"Flüssiggas",null,null,true,null,2,"Flüssiggas",null,null,true]
[3,"Heizöl extra leicht",null,null,true,null,3,"Heizöl extra leicht",null,null,true]
[4,"Heizöl leicht",null,null,true,null,4,"Heizöl leicht",null,null,true]
[5,"Heizöl mittel",null,null,true,null,5,"Heizöl mittel",null,null,true]
[6,"Heizöl schwer",null,null,true,null,6,"Heizöl schwer",null,null,true]
[7,"Diesel (f. stationäre Anlagen)",null,null,true,null,7,"Diesel (f. stationäre Anlagen)",null,null,true]
[8,"Steinkohle",null,null,true,null,8,"Steinkohle",null,null,true]
[9,"Braunkohle",null,null,true,null,9,"Braunkohle",null,null,true]
[10,"Braunkohlebriketts",null,null,true,null,10,"Braunkohlebriketts",null,null,true]
[11,"Koks",null,null,true,null,11,"Koks",null,null,true]
[12,"Petrolkoks",null,null,true,null,12,"Petrolkoks",null,null,true]
[13,"Kommunaler und gewerblicher Abfall",null,null,false,null,13,"Erze",null,null,false]
[14,"Industrieller Abfall",null,null,false,null,14,"sonstige Reduktionsmittel",null,null,false]
[15,"gewerblicher Klärschlamm",null,null,false,null,15,"Zuschlagstoffe",null,null,false]
[16,"kommunaler Klärschlamm",null,null,false,null,16,"Schrott, Roheisen",null,null,false]
[17,"Brennholz (Scheitholz)",null,null,false,null,17,"Schlacken, Stäube",null,null,false]
[18,"Holzabfälle",null,null,false,null,18,"Kokereiprodukte",null,null,false]
[19,"Sonstige feste biogene Brennstoffe",null,null,false,null,19,"sonstige fl. und feste Stoffe",null,null,false]
[20,"Ablauge",null,null,false,null,20,"Kuppelgase",null,null,false]
[21,"Sonstige flüssige biogene Brennstoffe",null,null,false,null,21,"sonstige Gase",null,null,false]
[22,"Turbinendestillat",null,null,false,null,22,"Kalkstein",null,null,true]
[23,"Sonstige Produkte d. Erdölverarbeitung",null,null,false,null,23,"Sonstige Karbonate",null,null,false]
[24,"Sonstige feste oder flüssige Brennstoffe",null,null,false,null,24,"Gips",null,null,true]
[25,"Raffineriegas",null,null,false,null,25,"Rohmehl",null,null,true]
[26,"Biogas",null,null,false,null,26,"Zementklinker",null,null,true]
[27,"Klärgas",null,null,false,null,27,"Produkte",null,null,false]
[28,"Deponiegas",null,null,false,null,28,"Bypass-Staub",null,null,true]
[29,"Sonstige gasförmige Brennstoffe",null,null,false,null,29,"Bypass-Mehl",null,null,true]
[null,null,null,null,null,null,30,"Flugasche",null,null,true]
[null,null,null,null,null,null,31,"Sonstige kohlenstoffhältige Materialien",null,null,false]
[null,null,null,null,null,null,32,"Rohmagnesit",null,null,true]
[null,null,null,null,null,null,33,"Branntkalk",null,null,true]
[null,null,null,null,null,null,34,"Magnesia",null,null,true]
[null,null,null,null,null,null,35,"Ofenstaub",null,null,true]
[null,null,null,null,null,null,36,"Soda",null,null,true]
[null,null,null,null,null,null,37,"Dolomit",null,null,true]
[null,null,null,null,null,null,38,"Kalk",null,null,true]
[null,null,null,null,null,null,39,"Pottasche",null,null,true]
[null,null,null,null,null,null,40,"Ton/Lehm",null,null,true]
[null,null,null,null,null,null,41,"Ziegel",null,null,false]
[null,null,null,null,null,null,43,"Sonstige Chemikalien",null,null,false]
[null,null,null,null,null,null,44,"Einsatzstoffe",null,null,false]
[null,null,null,null,null,null,45,"Sonstiges",null,null,false]
[null,null,null,null,null,null,46,"Sonstige Produkte",null,null,false]
[]
["Source stream category list for each source stream type"]
["Bitte beachten Sie: Bei Änderungen dieser Liste durch die zuständige Behörde des Mitgliedstaats sind die folgenden technischen Einzelheiten zu beachten:",null,null,null,null,null,null,null,null,null,null,null,null,null,"Name dieses Blattes:",{"$f":"IF(ISERROR(CELL(\"filename\",Q52)),\"MSParameters\",MID(CELL(\"filename\",Q52),FIND(\"]\",CELL(\"filename\",Q52))+1,1024))","v":"MSParameters"}]
["Für jeden in Abschnitt 6(e) ausgewählten „Stoffstromtyp“ enthält die entsprechende Zeile im Bereich \"MSPara_KategorieMatrix\" die Brennstoffe und Materialien, die dann im selben Abschnitt unter „Stoffstromkategorie“ ausgewählt werden können."]
["1. Es sollten nur Zellen im  Bereich \"MSPara_KategorieMatrix\" darunter geändert werden. Im  Bereich \"MSPara_KategorieMatrix\" sollten keine leeren Zellen enthalten sein (sonst kann der Anlagenbetreiber Werte eingeben, die nicht in der Liste enthalten sind)",null,null,null,null,null,null,null,null,null,null,null,"CHECK, ob leere Zellen vorhanden sind:",null,null,{"$f":"IF(COUNTIF(MSPara_KategorieMatrix,\"\")>0,\"Incomplete!\",\"\")","v":""}]
["2. Wenn die Liste zu kurz ist, können Zellen, die „n.r.“ enthalten, durch zusätzliche Brennstoffe oder Materialien ersetzt werden."]
["3. Als letzter Schritt sollte geprüft werden, ob der Eingabebereich mit dem definierten Namen identisch ist: MSPara_KategorieMatrix"]
[]
[]
[]
[null,null,null,null,null,null,"MSPara_Kategorie","MSPara_KategorieAdresse",null,"MSPara_KategorieMatrix"]
[1,{"$f":"INDEX(EUConst_TierActivityListNames,A61)","v":"Verbrennung: Kommerzielle Standardbrennstoffe"},null,null,null,null,"MSPara_Brennstoffe",{"$f":"ADDRESS(ROW(),COLUMN(J61),,,$P$52)&\":\"&ADDRESS(ROW(),COLUMN(J61)+MAX(0,28-COUNTIF(J61:AL61,EUconst_NA)-COUNTIF(J61:AL61,\"\")))","v":"MSParameters!$J$61:$M$61"},null,"Erdgas","Heizöl extra leicht","Heizöl leicht","Diesel (nur stationäre Anlagen)","n.r.","n.r.","n.r.","n.r.","n.r.","n.r.","n.r.","n.r.","n.r.","n.r.","n.r.","n.r.","n.r.","n.r.","n.r.","n.r.","n.r.","n.r.","n.r.","n.r.","n.r.","n.r.","n.r.","n.r.","n.r."]
[2,"Verbrennung: Andere gasförmige und flüssige Brennstoffe",null,null,null,null,"MSPara_Brennstoffe","MSParameters!$J$62:$Y$62",null,"Flüssiggas","Heizöl mittel","Heizöl schwer","Diesel (f. stationäre Anlagen)","gewerblicher Klärschlamm","kommunaler Klärschlamm","Ablauge","Sonstige flüssige biogene Brennstoffe","Turbinendestillat","Sonstige Produkte d. Erdölverarbeitung","Sonstige feste oder flüssige Brennstoffe","Raffineriegas","Biogas","Klärgas","Deponiegas","Sonstige gasförmige Brennstoffe","n.r.","n.r.","n.r.","n.r.","n.r.","n.r.","n.r.","n.r.","n.r.","n.r.","n.r.","n.r.","n.r."]
[3,"Verbrennung: Feste Brennstoffe, ausgenommen Abfälle",null,null,null,null,"MSPara_Brennstoffe","MSParameters!$J$63:$W$63",null,"Steinkohle","Braunkohle","Braunkohlebriketts","Koks","Petrolkoks","Kommunaler und gewerblicher Abfall","Industrieller Abfall","gewerblicher Klärschlamm","kommunaler Klärschlamm","Brennholz (Scheitholz)","Holzabfälle","Sonstige feste biogene Brennstoffe","Sonstige Produkte d. Erdölverarbeitung","Sonstige feste oder flüssige Brennstoffe","n.r.","n.r.","n.r.","n.r.","n.r.","n.r.","n.r.","n.r.","n.r.","n.r.","n.r.","n.r.","n.r.","n.r.","n.r."]
[4,"Verbrennung: Abfall",null,null,null,null,"MSPara_Brennstoffe","MSParameters!$J$64:$K$64",null,"Kommunaler und gewerblicher Abfall","Industrieller Abfall","n.r.","n.r.","n.r.","n.r.","n.r.","n.r.","n.r.","n.r.","n.r.","n.r.","n.r.","n.r.","n.r.","n.r.","n.r.","n.r.","n.r.","n.r.","n.r.","n.r.","n.r.","n.r.","n.r.","n.r.","n.r.","n.r.","n.r."]
[5,"Verbrennung: Gasaufbereitungsstationen",null,null,null,null,"MSPara_ProzMB","MSParameters!$J$65:$X$65",null,"Erdgas","Flüssiggas","Heizöl extra leicht","Heizöl leicht","Heizöl mittel","Heizöl schwer","Diesel (f. stationäre Anlagen)","Steinkohle","Braunkohle","Braunkohlebriketts","Koks","Kokereiprodukte","sonstige fl. und feste Stoffe","Kuppelgase","sonstige Gase","n.r.","n.r.","n.r.","n.r.","n.r.","n.r.","n.r.","n.r.","n.r.","n.r.","n.r.","n.r.","n.r.","n.r."]
[6,"Verbrennung: Fackeln",null,null,null,null,"MSPara_Brennstoffe","MSParameters!$J$66:$Z$66",null,"Erdgas","Flüssiggas","Heizöl extra leicht","Heizöl leicht","Heizöl mittel","Heizöl schwer","Diesel (f. stationäre Anlagen)","Sonstige feste biogene Brennstoffe","Sonstige flüssige biogene Brennstoffe","Turbinendestillat","Sonstige Produkte d. Erdölverarbeitung","Sonstige feste oder flüssige Brennstoffe","Raffineriegas","Biogas","Klärgas","Deponiegas","Sonstige gasförmige Brennstoffe","n.r.","n.r.","n.r.","n.r.","n.r.","n.r.","n.r.","n.r.","n.r.","n.r.","n.r.","n.r."]
[7,"Verbrennung: Abgaswäsche (Karbonat)",null,null,null,null,"MSPara_ProzMB","MSParameters!$J$67:$K$67",null,"Kalkstein","Sonstige Karbonate","n.r.","n.r.","n.r.","n.r.","n.r.","n.r.","n.r.","n.r.","n.r.","n.r.","n.r.","n.r.","n.r.","n.r.","n.r.","n.r.","n.r.","n.r.","n.r.","n.r.","n.r.","n.r.","n.r.","n.r.","n.r.","n.r.","n.r."]
[8,"Verbrennung: Abgaswäsche (Gips)",null,null,null,null,"MSPara_ProzMB","MSParameters!$J$68:$J$68",null,"Gips","n.r.","n.r.","n.r.","n.r.","n.r.","n.r.","n.r.","n.r.","n.r.","n.r.","n.r.","n.r.","n.r.","n.r.","n.r.","n.r.","n.r.","n.r.","n.r.","n.r.","n.r.","n.r.","n.r.","n.r.","n.r.","n.r.","n.r.","n.r."]
[9,"Verbrennung: Abgaswäsche (Harnstoff)",null,null,null,null,"MSPara_ProzMB","MSParameters!$J$69:$J$69",null,"Harnstoff","n.r.","n.r.","n.r.","n.r.","n.r.","n.r.","n.r.","n.r.","n.r.","n.r.","n.r.","n.r.","n.r.","n.r.","n.r.","n.r.","n.r.","n.r.","n.r.","n.r.","n.r.","n.r.","n.r.","n.r.","n.r.","n.r.","n.r.","n.r."]
[10,"Raffinerien: Massenbilanz",null,null,null,null,"MSPara_ProzMB","MSParameters!$J$70:$AL$70",null,"Erdgas","Flüssiggas","Heizöl extra leicht","Heizöl leicht","Heizöl mittel","Heizöl schwer","Diesel (f. stationäre Anlagen)","Steinkohle","Braunkohle","Braunkohlebriketts","Koks","Petrolkoks","Kommunaler und gewerblicher Abfall","Industrieller Abfall","gewerblicher Klärschlamm","kommunaler Klärschlamm","Brennholz (Scheitholz)","Holzabfälle","Sonstige feste biogene Brennstoffe","Ablauge","Sonstige flüssige biogene Brennstoffe","Turbinendestillat","Sonstige Produkte d. Erdölverarbeitung","Sonstige feste oder flüssige Brennstoffe","Raffineriegas","Biogas","Klärgas","Deponiegas","Sonstige gasförmige Brennstoffe"]
[11,"Raffinerien: Regeneration von katalytischen Crackern",null,null,null,null,"MSPara_ProzMB","MSParameters!$J$71:$AL$71",null,"Erdgas","Flüssiggas","Heizöl extra leicht","Heizöl leicht","Heizöl mittel","Heizöl schwer","Diesel (f. stationäre Anlagen)","Steinkohle","Braunkohle","Braunkohlebriketts","Koks","Petrolkoks","Kommunaler und gewerblicher Abfall","Industrieller Abfall","gewerblicher Klärschlamm","kommunaler Klärschlamm","Brennholz (Scheitholz)","Holzabfälle","Sonstige feste biogene Brennstoffe","Ablauge","Sonstige flüssige biogene Brennstoffe","Turbinendestillat","Sonstige Produkte d. Erdölverarbeitung","Sonstige feste oder flüssige Brennstoffe","Raffineriegas","Biogas","Klärgas","Deponiegas","Sonstige gasförmige Brennstoffe"]
[12,"Raffinerien: Wasserstofferzeugung",null,null,null,null,{"$f":"EUconst_NA","v":"n.r."},"MSParameters!$J$72:$J$72",null,"n.r.","n.r.","n.r.","n.r.","n.r.","n.r.","n.r.","n.r.","n.r.","n.r.","n.r.","n.r.","n.r.","n.r.","n.r.","n.r.","n.r.","n.r.","n.r.","n.r.","n.r.","n.r.","n.r.","n.r.","n.r.","n.r.","n.r.","n.r.","n.r."]
[13,"Koks: Brennstoff als Prozess-Input",null,null,null,null,"MSPara_Brennstoffe","MSParameters!$J$73:$J$73",null,"n.r.","n.r.","n.r.","n.r.","n.r.","n.r.","n.r.","n.r.","n.r.","n.r.","n.r.","n.r.","n.r.","n.r.","n.r.","n.r.","n.r.","n.r.","n.r.","n.r.","n.r.","n.r.","n.r.","n.r.","n.r.","n.r.","n.r.","n.r.","n.r."]
[14,"Koks: Prozess (Methode A): nur Karbonat",null,null,null,null,"MSPara_ProzMB","MSParameters!$J$74:$J$74",null,"n.r.","n.r.","n.r.","n.r.","n.r.","n.r.","n.r.","n.r.","n.r.","n.r.","n.r.","n.r.","n.r.","n.r.","n.r.","n.r.","n.r.","n.r.","n.r.","n.r.","n.r.","n.r.","n.r.","n.r.","n.r.","n.r.","n.r.","n.r.","n.r."]
[15,"Koks: Prozess (Methode A): Gemisch (Karbonat + Nicht-Karbonat)",null,null,null,null,"MSPara_ProzMB","MSParameters!$J$75:$J$75",null,"n.r.","n.r.","n.r.","n.r.","n.r.","n.r.","n.r.","n.r.","n.r.","n.r.","n.r.","n.r.","n.r.","n.r.","n.r.","n.r.","n.r.","n.r.","n.r.","n.r.","n.r.","n.r.","n.r.","n.r.","n.r.","n.r.","n.r.","n.r.","n.r."]
[16,"Koks: Prozess (Methode A): Nicht-Karbonat",null,null,null,null,"MSPara_ProzMB","MSParameters!$J$76:$J$76",null,"n.r.","n.r.","n.r.","n.r.","n.r.","n.r.","n.r.","n.r.","n.r.","n.r.","n.r.","n.r.","n.r.","n.r.","n.r.","n.r.","n.r.","n.r.","n.r.","n.r.","n.r.","n.r.","n.r.","n.r.","n.r.","n.r.","n.r.","n.r.","n.r."]
[17,"Koks: Prozess (Methode B): Oxid-Output",null,null,null,null,"MSPara_ProzMB","MSParameters!$J$77:$J$77",null,"n.r.","n.r.","n.r.","n.r.","n.r.","n.r.","n.r.","n.r.","n.r.","n.r.","n.r.","n.r.","n.r.","n.r.","n.r.","n.r.","n.r.","n.r.","n.r.","n.r.","n.r.","n.r.","n.r.","n.r.","n.r.","n.r.","n.r.","n.r.","n.r."]
[18,"Koks: Massenbilanz",null,null,null,null,"MSPara_ProzMB","MSParameters!$J$78:$J$78",null,"n.r.","n.r.","n.r.","n.r.","n.r.","n.r.","n.r.","n.r.","n.r.","n.r.","n.r.","n.r.","n.r.","n.r.","n.r.","n.r.","n.r.","n.r.","n.r.","n.r.","n.r.","n.r.","n.r.","n.r.","n.r.","n.r.","n.r.","n.r.","n.r."]
[19,"Metallerz: Prozess (Methode A): nur Karbonat",null,null,null,null,"MSPara_ProzMB","MSParameters!$J$79:$L$79",null,"Kalkstein","Dolomit","Sonstige Carbonate","n.r.","n.r.","n.r.","n.r.","n.r.","n.r.","n.r.","n.r.","n.r.","n.r.","n.r.","n.r.","n.r.","n.r.","n.r.","n.r.","n.r.","n.r.","n.r.","n.r.","n.r.","n.r.","n.r.","n.r.","n.r.","n.r."]
[20,"Metallerz: Prozess (Methode A): Gemisch (Karbonat + Nicht-Karbonat)",null,null,null,null,"MSPara_ProzMB","MSParameters!$J$80:$J$80",null,"n.r.","n.r.","n.r.","n.r.","n.r.","n.r.","n.r.","n.r.","n.r.","n.r.","n.r.","n.r.","n.r.","n.r.","n.r.","n.r.","n.r.","n.r.","n.r.","n.r.","n.r.","n.r.","n.r.","n.r.","n.r.","n.r.","n.r.","n.r.","n.r."]
[21,"Metallerz: Prozess (Methode A): Nicht-Karbonat",null,null,null,null,"MSPara_ProzMB","MSParameters!$J$81:$J$81",null,"n.r.","n.r.","n.r.","n.r.","n.r.","n.r.","n.r.","n.r.","n.r.","n.r.","n.r.","n.r.","n.r.","n.r.","n.r.","n.r.","n.r.","n.r.","n.r.","n.r.","n.r.","n.r.","n.r.","n.r.","n.r.","n.r.","n.r.","n.r.","n.r."]
[22,"Metallerz: Prozess (Methode B): Oxid-Output",null,null,null,null,"MSPara_ProzMB","MSParameters!$J$82:$J$82",null,"n.r.","n.r.","n.r.","n.r.","n.r.","n.r.","n.r.","n.r.","n.r.","n.r.","n.r.","n.r.","n.r.","n.r.","n.r.","n.r.","n.r.","n.r.","n.r.","n.r.","n.r.","n.r.","n.r.","n.r.","n.r.","n.r.","n.r.","n.r.","n.r."]
[23,"Metallerz: Massenbilanz",null,null,null,null,"MSPara_ProzMB","MSParameters!$J$83:$J$83",null,"n.r.","n.r.","n.r.","n.r.","n.r.","n.r.","n.r.","n.r.","n.r.","n.r.","n.r.","n.r.","n.r.","n.r.","n.r.","n.r.","n.r.","n.r.","n.r.","n.r.","n.r.","n.r.","n.r.","n.r.","n.r.","n.r.","n.r.","n.r.","n.r."]
[24,"Eisen und Stahl: Brennstoff als Prozess-Input",null,null,null,null,"MSPara_Brennstoffe","MSParameters!$J$84:$AL$84",null,"Erdgas","Flüssiggas","Heizöl extra leicht","Heizöl leicht","Heizöl mittel","Heizöl schwer","Diesel (f. stationäre Anlagen)","Steinkohle","Braunkohle","Braunkohlebriketts","Koks","Petrolkoks","Kommunaler und gewerblicher Abfall","Industrieller Abfall","gewerblicher Klärschlamm","kommunaler Klärschlamm","Brennholz (Scheitholz)","Holzabfälle","Sonstige feste biogene Brennstoffe","Ablauge","Sonstige flüssige biogene Brennstoffe","Turbinendestillat","Sonstige Produkte d. Erdölverarbeitung","Sonstige feste oder flüssige Brennstoffe","Raffineriegas","Biogas","Klärgas","Deponiegas","Sonstige gasförmige Brennstoffe"]
[25,"Eisen und Stahl: Prozess (Methode A): nur Karbonat",null,null,null,null,"MSPara_ProzMB","MSParameters!$J$85:$L$85",null,"Kalkstein","Dolomit","Sonstige Carbonate","n.r.","n.r.","n.r.","n.r.","n.r.","n.r.","n.r.","n.r.","n.r.","n.r.","n.r.","n.r.","n.r.","n.r.","n.r.","n.r.","n.r.","n.r.","n.r.","n.r.","n.r.","n.r.","n.r.","n.r.","n.r.","n.r."]
[26,"Eisen und Stahl: Prozess (Methode A): Gemisch (Karbonat + Nicht-Karbonat)",null,null,null,null,"MSPara_ProzMB","MSParameters!$J$86:$J$86",null,"Sonstige gemischte Einsatzstoffe","n.r.","n.r.","n.r.","n.r.","n.r.","n.r.","n.r.","n.r.","n.r.","n.r.","n.r.","n.r.","n.r.","n.r.","n.r.","n.r.","n.r.","n.r.","n.r.","n.r.","n.r.","n.r.","n.r.","n.r.","n.r.","n.r.","n.r.","n.r."]
[27,"Eisen und Stahl: Prozess (Methode A): Nicht-Karbonat",null,null,null,null,"MSPara_ProzMB","MSParameters!$J$87:$J$87",null,"Sonstiges kohlenstoffhaltiges Material","n.r.","n.r.","n.r.","n.r.","n.r.","n.r.","n.r.","n.r.","n.r.","n.r.","n.r.","n.r.","n.r.","n.r.","n.r.","n.r.","n.r.","n.r.","n.r.","n.r.","n.r.","n.r.","n.r.","n.r.","n.r.","n.r.","n.r.","n.r."]
[28,"Eisen und Stahl: Prozess (Methode B): Oxid-Output",null,null,null,null,"MSPara_ProzMB","MSParameters!$J$88:$J$88",null,"n.r.","n.r.","n.r.","n.r.","n.r.","n.r.","n.r.","n.r.","n.r.","n.r.","n.r.","n.r.","n.r.","n.r.","n.r.","n.r.","n.r.","n.r.","n.r.","n.r.","n.r.","n.r.","n.r.","n.r.","n.r.","n.r.","n.r.","n.r.","n.r."]
[29,"Eisen und Stahl: Massenbilanz",null,null,null,null,"MSPara_ProzMB","MSParameters!$J$89:$AC$89",null,"Erdgas","Flüssiggas","Heizöl extra leicht","Heizöl leicht","Heizöl mittel","Heizöl schwer","Diesel (f. stationäre Anlagen)","Steinkohle","Braunkohle","Braunkohlebriketts","Koks","Erze","sonstige Reduktionsmittel","Zuschlagstoffe","Schrott, Roheisen","Schlacken, Stäube","Kokereiprodukte","sonstige fl. und feste Stoffe","Kuppelgase","sonstige Gase","n.r.","n.r.","n.r.","n.r.","n.r.","n.r.","n.r.","n.r.","n.r."]
[30,"Zementklinker: Ofen-Input-Betrachtung (Methode A)",null,null,null,null,"MSPara_ProzMB","MSParameters!$J$90:$O$90",null,"Rohmehl","Kalkstein","Flugasche","Harnstoff","Sonstige Karbonate","Sonstige Materialien","n.r.","n.r.","n.r.","n.r.","n.r.","n.r.","n.r.","n.r.","n.r.","n.r.","n.r.","n.r.","n.r.","n.r.","n.r.","n.r.","n.r.","n.r.","n.r.","n.r.","n.r.","n.r.","n.r."]
[31,"Zementklinker: Klinker-Output (Methode B)",null,null,null,null,"MSPara_ProzMB","MSParameters!$J$91:$K$91",null,"Zementklinker","Sonstige Produkte","n.r.","n.r.","n.r.","n.r.","n.r.","n.r.","n.r.","n.r.","n.r.","n.r.","n.r.","n.r.","n.r.","n.r.","n.r.","n.r.","n.r.","n.r.","n.r.","n.r.","n.r.","n.r.","n.r.","n.r.","n.r.","n.r.","n.r."]
[32,"Zementklinker: Zementofenstaub (CKD)",null,null,null,null,"MSPara_ProzMB","MSParameters!$J$92:$L$92",null,"Bypass-Staub","Bypass-Mehl","Sonstige Produkte","n.r.","n.r.","n.r.","n.r.","n.r.","n.r.","n.r.","n.r.","n.r.","n.r.","n.r.","n.r.","n.r.","n.r.","n.r.","n.r.","n.r.","n.r.","n.r.","n.r.","n.r.","n.r.","n.r.","n.r.","n.r.","n.r."]
[33,"Zementklinker: Nicht-karbonatischer Kohlenstoff",null,null,null,null,"MSPara_ProzMB",{"$f":"ADDRESS(ROW(),COLUMN(J93),,,$P$52)&\":\"&ADDRESS(ROW(),COLUMN(J93)+MAX(0,28-COUNTIF(J93:AL93,EUconst_NA)-COUNTIF(J93:AL93,\"\")))","v":"MSParameters!$J$93:$K$93"},null,"Flugasche","Sonstiges kohlenstoffhaltiges Material","n.r.","n.r.","n.r.","n.r.","n.r.","n.r.","n.r.","n.r.","n.r.","n.r.","n.r.","n.r.","n.r.","n.r.","n.r.","n.r.","n.r.","n.r.","n.r.","n.r.","n.r.","n.r.","n.r.","n.r.","n.r.","n.r.","n.r."]
[34,"Kalk / Dolomit / Magnesit: Prozess (Methode A): nur Karbonat",null,null,null,null,"MSPara_ProzMB","MSParameters!$J$94:$M$94",null,"Kalkstein","Rohmagnesit","Dolomit","Sonstige Carbonate","n.r.","n.r.","n.r.","n.r.","n.r.","n.r.","n.r.","n.r.","n.r.","n.r.","n.r.","n.r.","n.r.","n.r.","n.r.","n.r.","n.r.","n.r.","n.r.","n.r.","n.r.","n.r.","n.r.","n.r.","n.r."]
[35,"Kalk / Dolomit / Magnesit: Prozess (Methode A): Gemisch (Karbonat + Nicht-Karbonat)",null,null,null,null,"MSPara_ProzMB","MSParameters!$J$95:$M$95",null,"Kalkstein","Rohmagnesit","Dolomit","Sonstige gemischte Einsatzstoffe","n.r.","n.r.","n.r.","n.r.","n.r.","n.r.","n.r.","n.r.","n.r.","n.r.","n.r.","n.r.","n.r.","n.r.","n.r.","n.r.","n.r.","n.r.","n.r.","n.r.","n.r.","n.r.","n.r.","n.r.","n.r."]
[36,"Kalk / Dolomit / Magnesit: Prozess (Methode A): Nicht-Karbonat",null,null,null,null,"MSPara_ProzMB","MSParameters!$J$96:$M$96",null,"Kalkstein","Rohmagnesit","Dolomit","Sonstiges kohlenstoffhaltiges Material","n.r.","n.r.","n.r.","n.r.","n.r.","n.r.","n.r.","n.r.","n.r.","n.r.","n.r.","n.r.","n.r.","n.r.","n.r.","n.r.","n.r.","n.r.","n.r.","n.r.","n.r.","n.r.","n.r.","n.r.","n.r."]
[37,"Kalk / Dolomit / Magnesit: Prozess (Methode B): Oxid-Output",null,null,null,null,"MSPara_ProzMB","MSParameters!$J$97:$L$97",null,"Branntkalk","Magnesia","Sonstige Produkte","n.r.","n.r.","n.r.","n.r.","n.r.","n.r.","n.r.","n.r.","n.r.","n.r.","n.r.","n.r.","n.r.","n.r.","n.r.","n.r.","n.r.","n.r.","n.r.","n.r.","n.r.","n.r.","n.r.","n.r.","n.r.","n.r."]
[38,"Kalk / Dolomit / Magnesit: Ofenstaub (Methode B)",null,null,null,null,"MSPara_ProzMB","MSParameters!$J$98:$K$98",null,"Ofenstaub","Sonstige Produkte","n.r.","n.r.","n.r.","n.r.","n.r.","n.r.","n.r.","n.r.","n.r.","n.r.","n.r.","n.r.","n.r.","n.r.","n.r.","n.r.","n.r.","n.r.","n.r.","n.r.","n.r.","n.r.","n.r.","n.r.","n.r.","n.r.","n.r."]
[39,"Glas und Mineralwolle: Prozess (Methode A): nur Karbonat",null,null,null,null,"MSPara_ProzMB","MSParameters!$J$99:$O$99",null,"Soda","Dolomit","Kalkstein","Pottasche","Koksmehl","Sonstige Carbonate","n.r.","n.r.","n.r.","n.r.","n.r.","n.r.","n.r.","n.r.","n.r.","n.r.","n.r.","n.r.","n.r.","n.r.","n.r.","n.r.","n.r.","n.r.","n.r.","n.r.","n.r.","n.r.","n.r."]
[40,"Glas und Mineralwolle: Prozess (Methode A): Gemisch (Karbonat + Nicht-Karbonat)",null,null,null,null,"MSPara_ProzMB","MSParameters!$J$100:$O$100",null,"Soda","Dolomit","Kalkstein","Pottasche","Koksmehl","Sonstige gemischte Einsatzstoffe","n.r.","n.r.","n.r.","n.r.","n.r.","n.r.","n.r.","n.r.","n.r.","n.r.","n.r.","n.r.","n.r.","n.r.","n.r.","n.r.","n.r.","n.r.","n.r.","n.r.","n.r.","n.r.","n.r."]
[41,"Glas und Mineralwolle: Prozess (Methode A): Nicht-Karbonat",null,null,null,null,"MSPara_ProzMB","MSParameters!$J$101:$O$101",null,"Soda","Dolomit","Kalkstein","Pottasche","Koksmehl","Sonstiges kohlenstoffhaltiges Material","n.r.","n.r.","n.r.","n.r.","n.r.","n.r.","n.r.","n.r.","n.r.","n.r.","n.r.","n.r.","n.r.","n.r.","n.r.","n.r.","n.r.","n.r.","n.r.","n.r.","n.r.","n.r.","n.r."]
[42,"Keramische Erzeugnisse: Prozess (Methode A): nur Karbonat",null,null,null,null,"MSPara_ProzMB","MSParameters!$J$102:$M$102",null,"Ton/Lehm","Porosierungsmittel","Gips","Sonstige Carbonate","n.r.","n.r.","n.r.","n.r.","n.r.","n.r.","n.r.","n.r.","n.r.","n.r.","n.r.","n.r.","n.r.","n.r.","n.r.","n.r.","n.r.","n.r.","n.r.","n.r.","n.r.","n.r.","n.r.","n.r.","n.r."]
[43,"Keramische Erzeugnisse: Prozess (Methode A): Gemisch (Karbonat + Nicht-Karbonat)",null,null,null,null,"MSPara_ProzMB","MSParameters!$J$103:$M$103",null,"Ton/Lehm","Porosierungsmittel","Gips","Sonstige gemischte Einsatzstoffe","n.r.","n.r.","n.r.","n.r.","n.r.","n.r.","n.r.","n.r.","n.r.","n.r.","n.r.","n.r.","n.r.","n.r.","n.r.","n.r.","n.r.","n.r.","n.r.","n.r.","n.r.","n.r.","n.r.","n.r.","n.r."]
[44,"Keramische Erzeugnisse: Prozess (Methode A): Nicht-Karbonat",null,null,null,null,"MSPara_ProzMB","MSParameters!$J$104:$M$104",null,"Ton/Lehm","Porosierungsmittel","Gips","Sonstiges kohlenstoffhaltiges Material","n.r.","n.r.","n.r.","n.r.","n.r.","n.r.","n.r.","n.r.","n.r.","n.r.","n.r.","n.r.","n.r.","n.r.","n.r.","n.r.","n.r.","n.r.","n.r.","n.r.","n.r.","n.r.","n.r.","n.r.","n.r."]
[45,"Keramische Erzeugnisse: Prozess (Methode B): Oxid-Output",null,null,null,null,"MSPara_ProzMB","MSParameters!$J$105:$J$105",null,"Ziegel","n.r.","n.r.","n.r.","n.r.","n.r.","n.r.","n.r.","n.r.","n.r.","n.r.","n.r.","n.r.","n.r.","n.r.","n.r.","n.r.","n.r.","n.r.","n.r.","n.r.","n.r.","n.r.","n.r.","n.r.","n.r.","n.r.","n.r.","n.r."]
[46,"Keramische Erzeugnisse: Abgaswäsche",null,null,null,null,"MSPara_ProzMB","MSParameters!$J$106:$L$106",null,"Kalkstein","Harnstoff","Sonstige Materialien","n.r.","n.r.","n.r.","n.r.","n.r.","n.r.","n.r.","n.r.","n.r.","n.r.","n.r.","n.r.","n.r.","n.r.","n.r.","n.r.","n.r.","n.r.","n.r.","n.r.","n.r.","n.r.","n.r.","n.r.","n.r.","n.r."]
[47,"Papier und Zellstoff: Ergänzungschemikalien",null,null,null,null,"MSPara_ProzMB","MSParameters!$J$107:$M$107",null,"Soda","Branntkalk","Dolomit","Sonstige Chemikalien","n.r.","n.r.","n.r.","n.r.","n.r.","n.r.","n.r.","n.r.","n.r.","n.r.","n.r.","n.r.","n.r.","n.r.","n.r.","n.r.","n.r.","n.r.","n.r.","n.r.","n.r.","n.r.","n.r.","n.r.","n.r."]
[48,"Industrieruß: Massenbilanzmethodik",null,null,null,null,"MSPara_ProzMB","MSParameters!$J$108:$AL$108",null,"Erdgas","Flüssiggas","Heizöl extra leicht","Heizöl leicht","Heizöl mittel","Heizöl schwer","Diesel (f. stationäre Anlagen)","Steinkohle","Braunkohle","Braunkohlebriketts","Koks","Petrolkoks","Kommunaler und gewerblicher Abfall","Industrieller Abfall","gewerblicher Klärschlamm","kommunaler Klärschlamm","Brennholz (Scheitholz)","Holzabfälle","Sonstige feste biogene Brennstoffe","Ablauge","Sonstige flüssige biogene Brennstoffe","Turbinendestillat","Sonstige Produkte d. Erdölverarbeitung","Sonstige feste oder flüssige Brennstoffe","Raffineriegas","Biogas","Klärgas","Deponiegas","Sonstige gasförmige Brennstoffe"]
[49,"Ammoniak: Brennstoff als Prozess-Input",null,null,null,null,"MSPara_Brennstoffe","MSParameters!$J$109:$AL$109",null,"Erdgas","Flüssiggas","Heizöl extra leicht","Heizöl leicht","Heizöl mittel","Heizöl schwer","Diesel (f. stationäre Anlagen)","Steinkohle","Braunkohle","Braunkohlebriketts","Koks","Petrolkoks","Kommunaler und gewerblicher Abfall","Industrieller Abfall","gewerblicher Klärschlamm","kommunaler Klärschlamm","Brennholz (Scheitholz)","Holzabfälle","Sonstige feste biogene Brennstoffe","Ablauge","Sonstige flüssige biogene Brennstoffe","Turbinendestillat","Sonstige Produkte d. Erdölverarbeitung","Sonstige feste oder flüssige Brennstoffe","Raffineriegas","Biogas","Klärgas","Deponiegas","Sonstige gasförmige Brennstoffe"]
[50,"Wasserstoff und Synthesegas: Brennstoff als Prozess-Input",null,null,null,null,"MSPara_Brennstoffe","MSParameters!$J$110:$AL$110",null,"Erdgas","Flüssiggas","Heizöl extra leicht","Heizöl leicht","Heizöl mittel","Heizöl schwer","Diesel (f. stationäre Anlagen)","Steinkohle","Braunkohle","Braunkohlebriketts","Koks","Petrolkoks","Kommunaler und gewerblicher Abfall","Industrieller Abfall","gewerblicher Klärschlamm","kommunaler Klärschlamm","Brennholz (Scheitholz)","Holzabfälle","Sonstige feste biogene Brennstoffe","Ablauge","Sonstige flüssige biogene Brennstoffe","Turbinendestillat","Sonstige Produkte d. Erdölverarbeitung","Sonstige feste oder flüssige Brennstoffe","Raffineriegas","Biogas","Klärgas","Deponiegas","Sonstige gasförmige Brennstoffe"]
[51,"Wasserstoff und Synthesegas: Massenbilanzmethodik",null,null,null,null,"MSPara_ProzMB","MSParameters!$J$111:$AL$111",null,"Erdgas","Flüssiggas","Heizöl extra leicht","Heizöl leicht","Heizöl mittel","Heizöl schwer","Diesel (f. stationäre Anlagen)","Steinkohle","Braunkohle","Braunkohlebriketts","Koks","Petrolkoks","Kommunaler und gewerblicher Abfall","Industrieller Abfall","gewerblicher Klärschlamm","kommunaler Klärschlamm","Brennholz (Scheitholz)","Holzabfälle","Sonstige feste biogene Brennstoffe","Ablauge","Sonstige flüssige biogene Brennstoffe","Turbinendestillat","Sonstige Produkte d. Erdölverarbeitung","Sonstige feste oder flüssige Brennstoffe","Raffineriegas","Biogas","Klärgas","Deponiegas","Sonstige gasförmige Brennstoffe"]
[52,"Organische Grundchemikalien: Massenbilanzmethodik",null,null,null,null,"MSPara_ProzMB","MSParameters!$J$112:$T$112",null,"Methanol","Formaldehyd","Ameisensäure","o-Xylol","Phthalsäureanhydrid","Butan","Maleinsäure","Maleinsäureanhydrid","Fumarsäure","Andere Inputs","Andere Outputs","n.r.","n.r.","n.r.","n.r.","n.r.","n.r.","n.r.","n.r.","n.r.","n.r.","n.r.","n.r.","n.r.","n.r.","n.r.","n.r.","n.r.","n.r."]
[53,"(Nicht)-Eisen, Sek.-Aluminium: Prozess (Methode A): nur Karbonat",null,null,null,null,"MSPara_ProzMB","MSParameters!$J$113:$K$113",null,"Schrott","Sonstige Carbonate","n.r.","n.r.","n.r.","n.r.","n.r.","n.r.","n.r.","n.r.","n.r.","n.r.","n.r.","n.r.","n.r.","n.r.","n.r.","n.r.","n.r.","n.r.","n.r.","n.r.","n.r.","n.r.","n.r.","n.r.","n.r.","n.r.","n.r."]
[54,"(Nicht)-Eisen, Sek.-Aluminium: Prozess (Methode A): Gemisch (Karbonat + Nicht-Karbonat)",null,null,null,null,"MSPara_ProzMB","MSParameters!$J$114:$K$114",null,"Schrott","Sonstige gemischte Einsatzstoffe","n.r.","n.r.","n.r.","n.r.","n.r.","n.r.","n.r.","n.r.","n.r.","n.r.","n.r.","n.r.","n.r.","n.r.","n.r.","n.r.","n.r.","n.r.","n.r.","n.r.","n.r.","n.r.","n.r.","n.r.","n.r.","n.r.","n.r."]
[55,"(Nicht)-Eisen, Sek.-Aluminium: Prozess (Methode A): Nicht-Karbonat",null,null,null,null,"MSPara_ProzMB","MSParameters!$J$115:$K$115",null,"Schrott","Sonstiges kohlenstoffhaltiges Material","n.r.","n.r.","n.r.","n.r.","n.r.","n.r.","n.r.","n.r.","n.r.","n.r.","n.r.","n.r.","n.r.","n.r.","n.r.","n.r.","n.r.","n.r.","n.r.","n.r.","n.r.","n.r.","n.r.","n.r.","n.r.","n.r.","n.r."]
[56,"(Nicht)-Eisen, Sek.-Aluminium: Prozess (Methode B): Oxid-Output",null,null,null,null,"MSPara_ProzMB","MSParameters!$J$116:$J$116",null,"n.r.","n.r.","n.r.","n.r.","n.r.","n.r.","n.r.","n.r.","n.r.","n.r.","n.r.","n.r.","n.r.","n.r.","n.r.","n.r.","n.r.","n.r.","n.r.","n.r.","n.r.","n.r.","n.r.","n.r.","n.r.","n.r.","n.r.","n.r.","n.r."]
[57,"(Nicht)-Eisen, Sek.-Aluminium: Massenbilanzmethodik",null,null,null,null,"MSPara_ProzMB","MSParameters!$J$117:$AC$117",null,"Erdgas","Flüssiggas","Heizöl extra leicht","Heizöl leicht","Heizöl mittel","Heizöl schwer","Diesel (f. stationäre Anlagen)","Steinkohle","Braunkohle","Braunkohlebriketts","Koks","Erze","sonstige Reduktionsmittel","Zuschlagstoffe","Schrott, Roheisen","Schlacken, Stäube","Kokereiprodukte","sonstige fl. und feste Stoffe","Kuppelgase","sonstige Gase","n.r.","n.r.","n.r.","n.r.","n.r.","n.r.","n.r.","n.r.","n.r."]
[58,"Soda / Natriumbicarbonat: Massenbilanzmethodik",null,null,null,null,"MSPara_ProzMB","MSParameters!$J$118:$AK$118",null,"Kalkstein","Soda","Sonstige kohlenstoffhältige Materialien","Erdgas","Flüssiggas","Heizöl extra leicht","Heizöl leicht","Heizöl mittel","Heizöl schwer","Diesel (f. stationäre Anlagen)","Steinkohle","Braunkohle","Koks","Petrolkoks","Kommunaler und gewerblicher Abfall","Industrieller Abfall","gewerblicher Klärschlamm","kommunaler Klärschlamm","Sonstige feste biogene Brennstoffe","Sonstige flüssige biogene Brennstoffe","Turbinendestillat","Sonstige Produkte d. Erdölverarbeitung","Sonstige feste oder flüssige Brennstoffe","Raffineriegas","Biogas","Klärgas","Deponiegas","Sonstige gasförmige Brennstoffe","n.r."]
[59,"Primäraluminium: Massenbilanzmethodik",null,null,null,null,{"$f":"EUconst_NA","v":"n.r."},"MSParameters!$J$119:$J$119",null,"n.r.","n.r.","n.r.","n.r.","n.r.","n.r.","n.r.","n.r.","n.r.","n.r.","n.r.","n.r.","n.r.","n.r.","n.r.","n.r.","n.r.","n.r.","n.r.","n.r.","n.r.","n.r.","n.r.","n.r.","n.r.","n.r.","n.r.","n.r.","n.r."]
[60,"Primäraluminium: PFC-Emissionen (Steigungsmethode)",null,null,null,null,"n.r.","MSParameters!$J$120:$J$120",null,"n.r.","n.r.","n.r.","n.r.","n.r.","n.r.","n.r.","n.r.","n.r.","n.r.","n.r.","n.r.","n.r.","n.r.","n.r.","n.r.","n.r.","n.r.","n.r.","n.r.","n.r.","n.r.","n.r.","n.r.","n.r.","n.r.","n.r.","n.r.","n.r."]
[61,"Primäraluminium: PFC-Emissionen (Überspannungsmethode)",null,null,null,null,"n.r.","MSParameters!$J$121:$J$121",null,"n.r.","n.r.","n.r.","n.r.","n.r.","n.r.","n.r.","n.r.","n.r.","n.r.","n.r.","n.r.","n.r.","n.r.","n.r.","n.r.","n.r.","n.r.","n.r.","n.r.","n.r.","n.r.","n.r.","n.r.","n.r.","n.r.","n.r.","n.r.","n.r."]
[62,"CCS: Abscheidung: Weitergeleitetes CO2",null,null,null,null,"n.r.","MSParameters!$J$122:$K$122",null,"Importiertes CO2","Exportiertes CO2","n.r.","n.r.","n.r.","n.r.","n.r.","n.r.","n.r.","n.r.","n.r.","n.r.","n.r.","n.r.","n.r.","n.r.","n.r.","n.r.","n.r.","n.r.","n.r.","n.r.","n.r.","n.r.","n.r.","n.r.","n.r.","n.r.","n.r."]
[63,"CCS: Transport: Weitergeleitetes CO2",null,null,null,null,"n.r.","MSParameters!$J$123:$K$123",null,"Importiertes CO2","Exportiertes CO2","n.r.","n.r.","n.r.","n.r.","n.r.","n.r.","n.r.","n.r.","n.r.","n.r.","n.r.","n.r.","n.r.","n.r.","n.r.","n.r.","n.r.","n.r.","n.r.","n.r.","n.r.","n.r.","n.r.","n.r.","n.r.","n.r.","n.r."]
[64,"CCS: Transport: CO2-Leckagen",null,null,null,null,"n.r.","MSParameters!$J$124:$J$124",null,{"$f":"EUwideConstants!D328","v":"CO2-Leckagen"},"n.r.","n.r.","n.r.","n.r.","n.r.","n.r.","n.r.","n.r.","n.r.","n.r.","n.r.","n.r.","n.r.","n.r.","n.r.","n.r.","n.r.","n.r.","n.r.","n.r.","n.r.","n.r.","n.r.","n.r.","n.r.","n.r.","n.r.","n.r."]
[65,{"$f":"INDEX(EUConst_TierActivityListNames,A125)","v":"CCS: Transport: CO2-Ablass"},null,null,null,null,"n.r.",{"$f":"ADDRESS(ROW(),COLUMN(J125),,,$P$52)&\":\"&ADDRESS(ROW(),COLUMN(J125)+MAX(0,28-COUNTIF(J125:AL125,EUconst_NA)-COUNTIF(J125:AL125,\"\")))","v":"MSParameters!$J$125:$J$125"},null,{"$f":"EUwideConstants!D329","v":"CO2-Ablass"},"n.r.","n.r.","n.r.","n.r.","n.r.","n.r.","n.r.","n.r.","n.r.","n.r.","n.r.","n.r.","n.r.","n.r.","n.r.","n.r.","n.r.","n.r.","n.r.","n.r.","n.r.","n.r.","n.r.","n.r.","n.r.","n.r.","n.r.","n.r."]
[66,"CCS: Transport: Diffuse CO2 Emissionen",null,null,null,null,"n.r.","MSParameters!$J$126:$J$126",null,{"$f":"EUwideConstants!D330","v":"Diffuse CO2 Emissionen"},"n.r.","n.r.","n.r.","n.r.","n.r.","n.r.","n.r.","n.r.","n.r.","n.r.","n.r.","n.r.","n.r.","n.r.","n.r.","n.r.","n.r.","n.r.","n.r.","n.r.","n.r.","n.r.","n.r.","n.r.","n.r.","n.r.","n.r.","n.r."]
[67,"CCS: Speicherung: Weitergeleitetes CO2",null,null,null,null,"n.r.","MSParameters!$J$127:$J$127",null,{"$f":"EUwideConstants!D331","v":"Weitergeleitetes CO2"},"n.r.","n.r.","n.r.","n.r.","n.r.","n.r.","n.r.","n.r.","n.r.","n.r.","n.r.","n.r.","n.r.","n.r.","n.r.","n.r.","n.r.","n.r.","n.r.","n.r.","n.r.","n.r.","n.r.","n.r.","n.r.","n.r.","n.r.","n.r."]
[68,"CCS: Speicherung: CO2-Ablass",null,null,null,null,"n.r.","MSParameters!$J$128:$J$128",null,{"$f":"EUwideConstants!D332","v":"CO2-Ablass"},"n.r.","n.r.","n.r.","n.r.","n.r.","n.r.","n.r.","n.r.","n.r.","n.r.","n.r.","n.r.","n.r.","n.r.","n.r.","n.r.","n.r.","n.r.","n.r.","n.r.","n.r.","n.r.","n.r.","n.r.","n.r.","n.r.","n.r.","n.r."]
[69,"CCS: Speicherung: CO2-Leckagen",null,null,null,null,"n.r.","MSParameters!$J$129:$J$129",null,{"$f":"EUwideConstants!D333","v":"CO2-Leckagen"},"n.r.","n.r.","n.r.","n.r.","n.r.","n.r.","n.r.","n.r.","n.r.","n.r.","n.r.","n.r.","n.r.","n.r.","n.r.","n.r.","n.r.","n.r.","n.r.","n.r.","n.r.","n.r.","n.r.","n.r.","n.r.","n.r.","n.r.","n.r."]
[70,"CCS: Speicherung: Diffuse CO2 Emissionen",null,null,null,null,"n.r.","MSParameters!$J$130:$J$130",null,{"$f":"EUwideConstants!D334","v":"Diffuse CO2 Emissionen"},"n.r.","n.r.","n.r.","n.r.","n.r.","n.r.","n.r.","n.r.","n.r.","n.r.","n.r.","n.r.","n.r.","n.r.","n.r.","n.r.","n.r.","n.r.","n.r.","n.r.","n.r.","n.r.","n.r.","n.r.","n.r.","n.r.","n.r.","n.r."]
[71,{"$f":"C_InstallationDescription!$G$350","v":""},null,null,null,null,"MSPara_ProzMB","MSParameters!$J$131:$K$131",null,"Material - CCU Inputs","Material - CCU Outputs","n.r.","n.r.","n.r.","n.r.","n.r.","n.r.","n.r.","n.r.","n.r.","n.r.","n.r.","n.r.","n.r.","n.r.","n.r.","n.r.","n.r.","n.r.","n.r.","n.r.","n.r.","n.r.","n.r.","n.r.","n.r.","n.r.","n.r."]
[]
[]
["NIM-Code","Anlagenname"]
["EEW001","Energie AG Kraftwerk Riedersbach"]
["EEW002","Energie AG Kraftwerk Timelkam II"]
["EEW004","EVN Kraftwerk Dürnrohr"]
["EEW006","EVN Kraftwerk Theiß"]
["EEW009","Verbund FHKW Mellach"]
["EEW016","Energie AG GuD Kraftwerk Timelkam"]
["EFE017","Energie AG HKW Kirchdorf"]
["EEW019","EVN FHKW Mödling"]
["EEW020","EVN Cogen Salzer St. Pölten"]
["EEW021","Linz Strom FHKW Mitte"]
["EEW023","Linz Strom FHKW Süd"]
["EEW024","Salzburg AG FHKW Mitte"]
["EEW025","Salzburg AG FHKW Nord"]
["EFE027","STW Klagenfurt FHKW Klagenfurt"]
["EEW028","Energie AG FHKW Wels"]
["EEW029","Wien Energie - KW Leopoldau"]
["EEW030","Wien Energie - KW Donaustadt"]
["EEW031","Wien Energie - KW Simmering 3"]
["EFE032","EVN FHW Baden"]
["EFE033","EVN FHW Palmers Wr. Neudorf"]
["EFE034","EVN FHKW Wr. Neustadt"]
["EFE037","Energie Steiermark - FHKW Graz"]
["EFE038","Energie Steiermark - FHKW Thondorf"]
["EFE039","Kelag Wärme St. Magdalen"]
["EFE040","Fernwärme St. Pölten GmbH - FHKW Nord"]
["EFE041","Fernwärme St. Pölten GmbH - FHKW Süd"]
["EFE042","Wien Energie - FHKW Spittelau"]
["EFE043","Wien Energie - FHKW Süd Inzersdorf"]
["EFE044","Wien Energie - FHKW Kagran"]
["EFE045","Wien Energie - FW Leopoldau"]
["EFE047","Bioenergie Kufstein"]
["EFE048","Energie Steiermark - FWZ Voitsberg"]
["EFE052","Kelag Wärme Prolactal Hartberg"]
["EFE056","Kelag Wärme Linz Bindermichl"]
["EFE057","Energie Klagenfurt GmbH Heizwerk Süd"]
["EFE058","TIWAG - Lienz"]
["EMV060","OMV AUT Gasstation Aderklaa I"]
["EMV061","OMV Raffinerie Schwechat"]
["IVA062","Voestalpine Stahl Linz"]
["IVA065","voestalpine Stahl Donawitz GmbH"]
["IES067","Stahlproduktion Böhler Edelstahl Kapfenberg"]
["IES069","Breitenfelder Edelstahl Mitterdorf"]
["IES070","Stahlwerk Marienhütte GmbH"]
["IZE071","Schretter & Cie (Zement) Vils"]
["IZE072","Holcim Mannersdorf"]
["IZE073","Holcim Retznei"]
["IZE074","Kirchdorfer Zementwerk Hofmann GmbH"]
["IZE076","Alpacem Zement Wietersdorf"]
["IZE077","Rohrdorfer Zement Gmunden"]
["IZE078","Leube Zement GmbH - Zementwerk"]
["IPA079","Papierfabrik Wattens"]
["IPA080","Essity Ortmann"]
["IPA081","Rondo Ganahl Frastanz"]
["IPA082","Papierfabrik Hamburger Pitten"]
["IPA083","Mondi Neusiedler Hausmening"]
["IPA084","Mondi Neusiedler Kematen"]
["IPA085","Mondi Neusiedler Zellstoff Kematen"]
["IPA086","Frantschach St. Gertraud"]
["IPA087","Heinzel Steyrermühl"]
["IPA088","Sappi Gratkorn"]
["IPA089","Austrocel Hallein GmbH"]
["IPA090","Smurfit Westrock Nettingsdorf "]
["IPA091","Norske Skog Bruck GmbH"]
["IPA092","Mayr Melnhof Karton Frohnleiten"]
["IPA094","Brigl & Bergmeister Niklasdorf"]
["IPA096","Feinpapier Feurstein Traun"]
["IPA098","Merckens Karton- und Pappenfabrik GmbH"]
["IPA100","Profümed GmbH - Grimmenstein"]
["IPA101","Laakirchen Papier AG"]
["IPA102","CMOÖ GuD Anlage Laakirchen"]
["IPA103","Zellstoff Pöls"]
["ICH106","Novartis Werk Kundl"]
["ICH107","Jungbunzlauer Wulzeshofen"]
["ICH108","KremsChem Austria"]
["ICH109","Borealis Schwechat"]
["ICH110","IPE - Ebensee"]
["ICH113","FunderMax Wr. Neudorf"]
["ICH114","LAT Nitrogen Linz GmbH"]
["ICH116","Lenzing Fibers GmbH"]
["ICH117","Lenzing AG - Energieanlagen"]
["IKA118","Profibaustoffe Austria - Ernstbrunn"]
["IKA119","Calmit Bad Ischl"]
["IKA120","voestalpine Stahl GmbH - Kalkwerk Steyrling"]
["IKA121","Kalkwerk Wopfing"]
["IKA122","InterCal Austria - Kalkwerk Peggau"]
["IKA123","Schretter & Cie (Kalk) Vils"]
["IKA124","Leube Zement GmbH - Kalkwerk"]
["IFE125","Veitsch-Radex Radenthein"]
["IFE126","Veitsch-Radex Hochfilzen"]
["IFE128","Veitsch-Radex Veitsch"]
["IFE129","Aug. Rath jun. GmbH"]
["IFE130","Veitsch-Radex Breitenau"]
["IZI131","Wienerberger Gleinstätten"]
["IZI132","Wienerberger Hennersdorf"]
["IZI133","Wienerberger Krengelbach Haiding"]
["IZI138","Wienerberger Göllersdorf"]
["IZI139","Wienerberger Pinkafeld"]
["IZI140","Wienerberger Uttendorf"]
["IZI143","Ziegelwerk Eder Peuerbach Bruck"]
["IZI144","Ziegelwerk Eder Weibern"]
["IZI145","Ziegelwerk Pichler Wels"]
["IZI149","Leitl Spannton GmbH"]
["IZI150","Martin Pichler Ziegelwerk GmbH"]
["IZI151","Wienerberger St. Andrä"]
["IZI152","Ziegelwerk Lizzi Erlach"]
["IZI153","Ziegelwerk Pichler Neuhofen"]
["IZI155","Ziegelwerk Danreiter Ried im Innkreis"]
["IZI156","Senftenbacher Ziegelwerk"]
["IZI157","Comelli Ziegel Kirchbach-Maxendorf"]
["IZI159","Ziegelwerk Rhomberg-Dornbirn"]
["ILE161","AGRANA Tulln"]
["ILE163","AGRANA Leopoldsdorf"]
["ILE165","AGRANA Aschach"]
["ILE166","AGRANA Gmünd"]
["IGL172","Vetropack Kremsmünster"]
["IGL173","Vetropack Pöchlarn"]
["IGL174","Technoglas Voitsberg"]
["IGL176","Stölzle-Oberglas Köflach"]
["IGL179","Swarovski Wattens"]
["IHO182","FunderMax St. Veit"]
["IHO184","Fritz Egger St. Johann Tirol"]
["IHO185","Fritz Egger Wörgl"]
["IHO186","Fritz Egger Unterradlberg"]
["IHO189","FunderMax Neudörfl"]
["IHO192","Kaindl Holzindustrie Wals"]
["IMS196","BMW Motoren Steyr"]
["IMS199","Constantia Teich GmbH - Weinburg"]
["IMS200","ENERGIE-Contracting Steyr GmbH"]
["IZI201","Lias Fehring"]
["IZE202","Zementwerk Wopfing"]
["EEW210","Verbund GDK-Mellach"]
["ILE211","AGRANA Pischelsdorf"]
["EVS212","Trans Austria Gasleitung - Baumgarten"]
["EVS213","Trans Austria Gasleitung - Grafendorf"]
["EVS214","Trans Austria Gasleitung - Ruden"]
["EVS215","Gas Connect Austria - WAG Baumgarten"]
["EVS216","Trans Austria Gasleitung - Eggendorf"]
["EVS217","Trans Austria Gasleitung - Weitendorf"]
["EVS218","Gas Connect Austria - WAG Kirchberg"]
["EVS219","Gas Connect Austria - WAG Rainbach"]
["EVS221","OMV Gas-Speicher - Schönkirchen-Reyersdorf"]
["EVS222","RAG Erdgasspeicheranlage Puchkirchen"]
["EVS223","RAG Erdgasspeicheranlage Haidach"]
["ICH226","LAT Nitrogen Linz Ammoniakanlage"]
["ICH227","LAT Nitrogen Linz Salpetersäureanlage"]
["EVS228","OMV AUT - Kompressorstation Auersthal"]
["EEW231","Wien Energie - KW Simmering 1+2"]
["IVA257","voestalpine Rail Technology GmbH"]
["IVA258","voestalpine Wire Rod Austria GmbH"]
["IVA259","voestalpine Tubulars GmbH & Co KG"]
["ICH264","Atmosa Petrochemie Schwechat PSA Anlage"]
["INE265","AMAG rolling GmbH"]
["INE266","AMAG casting GmbH"]
["INE269","Montanwerke Brixlegg AG"]
["ISA271","Saint-Gobain Austria - Bad Aussee"]
["ISA272","Saint-Gobain Rigips Austria Puchberg"]
["ISA273","Knauf Werk Weißenbach"]
["IES285","voestalpine Böhler Bleche - Hönigsberg"]
["IPA286","Lenzing Papier GmbH"]
["IES288","voestalpine Böhler Aerospace"]
["ILE291","Bunge Bruck"]
["IFE292","Styromagnesit Steirische Magnesitindustrie GmbH"]
["EFE293","Biomasseheizkraftwerk Hall in Tirol"]
["EVS294","RAG Erdgasspeicheranlage 7Fields - Nussdorf"]
["EFE297","EVN Biomassefernheizwerk Mittleres Schwarzatal"]
["EFE299","Wien Energie - FHKW Arsenal 2"]
["ICH300","Aurorium Austria"]
["EFE301","TIWAG - Notfallheizwerk Lienz III"]
["EFE302","Energie Steiermark - GKA Werndorf"]
["ICH303","Boehringer Ingelheim Wien"]
["ICH305","Evonik Weißenstein"]
["EFE306","Wienenergie MVA Spittelau"]
["EFE307","Wienenergie MVA Flötzersteig"]
["EFE308","Norske Skog Bruck GmbH - Abfallverbrennung"]
["EFE309","WKU MVA Pfaffenau"]
["ISA310","Moldan Baustoffe GmbH Grabenmühle"]
["ISA311","Gipswerk Schretter & Cie GmbH "]
["EFE312","Energie AG US MVA Wels"]
["EFE313","EVN Abfallverwertungsanlage MVA Dürnrohr"]
["EFE314","Kärntner Restmüllverwertungs GmbH Arnoldstein"]
["EFE315","FCC Zistersdorf Abfall Service GmbH"]
["EFE316","RVL Reststoffverwertung Lenzing GmbH"]
["EFE317","Linz Strom RHKW Linz"]
["EFE318","ENAGES GmbH Niklasdorf"]
["IGL320","M. Swarovski GmbH - Neufurt"]

{"sheet":"EUwideConstants","index":18,"n_rows":823,"n_cols":44,"rows_kept":823,"cut":false,"hidden":true,"merged":[[228,4,228,8]]}
[]
["EUconst_TrueFalse",true,false]
["EUconst_Fuel",{"$f":"Translations!$B$441","v":"Standardmethodik: Brennstoff, Artikel 24 Absatz 1"}]
["EUconst_ProcessCarbonate",{"$f":"Translations!$B$783","v":"Standardmethodik: Prozess, Artikel 24 Absatz 2"}]
["EUconst_MassBalance",{"$f":"Translations!$B$784","v":"Massenbilanzmethodik, Artikel 25"}]
["EUconst_CNTR_ActivityData","ActivityData_"]
["EUconst_CNTR_NCV","NCV_"]
["EUconst_CNTR_EF","EF_"]
["EUconst_CNTR_CarbonContent","CarbC_"]
["EUconst_CNTR_BiomassContent","BioC_"]
["EUconst_CNTR_OxidationFactor","OxF_"]
["EUconst_CNTR_ConversionFactor","ConvF_"]
["EUconst_CNTR_SourceCategory","SourceCategory_"]
["EUconst_CNTR_SourceStreamName","SourceStreamName_"]
["EUconst_CNTR_SourceStreamClass","SourceStreamClass_"]
["EUconst_CNTR_SmallEmitter","SmallEmitter_"]
["EUconst_CNTR_NoSmallEmitter","NoSmallEmitter_"]
["EUconst_CNTR_CEMS","CEMS_"]
["EUconst_MsgNextSheet",{"$f":"Translations!$B$785","v":"<<< Hier klicken, um mit nächstem Blatt fortzufahren >>> "}]
["EUconst_SourceStream",{"$f":"Translations!$B$786","v":"Stoffstrom"}]
["EUconst_MeasurementPoint",{"$f":"Translations!$B$787","v":"Messpunkt"}]
["EUconst_OwnerInstrument",{"$f":"Translations!$B$149","v":"Inhaber"},{"$f":"Translations!$B$788","v":"Handelspartner"}]
["EUconst_ActivityDeterminationMethod",{"$f":"Translations!$B$789","v":"Charge"},{"$f":"Translations!$B$457","v":"Kontinuierliche Messung"}]
["EUconst_FurtherGuidancePoint1",{"$f":"Translations!$B$790","v":"Eine ausführliche Anleitung zur Dateneingabe in diesem Modul finden Sie beim ersten Auftreten dieses Eingabeabschnitts. "}]
["EUconst_NA",{"$f":"Translations!$B$530","v":"n.r."}]
["EUconst_Relevant",{"$f":"Translations!$B$791","v":"Relevant"}]
["EUconst_NotRelevant",{"$f":"Translations!$B$792","v":"Nicht relevant"}]
["EUconst_NotApplicable",{"$f":"Translations!$B$793","v":"Nicht anwendbar!"}]
["EUconst_MsgTierActivityLevel",{"$f":"Translations!$B$794","v":"Unsicherheit darf nicht mehr betragen als"}]
["EUconst_MsgTierCKD",{"$f":"Translations!$B$795","v":"(n.r.; Verwendung eines auf Best-Practice beruhenden Schätzwerts)"}]
["EUconst_MsgNextSheet",{"$f":"Translations!$B$785","v":"<<< Hier klicken, um mit nächstem Blatt fortzufahren >>> "}]
["EUconst_MsgEnterThisSection",{"$f":"Translations!$B$796","v":"Bitte machen Sie Angaben in diesem Abschnitt"}]
["EUconst_MsgGoOn",{"$f":"Translations!$B$797","v":"Bitte fahren Sie mit den nachstehenden Punkten fort"}]
["EUconst_MsgSmallEmitters",{"$f":"Translations!$B$798","v":"Bitte geben Sie an, warum historische Daten nicht verfügbar oder nicht geeignet sind."}]
["EUconst_NoTier",{"$f":"Translations!$B$799","v":"Keine Ebene"}]
["EUconst_ERR_NoN2OSmallEmitters",{"$f":"Translations!$B$800","v":"Diese Regel gilt nicht für Anlagen mit N2O-Tätigkeiten!"}]
["EUconst_ERR_ThreshholdDeminimis",{"$f":"Translations!$B$801","v":"De-minimis-Schwellenwert überschritten!"}]
["EUconst_ERR_ThreshholdMinor",{"$f":"Translations!$B$802","v":"Schwellenwert für emissionsschwache Stoffströme überschritten!"}]
["EUconst_ERR_CheckEstimatedEmissions",{"$f":"Translations!$B$803","v":"Summe nicht innerhalb von 5 % der angegebenen Jahresemissionen\n(Abschnitt 6 Buchstabe c)!"}]
["Euconst_VersionTracking",{"$f":"Translations!$B$804","v":"Der zuständigen Behörde vorbehalten"},{"$f":"Translations!$B$805","v":"Vom Inhaber auszufüllen"}]
["EUconst_MSlist",{"$f":"Translations!$B$806","v":"Österreich"},{"$f":"Translations!$B$807","v":"Belgien"},{"$f":"Translations!$B$808","v":"Bulgarien"},{"$f":"Translations!$B$809","v":"Kroatien"},{"$f":"Translations!$B$810","v":"Zypern"},{"$f":"Translations!$B$811","v":"Tschechische Republik"},{"$f":"Translations!$B$812","v":"Dänemark"},{"$f":"Translations!$B$813","v":"Estland"},{"$f":"Translations!$B$814","v":"Finnland"},{"$f":"Translations!$B$815","v":"Frankreich"},{"$f":"Translations!$B$816","v":"Deutschland"},{"$f":"Translations!$B$817","v":"Griechenland"},{"$f":"Translations!$B$818","v":"Ungarn"},{"$f":"Translations!$B$819","v":"Island"},{"$f":"Translations!$B$820","v":"Irland"},{"$f":"Translations!$B$821","v":"Italien"},{"$f":"Translations!$B$822","v":"Lettland"},{"$f":"Translations!$B$823","v":"Liechtenstein"},{"$f":"Translations!$B$824","v":"Litauen"},{"$f":"Translations!$B$825","v":"Luxemburg"},{"$f":"Translations!$B$826","v":"Malta"},{"$f":"Translations!$B$827","v":"Niederlande"},{"$f":"Translations!$B$828","v":"Norwegen"},{"$f":"Translations!$B$829","v":"Polen"},{"$f":"Translations!$B$830","v":"Portugal"},{"$f":"Translations!$B$831","v":"Rumänien"},{"$f":"Translations!$B$832","v":"Slowakei"},{"$f":"Translations!$B$833","v":"Slowenien"},{"$f":"Translations!$B$834","v":"Spanien"},{"$f":"Translations!$B$835","v":"Schweden"},{"$f":"Translations!$B$836","v":"Vereinigtes Königreich"}]
["EUconst_MSlistISOcodes","AT","BE","BG","HR","CY","CZ","DK","EE","FI","FR","DE","EL","HU","IS","IE","IT","LV","LI","LT","LU","MT","NL","NO","PL","PT","RO","SK","SI","ES","SE","UK"]
["Euconst_MPReferenceDateTypes",{"$f":"Translations!$B$140","v":"der zuständigen Behörde vorgelegt"},{"$f":"Translations!$B$145","v":"von der zuständigen Behörde genehmigt"},{"$f":"Translations!$B$837","v":"von der zuständigen Behörde abgelehnt"},{"$f":"Translations!$B$142","v":"mit Anmerkungen zurückgeschickt"},{"$f":"Translations!$B$838","v":"Arbeitsentwurf"}]
["EUConst_RelSectionCalc",{"$f":"Translations!$B$839","v":"Relevante Abschnitte: 6 (außer Buchst. d), 7, 8, 20 bis 25"}]
["EUConst_RelSectionMeasure",{"$f":"Translations!$B$840","v":"Relevante Abschnitte: 6 (außer Buchst. e), 9, 10, 11, 20 bis 25"}]
["EUConst_RelSectionFallback",{"$f":"Translations!$B$841","v":"Relevante Abschnitte: 12, 20 bis 25"}]
["EUConst_RelSectionN2O",{"$f":"Translations!$B$842","v":"Relevante Abschnitte: 6 (außer Buchst. e), 9, 10, 11, 13, 20 bis 25"}]
["EUConst_RelSectionPFC",{"$f":"Translations!$B$843","v":"Relevante Abschnitte: 6 (außer Buchst. d), 7, 14, 15, 16, 20 bis 25"}]
["EUConst_RelSectionCCS","Relevant sections: sheet J (other sections as selected above)"]
["EUConst_RelSectionCCU","Relevant sections: sheet J2 (other sections as selected above)"]
["EUconst_CEMSType","CO2","N2O",{"$f":"Translations!$B$845","v":"Weiterleitung von CO2 "},{"$f":"Translations!$B$1241","v":"Weiterleitung von N2O"}]
["EUconst_ProcessPFC",{"$f":"Translations!$B$846","v":"Berechnung mit Sonderbestimmungen für PFC (Anhang IV Abschnitt 8)"}]
["EUconst_CO2TransferTypes",{"$f":"Translations!$B$847","v":"Annahme von inhärentem CO2 "},{"$f":"Translations!$B$848","v":"Abgabe von inhärentem CO2 an EHS-Anlage"},{"$f":"Translations!$B$849","v":"Abgabe von inhärentem CO2 an Nicht-EHS-Verbraucher"},{"$f":"Translations!$B$850","v":"Annahme von weitergeleitetem CO2 "},{"$f":"Translations!$B$851","v":"Abgabe von weitergeleitetem CO2 "},{"$f":"Translations!$B$1243","v":"Annahme von weitergeleitetem N2O"},{"$f":"Translations!$B$1244","v":"Abgabe von weitergeleitetem N2O"}]
["EUconst_TransCO2Approach",{"$f":"Translations!$B$852","v":"Verwendung eigener Geräte"},{"$f":"Translations!$B$853","v":"Verwendung der Geräte der anderen Anlage"},{"$f":"Translations!$B$854","v":"Verwendung der Geräte beider Partner"}]
["EUconst_TransportApproaches",{"$f":"Translations!$B$855","v":"Methode A"},{"$f":"Translations!$B$856","v":"Methode B"}]
["EUconst_IRMonth",{"$f":"EUconst_NA","v":"n.r."},{"$f":"Translations!$B$1245","v":"Juni"},{"$f":"Translations!$B$1246","v":"Juli"},{"$f":"Translations!$B$1247","v":"August"},{"$f":"Translations!$B$1248","v":"September"}]
[]
[]
[]
[{"$f":"Translations!$B$857","v":"AnnexIActivities"}]
[{"$f":"Translations!$B1307","v":"Verbrennung von Brennstoffen"}]
[{"$f":"Translations!$B$1274","v":"Verbrennung von Siedlungsabfällen"}]
[{"$f":"Translations!$B1308","v":"Raffination von Mineralöl "}]
[{"$f":"Translations!$B1309","v":"Herstellung von Koks"}]
[{"$f":"Translations!$B1310","v":"Röstung oder Sinterung von Metallerz"}]
[{"$f":"Translations!$B1311","v":"Herstellung von Eisen oder Stahl"}]
[{"$f":"Translations!$B1312","v":"Herstellung oder Verarbeitung von Eisenmetallen"}]
[{"$f":"Translations!$B1313","v":"Herstellung von Primäraluminium"}]
[{"$f":"Translations!$B1314","v":"Herstellung von Sekundäraluminium"}]
[{"$f":"Translations!$B1315","v":"Herstellung oder Verarbeitung von Nichteisenmetallen"}]
[{"$f":"Translations!$B1316","v":"Herstellung von Zementklinker"}]
[{"$f":"Translations!$B1317","v":"Herstellung von Kalk oder Brennen von Dolomit/Magnesit"}]
[{"$f":"Translations!$B1318","v":"Herstellung von Glas"}]
[{"$f":"Translations!$B1319","v":"Herstellung von keramischen Erzeugnissen"}]
[{"$f":"Translations!$B1320","v":"Herstellung von Mineralwolle"}]
[{"$f":"Translations!$B1321","v":"Herstellung oder Verarbeitung von Gips oder Gipskartonplatten"}]
[{"$f":"Translations!$B1322","v":"Herstellung von Zellstoff"}]
[{"$f":"Translations!$B1323","v":"Herstellung von Papier und Karton"}]
[{"$f":"Translations!$B1324","v":"Herstellung von Industrieruß"}]
[{"$f":"Translations!$B1325","v":"Herstellung von Salpetersäure"}]
[{"$f":"Translations!$B1326","v":"Herstellung von Adipinsäure"}]
[{"$f":"Translations!$B1327","v":"Herstellung von Glyoxal und Glyoxylsäure"}]
[{"$f":"Translations!$B1328","v":"Herstellung von Ammoniak"}]
[{"$f":"Translations!$B1329","v":"Herstellung von organischen Grundchemikalien"}]
[{"$f":"Translations!$B1330","v":"Herstellung von Wasserstoff und Synthesegas"}]
[{"$f":"Translations!$B1331","v":"Herstellung von Soda und Natriumbicarbonat"}]
[{"$f":"Translations!$B1332","v":"Abscheidung von Treibhausgasen gemäß der Richtlinie 2009/31/EG"}]
[{"$f":"Translations!$B1333","v":"Transport von Treibhausgasen gemäß der Richtlinie 2009/31/EG"}]
[{"$f":"Translations!$B1334","v":"Lagerung von Treibhausgasen gemäß der Richtlinie 2009/31/EG"}]
[]
[{"$f":"Translations!$B$884","v":"SpecifiedEmissions2"}]
["CO2"]
["N2O"]
[{"$f":"Translations!$B$885","v":"PFC"}]
[{"$f":"Translations!$B$886","v":"CO2 und N2O"}]
[{"$f":"Translations!$B$887","v":"CO2 und PFC"}]
[]
[{"$f":"Translations!$B$888","v":"SourceCategory"}]
[{"$f":"Translations!$B$313","v":"Emissionsstark"}]
[{"$f":"Translations!$B$889","v":"Emissionsschwach"}]
[{"$f":"Translations!$B$890","v":"De-minimis"}]
[]
[{"$f":"Translations!$B$891","v":"SourceCategoryCEMS"}]
[{"$f":"Translations!$B$313","v":"Emissionsstark"}]
[{"$f":"Translations!$B$889","v":"Emissionsschwach"}]
[]
[]
[{"$f":"Translations!$B$892","v":"AnalysisFrequency"}]
[{"$f":"Translations!$B$893","v":"Kontinuierlich"}]
[{"$f":"Translations!$B$894","v":"Täglich"}]
[{"$f":"Translations!$B$542","v":"Wöchentlich"}]
[{"$f":"Translations!$B$895","v":"Monatlich"}]
[{"$f":"Translations!$B$896","v":"Vierteljährlich"}]
[{"$f":"Translations!$B$897","v":"Halbjährlich"}]
[{"$f":"Translations!$B$898","v":"Jährlich"}]
[]
[]
[{"$f":"Translations!$B$899","v":"OperationType"}]
[{"$f":"Translations!$B$900","v":"Normbetrieb"}]
[{"$f":"Translations!$B$901","v":"Ausnahmesituation"}]
[{"$f":"Translations!$B$584","v":"Normbetrieb und Ausnahmesituation"}]
[]
[{"$f":"Translations!$B$902","v":"PFCMethods"}]
[{"$f":"Translations!$B$903","v":"Methode A - Steigungsmethode"}]
[{"$f":"Translations!$B$904","v":"Methode B - Überspannungsmethode"}]
[]
[{"$f":"Translations!$B$905","v":"PFCCellTypes"}]
[{"$f":"Translations!$B$906","v":"Mittenbedienter Ofen mit vorgebrannten Anoden (CWPB)"}]
[{"$f":"Translations!$B$907","v":"Søderberg-Zelle mit vertikaler Anodenanordnung (VSS)"}]
[{"$f":"Translations!$B$908","v":"Seitenbedienter Ofen mit vorgebrannten Anoden (SWPB)"}]
[{"$f":"Translations!$B$909","v":"Søderberg-Zelle mit horizontaler Anodenanordnung (HSS)"}]
[]
[{"$f":"Translations!$B$910","v":"MeteringDevices"}]
[{"$f":"Translations!$B$366","v":"Drehkolbenzähler"}]
[{"$f":"Translations!$B$911","v":"Turbinenradzähler"}]
[{"$f":"Translations!$B$912","v":"Balgengaszähler"}]
[{"$f":"Translations!$B$913","v":"Wirkdruckzähler"}]
[{"$f":"Translations!$B$914","v":"Venturi-Messgerät"}]
[{"$f":"Translations!$B$915","v":"Ultraschallzähler"}]
[{"$f":"Translations!$B$916","v":"Wirbelgaszähler"}]
[{"$f":"Translations!$B$917","v":"Coriolis-Zähler"}]
[{"$f":"Translations!$B$918","v":"Ovalradzähler"}]
[{"$f":"Translations!$B$919","v":"Elektronischer Zustandsmengenumwerter (EZMU)"}]
[{"$f":"Translations!$B$920","v":"Gaschromatograph"}]
[{"$f":"Translations!$B$367","v":"Brückenwaage"}]
[{"$f":"Translations!$B$921","v":"Förderbandwaage"}]
[]
[]
["InformationSources"]
[{"$f":"Translations!$B$1249","v":"Verordnung über die Überwachung und Berichterstattung, Anhang VI"}]
[{"$f":"Translations!$B$1250","v":"Nationale THG-Inventur"}]
[]
[]
[{"$f":"Translations!$B$922","v":"MeasurementTiers"}]
[1]
[2]
[3]
[4]
[]
[{"$f":"Translations!$B$923","v":"PFCTiers"}]
[1]
[2]
[]
[{"$f":"Translations!$B$924","v":"BiomassTiers"}]
[1]
[2]
["3a"]
["3b"]
[{"$f":"EUconst_NoTier","v":"Keine Ebene"}]
[{"$f":"EUconst_NA","v":"n.r."}]
[]
[{"$f":"Translations!$B$925","v":"ConversionFactorTiers"}]
[1]
[2]
[{"$f":"EUconst_NoTier","v":"Keine Ebene"}]
[{"$f":"EUconst_NA","v":"n.r."}]
[]
[{"$f":"Translations!$B$926","v":"ActivityDataTiers"}]
[1]
[2]
[3]
[4]
[{"$f":"EUconst_NoTier","v":"Keine Ebene"}]
[{"$f":"EUconst_NA","v":"n.r."}]
[]
[{"$f":"Translations!$B$927","v":"NCVTiers"}]
[1]
["2a"]
[{"$f":"Translations!$B$928","v":"2b"}]
[3]
[{"$f":"EUconst_NoTier","v":"Keine Ebene"}]
[{"$f":"EUconst_NA","v":"n.r."}]
[]
[{"$f":"Translations!$B$929","v":"EFTiers"}]
[1]
[2]
["2a"]
[{"$f":"Translations!$B$928","v":"2b"}]
[3]
[{"$f":"EUconst_NoTier","v":"Keine Ebene"}]
[{"$f":"EUconst_NA","v":"n.r."}]
[]
[{"$f":"Translations!$B$930","v":"CarbonContentTiers"}]
[1]
["2a"]
[{"$f":"Translations!$B$928","v":"2b"}]
[3]
[{"$f":"EUconst_NoTier","v":"Keine Ebene"}]
[{"$f":"EUconst_NA","v":"n.r."}]
[]
["NCVUnits"]
[{"$f":"Translations!$B$1251","v":"GJ/t"}]
[{"$f":"Translations!$B$1252","v":"GJ/1000 Nm³"}]
[]
[]
["EFUnits"]
[{"$f":"Translations!$B$1253","v":"t CO2/TJ"}]
[{"$f":"Translations!$B$1254","v":"t CO2/t"}]
[{"$f":"Translations!$B$1255","v":"t CO2/1000 Nm³"}]
[]
[]
["PctUnits"]
["%"]
[]
[]
[]
[]
[]
[null,{"$f":"Translations!$B$931","v":"Anhang III Emissionszertifikategesetz"},"Directive Annex I (short)",null,"Source Stream Types",null,null,null,null,null,null,{"$f":"Translations!$B$212","v":"Emittierte THG"},null,null,"RowIndex"]
[1,{"$f":"IF(LEN(Translations!$B$933)>250,LEFT(Translations!$B$933,250),Translations!$B$933)","v":"Verbrennung von Brennstoffen in Anlagen mit einer Gesamtfeuerungswärmeleistung von über 20 MW (ausgenommen Anlagen für die Verbrennung von gefährlichen oder Siedlungsabfällen)"},{"$f":"INDEX(AnnexIActivities,A230)","v":"Verbrennung von Brennstoffen"},null,null,null,null,null,null,null,null,"CO2"]
[{"$f":"A230+1","v":2},{"$f":"IF(LEN(Translations!$B$1382)>250,LEFT(Translations!$B$1382,250),Translations!$B$1382)","v":"Verbrennung von Brennstoffen in Anlagen für die Verbrennung von Siedlungsabfällen mit einer Gesamtbrennstoffwärmeleistung von mehr als 20 MW"},{"$f":"INDEX(AnnexIActivities,A231)","v":"Verbrennung von Siedlungsabfällen"},null,null,null,null,null,null,null,null,"CO2",null,null,{"$f":"IFERROR(MATCH(C231,$B$265:$B$325,0),\"\")","v":""}]
[{"$f":"A231+1","v":3},{"$f":"Translations!$B$858","v":"Raffination von Mineralöl "},"Raffination von Mineralöl ",null,{"$f":"IFERROR(IF(INDEX($B$265:$B$334,$O232+COLUMNS($E229:E229)-1)<>$C232,\"\",INDEX(EUConst_TierActivityListNames,$O232+COLUMNS($E229:E229)-1)),\"\")","v":"Raffinerien: Massenbilanz"},{"$f":"IFERROR(IF(INDEX($B$265:$B$334,$O232+COLUMNS($E229:F229)-1)<>$C232,\"\",INDEX(EUConst_TierActivityListNames,$O232+COLUMNS($E229:F229)-1)),\"\")","v":"Raffinerien: Regeneration von katalytischen Crackern"},{"$f":"IFERROR(IF(INDEX($B$265:$B$334,$O232+COLUMNS($E229:G229)-1)<>$C232,\"\",INDEX(EUConst_TierActivityListNames,$O232+COLUMNS($E229:G229)-1)),\"\")","v":"Raffinerien: Wasserstofferzeugung"},{"$f":"IFERROR(IF(INDEX($B$265:$B$334,$O232+COLUMNS($E229:H229)-1)<>$C232,\"\",INDEX(EUConst_TierActivityListNames,$O232+COLUMNS($E229:H229)-1)),\"\")","v":""},{"$f":"IFERROR(IF(INDEX($B$265:$B$334,$O232+COLUMNS($E229:I229)-1)<>$C232,\"\",INDEX(EUConst_TierActivityListNames,$O232+COLUMNS($E229:I229)-1)),\"\")","v":""},{"$f":"IFERROR(IF(INDEX($B$265:$B$334,$O232+COLUMNS($E229:J229)-1)<>$C232,\"\",INDEX(EUConst_TierActivityListNames,$O232+COLUMNS($E229:J229)-1)),\"\")","v":""},{"$f":"IFERROR(IF(INDEX($B$265:$B$334,$O232+COLUMNS($E229:K229)-1)<>$C232,\"\",INDEX(EUConst_TierActivityListNames,$O232+COLUMNS($E229:K229)-1)),\"\")","v":""},"CO2",null,null,{"$f":"IFERROR(MATCH(C232,$B$265:$B$334,0),\"\")","v":10}]
[{"$f":"A232+1","v":4},{"$f":"Translations!$B$859","v":"Herstellung von Koks"},"Herstellung von Koks",null,{"$f":"IFERROR(IF(INDEX($B$265:$B$334,$O233+COLUMNS($E230:E230)-1)<>$C233,\"\",INDEX(EUConst_TierActivityListNames,$O233+COLUMNS($E230:E230)-1)),\"\")","v":"Koks: Brennstoff als Prozess-Input"},{"$f":"IFERROR(IF(INDEX($B$265:$B$334,$O233+COLUMNS($E230:F230)-1)<>$C233,\"\",INDEX(EUConst_TierActivityListNames,$O233+COLUMNS($E230:F230)-1)),\"\")","v":"Koks: Prozess (Methode A): nur Karbonat"},{"$f":"IFERROR(IF(INDEX($B$265:$B$334,$O233+COLUMNS($E230:G230)-1)<>$C233,\"\",INDEX(EUConst_TierActivityListNames,$O233+COLUMNS($E230:G230)-1)),\"\")","v":"Koks: Prozess (Methode A): Gemisch (Karbonat + Nicht-Karbonat)"},{"$f":"IFERROR(IF(INDEX($B$265:$B$334,$O233+COLUMNS($E230:H230)-1)<>$C233,\"\",INDEX(EUConst_TierActivityListNames,$O233+COLUMNS($E230:H230)-1)),\"\")","v":"Koks: Prozess (Methode A): Nicht-Karbonat"},{"$f":"IFERROR(IF(INDEX($B$265:$B$334,$O233+COLUMNS($E230:I230)-1)<>$C233,\"\",INDEX(EUConst_TierActivityListNames,$O233+COLUMNS($E230:I230)-1)),\"\")","v":"Koks: Prozess (Methode B): Oxid-Output"},{"$f":"IFERROR(IF(INDEX($B$265:$B$334,$O233+COLUMNS($E230:J230)-1)<>$C233,\"\",INDEX(EUConst_TierActivityListNames,$O233+COLUMNS($E230:J230)-1)),\"\")","v":"Koks: Massenbilanz"},{"$f":"IFERROR(IF(INDEX($B$265:$B$334,$O233+COLUMNS($E230:K230)-1)<>$C233,\"\",INDEX(EUConst_TierActivityListNames,$O233+COLUMNS($E230:K230)-1)),\"\")","v":""},"CO2",null,null,{"$f":"IFERROR(MATCH(C233,$B$265:$B$334,0),\"\")","v":13}]
[{"$f":"A233+1","v":5},{"$f":"IF(LEN(Translations!$B$934)>250,LEFT(Translations!$B$934,250),Translations!$B$934)","v":"Röstung oder Sinterung einschließlich Pelletierung von Metallerz (einschließlich Sulfiderz) "},"Röstung oder Sinterung von Metallerz",null,{"$f":"IFERROR(IF(INDEX($B$265:$B$334,$O234+COLUMNS($E231:E231)-1)<>$C234,\"\",INDEX(EUConst_TierActivityListNames,$O234+COLUMNS($E231:E231)-1)),\"\")","v":"Metallerz: Prozess (Methode A): nur Karbonat"},{"$f":"IFERROR(IF(INDEX($B$265:$B$334,$O234+COLUMNS($E231:F231)-1)<>$C234,\"\",INDEX(EUConst_TierActivityListNames,$O234+COLUMNS($E231:F231)-1)),\"\")","v":"Metallerz: Prozess (Methode A): Gemisch (Karbonat + Nicht-Karbonat)"},{"$f":"IFERROR(IF(INDEX($B$265:$B$334,$O234+COLUMNS($E231:G231)-1)<>$C234,\"\",INDEX(EUConst_TierActivityListNames,$O234+COLUMNS($E231:G231)-1)),\"\")","v":"Metallerz: Prozess (Methode A): Nicht-Karbonat"},{"$f":"IFERROR(IF(INDEX($B$265:$B$334,$O234+COLUMNS($E231:H231)-1)<>$C234,\"\",INDEX(EUConst_TierActivityListNames,$O234+COLUMNS($E231:H231)-1)),\"\")","v":"Metallerz: Prozess (Methode B): Oxid-Output"},{"$f":"IFERROR(IF(INDEX($B$265:$B$334,$O234+COLUMNS($E231:I231)-1)<>$C234,\"\",INDEX(EUConst_TierActivityListNames,$O234+COLUMNS($E231:I231)-1)),\"\")","v":"Metallerz: Massenbilanz"},{"$f":"IFERROR(IF(INDEX($B$265:$B$334,$O234+COLUMNS($E231:J231)-1)<>$C234,\"\",INDEX(EUConst_TierActivityListNames,$O234+COLUMNS($E231:J231)-1)),\"\")","v":""},{"$f":"IFERROR(IF(INDEX($B$265:$B$334,$O234+COLUMNS($E231:K231)-1)<>$C234,\"\",INDEX(EUConst_TierActivityListNames,$O234+COLUMNS($E231:K231)-1)),\"\")","v":""},"CO2",null,null,19]
[6,{"$f":"IF(LEN(Translations!$B$935)>250,LEFT(Translations!$B$935,250),Translations!$B$935)","v":"Herstellung von Roheisen oder Stahl (Primär- oder Sekundärschmelzbetrieb), einschließlich Stranggießen, mit einer Kapazität über 2,5 t pro Stunde "},"Herstellung von Eisen oder Stahl",null,{"$f":"IFERROR(IF(INDEX($B$265:$B$334,$O235+COLUMNS($E232:E232)-1)<>$C235,\"\",INDEX(EUConst_TierActivityListNames,$O235+COLUMNS($E232:E232)-1)),\"\")","v":"Eisen und Stahl: Brennstoff als Prozess-Input"},{"$f":"IFERROR(IF(INDEX($B$265:$B$334,$O235+COLUMNS($E232:F232)-1)<>$C235,\"\",INDEX(EUConst_TierActivityListNames,$O235+COLUMNS($E232:F232)-1)),\"\")","v":"Eisen und Stahl: Prozess (Methode A): nur Karbonat"},{"$f":"IFERROR(IF(INDEX($B$265:$B$334,$O235+COLUMNS($E232:G232)-1)<>$C235,\"\",INDEX(EUConst_TierActivityListNames,$O235+COLUMNS($E232:G232)-1)),\"\")","v":"Eisen und Stahl: Prozess (Methode A): Gemisch (Karbonat + Nicht-Karbonat)"},{"$f":"IFERROR(IF(INDEX($B$265:$B$334,$O235+COLUMNS($E232:H232)-1)<>$C235,\"\",INDEX(EUConst_TierActivityListNames,$O235+COLUMNS($E232:H232)-1)),\"\")","v":"Eisen und Stahl: Prozess (Methode A): Nicht-Karbonat"},{"$f":"IFERROR(IF(INDEX($B$265:$B$334,$O235+COLUMNS($E232:I232)-1)<>$C235,\"\",INDEX(EUConst_TierActivityListNames,$O235+COLUMNS($E232:I232)-1)),\"\")","v":"Eisen und Stahl: Prozess (Methode B): Oxid-Output"},{"$f":"IFERROR(IF(INDEX($B$265:$B$334,$O235+COLUMNS($E232:J232)-1)<>$C235,\"\",INDEX(EUConst_TierActivityListNames,$O235+COLUMNS($E232:J232)-1)),\"\")","v":"Eisen und Stahl: Massenbilanz"},{"$f":"IFERROR(IF(INDEX($B$265:$B$334,$O235+COLUMNS($E232:K232)-1)<>$C235,\"\",INDEX(EUConst_TierActivityListNames,$O235+COLUMNS($E232:K232)-1)),\"\")","v":""},"CO2",null,null,24]
[7,{"$f":"IF(LEN(Translations!$B$936)>250,LEFT(Translations!$B$936,250),Translations!$B$936)","v":"Herstellung oder Verarbeitung von Eisenmetallen (einschließlich Eisenlegierungen) bei Betrieb von Verbrennungseinheiten mit einer Gesamtfeuerungswärmeleistung von über 20 MW. Die Verarbeitung umfasst unter anderem Walzwerke, Öfen zum Wiederaufheizen,"},"Herstellung oder Verarbeitung von Eisenmetallen",null,{"$f":"IFERROR(IF(INDEX($B$265:$B$334,$O236+COLUMNS($E233:E233)-1)<>$C236,\"\",INDEX(EUConst_TierActivityListNames,$O236+COLUMNS($E233:E233)-1)),\"\")","v":"(Nicht)-Eisen, Sek.-Aluminium: Prozess (Methode A): nur Karbonat"},{"$f":"IFERROR(IF(INDEX($B$265:$B$334,$O236+COLUMNS($E233:F233)-1)<>$C236,\"\",INDEX(EUConst_TierActivityListNames,$O236+COLUMNS($E233:F233)-1)),\"\")","v":"(Nicht)-Eisen, Sek.-Aluminium: Prozess (Methode A): Gemisch (Karbonat + Nicht-Karbonat)"},{"$f":"IFERROR(IF(INDEX($B$265:$B$334,$O236+COLUMNS($E233:G233)-1)<>$C236,\"\",INDEX(EUConst_TierActivityListNames,$O236+COLUMNS($E233:G233)-1)),\"\")","v":"(Nicht)-Eisen, Sek.-Aluminium: Prozess (Methode A): Nicht-Karbonat"},{"$f":"IFERROR(IF(INDEX($B$265:$B$334,$O236+COLUMNS($E233:H233)-1)<>$C236,\"\",INDEX(EUConst_TierActivityListNames,$O236+COLUMNS($E233:H233)-1)),\"\")","v":"(Nicht)-Eisen, Sek.-Aluminium: Prozess (Methode B): Oxid-Output"},{"$f":"IFERROR(IF(INDEX($B$265:$B$334,$O236+COLUMNS($E233:I233)-1)<>$C236,\"\",INDEX(EUConst_TierActivityListNames,$O236+COLUMNS($E233:I233)-1)),\"\")","v":"(Nicht)-Eisen, Sek.-Aluminium: Massenbilanzmethodik"},{"$f":"IFERROR(IF(INDEX($B$265:$B$334,$O236+COLUMNS($E233:J233)-1)<>$C236,\"\",INDEX(EUConst_TierActivityListNames,$O236+COLUMNS($E233:J233)-1)),\"\")","v":""},{"$f":"IFERROR(IF(INDEX($B$265:$B$334,$O236+COLUMNS($E233:K233)-1)<>$C236,\"\",INDEX(EUConst_TierActivityListNames,$O236+COLUMNS($E233:K233)-1)),\"\")","v":""},"CO2",null,null,53]
[8,{"$f":"Translations!$B$863","v":"Herstellung von Primäraluminium"},"Herstellung von Primäraluminium",null,{"$f":"IFERROR(IF(INDEX($B$265:$B$334,$O237+COLUMNS($E234:E234)-1)<>$C237,\"\",INDEX(EUConst_TierActivityListNames,$O237+COLUMNS($E234:E234)-1)),\"\")","v":"Primäraluminium: Massenbilanzmethodik"},{"$f":"IFERROR(IF(INDEX($B$265:$B$334,$O237+COLUMNS($E234:F234)-1)<>$C237,\"\",INDEX(EUConst_TierActivityListNames,$O237+COLUMNS($E234:F234)-1)),\"\")","v":"Primäraluminium: PFC-Emissionen (Steigungsmethode)"},{"$f":"IFERROR(IF(INDEX($B$265:$B$334,$O237+COLUMNS($E234:G234)-1)<>$C237,\"\",INDEX(EUConst_TierActivityListNames,$O237+COLUMNS($E234:G234)-1)),\"\")","v":"Primäraluminium: PFC-Emissionen (Überspannungsmethode)"},{"$f":"IFERROR(IF(INDEX($B$265:$B$334,$O237+COLUMNS($E234:H234)-1)<>$C237,\"\",INDEX(EUConst_TierActivityListNames,$O237+COLUMNS($E234:H234)-1)),\"\")","v":""},{"$f":"IFERROR(IF(INDEX($B$265:$B$334,$O237+COLUMNS($E234:I234)-1)<>$C237,\"\",INDEX(EUConst_TierActivityListNames,$O237+COLUMNS($E234:I234)-1)),\"\")","v":""},{"$f":"IFERROR(IF(INDEX($B$265:$B$334,$O237+COLUMNS($E234:J234)-1)<>$C237,\"\",INDEX(EUConst_TierActivityListNames,$O237+COLUMNS($E234:J234)-1)),\"\")","v":""},{"$f":"IFERROR(IF(INDEX($B$265:$B$334,$O237+COLUMNS($E234:K234)-1)<>$C237,\"\",INDEX(EUConst_TierActivityListNames,$O237+COLUMNS($E234:K234)-1)),\"\")","v":""},{"$f":"Translations!$B$887","v":"CO2 und PFC"},null,null,59]
[9,{"$f":"IF(LEN(Translations!$B$937)>250,LEFT(Translations!$B$937,250),Translations!$B$937)","v":"Herstellung von Sekundäraluminium bei Betrieb von Verbrennungseinheiten mit einer Gesamtfeuerungswärmeleistung von über 20 MW"},"Herstellung von Sekundäraluminium",null,{"$f":"IF(E236=\"\",\"\",E236)","v":"(Nicht)-Eisen, Sek.-Aluminium: Prozess (Methode A): nur Karbonat"},"(Nicht)-Eisen, Sek.-Aluminium: Prozess (Methode A): Gemisch (Karbonat + Nicht-Karbonat)","(Nicht)-Eisen, Sek.-Aluminium: Prozess (Methode A): Nicht-Karbonat","(Nicht)-Eisen, Sek.-Aluminium: Prozess (Methode B): Oxid-Output","(Nicht)-Eisen, Sek.-Aluminium: Massenbilanzmethodik","","","CO2",null,null,""]
[10,{"$f":"IF(LEN(Translations!$B$938)>250,LEFT(Translations!$B$938,250),Translations!$B$938)","v":"Herstellung oder Verarbeitung von Nichteisenmetallen einschließlich der Herstellung von Legierungen, Raffinationsprodukten, Gussprodukten usw. bei Betrieb von Verbrennungseinheiten mit einer Gesamtfeuerungswärmeleistung (einschließlich der als Redukt"},"Herstellung oder Verarbeitung von Nichteisenmetallen",null,{"$f":"E238","v":"(Nicht)-Eisen, Sek.-Aluminium: Prozess (Methode A): nur Karbonat"},"(Nicht)-Eisen, Sek.-Aluminium: Prozess (Methode A): Gemisch (Karbonat + Nicht-Karbonat)","(Nicht)-Eisen, Sek.-Aluminium: Prozess (Methode A): Nicht-Karbonat","(Nicht)-Eisen, Sek.-Aluminium: Prozess (Methode B): Oxid-Output","(Nicht)-Eisen, Sek.-Aluminium: Massenbilanzmethodik","","","CO2",null,null,""]
[11,{"$f":"IF(LEN(Translations!$B$939)>250,LEFT(Translations!$B$939,250),Translations!$B$939)","v":"Herstellung von Zementklinker in Drehrohröfen mit einer Produktionskapazität von über 500 t pro Tag oder in anderen Öfen mit einer Produktionskapazität über 50 t pro Tag "},"Herstellung von Zementklinker",null,{"$f":"IFERROR(IF(INDEX($B$265:$B$334,$O240+COLUMNS($E237:E237)-1)<>$C240,\"\",INDEX(EUConst_TierActivityListNames,$O240+COLUMNS($E237:E237)-1)),\"\")","v":"Zementklinker: Ofen-Input-Betrachtung (Methode A)"},{"$f":"IFERROR(IF(INDEX($B$265:$B$334,$O240+COLUMNS($E237:F237)-1)<>$C240,\"\",INDEX(EUConst_TierActivityListNames,$O240+COLUMNS($E237:F237)-1)),\"\")","v":"Zementklinker: Klinker-Output (Methode B)"},{"$f":"IFERROR(IF(INDEX($B$265:$B$334,$O240+COLUMNS($E237:G237)-1)<>$C240,\"\",INDEX(EUConst_TierActivityListNames,$O240+COLUMNS($E237:G237)-1)),\"\")","v":"Zementklinker: Zementofenstaub (CKD)"},{"$f":"IFERROR(IF(INDEX($B$265:$B$334,$O240+COLUMNS($E237:H237)-1)<>$C240,\"\",INDEX(EUConst_TierActivityListNames,$O240+COLUMNS($E237:H237)-1)),\"\")","v":"Zementklinker: Nicht-karbonatischer Kohlenstoff"},{"$f":"IFERROR(IF(INDEX($B$265:$B$334,$O240+COLUMNS($E237:I237)-1)<>$C240,\"\",INDEX(EUConst_TierActivityListNames,$O240+COLUMNS($E237:I237)-1)),\"\")","v":""},{"$f":"IFERROR(IF(INDEX($B$265:$B$334,$O240+COLUMNS($E237:J237)-1)<>$C240,\"\",INDEX(EUConst_TierActivityListNames,$O240+COLUMNS($E237:J237)-1)),\"\")","v":""},{"$f":"IFERROR(IF(INDEX($B$265:$B$334,$O240+COLUMNS($E237:K237)-1)<>$C240,\"\",INDEX(EUConst_TierActivityListNames,$O240+COLUMNS($E237:K237)-1)),\"\")","v":""},"CO2",null,null,30]
[12,{"$f":"IF(LEN(Translations!$B$940)>250,LEFT(Translations!$B$940,250),Translations!$B$940)","v":"Herstellung von Kalk oder Brennen von Dolomit oder Magnesit in Drehrohröfen oder in anderen Öfen mit einer Produktionskapazität über 50 t pro Tag "},"Herstellung von Kalk oder Brennen von Dolomit/Magnesit",null,{"$f":"IFERROR(IF(INDEX($B$265:$B$334,$O241+COLUMNS($E238:E238)-1)<>$C241,\"\",INDEX(EUConst_TierActivityListNames,$O241+COLUMNS($E238:E238)-1)),\"\")","v":"Kalk / Dolomit / Magnesit: Prozess (Methode A): nur Karbonat"},{"$f":"IFERROR(IF(INDEX($B$265:$B$334,$O241+COLUMNS($E238:F238)-1)<>$C241,\"\",INDEX(EUConst_TierActivityListNames,$O241+COLUMNS($E238:F238)-1)),\"\")","v":"Kalk / Dolomit / Magnesit: Prozess (Methode A): Gemisch (Karbonat + Nicht-Karbonat)"},{"$f":"IFERROR(IF(INDEX($B$265:$B$334,$O241+COLUMNS($E238:G238)-1)<>$C241,\"\",INDEX(EUConst_TierActivityListNames,$O241+COLUMNS($E238:G238)-1)),\"\")","v":"Kalk / Dolomit / Magnesit: Prozess (Methode A): Nicht-Karbonat"},{"$f":"IFERROR(IF(INDEX($B$265:$B$334,$O241+COLUMNS($E238:H238)-1)<>$C241,\"\",INDEX(EUConst_TierActivityListNames,$O241+COLUMNS($E238:H238)-1)),\"\")","v":"Kalk / Dolomit / Magnesit: Prozess (Methode B): Oxid-Output"},{"$f":"IFERROR(IF(INDEX($B$265:$B$334,$O241+COLUMNS($E238:I238)-1)<>$C241,\"\",INDEX(EUConst_TierActivityListNames,$O241+COLUMNS($E238:I238)-1)),\"\")","v":"Kalk / Dolomit / Magnesit: Ofenstaub (Methode B)"},{"$f":"IFERROR(IF(INDEX($B$265:$B$334,$O241+COLUMNS($E238:J238)-1)<>$C241,\"\",INDEX(EUConst_TierActivityListNames,$O241+COLUMNS($E238:J238)-1)),\"\")","v":""},{"$f":"IFERROR(IF(INDEX($B$265:$B$334,$O241+COLUMNS($E238:K238)-1)<>$C241,\"\",INDEX(EUConst_TierActivityListNames,$O241+COLUMNS($E238:K238)-1)),\"\")","v":""},"CO2",null,null,34]
[13,{"$f":"IF(LEN(Translations!$B$941)>250,LEFT(Translations!$B$941,250),Translations!$B$941)","v":"Herstellung von Glas einschließlich Glasfasern mit einer Schmelzkapazität von über 20 t pro Tag "},"Herstellung von Glas",null,{"$f":"IFERROR(IF(INDEX($B$265:$B$334,$O242+COLUMNS($E239:E239)-1)<>$C242,\"\",INDEX(EUConst_TierActivityListNames,$O242+COLUMNS($E239:E239)-1)),\"\")","v":"Glas und Mineralwolle: Prozess (Methode A): nur Karbonat"},{"$f":"IFERROR(IF(INDEX($B$265:$B$334,$O242+COLUMNS($E239:F239)-1)<>$C242,\"\",INDEX(EUConst_TierActivityListNames,$O242+COLUMNS($E239:F239)-1)),\"\")","v":"Glas und Mineralwolle: Prozess (Methode A): Gemisch (Karbonat + Nicht-Karbonat)"},{"$f":"IFERROR(IF(INDEX($B$265:$B$334,$O242+COLUMNS($E239:G239)-1)<>$C242,\"\",INDEX(EUConst_TierActivityListNames,$O242+COLUMNS($E239:G239)-1)),\"\")","v":"Glas und Mineralwolle: Prozess (Methode A): Nicht-Karbonat"},{"$f":"IFERROR(IF(INDEX($B$265:$B$334,$O242+COLUMNS($E239:H239)-1)<>$C242,\"\",INDEX(EUConst_TierActivityListNames,$O242+COLUMNS($E239:H239)-1)),\"\")","v":""},{"$f":"IFERROR(IF(INDEX($B$265:$B$334,$O242+COLUMNS($E239:I239)-1)<>$C242,\"\",INDEX(EUConst_TierActivityListNames,$O242+COLUMNS($E239:I239)-1)),\"\")","v":""},{"$f":"IFERROR(IF(INDEX($B$265:$B$334,$O242+COLUMNS($E239:J239)-1)<>$C242,\"\",INDEX(EUConst_TierActivityListNames,$O242+COLUMNS($E239:J239)-1)),\"\")","v":""},{"$f":"IFERROR(IF(INDEX($B$265:$B$334,$O242+COLUMNS($E239:K239)-1)<>$C242,\"\",INDEX(EUConst_TierActivityListNames,$O242+COLUMNS($E239:K239)-1)),\"\")","v":""},"CO2",null,null,39]
[14,{"$f":"IF(LEN(Translations!$B$942)>250,LEFT(Translations!$B$942,250),Translations!$B$942)","v":"Herstellung von keramischen Erzeugnissen durch Brennen, und zwar insbesondere von Dachziegeln, Ziegelsteinen, feuerfesten Steinen, Fliesen, Steinzeug oder Porzellan mit einer Produktionskapazität von über 75 t pro Tag "},"Herstellung von keramischen Erzeugnissen",null,{"$f":"IFERROR(IF(INDEX($B$265:$B$334,$O243+COLUMNS($E240:E240)-1)<>$C243,\"\",INDEX(EUConst_TierActivityListNames,$O243+COLUMNS($E240:E240)-1)),\"\")","v":"Keramische Erzeugnisse: Prozess (Methode A): nur Karbonat"},{"$f":"IFERROR(IF(INDEX($B$265:$B$334,$O243+COLUMNS($E240:F240)-1)<>$C243,\"\",INDEX(EUConst_TierActivityListNames,$O243+COLUMNS($E240:F240)-1)),\"\")","v":"Keramische Erzeugnisse: Prozess (Methode A): Gemisch (Karbonat + Nicht-Karbonat)"},{"$f":"IFERROR(IF(INDEX($B$265:$B$334,$O243+COLUMNS($E240:G240)-1)<>$C243,\"\",INDEX(EUConst_TierActivityListNames,$O243+COLUMNS($E240:G240)-1)),\"\")","v":"Keramische Erzeugnisse: Prozess (Methode A): Nicht-Karbonat"},{"$f":"IFERROR(IF(INDEX($B$265:$B$334,$O243+COLUMNS($E240:H240)-1)<>$C243,\"\",INDEX(EUConst_TierActivityListNames,$O243+COLUMNS($E240:H240)-1)),\"\")","v":"Keramische Erzeugnisse: Prozess (Methode B): Oxid-Output"},{"$f":"IFERROR(IF(INDEX($B$265:$B$334,$O243+COLUMNS($E240:I240)-1)<>$C243,\"\",INDEX(EUConst_TierActivityListNames,$O243+COLUMNS($E240:I240)-1)),\"\")","v":"Keramische Erzeugnisse: Abgaswäsche"},{"$f":"IFERROR(IF(INDEX($B$265:$B$334,$O243+COLUMNS($E240:J240)-1)<>$C243,\"\",INDEX(EUConst_TierActivityListNames,$O243+COLUMNS($E240:J240)-1)),\"\")","v":""},{"$f":"IFERROR(IF(INDEX($B$265:$B$334,$O243+COLUMNS($E240:K240)-1)<>$C243,\"\",INDEX(EUConst_TierActivityListNames,$O243+COLUMNS($E240:K240)-1)),\"\")","v":""},"CO2",null,null,42]
[15,{"$f":"IF(LEN(Translations!$B$943)>250,LEFT(Translations!$B$943,250),Translations!$B$943)","v":"Herstellung von Dämmmaterial aus Mineralwolle unter Verwendung von Glas, Stein oder Schlacke mit einer Schmelzkapazität von über 20 t pro Tag "},"Herstellung von Mineralwolle",null,{"$f":"IF(E242=\"\",\"\",E242)","v":"Glas und Mineralwolle: Prozess (Methode A): nur Karbonat"},"Glas und Mineralwolle: Prozess (Methode A): Gemisch (Karbonat + Nicht-Karbonat)","Glas und Mineralwolle: Prozess (Methode A): Nicht-Karbonat","","","","","CO2",null,null,""]
[16,{"$f":"IF(LEN(Translations!$B$944)>250,LEFT(Translations!$B$944,250),Translations!$B$944)","v":"Trocknen oder Brennen von Gips oder Herstellung von Gipskartonplatten und sonstigen Gipserzeugnissen bei Betrieb von Verbrennungseinheiten mit einer Gesamtfeuerungswärmeleistung von über 20 MW "},"Herstellung oder Verarbeitung von Gips oder Gipskartonplatten",null,null,null,null,null,null,null,null,"CO2",null,null,""]
[17,{"$f":"Translations!$B$945","v":"Herstellung von Zellstoff aus Holz oder anderen Faserstoffen "},"Herstellung von Zellstoff",null,{"$f":"IFERROR(IF(INDEX($B$265:$B$334,$O246+COLUMNS($E243:E243)-1)<>$C246,\"\",INDEX(EUConst_TierActivityListNames,$O246+COLUMNS($E243:E243)-1)),\"\")","v":"Papier und Zellstoff: Ergänzungschemikalien"},{"$f":"IFERROR(IF(INDEX($B$265:$B$334,$O246+COLUMNS($E243:F243)-1)<>$C246,\"\",INDEX(EUConst_TierActivityListNames,$O246+COLUMNS($E243:F243)-1)),\"\")","v":""},{"$f":"IFERROR(IF(INDEX($B$265:$B$334,$O246+COLUMNS($E243:G243)-1)<>$C246,\"\",INDEX(EUConst_TierActivityListNames,$O246+COLUMNS($E243:G243)-1)),\"\")","v":""},{"$f":"IFERROR(IF(INDEX($B$265:$B$334,$O246+COLUMNS($E243:H243)-1)<>$C246,\"\",INDEX(EUConst_TierActivityListNames,$O246+COLUMNS($E243:H243)-1)),\"\")","v":""},{"$f":"IFERROR(IF(INDEX($B$265:$B$334,$O246+COLUMNS($E243:I243)-1)<>$C246,\"\",INDEX(EUConst_TierActivityListNames,$O246+COLUMNS($E243:I243)-1)),\"\")","v":""},{"$f":"IFERROR(IF(INDEX($B$265:$B$334,$O246+COLUMNS($E243:J243)-1)<>$C246,\"\",INDEX(EUConst_TierActivityListNames,$O246+COLUMNS($E243:J243)-1)),\"\")","v":""},{"$f":"IFERROR(IF(INDEX($B$265:$B$334,$O246+COLUMNS($E243:K243)-1)<>$C246,\"\",INDEX(EUConst_TierActivityListNames,$O246+COLUMNS($E243:K243)-1)),\"\")","v":""},"CO2",null,null,47]
[18,{"$f":"IF(LEN(Translations!$B$946)>250,LEFT(Translations!$B$946,250),Translations!$B$946)","v":"Herstellung von Papier und Karton mit einer Produktionskapazität über 20 t pro Tag "},"Herstellung von Papier und Karton",null,{"$f":"IF(E246=\"\",\"\",E246)","v":"Papier und Zellstoff: Ergänzungschemikalien"},{"$f":"IF(F246=\"\",\"\",F246)","v":""},"","","","","","CO2",null,null,""]
[19,{"$f":"IF(LEN(Translations!$B$947)>250,LEFT(Translations!$B$947,250),Translations!$B$947)","v":"Herstellung von Industrieruß durch Karbonisierung organischer Stoffe wie Öle, Teere, Crack- und Destillationsrückstände bei Betrieb von Verbrennungseinheiten mit einer Gesamtfeuerungswärmeleistung von über 20 MW "},"Herstellung von Industrieruß",null,{"$f":"IFERROR(IF(INDEX($B$265:$B$334,$O248+COLUMNS($E245:E245)-1)<>$C248,\"\",INDEX(EUConst_TierActivityListNames,$O248+COLUMNS($E245:E245)-1)),\"\")","v":"Industrieruß: Massenbilanzmethodik"},{"$f":"IFERROR(IF(INDEX($B$265:$B$334,$O248+COLUMNS($E245:F245)-1)<>$C248,\"\",INDEX(EUConst_TierActivityListNames,$O248+COLUMNS($E245:F245)-1)),\"\")","v":""},{"$f":"IFERROR(IF(INDEX($B$265:$B$334,$O248+COLUMNS($E245:G245)-1)<>$C248,\"\",INDEX(EUConst_TierActivityListNames,$O248+COLUMNS($E245:G245)-1)),\"\")","v":""},{"$f":"IFERROR(IF(INDEX($B$265:$B$334,$O248+COLUMNS($E245:H245)-1)<>$C248,\"\",INDEX(EUConst_TierActivityListNames,$O248+COLUMNS($E245:H245)-1)),\"\")","v":""},{"$f":"IFERROR(IF(INDEX($B$265:$B$334,$O248+COLUMNS($E245:I245)-1)<>$C248,\"\",INDEX(EUConst_TierActivityListNames,$O248+COLUMNS($E245:I245)-1)),\"\")","v":""},{"$f":"IFERROR(IF(INDEX($B$265:$B$334,$O248+COLUMNS($E245:J245)-1)<>$C248,\"\",INDEX(EUConst_TierActivityListNames,$O248+COLUMNS($E245:J245)-1)),\"\")","v":""},{"$f":"IFERROR(IF(INDEX($B$265:$B$334,$O248+COLUMNS($E245:K245)-1)<>$C248,\"\",INDEX(EUConst_TierActivityListNames,$O248+COLUMNS($E245:K245)-1)),\"\")","v":""},"CO2",null,null,48]
[20,{"$f":"Translations!$B$874","v":"Herstellung von Salpetersäure"},"Herstellung von Salpetersäure",null,null,null,null,null,null,null,null,{"$f":"Translations!$B$886","v":"CO2 und N2O"},null,null,""]
[21,{"$f":"Translations!$B$875","v":"Herstellung von Adipinsäure"},"Herstellung von Adipinsäure",null,null,null,null,null,null,null,null,{"$f":"Translations!$B$886","v":"CO2 und N2O"},null,null,""]
[22,{"$f":"Translations!$B$876","v":"Herstellung von Glyoxal und Glyoxylsäure"},"Herstellung von Glyoxal und Glyoxylsäure",null,null,null,null,null,null,null,null,{"$f":"Translations!$B$886","v":"CO2 und N2O"},null,null,""]
[23,{"$f":"Translations!$B$877","v":"Herstellung von Ammoniak"},"Herstellung von Ammoniak",null,{"$f":"IFERROR(IF(INDEX($B$265:$B$334,$O252+COLUMNS($E249:E249)-1)<>$C252,\"\",INDEX(EUConst_TierActivityListNames,$O252+COLUMNS($E249:E249)-1)),\"\")","v":"Ammoniak: Brennstoff als Prozess-Input"},{"$f":"IFERROR(IF(INDEX($B$265:$B$334,$O252+COLUMNS($E249:F249)-1)<>$C252,\"\",INDEX(EUConst_TierActivityListNames,$O252+COLUMNS($E249:F249)-1)),\"\")","v":""},{"$f":"IFERROR(IF(INDEX($B$265:$B$334,$O252+COLUMNS($E249:G249)-1)<>$C252,\"\",INDEX(EUConst_TierActivityListNames,$O252+COLUMNS($E249:G249)-1)),\"\")","v":""},{"$f":"IFERROR(IF(INDEX($B$265:$B$334,$O252+COLUMNS($E249:H249)-1)<>$C252,\"\",INDEX(EUConst_TierActivityListNames,$O252+COLUMNS($E249:H249)-1)),\"\")","v":""},{"$f":"IFERROR(IF(INDEX($B$265:$B$334,$O252+COLUMNS($E249:I249)-1)<>$C252,\"\",INDEX(EUConst_TierActivityListNames,$O252+COLUMNS($E249:I249)-1)),\"\")","v":""},{"$f":"IFERROR(IF(INDEX($B$265:$B$334,$O252+COLUMNS($E249:J249)-1)<>$C252,\"\",INDEX(EUConst_TierActivityListNames,$O252+COLUMNS($E249:J249)-1)),\"\")","v":""},{"$f":"IFERROR(IF(INDEX($B$265:$B$334,$O252+COLUMNS($E249:K249)-1)<>$C252,\"\",INDEX(EUConst_TierActivityListNames,$O252+COLUMNS($E249:K249)-1)),\"\")","v":""},"CO2",null,null,49]
[24,{"$f":"IF(LEN(Translations!$B$948)>250,LEFT(Translations!$B$948,250),Translations!$B$948)","v":"Herstellung von organischen Grundchemikalien durch Cracken, Reformieren, partielle oder vollständige Oxidation oder ähnliche Verfahren, mit einer Produktionskapazität von über 100 t pro Tag "},"Herstellung von organischen Grundchemikalien",null,{"$f":"IFERROR(IF(INDEX($B$265:$B$334,$O253+COLUMNS($E250:E250)-1)<>$C253,\"\",INDEX(EUConst_TierActivityListNames,$O253+COLUMNS($E250:E250)-1)),\"\")","v":"Organische Grundchemikalien: Massenbilanzmethodik"},{"$f":"IFERROR(IF(INDEX($B$265:$B$334,$O253+COLUMNS($E250:F250)-1)<>$C253,\"\",INDEX(EUConst_TierActivityListNames,$O253+COLUMNS($E250:F250)-1)),\"\")","v":""},{"$f":"IFERROR(IF(INDEX($B$265:$B$334,$O253+COLUMNS($E250:G250)-1)<>$C253,\"\",INDEX(EUConst_TierActivityListNames,$O253+COLUMNS($E250:G250)-1)),\"\")","v":""},{"$f":"IFERROR(IF(INDEX($B$265:$B$334,$O253+COLUMNS($E250:H250)-1)<>$C253,\"\",INDEX(EUConst_TierActivityListNames,$O253+COLUMNS($E250:H250)-1)),\"\")","v":""},{"$f":"IFERROR(IF(INDEX($B$265:$B$334,$O253+COLUMNS($E250:I250)-1)<>$C253,\"\",INDEX(EUConst_TierActivityListNames,$O253+COLUMNS($E250:I250)-1)),\"\")","v":""},{"$f":"IFERROR(IF(INDEX($B$265:$B$334,$O253+COLUMNS($E250:J250)-1)<>$C253,\"\",INDEX(EUConst_TierActivityListNames,$O253+COLUMNS($E250:J250)-1)),\"\")","v":""},{"$f":"IFERROR(IF(INDEX($B$265:$B$334,$O253+COLUMNS($E250:K250)-1)<>$C253,\"\",INDEX(EUConst_TierActivityListNames,$O253+COLUMNS($E250:K250)-1)),\"\")","v":""},"CO2",null,null,52]
[25,{"$f":"IF(LEN(Translations!$B$949)>250,LEFT(Translations!$B$949,250),Translations!$B$949)","v":"Herstellung von Wasserstoff (H2) und Synthesegas durch Reformieren oder partielle Oxidation mit einer Produktionskapazität von über 25 t pro Tag "},"Herstellung von Wasserstoff und Synthesegas",null,{"$f":"IFERROR(IF(INDEX($B$265:$B$334,$O254+COLUMNS($E251:E251)-1)<>$C254,\"\",INDEX(EUConst_TierActivityListNames,$O254+COLUMNS($E251:E251)-1)),\"\")","v":"Wasserstoff und Synthesegas: Brennstoff als Prozess-Input"},{"$f":"IFERROR(IF(INDEX($B$265:$B$334,$O254+COLUMNS($E251:F251)-1)<>$C254,\"\",INDEX(EUConst_TierActivityListNames,$O254+COLUMNS($E251:F251)-1)),\"\")","v":"Wasserstoff und Synthesegas: Massenbilanzmethodik"},{"$f":"IFERROR(IF(INDEX($B$265:$B$334,$O254+COLUMNS($E251:G251)-1)<>$C254,\"\",INDEX(EUConst_TierActivityListNames,$O254+COLUMNS($E251:G251)-1)),\"\")","v":""},{"$f":"IFERROR(IF(INDEX($B$265:$B$334,$O254+COLUMNS($E251:H251)-1)<>$C254,\"\",INDEX(EUConst_TierActivityListNames,$O254+COLUMNS($E251:H251)-1)),\"\")","v":""},{"$f":"IFERROR(IF(INDEX($B$265:$B$334,$O254+COLUMNS($E251:I251)-1)<>$C254,\"\",INDEX(EUConst_TierActivityListNames,$O254+COLUMNS($E251:I251)-1)),\"\")","v":""},{"$f":"IFERROR(IF(INDEX($B$265:$B$334,$O254+COLUMNS($E251:J251)-1)<>$C254,\"\",INDEX(EUConst_TierActivityListNames,$O254+COLUMNS($E251:J251)-1)),\"\")","v":""},{"$f":"IFERROR(IF(INDEX($B$265:$B$334,$O254+COLUMNS($E251:K251)-1)<>$C254,\"\",INDEX(EUConst_TierActivityListNames,$O254+COLUMNS($E251:K251)-1)),\"\")","v":""},"CO2",null,null,50]
[26,{"$f":"Translations!$B$950","v":"Herstellung von Soda (Na2CO3) und Natriumbicarbonat (NaHCO3) "},"Herstellung von Soda und Natriumbicarbonat",null,{"$f":"IFERROR(IF(INDEX($B$265:$B$334,$O255+COLUMNS($E252:E252)-1)<>$C255,\"\",INDEX(EUConst_TierActivityListNames,$O255+COLUMNS($E252:E252)-1)),\"\")","v":"Soda / Natriumbicarbonat: Massenbilanzmethodik"},{"$f":"IFERROR(IF(INDEX($B$265:$B$334,$O255+COLUMNS($E252:F252)-1)<>$C255,\"\",INDEX(EUConst_TierActivityListNames,$O255+COLUMNS($E252:F252)-1)),\"\")","v":""},{"$f":"IFERROR(IF(INDEX($B$265:$B$334,$O255+COLUMNS($E252:G252)-1)<>$C255,\"\",INDEX(EUConst_TierActivityListNames,$O255+COLUMNS($E252:G252)-1)),\"\")","v":""},{"$f":"IFERROR(IF(INDEX($B$265:$B$334,$O255+COLUMNS($E252:H252)-1)<>$C255,\"\",INDEX(EUConst_TierActivityListNames,$O255+COLUMNS($E252:H252)-1)),\"\")","v":""},{"$f":"IFERROR(IF(INDEX($B$265:$B$334,$O255+COLUMNS($E252:I252)-1)<>$C255,\"\",INDEX(EUConst_TierActivityListNames,$O255+COLUMNS($E252:I252)-1)),\"\")","v":""},{"$f":"IFERROR(IF(INDEX($B$265:$B$334,$O255+COLUMNS($E252:J252)-1)<>$C255,\"\",INDEX(EUConst_TierActivityListNames,$O255+COLUMNS($E252:J252)-1)),\"\")","v":""},{"$f":"IFERROR(IF(INDEX($B$265:$B$334,$O255+COLUMNS($E252:K252)-1)<>$C255,\"\",INDEX(EUConst_TierActivityListNames,$O255+COLUMNS($E252:K252)-1)),\"\")","v":""},"CO2",null,null,58]
[27,{"$f":"IF(LEN(Translations!$B$951)>250,LEFT(Translations!$B$951,250),Translations!$B$951)","v":"Abscheidung von Treibhausgasen aus unter diese Richtlinie fallenden Anlagen zwecks Beförderung und geologischer Speicherung in einer gemäß der Richtlinie 2009/31/EG genehmigten Speicherstätte"},"Abscheidung von Treibhausgasen gemäß der Richtlinie 2009/31/EG",null,{"$f":"IFERROR(IF(INDEX($B$265:$B$334,$O256+COLUMNS($E253:E253)-1)<>$C256,\"\",INDEX(EUConst_TierActivityListNames,$O256+COLUMNS($E253:E253)-1)),\"\")","v":"CCS: Abscheidung: Weitergeleitetes CO2"},{"$f":"IFERROR(IF(INDEX($B$265:$B$334,$O256+COLUMNS($E253:F253)-1)<>$C256,\"\",INDEX(EUConst_TierActivityListNames,$O256+COLUMNS($E253:F253)-1)),\"\")","v":""},{"$f":"IFERROR(IF(INDEX($B$265:$B$334,$O256+COLUMNS($E253:G253)-1)<>$C256,\"\",INDEX(EUConst_TierActivityListNames,$O256+COLUMNS($E253:G253)-1)),\"\")","v":""},{"$f":"IFERROR(IF(INDEX($B$265:$B$334,$O256+COLUMNS($E253:H253)-1)<>$C256,\"\",INDEX(EUConst_TierActivityListNames,$O256+COLUMNS($E253:H253)-1)),\"\")","v":""},{"$f":"IFERROR(IF(INDEX($B$265:$B$334,$O256+COLUMNS($E253:I253)-1)<>$C256,\"\",INDEX(EUConst_TierActivityListNames,$O256+COLUMNS($E253:I253)-1)),\"\")","v":""},{"$f":"IFERROR(IF(INDEX($B$265:$B$334,$O256+COLUMNS($E253:J253)-1)<>$C256,\"\",INDEX(EUConst_TierActivityListNames,$O256+COLUMNS($E253:J253)-1)),\"\")","v":""},{"$f":"IFERROR(IF(INDEX($B$265:$B$334,$O256+COLUMNS($E253:K253)-1)<>$C256,\"\",INDEX(EUConst_TierActivityListNames,$O256+COLUMNS($E253:K253)-1)),\"\")","v":""},"CO2",null,null,62]
[28,{"$f":"IF(LEN(Translations!$B$952)>250,LEFT(Translations!$B$952,250),Translations!$B$952)","v":"Beförderung von Treibhausgasen in Pipelines zwecks geologischer Speicherung in einer gemäß der Richtlinie 2009/31/EG genehmigten Speicherstätte"},"Transport von Treibhausgasen gemäß der Richtlinie 2009/31/EG",null,{"$f":"IFERROR(IF(INDEX($B$265:$B$334,$O257+COLUMNS($E254:E254)-1)<>$C257,\"\",INDEX(EUConst_TierActivityListNames,$O257+COLUMNS($E254:E254)-1)),\"\")","v":"CCS: Transport: Weitergeleitetes CO2"},{"$f":"IFERROR(IF(INDEX($B$265:$B$334,$O257+COLUMNS($E254:F254)-1)<>$C257,\"\",INDEX(EUConst_TierActivityListNames,$O257+COLUMNS($E254:F254)-1)),\"\")","v":"CCS: Transport: CO2-Leckagen"},{"$f":"IFERROR(IF(INDEX($B$265:$B$334,$O257+COLUMNS($E254:G254)-1)<>$C257,\"\",INDEX(EUConst_TierActivityListNames,$O257+COLUMNS($E254:G254)-1)),\"\")","v":"CCS: Transport: CO2-Ablass"},{"$f":"IFERROR(IF(INDEX($B$265:$B$334,$O257+COLUMNS($E254:H254)-1)<>$C257,\"\",INDEX(EUConst_TierActivityListNames,$O257+COLUMNS($E254:H254)-1)),\"\")","v":"CCS: Transport: Diffuse CO2 Emissionen"},{"$f":"IFERROR(IF(INDEX($B$265:$B$334,$O257+COLUMNS($E254:I254)-1)<>$C257,\"\",INDEX(EUConst_TierActivityListNames,$O257+COLUMNS($E254:I254)-1)),\"\")","v":""},{"$f":"IFERROR(IF(INDEX($B$265:$B$334,$O257+COLUMNS($E254:J254)-1)<>$C257,\"\",INDEX(EUConst_TierActivityListNames,$O257+COLUMNS($E254:J254)-1)),\"\")","v":""},{"$f":"IFERROR(IF(INDEX($B$265:$B$334,$O257+COLUMNS($E254:K254)-1)<>$C257,\"\",INDEX(EUConst_TierActivityListNames,$O257+COLUMNS($E254:K254)-1)),\"\")","v":""},"CO2",null,null,63]
[29,{"$f":"IF(LEN(Translations!$B$953)>250,LEFT(Translations!$B$953,250),Translations!$B$953)","v":"Geologische Speicherung von Treibhausgasen in einer gemäß der Richtlinie 2009/31/EG genehmigten Speicherstätte"},"Lagerung von Treibhausgasen gemäß der Richtlinie 2009/31/EG",null,{"$f":"IFERROR(IF(INDEX($B$265:$B$334,$O258+COLUMNS($E255:E255)-1)<>$C258,\"\",INDEX(EUConst_TierActivityListNames,$O258+COLUMNS($E255:E255)-1)),\"\")","v":"CCS: Speicherung: Weitergeleitetes CO2"},{"$f":"IFERROR(IF(INDEX($B$265:$B$334,$O258+COLUMNS($E255:F255)-1)<>$C258,\"\",INDEX(EUConst_TierActivityListNames,$O258+COLUMNS($E255:F255)-1)),\"\")","v":"CCS: Speicherung: CO2-Ablass"},{"$f":"IFERROR(IF(INDEX($B$265:$B$334,$O258+COLUMNS($E255:G255)-1)<>$C258,\"\",INDEX(EUConst_TierActivityListNames,$O258+COLUMNS($E255:G255)-1)),\"\")","v":"CCS: Speicherung: CO2-Leckagen"},{"$f":"IFERROR(IF(INDEX($B$265:$B$334,$O258+COLUMNS($E255:H255)-1)<>$C258,\"\",INDEX(EUConst_TierActivityListNames,$O258+COLUMNS($E255:H255)-1)),\"\")","v":"CCS: Speicherung: Diffuse CO2 Emissionen"},{"$f":"IFERROR(IF(INDEX($B$265:$B$334,$O258+COLUMNS($E255:I255)-1)<>$C258,\"\",INDEX(EUConst_TierActivityListNames,$O258+COLUMNS($E255:I255)-1)),\"\")","v":""},{"$f":"IFERROR(IF(INDEX($B$265:$B$334,$O258+COLUMNS($E255:J255)-1)<>$C258,\"\",INDEX(EUConst_TierActivityListNames,$O258+COLUMNS($E255:J255)-1)),\"\")","v":""},{"$f":"IFERROR(IF(INDEX($B$265:$B$334,$O258+COLUMNS($E255:K255)-1)<>$C258,\"\",INDEX(EUConst_TierActivityListNames,$O258+COLUMNS($E255:K255)-1)),\"\")","v":""},"CO2",null,null,67]
[]
[]
[]
[]
[null,{"$f":"Translations!$B$954","v":"Tätigkeitsdaten"},null,null,null,null,{"$f":"Translations!$B$955","v":"Ebene"},{"$f":"Translations!$B$955","v":"Ebene"},{"$f":"Translations!$B$955","v":"Ebene"},{"$f":"Translations!$B$955","v":"Ebene"},{"$f":"Translations!$B$955","v":"Ebene"},{"$f":"Translations!$B$955","v":"Ebene"},{"$f":"Translations!$B$955","v":"Ebene"},{"$f":"Translations!$B$955","v":"Ebene"},{"$f":"Translations!$B$955","v":"Ebene"}]
[null,{"$f":"Translations!$B$956","v":"Tätigkeit"},{"$f":"Translations!$B$957","v":"Kurzbezeichnung"},{"$f":"Translations!$B$958","v":"Teilmaßnahme"},{"$f":"Translations!$B$389","v":"Parameter"},{"$f":"Translations!$B$959","v":"Quellentyp"},{"$f":"Translations!$B$960","v":"Minimum"},1,2,"2a",{"$f":"Translations!$B$928","v":"2b"},3,"3a","3b",4,{"$f":"Translations!$B$961","v":"Maximum"},null,null,null,null,null,null,"Is CO2 transfer?",null,null,{"$f":"Translations!$B$962","v":"Schattieren?"}]
[1,{"$f":"C230","v":"Verbrennung von Brennstoffen"},{"$f":"Translations!$B$964","v":"Verbrennung"},{"$f":"Translations!$B$965","v":"Kommerzielle Standardbrennstoffe"},{"$f":"Translations!$B$442","v":"Brennstoffmenge [t] oder [Nm3]"},{"$f":"EUconst_Fuel","v":"Standardmethodik: Brennstoff, Artikel 24 Absatz 1"},2,{"$f":"Translations!$B$966","v":"± 7,5 %"},{"$f":"Translations!$B$967","v":"± 5,0 %"},null,null,{"$f":"Translations!$B$968","v":"± 2,5 %"},null,null,{"$f":"Translations!$B$969","v":"± 1,5 %"},{"$f":"COUNTA(H265:O265)","v":4},{"$f":"C265 & \": \" &D265","v":"Verbrennung: Kommerzielle Standardbrennstoffe"},null,{"$f":"EUconst_CNTR_ActivityData&Q265","v":"ActivityData_Verbrennung: Kommerzielle Standardbrennstoffe"},null,null,null,false,null,null,{"$f":"IF(G265=EUconst_NA,TRUE,FALSE)","v":false}]
[2,{"$f":"B265","v":"Verbrennung von Brennstoffen"},"Verbrennung",{"$f":"Translations!$B$970","v":"Andere gasförmige und flüssige Brennstoffe"},{"$f":"Translations!$B$442","v":"Brennstoffmenge [t] oder [Nm3]"},{"$f":"$F$265","v":"Standardmethodik: Brennstoff, Artikel 24 Absatz 1"},2,{"$f":"Translations!$B$966","v":"± 7,5 %"},{"$f":"Translations!$B$967","v":"± 5,0 %"},null,null,{"$f":"Translations!$B$968","v":"± 2,5 %"},null,null,{"$f":"Translations!$B$969","v":"± 1,5 %"},4,"Verbrennung: Andere gasförmige und flüssige Brennstoffe",null,"ActivityData_Verbrennung: Andere gasförmige und flüssige Brennstoffe",null,null,null,false,null,null,false]
[3,"Verbrennung von Brennstoffen","Verbrennung",{"$f":"Translations!$B$1278","v":"Feste Brennstoffe, ausgenommen Abfälle"},{"$f":"Translations!$B$972","v":"Brennstoffmenge [t]"},{"$f":"$F$265","v":"Standardmethodik: Brennstoff, Artikel 24 Absatz 1"},1,{"$f":"Translations!$B$966","v":"± 7,5 %"},{"$f":"Translations!$B$967","v":"± 5,0 %"},null,null,{"$f":"Translations!$B$968","v":"± 2,5 %"},null,null,{"$f":"Translations!$B$969","v":"± 1,5 %"},4,"Verbrennung: Feste Brennstoffe, ausgenommen Abfälle",null,"ActivityData_Verbrennung: Feste Brennstoffe, ausgenommen Abfälle",null,null,null,false,null,null,false]
[4,{"$f":"B267","v":"Verbrennung von Brennstoffen"},{"$f":"C267","v":"Verbrennung"},{"$f":"Translations!$B$1275","v":"Abfall"},{"$f":"Translations!$B$972","v":"Brennstoffmenge [t]"},{"$f":"$F$265","v":"Standardmethodik: Brennstoff, Artikel 24 Absatz 1"},1,{"$f":"Translations!$B$966","v":"± 7,5 %"},{"$f":"Translations!$B$967","v":"± 5,0 %"},null,null,{"$f":"Translations!$B$968","v":"± 2,5 %"},null,null,{"$f":"Translations!$B$969","v":"± 1,5 %"},{"$f":"COUNTA(H268:O268)","v":4},{"$f":"C268 & \": \" &D268","v":"Verbrennung: Abfall"},null,{"$f":"EUconst_CNTR_ActivityData&Q268","v":"ActivityData_Verbrennung: Abfall"},null,null,null,false,null,null,{"$f":"IF(G268=EUconst_NA,TRUE,FALSE)","v":false}]
[5,{"$f":"B267","v":"Verbrennung von Brennstoffen"},{"$f":"C267","v":"Verbrennung"},{"$f":"Translations!$B$973","v":"Gasaufbereitungsstationen"},{"$f":"Translations!$B$974","v":"Jedes Input- und Outputmaterial [t]"},{"$f":"EUconst_MassBalance","v":"Massenbilanzmethodik, Artikel 25"},1,{"$f":"Translations!$B$966","v":"± 7,5 %"},{"$f":"Translations!$B$967","v":"± 5,0 %"},null,null,{"$f":"Translations!$B$968","v":"± 2,5 %"},null,null,{"$f":"Translations!$B$969","v":"± 1,5 %"},4,"Verbrennung: Gasaufbereitungsstationen",null,"ActivityData_Verbrennung: Gasaufbereitungsstationen",null,null,null,false,null,null,false]
[6,{"$f":"B267","v":"Verbrennung von Brennstoffen"},{"$f":"C267","v":"Verbrennung"},{"$f":"Translations!$B$975","v":"Fackeln"},{"$f":"Translations!$B$976","v":"Fackelgasmenge [Nm3]"},{"$f":"$F$265","v":"Standardmethodik: Brennstoff, Artikel 24 Absatz 1"},1,{"$f":"Translations!$B$977","v":"± 17,5 %"},{"$f":"Translations!$B$978","v":"± 12,5 %"},null,null,{"$f":"Translations!$B$966","v":"± 7,5 %"},null,null,null,3,"Verbrennung: Fackeln",null,"ActivityData_Verbrennung: Fackeln",null,null,null,false,null,null,false]
[7,"Verbrennung von Brennstoffen","Verbrennung",{"$f":"Translations!$B$979","v":"Abgaswäsche (Karbonat)"},{"$f":"Translations!$B$980","v":"Verbrauchte Karbonatmenge [t]"},{"$f":"EUconst_ProcessCarbonate","v":"Standardmethodik: Prozess, Artikel 24 Absatz 2"},1,{"$f":"Translations!$B$966","v":"± 7,5 %"},null,null,null,null,null,null,null,1,"Verbrennung: Abgaswäsche (Karbonat)",null,"ActivityData_Verbrennung: Abgaswäsche (Karbonat)",null,null,null,false,null,null,false]
[8,"Verbrennung von Brennstoffen","Verbrennung",{"$f":"Translations!$B$981","v":"Abgaswäsche (Gips)"},{"$f":"Translations!$B$982","v":"Erzeugte Gipsmenge [t]"},{"$f":"$F$271","v":"Standardmethodik: Prozess, Artikel 24 Absatz 2"},1,{"$f":"Translations!$B$966","v":"± 7,5 %"},null,null,null,null,null,null,null,1,"Verbrennung: Abgaswäsche (Gips)",null,"ActivityData_Verbrennung: Abgaswäsche (Gips)",null,null,null,false,null,null,false]
[9,"Verbrennung von Brennstoffen","Verbrennung",{"$f":"Translations!$B$1256","v":"Abgaswäsche (Harnstoff)"},{"$f":"Translations!$B$1257","v":"verbrauchte Harnstoffmenge [t]"},{"$f":"$F$271","v":"Standardmethodik: Prozess, Artikel 24 Absatz 2"},1,{"$f":"Translations!$B$966","v":"± 7,5 %"},null,null,null,null,null,null,null,{"$f":"COUNTA(H273:O273)","v":1},{"$f":"C273 & \": \" &D273","v":"Verbrennung: Abgaswäsche (Harnstoff)"},null,{"$f":"EUconst_CNTR_ActivityData&Q273","v":"ActivityData_Verbrennung: Abgaswäsche (Harnstoff)"},null,null,null,false,null,null,false]
[10,{"$f":"C232","v":"Raffination von Mineralöl "},{"$f":"Translations!$B$983","v":"Raffinerien"},{"$f":"Translations!$B$984","v":"Massenbilanz"},{"$f":"Translations!$B$974","v":"Jedes Input- und Outputmaterial [t]"},{"$f":"EUconst_MassBalance","v":"Massenbilanzmethodik, Artikel 25"},1,{"$f":"Translations!$B$966","v":"± 7,5 %"},{"$f":"Translations!$B$967","v":"± 5,0 %"},null,null,{"$f":"Translations!$B$968","v":"± 2,5 %"},null,null,{"$f":"Translations!$B$969","v":"± 1,5 %"},4,"Raffinerien: Massenbilanz",null,"ActivityData_Raffinerien: Massenbilanz",null,null,null,false,null,null,false]
[11,{"$f":"Translations!$B$858","v":"Raffination von Mineralöl "},{"$f":"C274","v":"Raffinerien"},{"$f":"Translations!$B$985","v":"Regeneration von katalytischen Crackern"},{"$f":"Translations!$B$986","v":"Unsicherheitsvorgaben gelten für jede Emissionsquelle separat"},{"$f":"EUconst_MassBalance","v":"Massenbilanzmethodik, Artikel 25"},1,{"$f":"Translations!$B$987","v":"± 10,0 % (als t CO2)"},{"$f":"Translations!$B$988","v":"± 7,5 % (als t CO2)"},null,null,{"$f":"Translations!$B$989","v":"± 5,0 % (als t CO2)"},null,null,{"$f":"Translations!$B$990","v":"± 2,5 % (als t CO2)"},4,"Raffinerien: Regeneration von katalytischen Crackern",null,"ActivityData_Raffinerien: Regeneration von katalytischen Crackern",null,null,null,false,null,null,false]
[12,{"$f":"B275","v":"Raffination von Mineralöl "},{"$f":"C275","v":"Raffinerien"},{"$f":"Translations!$B$991","v":"Wasserstofferzeugung"},{"$f":"Translations!$B$992","v":"Eingesetzter Kohlenwasserstoff [t]"},{"$f":"EUconst_MassBalance","v":"Massenbilanzmethodik, Artikel 25"},1,{"$f":"Translations!$B$966","v":"± 7,5 %"},{"$f":"Translations!$B$967","v":"± 5,0 %"},null,null,{"$f":"Translations!$B$968","v":"± 2,5 %"},null,null,{"$f":"Translations!$B$969","v":"± 1,5 %"},4,"Raffinerien: Wasserstofferzeugung",null,"ActivityData_Raffinerien: Wasserstofferzeugung",null,null,null,false,null,null,false]
[13,{"$f":"C233","v":"Herstellung von Koks"},{"$f":"Translations!$B$993","v":"Koks"},{"$f":"Translations!$B$994","v":"Brennstoff als Prozess-Input"},{"$f":"Translations!$B$442","v":"Brennstoffmenge [t] oder [Nm3]"},{"$f":"EUconst_Fuel","v":"Standardmethodik: Brennstoff, Artikel 24 Absatz 1"},1,{"$f":"Translations!$B$966","v":"± 7,5 %"},{"$f":"Translations!$B$967","v":"± 5,0 %"},null,null,{"$f":"Translations!$B$968","v":"± 2,5 %"},null,null,{"$f":"Translations!$B$969","v":"± 1,5 %"},4,"Koks: Brennstoff als Prozess-Input",null,"ActivityData_Koks: Brennstoff als Prozess-Input",null,null,null,false,null,null,false]
[14,{"$f":"B277","v":"Herstellung von Koks"},"Koks",{"$f":"Translations!$B$1258","v":"Prozess (Methode A): nur Karbonat"},{"$f":"Translations!$B$1259","v":"Prozess-Input [t]"},{"$f":"EUconst_ProcessCarbonate","v":"Standardmethodik: Prozess, Artikel 24 Absatz 2"},1,{"$f":"Translations!$B$966","v":"± 7,5 %"},{"$f":"Translations!$B$967","v":"± 5,0 %"},null,null,{"$f":"Translations!$B$968","v":"± 2,5 %"},null,null,null,3,"Koks: Prozess (Methode A): nur Karbonat",null,"ActivityData_Koks: Prozess (Methode A): nur Karbonat",null,null,null,false,null,null,false]
[15,"Herstellung von Koks","Koks",{"$f":"Translations!$B$1260","v":"Prozess (Methode A): Gemisch (Karbonat + Nicht-Karbonat)"},{"$f":"Translations!$B$1259","v":"Prozess-Input [t]"},{"$f":"EUconst_ProcessCarbonate","v":"Standardmethodik: Prozess, Artikel 24 Absatz 2"},1,{"$f":"Translations!$B$966","v":"± 7,5 %"},{"$f":"Translations!$B$967","v":"± 5,0 %"},null,null,{"$f":"Translations!$B$968","v":"± 2,5 %"},null,null,null,{"$f":"COUNTA(H279:O279)","v":3},{"$f":"C279 & \": \" &D279","v":"Koks: Prozess (Methode A): Gemisch (Karbonat + Nicht-Karbonat)"},null,{"$f":"EUconst_CNTR_ActivityData&Q279","v":"ActivityData_Koks: Prozess (Methode A): Gemisch (Karbonat + Nicht-Karbonat)"},null,null,null,false,null,null,false]
[16,"Herstellung von Koks","Koks",{"$f":"Translations!$B$1261","v":"Prozess (Methode A): Nicht-Karbonat"},{"$f":"Translations!$B$1259","v":"Prozess-Input [t]"},{"$f":"EUconst_ProcessCarbonate","v":"Standardmethodik: Prozess, Artikel 24 Absatz 2"},1,{"$f":"Translations!$B$966","v":"± 7,5 %"},{"$f":"Translations!$B$967","v":"± 5,0 %"},null,null,{"$f":"Translations!$B$968","v":"± 2,5 %"},null,null,null,{"$f":"COUNTA(H280:O280)","v":3},{"$f":"C280 & \": \" &D280","v":"Koks: Prozess (Methode A): Nicht-Karbonat"},null,{"$f":"EUconst_CNTR_ActivityData&Q280","v":"ActivityData_Koks: Prozess (Methode A): Nicht-Karbonat"},null,null,null,false,null,null,false]
[17,{"$f":"B278","v":"Herstellung von Koks"},{"$f":"C278","v":"Koks"},{"$f":"Translations!$B$1262","v":"Prozess (Methode B): Oxid-Output"},{"$f":"Translations!$B$998","v":"Oxid-Output [t]"},{"$f":"EUconst_ProcessCarbonate","v":"Standardmethodik: Prozess, Artikel 24 Absatz 2"},1,{"$f":"Translations!$B$967","v":"± 5,0 %"},{"$f":"Translations!$B$968","v":"± 2,5 %"},null,null,null,null,null,null,2,"Koks: Prozess (Methode B): Oxid-Output",null,"ActivityData_Koks: Prozess (Methode B): Oxid-Output",null,null,null,false,null,null,false]
[18,"Herstellung von Koks","Koks",{"$f":"Translations!$B$984","v":"Massenbilanz"},{"$f":"Translations!$B$974","v":"Jedes Input- und Outputmaterial [t]"},{"$f":"EUconst_MassBalance","v":"Massenbilanzmethodik, Artikel 25"},1,{"$f":"Translations!$B$966","v":"± 7,5 %"},{"$f":"Translations!$B$967","v":"± 5,0 %"},null,null,{"$f":"Translations!$B$968","v":"± 2,5 %"},null,null,{"$f":"Translations!$B$969","v":"± 1,5 %"},4,"Koks: Massenbilanz",null,"ActivityData_Koks: Massenbilanz",null,null,null,false,null,null,false]
[19,{"$f":"C234","v":"Röstung oder Sinterung von Metallerz"},{"$f":"Translations!$B$1000","v":"Metallerz"},{"$f":"Translations!$B$1258","v":"Prozess (Methode A): nur Karbonat"},{"$f":"Translations!$B$1259","v":"Prozess-Input [t]"},{"$f":"$F$271","v":"Standardmethodik: Prozess, Artikel 24 Absatz 2"},1,{"$f":"Translations!$B$967","v":"± 5,0 %"},{"$f":"Translations!$B$968","v":"± 2,5 %"},null,null,null,null,null,null,2,"Metallerz: Prozess (Methode A): nur Karbonat",null,"ActivityData_Metallerz: Prozess (Methode A): nur Karbonat",null,null,null,false,null,null,false]
[20,{"$f":"B283","v":"Röstung oder Sinterung von Metallerz"},"Metallerz",{"$f":"Translations!$B$1260","v":"Prozess (Methode A): Gemisch (Karbonat + Nicht-Karbonat)"},{"$f":"Translations!$B$1259","v":"Prozess-Input [t]"},{"$f":"EUconst_ProcessCarbonate","v":"Standardmethodik: Prozess, Artikel 24 Absatz 2"},1,{"$f":"Translations!$B$966","v":"± 7,5 %"},{"$f":"Translations!$B$967","v":"± 5,0 %"},null,null,{"$f":"Translations!$B$968","v":"± 2,5 %"},null,null,null,{"$f":"COUNTA(H284:O284)","v":3},{"$f":"C284 & \": \" &D284","v":"Metallerz: Prozess (Methode A): Gemisch (Karbonat + Nicht-Karbonat)"},null,{"$f":"EUconst_CNTR_ActivityData&Q284","v":"ActivityData_Metallerz: Prozess (Methode A): Gemisch (Karbonat + Nicht-Karbonat)"},null,null,null,false,null,null,false]
[21,"Röstung oder Sinterung von Metallerz","Metallerz",{"$f":"Translations!$B$1261","v":"Prozess (Methode A): Nicht-Karbonat"},{"$f":"Translations!$B$1259","v":"Prozess-Input [t]"},{"$f":"EUconst_ProcessCarbonate","v":"Standardmethodik: Prozess, Artikel 24 Absatz 2"},1,{"$f":"Translations!$B$966","v":"± 7,5 %"},{"$f":"Translations!$B$967","v":"± 5,0 %"},null,null,{"$f":"Translations!$B$968","v":"± 2,5 %"},null,null,null,{"$f":"COUNTA(H285:O285)","v":3},{"$f":"C285 & \": \" &D285","v":"Metallerz: Prozess (Methode A): Nicht-Karbonat"},null,{"$f":"EUconst_CNTR_ActivityData&Q285","v":"ActivityData_Metallerz: Prozess (Methode A): Nicht-Karbonat"},null,null,null,false,null,null,false]
[22,"Röstung oder Sinterung von Metallerz","Metallerz",{"$f":"Translations!$B$1262","v":"Prozess (Methode B): Oxid-Output"},{"$f":"Translations!$B$998","v":"Oxid-Output [t]"},{"$f":"EUconst_ProcessCarbonate","v":"Standardmethodik: Prozess, Artikel 24 Absatz 2"},1,{"$f":"Translations!$B$967","v":"± 5,0 %"},{"$f":"Translations!$B$968","v":"± 2,5 %"},null,null,null,null,null,null,{"$f":"COUNTA(H286:O286)","v":2},{"$f":"C286 & \": \" &D286","v":"Metallerz: Prozess (Methode B): Oxid-Output"},null,{"$f":"EUconst_CNTR_ActivityData&Q286","v":"ActivityData_Metallerz: Prozess (Methode B): Oxid-Output"},null,null,null,false,null,null,false]
[23,{"$f":"B283","v":"Röstung oder Sinterung von Metallerz"},{"$f":"C283","v":"Metallerz"},{"$f":"Translations!$B$984","v":"Massenbilanz"},{"$f":"Translations!$B$974","v":"Jedes Input- und Outputmaterial [t]"},{"$f":"EUconst_MassBalance","v":"Massenbilanzmethodik, Artikel 25"},1,{"$f":"Translations!$B$966","v":"± 7,5 %"},{"$f":"Translations!$B$967","v":"± 5,0 %"},null,null,{"$f":"Translations!$B$968","v":"± 2,5 %"},null,null,{"$f":"Translations!$B$969","v":"± 1,5 %"},4,"Metallerz: Massenbilanz",null,"ActivityData_Metallerz: Massenbilanz",null,null,null,false,null,null,false]
[24,{"$f":"C235","v":"Herstellung von Eisen oder Stahl"},{"$f":"Translations!$B$1004","v":"Eisen und Stahl"},{"$f":"Translations!$B$994","v":"Brennstoff als Prozess-Input"},{"$f":"Translations!$B$1005","v":"Jeder Massenstrom in die und aus der Anlage [t]"},{"$f":"$F$265","v":"Standardmethodik: Brennstoff, Artikel 24 Absatz 1"},1,{"$f":"Translations!$B$966","v":"± 7,5 %"},{"$f":"Translations!$B$967","v":"± 5,0 %"},null,null,{"$f":"Translations!$B$968","v":"± 2,5 %"},null,null,{"$f":"Translations!$B$969","v":"± 1,5 %"},4,"Eisen und Stahl: Brennstoff als Prozess-Input",null,"ActivityData_Eisen und Stahl: Brennstoff als Prozess-Input",null,null,null,false,null,null,false]
[25,{"$f":"B288","v":"Herstellung von Eisen oder Stahl"},"Eisen und Stahl",{"$f":"Translations!$B$1258","v":"Prozess (Methode A): nur Karbonat"},{"$f":"Translations!$B$1259","v":"Prozess-Input [t]"},{"$f":"$F$271","v":"Standardmethodik: Prozess, Artikel 24 Absatz 2"},1,{"$f":"Translations!$B$966","v":"± 7,5 %"},{"$f":"Translations!$B$967","v":"± 5,0 %"},null,null,{"$f":"Translations!$B$968","v":"± 2,5 %"},null,null,null,3,"Eisen und Stahl: Prozess (Methode A): nur Karbonat",null,"ActivityData_Eisen und Stahl: Prozess (Methode A): nur Karbonat",null,null,null,false,null,null,false]
[26,"Herstellung von Eisen oder Stahl","Eisen und Stahl",{"$f":"Translations!$B$1260","v":"Prozess (Methode A): Gemisch (Karbonat + Nicht-Karbonat)"},{"$f":"Translations!$B$1259","v":"Prozess-Input [t]"},{"$f":"$F$271","v":"Standardmethodik: Prozess, Artikel 24 Absatz 2"},1,{"$f":"Translations!$B$966","v":"± 7,5 %"},{"$f":"Translations!$B$967","v":"± 5,0 %"},null,null,{"$f":"Translations!$B$968","v":"± 2,5 %"},null,null,null,{"$f":"COUNTA(H290:O290)","v":3},{"$f":"C290 & \": \" &D290","v":"Eisen und Stahl: Prozess (Methode A): Gemisch (Karbonat + Nicht-Karbonat)"},null,{"$f":"EUconst_CNTR_ActivityData&Q290","v":"ActivityData_Eisen und Stahl: Prozess (Methode A): Gemisch (Karbonat + Nicht-Karbonat)"},null,null,null,false,null,null,false]
[27,"Herstellung von Eisen oder Stahl","Eisen und Stahl",{"$f":"Translations!$B$1261","v":"Prozess (Methode A): Nicht-Karbonat"},{"$f":"Translations!$B$1259","v":"Prozess-Input [t]"},{"$f":"$F$271","v":"Standardmethodik: Prozess, Artikel 24 Absatz 2"},1,{"$f":"Translations!$B$966","v":"± 7,5 %"},{"$f":"Translations!$B$967","v":"± 5,0 %"},null,null,{"$f":"Translations!$B$968","v":"± 2,5 %"},null,null,null,3,"Eisen und Stahl: Prozess (Methode A): Nicht-Karbonat",null,"ActivityData_Eisen und Stahl: Prozess (Methode A): Nicht-Karbonat",null,null,null,false,null,null,false]
[28,"Herstellung von Eisen oder Stahl","Eisen und Stahl",{"$f":"Translations!$B$1262","v":"Prozess (Methode B): Oxid-Output"},{"$f":"Translations!$B$998","v":"Oxid-Output [t]"},{"$f":"$F$271","v":"Standardmethodik: Prozess, Artikel 24 Absatz 2"},1,{"$f":"Translations!$B$967","v":"± 5,0 %"},{"$f":"Translations!$B$968","v":"± 2,5 %"},null,null,null,null,null,null,2,"Eisen und Stahl: Prozess (Methode B): Oxid-Output",null,"ActivityData_Eisen und Stahl: Prozess (Methode B): Oxid-Output",null,null,null,false,null,null,false]
[29,{"$f":"B288","v":"Herstellung von Eisen oder Stahl"},{"$f":"C288","v":"Eisen und Stahl"},{"$f":"Translations!$B$984","v":"Massenbilanz"},{"$f":"Translations!$B$974","v":"Jedes Input- und Outputmaterial [t]"},{"$f":"EUconst_MassBalance","v":"Massenbilanzmethodik, Artikel 25"},1,{"$f":"Translations!$B$966","v":"± 7,5 %"},{"$f":"Translations!$B$967","v":"± 5,0 %"},null,null,{"$f":"Translations!$B$968","v":"± 2,5 %"},null,null,{"$f":"Translations!$B$969","v":"± 1,5 %"},4,"Eisen und Stahl: Massenbilanz",null,"ActivityData_Eisen und Stahl: Massenbilanz",null,null,null,false,null,null,false]
[30,{"$f":"C240","v":"Herstellung von Zementklinker"},{"$f":"Translations!$B$1006","v":"Zementklinker"},{"$f":"Translations!$B$1007","v":"Ofen-Input-Betrachtung (Methode A)"},{"$f":"Translations!$B$1008","v":"Jeder relevante Ofen-Input [t]"},{"$f":"$F$271","v":"Standardmethodik: Prozess, Artikel 24 Absatz 2"},1,{"$f":"Translations!$B$966","v":"± 7,5 %"},{"$f":"Translations!$B$967","v":"± 5,0 %"},null,null,{"$f":"Translations!$B$968","v":"± 2,5 %"},null,null,null,3,"Zementklinker: Ofen-Input-Betrachtung (Methode A)",null,"ActivityData_Zementklinker: Ofen-Input-Betrachtung (Methode A)",null,null,null,false,null,null,false]
[31,{"$f":"B294","v":"Herstellung von Zementklinker"},"Zementklinker",{"$f":"Translations!$B$1009","v":"Klinker-Output (Methode B)"},{"$f":"Translations!$B$1010","v":"Hergestellte Klinkermenge [t]"},"Standardmethodik: Prozess, Artikel 24 Absatz 2",1,{"$f":"Translations!$B$967","v":"± 5,0 %"},{"$f":"Translations!$B$968","v":"± 2,5 %"},null,null,null,null,null,null,2,"Zementklinker: Klinker-Output (Methode B)",null,"ActivityData_Zementklinker: Klinker-Output (Methode B)",null,null,null,false,null,null,false]
[32,"Herstellung von Zementklinker","Zementklinker",{"$f":"Translations!$B$1011","v":"Zementofenstaub (CKD)"},{"$f":"Translations!$B$1012","v":"CKD oder Bypass-Staub [t]"},"Standardmethodik: Prozess, Artikel 24 Absatz 2",1,{"$f":"EUconst_MsgTierCKD","v":"(n.r.; Verwendung eines auf Best-Practice beruhenden Schätzwerts)"},{"$f":"Translations!$B$966","v":"± 7,5 %"},null,null,null,null,null,null,2,"Zementklinker: Zementofenstaub (CKD)",null,"ActivityData_Zementklinker: Zementofenstaub (CKD)",null,null,null,false,null,null,false]
[33,"Herstellung von Zementklinker","Zementklinker",{"$f":"Translations!$B$1013","v":"Nicht-karbonatischer Kohlenstoff"},{"$f":"Translations!$B$1014","v":"Jedes Rohmaterial [t]"},"Standardmethodik: Prozess, Artikel 24 Absatz 2",1,{"$f":"Translations!$B$1015","v":"± 15,0 %"},{"$f":"Translations!$B$966","v":"± 7,5 %"},null,null,null,null,null,null,2,"Zementklinker: Nicht-karbonatischer Kohlenstoff",null,"ActivityData_Zementklinker: Nicht-karbonatischer Kohlenstoff",null,null,null,false,null,null,false]
[34,{"$f":"C241","v":"Herstellung von Kalk oder Brennen von Dolomit/Magnesit"},{"$f":"Translations!$B$1017","v":"Kalk / Dolomit / Magnesit"},{"$f":"Translations!$B$1258","v":"Prozess (Methode A): nur Karbonat"},{"$f":"Translations!$B$1259","v":"Prozess-Input [t]"},"Standardmethodik: Prozess, Artikel 24 Absatz 2",1,{"$f":"Translations!$B$966","v":"± 7,5 %"},{"$f":"Translations!$B$967","v":"± 5,0 %"},null,null,{"$f":"Translations!$B$968","v":"± 2,5 %"},null,null,null,3,"Kalk / Dolomit / Magnesit: Prozess (Methode A): nur Karbonat",null,"ActivityData_Kalk / Dolomit / Magnesit: Prozess (Methode A): nur Karbonat",null,null,null,false,null,null,false]
[35,{"$f":"B298","v":"Herstellung von Kalk oder Brennen von Dolomit/Magnesit"},{"$f":"Translations!$B$1017","v":"Kalk / Dolomit / Magnesit"},{"$f":"Translations!$B$1260","v":"Prozess (Methode A): Gemisch (Karbonat + Nicht-Karbonat)"},{"$f":"Translations!$B$1259","v":"Prozess-Input [t]"},"Standardmethodik: Prozess, Artikel 24 Absatz 2",1,{"$f":"Translations!$B$966","v":"± 7,5 %"},{"$f":"Translations!$B$967","v":"± 5,0 %"},null,null,{"$f":"Translations!$B$968","v":"± 2,5 %"},null,null,null,3,"Kalk / Dolomit / Magnesit: Prozess (Methode A): Gemisch (Karbonat + Nicht-Karbonat)",null,"ActivityData_Kalk / Dolomit / Magnesit: Prozess (Methode A): Gemisch (Karbonat + Nicht-Karbonat)",null,null,null,false,null,null,false]
[36,{"$f":"B299","v":"Herstellung von Kalk oder Brennen von Dolomit/Magnesit"},{"$f":"Translations!$B$1017","v":"Kalk / Dolomit / Magnesit"},{"$f":"Translations!$B$1261","v":"Prozess (Methode A): Nicht-Karbonat"},{"$f":"Translations!$B$1259","v":"Prozess-Input [t]"},"Standardmethodik: Prozess, Artikel 24 Absatz 2",1,{"$f":"Translations!$B$966","v":"± 7,5 %"},{"$f":"Translations!$B$967","v":"± 5,0 %"},null,null,{"$f":"Translations!$B$968","v":"± 2,5 %"},null,null,null,3,"Kalk / Dolomit / Magnesit: Prozess (Methode A): Nicht-Karbonat",null,"ActivityData_Kalk / Dolomit / Magnesit: Prozess (Methode A): Nicht-Karbonat",null,null,null,false,null,null,false]
[37,{"$f":"B298","v":"Herstellung von Kalk oder Brennen von Dolomit/Magnesit"},{"$f":"C298","v":"Kalk / Dolomit / Magnesit"},{"$f":"Translations!$B$1262","v":"Prozess (Methode B): Oxid-Output"},{"$f":"Translations!$B$998","v":"Oxid-Output [t]"},"Standardmethodik: Prozess, Artikel 24 Absatz 2",1,{"$f":"Translations!$B$967","v":"± 5,0 %"},{"$f":"Translations!$B$968","v":"± 2,5 %"},null,null,null,null,null,null,2,"Kalk / Dolomit / Magnesit: Prozess (Methode B): Oxid-Output",null,"ActivityData_Kalk / Dolomit / Magnesit: Prozess (Methode B): Oxid-Output",null,null,null,false,null,null,false]
[38,{"$f":"B301","v":"Herstellung von Kalk oder Brennen von Dolomit/Magnesit"},{"$f":"C301","v":"Kalk / Dolomit / Magnesit"},{"$f":"Translations!$B$1021","v":"Ofenstaub (Methode B)"},{"$f":"Translations!$B$1022","v":"Ofenstaub [t]"},"Standardmethodik: Prozess, Artikel 24 Absatz 2",1,{"$f":"EUconst_MsgTierCKD","v":"(n.r.; Verwendung eines auf Best-Practice beruhenden Schätzwerts)"},{"$f":"Translations!$B$966","v":"± 7,5 %"},null,null,null,null,null,null,2,"Kalk / Dolomit / Magnesit: Ofenstaub (Methode B)",null,"ActivityData_Kalk / Dolomit / Magnesit: Ofenstaub (Methode B)",null,null,null,false,null,null,false]
[39,{"$f":"C242","v":"Herstellung von Glas"},{"$f":"Translations!$B$1024","v":"Glas und Mineralwolle"},{"$f":"Translations!$B$1258","v":"Prozess (Methode A): nur Karbonat"},{"$f":"Translations!$B$1259","v":"Prozess-Input [t]"},"Standardmethodik: Prozess, Artikel 24 Absatz 2",1,{"$f":"Translations!$B$968","v":"± 2,5 %"},{"$f":"Translations!$B$969","v":"± 1,5 %"},null,null,null,null,null,null,2,"Glas und Mineralwolle: Prozess (Methode A): nur Karbonat",null,"ActivityData_Glas und Mineralwolle: Prozess (Methode A): nur Karbonat",null,null,null,false,null,null,false]
[40,{"$f":"C242","v":"Herstellung von Glas"},{"$f":"Translations!$B$1024","v":"Glas und Mineralwolle"},{"$f":"Translations!$B$1260","v":"Prozess (Methode A): Gemisch (Karbonat + Nicht-Karbonat)"},{"$f":"Translations!$B$1259","v":"Prozess-Input [t]"},"Standardmethodik: Prozess, Artikel 24 Absatz 2",1,{"$f":"Translations!$B$968","v":"± 2,5 %"},{"$f":"Translations!$B$969","v":"± 1,5 %"},null,null,null,null,null,null,2,"Glas und Mineralwolle: Prozess (Methode A): Gemisch (Karbonat + Nicht-Karbonat)",null,"ActivityData_Glas und Mineralwolle: Prozess (Methode A): Gemisch (Karbonat + Nicht-Karbonat)",null,null,null,false,null,null,false]
[41,{"$f":"B304","v":"Herstellung von Glas"},{"$f":"Translations!$B$1024","v":"Glas und Mineralwolle"},{"$f":"Translations!$B$1261","v":"Prozess (Methode A): Nicht-Karbonat"},{"$f":"Translations!$B$1259","v":"Prozess-Input [t]"},"Standardmethodik: Prozess, Artikel 24 Absatz 2",1,{"$f":"Translations!$B$968","v":"± 2,5 %"},{"$f":"Translations!$B$969","v":"± 1,5 %"},null,null,null,null,null,null,2,"Glas und Mineralwolle: Prozess (Methode A): Nicht-Karbonat",null,"ActivityData_Glas und Mineralwolle: Prozess (Methode A): Nicht-Karbonat",null,null,null,false,null,null,false]
[42,{"$f":"C243","v":"Herstellung von keramischen Erzeugnissen"},{"$f":"Translations!$B$1028","v":"Keramische Erzeugnisse"},{"$f":"Translations!$B$1258","v":"Prozess (Methode A): nur Karbonat"},{"$f":"Translations!$B$1259","v":"Prozess-Input [t]"},"Standardmethodik: Prozess, Artikel 24 Absatz 2",1,{"$f":"Translations!$B$966","v":"± 7,5 %"},{"$f":"Translations!$B$967","v":"± 5,0 %"},null,null,{"$f":"Translations!$B$968","v":"± 2,5 %"},null,null,null,3,"Keramische Erzeugnisse: Prozess (Methode A): nur Karbonat",null,"ActivityData_Keramische Erzeugnisse: Prozess (Methode A): nur Karbonat",null,null,null,false,null,null,false]
[43,{"$f":"B306","v":"Herstellung von keramischen Erzeugnissen"},{"$f":"C306","v":"Keramische Erzeugnisse"},{"$f":"Translations!$B$1260","v":"Prozess (Methode A): Gemisch (Karbonat + Nicht-Karbonat)"},{"$f":"Translations!$B$1259","v":"Prozess-Input [t]"},{"$f":"EUconst_ProcessCarbonate","v":"Standardmethodik: Prozess, Artikel 24 Absatz 2"},1,{"$f":"Translations!$B$966","v":"± 7,5 %"},{"$f":"Translations!$B$967","v":"± 5,0 %"},null,null,{"$f":"Translations!$B$968","v":"± 2,5 %"},null,null,null,3,"Keramische Erzeugnisse: Prozess (Methode A): Gemisch (Karbonat + Nicht-Karbonat)",null,"ActivityData_Keramische Erzeugnisse: Prozess (Methode A): Gemisch (Karbonat + Nicht-Karbonat)",null,null,null,false,null,null,false]
[44,{"$f":"B307","v":"Herstellung von keramischen Erzeugnissen"},{"$f":"C307","v":"Keramische Erzeugnisse"},{"$f":"Translations!$B$1261","v":"Prozess (Methode A): Nicht-Karbonat"},{"$f":"Translations!$B$1259","v":"Prozess-Input [t]"},{"$f":"EUconst_ProcessCarbonate","v":"Standardmethodik: Prozess, Artikel 24 Absatz 2"},1,{"$f":"Translations!$B$966","v":"± 7,5 %"},{"$f":"Translations!$B$967","v":"± 5,0 %"},null,null,{"$f":"Translations!$B$968","v":"± 2,5 %"},null,null,null,3,"Keramische Erzeugnisse: Prozess (Methode A): Nicht-Karbonat",null,"ActivityData_Keramische Erzeugnisse: Prozess (Methode A): Nicht-Karbonat",null,null,null,false,null,null,false]
[45,{"$f":"B308","v":"Herstellung von keramischen Erzeugnissen"},{"$f":"C306","v":"Keramische Erzeugnisse"},{"$f":"Translations!$B$1262","v":"Prozess (Methode B): Oxid-Output"},{"$f":"Translations!$B$1032","v":"Bruttoproduktionsmenge, einschließlich Ausschuss und Scherben aus Öfen und Beförderungsmitteln [t]"},"Standardmethodik: Prozess, Artikel 24 Absatz 2",1,{"$f":"Translations!$B$966","v":"± 7,5 %"},{"$f":"Translations!$B$967","v":"± 5,0 %"},null,null,{"$f":"Translations!$B$968","v":"± 2,5 %"},null,null,null,3,"Keramische Erzeugnisse: Prozess (Methode B): Oxid-Output",null,"ActivityData_Keramische Erzeugnisse: Prozess (Methode B): Oxid-Output",null,null,null,false,null,null,false]
[46,{"$f":"B309","v":"Herstellung von keramischen Erzeugnissen"},{"$f":"C309","v":"Keramische Erzeugnisse"},{"$f":"Translations!$B$1033","v":"Abgaswäsche"},{"$f":"Translations!$B$1034","v":"Verbrauchte Menge an Trocken-CaCO3 [t]"},"Standardmethodik: Prozess, Artikel 24 Absatz 2",1,{"$f":"Translations!$B$966","v":"± 7,5 %"},null,null,null,null,null,null,null,1,"Keramische Erzeugnisse: Abgaswäsche",null,"ActivityData_Keramische Erzeugnisse: Abgaswäsche",null,null,null,false,null,null,{"$f":"IF(G310=EUconst_NA,TRUE,FALSE)","v":false}]
[47,{"$f":"C246","v":"Herstellung von Zellstoff"},{"$f":"Translations!$B$1036","v":"Papier und Zellstoff"},{"$f":"Translations!$B$1037","v":"Ergänzungschemikalien"},{"$f":"Translations!$B$1038","v":"Menge an CaCO3 und Na2CO3 [t]"},"Standardmethodik: Prozess, Artikel 24 Absatz 2",1,{"$f":"Translations!$B$968","v":"± 2,5 %"},{"$f":"Translations!$B$969","v":"± 1,5 %"},null,null,null,null,null,null,2,"Papier und Zellstoff: Ergänzungschemikalien",null,"ActivityData_Papier und Zellstoff: Ergänzungschemikalien",null,null,null,false,null,null,false]
[48,{"$f":"C248","v":"Herstellung von Industrieruß"},{"$f":"Translations!$B$1039","v":"Industrieruß"},{"$f":"Translations!$B$1040","v":"Massenbilanzmethodik"},{"$f":"Translations!$B$974","v":"Jedes Input- und Outputmaterial [t]"},{"$f":"EUconst_MassBalance","v":"Massenbilanzmethodik, Artikel 25"},1,{"$f":"Translations!$B$966","v":"± 7,5 %"},{"$f":"Translations!$B$967","v":"± 5,0 %"},null,null,{"$f":"Translations!$B$968","v":"± 2,5 %"},null,null,{"$f":"Translations!$B$969","v":"± 1,5 %"},4,"Industrieruß: Massenbilanzmethodik",null,"ActivityData_Industrieruß: Massenbilanzmethodik",null,null,null,false,null,null,false]
[49,{"$f":"C252","v":"Herstellung von Ammoniak"},{"$f":"Translations!$B$1041","v":"Ammoniak"},{"$f":"Translations!$B$994","v":"Brennstoff als Prozess-Input"},{"$f":"Translations!$B$1042","v":"Als Prozess-Input verbrauchte Brennstoffmenge [t] oder [Nm3]"},{"$f":"$F$265","v":"Standardmethodik: Brennstoff, Artikel 24 Absatz 1"},2,{"$f":"Translations!$B$966","v":"± 7,5 %"},{"$f":"Translations!$B$967","v":"± 5,0 %"},null,null,{"$f":"Translations!$B$968","v":"± 2,5 %"},null,null,{"$f":"Translations!$B$969","v":"± 1,5 %"},4,"Ammoniak: Brennstoff als Prozess-Input",null,"ActivityData_Ammoniak: Brennstoff als Prozess-Input",null,null,null,false,null,null,false]
[50,{"$f":"C254","v":"Herstellung von Wasserstoff und Synthesegas"},{"$f":"Translations!$B$1043","v":"Wasserstoff und Synthesegas"},{"$f":"Translations!$B$994","v":"Brennstoff als Prozess-Input"},{"$f":"Translations!$B$1044","v":"Als Prozess-Input für die Wasserstofferzeugung verbrauchte Brennstoffmenge [t] oder [Nm3]"},{"$f":"$F$265","v":"Standardmethodik: Brennstoff, Artikel 24 Absatz 1"},2,{"$f":"Translations!$B$966","v":"± 7,5 %"},{"$f":"Translations!$B$967","v":"± 5,0 %"},null,null,{"$f":"Translations!$B$968","v":"± 2,5 %"},null,null,{"$f":"Translations!$B$969","v":"± 1,5 %"},4,"Wasserstoff und Synthesegas: Brennstoff als Prozess-Input",null,"ActivityData_Wasserstoff und Synthesegas: Brennstoff als Prozess-Input",null,null,null,false,null,null,false]
[51,{"$f":"B314","v":"Herstellung von Wasserstoff und Synthesegas"},{"$f":"C314","v":"Wasserstoff und Synthesegas"},{"$f":"Translations!$B$1040","v":"Massenbilanzmethodik"},{"$f":"Translations!$B$974","v":"Jedes Input- und Outputmaterial [t]"},{"$f":"EUconst_MassBalance","v":"Massenbilanzmethodik, Artikel 25"},1,{"$f":"Translations!$B$966","v":"± 7,5 %"},{"$f":"Translations!$B$967","v":"± 5,0 %"},null,null,{"$f":"Translations!$B$968","v":"± 2,5 %"},null,null,{"$f":"Translations!$B$969","v":"± 1,5 %"},4,"Wasserstoff und Synthesegas: Massenbilanzmethodik",null,"ActivityData_Wasserstoff und Synthesegas: Massenbilanzmethodik",null,null,null,false,null,null,false]
[52,{"$f":"C253","v":"Herstellung von organischen Grundchemikalien"},{"$f":"Translations!$B$1046","v":"Organische Grundchemikalien"},{"$f":"Translations!$B$1040","v":"Massenbilanzmethodik"},{"$f":"Translations!$B$974","v":"Jedes Input- und Outputmaterial [t]"},{"$f":"EUconst_MassBalance","v":"Massenbilanzmethodik, Artikel 25"},1,{"$f":"Translations!$B$966","v":"± 7,5 %"},{"$f":"Translations!$B$967","v":"± 5,0 %"},null,null,{"$f":"Translations!$B$968","v":"± 2,5 %"},null,null,{"$f":"Translations!$B$969","v":"± 1,5 %"},4,"Organische Grundchemikalien: Massenbilanzmethodik",null,"ActivityData_Organische Grundchemikalien: Massenbilanzmethodik",null,null,null,false,null,null,false]
[53,{"$f":"C236","v":"Herstellung oder Verarbeitung von Eisenmetallen"},{"$f":"Translations!$B$1048","v":"(Nicht)-Eisen, Sek.-Aluminium"},{"$f":"Translations!$B$1258","v":"Prozess (Methode A): nur Karbonat"},{"$f":"Translations!$B$1259","v":"Prozess-Input [t]"},{"$f":"$F$271","v":"Standardmethodik: Prozess, Artikel 24 Absatz 2"},1,{"$f":"Translations!$B$967","v":"± 5,0 %"},{"$f":"Translations!$B$968","v":"± 2,5 %"},null,null,null,null,null,null,2,"(Nicht)-Eisen, Sek.-Aluminium: Prozess (Methode A): nur Karbonat",null,"ActivityData_(Nicht)-Eisen, Sek.-Aluminium: Prozess (Methode A): nur Karbonat",null,null,null,false,null,null,false]
[54,{"$f":"B317","v":"Herstellung oder Verarbeitung von Eisenmetallen"},{"$f":"Translations!$B$1048","v":"(Nicht)-Eisen, Sek.-Aluminium"},{"$f":"Translations!$B$1260","v":"Prozess (Methode A): Gemisch (Karbonat + Nicht-Karbonat)"},{"$f":"Translations!$B$1259","v":"Prozess-Input [t]"},{"$f":"$F$271","v":"Standardmethodik: Prozess, Artikel 24 Absatz 2"},1,{"$f":"Translations!$B$967","v":"± 5,0 %"},{"$f":"Translations!$B$968","v":"± 2,5 %"},null,null,null,null,null,null,2,"(Nicht)-Eisen, Sek.-Aluminium: Prozess (Methode A): Gemisch (Karbonat + Nicht-Karbonat)",null,"ActivityData_(Nicht)-Eisen, Sek.-Aluminium: Prozess (Methode A): Gemisch (Karbonat + Nicht-Karbonat)",null,null,null,false,null,null,false]
[55,{"$f":"B318","v":"Herstellung oder Verarbeitung von Eisenmetallen"},{"$f":"Translations!$B$1048","v":"(Nicht)-Eisen, Sek.-Aluminium"},{"$f":"Translations!$B$1261","v":"Prozess (Methode A): Nicht-Karbonat"},{"$f":"Translations!$B$1259","v":"Prozess-Input [t]"},{"$f":"$F$271","v":"Standardmethodik: Prozess, Artikel 24 Absatz 2"},1,{"$f":"Translations!$B$967","v":"± 5,0 %"},{"$f":"Translations!$B$968","v":"± 2,5 %"},null,null,null,null,null,null,2,"(Nicht)-Eisen, Sek.-Aluminium: Prozess (Methode A): Nicht-Karbonat",null,"ActivityData_(Nicht)-Eisen, Sek.-Aluminium: Prozess (Methode A): Nicht-Karbonat",null,null,null,false,null,null,false]
[56,{"$f":"B319","v":"Herstellung oder Verarbeitung von Eisenmetallen"},{"$f":"Translations!$B$1048","v":"(Nicht)-Eisen, Sek.-Aluminium"},{"$f":"Translations!$B$1262","v":"Prozess (Methode B): Oxid-Output"},{"$f":"Translations!$B$998","v":"Oxid-Output [t]"},{"$f":"$F$271","v":"Standardmethodik: Prozess, Artikel 24 Absatz 2"},1,{"$f":"Translations!$B$967","v":"± 5,0 %"},{"$f":"Translations!$B$968","v":"± 2,5 %"},null,null,null,null,null,null,2,"(Nicht)-Eisen, Sek.-Aluminium: Prozess (Methode B): Oxid-Output",null,"ActivityData_(Nicht)-Eisen, Sek.-Aluminium: Prozess (Methode B): Oxid-Output",null,null,null,false,null,null,false]
[57,{"$f":"B320","v":"Herstellung oder Verarbeitung von Eisenmetallen"},{"$f":"C317","v":"(Nicht)-Eisen, Sek.-Aluminium"},{"$f":"Translations!$B$1040","v":"Massenbilanzmethodik"},{"$f":"Translations!$B$974","v":"Jedes Input- und Outputmaterial [t]"},{"$f":"EUconst_MassBalance","v":"Massenbilanzmethodik, Artikel 25"},1,{"$f":"Translations!$B$966","v":"± 7,5 %"},{"$f":"Translations!$B$967","v":"± 5,0 %"},null,null,{"$f":"Translations!$B$968","v":"± 2,5 %"},null,null,{"$f":"Translations!$B$969","v":"± 1,5 %"},4,"(Nicht)-Eisen, Sek.-Aluminium: Massenbilanzmethodik",null,"ActivityData_(Nicht)-Eisen, Sek.-Aluminium: Massenbilanzmethodik",null,null,null,false,null,null,false]
[58,{"$f":"C255","v":"Herstellung von Soda und Natriumbicarbonat"},{"$f":"Translations!$B$1051","v":"Soda / Natriumbicarbonat"},{"$f":"Translations!$B$1040","v":"Massenbilanzmethodik"},{"$f":"Translations!$B$974","v":"Jedes Input- und Outputmaterial [t]"},{"$f":"EUconst_MassBalance","v":"Massenbilanzmethodik, Artikel 25"},1,{"$f":"Translations!$B$966","v":"± 7,5 %"},{"$f":"Translations!$B$967","v":"± 5,0 %"},null,null,{"$f":"Translations!$B$968","v":"± 2,5 %"},null,null,{"$f":"Translations!$B$969","v":"± 1,5 %"},4,"Soda / Natriumbicarbonat: Massenbilanzmethodik",null,"ActivityData_Soda / Natriumbicarbonat: Massenbilanzmethodik",null,null,null,false,null,null,false]
[59,{"$f":"C237","v":"Herstellung von Primäraluminium"},{"$f":"Translations!$B$1053","v":"Primäraluminium"},{"$f":"Translations!$B$1040","v":"Massenbilanzmethodik"},{"$f":"Translations!$B$974","v":"Jedes Input- und Outputmaterial [t]"},{"$f":"EUconst_MassBalance","v":"Massenbilanzmethodik, Artikel 25"},1,{"$f":"Translations!$B$966","v":"± 7,5 %"},{"$f":"Translations!$B$967","v":"± 5,0 %"},null,null,{"$f":"Translations!$B$968","v":"± 2,5 %"},null,null,{"$f":"Translations!$B$969","v":"± 1,5 %"},4,"Primäraluminium: Massenbilanzmethodik",null,"ActivityData_Primäraluminium: Massenbilanzmethodik",null,null,null,false,null,null,false]
[60,{"$f":"B323","v":"Herstellung von Primäraluminium"},{"$f":"C323","v":"Primäraluminium"},{"$f":"Translations!$B$1054","v":"PFC-Emissionen (Steigungsmethode)"},{"$f":"Translations!$B$1055","v":"Primäraluminiumproduktion in [t], Anodeneffekt-Minuten in [Anzahl Anodeneffekte/Zelltag] und [Anodeneffekt-Minuten/Häufigkeit]"},{"$f":"EUconst_ProcessPFC","v":"Berechnung mit Sonderbestimmungen für PFC (Anhang IV Abschnitt 8)"},1,{"$f":"Translations!$B$968","v":"± 2,5 %"},{"$f":"Translations!$B$969","v":"± 1,5 %"},null,null,null,null,null,null,2,"Primäraluminium: PFC-Emissionen (Steigungsmethode)",null,"ActivityData_Primäraluminium: PFC-Emissionen (Steigungsmethode)",null,null,null,false,null,null,false]
[61,{"$f":"B324","v":"Herstellung von Primäraluminium"},{"$f":"C324","v":"Primäraluminium"},{"$f":"Translations!$B$1056","v":"PFC-Emissionen (Überspannungsmethode)"},{"$f":"Translations!$B$1057","v":"Primäraluminiumproduktion in [t], Anodeneffekt-Überspannung [mV] und Stromeffizienz [-]"},{"$f":"EUconst_ProcessPFC","v":"Berechnung mit Sonderbestimmungen für PFC (Anhang IV Abschnitt 8)"},1,{"$f":"Translations!$B$968","v":"± 2,5 %"},{"$f":"Translations!$B$969","v":"± 1,5 %"},null,null,null,null,null,null,2,"Primäraluminium: PFC-Emissionen (Überspannungsmethode)",null,"ActivityData_Primäraluminium: PFC-Emissionen (Überspannungsmethode)",null,null,null,false,null,null,false]
[62,{"$f":"C256","v":"Abscheidung von Treibhausgasen gemäß der Richtlinie 2009/31/EG"},"CCS: Abscheidung","Weitergeleitetes CO2","CO2 [t]",{"$f":"EUconst_MassBalance","v":"Massenbilanzmethodik, Artikel 25"},1,{"$f":"Translations!$B$966","v":"± 7,5 %"},{"$f":"Translations!$B$967","v":"± 5,0 %"},null,null,{"$f":"Translations!$B$968","v":"± 2,5 %"},null,null,{"$f":"Translations!$B$969","v":"± 1,5 %"},4,{"$f":"C326 & \": \" &D326","v":"CCS: Abscheidung: Weitergeleitetes CO2"},null,{"$f":"EUconst_CNTR_ActivityData&Q326","v":"ActivityData_CCS: Abscheidung: Weitergeleitetes CO2"},null,null,null,true,null,null,false]
[63,{"$f":"C257","v":"Transport von Treibhausgasen gemäß der Richtlinie 2009/31/EG"},"CCS: Transport","Weitergeleitetes CO2","CO2 [t]",{"$f":"EUconst_MassBalance","v":"Massenbilanzmethodik, Artikel 25"},1,{"$f":"Translations!$B$966","v":"± 7,5 %"},{"$f":"Translations!$B$967","v":"± 5,0 %"},null,null,{"$f":"Translations!$B$968","v":"± 2,5 %"},null,null,{"$f":"Translations!$B$969","v":"± 1,5 %"},4,{"$f":"C327 & \": \" &D327","v":"CCS: Transport: Weitergeleitetes CO2"},null,"ActivityData_CCS: Transport: Weitergeleitetes CO2",null,null,null,true,null,null,false]
[64,{"$f":"B327","v":"Transport von Treibhausgasen gemäß der Richtlinie 2009/31/EG"},"CCS: Transport","CO2-Leckagen","CO2 [t]",{"$f":"EUconst_ProcessCarbonate","v":"Standardmethodik: Prozess, Artikel 24 Absatz 2"},1,{"$f":"Translations!$B$977","v":"± 17,5 %"},{"$f":"Translations!$B$978","v":"± 12,5 %"},null,null,{"$f":"Translations!$B$966","v":"± 7,5 %"},null,null,null,3,"CCS: Transport: CO2-Leckagen",null,"ActivityData_CCS: Transport: CO2-Leckagen",null,null,null,false,null,null,false]
[65,"Transport von Treibhausgasen gemäß der Richtlinie 2009/31/EG","CCS: Transport","CO2-Ablass","CO2 [t]",{"$f":"EUconst_ProcessCarbonate","v":"Standardmethodik: Prozess, Artikel 24 Absatz 2"},1,{"$f":"Translations!$B$977","v":"± 17,5 %"},{"$f":"Translations!$B$978","v":"± 12,5 %"},null,null,{"$f":"Translations!$B$966","v":"± 7,5 %"},null,null,null,3,"CCS: Transport: CO2-Ablass",null,"ActivityData_CCS: Transport: CO2-Ablass",null,null,null,false,null,null,false]
[66,"Transport von Treibhausgasen gemäß der Richtlinie 2009/31/EG","CCS: Transport","Diffuse CO2 Emissionen","CO2 [t]",{"$f":"EUconst_ProcessCarbonate","v":"Standardmethodik: Prozess, Artikel 24 Absatz 2"},1,{"$f":"Translations!$B$977","v":"± 17,5 %"},{"$f":"Translations!$B$978","v":"± 12,5 %"},null,null,{"$f":"Translations!$B$966","v":"± 7,5 %"},null,null,null,3,"CCS: Transport: Diffuse CO2 Emissionen",null,"ActivityData_CCS: Transport: Diffuse CO2 Emissionen",null,null,null,false,null,null,false]
[67,{"$f":"C258","v":"Lagerung von Treibhausgasen gemäß der Richtlinie 2009/31/EG"},"CCS: Speicherung","Weitergeleitetes CO2","CO2 [t]",{"$f":"EUconst_MassBalance","v":"Massenbilanzmethodik, Artikel 25"},2,{"$f":"Translations!$B$966","v":"± 7,5 %"},{"$f":"Translations!$B$967","v":"± 5,0 %"},null,null,{"$f":"Translations!$B$968","v":"± 2,5 %"},null,null,{"$f":"Translations!$B$969","v":"± 1,5 %"},4,"CCS: Speicherung: Weitergeleitetes CO2",null,"ActivityData_CCS: Speicherung: Weitergeleitetes CO2",null,null,null,true,null,null,false]
[68,{"$f":"B331","v":"Lagerung von Treibhausgasen gemäß der Richtlinie 2009/31/EG"},"CCS: Speicherung","CO2-Ablass","CO2 [t]",{"$f":"EUconst_ProcessCarbonate","v":"Standardmethodik: Prozess, Artikel 24 Absatz 2"},2,{"$f":"Translations!$B$977","v":"± 17,5 %"},{"$f":"Translations!$B$978","v":"± 12,5 %"},null,null,{"$f":"Translations!$B$966","v":"± 7,5 %"},null,null,null,3,"CCS: Speicherung: CO2-Ablass",null,"ActivityData_CCS: Speicherung: CO2-Ablass",null,null,null,false,null,null,false]
[69,"Lagerung von Treibhausgasen gemäß der Richtlinie 2009/31/EG","CCS: Speicherung","CO2-Leckagen","CO2 [t]",{"$f":"EUconst_ProcessCarbonate","v":"Standardmethodik: Prozess, Artikel 24 Absatz 2"},2,{"$f":"Translations!$B$977","v":"± 17,5 %"},{"$f":"Translations!$B$978","v":"± 12,5 %"},null,null,{"$f":"Translations!$B$966","v":"± 7,5 %"},null,null,null,3,"CCS: Speicherung: CO2-Leckagen",null,"ActivityData_CCS: Speicherung: CO2-Leckagen",null,null,null,false,null,null,false]
[70,"Lagerung von Treibhausgasen gemäß der Richtlinie 2009/31/EG","CCS: Speicherung","Diffuse CO2 Emissionen","CO2 [t]",{"$f":"EUconst_ProcessCarbonate","v":"Standardmethodik: Prozess, Artikel 24 Absatz 2"},2,{"$f":"Translations!$B$977","v":"± 17,5 %"},{"$f":"Translations!$B$978","v":"± 12,5 %"},null,null,{"$f":"Translations!$B$966","v":"± 7,5 %"},null,null,null,3,"CCS: Speicherung: Diffuse CO2 Emissionen",null,"ActivityData_CCS: Speicherung: Diffuse CO2 Emissionen",null,null,null,false,null,null,false]
[null,null,null,null,null,null,null,null,null,null,null,null,null,null,null,null,null,null,null,null,null,null,null,null,null,false]
["NEW",{"$f":"Translations!$B$1059","v":"Emissionsfaktor"},{"$f":"Translations!$B$957","v":"Kurzbezeichnung"},{"$f":"Translations!$B$958","v":"Teilmaßnahme"},{"$f":"Translations!$B$389","v":"Parameter"},{"$f":"Translations!$B$959","v":"Quellentyp"},{"$f":"Translations!$B$960","v":"Minimum"},1,2,"2a",{"$f":"Translations!$B$928","v":"2b"},3,"3a","3b",4,{"$f":"Translations!$B$961","v":"Maximum"},null,null,null,null,null,null,null,null,null,{"$f":"Translations!$B$962","v":"Schattieren?"},null,null,null,null,null,null,null,null,null,null,"1=default value, 2=lab",1,2,"2a",{"$f":"Translations!$B$928","v":"2b"},3]
[1,{"$f":"B265","v":"Verbrennung von Brennstoffen"},"Verbrennung","Kommerzielle Standardbrennstoffe",null,{"$f":"F265","v":"Standardmethodik: Brennstoff, Artikel 24 Absatz 1"},"2a/2b",{"$f":"Translations!$B$493","v":"Standardwerte Typ I:"},null,{"$f":"Translations!$B$528","v":"Standardwerte Typ II"},{"$f":"Translations!$B$1061","v":"Ermittelte Proxywerte (soweit zutreffend)"},{"$f":"Translations!$B$527","v":"Laboranalysen"},null,null,null,{"$f":"G337","v":"2a/2b"},{"$f":"C337 & \": \" &D337","v":"Verbrennung: Kommerzielle Standardbrennstoffe"},null,{"$f":"EUconst_CNTR_EF&Q337","v":"EF_Verbrennung: Kommerzielle Standardbrennstoffe"},null,null,null,null,null,null,{"$f":"IF(G337=EUconst_NA,TRUE,FALSE)","v":false},null,null,null,null,null,null,null,null,null,null,null,1,"",1,2,2]
[2,"Verbrennung von Brennstoffen","Verbrennung","Andere gasförmige und flüssige Brennstoffe",null,"Standardmethodik: Brennstoff, Artikel 24 Absatz 1","2a/2b",{"$f":"Translations!$B$493","v":"Standardwerte Typ I:"},null,{"$f":"Translations!$B$528","v":"Standardwerte Typ II"},{"$f":"Translations!$B$1061","v":"Ermittelte Proxywerte (soweit zutreffend)"},{"$f":"Translations!$B$527","v":"Laboranalysen"},null,null,null,{"$f":"IF(G338=EUconst_NA,EUconst_NA,IF(ISBLANK(J338),COUNTA(H338:O338),COUNTA(H338,J338,L338)))","v":3},"Verbrennung: Andere gasförmige und flüssige Brennstoffe",null,"EF_Verbrennung: Andere gasförmige und flüssige Brennstoffe",null,null,null,null,null,null,false,null,null,null,null,null,null,null,null,null,null,null,1,"",1,2,2]
[3,"Verbrennung von Brennstoffen","Verbrennung","Feste Brennstoffe, ausgenommen Abfälle",null,"Standardmethodik: Brennstoff, Artikel 24 Absatz 1","2a/2b",{"$f":"Translations!$B$493","v":"Standardwerte Typ I:"},null,{"$f":"Translations!$B$528","v":"Standardwerte Typ II"},{"$f":"Translations!$B$1061","v":"Ermittelte Proxywerte (soweit zutreffend)"},{"$f":"Translations!$B$527","v":"Laboranalysen"},null,null,null,3,"Verbrennung: Feste Brennstoffe, ausgenommen Abfälle",null,"EF_Verbrennung: Feste Brennstoffe, ausgenommen Abfälle",null,null,null,null,null,null,false,null,null,null,null,null,null,null,null,null,null,null,1,"",1,2,2]
[4,"Verbrennung von Brennstoffen","Verbrennung","Abfall",null,"Standardmethodik: Brennstoff, Artikel 24 Absatz 1","2a/2b",{"$f":"Translations!$B$493","v":"Standardwerte Typ I:"},null,{"$f":"Translations!$B$528","v":"Standardwerte Typ II"},{"$f":"Translations!$B$1061","v":"Ermittelte Proxywerte (soweit zutreffend)"},{"$f":"Translations!$B$527","v":"Laboranalysen"},null,null,null,{"$f":"IF(G340=EUconst_NA,EUconst_NA,IF(ISBLANK(J340),COUNTA(H340:O340),COUNTA(H340,J340,L340)))","v":3},{"$f":"C340 & \": \" &D340","v":"Verbrennung: Abfall"},null,{"$f":"EUconst_CNTR_EF&Q340","v":"EF_Verbrennung: Abfall"},null,null,null,null,null,null,{"$f":"IF(G340=EUconst_NA,TRUE,FALSE)","v":false},null,null,null,null,null,null,null,null,null,null,null,1,"",1,2,2]
[5,"Verbrennung von Brennstoffen","Verbrennung","Gasaufbereitungsstationen",null,"Massenbilanzmethodik, Artikel 25",{"$f":"EUconst_NA","v":"n.r."},null,null,null,null,null,null,null,null,"n.r.","Verbrennung: Gasaufbereitungsstationen",null,"EF_Verbrennung: Gasaufbereitungsstationen",null,null,null,null,null,null,true,null,null,null,null,null,null,null,null,null,null,null,"","","","",""]
[6,"Verbrennung von Brennstoffen","Verbrennung","Fackeln",null,"Standardmethodik: Brennstoff, Artikel 24 Absatz 1",1,{"$f":"Translations!$B$1066","v":"0,00393 t CO2/Nm3."},null,{"$f":"Translations!$B$528","v":"Standardwerte Typ II"},{"$f":"Translations!$B$1067","v":"Anlagenspezifische Faktoren"},{"$f":"Translations!$B$527","v":"Laboranalysen"},null,null,null,3,"Verbrennung: Fackeln",null,"EF_Verbrennung: Fackeln",null,null,null,null,null,null,false,null,null,null,null,null,null,null,null,null,null,null,1,"",1,{"$f":"Translations!$B$1067","v":"Anlagenspezifische Faktoren"},2]
[7,"Verbrennung von Brennstoffen","Verbrennung","Abgaswäsche (Karbonat)",null,"Standardmethodik: Prozess, Artikel 24 Absatz 2",1,{"$f":"Translations!$B$1085","v":"Best-Practice"},null,null,null,null,null,null,null,1,"Verbrennung: Abgaswäsche (Karbonat)",null,"EF_Verbrennung: Abgaswäsche (Karbonat)",null,null,null,null,null,null,false,null,null,null,null,null,null,null,null,null,null,null,2,"","","",""]
[8,"Verbrennung von Brennstoffen","Verbrennung","Abgaswäsche (Gips)",null,"Standardmethodik: Prozess, Artikel 24 Absatz 2",1,{"$f":"Translations!$B$1263","v":"0,2558 t CO2/t Gips"},null,null,null,null,null,null,null,1,"Verbrennung: Abgaswäsche (Gips)",null,"EF_Verbrennung: Abgaswäsche (Gips)",null,null,null,null,null,null,false,null,null,null,null,null,null,null,null,null,null,null,1,"","","",""]
[9,"Verbrennung von Brennstoffen","Verbrennung","Abgaswäsche (Harnstoff)",null,"Standardmethodik: Prozess, Artikel 24 Absatz 2",1,{"$f":"Translations!$B$1264","v":"0,7328 t CO2/t Harnstoff"},null,null,null,null,null,null,null,1,"Verbrennung: Abgaswäsche (Harnstoff)",null,"EF_Verbrennung: Abgaswäsche (Harnstoff)",null,null,null,null,null,null,false,null,null,null,null,null,null,null,null,null,null,null,1,"","","",""]
[10,"Raffination von Mineralöl ","Raffinerien","Massenbilanz",null,"Massenbilanzmethodik, Artikel 25",{"$f":"EUconst_NA","v":"n.r."},null,null,null,null,null,null,null,null,"n.r.","Raffinerien: Massenbilanz",null,"EF_Raffinerien: Massenbilanz",null,null,null,null,null,null,true,null,null,null,null,null,null,null,null,null,null,null,"","","","",""]
[11,"Raffination von Mineralöl ","Raffinerien","Regeneration von katalytischen Crackern",null,"Massenbilanzmethodik, Artikel 25",{"$f":"EUconst_NA","v":"n.r."},null,null,null,null,null,null,null,null,{"$f":"IF(G347=EUconst_NA,EUconst_NA,IF(ISBLANK(J347),COUNTA(H347:O347),COUNTA(H347,J347,L347)))","v":"n.r."},{"$f":"C347 & \": \" &D347","v":"Raffinerien: Regeneration von katalytischen Crackern"},null,{"$f":"EUconst_CNTR_EF&Q347","v":"EF_Raffinerien: Regeneration von katalytischen Crackern"},null,null,null,null,null,null,true,null,null,null,null,null,null,null,null,null,null,null,"","","","",""]
[12,"Raffination von Mineralöl ","Raffinerien","Wasserstofferzeugung",null,"Massenbilanzmethodik, Artikel 25",{"$f":"EUconst_NA","v":"n.r."},null,null,null,null,null,null,null,null,{"$f":"IF(G348=EUconst_NA,EUconst_NA,IF(ISBLANK(J348),COUNTA(H348:O348),COUNTA(H348,J348,L348)))","v":"n.r."},"Raffinerien: Wasserstofferzeugung",null,"EF_Raffinerien: Wasserstofferzeugung",null,null,null,null,null,null,true,null,null,null,null,null,null,null,null,null,null,null,1,"",1,2,2]
[13,"Herstellung von Koks","Koks","Brennstoff als Prozess-Input",null,"Standardmethodik: Brennstoff, Artikel 24 Absatz 1","2a/2b",{"$f":"Translations!$B$493","v":"Standardwerte Typ I:"},{"$f":"Translations!$B$528","v":"Standardwerte Typ II"},null,null,{"$f":"Translations!$B$527","v":"Laboranalysen"},null,null,null,3,"Koks: Brennstoff als Prozess-Input",null,"EF_Koks: Brennstoff als Prozess-Input",null,null,null,null,null,null,false,null,null,null,null,null,null,null,null,null,null,null,1,1,"","",2]
[14,"Herstellung von Koks","Koks","Prozess (Methode A): nur Karbonat",null,"Standardmethodik: Prozess, Artikel 24 Absatz 2",1,{"$f":"Translations!$B$493","v":"Standardwerte Typ I:"},{"$f":"Translations!$B$528","v":"Standardwerte Typ II"},null,null,{"$f":"Translations!$B$527","v":"Laboranalysen"},null,null,null,3,"Koks: Prozess (Methode A): nur Karbonat",null,"EF_Koks: Prozess (Methode A): nur Karbonat",null,null,null,null,null,null,false,null,null,null,null,null,null,null,null,null,null,null,1,1,"","",2]
[15,"Herstellung von Koks","Koks","Prozess (Methode A): Gemisch (Karbonat + Nicht-Karbonat)",null,"Standardmethodik: Prozess, Artikel 24 Absatz 2",1,{"$f":"EUconst_NA","v":"n.r."},{"$f":"EUconst_NA","v":"n.r."},null,null,{"$f":"Translations!$B$527","v":"Laboranalysen"},null,null,null,3,"Koks: Prozess (Methode A): Gemisch (Karbonat + Nicht-Karbonat)",null,"EF_Koks: Prozess (Methode A): Gemisch (Karbonat + Nicht-Karbonat)",null,null,null,null,null,null,false,null,null,null,null,null,null,null,null,null,null,null,{"$f":"Translations!$B$530","v":"n.r."},{"$f":"Translations!$B$530","v":"n.r."},"","",2]
[16,"Herstellung von Koks","Koks","Prozess (Methode A): Nicht-Karbonat",null,"Standardmethodik: Prozess, Artikel 24 Absatz 2",1,{"$f":"Translations!$B$493","v":"Standardwerte Typ I:"},{"$f":"Translations!$B$528","v":"Standardwerte Typ II"},null,null,{"$f":"Translations!$B$527","v":"Laboranalysen"},null,null,null,3,"Koks: Prozess (Methode A): Nicht-Karbonat",null,"EF_Koks: Prozess (Methode A): Nicht-Karbonat",null,null,null,null,null,null,false,null,null,null,null,null,null,null,null,null,null,null,1,1,"","",2]
[17,"Herstellung von Koks","Koks","Prozess (Methode B): Oxid-Output",null,"Standardmethodik: Prozess, Artikel 24 Absatz 2",1,{"$f":"Translations!$B$493","v":"Standardwerte Typ I:"},{"$f":"Translations!$B$528","v":"Standardwerte Typ II"},null,null,{"$f":"Translations!$B$527","v":"Laboranalysen"},null,null,null,{"$f":"IF(G353=EUconst_NA,EUconst_NA,IF(ISBLANK(J353),COUNTA(H353:O353),COUNTA(H353,J353,L353)))","v":3},{"$f":"C353 & \": \" &D353","v":"Koks: Prozess (Methode B): Oxid-Output"},null,{"$f":"EUconst_CNTR_EF&Q353","v":"EF_Koks: Prozess (Methode B): Oxid-Output"},null,null,null,null,null,null,false,null,null,null,null,null,null,null,null,null,null,null,1,1,"","",2]
[18,"Herstellung von Koks","Koks","Massenbilanz",null,"Massenbilanzmethodik, Artikel 25",{"$f":"EUconst_NA","v":"n.r."},null,null,null,null,null,null,null,null,"n.r.","Koks: Massenbilanz",null,"EF_Koks: Massenbilanz",null,null,null,null,null,null,true,null,null,null,null,null,null,null,null,null,null,null,"","","","",""]
[19,"Röstung oder Sinterung von Metallerz","Metallerz","Prozess (Methode A): nur Karbonat",null,"Standardmethodik: Prozess, Artikel 24 Absatz 2",1,{"$f":"Translations!$B$493","v":"Standardwerte Typ I:"},{"$f":"Translations!$B$528","v":"Standardwerte Typ II"},null,null,{"$f":"Translations!$B$527","v":"Laboranalysen"},null,null,null,3,"Metallerz: Prozess (Methode A): nur Karbonat",null,"EF_Metallerz: Prozess (Methode A): nur Karbonat",null,null,null,null,null,null,false,null,null,null,null,null,null,null,null,null,null,null,1,1,"","",2]
[20,"Röstung oder Sinterung von Metallerz","Metallerz","Prozess (Methode A): Gemisch (Karbonat + Nicht-Karbonat)",null,"Standardmethodik: Prozess, Artikel 24 Absatz 2",1,{"$f":"EUconst_NA","v":"n.r."},{"$f":"EUconst_NA","v":"n.r."},null,null,{"$f":"Translations!$B$527","v":"Laboranalysen"},null,null,null,3,"Metallerz: Prozess (Methode A): Gemisch (Karbonat + Nicht-Karbonat)",null,"EF_Metallerz: Prozess (Methode A): Gemisch (Karbonat + Nicht-Karbonat)",null,null,null,null,null,null,false,null,null,null,null,null,null,null,null,null,null,null,{"$f":"Translations!$B$530","v":"n.r."},{"$f":"Translations!$B$530","v":"n.r."},"","",2]
[21,{"$f":"B285","v":"Röstung oder Sinterung von Metallerz"},"Metallerz","Prozess (Methode A): Nicht-Karbonat",null,"Standardmethodik: Prozess, Artikel 24 Absatz 2",1,{"$f":"Translations!$B$493","v":"Standardwerte Typ I:"},{"$f":"Translations!$B$528","v":"Standardwerte Typ II"},null,null,{"$f":"Translations!$B$527","v":"Laboranalysen"},null,null,null,3,"Metallerz: Prozess (Methode A): Nicht-Karbonat",null,"EF_Metallerz: Prozess (Methode A): Nicht-Karbonat",null,null,null,null,null,null,false,null,null,null,null,null,null,null,null,null,null,null,1,1,"","",2]
[22,"Röstung oder Sinterung von Metallerz","Metallerz","Prozess (Methode B): Oxid-Output",null,"Standardmethodik: Prozess, Artikel 24 Absatz 2",1,{"$f":"Translations!$B$493","v":"Standardwerte Typ I:"},{"$f":"Translations!$B$528","v":"Standardwerte Typ II"},null,null,{"$f":"Translations!$B$527","v":"Laboranalysen"},null,null,null,3,"Metallerz: Prozess (Methode B): Oxid-Output",null,"EF_Metallerz: Prozess (Methode B): Oxid-Output",null,null,null,null,null,null,false,null,null,null,null,null,null,null,null,null,null,null,1,1,"","",2]
[23,"Röstung oder Sinterung von Metallerz","Metallerz","Massenbilanz",null,"Massenbilanzmethodik, Artikel 25",{"$f":"EUconst_NA","v":"n.r."},null,null,null,null,null,null,null,null,"n.r.","Metallerz: Massenbilanz",null,"EF_Metallerz: Massenbilanz",null,null,null,null,null,null,true,null,null,null,null,null,null,null,null,null,null,null,"","","","",""]
[24,"Herstellung von Eisen oder Stahl","Eisen und Stahl","Brennstoff als Prozess-Input",null,"Standardmethodik: Brennstoff, Artikel 24 Absatz 1",2,{"$f":"Translations!$B$493","v":"Standardwerte Typ I:"},null,{"$f":"Translations!$B$528","v":"Standardwerte Typ II"},{"$f":"Translations!$B$1061","v":"Ermittelte Proxywerte (soweit zutreffend)"},{"$f":"Translations!$B$527","v":"Laboranalysen"},null,null,null,3,"Eisen und Stahl: Brennstoff als Prozess-Input",null,"EF_Eisen und Stahl: Brennstoff als Prozess-Input",null,null,null,null,null,null,false,null,null,null,null,null,null,null,null,null,null,null,1,"",1,2,2]
[25,"Herstellung von Eisen oder Stahl","Eisen und Stahl","Prozess (Methode A): nur Karbonat",null,"Standardmethodik: Prozess, Artikel 24 Absatz 2",1,{"$f":"Translations!$B$493","v":"Standardwerte Typ I:"},{"$f":"Translations!$B$528","v":"Standardwerte Typ II"},null,null,{"$f":"Translations!$B$527","v":"Laboranalysen"},null,null,null,3,"Eisen und Stahl: Prozess (Methode A): nur Karbonat",null,"EF_Eisen und Stahl: Prozess (Methode A): nur Karbonat",null,null,null,null,null,null,false,null,null,null,null,null,null,null,null,null,null,null,1,1,"","",2]
[26,"Herstellung von Eisen oder Stahl","Eisen und Stahl","Prozess (Methode A): Gemisch (Karbonat + Nicht-Karbonat)",null,"Standardmethodik: Prozess, Artikel 24 Absatz 2",1,{"$f":"EUconst_NA","v":"n.r."},{"$f":"EUconst_NA","v":"n.r."},null,null,{"$f":"Translations!$B$527","v":"Laboranalysen"},null,null,null,3,"Eisen und Stahl: Prozess (Methode A): Gemisch (Karbonat + Nicht-Karbonat)",null,"EF_Eisen und Stahl: Prozess (Methode A): Gemisch (Karbonat + Nicht-Karbonat)",null,null,null,null,null,null,false,null,null,null,null,null,null,null,null,null,null,null,null,null,"","",""]
[27,"Herstellung von Eisen oder Stahl","Eisen und Stahl","Prozess (Methode A): Nicht-Karbonat",null,"Standardmethodik: Prozess, Artikel 24 Absatz 2",1,{"$f":"Translations!$B$493","v":"Standardwerte Typ I:"},{"$f":"Translations!$B$528","v":"Standardwerte Typ II"},null,null,{"$f":"Translations!$B$527","v":"Laboranalysen"},null,null,null,3,"Eisen und Stahl: Prozess (Methode A): Nicht-Karbonat",null,"EF_Eisen und Stahl: Prozess (Methode A): Nicht-Karbonat",null,null,null,null,null,null,false,null,null,null,null,null,null,null,null,null,null,null,2,2,"","",""]
[28,"Herstellung von Eisen oder Stahl","Eisen und Stahl","Prozess (Methode B): Oxid-Output",null,"Standardmethodik: Prozess, Artikel 24 Absatz 2",1,{"$f":"Translations!$B$493","v":"Standardwerte Typ I:"},{"$f":"Translations!$B$528","v":"Standardwerte Typ II"},null,null,{"$f":"Translations!$B$527","v":"Laboranalysen"},null,null,null,3,"Eisen und Stahl: Prozess (Methode B): Oxid-Output",null,"EF_Eisen und Stahl: Prozess (Methode B): Oxid-Output",null,null,null,null,null,null,false,null,null,null,null,null,null,null,null,null,null,null,1,1,"","",2]
[29,"Herstellung von Eisen oder Stahl","Eisen und Stahl","Massenbilanz",null,"Massenbilanzmethodik, Artikel 25",{"$f":"EUconst_NA","v":"n.r."},null,null,null,null,null,null,null,null,"n.r.","Eisen und Stahl: Massenbilanz",null,"EF_Eisen und Stahl: Massenbilanz",null,null,null,null,null,null,true,null,null,null,null,null,null,null,null,null,null,null,"","","","",""]
[30,"Herstellung von Zementklinker","Zementklinker","Ofen-Input-Betrachtung (Methode A)",null,"Standardmethodik: Prozess, Artikel 24 Absatz 2",1,{"$f":"Translations!$B$493","v":"Standardwerte Typ I:"},{"$f":"Translations!$B$528","v":"Standardwerte Typ II"},null,null,{"$f":"Translations!$B$527","v":"Laboranalysen"},null,null,null,{"$f":"IF(G366=EUconst_NA,EUconst_NA,IF(ISBLANK(J366),COUNTA(H366:O366),COUNTA(H366,J366,L366)))","v":3},{"$f":"C366 & \": \" &D366","v":"Zementklinker: Ofen-Input-Betrachtung (Methode A)"},null,{"$f":"EUconst_CNTR_EF&Q366","v":"EF_Zementklinker: Ofen-Input-Betrachtung (Methode A)"},null,null,null,null,null,null,{"$f":"IF(G366=EUconst_NA,TRUE,FALSE)","v":false},null,null,null,null,null,null,null,null,null,null,null,1,1,"","",2]
[31,"Herstellung von Zementklinker","Zementklinker","Klinker-Output (Methode B)",null,"Standardmethodik: Prozess, Artikel 24 Absatz 2",1,{"$f":"Translations!$B$1078","v":"0,525 t CO2/t Klinker"},{"$f":"Translations!$B$528","v":"Standardwerte Typ II"},null,null,{"$f":"Translations!$B$527","v":"Laboranalysen"},null,null,null,3,"Zementklinker: Klinker-Output (Methode B)",null,"EF_Zementklinker: Klinker-Output (Methode B)",null,null,null,null,null,null,false,null,null,null,null,null,null,null,null,null,null,null,1,1,"","",2]
[32,"Herstellung von Zementklinker","Zementklinker","Zementofenstaub (CKD)",null,"Standardmethodik: Prozess, Artikel 24 Absatz 2",1,{"$f":"Translations!$B$1082","v":"0,525 t CO2/t Staub"},{"$f":"Translations!$B$527","v":"Laboranalysen"},null,null,null,null,null,null,2,"Zementklinker: Zementofenstaub (CKD)",null,"EF_Zementklinker: Zementofenstaub (CKD)",null,null,null,null,null,null,false,null,null,null,null,null,null,null,null,null,null,null,1,2,"","",""]
[33,"Herstellung von Zementklinker","Zementklinker","Nicht-karbonatischer Kohlenstoff",null,{"$f":"F297","v":"Standardmethodik: Prozess, Artikel 24 Absatz 2"},1,{"$f":"Translations!$B$1085","v":"Best-Practice"},{"$f":"Translations!$B$527","v":"Laboranalysen"},null,null,null,null,null,null,2,"Zementklinker: Nicht-karbonatischer Kohlenstoff",null,"EF_Zementklinker: Nicht-karbonatischer Kohlenstoff",null,null,null,null,null,null,false,null,null,null,null,null,null,null,null,null,null,null,2,2,"","",""]
[34,"Herstellung von Kalk oder Brennen von Dolomit/Magnesit","Kalk / Dolomit / Magnesit","Prozess (Methode A): nur Karbonat",null,"Standardmethodik: Prozess, Artikel 24 Absatz 2",1,{"$f":"Translations!$B$493","v":"Standardwerte Typ I:"},{"$f":"Translations!$B$528","v":"Standardwerte Typ II"},null,null,{"$f":"Translations!$B$527","v":"Laboranalysen"},null,null,null,3,"Kalk / Dolomit / Magnesit: Prozess (Methode A): nur Karbonat",null,"EF_Kalk / Dolomit / Magnesit: Prozess (Methode A): nur Karbonat",null,null,null,null,null,null,false,null,null,null,null,null,null,null,null,null,null,null,1,1,"","",2]
[35,"Herstellung von Kalk oder Brennen von Dolomit/Magnesit","Kalk / Dolomit / Magnesit","Prozess (Methode A): Gemisch (Karbonat + Nicht-Karbonat)",null,"Standardmethodik: Prozess, Artikel 24 Absatz 2",1,{"$f":"EUconst_NA","v":"n.r."},{"$f":"EUconst_NA","v":"n.r."},null,null,{"$f":"Translations!$B$527","v":"Laboranalysen"},null,null,null,3,"Kalk / Dolomit / Magnesit: Prozess (Methode A): Gemisch (Karbonat + Nicht-Karbonat)",null,"EF_Kalk / Dolomit / Magnesit: Prozess (Methode A): Gemisch (Karbonat + Nicht-Karbonat)",null,null,null,null,null,null,false,null,null,null,null,null,null,null,null,null,null,null,{"$f":"Translations!$B$530","v":"n.r."},{"$f":"Translations!$B$530","v":"n.r."},"","",2]
[36,"Herstellung von Kalk oder Brennen von Dolomit/Magnesit","Kalk / Dolomit / Magnesit","Prozess (Methode A): Nicht-Karbonat",null,"Standardmethodik: Prozess, Artikel 24 Absatz 2",1,{"$f":"Translations!$B$1085","v":"Best-Practice"},{"$f":"Translations!$B$527","v":"Laboranalysen"},null,null,null,null,null,null,2,"Kalk / Dolomit / Magnesit: Prozess (Methode A): Nicht-Karbonat",null,"EF_Kalk / Dolomit / Magnesit: Prozess (Methode A): Nicht-Karbonat",null,null,null,null,null,null,false,null,null,null,null,null,null,null,null,null,null,null,2,2,"","",""]
[37,"Herstellung von Kalk oder Brennen von Dolomit/Magnesit","Kalk / Dolomit / Magnesit","Prozess (Methode B): Oxid-Output",null,"Standardmethodik: Prozess, Artikel 24 Absatz 2",1,{"$f":"Translations!$B$493","v":"Standardwerte Typ I:"},{"$f":"Translations!$B$528","v":"Standardwerte Typ II"},null,null,{"$f":"Translations!$B$527","v":"Laboranalysen"},null,null,null,3,"Kalk / Dolomit / Magnesit: Prozess (Methode B): Oxid-Output",null,"EF_Kalk / Dolomit / Magnesit: Prozess (Methode B): Oxid-Output",null,null,null,null,null,null,false,null,null,null,null,null,null,null,null,null,null,null,1,1,"","",2]
[38,"Herstellung von Kalk oder Brennen von Dolomit/Magnesit","Kalk / Dolomit / Magnesit","Ofenstaub (Methode B)",null,"Standardmethodik: Prozess, Artikel 24 Absatz 2",1,{"$f":"Translations!$B$493","v":"Standardwerte Typ I:"},{"$f":"Translations!$B$528","v":"Standardwerte Typ II"},null,null,{"$f":"Translations!$B$527","v":"Laboranalysen"},null,null,null,3,"Kalk / Dolomit / Magnesit: Ofenstaub (Methode B)",null,"EF_Kalk / Dolomit / Magnesit: Ofenstaub (Methode B)",null,null,null,null,null,null,false,null,null,null,null,null,null,null,null,null,null,null,1,1,"","",2]
[39,"Herstellung von Glas","Glas und Mineralwolle","Prozess (Methode A): nur Karbonat",null,"Standardmethodik: Prozess, Artikel 24 Absatz 2",1,{"$f":"Translations!$B$1085","v":"Best-Practice"},{"$f":"Translations!$B$527","v":"Laboranalysen"},null,null,null,null,null,null,2,"Glas und Mineralwolle: Prozess (Methode A): nur Karbonat",null,"EF_Glas und Mineralwolle: Prozess (Methode A): nur Karbonat",null,null,null,null,null,null,false,null,null,null,null,null,null,null,null,null,null,null,2,2,"","",""]
[40,"Herstellung von Glas","Glas und Mineralwolle","Prozess (Methode A): Gemisch (Karbonat + Nicht-Karbonat)",null,"Standardmethodik: Prozess, Artikel 24 Absatz 2",1,{"$f":"EUconst_NA","v":"n.r."},{"$f":"EUconst_NA","v":"n.r."},null,null,{"$f":"Translations!$B$527","v":"Laboranalysen"},null,null,null,3,"Glas und Mineralwolle: Prozess (Methode A): Gemisch (Karbonat + Nicht-Karbonat)",null,"EF_Glas und Mineralwolle: Prozess (Methode A): Gemisch (Karbonat + Nicht-Karbonat)",null,null,null,null,null,null,false,null,null,null,null,null,null,null,null,null,null,null,{"$f":"Translations!$B$530","v":"n.r."},{"$f":"Translations!$B$530","v":"n.r."},"","",2]
[41,{"$f":"B305","v":"Herstellung von Glas"},"Glas und Mineralwolle","Prozess (Methode A): Nicht-Karbonat",null,"Standardmethodik: Prozess, Artikel 24 Absatz 2",1,{"$f":"Translations!$B$1070","v":"Standardwerte Typ I und Best-Practice"},{"$f":"Translations!$B$527","v":"Laboranalysen"},null,null,null,null,null,null,2,"Glas und Mineralwolle: Prozess (Methode A): Nicht-Karbonat",null,"EF_Glas und Mineralwolle: Prozess (Methode A): Nicht-Karbonat",null,null,null,null,null,null,false,null,null,null,null,null,null,null,null,null,null,null,1,2,"","",""]
[42,"Herstellung von keramischen Erzeugnissen","Keramische Erzeugnisse","Prozess (Methode A): nur Karbonat",null,"Standardmethodik: Prozess, Artikel 24 Absatz 2",1,{"$f":"Translations!$B$1093","v":"0,08794 t CO2/t Trockenton"},{"$f":"Translations!$B$1085","v":"Best-Practice"},null,null,{"$f":"Translations!$B$527","v":"Laboranalysen"},null,null,null,3,"Keramische Erzeugnisse: Prozess (Methode A): nur Karbonat",null,"EF_Keramische Erzeugnisse: Prozess (Methode A): nur Karbonat",null,null,null,null,null,null,false,null,null,null,null,null,null,null,null,null,null,null,1,2,"","",2]
[43,"Herstellung von keramischen Erzeugnissen","Keramische Erzeugnisse","Prozess (Methode A): Gemisch (Karbonat + Nicht-Karbonat)",null,"Standardmethodik: Prozess, Artikel 24 Absatz 2",1,{"$f":"Translations!$B$1093","v":"0,08794 t CO2/t Trockenton"},{"$f":"Translations!$B$1085","v":"Best-Practice"},null,null,{"$f":"Translations!$B$527","v":"Laboranalysen"},null,null,null,3,"Keramische Erzeugnisse: Prozess (Methode A): Gemisch (Karbonat + Nicht-Karbonat)",null,"EF_Keramische Erzeugnisse: Prozess (Methode A): Gemisch (Karbonat + Nicht-Karbonat)",null,null,null,null,null,null,false,null,null,null,null,null,null,null,null,null,null,null,1,2,"","",2]
[44,"Herstellung von keramischen Erzeugnissen","Keramische Erzeugnisse","Prozess (Methode A): Nicht-Karbonat",null,"Standardmethodik: Prozess, Artikel 24 Absatz 2",1,{"$f":"Translations!$B$1093","v":"0,08794 t CO2/t Trockenton"},{"$f":"Translations!$B$1085","v":"Best-Practice"},null,null,{"$f":"Translations!$B$527","v":"Laboranalysen"},null,null,null,3,"Keramische Erzeugnisse: Prozess (Methode A): Nicht-Karbonat",null,"EF_Keramische Erzeugnisse: Prozess (Methode A): Nicht-Karbonat",null,null,null,null,null,null,false,null,null,null,null,null,null,null,null,null,null,null,1,2,"","",2]
[45,"Herstellung von keramischen Erzeugnissen","Keramische Erzeugnisse","Prozess (Methode B): Oxid-Output",null,"Standardmethodik: Prozess, Artikel 24 Absatz 2",1,{"$f":"Translations!$B$1096","v":"0,09642 t CO2/t Produkt"},{"$f":"Translations!$B$1085","v":"Best-Practice"},null,null,{"$f":"Translations!$B$527","v":"Laboranalysen"},null,null,null,3,"Keramische Erzeugnisse: Prozess (Methode B): Oxid-Output",null,"EF_Keramische Erzeugnisse: Prozess (Methode B): Oxid-Output",null,null,null,null,null,null,false,null,null,null,null,null,null,null,null,null,null,null,1,2,"","",2]
[46,"Herstellung von keramischen Erzeugnissen","Keramische Erzeugnisse","Abgaswäsche",null,"Standardmethodik: Prozess, Artikel 24 Absatz 2",1,{"$f":"Translations!$B$493","v":"Standardwerte Typ I:"},null,null,null,null,null,null,null,1,"Keramische Erzeugnisse: Abgaswäsche",null,"EF_Keramische Erzeugnisse: Abgaswäsche",null,null,null,null,null,null,false,null,null,null,null,null,null,null,null,null,null,null,1,"","","",""]
[47,"Herstellung von Zellstoff","Papier und Zellstoff","Ergänzungschemikalien",null,"Standardmethodik: Prozess, Artikel 24 Absatz 2",1,{"$f":"Translations!$B$1070","v":"Standardwerte Typ I und Best-Practice"},{"$f":"Translations!$B$527","v":"Laboranalysen"},null,null,null,null,null,null,2,"Papier und Zellstoff: Ergänzungschemikalien",null,"EF_Papier und Zellstoff: Ergänzungschemikalien",null,null,null,null,null,null,false,null,null,null,null,null,null,null,null,null,null,null,1,2,"","",""]
[48,"Herstellung von Industrieruß","Industrieruß","Massenbilanzmethodik",null,"Massenbilanzmethodik, Artikel 25",{"$f":"EUconst_NA","v":"n.r."},null,null,null,null,null,null,null,null,"n.r.","Industrieruß: Massenbilanzmethodik",null,"EF_Industrieruß: Massenbilanzmethodik",null,null,null,null,null,null,true,null,null,null,null,null,null,null,null,null,null,null,"","","","",""]
[49,"Herstellung von Ammoniak","Ammoniak","Brennstoff als Prozess-Input",null,"Standardmethodik: Brennstoff, Artikel 24 Absatz 1","2a/2b",{"$f":"Translations!$B$493","v":"Standardwerte Typ I:"},null,{"$f":"Translations!$B$528","v":"Standardwerte Typ II"},{"$f":"Translations!$B$1061","v":"Ermittelte Proxywerte (soweit zutreffend)"},{"$f":"Translations!$B$527","v":"Laboranalysen"},null,null,null,3,"Ammoniak: Brennstoff als Prozess-Input",null,"EF_Ammoniak: Brennstoff als Prozess-Input",null,null,null,null,null,null,false,null,null,null,null,null,null,null,null,null,null,null,1,"",1,2,2]
[50,"Herstellung von Wasserstoff und Synthesegas","Wasserstoff und Synthesegas","Brennstoff als Prozess-Input",null,"Standardmethodik: Brennstoff, Artikel 24 Absatz 1","2a/2b",{"$f":"Translations!$B$493","v":"Standardwerte Typ I:"},null,{"$f":"Translations!$B$528","v":"Standardwerte Typ II"},{"$f":"Translations!$B$1061","v":"Ermittelte Proxywerte (soweit zutreffend)"},{"$f":"Translations!$B$527","v":"Laboranalysen"},null,null,null,3,"Wasserstoff und Synthesegas: Brennstoff als Prozess-Input",null,"EF_Wasserstoff und Synthesegas: Brennstoff als Prozess-Input",null,null,null,null,null,null,{"$f":"IF(G386=EUconst_NA,TRUE,FALSE)","v":false},null,null,null,null,null,null,null,null,null,null,null,1,"",1,2,2]
[51,"Herstellung von Wasserstoff und Synthesegas","Wasserstoff und Synthesegas","Massenbilanzmethodik",null,"Massenbilanzmethodik, Artikel 25",{"$f":"EUconst_NA","v":"n.r."},null,null,null,null,null,null,null,null,"n.r.","Wasserstoff und Synthesegas: Massenbilanzmethodik",null,"EF_Wasserstoff und Synthesegas: Massenbilanzmethodik",null,null,null,null,null,null,true,null,null,null,null,null,null,null,null,null,null,null,"","","","",""]
[52,"Herstellung von organischen Grundchemikalien","Organische Grundchemikalien","Massenbilanzmethodik",null,"Massenbilanzmethodik, Artikel 25",{"$f":"EUconst_NA","v":"n.r."},null,null,null,null,null,null,null,null,"n.r.","Organische Grundchemikalien: Massenbilanzmethodik",null,"EF_Organische Grundchemikalien: Massenbilanzmethodik",null,null,null,null,null,null,true,null,null,null,null,null,null,null,null,null,null,null,"","","","",""]
[53,"Herstellung oder Verarbeitung von Eisenmetallen","(Nicht)-Eisen, Sek.-Aluminium","Prozess (Methode A): nur Karbonat",null,"Standardmethodik: Prozess, Artikel 24 Absatz 2",1,{"$f":"Translations!$B$493","v":"Standardwerte Typ I:"},{"$f":"Translations!$B$528","v":"Standardwerte Typ II"},null,null,{"$f":"Translations!$B$527","v":"Laboranalysen"},null,null,null,3,"(Nicht)-Eisen, Sek.-Aluminium: Prozess (Methode A): nur Karbonat",null,"EF_(Nicht)-Eisen, Sek.-Aluminium: Prozess (Methode A): nur Karbonat",null,null,null,null,null,null,false,null,null,null,null,null,null,null,null,null,null,null,1,1,"","",2]
[54,"Herstellung oder Verarbeitung von Eisenmetallen","(Nicht)-Eisen, Sek.-Aluminium","Prozess (Methode A): Gemisch (Karbonat + Nicht-Karbonat)",null,"Standardmethodik: Prozess, Artikel 24 Absatz 2",1,{"$f":"EUconst_NA","v":"n.r."},{"$f":"EUconst_NA","v":"n.r."},null,null,{"$f":"Translations!$B$527","v":"Laboranalysen"},null,null,null,3,"(Nicht)-Eisen, Sek.-Aluminium: Prozess (Methode A): Gemisch (Karbonat + Nicht-Karbonat)",null,"EF_(Nicht)-Eisen, Sek.-Aluminium: Prozess (Methode A): Gemisch (Karbonat + Nicht-Karbonat)",null,null,null,null,null,null,false,null,null,null,null,null,null,null,null,null,null,null,{"$f":"Translations!$B$530","v":"n.r."},{"$f":"Translations!$B$530","v":"n.r."},"","",2]
[55,"Herstellung oder Verarbeitung von Eisenmetallen","(Nicht)-Eisen, Sek.-Aluminium","Prozess (Methode A): Nicht-Karbonat",null,"Standardmethodik: Prozess, Artikel 24 Absatz 2",1,{"$f":"Translations!$B$493","v":"Standardwerte Typ I:"},{"$f":"Translations!$B$528","v":"Standardwerte Typ II"},null,null,{"$f":"Translations!$B$527","v":"Laboranalysen"},null,null,null,3,"(Nicht)-Eisen, Sek.-Aluminium: Prozess (Methode A): Nicht-Karbonat",null,"EF_(Nicht)-Eisen, Sek.-Aluminium: Prozess (Methode A): Nicht-Karbonat",null,null,null,null,null,null,false,null,null,null,null,null,null,null,null,null,null,null,1,1,"","",2]
[56,"Herstellung oder Verarbeitung von Eisenmetallen","(Nicht)-Eisen, Sek.-Aluminium","Prozess (Methode B): Oxid-Output",null,"Standardmethodik: Prozess, Artikel 24 Absatz 2",1,{"$f":"Translations!$B$493","v":"Standardwerte Typ I:"},{"$f":"Translations!$B$528","v":"Standardwerte Typ II"},null,null,{"$f":"Translations!$B$527","v":"Laboranalysen"},null,null,null,3,"(Nicht)-Eisen, Sek.-Aluminium: Prozess (Methode B): Oxid-Output",null,"EF_(Nicht)-Eisen, Sek.-Aluminium: Prozess (Methode B): Oxid-Output",null,null,null,null,null,null,false,null,null,null,null,null,null,null,null,null,null,null,1,1,"","",2]
[57,"Herstellung oder Verarbeitung von Eisenmetallen","(Nicht)-Eisen, Sek.-Aluminium","Massenbilanzmethodik",null,"Massenbilanzmethodik, Artikel 25",{"$f":"EUconst_NA","v":"n.r."},null,null,null,null,null,null,null,null,"n.r.","(Nicht)-Eisen, Sek.-Aluminium: Massenbilanzmethodik",null,"EF_(Nicht)-Eisen, Sek.-Aluminium: Massenbilanzmethodik",null,null,null,null,null,null,{"$f":"IF(G393=EUconst_NA,TRUE,FALSE)","v":true},null,null,null,null,null,null,null,null,null,null,null,"","","","",""]
[58,"Herstellung von Soda und Natriumbicarbonat","Soda / Natriumbicarbonat","Massenbilanzmethodik",null,"Massenbilanzmethodik, Artikel 25",{"$f":"EUconst_NA","v":"n.r."},null,null,null,null,null,null,null,null,"n.r.","Soda / Natriumbicarbonat: Massenbilanzmethodik",null,"EF_Soda / Natriumbicarbonat: Massenbilanzmethodik",null,null,null,null,null,null,{"$f":"IF(G394=EUconst_NA,TRUE,FALSE)","v":true},null,null,null,null,null,null,null,null,null,null,null,"","","","",""]
[59,"Herstellung von Primäraluminium","Primäraluminium","Massenbilanzmethodik",null,"Massenbilanzmethodik, Artikel 25",{"$f":"EUconst_NA","v":"n.r."},null,null,null,null,null,null,null,null,{"$f":"IF(G395=EUconst_NA,EUconst_NA,IF(ISBLANK(J395),COUNTA(H395:O395),COUNTA(H395,J395,L395)))","v":"n.r."},{"$f":"C395 & \": \" &D395","v":"Primäraluminium: Massenbilanzmethodik"},null,{"$f":"EUconst_CNTR_EF&Q395","v":"EF_Primäraluminium: Massenbilanzmethodik"},null,null,null,null,null,null,{"$f":"IF(G395=EUconst_NA,TRUE,FALSE)","v":true},null,null,null,null,null,null,null,null,null,null,null,"","","","",""]
[60,"Herstellung von Primäraluminium","Primäraluminium","PFC-Emissionen (Steigungsmethode)",null,"Berechnung mit Sonderbestimmungen für PFC (Anhang IV Abschnitt 8)",1,{"$f":"Translations!$B$493","v":"Standardwerte Typ I:"},{"$f":"Translations!$B$1101","v":"Anlagenspezifische Emissionsfaktoren"},null,null,null,null,null,null,2,"Primäraluminium: PFC-Emissionen (Steigungsmethode)",null,"EF_Primäraluminium: PFC-Emissionen (Steigungsmethode)",null,null,null,null,null,null,{"$f":"IF(G396=EUconst_NA,TRUE,FALSE)","v":false},null,null,null,null,null,null,null,null,null,null,null,1,2,"",""]
[61,{"$f":"B325","v":"Herstellung von Primäraluminium"},"Primäraluminium","PFC-Emissionen (Überspannungsmethode)",null,"Berechnung mit Sonderbestimmungen für PFC (Anhang IV Abschnitt 8)",1,{"$f":"Translations!$B$493","v":"Standardwerte Typ I:"},{"$f":"Translations!$B$1101","v":"Anlagenspezifische Emissionsfaktoren"},null,null,null,null,null,null,2,"Primäraluminium: PFC-Emissionen (Überspannungsmethode)",null,"EF_Primäraluminium: PFC-Emissionen (Überspannungsmethode)",null,null,null,null,null,null,{"$f":"IF(G397=EUconst_NA,TRUE,FALSE)","v":false},null,null,null,null,null,null,null,null,null,null,null,1,2,"","",""]
[62,"Abscheidung von Treibhausgasen gemäß der Richtlinie 2009/31/EG","CCS: Abscheidung","Weitergeleitetes CO2",null,{"$f":"F326","v":"Massenbilanzmethodik, Artikel 25"},{"$f":"EUconst_NA","v":"n.r."},null,null,null,null,null,null,null,null,{"$f":"IF(G398=EUconst_NA,EUconst_NA,IF(ISBLANK(J398),COUNTA(H398:O398),COUNTA(H398,J398,L398)))","v":"n.r."},{"$f":"C398 & \": \" &D398","v":"CCS: Abscheidung: Weitergeleitetes CO2"},null,{"$f":"EUconst_CNTR_EF&Q398","v":"EF_CCS: Abscheidung: Weitergeleitetes CO2"},null,null,null,null,null,null,{"$f":"IF(G398=EUconst_NA,TRUE,FALSE)","v":true}]
[63,"Transport von Treibhausgasen gemäß der Richtlinie 2009/31/EG","CCS: Transport","Weitergeleitetes CO2",null,"Massenbilanzmethodik, Artikel 25",{"$f":"EUconst_NA","v":"n.r."},null,null,null,null,null,null,null,null,"n.r.","CCS: Transport: Weitergeleitetes CO2",null,"EF_CCS: Transport: Weitergeleitetes CO2",null,null,null,null,null,null,true]
[64,"Transport von Treibhausgasen gemäß der Richtlinie 2009/31/EG","CCS: Transport","CO2-Leckagen",null,"Standardmethodik: Prozess, Artikel 24 Absatz 2",2,{"$f":"Translations!$B$493","v":"Standardwerte Typ I:"},{"$f":"Translations!$B$1085","v":"Best-Practice"},null,null,{"$f":"Translations!$B$527","v":"Laboranalysen"},null,null,null,3,"CCS: Transport: CO2-Leckagen",null,"EF_CCS: Transport: CO2-Leckagen",null,null,null,null,null,null,false,null,null,null,null,null,null,null,null,null,null,null,1,2,null,null,2]
[65,"Transport von Treibhausgasen gemäß der Richtlinie 2009/31/EG","CCS: Transport","CO2-Ablass",null,"Standardmethodik: Prozess, Artikel 24 Absatz 2",2,{"$f":"Translations!$B$493","v":"Standardwerte Typ I:"},{"$f":"Translations!$B$1085","v":"Best-Practice"},null,null,{"$f":"Translations!$B$527","v":"Laboranalysen"},null,null,null,3,"CCS: Transport: CO2-Ablass",null,"EF_CCS: Transport: CO2-Ablass",null,null,null,null,null,null,false,null,null,null,null,null,null,null,null,null,null,null,1,2,null,null,2]
[66,"Transport von Treibhausgasen gemäß der Richtlinie 2009/31/EG","CCS: Transport","Diffuse CO2 Emissionen",null,"Standardmethodik: Prozess, Artikel 24 Absatz 2",2,{"$f":"Translations!$B$493","v":"Standardwerte Typ I:"},{"$f":"Translations!$B$1085","v":"Best-Practice"},null,null,{"$f":"Translations!$B$527","v":"Laboranalysen"},null,null,null,3,"CCS: Transport: Diffuse CO2 Emissionen",null,"EF_CCS: Transport: Diffuse CO2 Emissionen",null,null,null,null,null,null,false,null,null,null,null,null,null,null,null,null,null,null,1,2,null,null,2]
[67,"Lagerung von Treibhausgasen gemäß der Richtlinie 2009/31/EG","CCS: Speicherung","Weitergeleitetes CO2",null,"Massenbilanzmethodik, Artikel 25",{"$f":"EUconst_NA","v":"n.r."},null,null,null,null,null,null,null,null,"n.r.","CCS: Speicherung: Weitergeleitetes CO2",null,"EF_CCS: Speicherung: Weitergeleitetes CO2",null,null,null,null,null,null,true]
[68,"Lagerung von Treibhausgasen gemäß der Richtlinie 2009/31/EG","CCS: Speicherung","CO2-Ablass",null,"Standardmethodik: Prozess, Artikel 24 Absatz 2",2,{"$f":"Translations!$B$493","v":"Standardwerte Typ I:"},{"$f":"Translations!$B$1085","v":"Best-Practice"},null,null,{"$f":"Translations!$B$527","v":"Laboranalysen"},null,null,null,3,"CCS: Speicherung: CO2-Ablass",null,"EF_CCS: Speicherung: CO2-Ablass",null,null,null,null,null,null,false,null,null,null,null,null,null,null,null,null,null,null,1,2,null,null,2]
[69,"Lagerung von Treibhausgasen gemäß der Richtlinie 2009/31/EG","CCS: Speicherung","CO2-Leckagen",null,"Standardmethodik: Prozess, Artikel 24 Absatz 2",2,{"$f":"Translations!$B$493","v":"Standardwerte Typ I:"},{"$f":"Translations!$B$1085","v":"Best-Practice"},null,null,{"$f":"Translations!$B$527","v":"Laboranalysen"},null,null,null,3,"CCS: Speicherung: CO2-Leckagen",null,"EF_CCS: Speicherung: CO2-Leckagen",null,null,null,null,null,null,false,null,null,null,null,null,null,null,null,null,null,null,1,2,null,null,2]
[70,"Lagerung von Treibhausgasen gemäß der Richtlinie 2009/31/EG","CCS: Speicherung","Diffuse CO2 Emissionen",null,"Standardmethodik: Prozess, Artikel 24 Absatz 2",2,{"$f":"Translations!$B$493","v":"Standardwerte Typ I:"},{"$f":"Translations!$B$1085","v":"Best-Practice"},null,null,{"$f":"Translations!$B$527","v":"Laboranalysen"},null,null,null,3,"CCS: Speicherung: Diffuse CO2 Emissionen",null,"EF_CCS: Speicherung: Diffuse CO2 Emissionen",null,null,null,null,null,null,false,null,null,null,null,null,null,null,null,null,null,null,1,2,null,null,2]
[null,null,null,null,null,null,null,null,null,null,null,null,null,null,null,null,null,null,null,null,null,null,null,null,null,{"$f":"IF(G407=EUconst_NA,TRUE,FALSE)","v":false}]
["NEW",{"$f":"Translations!$B$1108","v":"Hu"},{"$f":"Translations!$B$957","v":"Kurzbezeichnung"},{"$f":"Translations!$B$958","v":"Teilmaßnahme"},{"$f":"Translations!$B$389","v":"Parameter"},{"$f":"Translations!$B$959","v":"Quellentyp"},{"$f":"Translations!$B$960","v":"Minimum"},1,2,"2a",{"$f":"Translations!$B$928","v":"2b"},3,"3a","3b",4,{"$f":"Translations!$B$961","v":"Maximum"},null,null,null,null,null,null,null,null,null,{"$f":"Translations!$B$962","v":"Schattieren?"},null,null,null,null,null,null,null,null,null,null,"1=default value, 2=lab",1,2,"2a",{"$f":"Translations!$B$928","v":"2b"},3]
[1,{"$f":"B337","v":"Verbrennung von Brennstoffen"},"Verbrennung","Kommerzielle Standardbrennstoffe",null,{"$f":"F337","v":"Standardmethodik: Brennstoff, Artikel 24 Absatz 1"},"2a/2b",{"$f":"Translations!$B$493","v":"Standardwerte Typ I:"},null,{"$f":"Translations!$B$528","v":"Standardwerte Typ II"},{"$f":"Translations!$B$1109","v":"Gegebenfalls Rechnungsunterlagen"},{"$f":"Translations!$B$527","v":"Laboranalysen"},null,null,null,{"$f":"G409","v":"2a/2b"},{"$f":"C409 & \": \" &D409","v":"Verbrennung: Kommerzielle Standardbrennstoffe"},null,{"$f":"EUconst_CNTR_NCV&Q409","v":"NCV_Verbrennung: Kommerzielle Standardbrennstoffe"},null,null,null,null,null,null,{"$f":"IF(G409=EUconst_NA,TRUE,FALSE)","v":false},null,null,null,null,null,null,null,null,null,null,null,1,"",1,{"$f":"Translations!$B$1109","v":"Gegebenfalls Rechnungsunterlagen"},2]
[2,"Verbrennung von Brennstoffen","Verbrennung","Andere gasförmige und flüssige Brennstoffe",null,"Standardmethodik: Brennstoff, Artikel 24 Absatz 1","2a/2b",{"$f":"Translations!$B$493","v":"Standardwerte Typ I:"},null,{"$f":"Translations!$B$528","v":"Standardwerte Typ II"},{"$f":"Translations!$B$1109","v":"Gegebenfalls Rechnungsunterlagen"},{"$f":"Translations!$B$527","v":"Laboranalysen"},null,null,null,{"$f":"IF(G410=EUconst_NA,EUconst_NA,IF(ISBLANK(J410),COUNTA(H410:O410),COUNTA(H410,J410,L410)))","v":3},{"$f":"C410 & \": \" &D410","v":"Verbrennung: Andere gasförmige und flüssige Brennstoffe"},null,{"$f":"EUconst_CNTR_NCV&Q410","v":"NCV_Verbrennung: Andere gasförmige und flüssige Brennstoffe"},null,null,null,null,null,null,false,null,null,null,null,null,null,null,null,null,null,null,1,"",1,{"$f":"Translations!$B$1109","v":"Gegebenfalls Rechnungsunterlagen"},2]
[3,"Verbrennung von Brennstoffen","Verbrennung","Feste Brennstoffe, ausgenommen Abfälle",null,"Standardmethodik: Brennstoff, Artikel 24 Absatz 1","2a/2b",{"$f":"Translations!$B$493","v":"Standardwerte Typ I:"},null,{"$f":"Translations!$B$528","v":"Standardwerte Typ II"},{"$f":"Translations!$B$1109","v":"Gegebenfalls Rechnungsunterlagen"},{"$f":"Translations!$B$527","v":"Laboranalysen"},null,null,null,3,"Verbrennung: Feste Brennstoffe, ausgenommen Abfälle",null,"NCV_Verbrennung: Feste Brennstoffe, ausgenommen Abfälle",null,null,null,null,null,null,false,null,null,null,null,null,null,null,null,null,null,null,1,"",1,{"$f":"Translations!$B$1109","v":"Gegebenfalls Rechnungsunterlagen"},2]
[4,"Verbrennung von Brennstoffen","Verbrennung","Abfall",null,"Standardmethodik: Brennstoff, Artikel 24 Absatz 1","2a/2b",{"$f":"Translations!$B$493","v":"Standardwerte Typ I:"},null,{"$f":"Translations!$B$528","v":"Standardwerte Typ II"},{"$f":"Translations!$B$1109","v":"Gegebenfalls Rechnungsunterlagen"},{"$f":"Translations!$B$527","v":"Laboranalysen"},null,null,null,{"$f":"IF(G412=EUconst_NA,EUconst_NA,IF(ISBLANK(J412),COUNTA(H412:O412),COUNTA(H412,J412,L412)))","v":3},{"$f":"C412 & \": \" &D412","v":"Verbrennung: Abfall"},null,{"$f":"EUconst_CNTR_NCV&Q412","v":"NCV_Verbrennung: Abfall"},null,null,null,null,null,null,{"$f":"IF(G412=EUconst_NA,TRUE,FALSE)","v":false},null,null,null,null,null,null,null,null,null,null,null,1,"",1,{"$f":"Translations!$B$1109","v":"Gegebenfalls Rechnungsunterlagen"},2]
[5,"Verbrennung von Brennstoffen","Verbrennung","Gasaufbereitungsstationen",null,"Massenbilanzmethodik, Artikel 25",1,{"$f":"Translations!$B$493","v":"Standardwerte Typ I:"},null,{"$f":"Translations!$B$528","v":"Standardwerte Typ II"},{"$f":"Translations!$B$1109","v":"Gegebenfalls Rechnungsunterlagen"},{"$f":"Translations!$B$527","v":"Laboranalysen"},null,null,null,3,"Verbrennung: Gasaufbereitungsstationen",null,"NCV_Verbrennung: Gasaufbereitungsstationen",null,null,null,null,null,null,false,null,null,null,null,null,null,null,null,null,null,null,1,"",1,{"$f":"Translations!$B$1109","v":"Gegebenfalls Rechnungsunterlagen"},2]
[6,"Verbrennung von Brennstoffen","Verbrennung","Fackeln",null,"Standardmethodik: Brennstoff, Artikel 24 Absatz 1",{"$f":"\"\"","v":""},{"$f":"Translations!$B$493","v":"Standardwerte Typ I:"},null,{"$f":"Translations!$B$528","v":"Standardwerte Typ II"},{"$f":"Translations!$B$1109","v":"Gegebenfalls Rechnungsunterlagen"},{"$f":"Translations!$B$527","v":"Laboranalysen"},null,null,null,3,"Verbrennung: Fackeln",null,"NCV_Verbrennung: Fackeln",null,null,null,null,null,null,false,null,null,null,null,null,null,null,null,null,null,null,1,"",1,{"$f":"Translations!$B$1109","v":"Gegebenfalls Rechnungsunterlagen"},2]
[7,"Verbrennung von Brennstoffen","Verbrennung","Abgaswäsche (Karbonat)",null,"Standardmethodik: Prozess, Artikel 24 Absatz 2",{"$f":"EUconst_NA","v":"n.r."},null,null,null,null,null,null,null,null,"n.r.","Verbrennung: Abgaswäsche (Karbonat)",null,"NCV_Verbrennung: Abgaswäsche (Karbonat)",null,null,null,null,null,null,true,null,null,null,null,null,null,null,null,null,null,null,"","","","",""]
[8,"Verbrennung von Brennstoffen","Verbrennung","Abgaswäsche (Gips)",null,"Standardmethodik: Prozess, Artikel 24 Absatz 2",{"$f":"EUconst_NA","v":"n.r."},null,null,null,null,null,null,null,null,"n.r.","Verbrennung: Abgaswäsche (Gips)",null,"NCV_Verbrennung: Abgaswäsche (Gips)",null,null,null,null,null,null,true,null,null,null,null,null,null,null,null,null,null,null,"","","","",""]
[9,"Verbrennung von Brennstoffen","Verbrennung","Abgaswäsche (Harnstoff)",null,"Standardmethodik: Prozess, Artikel 24 Absatz 2",{"$f":"EUconst_NA","v":"n.r."},null,null,null,null,null,null,null,null,"n.r.","Verbrennung: Abgaswäsche (Harnstoff)",null,"NCV_Verbrennung: Abgaswäsche (Harnstoff)",null,null,null,null,null,null,true,null,null,null,null,null,null,null,null,null,null,null,"","","","",""]
[10,"Raffination von Mineralöl ","Raffinerien","Massenbilanz",null,"Massenbilanzmethodik, Artikel 25",{"$f":"\"\"","v":""},{"$f":"Translations!$B$493","v":"Standardwerte Typ I:"},null,{"$f":"Translations!$B$528","v":"Standardwerte Typ II"},{"$f":"Translations!$B$1109","v":"Gegebenfalls Rechnungsunterlagen"},{"$f":"Translations!$B$527","v":"Laboranalysen"},null,null,null,3,"Raffinerien: Massenbilanz",null,"NCV_Raffinerien: Massenbilanz",null,null,null,null,null,null,false,null,null,null,null,null,null,null,null,null,null,null,1,"",1,{"$f":"Translations!$B$1109","v":"Gegebenfalls Rechnungsunterlagen"},2]
[11,"Raffination von Mineralöl ","Raffinerien","Regeneration von katalytischen Crackern",null,"Massenbilanzmethodik, Artikel 25",{"$f":"EUconst_NA","v":"n.r."},null,null,null,null,null,null,null,null,"n.r.","Raffinerien: Regeneration von katalytischen Crackern",null,"NCV_Raffinerien: Regeneration von katalytischen Crackern",null,null,null,null,null,null,true,null,null,null,null,null,null,null,null,null,null,null,"","","","",""]
[12,"Raffination von Mineralöl ","Raffinerien","Wasserstofferzeugung",null,"Massenbilanzmethodik, Artikel 25",{"$f":"\"\"","v":""},{"$f":"Translations!$B$493","v":"Standardwerte Typ I:"},null,{"$f":"Translations!$B$528","v":"Standardwerte Typ II"},{"$f":"Translations!$B$1109","v":"Gegebenfalls Rechnungsunterlagen"},{"$f":"Translations!$B$527","v":"Laboranalysen"},null,null,null,3,"Raffinerien: Wasserstofferzeugung",null,"NCV_Raffinerien: Wasserstofferzeugung",null,null,null,null,null,null,false,null,null,null,null,null,null,null,null,null,null,null,1,"",1,{"$f":"Translations!$B$1109","v":"Gegebenfalls Rechnungsunterlagen"},2]
[13,"Herstellung von Koks","Koks","Brennstoff als Prozess-Input",null,"Standardmethodik: Brennstoff, Artikel 24 Absatz 1","2a/2b",{"$f":"Translations!$B$493","v":"Standardwerte Typ I:"},null,{"$f":"Translations!$B$528","v":"Standardwerte Typ II"},{"$f":"Translations!$B$1109","v":"Gegebenfalls Rechnungsunterlagen"},{"$f":"Translations!$B$527","v":"Laboranalysen"},null,null,null,3,"Koks: Brennstoff als Prozess-Input",null,"NCV_Koks: Brennstoff als Prozess-Input",null,null,null,null,null,null,false,null,null,null,null,null,null,null,null,null,null,null,1,"",1,{"$f":"Translations!$B$1109","v":"Gegebenfalls Rechnungsunterlagen"},2]
[14,"Herstellung von Koks","Koks","Prozess (Methode A): nur Karbonat",null,"Standardmethodik: Prozess, Artikel 24 Absatz 2",{"$f":"EUconst_NA","v":"n.r."},null,null,null,null,null,null,null,null,"n.r.","Koks: Prozess (Methode A): nur Karbonat",null,"NCV_Koks: Prozess (Methode A): nur Karbonat",null,null,null,null,null,null,true,null,null,null,null,null,null,null,null,null,null,null,"","","","",""]
[15,"Herstellung von Koks","Koks","Prozess (Methode A): Gemisch (Karbonat + Nicht-Karbonat)",null,"Standardmethodik: Prozess, Artikel 24 Absatz 2","2a/2b",{"$f":"Translations!$B$493","v":"Standardwerte Typ I:"},null,{"$f":"Translations!$B$528","v":"Standardwerte Typ II"},{"$f":"Translations!$B$1109","v":"Gegebenfalls Rechnungsunterlagen"},{"$f":"Translations!$B$527","v":"Laboranalysen"},null,null,null,3,"Koks: Prozess (Methode A): Gemisch (Karbonat + Nicht-Karbonat)",null,"NCV_Koks: Prozess (Methode A): Gemisch (Karbonat + Nicht-Karbonat)",null,null,null,null,null,null,false,null,null,null,null,null,null,null,null,null,null,null,1,"",1,{"$f":"Translations!$B$1109","v":"Gegebenfalls Rechnungsunterlagen"},2]
[16,"Herstellung von Koks","Koks","Prozess (Methode A): Nicht-Karbonat",null,"Standardmethodik: Prozess, Artikel 24 Absatz 2","2a/2b",{"$f":"Translations!$B$493","v":"Standardwerte Typ I:"},null,{"$f":"Translations!$B$528","v":"Standardwerte Typ II"},{"$f":"Translations!$B$1109","v":"Gegebenfalls Rechnungsunterlagen"},{"$f":"Translations!$B$527","v":"Laboranalysen"},null,null,null,3,"Koks: Prozess (Methode A): Nicht-Karbonat",null,"NCV_Koks: Prozess (Methode A): Nicht-Karbonat",null,null,null,null,null,null,false,null,null,null,null,null,null,null,null,null,null,null,1,"",1,{"$f":"Translations!$B$1109","v":"Gegebenfalls Rechnungsunterlagen"},2]
[17,"Herstellung von Koks","Koks","Prozess (Methode B): Oxid-Output",null,"Standardmethodik: Prozess, Artikel 24 Absatz 2",{"$f":"EUconst_NA","v":"n.r."},null,null,null,null,null,null,null,null,"n.r.","Koks: Prozess (Methode B): Oxid-Output",null,"NCV_Koks: Prozess (Methode B): Oxid-Output",null,null,null,null,null,null,true,null,null,null,null,null,null,null,null,null,null,null,"","","","",""]
[18,"Herstellung von Koks","Koks","Massenbilanz",null,"Massenbilanzmethodik, Artikel 25",{"$f":"\"\"","v":""},{"$f":"Translations!$B$493","v":"Standardwerte Typ I:"},null,{"$f":"Translations!$B$528","v":"Standardwerte Typ II"},{"$f":"Translations!$B$1109","v":"Gegebenfalls Rechnungsunterlagen"},{"$f":"Translations!$B$527","v":"Laboranalysen"},null,null,null,3,"Koks: Massenbilanz",null,"NCV_Koks: Massenbilanz",null,null,null,null,null,null,false,null,null,null,null,null,null,null,null,null,null,null,1,"",1,{"$f":"Translations!$B$1109","v":"Gegebenfalls Rechnungsunterlagen"},2]
[19,"Röstung oder Sinterung von Metallerz","Metallerz","Prozess (Methode A): nur Karbonat",null,"Standardmethodik: Prozess, Artikel 24 Absatz 2",{"$f":"EUconst_NA","v":"n.r."},null,null,null,null,null,null,null,null,"n.r.","Metallerz: Prozess (Methode A): nur Karbonat",null,"NCV_Metallerz: Prozess (Methode A): nur Karbonat",null,null,null,null,null,null,true,null,null,null,null,null,null,null,null,null,null,null,"","","","",""]
[20,"Röstung oder Sinterung von Metallerz","Metallerz","Prozess (Methode A): Gemisch (Karbonat + Nicht-Karbonat)",null,"Standardmethodik: Prozess, Artikel 24 Absatz 2","2a/2b",{"$f":"Translations!$B$493","v":"Standardwerte Typ I:"},null,{"$f":"Translations!$B$528","v":"Standardwerte Typ II"},{"$f":"Translations!$B$1109","v":"Gegebenfalls Rechnungsunterlagen"},{"$f":"Translations!$B$527","v":"Laboranalysen"},null,null,null,3,"Metallerz: Prozess (Methode A): Gemisch (Karbonat + Nicht-Karbonat)",null,"NCV_Metallerz: Prozess (Methode A): Gemisch (Karbonat + Nicht-Karbonat)",null,null,null,null,null,null,false,null,null,null,null,null,null,null,null,null,null,null,1,"",1,{"$f":"Translations!$B$1109","v":"Gegebenfalls Rechnungsunterlagen"},2]
[21,{"$f":"B357","v":"Röstung oder Sinterung von Metallerz"},"Metallerz","Prozess (Methode A): Nicht-Karbonat",null,"Standardmethodik: Prozess, Artikel 24 Absatz 2","2a/2b",{"$f":"Translations!$B$493","v":"Standardwerte Typ I:"},null,{"$f":"Translations!$B$528","v":"Standardwerte Typ II"},{"$f":"Translations!$B$1109","v":"Gegebenfalls Rechnungsunterlagen"},{"$f":"Translations!$B$527","v":"Laboranalysen"},null,null,null,3,"Metallerz: Prozess (Methode A): Nicht-Karbonat",null,"NCV_Metallerz: Prozess (Methode A): Nicht-Karbonat",null,null,null,null,null,null,false,null,null,null,null,null,null,null,null,null,null,null,1,"",1,{"$f":"Translations!$B$1109","v":"Gegebenfalls Rechnungsunterlagen"},2]
[22,"Röstung oder Sinterung von Metallerz","Metallerz","Prozess (Methode B): Oxid-Output",null,"Standardmethodik: Prozess, Artikel 24 Absatz 2",{"$f":"EUconst_NA","v":"n.r."},null,null,null,null,null,null,null,null,"n.r.","Metallerz: Prozess (Methode B): Oxid-Output",null,"NCV_Metallerz: Prozess (Methode B): Oxid-Output",null,null,null,null,null,null,true,null,null,null,null,null,null,null,null,null,null,null,"","","","",""]
[23,"Röstung oder Sinterung von Metallerz","Metallerz","Massenbilanz",null,"Massenbilanzmethodik, Artikel 25",{"$f":"\"\"","v":""},{"$f":"Translations!$B$493","v":"Standardwerte Typ I:"},null,{"$f":"Translations!$B$528","v":"Standardwerte Typ II"},{"$f":"Translations!$B$1109","v":"Gegebenfalls Rechnungsunterlagen"},{"$f":"Translations!$B$527","v":"Laboranalysen"},null,null,null,3,"Metallerz: Massenbilanz",null,"NCV_Metallerz: Massenbilanz",null,null,null,null,null,null,false,null,null,null,null,null,null,null,null,null,null,null,1,"",1,{"$f":"Translations!$B$1109","v":"Gegebenfalls Rechnungsunterlagen"},2]
[24,"Herstellung von Eisen oder Stahl","Eisen und Stahl","Brennstoff als Prozess-Input",null,"Standardmethodik: Brennstoff, Artikel 24 Absatz 1","2a/2b",{"$f":"Translations!$B$493","v":"Standardwerte Typ I:"},null,{"$f":"Translations!$B$528","v":"Standardwerte Typ II"},{"$f":"Translations!$B$1109","v":"Gegebenfalls Rechnungsunterlagen"},{"$f":"Translations!$B$527","v":"Laboranalysen"},null,null,null,3,"Eisen und Stahl: Brennstoff als Prozess-Input",null,"NCV_Eisen und Stahl: Brennstoff als Prozess-Input",null,null,null,null,null,null,false,null,null,null,null,null,null,null,null,null,null,null,1,"",1,{"$f":"Translations!$B$1109","v":"Gegebenfalls Rechnungsunterlagen"},2]
[25,"Herstellung von Eisen oder Stahl","Eisen und Stahl","Prozess (Methode A): nur Karbonat",null,"Standardmethodik: Prozess, Artikel 24 Absatz 2",{"$f":"EUconst_NA","v":"n.r."},null,null,null,null,null,null,null,null,"n.r.","Eisen und Stahl: Prozess (Methode A): nur Karbonat",null,"NCV_Eisen und Stahl: Prozess (Methode A): nur Karbonat",null,null,null,null,null,null,true,null,null,null,null,null,null,null,null,null,null,null,"","","","",""]
[26,"Herstellung von Eisen oder Stahl","Eisen und Stahl","Prozess (Methode A): Gemisch (Karbonat + Nicht-Karbonat)",null,"Standardmethodik: Prozess, Artikel 24 Absatz 2","2a/2b",{"$f":"Translations!$B$493","v":"Standardwerte Typ I:"},null,{"$f":"Translations!$B$528","v":"Standardwerte Typ II"},{"$f":"Translations!$B$1109","v":"Gegebenfalls Rechnungsunterlagen"},{"$f":"Translations!$B$527","v":"Laboranalysen"},null,null,null,3,"Eisen und Stahl: Prozess (Methode A): Gemisch (Karbonat + Nicht-Karbonat)",null,"NCV_Eisen und Stahl: Prozess (Methode A): Gemisch (Karbonat + Nicht-Karbonat)",null,null,null,null,null,null,false,null,null,null,null,null,null,null,null,null,null,null,1,"",1,{"$f":"Translations!$B$1109","v":"Gegebenfalls Rechnungsunterlagen"},2]
[27,"Herstellung von Eisen oder Stahl","Eisen und Stahl","Prozess (Methode A): Nicht-Karbonat",null,"Standardmethodik: Prozess, Artikel 24 Absatz 2","2a/2b",{"$f":"Translations!$B$493","v":"Standardwerte Typ I:"},null,{"$f":"Translations!$B$528","v":"Standardwerte Typ II"},{"$f":"Translations!$B$1109","v":"Gegebenfalls Rechnungsunterlagen"},{"$f":"Translations!$B$527","v":"Laboranalysen"},null,null,null,3,"Eisen und Stahl: Prozess (Methode A): Nicht-Karbonat",null,"NCV_Eisen und Stahl: Prozess (Methode A): Nicht-Karbonat",null,null,null,null,null,null,false,null,null,null,null,null,null,null,null,null,null,null,1,"",1,{"$f":"Translations!$B$1109","v":"Gegebenfalls Rechnungsunterlagen"},2]
[28,"Herstellung von Eisen oder Stahl","Eisen und Stahl","Prozess (Methode B): Oxid-Output",null,"Standardmethodik: Prozess, Artikel 24 Absatz 2",{"$f":"EUconst_NA","v":"n.r."},null,null,null,null,null,null,null,null,"n.r.","Eisen und Stahl: Prozess (Methode B): Oxid-Output",null,"NCV_Eisen und Stahl: Prozess (Methode B): Oxid-Output",null,null,null,null,null,null,true,null,null,null,null,null,null,null,null,null,null,null,"","","","",""]
[29,"Herstellung von Eisen oder Stahl","Eisen und Stahl","Massenbilanz",null,"Massenbilanzmethodik, Artikel 25",{"$f":"\"\"","v":""},{"$f":"Translations!$B$493","v":"Standardwerte Typ I:"},null,{"$f":"Translations!$B$528","v":"Standardwerte Typ II"},{"$f":"Translations!$B$1109","v":"Gegebenfalls Rechnungsunterlagen"},{"$f":"Translations!$B$527","v":"Laboranalysen"},null,null,null,3,"Eisen und Stahl: Massenbilanz",null,"NCV_Eisen und Stahl: Massenbilanz",null,null,null,null,null,null,false,null,null,null,null,null,null,null,null,null,null,null,1,"",1,{"$f":"Translations!$B$1109","v":"Gegebenfalls Rechnungsunterlagen"},2]
[30,"Herstellung von Zementklinker","Zementklinker","Ofen-Input-Betrachtung (Methode A)",null,"Standardmethodik: Prozess, Artikel 24 Absatz 2",{"$f":"EUconst_NA","v":"n.r."},null,null,null,null,null,null,null,null,"n.r.","Zementklinker: Ofen-Input-Betrachtung (Methode A)",null,"NCV_Zementklinker: Ofen-Input-Betrachtung (Methode A)",null,null,null,null,null,null,true,null,null,null,null,null,null,null,null,null,null,null,"","","","",""]
[31,"Herstellung von Zementklinker","Zementklinker","Klinker-Output (Methode B)",null,"Standardmethodik: Prozess, Artikel 24 Absatz 2",{"$f":"EUconst_NA","v":"n.r."},null,null,null,null,null,null,null,null,"n.r.","Zementklinker: Klinker-Output (Methode B)",null,"NCV_Zementklinker: Klinker-Output (Methode B)",null,null,null,null,null,null,true,null,null,null,null,null,null,null,null,null,null,null,"","","","",""]
[32,"Herstellung von Zementklinker","Zementklinker","Zementofenstaub (CKD)",null,"Standardmethodik: Prozess, Artikel 24 Absatz 2",{"$f":"EUconst_NA","v":"n.r."},null,null,null,null,null,null,null,null,"n.r.","Zementklinker: Zementofenstaub (CKD)",null,"NCV_Zementklinker: Zementofenstaub (CKD)",null,null,null,null,null,null,true,null,null,null,null,null,null,null,null,null,null,null,"","","","",""]
[33,"Herstellung von Zementklinker","Zementklinker","Nicht-karbonatischer Kohlenstoff",null,{"$f":"F369","v":"Standardmethodik: Prozess, Artikel 24 Absatz 2"},{"$f":"EUconst_NA","v":"n.r."},null,null,null,null,null,null,null,null,"n.r.","Zementklinker: Nicht-karbonatischer Kohlenstoff",null,"NCV_Zementklinker: Nicht-karbonatischer Kohlenstoff",null,null,null,null,null,null,true,null,null,null,null,null,null,null,null,null,null,null,"","","","",""]
[34,"Herstellung von Kalk oder Brennen von Dolomit/Magnesit","Kalk / Dolomit / Magnesit","Prozess (Methode A): nur Karbonat",null,"Standardmethodik: Prozess, Artikel 24 Absatz 2",{"$f":"EUconst_NA","v":"n.r."},null,null,null,null,null,null,null,null,"n.r.","Kalk / Dolomit / Magnesit: Prozess (Methode A): nur Karbonat",null,"NCV_Kalk / Dolomit / Magnesit: Prozess (Methode A): nur Karbonat",null,null,null,null,null,null,true,null,null,null,null,null,null,null,null,null,null,null,"","","","",""]
[35,"Herstellung von Kalk oder Brennen von Dolomit/Magnesit","Kalk / Dolomit / Magnesit","Prozess (Methode A): Gemisch (Karbonat + Nicht-Karbonat)",null,"Standardmethodik: Prozess, Artikel 24 Absatz 2","2a/2b",{"$f":"Translations!$B$493","v":"Standardwerte Typ I:"},null,{"$f":"Translations!$B$528","v":"Standardwerte Typ II"},{"$f":"Translations!$B$1109","v":"Gegebenfalls Rechnungsunterlagen"},{"$f":"Translations!$B$527","v":"Laboranalysen"},null,null,null,3,"Kalk / Dolomit / Magnesit: Prozess (Methode A): Gemisch (Karbonat + Nicht-Karbonat)",null,"NCV_Kalk / Dolomit / Magnesit: Prozess (Methode A): Gemisch (Karbonat + Nicht-Karbonat)",null,null,null,null,null,null,false,null,null,null,null,null,null,null,null,null,null,null,1,"",1,{"$f":"Translations!$B$1109","v":"Gegebenfalls Rechnungsunterlagen"},2]
[36,"Herstellung von Kalk oder Brennen von Dolomit/Magnesit","Kalk / Dolomit / Magnesit","Prozess (Methode A): Nicht-Karbonat",null,"Standardmethodik: Prozess, Artikel 24 Absatz 2","2a/2b",{"$f":"Translations!$B$493","v":"Standardwerte Typ I:"},null,{"$f":"Translations!$B$528","v":"Standardwerte Typ II"},{"$f":"Translations!$B$1109","v":"Gegebenfalls Rechnungsunterlagen"},{"$f":"Translations!$B$527","v":"Laboranalysen"},null,null,null,3,"Kalk / Dolomit / Magnesit: Prozess (Methode A): Nicht-Karbonat",null,"NCV_Kalk / Dolomit / Magnesit: Prozess (Methode A): Nicht-Karbonat",null,null,null,null,null,null,false,null,null,null,null,null,null,null,null,null,null,null,1,"",1,{"$f":"Translations!$B$1109","v":"Gegebenfalls Rechnungsunterlagen"},2]
[37,"Herstellung von Kalk oder Brennen von Dolomit/Magnesit","Kalk / Dolomit / Magnesit","Prozess (Methode B): Oxid-Output",null,"Standardmethodik: Prozess, Artikel 24 Absatz 2",{"$f":"EUconst_NA","v":"n.r."},null,null,null,null,null,null,null,null,"n.r.","Kalk / Dolomit / Magnesit: Prozess (Methode B): Oxid-Output",null,"NCV_Kalk / Dolomit / Magnesit: Prozess (Methode B): Oxid-Output",null,null,null,null,null,null,true,null,null,null,null,null,null,null,null,null,null,null,"","","","",""]
[38,"Herstellung von Kalk oder Brennen von Dolomit/Magnesit","Kalk / Dolomit / Magnesit","Ofenstaub (Methode B)",null,"Standardmethodik: Prozess, Artikel 24 Absatz 2",{"$f":"EUconst_NA","v":"n.r."},null,null,null,null,null,null,null,null,{"$f":"IF(G446=EUconst_NA,EUconst_NA,IF(ISBLANK(J446),COUNTA(H446:O446),COUNTA(H446,J446,L446)))","v":"n.r."},"Kalk / Dolomit / Magnesit: Ofenstaub (Methode B)",null,"NCV_Kalk / Dolomit / Magnesit: Ofenstaub (Methode B)",null,null,null,null,null,null,true,null,null,null,null,null,null,null,null,null,null,null,"","","","",""]
[39,"Herstellung von Glas","Glas und Mineralwolle","Prozess (Methode A): nur Karbonat",null,"Standardmethodik: Prozess, Artikel 24 Absatz 2",{"$f":"EUconst_NA","v":"n.r."},null,null,null,null,null,null,null,null,"n.r.","Glas und Mineralwolle: Prozess (Methode A): nur Karbonat",null,"NCV_Glas und Mineralwolle: Prozess (Methode A): nur Karbonat",null,null,null,null,null,null,true,null,null,null,null,null,null,null,null,null,null,null,"","","","",""]
[40,"Herstellung von Glas","Glas und Mineralwolle","Prozess (Methode A): Gemisch (Karbonat + Nicht-Karbonat)",null,"Standardmethodik: Prozess, Artikel 24 Absatz 2","2a/2b",{"$f":"Translations!$B$493","v":"Standardwerte Typ I:"},null,{"$f":"Translations!$B$528","v":"Standardwerte Typ II"},{"$f":"Translations!$B$1109","v":"Gegebenfalls Rechnungsunterlagen"},{"$f":"Translations!$B$527","v":"Laboranalysen"},null,null,null,3,"Glas und Mineralwolle: Prozess (Methode A): Gemisch (Karbonat + Nicht-Karbonat)",null,"NCV_Glas und Mineralwolle: Prozess (Methode A): Gemisch (Karbonat + Nicht-Karbonat)",null,null,null,null,null,null,false,null,null,null,null,null,null,null,null,null,null,null,1,"",1,{"$f":"Translations!$B$1109","v":"Gegebenfalls Rechnungsunterlagen"},2]
[41,{"$f":"B377","v":"Herstellung von Glas"},"Glas und Mineralwolle","Prozess (Methode A): Nicht-Karbonat",null,"Standardmethodik: Prozess, Artikel 24 Absatz 2","2a/2b",{"$f":"Translations!$B$493","v":"Standardwerte Typ I:"},null,{"$f":"Translations!$B$528","v":"Standardwerte Typ II"},{"$f":"Translations!$B$1109","v":"Gegebenfalls Rechnungsunterlagen"},{"$f":"Translations!$B$527","v":"Laboranalysen"},null,null,null,3,"Glas und Mineralwolle: Prozess (Methode A): Nicht-Karbonat",null,"NCV_Glas und Mineralwolle: Prozess (Methode A): Nicht-Karbonat",null,null,null,null,null,null,false,null,null,null,null,null,null,null,null,null,null,null,1,"",1,{"$f":"Translations!$B$1109","v":"Gegebenfalls Rechnungsunterlagen"},2]
[42,"Herstellung von keramischen Erzeugnissen","Keramische Erzeugnisse","Prozess (Methode A): nur Karbonat",null,"Standardmethodik: Prozess, Artikel 24 Absatz 2",{"$f":"EUconst_NA","v":"n.r."},null,null,null,null,null,null,null,null,"n.r.","Keramische Erzeugnisse: Prozess (Methode A): nur Karbonat",null,"NCV_Keramische Erzeugnisse: Prozess (Methode A): nur Karbonat",null,null,null,null,null,null,true,null,null,null,null,null,null,null,null,null,null,null,"","","","",""]
[43,"Herstellung von keramischen Erzeugnissen","Keramische Erzeugnisse","Prozess (Methode A): Gemisch (Karbonat + Nicht-Karbonat)",null,"Standardmethodik: Prozess, Artikel 24 Absatz 2","2a/2b",{"$f":"Translations!$B$493","v":"Standardwerte Typ I:"},null,{"$f":"Translations!$B$528","v":"Standardwerte Typ II"},{"$f":"Translations!$B$1109","v":"Gegebenfalls Rechnungsunterlagen"},{"$f":"Translations!$B$527","v":"Laboranalysen"},null,null,null,3,"Keramische Erzeugnisse: Prozess (Methode A): Gemisch (Karbonat + Nicht-Karbonat)",null,"NCV_Keramische Erzeugnisse: Prozess (Methode A): Gemisch (Karbonat + Nicht-Karbonat)",null,null,null,null,null,null,false,null,null,null,null,null,null,null,null,null,null,null,1,"",1,{"$f":"Translations!$B$1109","v":"Gegebenfalls Rechnungsunterlagen"},2]
[44,"Herstellung von keramischen Erzeugnissen","Keramische Erzeugnisse","Prozess (Methode A): Nicht-Karbonat",null,"Standardmethodik: Prozess, Artikel 24 Absatz 2","2a/2b",{"$f":"Translations!$B$493","v":"Standardwerte Typ I:"},null,{"$f":"Translations!$B$528","v":"Standardwerte Typ II"},{"$f":"Translations!$B$1109","v":"Gegebenfalls Rechnungsunterlagen"},{"$f":"Translations!$B$527","v":"Laboranalysen"},null,null,null,3,"Keramische Erzeugnisse: Prozess (Methode A): Nicht-Karbonat",null,"NCV_Keramische Erzeugnisse: Prozess (Methode A): Nicht-Karbonat",null,null,null,null,null,null,false,null,null,null,null,null,null,null,null,null,null,null,1,"",1,{"$f":"Translations!$B$1109","v":"Gegebenfalls Rechnungsunterlagen"},2]
[45,"Herstellung von keramischen Erzeugnissen","Keramische Erzeugnisse","Prozess (Methode B): Oxid-Output",null,"Standardmethodik: Prozess, Artikel 24 Absatz 2",{"$f":"EUconst_NA","v":"n.r."},null,null,null,null,null,null,null,null,"n.r.","Keramische Erzeugnisse: Prozess (Methode B): Oxid-Output",null,"NCV_Keramische Erzeugnisse: Prozess (Methode B): Oxid-Output",null,null,null,null,null,null,true,null,null,null,null,null,null,null,null,null,null,null,"","","","",""]
[46,"Herstellung von keramischen Erzeugnissen","Keramische Erzeugnisse","Abgaswäsche",null,"Standardmethodik: Prozess, Artikel 24 Absatz 2",{"$f":"\"\"","v":""},{"$f":"Translations!$B$493","v":"Standardwerte Typ I:"},null,null,null,null,null,null,null,1,"Keramische Erzeugnisse: Abgaswäsche",null,"NCV_Keramische Erzeugnisse: Abgaswäsche",null,null,null,null,null,null,false,null,null,null,null,null,null,null,null,null,null,null,1,"","","",""]
[47,"Herstellung von Zellstoff","Papier und Zellstoff","Ergänzungschemikalien",null,"Standardmethodik: Prozess, Artikel 24 Absatz 2",{"$f":"EUconst_NA","v":"n.r."},null,null,null,null,null,null,null,null,"n.r.","Papier und Zellstoff: Ergänzungschemikalien",null,"NCV_Papier und Zellstoff: Ergänzungschemikalien",null,null,null,null,null,null,true,null,null,null,null,null,null,null,null,null,null,null,"","","","",""]
[48,"Herstellung von Industrieruß","Industrieruß","Massenbilanzmethodik",null,"Massenbilanzmethodik, Artikel 25",{"$f":"\"\"","v":""},{"$f":"Translations!$B$493","v":"Standardwerte Typ I:"},null,{"$f":"Translations!$B$528","v":"Standardwerte Typ II"},{"$f":"Translations!$B$1109","v":"Gegebenfalls Rechnungsunterlagen"},{"$f":"Translations!$B$527","v":"Laboranalysen"},null,null,null,3,"Industrieruß: Massenbilanzmethodik",null,"NCV_Industrieruß: Massenbilanzmethodik",null,null,null,null,null,null,false,null,null,null,null,null,null,null,null,null,null,null,1,"",1,{"$f":"Translations!$B$1109","v":"Gegebenfalls Rechnungsunterlagen"},2]
[49,"Herstellung von Ammoniak","Ammoniak","Brennstoff als Prozess-Input",null,"Standardmethodik: Brennstoff, Artikel 24 Absatz 1","2a/2b",{"$f":"Translations!$B$493","v":"Standardwerte Typ I:"},null,{"$f":"Translations!$B$528","v":"Standardwerte Typ II"},{"$f":"Translations!$B$1109","v":"Gegebenfalls Rechnungsunterlagen"},{"$f":"Translations!$B$527","v":"Laboranalysen"},null,null,null,3,"Ammoniak: Brennstoff als Prozess-Input",null,"NCV_Ammoniak: Brennstoff als Prozess-Input",null,null,null,null,null,null,false,null,null,null,null,null,null,null,null,null,null,null,1,"",1,{"$f":"Translations!$B$1109","v":"Gegebenfalls Rechnungsunterlagen"},2]
[50,"Herstellung von Wasserstoff und Synthesegas","Wasserstoff und Synthesegas","Brennstoff als Prozess-Input",null,"Standardmethodik: Brennstoff, Artikel 24 Absatz 1","2a/2b",{"$f":"Translations!$B$493","v":"Standardwerte Typ I:"},null,{"$f":"Translations!$B$528","v":"Standardwerte Typ II"},{"$f":"Translations!$B$1109","v":"Gegebenfalls Rechnungsunterlagen"},{"$f":"Translations!$B$527","v":"Laboranalysen"},null,null,null,3,"Wasserstoff und Synthesegas: Brennstoff als Prozess-Input",null,"NCV_Wasserstoff und Synthesegas: Brennstoff als Prozess-Input",null,null,null,null,null,null,false,null,null,null,null,null,null,null,null,null,null,null,1,"",1,{"$f":"Translations!$B$1109","v":"Gegebenfalls Rechnungsunterlagen"},2]
[51,"Herstellung von Wasserstoff und Synthesegas","Wasserstoff und Synthesegas","Massenbilanzmethodik",null,"Massenbilanzmethodik, Artikel 25",{"$f":"\"\"","v":""},{"$f":"Translations!$B$493","v":"Standardwerte Typ I:"},null,{"$f":"Translations!$B$528","v":"Standardwerte Typ II"},{"$f":"Translations!$B$1109","v":"Gegebenfalls Rechnungsunterlagen"},{"$f":"Translations!$B$527","v":"Laboranalysen"},null,null,null,3,"Wasserstoff und Synthesegas: Massenbilanzmethodik",null,"NCV_Wasserstoff und Synthesegas: Massenbilanzmethodik",null,null,null,null,null,null,false,null,null,null,null,null,null,null,null,null,null,null,1,"",1,{"$f":"Translations!$B$1109","v":"Gegebenfalls Rechnungsunterlagen"},2]
[52,"Herstellung von organischen Grundchemikalien","Organische Grundchemikalien","Massenbilanzmethodik",null,"Massenbilanzmethodik, Artikel 25",{"$f":"\"\"","v":""},{"$f":"Translations!$B$493","v":"Standardwerte Typ I:"},null,{"$f":"Translations!$B$528","v":"Standardwerte Typ II"},{"$f":"Translations!$B$1109","v":"Gegebenfalls Rechnungsunterlagen"},{"$f":"Translations!$B$527","v":"Laboranalysen"},null,null,null,3,"Organische Grundchemikalien: Massenbilanzmethodik",null,"NCV_Organische Grundchemikalien: Massenbilanzmethodik",null,null,null,null,null,null,false,null,null,null,null,null,null,null,null,null,null,null,1,"",1,{"$f":"Translations!$B$1109","v":"Gegebenfalls Rechnungsunterlagen"},2]
[53,"Herstellung oder Verarbeitung von Eisenmetallen","(Nicht)-Eisen, Sek.-Aluminium","Prozess (Methode A): nur Karbonat",null,"Standardmethodik: Prozess, Artikel 24 Absatz 2",{"$f":"EUconst_NA","v":"n.r."},null,null,null,null,null,null,null,null,"n.r.","(Nicht)-Eisen, Sek.-Aluminium: Prozess (Methode A): nur Karbonat",null,"NCV_(Nicht)-Eisen, Sek.-Aluminium: Prozess (Methode A): nur Karbonat",null,null,null,null,null,null,true,null,null,null,null,null,null,null,null,null,null,null,"","","","",""]
[54,"Herstellung oder Verarbeitung von Eisenmetallen","(Nicht)-Eisen, Sek.-Aluminium","Prozess (Methode A): Gemisch (Karbonat + Nicht-Karbonat)",null,"Standardmethodik: Prozess, Artikel 24 Absatz 2","2a/2b",{"$f":"Translations!$B$493","v":"Standardwerte Typ I:"},null,{"$f":"Translations!$B$528","v":"Standardwerte Typ II"},{"$f":"Translations!$B$1109","v":"Gegebenfalls Rechnungsunterlagen"},{"$f":"Translations!$B$527","v":"Laboranalysen"},null,null,null,3,"(Nicht)-Eisen, Sek.-Aluminium: Prozess (Methode A): Gemisch (Karbonat + Nicht-Karbonat)",null,"NCV_(Nicht)-Eisen, Sek.-Aluminium: Prozess (Methode A): Gemisch (Karbonat + Nicht-Karbonat)",null,null,null,null,null,null,false,null,null,null,null,null,null,null,null,null,null,null,1,"",1,{"$f":"Translations!$B$1109","v":"Gegebenfalls Rechnungsunterlagen"},2]
[55,"Herstellung oder Verarbeitung von Eisenmetallen","(Nicht)-Eisen, Sek.-Aluminium","Prozess (Methode A): Nicht-Karbonat",null,"Standardmethodik: Prozess, Artikel 24 Absatz 2","2a/2b",{"$f":"Translations!$B$493","v":"Standardwerte Typ I:"},null,{"$f":"Translations!$B$528","v":"Standardwerte Typ II"},{"$f":"Translations!$B$1109","v":"Gegebenfalls Rechnungsunterlagen"},{"$f":"Translations!$B$527","v":"Laboranalysen"},null,null,null,3,"(Nicht)-Eisen, Sek.-Aluminium: Prozess (Methode A): Nicht-Karbonat",null,"NCV_(Nicht)-Eisen, Sek.-Aluminium: Prozess (Methode A): Nicht-Karbonat",null,null,null,null,null,null,false,null,null,null,null,null,null,null,null,null,null,null,1,"",1,{"$f":"Translations!$B$1109","v":"Gegebenfalls Rechnungsunterlagen"},2]
[56,"Herstellung oder Verarbeitung von Eisenmetallen","(Nicht)-Eisen, Sek.-Aluminium","Prozess (Methode B): Oxid-Output",null,"Standardmethodik: Prozess, Artikel 24 Absatz 2",{"$f":"EUconst_NA","v":"n.r."},null,null,null,null,null,null,null,null,"n.r.","(Nicht)-Eisen, Sek.-Aluminium: Prozess (Methode B): Oxid-Output",null,"NCV_(Nicht)-Eisen, Sek.-Aluminium: Prozess (Methode B): Oxid-Output",null,null,null,null,null,null,true,null,null,null,null,null,null,null,null,null,null,null,"","","","",""]
[57,"Herstellung oder Verarbeitung von Eisenmetallen","(Nicht)-Eisen, Sek.-Aluminium","Massenbilanzmethodik",null,"Massenbilanzmethodik, Artikel 25",{"$f":"\"\"","v":""},{"$f":"Translations!$B$493","v":"Standardwerte Typ I:"},null,{"$f":"Translations!$B$528","v":"Standardwerte Typ II"},{"$f":"Translations!$B$1109","v":"Gegebenfalls Rechnungsunterlagen"},{"$f":"Translations!$B$527","v":"Laboranalysen"},null,null,null,3,"(Nicht)-Eisen, Sek.-Aluminium: Massenbilanzmethodik",null,"NCV_(Nicht)-Eisen, Sek.-Aluminium: Massenbilanzmethodik",null,null,null,null,null,null,false,null,null,null,null,null,null,null,null,null,null,null,1,"",1,{"$f":"Translations!$B$1109","v":"Gegebenfalls Rechnungsunterlagen"},2]
[58,"Herstellung von Soda und Natriumbicarbonat","Soda / Natriumbicarbonat","Massenbilanzmethodik",null,"Massenbilanzmethodik, Artikel 25",{"$f":"\"\"","v":""},{"$f":"Translations!$B$493","v":"Standardwerte Typ I:"},null,{"$f":"Translations!$B$528","v":"Standardwerte Typ II"},{"$f":"Translations!$B$1109","v":"Gegebenfalls Rechnungsunterlagen"},{"$f":"Translations!$B$527","v":"Laboranalysen"},null,null,null,3,"Soda / Natriumbicarbonat: Massenbilanzmethodik",null,"NCV_Soda / Natriumbicarbonat: Massenbilanzmethodik",null,null,null,null,null,null,false,null,null,null,null,null,null,null,null,null,null,null,1,"",1,{"$f":"Translations!$B$1109","v":"Gegebenfalls Rechnungsunterlagen"},2]
[59,"Herstellung von Primäraluminium","Primäraluminium","Massenbilanzmethodik",null,"Massenbilanzmethodik, Artikel 25",{"$f":"\"\"","v":""},{"$f":"Translations!$B$493","v":"Standardwerte Typ I:"},null,{"$f":"Translations!$B$528","v":"Standardwerte Typ II"},{"$f":"Translations!$B$1109","v":"Gegebenfalls Rechnungsunterlagen"},{"$f":"Translations!$B$527","v":"Laboranalysen"},null,null,null,3,"Primäraluminium: Massenbilanzmethodik",null,"NCV_Primäraluminium: Massenbilanzmethodik",null,null,null,null,null,null,false,null,null,null,null,null,null,null,null,null,null,null,1,"",1,{"$f":"Translations!$B$1109","v":"Gegebenfalls Rechnungsunterlagen"},2]
[60,"Herstellung von Primäraluminium","Primäraluminium","PFC-Emissionen (Steigungsmethode)",null,"Berechnung mit Sonderbestimmungen für PFC (Anhang IV Abschnitt 8)",{"$f":"EUconst_NA","v":"n.r."},null,null,null,null,null,null,null,null,"n.r.","Primäraluminium: PFC-Emissionen (Steigungsmethode)",null,"NCV_Primäraluminium: PFC-Emissionen (Steigungsmethode)",null,null,null,null,null,null,true,null,null,null,null,null,null,null,null,null,null,null,"","","","",""]
[61,{"$f":"B397","v":"Herstellung von Primäraluminium"},"Primäraluminium","PFC-Emissionen (Überspannungsmethode)",null,"Berechnung mit Sonderbestimmungen für PFC (Anhang IV Abschnitt 8)","n.r.",null,null,null,null,null,null,null,null,"n.r.","Primäraluminium: PFC-Emissionen (Überspannungsmethode)",null,"NCV_Primäraluminium: PFC-Emissionen (Überspannungsmethode)",null,null,null,null,null,null,{"$f":"IF(G469=EUconst_NA,TRUE,FALSE)","v":true},null,null,null,null,null,null,null,null,null,null,null,"","","","",""]
[62,"Abscheidung von Treibhausgasen gemäß der Richtlinie 2009/31/EG","CCS: Abscheidung","Weitergeleitetes CO2",null,{"$f":"F398","v":"Massenbilanzmethodik, Artikel 25"},"n.r.",null,null,null,null,null,null,null,null,{"$f":"IF(G470=EUconst_NA,EUconst_NA,IF(ISBLANK(J470),COUNTA(H470:O470),COUNTA(H470,J470,L470)))","v":"n.r."},{"$f":"C470 & \": \" &D470","v":"CCS: Abscheidung: Weitergeleitetes CO2"},null,{"$f":"EUconst_CNTR_NCV&Q470","v":"NCV_CCS: Abscheidung: Weitergeleitetes CO2"},null,null,null,null,null,null,true]
[63,"Transport von Treibhausgasen gemäß der Richtlinie 2009/31/EG","CCS: Transport","Weitergeleitetes CO2",null,"Massenbilanzmethodik, Artikel 25","n.r.",null,null,null,null,null,null,null,null,"n.r.","CCS: Transport: Weitergeleitetes CO2",null,"NCV_CCS: Transport: Weitergeleitetes CO2",null,null,null,null,null,null,true]
[64,"Transport von Treibhausgasen gemäß der Richtlinie 2009/31/EG","CCS: Transport","CO2-Leckagen",null,"Standardmethodik: Prozess, Artikel 24 Absatz 2","n.r.",null,null,null,null,null,null,null,null,"n.r.","CCS: Transport: CO2-Leckagen",null,"NCV_CCS: Transport: CO2-Leckagen",null,null,null,null,null,null,true]
[65,"Transport von Treibhausgasen gemäß der Richtlinie 2009/31/EG","CCS: Transport","CO2-Ablass",null,"Standardmethodik: Prozess, Artikel 24 Absatz 2","n.r.",null,null,null,null,null,null,null,null,"n.r.","CCS: Transport: CO2-Ablass",null,"NCV_CCS: Transport: CO2-Ablass",null,null,null,null,null,null,true]
[66,"Transport von Treibhausgasen gemäß der Richtlinie 2009/31/EG","CCS: Transport","Diffuse CO2 Emissionen",null,"Standardmethodik: Prozess, Artikel 24 Absatz 2","n.r.",null,null,null,null,null,null,null,null,"n.r.","CCS: Transport: Diffuse CO2 Emissionen",null,"NCV_CCS: Transport: Diffuse CO2 Emissionen",null,null,null,null,null,null,true]
[67,"Lagerung von Treibhausgasen gemäß der Richtlinie 2009/31/EG","CCS: Speicherung","Weitergeleitetes CO2",null,"Massenbilanzmethodik, Artikel 25","n.r.",null,null,null,null,null,null,null,null,"n.r.","CCS: Speicherung: Weitergeleitetes CO2",null,"NCV_CCS: Speicherung: Weitergeleitetes CO2",null,null,null,null,null,null,true]
[68,"Lagerung von Treibhausgasen gemäß der Richtlinie 2009/31/EG","CCS: Speicherung","CO2-Ablass",null,"Standardmethodik: Prozess, Artikel 24 Absatz 2","n.r.",null,null,null,null,null,null,null,null,"n.r.","CCS: Speicherung: CO2-Ablass",null,"NCV_CCS: Speicherung: CO2-Ablass",null,null,null,null,null,null,true]
[69,"Lagerung von Treibhausgasen gemäß der Richtlinie 2009/31/EG","CCS: Speicherung","CO2-Leckagen",null,"Standardmethodik: Prozess, Artikel 24 Absatz 2","n.r.",null,null,null,null,null,null,null,null,"n.r.","CCS: Speicherung: CO2-Leckagen",null,"NCV_CCS: Speicherung: CO2-Leckagen",null,null,null,null,null,null,true]
[70,"Lagerung von Treibhausgasen gemäß der Richtlinie 2009/31/EG","CCS: Speicherung","Diffuse CO2 Emissionen",null,"Standardmethodik: Prozess, Artikel 24 Absatz 2","n.r.",null,null,null,null,null,null,null,null,"n.r.","CCS: Speicherung: Diffuse CO2 Emissionen",null,"NCV_CCS: Speicherung: Diffuse CO2 Emissionen",null,null,null,null,null,null,true]
[null,null,null,null,null,null,null,null,null,null,null,null,null,null,null,null,null,null,null,null,null,null,null,null,null,false]
["NEW",{"$f":"Translations!$B$524","v":"Kohlenstoffgehalt"},{"$f":"Translations!$B$957","v":"Kurzbezeichnung"},{"$f":"Translations!$B$958","v":"Teilmaßnahme"},{"$f":"Translations!$B$389","v":"Parameter"},{"$f":"Translations!$B$959","v":"Quellentyp"},{"$f":"Translations!$B$960","v":"Minimum"},1,2,"2a",{"$f":"Translations!$B$928","v":"2b"},3,"3a","3b",4,{"$f":"Translations!$B$961","v":"Maximum"},null,null,null,null,null,null,null,null,null,{"$f":"Translations!$B$962","v":"Schattieren?"},null,null,null,null,null,null,null,null,null,null,"1=default value, 2=lab",1,2,"2a",{"$f":"Translations!$B$928","v":"2b"},3]
[1,{"$f":"B409","v":"Verbrennung von Brennstoffen"},"Verbrennung","Kommerzielle Standardbrennstoffe",null,{"$f":"F409","v":"Standardmethodik: Brennstoff, Artikel 24 Absatz 1"},{"$f":"EUconst_NA","v":"n.r."},null,null,null,null,null,null,null,null,{"$f":"G481","v":"n.r."},{"$f":"C481 & \": \" &D481","v":"Verbrennung: Kommerzielle Standardbrennstoffe"},null,{"$f":"EUconst_CNTR_CarbonContent&Q481","v":"CarbC_Verbrennung: Kommerzielle Standardbrennstoffe"},null,null,null,null,null,null,{"$f":"IF(G481=EUconst_NA,TRUE,FALSE)","v":true},null,null,null,null,null,null,null,null,null,null,null,"","","","",""]
[2,"Verbrennung von Brennstoffen","Verbrennung","Andere gasförmige und flüssige Brennstoffe",null,"Standardmethodik: Brennstoff, Artikel 24 Absatz 1",{"$f":"EUconst_NA","v":"n.r."},null,null,null,null,null,null,null,null,{"$f":"IF(G482=EUconst_NA,EUconst_NA,IF(ISBLANK(J482),COUNTA(H482:O482),COUNTA(H482,J482,L482)))","v":"n.r."},{"$f":"C482 & \": \" &D482","v":"Verbrennung: Andere gasförmige und flüssige Brennstoffe"},null,"CarbC_Verbrennung: Andere gasförmige und flüssige Brennstoffe",null,null,null,null,null,null,true,null,null,null,null,null,null,null,null,null,null,null,"","","","",""]
[3,"Verbrennung von Brennstoffen","Verbrennung","Feste Brennstoffe, ausgenommen Abfälle",null,"Standardmethodik: Brennstoff, Artikel 24 Absatz 1",{"$f":"EUconst_NA","v":"n.r."},null,null,null,null,null,null,null,null,"n.r.","Verbrennung: Feste Brennstoffe, ausgenommen Abfälle",null,"CarbC_Verbrennung: Feste Brennstoffe, ausgenommen Abfälle",null,null,null,null,null,null,true,null,null,null,null,null,null,null,null,null,null,null,"","","","",""]
[4,"Verbrennung von Brennstoffen","Verbrennung","Abfall",null,"Standardmethodik: Brennstoff, Artikel 24 Absatz 1",{"$f":"EUconst_NA","v":"n.r."},null,null,null,null,null,null,null,null,{"$f":"IF(G484=EUconst_NA,EUconst_NA,IF(ISBLANK(J484),COUNTA(H484:O484),COUNTA(H484,J484,L484)))","v":"n.r."},{"$f":"C484 & \": \" &D484","v":"Verbrennung: Abfall"},null,{"$f":"EUconst_CNTR_CarbonContent&Q484","v":"CarbC_Verbrennung: Abfall"},null,null,null,null,null,null,{"$f":"IF(G484=EUconst_NA,TRUE,FALSE)","v":true},null,null,null,null,null,null,null,null,null,null,null,"","","","",""]
[5,"Verbrennung von Brennstoffen","Verbrennung","Gasaufbereitungsstationen",null,"Massenbilanzmethodik, Artikel 25",1,{"$f":"Translations!$B$493","v":"Standardwerte Typ I:"},null,{"$f":"Translations!$B$528","v":"Standardwerte Typ II"},{"$f":"Translations!$B$1061","v":"Ermittelte Proxywerte (soweit zutreffend)"},{"$f":"Translations!$B$527","v":"Laboranalysen"},null,null,null,3,"Verbrennung: Gasaufbereitungsstationen",null,"CarbC_Verbrennung: Gasaufbereitungsstationen",null,null,null,null,null,null,false,null,null,null,null,null,null,null,null,null,null,null,1,"",1,2,2]
[6,"Verbrennung von Brennstoffen","Verbrennung","Fackeln",null,"Standardmethodik: Brennstoff, Artikel 24 Absatz 1",{"$f":"EUconst_NA","v":"n.r."},null,null,null,null,null,null,null,null,"n.r.","Verbrennung: Fackeln",null,"CarbC_Verbrennung: Fackeln",null,null,null,null,null,null,true,null,null,null,null,null,null,null,null,null,null,null,"","","","",""]
[7,"Verbrennung von Brennstoffen","Verbrennung","Abgaswäsche (Karbonat)",null,"Standardmethodik: Prozess, Artikel 24 Absatz 2",{"$f":"EUconst_NA","v":"n.r."},null,null,null,null,null,null,null,null,"n.r.","Verbrennung: Abgaswäsche (Karbonat)",null,"CarbC_Verbrennung: Abgaswäsche (Karbonat)",null,null,null,null,null,null,true,null,null,null,null,null,null,null,null,null,null,null,"","","","",""]
[8,"Verbrennung von Brennstoffen","Verbrennung","Abgaswäsche (Gips)",null,"Standardmethodik: Prozess, Artikel 24 Absatz 2",{"$f":"EUconst_NA","v":"n.r."},null,null,null,null,null,null,null,null,"n.r.","Verbrennung: Abgaswäsche (Gips)",null,"CarbC_Verbrennung: Abgaswäsche (Gips)",null,null,null,null,null,null,true,null,null,null,null,null,null,null,null,null,null,null,"","","","",""]
[9,"Verbrennung von Brennstoffen","Verbrennung","Abgaswäsche (Harnstoff)",null,"Standardmethodik: Prozess, Artikel 24 Absatz 2",{"$f":"EUconst_NA","v":"n.r."},null,null,null,null,null,null,null,null,"n.r.","Verbrennung: Abgaswäsche (Harnstoff)",null,"CarbC_Verbrennung: Abgaswäsche (Harnstoff)",null,null,null,null,null,null,true,null,null,null,null,null,null,null,null,null,null,null,"","","","",""]
[10,"Raffination von Mineralöl ","Raffinerien","Massenbilanz",null,"Massenbilanzmethodik, Artikel 25","2a/2b",{"$f":"Translations!$B$493","v":"Standardwerte Typ I:"},null,{"$f":"Translations!$B$528","v":"Standardwerte Typ II"},{"$f":"Translations!$B$1061","v":"Ermittelte Proxywerte (soweit zutreffend)"},{"$f":"Translations!$B$527","v":"Laboranalysen"},null,null,null,3,"Raffinerien: Massenbilanz",null,"CarbC_Raffinerien: Massenbilanz",null,null,null,null,null,null,false,null,null,null,null,null,null,null,null,null,null,null,1,"",1,2,2]
[11,"Raffination von Mineralöl ","Raffinerien","Regeneration von katalytischen Crackern",null,"Massenbilanzmethodik, Artikel 25",{"$f":"EUconst_NA","v":"n.r."},null,null,null,null,null,null,null,null,"n.r.","Raffinerien: Regeneration von katalytischen Crackern",null,"CarbC_Raffinerien: Regeneration von katalytischen Crackern",null,null,null,null,null,null,true,null,null,null,null,null,null,null,null,null,null,null,"","","","",""]
[12,"Raffination von Mineralöl ","Raffinerien","Wasserstofferzeugung",null,"Massenbilanzmethodik, Artikel 25","2a/2b",{"$f":"Translations!$B$493","v":"Standardwerte Typ I:"},null,{"$f":"Translations!$B$528","v":"Standardwerte Typ II"},{"$f":"Translations!$B$1061","v":"Ermittelte Proxywerte (soweit zutreffend)"},{"$f":"Translations!$B$527","v":"Laboranalysen"},null,null,null,3,"Raffinerien: Wasserstofferzeugung",null,"CarbC_Raffinerien: Wasserstofferzeugung",null,null,null,null,null,null,false,null,null,null,null,null,null,null,null,null,null,null,1,"",1,2,2]
[13,"Herstellung von Koks","Koks","Brennstoff als Prozess-Input",null,"Standardmethodik: Brennstoff, Artikel 24 Absatz 1","n.r.",null,null,null,null,null,null,null,null,{"$f":"IF(G493=EUconst_NA,EUconst_NA,IF(ISBLANK(J493),COUNTA(H493:O493),COUNTA(H493,J493,L493)))","v":"n.r."},"Koks: Brennstoff als Prozess-Input",null,"CarbC_Koks: Brennstoff als Prozess-Input",null,null,null,null,null,null,true,null,null,null,null,null,null,null,null,null,null,null,"","","","",""]
[14,"Herstellung von Koks","Koks","Prozess (Methode A): nur Karbonat",null,"Standardmethodik: Prozess, Artikel 24 Absatz 2","n.r.",null,null,null,null,null,null,null,null,{"$f":"IF(G494=EUconst_NA,EUconst_NA,IF(ISBLANK(J494),COUNTA(H494:O494),COUNTA(H494,J494,L494)))","v":"n.r."},"Koks: Prozess (Methode A): nur Karbonat",null,"CarbC_Koks: Prozess (Methode A): nur Karbonat",null,null,null,null,null,null,true,null,null,null,null,null,null,null,null,null,null,null,"","","","",""]
[15,"Herstellung von Koks","Koks","Prozess (Methode A): Gemisch (Karbonat + Nicht-Karbonat)",null,"Standardmethodik: Prozess, Artikel 24 Absatz 2","n.r.",null,null,null,null,null,null,null,null,{"$f":"IF(G495=EUconst_NA,EUconst_NA,IF(ISBLANK(J495),COUNTA(H495:O495),COUNTA(H495,J495,L495)))","v":"n.r."},"Koks: Prozess (Methode A): Gemisch (Karbonat + Nicht-Karbonat)",null,"CarbC_Koks: Prozess (Methode A): Gemisch (Karbonat + Nicht-Karbonat)",null,null,null,null,null,null,true,null,null,null,null,null,null,null,null,null,null,null,"","","","",""]
[16,"Herstellung von Koks","Koks","Prozess (Methode A): Nicht-Karbonat",null,"Standardmethodik: Prozess, Artikel 24 Absatz 2","n.r.",null,null,null,null,null,null,null,null,{"$f":"IF(G496=EUconst_NA,EUconst_NA,IF(ISBLANK(J496),COUNTA(H496:O496),COUNTA(H496,J496,L496)))","v":"n.r."},"Koks: Prozess (Methode A): Nicht-Karbonat",null,"CarbC_Koks: Prozess (Methode A): Nicht-Karbonat",null,null,null,null,null,null,true,null,null,null,null,null,null,null,null,null,null,null,"","","","",""]
[17,"Herstellung von Koks","Koks","Prozess (Methode B): Oxid-Output",null,"Standardmethodik: Prozess, Artikel 24 Absatz 2","n.r.",null,null,null,null,null,null,null,null,{"$f":"IF(G497=EUconst_NA,EUconst_NA,IF(ISBLANK(J497),COUNTA(H497:O497),COUNTA(H497,J497,L497)))","v":"n.r."},"Koks: Prozess (Methode B): Oxid-Output",null,"CarbC_Koks: Prozess (Methode B): Oxid-Output",null,null,null,null,null,null,true,null,null,null,null,null,null,null,null,null,null,null,"","","","",""]
[18,"Herstellung von Koks","Koks","Massenbilanz",null,"Massenbilanzmethodik, Artikel 25","2a/2b",{"$f":"Translations!$B$493","v":"Standardwerte Typ I:"},null,{"$f":"Translations!$B$528","v":"Standardwerte Typ II"},{"$f":"Translations!$B$1061","v":"Ermittelte Proxywerte (soweit zutreffend)"},{"$f":"Translations!$B$527","v":"Laboranalysen"},null,null,null,{"$f":"IF(G498=EUconst_NA,EUconst_NA,IF(ISBLANK(J498),COUNTA(H498:O498),COUNTA(H498,J498,L498)))","v":3},"Koks: Massenbilanz",null,"CarbC_Koks: Massenbilanz",null,null,null,null,null,null,false,null,null,null,null,null,null,null,null,null,null,null,1,"",1,2,2]
[19,"Röstung oder Sinterung von Metallerz","Metallerz","Prozess (Methode A): nur Karbonat",null,"Standardmethodik: Prozess, Artikel 24 Absatz 2",{"$f":"EUconst_NA","v":"n.r."},null,null,null,null,null,null,null,null,"n.r.","Metallerz: Prozess (Methode A): nur Karbonat",null,"CarbC_Metallerz: Prozess (Methode A): nur Karbonat",null,null,null,null,null,null,true,null,null,null,null,null,null,null,null,null,null,null,"","","","",""]
[20,"Röstung oder Sinterung von Metallerz","Metallerz","Prozess (Methode A): Gemisch (Karbonat + Nicht-Karbonat)",null,"Standardmethodik: Prozess, Artikel 24 Absatz 2",{"$f":"EUconst_NA","v":"n.r."},null,null,null,null,null,null,null,null,"n.r.","Metallerz: Prozess (Methode A): Gemisch (Karbonat + Nicht-Karbonat)",null,"CarbC_Metallerz: Prozess (Methode A): Gemisch (Karbonat + Nicht-Karbonat)",null,null,null,null,null,null,true,null,null,null,null,null,null,null,null,null,null,null,1,"",1,2,2]
[21,{"$f":"B429","v":"Röstung oder Sinterung von Metallerz"},"Metallerz","Prozess (Methode A): Nicht-Karbonat",null,"Standardmethodik: Prozess, Artikel 24 Absatz 2",{"$f":"EUconst_NA","v":"n.r."},null,null,null,null,null,null,null,null,"n.r.","Metallerz: Prozess (Methode A): Nicht-Karbonat",null,"CarbC_Metallerz: Prozess (Methode A): Nicht-Karbonat",null,null,null,null,null,null,true,null,null,null,null,null,null,null,null,null,null,null,"","","","",""]
[22,"Röstung oder Sinterung von Metallerz","Metallerz","Prozess (Methode B): Oxid-Output",null,"Standardmethodik: Prozess, Artikel 24 Absatz 2",{"$f":"EUconst_NA","v":"n.r."},null,null,null,null,null,null,null,null,"n.r.","Metallerz: Prozess (Methode B): Oxid-Output",null,"CarbC_Metallerz: Prozess (Methode B): Oxid-Output",null,null,null,null,null,null,true,null,null,null,null,null,null,null,null,null,null,null,"","","","",""]
[23,"Röstung oder Sinterung von Metallerz","Metallerz","Massenbilanz",null,"Massenbilanzmethodik, Artikel 25","2a/2b",{"$f":"Translations!$B$493","v":"Standardwerte Typ I:"},null,{"$f":"Translations!$B$528","v":"Standardwerte Typ II"},{"$f":"Translations!$B$1061","v":"Ermittelte Proxywerte (soweit zutreffend)"},{"$f":"Translations!$B$527","v":"Laboranalysen"},null,null,null,3,"Metallerz: Massenbilanz",null,"CarbC_Metallerz: Massenbilanz",null,null,null,null,null,null,false,null,null,null,null,null,null,null,null,null,null,null,1,"",1,2,2]
[24,"Herstellung von Eisen oder Stahl","Eisen und Stahl","Brennstoff als Prozess-Input",null,"Standardmethodik: Brennstoff, Artikel 24 Absatz 1",{"$f":"EUconst_NA","v":"n.r."},null,null,null,null,null,null,null,null,"n.r.","Eisen und Stahl: Brennstoff als Prozess-Input",null,"CarbC_Eisen und Stahl: Brennstoff als Prozess-Input",null,null,null,null,null,null,true,null,null,null,null,null,null,null,null,null,null,null,"","","","",""]
[25,"Herstellung von Eisen oder Stahl","Eisen und Stahl","Prozess (Methode A): nur Karbonat",null,"Standardmethodik: Prozess, Artikel 24 Absatz 2",{"$f":"EUconst_NA","v":"n.r."},null,null,null,null,null,null,null,null,"n.r.","Eisen und Stahl: Prozess (Methode A): nur Karbonat",null,"CarbC_Eisen und Stahl: Prozess (Methode A): nur Karbonat",null,null,null,null,null,null,true,null,null,null,null,null,null,null,null,null,null,null,"","","","",""]
[26,"Herstellung von Eisen oder Stahl","Eisen und Stahl","Prozess (Methode A): Gemisch (Karbonat + Nicht-Karbonat)",null,"Standardmethodik: Prozess, Artikel 24 Absatz 2",{"$f":"EUconst_NA","v":"n.r."},null,null,null,null,null,null,null,null,"n.r.","Eisen und Stahl: Prozess (Methode A): Gemisch (Karbonat + Nicht-Karbonat)",null,"CarbC_Eisen und Stahl: Prozess (Methode A): Gemisch (Karbonat + Nicht-Karbonat)",null,null,null,null,null,null,true,null,null,null,null,null,null,null,null,null,null,null,"","","","",""]
[27,"Herstellung von Eisen oder Stahl","Eisen und Stahl","Prozess (Methode A): Nicht-Karbonat",null,"Standardmethodik: Prozess, Artikel 24 Absatz 2",{"$f":"EUconst_NA","v":"n.r."},null,null,null,null,null,null,null,null,"n.r.","Eisen und Stahl: Prozess (Methode A): Nicht-Karbonat",null,"CarbC_Eisen und Stahl: Prozess (Methode A): Nicht-Karbonat",null,null,null,null,null,null,true,null,null,null,null,null,null,null,null,null,null,null,"","","","",""]
[28,"Herstellung von Eisen oder Stahl","Eisen und Stahl","Prozess (Methode B): Oxid-Output",null,"Standardmethodik: Prozess, Artikel 24 Absatz 2",{"$f":"EUconst_NA","v":"n.r."},null,null,null,null,null,null,null,null,"n.r.","Eisen und Stahl: Prozess (Methode B): Oxid-Output",null,"CarbC_Eisen und Stahl: Prozess (Methode B): Oxid-Output",null,null,null,null,null,null,true,null,null,null,null,null,null,null,null,null,null,null,"","","","",""]
[29,"Herstellung von Eisen oder Stahl","Eisen und Stahl","Massenbilanz",null,"Massenbilanzmethodik, Artikel 25","2a/2b",{"$f":"Translations!$B$493","v":"Standardwerte Typ I:"},null,{"$f":"Translations!$B$528","v":"Standardwerte Typ II"},{"$f":"Translations!$B$1061","v":"Ermittelte Proxywerte (soweit zutreffend)"},{"$f":"Translations!$B$527","v":"Laboranalysen"},null,null,null,3,"Eisen und Stahl: Massenbilanz",null,"CarbC_Eisen und Stahl: Massenbilanz",null,null,null,null,null,null,false,null,null,null,null,null,null,null,null,null,null,null,1,"",1,2,2]
[30,"Herstellung von Zementklinker","Zementklinker","Ofen-Input-Betrachtung (Methode A)",null,"Standardmethodik: Prozess, Artikel 24 Absatz 2",{"$f":"EUconst_NA","v":"n.r."},null,null,null,null,null,null,null,null,{"$f":"IF(G510=EUconst_NA,EUconst_NA,IF(ISBLANK(J510),COUNTA(H510:O510),COUNTA(H510,J510,L510)))","v":"n.r."},"Zementklinker: Ofen-Input-Betrachtung (Methode A)",null,"CarbC_Zementklinker: Ofen-Input-Betrachtung (Methode A)",null,null,null,null,null,null,true,null,null,null,null,null,null,null,null,null,null,null,"","","","",""]
[31,"Herstellung von Zementklinker","Zementklinker","Klinker-Output (Methode B)",null,"Standardmethodik: Prozess, Artikel 24 Absatz 2","n.r.",null,null,null,null,null,null,null,null,"n.r.","Zementklinker: Klinker-Output (Methode B)",null,"CarbC_Zementklinker: Klinker-Output (Methode B)",null,null,null,null,null,null,true,null,null,null,null,null,null,null,null,null,null,null,"","","","",""]
[32,"Herstellung von Zementklinker","Zementklinker","Zementofenstaub (CKD)",null,"Standardmethodik: Prozess, Artikel 24 Absatz 2","n.r.",null,null,null,null,null,null,null,null,"n.r.","Zementklinker: Zementofenstaub (CKD)",null,"CarbC_Zementklinker: Zementofenstaub (CKD)",null,null,null,null,null,null,true,null,null,null,null,null,null,null,null,null,null,null,"","","","",""]
[33,"Herstellung von Zementklinker","Zementklinker","Nicht-karbonatischer Kohlenstoff",null,{"$f":"F441","v":"Standardmethodik: Prozess, Artikel 24 Absatz 2"},"n.r.",null,null,null,null,null,null,null,null,"n.r.","Zementklinker: Nicht-karbonatischer Kohlenstoff",null,"CarbC_Zementklinker: Nicht-karbonatischer Kohlenstoff",null,null,null,null,null,null,true,null,null,null,null,null,null,null,null,null,null,null,"","","","",""]
[34,"Herstellung von Kalk oder Brennen von Dolomit/Magnesit","Kalk / Dolomit / Magnesit","Prozess (Methode A): nur Karbonat",null,"Standardmethodik: Prozess, Artikel 24 Absatz 2","n.r.",null,null,null,null,null,null,null,null,"n.r.","Kalk / Dolomit / Magnesit: Prozess (Methode A): nur Karbonat",null,{"$f":"EUconst_CNTR_CarbonContent&Q514","v":"CarbC_Kalk / Dolomit / Magnesit: Prozess (Methode A): nur Karbonat"},null,null,null,null,null,null,true,null,null,null,null,null,null,null,null,null,null,null,"","","","",""]
[35,"Herstellung von Kalk oder Brennen von Dolomit/Magnesit","Kalk / Dolomit / Magnesit","Prozess (Methode A): Gemisch (Karbonat + Nicht-Karbonat)",null,"Standardmethodik: Prozess, Artikel 24 Absatz 2","n.r.",null,null,null,null,null,null,null,null,"n.r.","Kalk / Dolomit / Magnesit: Prozess (Methode A): Gemisch (Karbonat + Nicht-Karbonat)",null,"CarbC_Kalk / Dolomit / Magnesit: Prozess (Methode A): Gemisch (Karbonat + Nicht-Karbonat)",null,null,null,null,null,null,true,null,null,null,null,null,null,null,null,null,null,null,"","","","",""]
[36,"Herstellung von Kalk oder Brennen von Dolomit/Magnesit","Kalk / Dolomit / Magnesit","Prozess (Methode A): Nicht-Karbonat",null,"Standardmethodik: Prozess, Artikel 24 Absatz 2","n.r.",null,null,null,null,null,null,null,null,"n.r.","Kalk / Dolomit / Magnesit: Prozess (Methode A): Nicht-Karbonat",null,"CarbC_Kalk / Dolomit / Magnesit: Prozess (Methode A): Nicht-Karbonat",null,null,null,null,null,null,true,null,null,null,null,null,null,null,null,null,null,null,"","","","",""]
[37,"Herstellung von Kalk oder Brennen von Dolomit/Magnesit","Kalk / Dolomit / Magnesit","Prozess (Methode B): Oxid-Output",null,"Standardmethodik: Prozess, Artikel 24 Absatz 2","n.r.",null,null,null,null,null,null,null,null,"n.r.","Kalk / Dolomit / Magnesit: Prozess (Methode B): Oxid-Output",null,"CarbC_Kalk / Dolomit / Magnesit: Prozess (Methode B): Oxid-Output",null,null,null,null,null,null,true,null,null,null,null,null,null,null,null,null,null,null,"","","","",""]
[38,"Herstellung von Kalk oder Brennen von Dolomit/Magnesit","Kalk / Dolomit / Magnesit","Ofenstaub (Methode B)",null,"Standardmethodik: Prozess, Artikel 24 Absatz 2","n.r.",null,null,null,null,null,null,null,null,"n.r.","Kalk / Dolomit / Magnesit: Ofenstaub (Methode B)",null,"CarbC_Kalk / Dolomit / Magnesit: Ofenstaub (Methode B)",null,null,null,null,null,null,true,null,null,null,null,null,null,null,null,null,null,null,"","","","",""]
[39,"Herstellung von Glas","Glas und Mineralwolle","Prozess (Methode A): nur Karbonat",null,"Standardmethodik: Prozess, Artikel 24 Absatz 2","n.r.",null,null,null,null,null,null,null,null,"n.r.","Glas und Mineralwolle: Prozess (Methode A): nur Karbonat",null,"CarbC_Glas und Mineralwolle: Prozess (Methode A): nur Karbonat",null,null,null,null,null,null,true,null,null,null,null,null,null,null,null,null,null,null,"","","","",""]
[40,"Herstellung von Glas","Glas und Mineralwolle","Prozess (Methode A): Gemisch (Karbonat + Nicht-Karbonat)",null,"Standardmethodik: Prozess, Artikel 24 Absatz 2","n.r.",null,null,null,null,null,null,null,null,"n.r.","Glas und Mineralwolle: Prozess (Methode A): Gemisch (Karbonat + Nicht-Karbonat)",null,"CarbC_Glas und Mineralwolle: Prozess (Methode A): Gemisch (Karbonat + Nicht-Karbonat)",null,null,null,null,null,null,true,null,null,null,null,null,null,null,null,null,null,null,"","","","",""]
[41,{"$f":"B449","v":"Herstellung von Glas"},"Glas und Mineralwolle","Prozess (Methode A): Nicht-Karbonat",null,"Standardmethodik: Prozess, Artikel 24 Absatz 2","n.r.",null,null,null,null,null,null,null,null,"n.r.","Glas und Mineralwolle: Prozess (Methode A): Nicht-Karbonat",null,"CarbC_Glas und Mineralwolle: Prozess (Methode A): Nicht-Karbonat",null,null,null,null,null,null,true,null,null,null,null,null,null,null,null,null,null,null,"","","","",""]
[42,"Herstellung von keramischen Erzeugnissen","Keramische Erzeugnisse","Prozess (Methode A): nur Karbonat",null,"Standardmethodik: Prozess, Artikel 24 Absatz 2","n.r.",null,null,null,null,null,null,null,null,"n.r.","Keramische Erzeugnisse: Prozess (Methode A): nur Karbonat",null,"CarbC_Keramische Erzeugnisse: Prozess (Methode A): nur Karbonat",null,null,null,null,null,null,true,null,null,null,null,null,null,null,null,null,null,null,"","","","",""]
[43,"Herstellung von keramischen Erzeugnissen","Keramische Erzeugnisse","Prozess (Methode A): Gemisch (Karbonat + Nicht-Karbonat)",null,"Standardmethodik: Prozess, Artikel 24 Absatz 2","n.r.",null,null,null,null,null,null,null,null,"n.r.","Keramische Erzeugnisse: Prozess (Methode A): Gemisch (Karbonat + Nicht-Karbonat)",null,"CarbC_Keramische Erzeugnisse: Prozess (Methode A): Gemisch (Karbonat + Nicht-Karbonat)",null,null,null,null,null,null,true,null,null,null,null,null,null,null,null,null,null,null,"","","","",""]
[44,"Herstellung von keramischen Erzeugnissen","Keramische Erzeugnisse","Prozess (Methode A): Nicht-Karbonat",null,"Standardmethodik: Prozess, Artikel 24 Absatz 2","n.r.",null,null,null,null,null,null,null,null,"n.r.","Keramische Erzeugnisse: Prozess (Methode A): Nicht-Karbonat",null,"CarbC_Keramische Erzeugnisse: Prozess (Methode A): Nicht-Karbonat",null,null,null,null,null,null,true,null,null,null,null,null,null,null,null,null,null,null,"","","","",""]
[45,"Herstellung von keramischen Erzeugnissen","Keramische Erzeugnisse","Prozess (Methode B): Oxid-Output",null,"Standardmethodik: Prozess, Artikel 24 Absatz 2","n.r.",null,null,null,null,null,null,null,null,"n.r.","Keramische Erzeugnisse: Prozess (Methode B): Oxid-Output",null,"CarbC_Keramische Erzeugnisse: Prozess (Methode B): Oxid-Output",null,null,null,null,null,null,true,null,null,null,null,null,null,null,null,null,null,null,"","","","",""]
[46,"Herstellung von keramischen Erzeugnissen","Keramische Erzeugnisse","Abgaswäsche",null,"Standardmethodik: Prozess, Artikel 24 Absatz 2","n.r.",null,null,null,null,null,null,null,null,"n.r.","Keramische Erzeugnisse: Abgaswäsche",null,"CarbC_Keramische Erzeugnisse: Abgaswäsche",null,null,null,null,null,null,true,null,null,null,null,null,null,null,null,null,null,null,"","","","",""]
[47,"Herstellung von Zellstoff","Papier und Zellstoff","Ergänzungschemikalien",null,"Standardmethodik: Prozess, Artikel 24 Absatz 2","n.r.",null,null,null,null,null,null,null,null,"n.r.","Papier und Zellstoff: Ergänzungschemikalien",null,"CarbC_Papier und Zellstoff: Ergänzungschemikalien",null,null,null,null,null,null,true,null,null,null,null,null,null,null,null,null,null,null,"","","","",""]
[48,"Herstellung von Industrieruß","Industrieruß","Massenbilanzmethodik",null,"Massenbilanzmethodik, Artikel 25",1,{"$f":"Translations!$B$493","v":"Standardwerte Typ I:"},null,{"$f":"Translations!$B$528","v":"Standardwerte Typ II"},{"$f":"Translations!$B$1061","v":"Ermittelte Proxywerte (soweit zutreffend)"},{"$f":"Translations!$B$527","v":"Laboranalysen"},null,null,null,{"$f":"IF(G528=EUconst_NA,EUconst_NA,IF(ISBLANK(J528),COUNTA(H528:O528),COUNTA(H528,J528,L528)))","v":3},"Industrieruß: Massenbilanzmethodik",null,"CarbC_Industrieruß: Massenbilanzmethodik",null,null,null,null,null,null,false,null,null,null,null,null,null,null,null,null,null,null,1,"",1,2,2]
[49,"Herstellung von Ammoniak","Ammoniak","Brennstoff als Prozess-Input",null,"Standardmethodik: Brennstoff, Artikel 24 Absatz 1",{"$f":"EUconst_NA","v":"n.r."},null,null,null,null,null,null,null,null,"n.r.","Ammoniak: Brennstoff als Prozess-Input",null,"CarbC_Ammoniak: Brennstoff als Prozess-Input",null,null,null,null,null,null,true,null,null,null,null,null,null,null,null,null,null,null,"","","","",""]
[50,"Herstellung von Wasserstoff und Synthesegas","Wasserstoff und Synthesegas","Brennstoff als Prozess-Input",null,"Standardmethodik: Brennstoff, Artikel 24 Absatz 1",{"$f":"EUconst_NA","v":"n.r."},null,null,null,null,null,null,null,null,"n.r.","Wasserstoff und Synthesegas: Brennstoff als Prozess-Input",null,"CarbC_Wasserstoff und Synthesegas: Brennstoff als Prozess-Input",null,null,null,null,null,null,true,null,null,null,null,null,null,null,null,null,null,null,"","","","",""]
[51,"Herstellung von Wasserstoff und Synthesegas","Wasserstoff und Synthesegas","Massenbilanzmethodik",null,"Massenbilanzmethodik, Artikel 25","2a/2b",{"$f":"Translations!$B$493","v":"Standardwerte Typ I:"},null,{"$f":"Translations!$B$528","v":"Standardwerte Typ II"},{"$f":"Translations!$B$1061","v":"Ermittelte Proxywerte (soweit zutreffend)"},{"$f":"Translations!$B$527","v":"Laboranalysen"},null,null,null,3,"Wasserstoff und Synthesegas: Massenbilanzmethodik",null,"CarbC_Wasserstoff und Synthesegas: Massenbilanzmethodik",null,null,null,null,null,null,false,null,null,null,null,null,null,null,null,null,null,null,1,"",1,2,2]
[52,"Herstellung von organischen Grundchemikalien","Organische Grundchemikalien","Massenbilanzmethodik",null,"Massenbilanzmethodik, Artikel 25","2a/2b",{"$f":"Translations!$B$493","v":"Standardwerte Typ I:"},null,{"$f":"Translations!$B$528","v":"Standardwerte Typ II"},{"$f":"Translations!$B$1061","v":"Ermittelte Proxywerte (soweit zutreffend)"},{"$f":"Translations!$B$527","v":"Laboranalysen"},null,null,null,3,"Organische Grundchemikalien: Massenbilanzmethodik",null,"CarbC_Organische Grundchemikalien: Massenbilanzmethodik",null,null,null,null,null,null,false,null,null,null,null,null,null,null,null,null,null,null,1,"",1,2,2]
[53,"Herstellung oder Verarbeitung von Eisenmetallen","(Nicht)-Eisen, Sek.-Aluminium","Prozess (Methode A): nur Karbonat",null,"Standardmethodik: Prozess, Artikel 24 Absatz 2",{"$f":"EUconst_NA","v":"n.r."},null,null,null,null,null,null,null,null,"n.r.","(Nicht)-Eisen, Sek.-Aluminium: Prozess (Methode A): nur Karbonat",null,"CarbC_(Nicht)-Eisen, Sek.-Aluminium: Prozess (Methode A): nur Karbonat",null,null,null,null,null,null,true,null,null,null,null,null,null,null,null,null,null,null,"","","","",""]
[54,"Herstellung oder Verarbeitung von Eisenmetallen","(Nicht)-Eisen, Sek.-Aluminium","Prozess (Methode A): Gemisch (Karbonat + Nicht-Karbonat)",null,"Standardmethodik: Prozess, Artikel 24 Absatz 2",{"$f":"EUconst_NA","v":"n.r."},null,null,null,null,null,null,null,null,"n.r.","(Nicht)-Eisen, Sek.-Aluminium: Prozess (Methode A): Gemisch (Karbonat + Nicht-Karbonat)",null,"CarbC_(Nicht)-Eisen, Sek.-Aluminium: Prozess (Methode A): Gemisch (Karbonat + Nicht-Karbonat)",null,null,null,null,null,null,true,null,null,null,null,null,null,null,null,null,null,null,"","","","",""]
[55,"Herstellung oder Verarbeitung von Eisenmetallen","(Nicht)-Eisen, Sek.-Aluminium","Prozess (Methode A): Nicht-Karbonat",null,"Standardmethodik: Prozess, Artikel 24 Absatz 2",{"$f":"EUconst_NA","v":"n.r."},null,null,null,null,null,null,null,null,"n.r.","(Nicht)-Eisen, Sek.-Aluminium: Prozess (Methode A): Nicht-Karbonat",null,"CarbC_(Nicht)-Eisen, Sek.-Aluminium: Prozess (Methode A): Nicht-Karbonat",null,null,null,null,null,null,true,null,null,null,null,null,null,null,null,null,null,null,"","","","",""]
[56,"Herstellung oder Verarbeitung von Eisenmetallen","(Nicht)-Eisen, Sek.-Aluminium","Prozess (Methode B): Oxid-Output",null,"Standardmethodik: Prozess, Artikel 24 Absatz 2",{"$f":"EUconst_NA","v":"n.r."},null,null,null,null,null,null,null,null,"n.r.","(Nicht)-Eisen, Sek.-Aluminium: Prozess (Methode B): Oxid-Output",null,"CarbC_(Nicht)-Eisen, Sek.-Aluminium: Prozess (Methode B): Oxid-Output",null,null,null,null,null,null,true,null,null,null,null,null,null,null,null,null,null,null,"","","","",""]
[57,"Herstellung oder Verarbeitung von Eisenmetallen","(Nicht)-Eisen, Sek.-Aluminium","Massenbilanzmethodik",null,"Massenbilanzmethodik, Artikel 25","2a/2b",{"$f":"Translations!$B$493","v":"Standardwerte Typ I:"},null,{"$f":"Translations!$B$528","v":"Standardwerte Typ II"},{"$f":"Translations!$B$1061","v":"Ermittelte Proxywerte (soweit zutreffend)"},{"$f":"Translations!$B$527","v":"Laboranalysen"},null,null,null,3,"(Nicht)-Eisen, Sek.-Aluminium: Massenbilanzmethodik",null,"CarbC_(Nicht)-Eisen, Sek.-Aluminium: Massenbilanzmethodik",null,null,null,null,null,null,false,null,null,null,null,null,null,null,null,null,null,null,1,"",1,2,2]
[58,"Herstellung von Soda und Natriumbicarbonat","Soda / Natriumbicarbonat","Massenbilanzmethodik",null,"Massenbilanzmethodik, Artikel 25","2a/2b",{"$f":"Translations!$B$493","v":"Standardwerte Typ I:"},null,{"$f":"Translations!$B$528","v":"Standardwerte Typ II"},{"$f":"Translations!$B$1061","v":"Ermittelte Proxywerte (soweit zutreffend)"},{"$f":"Translations!$B$527","v":"Laboranalysen"},null,null,null,3,"Soda / Natriumbicarbonat: Massenbilanzmethodik",null,"CarbC_Soda / Natriumbicarbonat: Massenbilanzmethodik",null,null,null,null,null,null,false,null,null,null,null,null,null,null,null,null,null,null,1,"",1,2,2]
[59,"Herstellung von Primäraluminium","Primäraluminium","Massenbilanzmethodik",null,"Massenbilanzmethodik, Artikel 25","2a/2b",{"$f":"Translations!$B$493","v":"Standardwerte Typ I:"},null,{"$f":"Translations!$B$528","v":"Standardwerte Typ II"},{"$f":"Translations!$B$1061","v":"Ermittelte Proxywerte (soweit zutreffend)"},{"$f":"Translations!$B$527","v":"Laboranalysen"},null,null,null,3,"Primäraluminium: Massenbilanzmethodik",null,"CarbC_Primäraluminium: Massenbilanzmethodik",null,null,null,null,null,null,false,null,null,null,null,null,null,null,null,null,null,null,1,"",1,2,2]
[60,"Herstellung von Primäraluminium","Primäraluminium","PFC-Emissionen (Steigungsmethode)",null,"Berechnung mit Sonderbestimmungen für PFC (Anhang IV Abschnitt 8)",{"$f":"EUconst_NA","v":"n.r."},null,null,null,null,null,null,null,null,"n.r.","Primäraluminium: PFC-Emissionen (Steigungsmethode)",null,"CarbC_Primäraluminium: PFC-Emissionen (Steigungsmethode)",null,null,null,null,null,null,true,null,null,null,null,null,null,null,null,null,null,null,"","","","",""]
[61,{"$f":"B469","v":"Herstellung von Primäraluminium"},"Primäraluminium","PFC-Emissionen (Überspannungsmethode)",null,"Berechnung mit Sonderbestimmungen für PFC (Anhang IV Abschnitt 8)",{"$f":"EUconst_NA","v":"n.r."},null,null,null,null,null,null,null,null,"n.r.","Primäraluminium: PFC-Emissionen (Überspannungsmethode)",null,"CarbC_Primäraluminium: PFC-Emissionen (Überspannungsmethode)",null,null,null,null,null,null,{"$f":"IF(G541=EUconst_NA,TRUE,FALSE)","v":true},null,null,null,null,null,null,null,null,null,null,null,"","","","",""]
[62,"Abscheidung von Treibhausgasen gemäß der Richtlinie 2009/31/EG","CCS: Abscheidung","Weitergeleitetes CO2",null,{"$f":"F470","v":"Massenbilanzmethodik, Artikel 25"},2,{"$f":"Translations!$B$493","v":"Standardwerte Typ I:"},null,{"$f":"Translations!$B$528","v":"Standardwerte Typ II"},{"$f":"Translations!$B$1061","v":"Ermittelte Proxywerte (soweit zutreffend)"},{"$f":"Translations!$B$527","v":"Laboranalysen"},null,null,null,{"$f":"IF(G542=EUconst_NA,EUconst_NA,IF(ISBLANK(J542),COUNTA(H542:O542),COUNTA(H542,J542,L542)))","v":3},{"$f":"C542 & \": \" &D542","v":"CCS: Abscheidung: Weitergeleitetes CO2"},null,{"$f":"EUconst_CNTR_CarbonContent&Q542","v":"CarbC_CCS: Abscheidung: Weitergeleitetes CO2"},null,null,null,null,null,null,false,null,null,null,null,null,null,null,null,null,null,null,1,"",1,2,2]
[63,"Transport von Treibhausgasen gemäß der Richtlinie 2009/31/EG","CCS: Transport","Weitergeleitetes CO2",null,"Massenbilanzmethodik, Artikel 25",2,{"$f":"Translations!$B$493","v":"Standardwerte Typ I:"},null,{"$f":"Translations!$B$528","v":"Standardwerte Typ II"},{"$f":"Translations!$B$1061","v":"Ermittelte Proxywerte (soweit zutreffend)"},{"$f":"Translations!$B$527","v":"Laboranalysen"},null,null,null,3,"CCS: Transport: Weitergeleitetes CO2",null,"CarbC_CCS: Transport: Weitergeleitetes CO2",null,null,null,null,null,null,false,null,null,null,null,null,null,null,null,null,null,null,1,"",1,2,2]
[64,"Transport von Treibhausgasen gemäß der Richtlinie 2009/31/EG","CCS: Transport","CO2-Leckagen",null,"Standardmethodik: Prozess, Artikel 24 Absatz 2",{"$f":"EUconst_NA","v":"n.r."},null,null,null,null,null,null,null,null,"n.r.","CCS: Transport: CO2-Leckagen",null,"CarbC_CCS: Transport: CO2-Leckagen",null,null,null,null,null,null,true]
[65,"Transport von Treibhausgasen gemäß der Richtlinie 2009/31/EG","CCS: Transport","CO2-Ablass",null,"Standardmethodik: Prozess, Artikel 24 Absatz 2",{"$f":"EUconst_NA","v":"n.r."},null,null,null,null,null,null,null,null,"n.r.","CCS: Transport: CO2-Ablass",null,"CarbC_CCS: Transport: CO2-Ablass",null,null,null,null,null,null,true]
[66,"Transport von Treibhausgasen gemäß der Richtlinie 2009/31/EG","CCS: Transport","Diffuse CO2 Emissionen",null,"Standardmethodik: Prozess, Artikel 24 Absatz 2",{"$f":"EUconst_NA","v":"n.r."},null,null,null,null,null,null,null,null,"n.r.","CCS: Transport: Diffuse CO2 Emissionen",null,"CarbC_CCS: Transport: Diffuse CO2 Emissionen",null,null,null,null,null,null,true]
[67,"Lagerung von Treibhausgasen gemäß der Richtlinie 2009/31/EG","CCS: Speicherung","Weitergeleitetes CO2",null,"Massenbilanzmethodik, Artikel 25",2,{"$f":"Translations!$B$493","v":"Standardwerte Typ I:"},null,{"$f":"Translations!$B$528","v":"Standardwerte Typ II"},{"$f":"Translations!$B$1061","v":"Ermittelte Proxywerte (soweit zutreffend)"},{"$f":"Translations!$B$527","v":"Laboranalysen"},null,null,null,3,"CCS: Speicherung: Weitergeleitetes CO2",null,"CarbC_CCS: Speicherung: Weitergeleitetes CO2",null,null,null,null,null,null,false,null,null,null,null,null,null,null,null,null,null,null,1,"",1,2,2]
[68,"Lagerung von Treibhausgasen gemäß der Richtlinie 2009/31/EG","CCS: Speicherung","CO2-Ablass",null,"Standardmethodik: Prozess, Artikel 24 Absatz 2",{"$f":"EUconst_NA","v":"n.r."},null,null,null,null,null,null,null,null,"n.r.","CCS: Speicherung: CO2-Ablass",null,"CarbC_CCS: Speicherung: CO2-Ablass",null,null,null,null,null,null,true]
[69,"Lagerung von Treibhausgasen gemäß der Richtlinie 2009/31/EG","CCS: Speicherung","CO2-Leckagen",null,"Standardmethodik: Prozess, Artikel 24 Absatz 2",{"$f":"EUconst_NA","v":"n.r."},null,null,null,null,null,null,null,null,"n.r.","CCS: Speicherung: CO2-Leckagen",null,"CarbC_CCS: Speicherung: CO2-Leckagen",null,null,null,null,null,null,true]
[70,"Lagerung von Treibhausgasen gemäß der Richtlinie 2009/31/EG","CCS: Speicherung","Diffuse CO2 Emissionen",null,"Standardmethodik: Prozess, Artikel 24 Absatz 2",{"$f":"EUconst_NA","v":"n.r."},null,null,null,null,null,null,null,null,"n.r.","CCS: Speicherung: Diffuse CO2 Emissionen",null,"CarbC_CCS: Speicherung: Diffuse CO2 Emissionen",null,null,null,null,null,null,true]
[null,null,null,null,null,null,null,null,null,null,null,null,null,null,null,null,null,null,null,null,null,null,null,null,null,false]
["NEW",{"$f":"Translations!$B$1265","v":"Biomasseanteil"},{"$f":"Translations!$B$957","v":"Kurzbezeichnung"},{"$f":"Translations!$B$958","v":"Teilmaßnahme"},{"$f":"Translations!$B$389","v":"Parameter"},{"$f":"Translations!$B$959","v":"Quellentyp"},{"$f":"Translations!$B$960","v":"Minimum"},1,2,"2a",{"$f":"Translations!$B$928","v":"2b"},3,"3a","3b",4,{"$f":"Translations!$B$961","v":"Maximum"},null,null,null,null,null,null,null,null,null,{"$f":"Translations!$B$962","v":"Schattieren?"},null,null,null,null,null,null,null,null,null,null,"1=default value, 2=lab",1,2,"2a",{"$f":"Translations!$B$928","v":"2b"},3,"3a","3b"]
[1,{"$f":"B481","v":"Verbrennung von Brennstoffen"},"Verbrennung","Kommerzielle Standardbrennstoffe",null,{"$f":"F481","v":"Standardmethodik: Brennstoff, Artikel 24 Absatz 1"},1,{"$f":"Translations!$B$505","v":"Biomasse-anteil Typ I"},{"$f":"Translations!$B$510","v":"Biomasse-anteil Typ II"},null,null,null,{"$f":"Translations!$B$1266","v":"Analyse des Biomasseanteils"},"Mass balance, e.g. in accordance with Article 30(1) of RED II",null,{"$f":"G553","v":1},{"$f":"C553 & \": \" &D553","v":"Verbrennung: Kommerzielle Standardbrennstoffe"},null,{"$f":"EUconst_CNTR_BiomassContent&Q553","v":"BioC_Verbrennung: Kommerzielle Standardbrennstoffe"},null,null,null,null,null,null,{"$f":"IF(G553=EUconst_NA,TRUE,FALSE)","v":false},null,null,null,null,null,null,null,null,null,null,null,1,{"$f":"Translations!$B$510","v":"Biomasse-anteil Typ II"},"","",null,2,3]
[2,"Verbrennung von Brennstoffen","Verbrennung","Andere gasförmige und flüssige Brennstoffe",null,"Standardmethodik: Brennstoff, Artikel 24 Absatz 1",1,{"$f":"Translations!$B$505","v":"Biomasse-anteil Typ I"},{"$f":"Translations!$B$510","v":"Biomasse-anteil Typ II"},null,null,null,{"$f":"Translations!$B$1266","v":"Analyse des Biomasseanteils"},"Mass balance, e.g. in accordance with Article 30(1) of RED II",null,3,{"$f":"C554 & \": \" &D554","v":"Verbrennung: Andere gasförmige und flüssige Brennstoffe"},null,"BioC_Verbrennung: Andere gasförmige und flüssige Brennstoffe",null,null,null,null,null,null,false,null,null,null,null,null,null,null,null,null,null,null,1,{"$f":"Translations!$B$510","v":"Biomasse-anteil Typ II"},"","",null,2,3]
[3,"Verbrennung von Brennstoffen","Verbrennung","Feste Brennstoffe, ausgenommen Abfälle",null,"Standardmethodik: Brennstoff, Artikel 24 Absatz 1",1,{"$f":"Translations!$B$505","v":"Biomasse-anteil Typ I"},{"$f":"Translations!$B$510","v":"Biomasse-anteil Typ II"},null,null,null,{"$f":"Translations!$B$1266","v":"Analyse des Biomasseanteils"},"Mass balance, e.g. in accordance with Article 30(1) of RED II",null,3,{"$f":"C555 & \": \" &D555","v":"Verbrennung: Feste Brennstoffe, ausgenommen Abfälle"},null,{"$f":"EUconst_CNTR_BiomassContent&Q555","v":"BioC_Verbrennung: Feste Brennstoffe, ausgenommen Abfälle"},null,null,null,null,null,null,false,null,null,null,null,null,null,null,null,null,null,null,1,{"$f":"Translations!$B$510","v":"Biomasse-anteil Typ II"},"","",null,2,3]
[4,"Verbrennung von Brennstoffen","Verbrennung","Abfall",null,"Standardmethodik: Brennstoff, Artikel 24 Absatz 1",1,{"$f":"Translations!$B$505","v":"Biomasse-anteil Typ I"},{"$f":"Translations!$B$510","v":"Biomasse-anteil Typ II"},null,null,null,{"$f":"Translations!$B$1266","v":"Analyse des Biomasseanteils"},"Mass balance, e.g. in accordance with Article 30(1) of RED II",null,3,{"$f":"C556 & \": \" &D556","v":"Verbrennung: Abfall"},null,{"$f":"EUconst_CNTR_BiomassContent&Q556","v":"BioC_Verbrennung: Abfall"},null,null,null,null,null,null,{"$f":"IF(G556=EUconst_NA,TRUE,FALSE)","v":false},null,null,null,null,null,null,null,null,null,null,null,1,{"$f":"Translations!$B$510","v":"Biomasse-anteil Typ II"},"","",null,2,3]
[5,"Verbrennung von Brennstoffen","Verbrennung","Gasaufbereitungsstationen",null,"Massenbilanzmethodik, Artikel 25",1,{"$f":"Translations!$B$505","v":"Biomasse-anteil Typ I"},{"$f":"Translations!$B$510","v":"Biomasse-anteil Typ II"},null,null,null,{"$f":"Translations!$B$1266","v":"Analyse des Biomasseanteils"},"Mass balance, e.g. in accordance with Article 30(1) of RED II",null,3,{"$f":"C557 & \": \" &D557","v":"Verbrennung: Gasaufbereitungsstationen"},null,"BioC_Verbrennung: Gasaufbereitungsstationen",null,null,null,null,null,null,false,null,null,null,null,null,null,null,null,null,null,null,1,{"$f":"Translations!$B$510","v":"Biomasse-anteil Typ II"},"","",null,2,3]
[6,"Verbrennung von Brennstoffen","Verbrennung","Fackeln",null,"Standardmethodik: Brennstoff, Artikel 24 Absatz 1",1,{"$f":"Translations!$B$505","v":"Biomasse-anteil Typ I"},{"$f":"Translations!$B$510","v":"Biomasse-anteil Typ II"},null,null,null,{"$f":"Translations!$B$1266","v":"Analyse des Biomasseanteils"},"Mass balance, e.g. in accordance with Article 30(1) of RED II",null,3,"Verbrennung: Fackeln",null,"BioC_Verbrennung: Fackeln",null,null,null,null,null,null,false,null,null,null,null,null,null,null,null,null,null,null,1,{"$f":"Translations!$B$510","v":"Biomasse-anteil Typ II"},"","",null,2,3]
[7,"Verbrennung von Brennstoffen","Verbrennung","Abgaswäsche (Karbonat)",null,"Standardmethodik: Prozess, Artikel 24 Absatz 2",{"$f":"EUconst_NA","v":"n.r."},null,null,null,null,null,null,null,null,{"$f":"IF(G559=EUconst_NA,EUconst_NA,IF(ISBLANK(J559),COUNTA(H559:O559),COUNTA(H559,J559,L559)))","v":"n.r."},"Verbrennung: Abgaswäsche (Karbonat)",null,"BioC_Verbrennung: Abgaswäsche (Karbonat)",null,null,null,null,null,null,true,null,null,null,null,null,null,null,null,null,null,null,"","","","",null,""]
[8,"Verbrennung von Brennstoffen","Verbrennung","Abgaswäsche (Gips)",null,"Standardmethodik: Prozess, Artikel 24 Absatz 2",{"$f":"EUconst_NA","v":"n.r."},null,null,null,null,null,null,null,null,{"$f":"IF(G560=EUconst_NA,EUconst_NA,IF(ISBLANK(J560),COUNTA(H560:O560),COUNTA(H560,J560,L560)))","v":"n.r."},"Verbrennung: Abgaswäsche (Gips)",null,"BioC_Verbrennung: Abgaswäsche (Gips)",null,null,null,null,null,null,true,null,null,null,null,null,null,null,null,null,null,null,"","","","",null,""]
[9,"Verbrennung von Brennstoffen","Verbrennung","Abgaswäsche (Harnstoff)",null,"Standardmethodik: Prozess, Artikel 24 Absatz 2",{"$f":"EUconst_NA","v":"n.r."},null,null,null,null,null,null,null,null,{"$f":"IF(G561=EUconst_NA,EUconst_NA,IF(ISBLANK(J561),COUNTA(H561:O561),COUNTA(H561,J561,L561)))","v":"n.r."},"Verbrennung: Abgaswäsche (Harnstoff)",null,"BioC_Verbrennung: Abgaswäsche (Harnstoff)",null,null,null,null,null,null,true,null,null,null,null,null,null,null,null,null,null,null,"","","","",null,""]
[10,"Raffination von Mineralöl ","Raffinerien","Massenbilanz",null,"Massenbilanzmethodik, Artikel 25",1,{"$f":"Translations!$B$505","v":"Biomasse-anteil Typ I"},{"$f":"Translations!$B$510","v":"Biomasse-anteil Typ II"},null,null,null,{"$f":"Translations!$B$1266","v":"Analyse des Biomasseanteils"},"Mass balance, e.g. in accordance with Article 30(1) of RED II",null,3,"Raffinerien: Massenbilanz",null,"BioC_Raffinerien: Massenbilanz",null,null,null,null,null,null,false,null,null,null,null,null,null,null,null,null,null,null,1,{"$f":"Translations!$B$510","v":"Biomasse-anteil Typ II"},"","",null,2,3]
[11,"Raffination von Mineralöl ","Raffinerien","Regeneration von katalytischen Crackern",null,"Massenbilanzmethodik, Artikel 25",1,{"$f":"Translations!$B$505","v":"Biomasse-anteil Typ I"},{"$f":"Translations!$B$510","v":"Biomasse-anteil Typ II"},null,null,null,{"$f":"Translations!$B$1266","v":"Analyse des Biomasseanteils"},"Mass balance, e.g. in accordance with Article 30(1) of RED II",null,3,"Raffinerien: Regeneration von katalytischen Crackern",null,"BioC_Raffinerien: Regeneration von katalytischen Crackern",null,null,null,null,null,null,false,null,null,null,null,null,null,null,null,null,null,null,1,{"$f":"Translations!$B$510","v":"Biomasse-anteil Typ II"},"","",null,2,3]
[12,"Raffination von Mineralöl ","Raffinerien","Wasserstofferzeugung",null,"Massenbilanzmethodik, Artikel 25",1,{"$f":"Translations!$B$505","v":"Biomasse-anteil Typ I"},{"$f":"Translations!$B$510","v":"Biomasse-anteil Typ II"},null,null,null,{"$f":"Translations!$B$1266","v":"Analyse des Biomasseanteils"},"Mass balance, e.g. in accordance with Article 30(1) of RED II",null,3,"Raffinerien: Wasserstofferzeugung",null,"BioC_Raffinerien: Wasserstofferzeugung",null,null,null,null,null,null,false,null,null,null,null,null,null,null,null,null,null,null,1,{"$f":"Translations!$B$510","v":"Biomasse-anteil Typ II"},"","",null,2,3]
[13,"Herstellung von Koks","Koks","Brennstoff als Prozess-Input",null,"Standardmethodik: Brennstoff, Artikel 24 Absatz 1",1,{"$f":"Translations!$B$505","v":"Biomasse-anteil Typ I"},{"$f":"Translations!$B$510","v":"Biomasse-anteil Typ II"},null,null,null,{"$f":"Translations!$B$1266","v":"Analyse des Biomasseanteils"},"Mass balance, e.g. in accordance with Article 30(1) of RED II",null,3,"Koks: Brennstoff als Prozess-Input",null,"BioC_Koks: Brennstoff als Prozess-Input",null,null,null,null,null,null,false,null,null,null,null,null,null,null,null,null,null,null,1,{"$f":"Translations!$B$510","v":"Biomasse-anteil Typ II"},"","",null,2,3]
[14,"Herstellung von Koks","Koks","Prozess (Methode A): nur Karbonat",null,"Standardmethodik: Prozess, Artikel 24 Absatz 2",{"$f":"EUconst_NA","v":"n.r."},null,null,null,null,null,null,null,null,{"$f":"IF(G566=EUconst_NA,EUconst_NA,IF(ISBLANK(J566),COUNTA(H566:O566),COUNTA(H566,J566,L566)))","v":"n.r."},"Koks: Prozess (Methode A): nur Karbonat",null,"BioC_Koks: Prozess (Methode A): nur Karbonat",null,null,null,null,null,null,true,null,null,null,null,null,null,null,null,null,null,null,"","","","",null,""]
[15,"Herstellung von Koks","Koks","Prozess (Methode A): Gemisch (Karbonat + Nicht-Karbonat)",null,"Standardmethodik: Prozess, Artikel 24 Absatz 2",1,{"$f":"Translations!$B$505","v":"Biomasse-anteil Typ I"},{"$f":"Translations!$B$510","v":"Biomasse-anteil Typ II"},null,null,null,{"$f":"Translations!$B$1266","v":"Analyse des Biomasseanteils"},"Mass balance, e.g. in accordance with Article 30(1) of RED II",null,3,"Koks: Prozess (Methode A): Gemisch (Karbonat + Nicht-Karbonat)",null,"BioC_Koks: Prozess (Methode A): Gemisch (Karbonat + Nicht-Karbonat)",null,null,null,null,null,null,false,null,null,null,null,null,null,null,null,null,null,null,1,{"$f":"Translations!$B$510","v":"Biomasse-anteil Typ II"},"","",null,2,3]
[16,"Herstellung von Koks","Koks","Prozess (Methode A): Nicht-Karbonat",null,"Standardmethodik: Prozess, Artikel 24 Absatz 2",1,{"$f":"Translations!$B$505","v":"Biomasse-anteil Typ I"},{"$f":"Translations!$B$510","v":"Biomasse-anteil Typ II"},null,null,null,{"$f":"Translations!$B$1266","v":"Analyse des Biomasseanteils"},"Mass balance, e.g. in accordance with Article 30(1) of RED II",null,3,"Koks: Prozess (Methode A): Nicht-Karbonat",null,"BioC_Koks: Prozess (Methode A): Nicht-Karbonat",null,null,null,null,null,null,false,null,null,null,null,null,null,null,null,null,null,null,1,{"$f":"Translations!$B$510","v":"Biomasse-anteil Typ II"},"","",null,2,3]
[17,"Herstellung von Koks","Koks","Prozess (Methode B): Oxid-Output",null,"Standardmethodik: Prozess, Artikel 24 Absatz 2",{"$f":"EUconst_NA","v":"n.r."},null,null,null,null,null,null,null,null,{"$f":"IF(G569=EUconst_NA,EUconst_NA,IF(ISBLANK(J569),COUNTA(H569:O569),COUNTA(H569,J569,L569)))","v":"n.r."},"Koks: Prozess (Methode B): Oxid-Output",null,"BioC_Koks: Prozess (Methode B): Oxid-Output",null,null,null,null,null,null,true,null,null,null,null,null,null,null,null,null,null,null,"","","","",null,""]
[18,"Herstellung von Koks","Koks","Massenbilanz",null,"Massenbilanzmethodik, Artikel 25",1,{"$f":"Translations!$B$505","v":"Biomasse-anteil Typ I"},{"$f":"Translations!$B$510","v":"Biomasse-anteil Typ II"},null,null,null,{"$f":"Translations!$B$1266","v":"Analyse des Biomasseanteils"},"Mass balance, e.g. in accordance with Article 30(1) of RED II",null,3,"Koks: Massenbilanz",null,"BioC_Koks: Massenbilanz",null,null,null,null,null,null,false,null,null,null,null,null,null,null,null,null,null,null,1,{"$f":"Translations!$B$510","v":"Biomasse-anteil Typ II"},"","",null,2,3]
[19,"Röstung oder Sinterung von Metallerz","Metallerz","Prozess (Methode A): nur Karbonat",null,"Standardmethodik: Prozess, Artikel 24 Absatz 2",{"$f":"EUconst_NA","v":"n.r."},null,null,null,null,null,null,null,null,{"$f":"IF(G571=EUconst_NA,EUconst_NA,IF(ISBLANK(J571),COUNTA(H571:O571),COUNTA(H571,J571,L571)))","v":"n.r."},"Metallerz: Prozess (Methode A): nur Karbonat",null,"BioC_Metallerz: Prozess (Methode A): nur Karbonat",null,null,null,null,null,null,true,null,null,null,null,null,null,null,null,null,null,null,"","","","",null,""]
[20,"Röstung oder Sinterung von Metallerz","Metallerz","Prozess (Methode A): Gemisch (Karbonat + Nicht-Karbonat)",null,"Standardmethodik: Prozess, Artikel 24 Absatz 2",1,{"$f":"Translations!$B$505","v":"Biomasse-anteil Typ I"},{"$f":"Translations!$B$510","v":"Biomasse-anteil Typ II"},null,null,null,{"$f":"Translations!$B$1266","v":"Analyse des Biomasseanteils"},"Mass balance, e.g. in accordance with Article 30(1) of RED II",null,3,"Metallerz: Prozess (Methode A): Gemisch (Karbonat + Nicht-Karbonat)",null,"BioC_Metallerz: Prozess (Methode A): Gemisch (Karbonat + Nicht-Karbonat)",null,null,null,null,null,null,false,null,null,null,null,null,null,null,null,null,null,null,1,{"$f":"Translations!$B$510","v":"Biomasse-anteil Typ II"},"","",null,2,3]
[21,{"$f":"B501","v":"Röstung oder Sinterung von Metallerz"},"Metallerz","Prozess (Methode A): Nicht-Karbonat",null,"Standardmethodik: Prozess, Artikel 24 Absatz 2",1,{"$f":"Translations!$B$505","v":"Biomasse-anteil Typ I"},{"$f":"Translations!$B$510","v":"Biomasse-anteil Typ II"},null,null,null,{"$f":"Translations!$B$1266","v":"Analyse des Biomasseanteils"},"Mass balance, e.g. in accordance with Article 30(1) of RED II",null,3,"Metallerz: Prozess (Methode A): Nicht-Karbonat",null,"BioC_Metallerz: Prozess (Methode A): Nicht-Karbonat",null,null,null,null,null,null,false,null,null,null,null,null,null,null,null,null,null,null,1,{"$f":"Translations!$B$510","v":"Biomasse-anteil Typ II"},"","",null,2,3]
[22,"Röstung oder Sinterung von Metallerz","Metallerz","Prozess (Methode B): Oxid-Output",null,"Standardmethodik: Prozess, Artikel 24 Absatz 2",{"$f":"EUconst_NA","v":"n.r."},null,null,null,null,null,null,null,null,{"$f":"IF(G574=EUconst_NA,EUconst_NA,IF(ISBLANK(J574),COUNTA(H574:O574),COUNTA(H574,J574,L574)))","v":"n.r."},"Metallerz: Prozess (Methode B): Oxid-Output",null,"BioC_Metallerz: Prozess (Methode B): Oxid-Output",null,null,null,null,null,null,true,null,null,null,null,null,null,null,null,null,null,null,"","","","",null,""]
[23,"Röstung oder Sinterung von Metallerz","Metallerz","Massenbilanz",null,"Massenbilanzmethodik, Artikel 25",1,{"$f":"Translations!$B$505","v":"Biomasse-anteil Typ I"},{"$f":"Translations!$B$510","v":"Biomasse-anteil Typ II"},null,null,null,{"$f":"Translations!$B$1266","v":"Analyse des Biomasseanteils"},"Mass balance, e.g. in accordance with Article 30(1) of RED II",null,3,"Metallerz: Massenbilanz",null,"BioC_Metallerz: Massenbilanz",null,null,null,null,null,null,false,null,null,null,null,null,null,null,null,null,null,null,1,{"$f":"Translations!$B$510","v":"Biomasse-anteil Typ II"},"","",null,2,3]
[24,"Herstellung von Eisen oder Stahl","Eisen und Stahl","Brennstoff als Prozess-Input",null,"Standardmethodik: Brennstoff, Artikel 24 Absatz 1",1,{"$f":"Translations!$B$505","v":"Biomasse-anteil Typ I"},{"$f":"Translations!$B$510","v":"Biomasse-anteil Typ II"},null,null,null,{"$f":"Translations!$B$1266","v":"Analyse des Biomasseanteils"},"Mass balance, e.g. in accordance with Article 30(1) of RED II",null,3,"Eisen und Stahl: Brennstoff als Prozess-Input",null,"BioC_Eisen und Stahl: Brennstoff als Prozess-Input",null,null,null,null,null,null,false,null,null,null,null,null,null,null,null,null,null,null,1,{"$f":"Translations!$B$510","v":"Biomasse-anteil Typ II"},"","",null,2,3]
[25,"Herstellung von Eisen oder Stahl","Eisen und Stahl","Prozess (Methode A): nur Karbonat",null,"Standardmethodik: Prozess, Artikel 24 Absatz 2",{"$f":"EUconst_NA","v":"n.r."},null,null,null,null,null,null,null,null,{"$f":"IF(G577=EUconst_NA,EUconst_NA,IF(ISBLANK(J577),COUNTA(H577:O577),COUNTA(H577,J577,L577)))","v":"n.r."},"Eisen und Stahl: Prozess (Methode A): nur Karbonat",null,"BioC_Eisen und Stahl: Prozess (Methode A): nur Karbonat",null,null,null,null,null,null,true,null,null,null,null,null,null,null,null,null,null,null,"","","","",null,""]
[26,"Herstellung von Eisen oder Stahl","Eisen und Stahl","Prozess (Methode A): Gemisch (Karbonat + Nicht-Karbonat)",null,"Standardmethodik: Prozess, Artikel 24 Absatz 2",1,{"$f":"Translations!$B$505","v":"Biomasse-anteil Typ I"},{"$f":"Translations!$B$510","v":"Biomasse-anteil Typ II"},null,null,null,{"$f":"Translations!$B$1266","v":"Analyse des Biomasseanteils"},"Mass balance, e.g. in accordance with Article 30(1) of RED II",null,3,"Eisen und Stahl: Prozess (Methode A): Gemisch (Karbonat + Nicht-Karbonat)",null,"BioC_Eisen und Stahl: Prozess (Methode A): Gemisch (Karbonat + Nicht-Karbonat)",null,null,null,null,null,null,false,null,null,null,null,null,null,null,null,null,null,null,1,{"$f":"Translations!$B$510","v":"Biomasse-anteil Typ II"},"","",null,2,3]
[27,"Herstellung von Eisen oder Stahl","Eisen und Stahl","Prozess (Methode A): Nicht-Karbonat",null,"Standardmethodik: Prozess, Artikel 24 Absatz 2",1,{"$f":"Translations!$B$505","v":"Biomasse-anteil Typ I"},{"$f":"Translations!$B$510","v":"Biomasse-anteil Typ II"},null,null,null,{"$f":"Translations!$B$1266","v":"Analyse des Biomasseanteils"},"Mass balance, e.g. in accordance with Article 30(1) of RED II",null,3,"Eisen und Stahl: Prozess (Methode A): Nicht-Karbonat",null,"BioC_Eisen und Stahl: Prozess (Methode A): Nicht-Karbonat",null,null,null,null,null,null,false,null,null,null,null,null,null,null,null,null,null,null,1,{"$f":"Translations!$B$510","v":"Biomasse-anteil Typ II"},"","",null,2,3]
[28,"Herstellung von Eisen oder Stahl","Eisen und Stahl","Prozess (Methode B): Oxid-Output",null,"Standardmethodik: Prozess, Artikel 24 Absatz 2",{"$f":"EUconst_NA","v":"n.r."},null,null,null,null,null,null,null,null,{"$f":"IF(G580=EUconst_NA,EUconst_NA,IF(ISBLANK(J580),COUNTA(H580:O580),COUNTA(H580,J580,L580)))","v":"n.r."},"Eisen und Stahl: Prozess (Methode B): Oxid-Output",null,"BioC_Eisen und Stahl: Prozess (Methode B): Oxid-Output",null,null,null,null,null,null,true,null,null,null,null,null,null,null,null,null,null,null,"","","","",null,""]
[29,"Herstellung von Eisen oder Stahl","Eisen und Stahl","Massenbilanz",null,"Massenbilanzmethodik, Artikel 25",1,{"$f":"Translations!$B$505","v":"Biomasse-anteil Typ I"},{"$f":"Translations!$B$510","v":"Biomasse-anteil Typ II"},null,null,null,{"$f":"Translations!$B$1266","v":"Analyse des Biomasseanteils"},"Mass balance, e.g. in accordance with Article 30(1) of RED II",null,3,"Eisen und Stahl: Massenbilanz",null,"BioC_Eisen und Stahl: Massenbilanz",null,null,null,null,null,null,false,null,null,null,null,null,null,null,null,null,null,null,1,{"$f":"Translations!$B$510","v":"Biomasse-anteil Typ II"},"","",null,2,3]
[30,"Herstellung von Zementklinker","Zementklinker","Ofen-Input-Betrachtung (Methode A)",null,"Standardmethodik: Prozess, Artikel 24 Absatz 2",{"$f":"EUconst_NA","v":"n.r."},null,null,null,null,null,null,null,null,{"$f":"IF(G582=EUconst_NA,EUconst_NA,IF(ISBLANK(J582),COUNTA(H582:O582),COUNTA(H582,J582,L582)))","v":"n.r."},"Zementklinker: Ofen-Input-Betrachtung (Methode A)",null,"BioC_Zementklinker: Ofen-Input-Betrachtung (Methode A)",null,null,null,null,null,null,true,null,null,null,null,null,null,null,null,null,null,null,"","","","",null,""]
[31,"Herstellung von Zementklinker","Zementklinker","Klinker-Output (Methode B)",null,"Standardmethodik: Prozess, Artikel 24 Absatz 2",{"$f":"EUconst_NA","v":"n.r."},null,null,null,null,null,null,null,null,{"$f":"IF(G583=EUconst_NA,EUconst_NA,IF(ISBLANK(J583),COUNTA(H583:O583),COUNTA(H583,J583,L583)))","v":"n.r."},"Zementklinker: Klinker-Output (Methode B)",null,"BioC_Zementklinker: Klinker-Output (Methode B)",null,null,null,null,null,null,true,null,null,null,null,null,null,null,null,null,null,null,"","","","",null,""]
[32,"Herstellung von Zementklinker","Zementklinker","Zementofenstaub (CKD)",null,"Standardmethodik: Prozess, Artikel 24 Absatz 2",{"$f":"EUconst_NA","v":"n.r."},null,null,null,null,null,null,null,null,{"$f":"IF(G584=EUconst_NA,EUconst_NA,IF(ISBLANK(J584),COUNTA(H584:O584),COUNTA(H584,J584,L584)))","v":"n.r."},"Zementklinker: Zementofenstaub (CKD)",null,"BioC_Zementklinker: Zementofenstaub (CKD)",null,null,null,null,null,null,true,null,null,null,null,null,null,null,null,null,null,null,"","","","",null,""]
[33,"Herstellung von Zementklinker","Zementklinker","Nicht-karbonatischer Kohlenstoff",null,{"$f":"F513","v":"Standardmethodik: Prozess, Artikel 24 Absatz 2"},1,{"$f":"Translations!$B$505","v":"Biomasse-anteil Typ I"},{"$f":"Translations!$B$510","v":"Biomasse-anteil Typ II"},null,null,null,{"$f":"Translations!$B$1266","v":"Analyse des Biomasseanteils"},"Mass balance, e.g. in accordance with Article 30(1) of RED II",null,3,"Zementklinker: Nicht-karbonatischer Kohlenstoff",null,"BioC_Zementklinker: Nicht-karbonatischer Kohlenstoff",null,null,null,null,null,null,false,null,null,null,null,null,null,null,null,null,null,null,1,{"$f":"Translations!$B$510","v":"Biomasse-anteil Typ II"},"","",null,2,3]
[34,"Herstellung von Kalk oder Brennen von Dolomit/Magnesit","Kalk / Dolomit / Magnesit","Prozess (Methode A): nur Karbonat",null,"Standardmethodik: Prozess, Artikel 24 Absatz 2",{"$f":"EUconst_NA","v":"n.r."},null,null,null,null,null,null,null,null,{"$f":"IF(G586=EUconst_NA,EUconst_NA,IF(ISBLANK(J586),COUNTA(H586:O586),COUNTA(H586,J586,L586)))","v":"n.r."},"Kalk / Dolomit / Magnesit: Prozess (Methode A): nur Karbonat",null,{"$f":"EUconst_CNTR_BiomassContent&Q586","v":"BioC_Kalk / Dolomit / Magnesit: Prozess (Methode A): nur Karbonat"},null,null,null,null,null,null,true,null,null,null,null,null,null,null,null,null,null,null,"","","","",null,""]
[35,"Herstellung von Kalk oder Brennen von Dolomit/Magnesit","Kalk / Dolomit / Magnesit","Prozess (Methode A): Gemisch (Karbonat + Nicht-Karbonat)",null,"Standardmethodik: Prozess, Artikel 24 Absatz 2",1,{"$f":"Translations!$B$505","v":"Biomasse-anteil Typ I"},{"$f":"Translations!$B$510","v":"Biomasse-anteil Typ II"},null,null,null,{"$f":"Translations!$B$1266","v":"Analyse des Biomasseanteils"},"Mass balance, e.g. in accordance with Article 30(1) of RED II",null,3,"Kalk / Dolomit / Magnesit: Prozess (Methode A): Gemisch (Karbonat + Nicht-Karbonat)",null,"BioC_Kalk / Dolomit / Magnesit: Prozess (Methode A): Gemisch (Karbonat + Nicht-Karbonat)",null,null,null,null,null,null,false,null,null,null,null,null,null,null,null,null,null,null,1,{"$f":"Translations!$B$510","v":"Biomasse-anteil Typ II"},"","",null,2,3]
[36,"Herstellung von Kalk oder Brennen von Dolomit/Magnesit","Kalk / Dolomit / Magnesit","Prozess (Methode A): Nicht-Karbonat",null,"Standardmethodik: Prozess, Artikel 24 Absatz 2",1,{"$f":"Translations!$B$505","v":"Biomasse-anteil Typ I"},{"$f":"Translations!$B$510","v":"Biomasse-anteil Typ II"},null,null,null,{"$f":"Translations!$B$1266","v":"Analyse des Biomasseanteils"},"Mass balance, e.g. in accordance with Article 30(1) of RED II",null,3,"Kalk / Dolomit / Magnesit: Prozess (Methode A): Nicht-Karbonat",null,"BioC_Kalk / Dolomit / Magnesit: Prozess (Methode A): Nicht-Karbonat",null,null,null,null,null,null,false,null,null,null,null,null,null,null,null,null,null,null,1,{"$f":"Translations!$B$510","v":"Biomasse-anteil Typ II"},"","",null,2,3]
[37,"Herstellung von Kalk oder Brennen von Dolomit/Magnesit","Kalk / Dolomit / Magnesit","Prozess (Methode B): Oxid-Output",null,"Standardmethodik: Prozess, Artikel 24 Absatz 2",{"$f":"EUconst_NA","v":"n.r."},null,null,null,null,null,null,null,null,{"$f":"IF(G589=EUconst_NA,EUconst_NA,IF(ISBLANK(J589),COUNTA(H589:O589),COUNTA(H589,J589,L589)))","v":"n.r."},"Kalk / Dolomit / Magnesit: Prozess (Methode B): Oxid-Output",null,"BioC_Kalk / Dolomit / Magnesit: Prozess (Methode B): Oxid-Output",null,null,null,null,null,null,true,null,null,null,null,null,null,null,null,null,null,null,"","","","",null,""]
[38,"Herstellung von Kalk oder Brennen von Dolomit/Magnesit","Kalk / Dolomit / Magnesit","Ofenstaub (Methode B)",null,"Standardmethodik: Prozess, Artikel 24 Absatz 2",{"$f":"EUconst_NA","v":"n.r."},null,null,null,null,null,null,null,null,{"$f":"IF(G590=EUconst_NA,EUconst_NA,IF(ISBLANK(J590),COUNTA(H590:O590),COUNTA(H590,J590,L590)))","v":"n.r."},"Kalk / Dolomit / Magnesit: Ofenstaub (Methode B)",null,"BioC_Kalk / Dolomit / Magnesit: Ofenstaub (Methode B)",null,null,null,null,null,null,true,null,null,null,null,null,null,null,null,null,null,null,"","","","",null,""]
[39,"Herstellung von Glas","Glas und Mineralwolle","Prozess (Methode A): nur Karbonat",null,"Standardmethodik: Prozess, Artikel 24 Absatz 2",{"$f":"EUconst_NA","v":"n.r."},null,null,null,null,null,null,null,null,{"$f":"IF(G591=EUconst_NA,EUconst_NA,IF(ISBLANK(J591),COUNTA(H591:O591),COUNTA(H591,J591,L591)))","v":"n.r."},"Glas und Mineralwolle: Prozess (Methode A): nur Karbonat",null,"BioC_Glas und Mineralwolle: Prozess (Methode A): nur Karbonat",null,null,null,null,null,null,true,null,null,null,null,null,null,null,null,null,null,null,"","","","",null,""]
[40,"Herstellung von Glas","Glas und Mineralwolle","Prozess (Methode A): Gemisch (Karbonat + Nicht-Karbonat)",null,"Standardmethodik: Prozess, Artikel 24 Absatz 2",1,{"$f":"Translations!$B$505","v":"Biomasse-anteil Typ I"},{"$f":"Translations!$B$510","v":"Biomasse-anteil Typ II"},null,null,null,{"$f":"Translations!$B$1266","v":"Analyse des Biomasseanteils"},"Mass balance, e.g. in accordance with Article 30(1) of RED II",null,3,"Glas und Mineralwolle: Prozess (Methode A): Gemisch (Karbonat + Nicht-Karbonat)",null,"BioC_Glas und Mineralwolle: Prozess (Methode A): Gemisch (Karbonat + Nicht-Karbonat)",null,null,null,null,null,null,false,null,null,null,null,null,null,null,null,null,null,null,1,{"$f":"Translations!$B$510","v":"Biomasse-anteil Typ II"},"","",null,2,3]
[41,{"$f":"B521","v":"Herstellung von Glas"},"Glas und Mineralwolle","Prozess (Methode A): Nicht-Karbonat",null,"Standardmethodik: Prozess, Artikel 24 Absatz 2",1,{"$f":"Translations!$B$505","v":"Biomasse-anteil Typ I"},{"$f":"Translations!$B$510","v":"Biomasse-anteil Typ II"},null,null,null,{"$f":"Translations!$B$1266","v":"Analyse des Biomasseanteils"},"Mass balance, e.g. in accordance with Article 30(1) of RED II",null,3,"Glas und Mineralwolle: Prozess (Methode A): Nicht-Karbonat",null,"BioC_Glas und Mineralwolle: Prozess (Methode A): Nicht-Karbonat",null,null,null,null,null,null,false,null,null,null,null,null,null,null,null,null,null,null,1,{"$f":"Translations!$B$510","v":"Biomasse-anteil Typ II"},"","",null,2,3]
[42,"Herstellung von keramischen Erzeugnissen","Keramische Erzeugnisse","Prozess (Methode A): nur Karbonat",null,"Standardmethodik: Prozess, Artikel 24 Absatz 2",{"$f":"EUconst_NA","v":"n.r."},null,null,null,null,null,null,null,null,{"$f":"IF(G594=EUconst_NA,EUconst_NA,IF(ISBLANK(J594),COUNTA(H594:O594),COUNTA(H594,J594,L594)))","v":"n.r."},"Keramische Erzeugnisse: Prozess (Methode A): nur Karbonat",null,"BioC_Keramische Erzeugnisse: Prozess (Methode A): nur Karbonat",null,null,null,null,null,null,true,null,null,null,null,null,null,null,null,null,null,null,"","","","",null,""]
[43,"Herstellung von keramischen Erzeugnissen","Keramische Erzeugnisse","Prozess (Methode A): Gemisch (Karbonat + Nicht-Karbonat)",null,"Standardmethodik: Prozess, Artikel 24 Absatz 2",1,{"$f":"Translations!$B$505","v":"Biomasse-anteil Typ I"},{"$f":"Translations!$B$510","v":"Biomasse-anteil Typ II"},null,null,null,{"$f":"Translations!$B$1266","v":"Analyse des Biomasseanteils"},"Mass balance, e.g. in accordance with Article 30(1) of RED II",null,3,"Keramische Erzeugnisse: Prozess (Methode A): Gemisch (Karbonat + Nicht-Karbonat)",null,"BioC_Keramische Erzeugnisse: Prozess (Methode A): Gemisch (Karbonat + Nicht-Karbonat)",null,null,null,null,null,null,false,null,null,null,null,null,null,null,null,null,null,null,1,{"$f":"Translations!$B$510","v":"Biomasse-anteil Typ II"},"","",null,2,3]
[44,"Herstellung von keramischen Erzeugnissen","Keramische Erzeugnisse","Prozess (Methode A): Nicht-Karbonat",null,"Standardmethodik: Prozess, Artikel 24 Absatz 2",1,{"$f":"Translations!$B$505","v":"Biomasse-anteil Typ I"},{"$f":"Translations!$B$510","v":"Biomasse-anteil Typ II"},null,null,null,{"$f":"Translations!$B$1266","v":"Analyse des Biomasseanteils"},"Mass balance, e.g. in accordance with Article 30(1) of RED II",null,3,"Keramische Erzeugnisse: Prozess (Methode A): Nicht-Karbonat",null,"BioC_Keramische Erzeugnisse: Prozess (Methode A): Nicht-Karbonat",null,null,null,null,null,null,false,null,null,null,null,null,null,null,null,null,null,null,1,{"$f":"Translations!$B$510","v":"Biomasse-anteil Typ II"},"","",null,2,3]
[45,"Herstellung von keramischen Erzeugnissen","Keramische Erzeugnisse","Prozess (Methode B): Oxid-Output",null,"Standardmethodik: Prozess, Artikel 24 Absatz 2",{"$f":"EUconst_NA","v":"n.r."},null,null,null,null,null,null,null,null,{"$f":"IF(G597=EUconst_NA,EUconst_NA,IF(ISBLANK(J597),COUNTA(H597:O597),COUNTA(H597,J597,L597)))","v":"n.r."},"Keramische Erzeugnisse: Prozess (Methode B): Oxid-Output",null,"BioC_Keramische Erzeugnisse: Prozess (Methode B): Oxid-Output",null,null,null,null,null,null,true,null,null,null,null,null,null,null,null,null,null,null,"","","","",null,""]
[46,"Herstellung von keramischen Erzeugnissen","Keramische Erzeugnisse","Abgaswäsche",null,"Standardmethodik: Prozess, Artikel 24 Absatz 2",{"$f":"EUconst_NA","v":"n.r."},null,null,null,null,null,null,null,null,{"$f":"IF(G598=EUconst_NA,EUconst_NA,IF(ISBLANK(J598),COUNTA(H598:O598),COUNTA(H598,J598,L598)))","v":"n.r."},"Keramische Erzeugnisse: Abgaswäsche",null,"BioC_Keramische Erzeugnisse: Abgaswäsche",null,null,null,null,null,null,true,null,null,null,null,null,null,null,null,null,null,null,"","","","",null,""]
[47,"Herstellung von Zellstoff","Papier und Zellstoff","Ergänzungschemikalien",null,"Standardmethodik: Prozess, Artikel 24 Absatz 2",{"$f":"EUconst_NA","v":"n.r."},null,null,null,null,null,null,null,null,{"$f":"IF(G599=EUconst_NA,EUconst_NA,IF(ISBLANK(J599),COUNTA(H599:O599),COUNTA(H599,J599,L599)))","v":"n.r."},"Papier und Zellstoff: Ergänzungschemikalien",null,"BioC_Papier und Zellstoff: Ergänzungschemikalien",null,null,null,null,null,null,true,null,null,null,null,null,null,null,null,null,null,null,"","","","",null,""]
[48,"Herstellung von Industrieruß","Industrieruß","Massenbilanzmethodik",null,"Massenbilanzmethodik, Artikel 25",1,{"$f":"Translations!$B$505","v":"Biomasse-anteil Typ I"},{"$f":"Translations!$B$510","v":"Biomasse-anteil Typ II"},null,null,null,{"$f":"Translations!$B$1266","v":"Analyse des Biomasseanteils"},"Mass balance, e.g. in accordance with Article 30(1) of RED II",null,3,"Industrieruß: Massenbilanzmethodik",null,"BioC_Industrieruß: Massenbilanzmethodik",null,null,null,null,null,null,false,null,null,null,null,null,null,null,null,null,null,null,1,{"$f":"Translations!$B$510","v":"Biomasse-anteil Typ II"},"","",null,2,3]
[49,"Herstellung von Ammoniak","Ammoniak","Brennstoff als Prozess-Input",null,"Standardmethodik: Brennstoff, Artikel 24 Absatz 1",1,{"$f":"Translations!$B$505","v":"Biomasse-anteil Typ I"},{"$f":"Translations!$B$510","v":"Biomasse-anteil Typ II"},null,null,null,{"$f":"Translations!$B$1266","v":"Analyse des Biomasseanteils"},"Mass balance, e.g. in accordance with Article 30(1) of RED II",null,3,"Ammoniak: Brennstoff als Prozess-Input",null,"BioC_Ammoniak: Brennstoff als Prozess-Input",null,null,null,null,null,null,false,null,null,null,null,null,null,null,null,null,null,null,1,{"$f":"Translations!$B$510","v":"Biomasse-anteil Typ II"},"","",null,2,3]
[50,"Herstellung von Wasserstoff und Synthesegas","Wasserstoff und Synthesegas","Brennstoff als Prozess-Input",null,"Standardmethodik: Brennstoff, Artikel 24 Absatz 1",1,{"$f":"Translations!$B$505","v":"Biomasse-anteil Typ I"},{"$f":"Translations!$B$510","v":"Biomasse-anteil Typ II"},null,null,null,{"$f":"Translations!$B$1266","v":"Analyse des Biomasseanteils"},"Mass balance, e.g. in accordance with Article 30(1) of RED II",null,3,"Wasserstoff und Synthesegas: Brennstoff als Prozess-Input",null,"BioC_Wasserstoff und Synthesegas: Brennstoff als Prozess-Input",null,null,null,null,null,null,false,null,null,null,null,null,null,null,null,null,null,null,1,{"$f":"Translations!$B$510","v":"Biomasse-anteil Typ II"},"","",null,2,3]
[51,"Herstellung von Wasserstoff und Synthesegas","Wasserstoff und Synthesegas","Massenbilanzmethodik",null,"Massenbilanzmethodik, Artikel 25",1,{"$f":"Translations!$B$505","v":"Biomasse-anteil Typ I"},{"$f":"Translations!$B$510","v":"Biomasse-anteil Typ II"},null,null,null,{"$f":"Translations!$B$1266","v":"Analyse des Biomasseanteils"},"Mass balance, e.g. in accordance with Article 30(1) of RED II",null,3,"Wasserstoff und Synthesegas: Massenbilanzmethodik",null,"BioC_Wasserstoff und Synthesegas: Massenbilanzmethodik",null,null,null,null,null,null,false,null,null,null,null,null,null,null,null,null,null,null,1,{"$f":"Translations!$B$510","v":"Biomasse-anteil Typ II"},"","",null,2,3]
[52,"Herstellung von organischen Grundchemikalien","Organische Grundchemikalien","Massenbilanzmethodik",null,"Massenbilanzmethodik, Artikel 25",1,{"$f":"Translations!$B$505","v":"Biomasse-anteil Typ I"},{"$f":"Translations!$B$510","v":"Biomasse-anteil Typ II"},null,null,null,{"$f":"Translations!$B$1266","v":"Analyse des Biomasseanteils"},"Mass balance, e.g. in accordance with Article 30(1) of RED II",null,3,"Organische Grundchemikalien: Massenbilanzmethodik",null,"BioC_Organische Grundchemikalien: Massenbilanzmethodik",null,null,null,null,null,null,false,null,null,null,null,null,null,null,null,null,null,null,1,{"$f":"Translations!$B$510","v":"Biomasse-anteil Typ II"},"","",null,2,3]
[53,"Herstellung oder Verarbeitung von Eisenmetallen","(Nicht)-Eisen, Sek.-Aluminium","Prozess (Methode A): nur Karbonat",null,"Standardmethodik: Prozess, Artikel 24 Absatz 2",{"$f":"EUconst_NA","v":"n.r."},null,null,null,null,null,null,null,null,{"$f":"IF(G605=EUconst_NA,EUconst_NA,IF(ISBLANK(J605),COUNTA(H605:O605),COUNTA(H605,J605,L605)))","v":"n.r."},"(Nicht)-Eisen, Sek.-Aluminium: Prozess (Methode A): nur Karbonat",null,"BioC_(Nicht)-Eisen, Sek.-Aluminium: Prozess (Methode A): nur Karbonat",null,null,null,null,null,null,true,null,null,null,null,null,null,null,null,null,null,null,"","","","",null,""]
[54,"Herstellung oder Verarbeitung von Eisenmetallen","(Nicht)-Eisen, Sek.-Aluminium","Prozess (Methode A): Gemisch (Karbonat + Nicht-Karbonat)",null,"Standardmethodik: Prozess, Artikel 24 Absatz 2",1,{"$f":"Translations!$B$505","v":"Biomasse-anteil Typ I"},{"$f":"Translations!$B$510","v":"Biomasse-anteil Typ II"},null,null,null,{"$f":"Translations!$B$1266","v":"Analyse des Biomasseanteils"},"Mass balance, e.g. in accordance with Article 30(1) of RED II",null,3,"(Nicht)-Eisen, Sek.-Aluminium: Prozess (Methode A): Gemisch (Karbonat + Nicht-Karbonat)",null,"BioC_(Nicht)-Eisen, Sek.-Aluminium: Prozess (Methode A): Gemisch (Karbonat + Nicht-Karbonat)",null,null,null,null,null,null,false,null,null,null,null,null,null,null,null,null,null,null,1,{"$f":"Translations!$B$510","v":"Biomasse-anteil Typ II"},"","",null,2,3]
[55,"Herstellung oder Verarbeitung von Eisenmetallen","(Nicht)-Eisen, Sek.-Aluminium","Prozess (Methode A): Nicht-Karbonat",null,"Standardmethodik: Prozess, Artikel 24 Absatz 2",1,{"$f":"Translations!$B$505","v":"Biomasse-anteil Typ I"},{"$f":"Translations!$B$510","v":"Biomasse-anteil Typ II"},null,null,null,{"$f":"Translations!$B$1266","v":"Analyse des Biomasseanteils"},"Mass balance, e.g. in accordance with Article 30(1) of RED II",null,3,"(Nicht)-Eisen, Sek.-Aluminium: Prozess (Methode A): Nicht-Karbonat",null,"BioC_(Nicht)-Eisen, Sek.-Aluminium: Prozess (Methode A): Nicht-Karbonat",null,null,null,null,null,null,false,null,null,null,null,null,null,null,null,null,null,null,1,{"$f":"Translations!$B$510","v":"Biomasse-anteil Typ II"},"","",null,2,3]
[56,"Herstellung oder Verarbeitung von Eisenmetallen","(Nicht)-Eisen, Sek.-Aluminium","Prozess (Methode B): Oxid-Output",null,"Standardmethodik: Prozess, Artikel 24 Absatz 2",{"$f":"EUconst_NA","v":"n.r."},null,null,null,null,null,null,null,null,{"$f":"IF(G608=EUconst_NA,EUconst_NA,IF(ISBLANK(J608),COUNTA(H608:O608),COUNTA(H608,J608,L608)))","v":"n.r."},"(Nicht)-Eisen, Sek.-Aluminium: Prozess (Methode B): Oxid-Output",null,"BioC_(Nicht)-Eisen, Sek.-Aluminium: Prozess (Methode B): Oxid-Output",null,null,null,null,null,null,true,null,null,null,null,null,null,null,null,null,null,null,"","","","",null,""]
[57,"Herstellung oder Verarbeitung von Eisenmetallen","(Nicht)-Eisen, Sek.-Aluminium","Massenbilanzmethodik",null,"Massenbilanzmethodik, Artikel 25",1,{"$f":"Translations!$B$505","v":"Biomasse-anteil Typ I"},{"$f":"Translations!$B$510","v":"Biomasse-anteil Typ II"},null,null,null,{"$f":"Translations!$B$1266","v":"Analyse des Biomasseanteils"},"Mass balance, e.g. in accordance with Article 30(1) of RED II",null,3,"(Nicht)-Eisen, Sek.-Aluminium: Massenbilanzmethodik",null,"BioC_(Nicht)-Eisen, Sek.-Aluminium: Massenbilanzmethodik",null,null,null,null,null,null,false,null,null,null,null,null,null,null,null,null,null,null,1,{"$f":"Translations!$B$510","v":"Biomasse-anteil Typ II"},"","",null,2,3]
[58,"Herstellung von Soda und Natriumbicarbonat","Soda / Natriumbicarbonat","Massenbilanzmethodik",null,"Massenbilanzmethodik, Artikel 25",1,{"$f":"Translations!$B$505","v":"Biomasse-anteil Typ I"},{"$f":"Translations!$B$510","v":"Biomasse-anteil Typ II"},null,null,null,{"$f":"Translations!$B$1266","v":"Analyse des Biomasseanteils"},"Mass balance, e.g. in accordance with Article 30(1) of RED II",null,3,"Soda / Natriumbicarbonat: Massenbilanzmethodik",null,"BioC_Soda / Natriumbicarbonat: Massenbilanzmethodik",null,null,null,null,null,null,false,null,null,null,null,null,null,null,null,null,null,null,1,{"$f":"Translations!$B$510","v":"Biomasse-anteil Typ II"},"","",null,2,3]
[59,"Herstellung von Primäraluminium","Primäraluminium","Massenbilanzmethodik",null,"Massenbilanzmethodik, Artikel 25",1,{"$f":"Translations!$B$505","v":"Biomasse-anteil Typ I"},{"$f":"Translations!$B$510","v":"Biomasse-anteil Typ II"},null,null,null,{"$f":"Translations!$B$1266","v":"Analyse des Biomasseanteils"},"Mass balance, e.g. in accordance with Article 30(1) of RED II",null,3,"Primäraluminium: Massenbilanzmethodik",null,"BioC_Primäraluminium: Massenbilanzmethodik",null,null,null,null,null,null,false,null,null,null,null,null,null,null,null,null,null,null,1,{"$f":"Translations!$B$510","v":"Biomasse-anteil Typ II"},"","",null,2,3]
[60,"Herstellung von Primäraluminium","Primäraluminium","PFC-Emissionen (Steigungsmethode)",null,"Berechnung mit Sonderbestimmungen für PFC (Anhang IV Abschnitt 8)",{"$f":"EUconst_NA","v":"n.r."},null,null,null,null,null,null,null,null,{"$f":"IF(G612=EUconst_NA,EUconst_NA,IF(ISBLANK(J612),COUNTA(H612:O612),COUNTA(H612,J612,L612)))","v":"n.r."},"Primäraluminium: PFC-Emissionen (Steigungsmethode)",null,"BioC_Primäraluminium: PFC-Emissionen (Steigungsmethode)",null,null,null,null,null,null,true,null,null,null,null,null,null,null,null,null,null,null,"","","","",null,""]
[61,{"$f":"B541","v":"Herstellung von Primäraluminium"},"Primäraluminium","PFC-Emissionen (Überspannungsmethode)",null,"Berechnung mit Sonderbestimmungen für PFC (Anhang IV Abschnitt 8)",{"$f":"EUconst_NA","v":"n.r."},null,null,null,null,null,null,null,null,{"$f":"IF(G613=EUconst_NA,EUconst_NA,IF(ISBLANK(J613),COUNTA(H613:O613),COUNTA(H613,J613,L613)))","v":"n.r."},"Primäraluminium: PFC-Emissionen (Überspannungsmethode)",null,"BioC_Primäraluminium: PFC-Emissionen (Überspannungsmethode)",null,null,null,null,null,null,true,null,null,null,null,null,null,null,null,null,null,null,"","","","",null,""]
[62,"Abscheidung von Treibhausgasen gemäß der Richtlinie 2009/31/EG","CCS: Abscheidung","Weitergeleitetes CO2",null,{"$f":"F542","v":"Massenbilanzmethodik, Artikel 25"},1,{"$f":"Translations!$B$505","v":"Biomasse-anteil Typ I"},{"$f":"Translations!$B$510","v":"Biomasse-anteil Typ II"},null,null,null,{"$f":"Translations!$B$1266","v":"Analyse des Biomasseanteils"},"Mass balance, e.g. in accordance with Article 30(1) of RED II",null,3,{"$f":"C614 & \": \" &D614","v":"CCS: Abscheidung: Weitergeleitetes CO2"},null,{"$f":"EUconst_CNTR_BiomassContent&Q614","v":"BioC_CCS: Abscheidung: Weitergeleitetes CO2"},null,null,null,null,null,null,{"$f":"IF(G614=EUconst_NA,TRUE,FALSE)","v":false},null,null,null,null,null,null,null,null,null,null,null,1,{"$f":"Translations!$B$510","v":"Biomasse-anteil Typ II"},"","",null,2,3]
[63,"Transport von Treibhausgasen gemäß der Richtlinie 2009/31/EG","CCS: Transport","Weitergeleitetes CO2",null,"Massenbilanzmethodik, Artikel 25",{"$f":"EUconst_NA","v":"n.r."},null,null,null,null,null,null,null,null,{"$f":"IF(G615=EUconst_NA,EUconst_NA,IF(ISBLANK(J615),COUNTA(H615:O615),COUNTA(H615,J615,L615)))","v":"n.r."},"CCS: Transport: Weitergeleitetes CO2",null,"BioC_CCS: Transport: Weitergeleitetes CO2",null,null,null,null,null,null,true]
[64,"Transport von Treibhausgasen gemäß der Richtlinie 2009/31/EG","CCS: Transport","CO2-Leckagen",null,"Standardmethodik: Prozess, Artikel 24 Absatz 2","n.r.",null,null,null,null,null,null,null,null,"n.r.","CCS: Transport: CO2-Leckagen",null,"BioC_CCS: Transport: CO2-Leckagen",null,null,null,null,null,null,true]
[65,"Transport von Treibhausgasen gemäß der Richtlinie 2009/31/EG","CCS: Transport","CO2-Ablass",null,"Standardmethodik: Prozess, Artikel 24 Absatz 2","n.r.",null,null,null,null,null,null,null,null,"n.r.","CCS: Transport: CO2-Ablass",null,"BioC_CCS: Transport: CO2-Ablass",null,null,null,null,null,null,true]
[66,"Transport von Treibhausgasen gemäß der Richtlinie 2009/31/EG","CCS: Transport","Diffuse CO2 Emissionen",null,"Standardmethodik: Prozess, Artikel 24 Absatz 2","n.r.",null,null,null,null,null,null,null,null,"n.r.","CCS: Transport: Diffuse CO2 Emissionen",null,"BioC_CCS: Transport: Diffuse CO2 Emissionen",null,null,null,null,null,null,true]
[67,"Lagerung von Treibhausgasen gemäß der Richtlinie 2009/31/EG","CCS: Speicherung","Weitergeleitetes CO2",null,"Massenbilanzmethodik, Artikel 25","n.r.",null,null,null,null,null,null,null,null,"n.r.","CCS: Speicherung: Weitergeleitetes CO2",null,"BioC_CCS: Speicherung: Weitergeleitetes CO2",null,null,null,null,null,null,true]
[68,"Lagerung von Treibhausgasen gemäß der Richtlinie 2009/31/EG","CCS: Speicherung","CO2-Ablass",null,"Standardmethodik: Prozess, Artikel 24 Absatz 2","n.r.",null,null,null,null,null,null,null,null,"n.r.","CCS: Speicherung: CO2-Ablass",null,"BioC_CCS: Speicherung: CO2-Ablass",null,null,null,null,null,null,true]
[69,"Lagerung von Treibhausgasen gemäß der Richtlinie 2009/31/EG","CCS: Speicherung","CO2-Leckagen",null,"Standardmethodik: Prozess, Artikel 24 Absatz 2","n.r.",null,null,null,null,null,null,null,null,"n.r.","CCS: Speicherung: CO2-Leckagen",null,"BioC_CCS: Speicherung: CO2-Leckagen",null,null,null,null,null,null,true]
[70,"Lagerung von Treibhausgasen gemäß der Richtlinie 2009/31/EG","CCS: Speicherung","Diffuse CO2 Emissionen",null,"Standardmethodik: Prozess, Artikel 24 Absatz 2","n.r.",null,null,null,null,null,null,null,null,"n.r.","CCS: Speicherung: Diffuse CO2 Emissionen",null,"BioC_CCS: Speicherung: Diffuse CO2 Emissionen",null,null,null,null,null,null,true]
[null,null,null,null,null,null,null,null,null,null,null,null,null,null,null,null,null,null,null,null,null,null,null,null,null,{"$f":"IF(G623=EUconst_NA,TRUE,FALSE)","v":false}]
["NEW",{"$f":"Translations!$B$522","v":"Oxidationsfaktor"},{"$f":"Translations!$B$957","v":"Kurzbezeichnung"},{"$f":"Translations!$B$958","v":"Teilmaßnahme"},{"$f":"Translations!$B$389","v":"Parameter"},{"$f":"Translations!$B$959","v":"Quellentyp"},{"$f":"Translations!$B$960","v":"Minimum"},1,2,"2a",{"$f":"Translations!$B$928","v":"2b"},3,"3a","3b",4,{"$f":"Translations!$B$961","v":"Maximum"},null,null,null,null,null,null,null,null,null,{"$f":"Translations!$B$962","v":"Schattieren?"},null,null,null,null,null,null,null,null,null,null,"1=default value, 2=lab",1,2,"2a",{"$f":"Translations!$B$928","v":"2b"},3]
[1,{"$f":"B553","v":"Verbrennung von Brennstoffen"},"Verbrennung","Kommerzielle Standardbrennstoffe",null,{"$f":"F553","v":"Standardmethodik: Brennstoff, Artikel 24 Absatz 1"},1,{"$f":"Translations!$B$529","v":"Standardwert OF = 1 "},{"$f":"Translations!$B$528","v":"Standardwerte Typ II"},null,null,{"$f":"Translations!$B$527","v":"Laboranalysen"},null,null,null,{"$f":"G625","v":1},{"$f":"C625 & \": \" &D625","v":"Verbrennung: Kommerzielle Standardbrennstoffe"},null,{"$f":"EUconst_CNTR_OxidationFactor&Q625","v":"OxF_Verbrennung: Kommerzielle Standardbrennstoffe"},null,null,null,null,null,null,{"$f":"IF(G625=EUconst_NA,TRUE,FALSE)","v":false},null,null,null,null,null,null,null,null,null,null,null,1,1,"","",2]
[2,"Verbrennung von Brennstoffen","Verbrennung","Andere gasförmige und flüssige Brennstoffe",null,"Standardmethodik: Brennstoff, Artikel 24 Absatz 1",1,{"$f":"Translations!$B$529","v":"Standardwert OF = 1 "},{"$f":"Translations!$B$528","v":"Standardwerte Typ II"},null,null,{"$f":"Translations!$B$527","v":"Laboranalysen"},null,null,null,{"$f":"G626","v":1},{"$f":"C626 & \": \" &D626","v":"Verbrennung: Andere gasförmige und flüssige Brennstoffe"},null,"OxF_Verbrennung: Andere gasförmige und flüssige Brennstoffe",null,null,null,null,null,null,false,null,null,null,null,null,null,null,null,null,null,null,1,1,"","",2]
[3,"Verbrennung von Brennstoffen","Verbrennung","Feste Brennstoffe, ausgenommen Abfälle",null,"Standardmethodik: Brennstoff, Artikel 24 Absatz 1",1,{"$f":"Translations!$B$529","v":"Standardwert OF = 1 "},{"$f":"Translations!$B$528","v":"Standardwerte Typ II"},null,null,{"$f":"Translations!$B$527","v":"Laboranalysen"},null,null,null,{"$f":"G627","v":1},{"$f":"C627 & \": \" &D627","v":"Verbrennung: Feste Brennstoffe, ausgenommen Abfälle"},null,"OxF_Verbrennung: Feste Brennstoffe, ausgenommen Abfälle",null,null,null,null,null,null,false,null,null,null,null,null,null,null,null,null,null,null,1,1,"","",2]
[4,"Verbrennung von Brennstoffen","Verbrennung","Abfall",null,"Standardmethodik: Brennstoff, Artikel 24 Absatz 1",1,{"$f":"Translations!$B$529","v":"Standardwert OF = 1 "},{"$f":"Translations!$B$528","v":"Standardwerte Typ II"},null,null,{"$f":"Translations!$B$527","v":"Laboranalysen"},null,null,null,{"$f":"G628","v":1},{"$f":"C628 & \": \" &D628","v":"Verbrennung: Abfall"},null,{"$f":"EUconst_CNTR_OxidationFactor&Q628","v":"OxF_Verbrennung: Abfall"},null,null,null,null,null,null,{"$f":"IF(G628=EUconst_NA,TRUE,FALSE)","v":false},null,null,null,null,null,null,null,null,null,null,null,1,1,"","",2]
[5,"Verbrennung von Brennstoffen","Verbrennung","Gasaufbereitungsstationen",null,"Massenbilanzmethodik, Artikel 25",{"$f":"EUconst_NA","v":"n.r."},null,null,null,null,null,null,null,null,{"$f":"G629","v":"n.r."},"Verbrennung: Gasaufbereitungsstationen",null,"OxF_Verbrennung: Gasaufbereitungsstationen",null,null,null,null,null,null,true,null,null,null,null,null,null,null,null,null,null,null,"","","","",""]
[6,"Verbrennung von Brennstoffen","Verbrennung","Fackeln",null,"Standardmethodik: Brennstoff, Artikel 24 Absatz 1",1,{"$f":"Translations!$B$529","v":"Standardwert OF = 1 "},{"$f":"Translations!$B$528","v":"Standardwerte Typ II"},null,null,null,null,null,null,1,"Verbrennung: Fackeln",null,"OxF_Verbrennung: Fackeln",null,null,null,null,null,null,false,null,null,null,null,null,null,null,null,null,null,null,1,1,"",""]
[7,"Verbrennung von Brennstoffen","Verbrennung","Abgaswäsche (Karbonat)",null,"Standardmethodik: Prozess, Artikel 24 Absatz 2",{"$f":"EUconst_NA","v":"n.r."},null,null,null,null,null,null,null,null,"n.r.","Verbrennung: Abgaswäsche (Karbonat)",null,"OxF_Verbrennung: Abgaswäsche (Karbonat)",null,null,null,null,null,null,true,null,null,null,null,null,null,null,null,null,null,null,"","","","",""]
[8,"Verbrennung von Brennstoffen","Verbrennung","Abgaswäsche (Gips)",null,"Standardmethodik: Prozess, Artikel 24 Absatz 2","n.r.",null,null,null,null,null,null,null,null,"n.r.","Verbrennung: Abgaswäsche (Gips)",null,"OxF_Verbrennung: Abgaswäsche (Gips)",null,null,null,null,null,null,true,null,null,null,null,null,null,null,null,null,null,null,"","","","",""]
[9,"Verbrennung von Brennstoffen","Verbrennung","Abgaswäsche (Harnstoff)",null,"Standardmethodik: Prozess, Artikel 24 Absatz 2","n.r.",null,null,null,null,null,null,null,null,"n.r.","Verbrennung: Abgaswäsche (Harnstoff)",null,"OxF_Verbrennung: Abgaswäsche (Harnstoff)",null,null,null,null,null,null,true,null,null,null,null,null,null,null,null,null,null,null,"","","","",""]
[10,"Raffination von Mineralöl ","Raffinerien","Massenbilanz",null,"Massenbilanzmethodik, Artikel 25","n.r.",null,null,null,null,null,null,null,null,"n.r.","Raffinerien: Massenbilanz",null,"OxF_Raffinerien: Massenbilanz",null,null,null,null,null,null,true,null,null,null,null,null,null,null,null,null,null,null,"","","","",""]
[11,"Raffination von Mineralöl ","Raffinerien","Regeneration von katalytischen Crackern",null,"Massenbilanzmethodik, Artikel 25","n.r.",null,null,null,null,null,null,null,null,"n.r.","Raffinerien: Regeneration von katalytischen Crackern",null,"OxF_Raffinerien: Regeneration von katalytischen Crackern",null,null,null,null,null,null,true,null,null,null,null,null,null,null,null,null,null,null,"","","","",""]
[12,"Raffination von Mineralöl ","Raffinerien","Wasserstofferzeugung",null,"Massenbilanzmethodik, Artikel 25","n.r.",null,null,null,null,null,null,null,null,"n.r.","Raffinerien: Wasserstofferzeugung",null,"OxF_Raffinerien: Wasserstofferzeugung",null,null,null,null,null,null,true,null,null,null,null,null,null,null,null,null,null,null,"","","","",""]
[13,"Herstellung von Koks","Koks","Brennstoff als Prozess-Input",null,"Standardmethodik: Brennstoff, Artikel 24 Absatz 1","n.r.",null,null,null,null,null,null,null,null,"n.r.","Koks: Brennstoff als Prozess-Input",null,"OxF_Koks: Brennstoff als Prozess-Input",null,null,null,null,null,null,true,null,null,null,null,null,null,null,null,null,null,null,"","","","",""]
[14,"Herstellung von Koks","Koks","Prozess (Methode A): nur Karbonat",null,"Standardmethodik: Prozess, Artikel 24 Absatz 2","n.r.",null,null,null,null,null,null,null,null,"n.r.","Koks: Prozess (Methode A): nur Karbonat",null,"OxF_Koks: Prozess (Methode A): nur Karbonat",null,null,null,null,null,null,true,null,null,null,null,null,null,null,null,null,null,null,"","","","",""]
[15,"Herstellung von Koks","Koks","Prozess (Methode A): Gemisch (Karbonat + Nicht-Karbonat)",null,"Standardmethodik: Prozess, Artikel 24 Absatz 2","n.r.",null,null,null,null,null,null,null,null,"n.r.","Koks: Prozess (Methode A): Gemisch (Karbonat + Nicht-Karbonat)",null,"OxF_Koks: Prozess (Methode A): Gemisch (Karbonat + Nicht-Karbonat)",null,null,null,null,null,null,true,null,null,null,null,null,null,null,null,null,null,null,"","","","",""]
[16,"Herstellung von Koks","Koks","Prozess (Methode A): Nicht-Karbonat",null,"Standardmethodik: Prozess, Artikel 24 Absatz 2","n.r.",null,null,null,null,null,null,null,null,"n.r.","Koks: Prozess (Methode A): Nicht-Karbonat",null,"OxF_Koks: Prozess (Methode A): Nicht-Karbonat",null,null,null,null,null,null,true,null,null,null,null,null,null,null,null,null,null,null,"","","","",""]
[17,"Herstellung von Koks","Koks","Prozess (Methode B): Oxid-Output",null,"Standardmethodik: Prozess, Artikel 24 Absatz 2","n.r.",null,null,null,null,null,null,null,null,"n.r.","Koks: Prozess (Methode B): Oxid-Output",null,"OxF_Koks: Prozess (Methode B): Oxid-Output",null,null,null,null,null,null,true,null,null,null,null,null,null,null,null,null,null,null,"","","","",""]
[18,"Herstellung von Koks","Koks","Massenbilanz",null,"Massenbilanzmethodik, Artikel 25","n.r.",null,null,null,null,null,null,null,null,"n.r.","Koks: Massenbilanz",null,"OxF_Koks: Massenbilanz",null,null,null,null,null,null,true,null,null,null,null,null,null,null,null,null,null,null,"","","","",""]
[19,"Röstung oder Sinterung von Metallerz","Metallerz","Prozess (Methode A): nur Karbonat",null,"Standardmethodik: Prozess, Artikel 24 Absatz 2","n.r.",null,null,null,null,null,null,null,null,"n.r.","Metallerz: Prozess (Methode A): nur Karbonat",null,"OxF_Metallerz: Prozess (Methode A): nur Karbonat",null,null,null,null,null,null,true,null,null,null,null,null,null,null,null,null,null,null,"","","","",""]
[20,"Röstung oder Sinterung von Metallerz","Metallerz","Prozess (Methode A): Gemisch (Karbonat + Nicht-Karbonat)",null,"Standardmethodik: Prozess, Artikel 24 Absatz 2","n.r.",null,null,null,null,null,null,null,null,"n.r.","Metallerz: Prozess (Methode A): Gemisch (Karbonat + Nicht-Karbonat)",null,"OxF_Metallerz: Prozess (Methode A): Gemisch (Karbonat + Nicht-Karbonat)",null,null,null,null,null,null,true,null,null,null,null,null,null,null,null,null,null,null,"","","","",""]
[21,{"$f":"B573","v":"Röstung oder Sinterung von Metallerz"},"Metallerz","Prozess (Methode A): Nicht-Karbonat",null,"Standardmethodik: Prozess, Artikel 24 Absatz 2","n.r.",null,null,null,null,null,null,null,null,"n.r.","Metallerz: Prozess (Methode A): Nicht-Karbonat",null,"OxF_Metallerz: Prozess (Methode A): Nicht-Karbonat",null,null,null,null,null,null,true,null,null,null,null,null,null,null,null,null,null,null,"","","","",""]
[22,"Röstung oder Sinterung von Metallerz","Metallerz","Prozess (Methode B): Oxid-Output",null,"Standardmethodik: Prozess, Artikel 24 Absatz 2","n.r.",null,null,null,null,null,null,null,null,"n.r.","Metallerz: Prozess (Methode B): Oxid-Output",null,"OxF_Metallerz: Prozess (Methode B): Oxid-Output",null,null,null,null,null,null,true,null,null,null,null,null,null,null,null,null,null,null,"","","","",""]
[23,"Röstung oder Sinterung von Metallerz","Metallerz","Massenbilanz",null,"Massenbilanzmethodik, Artikel 25","n.r.",null,null,null,null,null,null,null,null,"n.r.","Metallerz: Massenbilanz",null,"OxF_Metallerz: Massenbilanz",null,null,null,null,null,null,true,null,null,null,null,null,null,null,null,null,null,null,"","","","",""]
[24,"Herstellung von Eisen oder Stahl","Eisen und Stahl","Brennstoff als Prozess-Input",null,"Standardmethodik: Brennstoff, Artikel 24 Absatz 1","n.r.",null,null,null,null,null,null,null,null,"n.r.","Eisen und Stahl: Brennstoff als Prozess-Input",null,"OxF_Eisen und Stahl: Brennstoff als Prozess-Input",null,null,null,null,null,null,true,null,null,null,null,null,null,null,null,null,null,null,"","","","",""]
[25,"Herstellung von Eisen oder Stahl","Eisen und Stahl","Prozess (Methode A): nur Karbonat",null,"Standardmethodik: Prozess, Artikel 24 Absatz 2","n.r.",null,null,null,null,null,null,null,null,"n.r.","Eisen und Stahl: Prozess (Methode A): nur Karbonat",null,"OxF_Eisen und Stahl: Prozess (Methode A): nur Karbonat",null,null,null,null,null,null,true,null,null,null,null,null,null,null,null,null,null,null,"","","","",""]
[26,"Herstellung von Eisen oder Stahl","Eisen und Stahl","Prozess (Methode A): Gemisch (Karbonat + Nicht-Karbonat)",null,"Standardmethodik: Prozess, Artikel 24 Absatz 2","n.r.",null,null,null,null,null,null,null,null,"n.r.","Eisen und Stahl: Prozess (Methode A): Gemisch (Karbonat + Nicht-Karbonat)",null,"OxF_Eisen und Stahl: Prozess (Methode A): Gemisch (Karbonat + Nicht-Karbonat)",null,null,null,null,null,null,true,null,null,null,null,null,null,null,null,null,null,null,"","","","",""]
[27,"Herstellung von Eisen oder Stahl","Eisen und Stahl","Prozess (Methode A): Nicht-Karbonat",null,"Standardmethodik: Prozess, Artikel 24 Absatz 2","n.r.",null,null,null,null,null,null,null,null,"n.r.","Eisen und Stahl: Prozess (Methode A): Nicht-Karbonat",null,"OxF_Eisen und Stahl: Prozess (Methode A): Nicht-Karbonat",null,null,null,null,null,null,true,null,null,null,null,null,null,null,null,null,null,null,"","","","",""]
[28,"Herstellung von Eisen oder Stahl","Eisen und Stahl","Prozess (Methode B): Oxid-Output",null,"Standardmethodik: Prozess, Artikel 24 Absatz 2","n.r.",null,null,null,null,null,null,null,null,"n.r.","Eisen und Stahl: Prozess (Methode B): Oxid-Output",null,"OxF_Eisen und Stahl: Prozess (Methode B): Oxid-Output",null,null,null,null,null,null,true,null,null,null,null,null,null,null,null,null,null,null,"","","","",""]
[29,"Herstellung von Eisen oder Stahl","Eisen und Stahl","Massenbilanz",null,"Massenbilanzmethodik, Artikel 25","n.r.",null,null,null,null,null,null,null,null,"n.r.","Eisen und Stahl: Massenbilanz",null,"OxF_Eisen und Stahl: Massenbilanz",null,null,null,null,null,null,true,null,null,null,null,null,null,null,null,null,null,null,"","","","",""]
[30,"Herstellung von Zementklinker","Zementklinker","Ofen-Input-Betrachtung (Methode A)",null,"Standardmethodik: Prozess, Artikel 24 Absatz 2","n.r.",null,null,null,null,null,null,null,null,"n.r.","Zementklinker: Ofen-Input-Betrachtung (Methode A)",null,"OxF_Zementklinker: Ofen-Input-Betrachtung (Methode A)",null,null,null,null,null,null,true,null,null,null,null,null,null,null,null,null,null,null,"","","","",""]
[31,"Herstellung von Zementklinker","Zementklinker","Klinker-Output (Methode B)",null,"Standardmethodik: Prozess, Artikel 24 Absatz 2","n.r.",null,null,null,null,null,null,null,null,"n.r.","Zementklinker: Klinker-Output (Methode B)",null,"OxF_Zementklinker: Klinker-Output (Methode B)",null,null,null,null,null,null,true,null,null,null,null,null,null,null,null,null,null,null,"","","","",""]
[32,"Herstellung von Zementklinker","Zementklinker","Zementofenstaub (CKD)",null,"Standardmethodik: Prozess, Artikel 24 Absatz 2","n.r.",null,null,null,null,null,null,null,null,"n.r.","Zementklinker: Zementofenstaub (CKD)",null,"OxF_Zementklinker: Zementofenstaub (CKD)",null,null,null,null,null,null,true,null,null,null,null,null,null,null,null,null,null,null,"","","","",""]
[33,"Herstellung von Zementklinker","Zementklinker","Nicht-karbonatischer Kohlenstoff",null,{"$f":"F585","v":"Standardmethodik: Prozess, Artikel 24 Absatz 2"},"n.r.",null,null,null,null,null,null,null,null,"n.r.","Zementklinker: Nicht-karbonatischer Kohlenstoff",null,"OxF_Zementklinker: Nicht-karbonatischer Kohlenstoff",null,null,null,null,null,null,true,null,null,null,null,null,null,null,null,null,null,null,"","","","",""]
[34,"Herstellung von Kalk oder Brennen von Dolomit/Magnesit","Kalk / Dolomit / Magnesit","Prozess (Methode A): nur Karbonat",null,"Standardmethodik: Prozess, Artikel 24 Absatz 2","n.r.",null,null,null,null,null,null,null,null,"n.r.","Kalk / Dolomit / Magnesit: Prozess (Methode A): nur Karbonat",null,{"$f":"EUconst_CNTR_OxidationFactor&Q658","v":"OxF_Kalk / Dolomit / Magnesit: Prozess (Methode A): nur Karbonat"},null,null,null,null,null,null,true,null,null,null,null,null,null,null,null,null,null,null,"","","","",""]
[35,"Herstellung von Kalk oder Brennen von Dolomit/Magnesit","Kalk / Dolomit / Magnesit","Prozess (Methode A): Gemisch (Karbonat + Nicht-Karbonat)",null,"Standardmethodik: Prozess, Artikel 24 Absatz 2","n.r.",null,null,null,null,null,null,null,null,"n.r.","Kalk / Dolomit / Magnesit: Prozess (Methode A): Gemisch (Karbonat + Nicht-Karbonat)",null,"OxF_Kalk / Dolomit / Magnesit: Prozess (Methode A): Gemisch (Karbonat + Nicht-Karbonat)",null,null,null,null,null,null,true,null,null,null,null,null,null,null,null,null,null,null,"","","","",""]
[36,"Herstellung von Kalk oder Brennen von Dolomit/Magnesit","Kalk / Dolomit / Magnesit","Prozess (Methode A): Nicht-Karbonat",null,"Standardmethodik: Prozess, Artikel 24 Absatz 2","n.r.",null,null,null,null,null,null,null,null,"n.r.","Kalk / Dolomit / Magnesit: Prozess (Methode A): Nicht-Karbonat",null,"OxF_Kalk / Dolomit / Magnesit: Prozess (Methode A): Nicht-Karbonat",null,null,null,null,null,null,true,null,null,null,null,null,null,null,null,null,null,null,"","","","",""]
[37,"Herstellung von Kalk oder Brennen von Dolomit/Magnesit","Kalk / Dolomit / Magnesit","Prozess (Methode B): Oxid-Output",null,"Standardmethodik: Prozess, Artikel 24 Absatz 2","n.r.",null,null,null,null,null,null,null,null,"n.r.","Kalk / Dolomit / Magnesit: Prozess (Methode B): Oxid-Output",null,"OxF_Kalk / Dolomit / Magnesit: Prozess (Methode B): Oxid-Output",null,null,null,null,null,null,true,null,null,null,null,null,null,null,null,null,null,null,"","","","",""]
[38,"Herstellung von Kalk oder Brennen von Dolomit/Magnesit","Kalk / Dolomit / Magnesit","Ofenstaub (Methode B)",null,"Standardmethodik: Prozess, Artikel 24 Absatz 2","n.r.",null,null,null,null,null,null,null,null,"n.r.","Kalk / Dolomit / Magnesit: Ofenstaub (Methode B)",null,"OxF_Kalk / Dolomit / Magnesit: Ofenstaub (Methode B)",null,null,null,null,null,null,true,null,null,null,null,null,null,null,null,null,null,null,"","","","",""]
[39,"Herstellung von Glas","Glas und Mineralwolle","Prozess (Methode A): nur Karbonat",null,"Standardmethodik: Prozess, Artikel 24 Absatz 2",{"$f":"EUconst_NA","v":"n.r."},null,null,null,null,null,null,null,null,"n.r.","Glas und Mineralwolle: Prozess (Methode A): nur Karbonat",null,"OxF_Glas und Mineralwolle: Prozess (Methode A): nur Karbonat",null,null,null,null,null,null,true,null,null,null,null,null,null,null,null,null,null,null,"","","","",""]
[40,"Herstellung von Glas","Glas und Mineralwolle","Prozess (Methode A): Gemisch (Karbonat + Nicht-Karbonat)",null,"Standardmethodik: Prozess, Artikel 24 Absatz 2","n.r.",null,null,null,null,null,null,null,null,"n.r.","Glas und Mineralwolle: Prozess (Methode A): Gemisch (Karbonat + Nicht-Karbonat)",null,"OxF_Glas und Mineralwolle: Prozess (Methode A): Gemisch (Karbonat + Nicht-Karbonat)",null,null,null,null,null,null,true,null,null,null,null,null,null,null,null,null,null,null,"","","","",""]
[41,{"$f":"B593","v":"Herstellung von Glas"},"Glas und Mineralwolle","Prozess (Methode A): Nicht-Karbonat",null,"Standardmethodik: Prozess, Artikel 24 Absatz 2","n.r.",null,null,null,null,null,null,null,null,"n.r.","Glas und Mineralwolle: Prozess (Methode A): Nicht-Karbonat",null,"OxF_Glas und Mineralwolle: Prozess (Methode A): Nicht-Karbonat",null,null,null,null,null,null,true,null,null,null,null,null,null,null,null,null,null,null,"","","","",""]
[42,"Herstellung von keramischen Erzeugnissen","Keramische Erzeugnisse","Prozess (Methode A): nur Karbonat",null,"Standardmethodik: Prozess, Artikel 24 Absatz 2","n.r.",null,null,null,null,null,null,null,null,"n.r.","Keramische Erzeugnisse: Prozess (Methode A): nur Karbonat",null,"OxF_Keramische Erzeugnisse: Prozess (Methode A): nur Karbonat",null,null,null,null,null,null,true,null,null,null,null,null,null,null,null,null,null,null,"","","","",""]
[43,"Herstellung von keramischen Erzeugnissen","Keramische Erzeugnisse","Prozess (Methode A): Gemisch (Karbonat + Nicht-Karbonat)",null,"Standardmethodik: Prozess, Artikel 24 Absatz 2","n.r.",null,null,null,null,null,null,null,null,"n.r.","Keramische Erzeugnisse: Prozess (Methode A): Gemisch (Karbonat + Nicht-Karbonat)",null,"OxF_Keramische Erzeugnisse: Prozess (Methode A): Gemisch (Karbonat + Nicht-Karbonat)",null,null,null,null,null,null,true,null,null,null,null,null,null,null,null,null,null,null,"","","","",""]
[44,"Herstellung von keramischen Erzeugnissen","Keramische Erzeugnisse","Prozess (Methode A): Nicht-Karbonat",null,"Standardmethodik: Prozess, Artikel 24 Absatz 2","n.r.",null,null,null,null,null,null,null,null,"n.r.","Keramische Erzeugnisse: Prozess (Methode A): Nicht-Karbonat",null,"OxF_Keramische Erzeugnisse: Prozess (Methode A): Nicht-Karbonat",null,null,null,null,null,null,true,null,null,null,null,null,null,null,null,null,null,null,"","","","",""]
[45,"Herstellung von keramischen Erzeugnissen","Keramische Erzeugnisse","Prozess (Methode B): Oxid-Output",null,"Standardmethodik: Prozess, Artikel 24 Absatz 2","n.r.",null,null,null,null,null,null,null,null,"n.r.","Keramische Erzeugnisse: Prozess (Methode B): Oxid-Output",null,"OxF_Keramische Erzeugnisse: Prozess (Methode B): Oxid-Output",null,null,null,null,null,null,true,null,null,null,null,null,null,null,null,null,null,null,"","","","",""]
[46,"Herstellung von keramischen Erzeugnissen","Keramische Erzeugnisse","Abgaswäsche",null,"Standardmethodik: Prozess, Artikel 24 Absatz 2","n.r.",null,null,null,null,null,null,null,null,"n.r.","Keramische Erzeugnisse: Abgaswäsche",null,"OxF_Keramische Erzeugnisse: Abgaswäsche",null,null,null,null,null,null,true,null,null,null,null,null,null,null,null,null,null,null,"","","","",""]
[47,"Herstellung von Zellstoff","Papier und Zellstoff","Ergänzungschemikalien",null,"Standardmethodik: Prozess, Artikel 24 Absatz 2","n.r.",null,null,null,null,null,null,null,null,"n.r.","Papier und Zellstoff: Ergänzungschemikalien",null,"OxF_Papier und Zellstoff: Ergänzungschemikalien",null,null,null,null,null,null,true,null,null,null,null,null,null,null,null,null,null,null,"","","","",""]
[48,"Herstellung von Industrieruß","Industrieruß","Massenbilanzmethodik",null,"Massenbilanzmethodik, Artikel 25","n.r.",null,null,null,null,null,null,null,null,"n.r.","Industrieruß: Massenbilanzmethodik",null,"OxF_Industrieruß: Massenbilanzmethodik",null,null,null,null,null,null,true,null,null,null,null,null,null,null,null,null,null,null,"","","","",""]
[49,"Herstellung von Ammoniak","Ammoniak","Brennstoff als Prozess-Input",null,"Standardmethodik: Brennstoff, Artikel 24 Absatz 1","n.r.",null,null,null,null,null,null,null,null,"n.r.","Ammoniak: Brennstoff als Prozess-Input",null,"OxF_Ammoniak: Brennstoff als Prozess-Input",null,null,null,null,null,null,true,null,null,null,null,null,null,null,null,null,null,null,"","","","",""]
[50,"Herstellung von Wasserstoff und Synthesegas","Wasserstoff und Synthesegas","Brennstoff als Prozess-Input",null,"Standardmethodik: Brennstoff, Artikel 24 Absatz 1","n.r.",null,null,null,null,null,null,null,null,"n.r.","Wasserstoff und Synthesegas: Brennstoff als Prozess-Input",null,"OxF_Wasserstoff und Synthesegas: Brennstoff als Prozess-Input",null,null,null,null,null,null,true,null,null,null,null,null,null,null,null,null,null,null,"","","","",""]
[51,"Herstellung von Wasserstoff und Synthesegas","Wasserstoff und Synthesegas","Massenbilanzmethodik",null,"Massenbilanzmethodik, Artikel 25","n.r.",null,null,null,null,null,null,null,null,"n.r.","Wasserstoff und Synthesegas: Massenbilanzmethodik",null,"OxF_Wasserstoff und Synthesegas: Massenbilanzmethodik",null,null,null,null,null,null,true,null,null,null,null,null,null,null,null,null,null,null,"","","","",""]
[52,"Herstellung von organischen Grundchemikalien","Organische Grundchemikalien","Massenbilanzmethodik",null,"Massenbilanzmethodik, Artikel 25","n.r.",null,null,null,null,null,null,null,null,"n.r.","Organische Grundchemikalien: Massenbilanzmethodik",null,"OxF_Organische Grundchemikalien: Massenbilanzmethodik",null,null,null,null,null,null,true,null,null,null,null,null,null,null,null,null,null,null,"","","","",""]
[53,"Herstellung oder Verarbeitung von Eisenmetallen","(Nicht)-Eisen, Sek.-Aluminium","Prozess (Methode A): nur Karbonat",null,"Standardmethodik: Prozess, Artikel 24 Absatz 2","n.r.",null,null,null,null,null,null,null,null,"n.r.","(Nicht)-Eisen, Sek.-Aluminium: Prozess (Methode A): nur Karbonat",null,"OxF_(Nicht)-Eisen, Sek.-Aluminium: Prozess (Methode A): nur Karbonat",null,null,null,null,null,null,true,null,null,null,null,null,null,null,null,null,null,null,"","","","",""]
[54,"Herstellung oder Verarbeitung von Eisenmetallen","(Nicht)-Eisen, Sek.-Aluminium","Prozess (Methode A): Gemisch (Karbonat + Nicht-Karbonat)",null,"Standardmethodik: Prozess, Artikel 24 Absatz 2","n.r.",null,null,null,null,null,null,null,null,"n.r.","(Nicht)-Eisen, Sek.-Aluminium: Prozess (Methode A): Gemisch (Karbonat + Nicht-Karbonat)",null,"OxF_(Nicht)-Eisen, Sek.-Aluminium: Prozess (Methode A): Gemisch (Karbonat + Nicht-Karbonat)",null,null,null,null,null,null,true,null,null,null,null,null,null,null,null,null,null,null,"","","","",""]
[55,"Herstellung oder Verarbeitung von Eisenmetallen","(Nicht)-Eisen, Sek.-Aluminium","Prozess (Methode A): Nicht-Karbonat",null,"Standardmethodik: Prozess, Artikel 24 Absatz 2","n.r.",null,null,null,null,null,null,null,null,"n.r.","(Nicht)-Eisen, Sek.-Aluminium: Prozess (Methode A): Nicht-Karbonat",null,"OxF_(Nicht)-Eisen, Sek.-Aluminium: Prozess (Methode A): Nicht-Karbonat",null,null,null,null,null,null,true,null,null,null,null,null,null,null,null,null,null,null,"","","","",""]
[56,"Herstellung oder Verarbeitung von Eisenmetallen","(Nicht)-Eisen, Sek.-Aluminium","Prozess (Methode B): Oxid-Output",null,"Standardmethodik: Prozess, Artikel 24 Absatz 2","n.r.",null,null,null,null,null,null,null,null,"n.r.","(Nicht)-Eisen, Sek.-Aluminium: Prozess (Methode B): Oxid-Output",null,"OxF_(Nicht)-Eisen, Sek.-Aluminium: Prozess (Methode B): Oxid-Output",null,null,null,null,null,null,true,null,null,null,null,null,null,null,null,null,null,null,"","","","",""]
[57,"Herstellung oder Verarbeitung von Eisenmetallen","(Nicht)-Eisen, Sek.-Aluminium","Massenbilanzmethodik",null,"Massenbilanzmethodik, Artikel 25","n.r.",null,null,null,null,null,null,null,null,"n.r.","(Nicht)-Eisen, Sek.-Aluminium: Massenbilanzmethodik",null,"OxF_(Nicht)-Eisen, Sek.-Aluminium: Massenbilanzmethodik",null,null,null,null,null,null,true,null,null,null,null,null,null,null,null,null,null,null,"","","","",""]
[58,"Herstellung von Soda und Natriumbicarbonat","Soda / Natriumbicarbonat","Massenbilanzmethodik",null,"Massenbilanzmethodik, Artikel 25","n.r.",null,null,null,null,null,null,null,null,"n.r.","Soda / Natriumbicarbonat: Massenbilanzmethodik",null,"OxF_Soda / Natriumbicarbonat: Massenbilanzmethodik",null,null,null,null,null,null,true,null,null,null,null,null,null,null,null,null,null,null,"","","","",""]
[59,"Herstellung von Primäraluminium","Primäraluminium","Massenbilanzmethodik",null,"Massenbilanzmethodik, Artikel 25","n.r.",null,null,null,null,null,null,null,null,"n.r.","Primäraluminium: Massenbilanzmethodik",null,"OxF_Primäraluminium: Massenbilanzmethodik",null,null,null,null,null,null,true,null,null,null,null,null,null,null,null,null,null,null,"","","","",""]
[60,"Herstellung von Primäraluminium","Primäraluminium","PFC-Emissionen (Steigungsmethode)",null,"Berechnung mit Sonderbestimmungen für PFC (Anhang IV Abschnitt 8)","n.r.",null,null,null,null,null,null,null,null,"n.r.","Primäraluminium: PFC-Emissionen (Steigungsmethode)",null,"OxF_Primäraluminium: PFC-Emissionen (Steigungsmethode)",null,null,null,null,null,null,true,null,null,null,null,null,null,null,null,null,null,null,"","","","",""]
[61,{"$f":"B613","v":"Herstellung von Primäraluminium"},"Primäraluminium","PFC-Emissionen (Überspannungsmethode)",null,"Berechnung mit Sonderbestimmungen für PFC (Anhang IV Abschnitt 8)","n.r.",null,null,null,null,null,null,null,null,"n.r.","Primäraluminium: PFC-Emissionen (Überspannungsmethode)",null,"OxF_Primäraluminium: PFC-Emissionen (Überspannungsmethode)",null,null,null,null,null,null,true,null,null,null,null,null,null,null,null,null,null,null,"","","","",""]
[62,"Abscheidung von Treibhausgasen gemäß der Richtlinie 2009/31/EG","CCS: Abscheidung","Weitergeleitetes CO2",null,{"$f":"F614","v":"Massenbilanzmethodik, Artikel 25"},"n.r.",null,null,null,null,null,null,null,null,{"$f":"G686","v":"n.r."},{"$f":"C686 & \": \" &D686","v":"CCS: Abscheidung: Weitergeleitetes CO2"},null,{"$f":"EUconst_CNTR_OxidationFactor&Q686","v":"OxF_CCS: Abscheidung: Weitergeleitetes CO2"},null,null,null,null,null,null,{"$f":"IF(G686=EUconst_NA,TRUE,FALSE)","v":true}]
[63,"Transport von Treibhausgasen gemäß der Richtlinie 2009/31/EG","CCS: Transport","Weitergeleitetes CO2",null,"Massenbilanzmethodik, Artikel 25","n.r.",null,null,null,null,null,null,null,null,"n.r.","CCS: Transport: Weitergeleitetes CO2",null,"OxF_CCS: Transport: Weitergeleitetes CO2",null,null,null,null,null,null,true]
[64,"Transport von Treibhausgasen gemäß der Richtlinie 2009/31/EG","CCS: Transport","CO2-Leckagen",null,"Standardmethodik: Prozess, Artikel 24 Absatz 2","n.r.",null,null,null,null,null,null,null,null,"n.r.","CCS: Transport: CO2-Leckagen",null,"OxF_CCS: Transport: CO2-Leckagen",null,null,null,null,null,null,true]
[65,"Transport von Treibhausgasen gemäß der Richtlinie 2009/31/EG","CCS: Transport","CO2-Ablass",null,"Standardmethodik: Prozess, Artikel 24 Absatz 2","n.r.",null,null,null,null,null,null,null,null,"n.r.","CCS: Transport: CO2-Ablass",null,"OxF_CCS: Transport: CO2-Ablass",null,null,null,null,null,null,true]
[66,"Transport von Treibhausgasen gemäß der Richtlinie 2009/31/EG","CCS: Transport","Diffuse CO2 Emissionen",null,"Standardmethodik: Prozess, Artikel 24 Absatz 2","n.r.",null,null,null,null,null,null,null,null,"n.r.","CCS: Transport: Diffuse CO2 Emissionen",null,"OxF_CCS: Transport: Diffuse CO2 Emissionen",null,null,null,null,null,null,true]
[67,"Lagerung von Treibhausgasen gemäß der Richtlinie 2009/31/EG","CCS: Speicherung","Weitergeleitetes CO2",null,"Massenbilanzmethodik, Artikel 25","n.r.",null,null,null,null,null,null,null,null,"n.r.","CCS: Speicherung: Weitergeleitetes CO2",null,"OxF_CCS: Speicherung: Weitergeleitetes CO2",null,null,null,null,null,null,true]
[68,"Lagerung von Treibhausgasen gemäß der Richtlinie 2009/31/EG","CCS: Speicherung","CO2-Ablass",null,"Standardmethodik: Prozess, Artikel 24 Absatz 2","n.r.",null,null,null,null,null,null,null,null,"n.r.","CCS: Speicherung: CO2-Ablass",null,"OxF_CCS: Speicherung: CO2-Ablass",null,null,null,null,null,null,true]
[69,"Lagerung von Treibhausgasen gemäß der Richtlinie 2009/31/EG","CCS: Speicherung","CO2-Leckagen",null,"Standardmethodik: Prozess, Artikel 24 Absatz 2","n.r.",null,null,null,null,null,null,null,null,"n.r.","CCS: Speicherung: CO2-Leckagen",null,"OxF_CCS: Speicherung: CO2-Leckagen",null,null,null,null,null,null,true]
[70,"Lagerung von Treibhausgasen gemäß der Richtlinie 2009/31/EG","CCS: Speicherung","Diffuse CO2 Emissionen",null,"Standardmethodik: Prozess, Artikel 24 Absatz 2","n.r.",null,null,null,null,null,null,null,null,"n.r.","CCS: Speicherung: Diffuse CO2 Emissionen",null,"OxF_CCS: Speicherung: Diffuse CO2 Emissionen",null,null,null,null,null,null,true]
[null,null,null,null,null,null,null,null,null,null,null,null,null,null,null,null,null,null,null,null,null,null,null,null,null,{"$f":"IF(G695=EUconst_NA,TRUE,FALSE)","v":false}]
["NEW",{"$f":"Translations!$B$523","v":"Umsetzungsfaktor"},{"$f":"Translations!$B$957","v":"Kurzbezeichnung"},{"$f":"Translations!$B$958","v":"Teilmaßnahme"},{"$f":"Translations!$B$389","v":"Parameter"},{"$f":"Translations!$B$959","v":"Quellentyp"},{"$f":"Translations!$B$960","v":"Minimum"},1,2,"2a",{"$f":"Translations!$B$928","v":"2b"},3,"3a","3b",4,{"$f":"Translations!$B$961","v":"Maximum"},null,null,null,null,null,null,null,null,null,{"$f":"Translations!$B$962","v":"Schattieren?"},null,null,null,null,null,null,null,null,null,null,"1=default value, 2=lab",1,2,"2a",{"$f":"Translations!$B$928","v":"2b"},3]
[1,{"$f":"B625","v":"Verbrennung von Brennstoffen"},"Verbrennung","Kommerzielle Standardbrennstoffe",null,{"$f":"F625","v":"Standardmethodik: Brennstoff, Artikel 24 Absatz 1"},{"$f":"EUconst_NA","v":"n.r."},null,null,null,null,null,null,null,null,{"$f":"G697","v":"n.r."},{"$f":"C697 & \": \" &D697","v":"Verbrennung: Kommerzielle Standardbrennstoffe"},null,{"$f":"EUconst_CNTR_ConversionFactor&Q697","v":"ConvF_Verbrennung: Kommerzielle Standardbrennstoffe"},null,null,null,null,null,null,{"$f":"IF(G697=EUconst_NA,TRUE,FALSE)","v":true},null,null,null,null,null,null,null,null,null,null,null,"","","","",""]
[2,"Verbrennung von Brennstoffen","Verbrennung","Andere gasförmige und flüssige Brennstoffe",null,"Standardmethodik: Brennstoff, Artikel 24 Absatz 1","n.r.",null,null,null,null,null,null,null,null,"n.r.",{"$f":"C698 & \": \" &D698","v":"Verbrennung: Andere gasförmige und flüssige Brennstoffe"},null,"ConvF_Verbrennung: Andere gasförmige und flüssige Brennstoffe",null,null,null,null,null,null,true,null,null,null,null,null,null,null,null,null,null,null,"","","","",""]
[3,"Verbrennung von Brennstoffen","Verbrennung","Feste Brennstoffe, ausgenommen Abfälle",null,"Standardmethodik: Brennstoff, Artikel 24 Absatz 1","n.r.",null,null,null,null,null,null,null,null,"n.r.","Verbrennung: Feste Brennstoffe, ausgenommen Abfälle",null,"ConvF_Verbrennung: Feste Brennstoffe, ausgenommen Abfälle",null,null,null,null,null,null,true,null,null,null,null,null,null,null,null,null,null,null,"","","","",""]
[4,"Verbrennung von Brennstoffen","Verbrennung","Abfall",null,"Standardmethodik: Brennstoff, Artikel 24 Absatz 1","n.r.",null,null,null,null,null,null,null,null,{"$f":"G700","v":"n.r."},{"$f":"C700 & \": \" &D700","v":"Verbrennung: Abfall"},null,{"$f":"EUconst_CNTR_ConversionFactor&Q700","v":"ConvF_Verbrennung: Abfall"},null,null,null,null,null,null,{"$f":"IF(G700=EUconst_NA,TRUE,FALSE)","v":true},null,null,null,null,null,null,null,null,null,null,null,"","","","",""]
[5,"Verbrennung von Brennstoffen","Verbrennung","Gasaufbereitungsstationen",null,"Massenbilanzmethodik, Artikel 25","n.r.",null,null,null,null,null,null,null,null,"n.r.","Verbrennung: Gasaufbereitungsstationen",null,"ConvF_Verbrennung: Gasaufbereitungsstationen",null,null,null,null,null,null,true,null,null,null,null,null,null,null,null,null,null,null,"","","","",""]
[6,"Verbrennung von Brennstoffen","Verbrennung","Fackeln",null,"Standardmethodik: Brennstoff, Artikel 24 Absatz 1","n.r.",null,null,null,null,null,null,null,null,"n.r.","Verbrennung: Fackeln",null,"ConvF_Verbrennung: Fackeln",null,null,null,null,null,null,true,null,null,null,null,null,null,null,null,null,null,null,"","","","",""]
[7,"Verbrennung von Brennstoffen","Verbrennung","Abgaswäsche (Karbonat)",null,"Standardmethodik: Prozess, Artikel 24 Absatz 2","n.r.",null,null,null,null,null,null,null,null,"n.r.","Verbrennung: Abgaswäsche (Karbonat)",null,"ConvF_Verbrennung: Abgaswäsche (Karbonat)",null,null,null,null,null,null,true,null,null,null,null,null,null,null,null,null,null,null,"","","","",""]
[8,"Verbrennung von Brennstoffen","Verbrennung","Abgaswäsche (Gips)",null,"Standardmethodik: Prozess, Artikel 24 Absatz 2","n.r.",null,null,null,null,null,null,null,null,"n.r.","Verbrennung: Abgaswäsche (Gips)",null,"ConvF_Verbrennung: Abgaswäsche (Gips)",null,null,null,null,null,null,true,null,null,null,null,null,null,null,null,null,null,null,"","","","",""]
[9,"Verbrennung von Brennstoffen","Verbrennung","Abgaswäsche (Harnstoff)",null,"Standardmethodik: Prozess, Artikel 24 Absatz 2","n.r.",null,null,null,null,null,null,null,null,"n.r.","Verbrennung: Abgaswäsche (Harnstoff)",null,"ConvF_Verbrennung: Abgaswäsche (Harnstoff)",null,null,null,null,null,null,true,null,null,null,null,null,null,null,null,null,null,null,"","","","",""]
[10,"Raffination von Mineralöl ","Raffinerien","Massenbilanz",null,"Massenbilanzmethodik, Artikel 25","n.r.",null,null,null,null,null,null,null,null,{"$f":"G706","v":"n.r."},"Raffinerien: Massenbilanz",null,"ConvF_Raffinerien: Massenbilanz",null,null,null,null,null,null,true,null,null,null,null,null,null,null,null,null,null,null,"","","","",""]
[11,"Raffination von Mineralöl ","Raffinerien","Regeneration von katalytischen Crackern",null,"Massenbilanzmethodik, Artikel 25","n.r.",null,null,null,null,null,null,null,null,{"$f":"G707","v":"n.r."},"Raffinerien: Regeneration von katalytischen Crackern",null,"ConvF_Raffinerien: Regeneration von katalytischen Crackern",null,null,null,null,null,null,true,null,null,null,null,null,null,null,null,null,null,null,"","","","",""]
[12,"Raffination von Mineralöl ","Raffinerien","Wasserstofferzeugung",null,"Massenbilanzmethodik, Artikel 25","n.r.",null,null,null,null,null,null,null,null,{"$f":"G708","v":"n.r."},"Raffinerien: Wasserstofferzeugung",null,"ConvF_Raffinerien: Wasserstofferzeugung",null,null,null,null,null,null,true,null,null,null,null,null,null,null,null,null,null,null,"","","","",""]
[13,"Herstellung von Koks","Koks","Brennstoff als Prozess-Input",null,"Standardmethodik: Brennstoff, Artikel 24 Absatz 1","n.r.",null,null,null,null,null,null,null,null,{"$f":"G709","v":"n.r."},"Koks: Brennstoff als Prozess-Input",null,"ConvF_Koks: Brennstoff als Prozess-Input",null,null,null,null,null,null,true,null,null,null,null,null,null,null,null,null,null,null,"","","","",""]
[14,"Herstellung von Koks","Koks","Prozess (Methode A): nur Karbonat",null,"Standardmethodik: Prozess, Artikel 24 Absatz 2",1,{"$f":"Translations!$B$1127","v":"Standardwert UF = 1"},{"$f":"Translations!$B$527","v":"Laboranalysen"},null,null,null,null,null,null,{"$f":"G710","v":1},"Koks: Prozess (Methode A): nur Karbonat",null,"ConvF_Koks: Prozess (Methode A): nur Karbonat",null,null,null,null,null,null,false,null,null,null,null,null,null,null,null,null,null,null,1,2,"","",""]
[15,"Herstellung von Koks","Koks","Prozess (Methode A): Gemisch (Karbonat + Nicht-Karbonat)",null,"Standardmethodik: Prozess, Artikel 24 Absatz 2",1,{"$f":"Translations!$B$1127","v":"Standardwert UF = 1"},{"$f":"Translations!$B$527","v":"Laboranalysen"},null,null,null,null,null,null,1,"Koks: Prozess (Methode A): Gemisch (Karbonat + Nicht-Karbonat)",null,"ConvF_Koks: Prozess (Methode A): Gemisch (Karbonat + Nicht-Karbonat)",null,null,null,null,null,null,false,null,null,null,null,null,null,null,null,null,null,null,1,2,"","",""]
[16,"Herstellung von Koks","Koks","Prozess (Methode A): Nicht-Karbonat",null,"Standardmethodik: Prozess, Artikel 24 Absatz 2",1,{"$f":"Translations!$B$1127","v":"Standardwert UF = 1"},{"$f":"Translations!$B$527","v":"Laboranalysen"},null,null,null,null,null,null,1,"Koks: Prozess (Methode A): Nicht-Karbonat",null,"ConvF_Koks: Prozess (Methode A): Nicht-Karbonat",null,null,null,null,null,null,false,null,null,null,null,null,null,null,null,null,null,null,1,2,"","",""]
[17,"Herstellung von Koks","Koks","Prozess (Methode B): Oxid-Output",null,"Standardmethodik: Prozess, Artikel 24 Absatz 2",1,{"$f":"Translations!$B$1127","v":"Standardwert UF = 1"},{"$f":"Translations!$B$527","v":"Laboranalysen"},null,null,null,null,null,null,1,"Koks: Prozess (Methode B): Oxid-Output",null,"ConvF_Koks: Prozess (Methode B): Oxid-Output",null,null,null,null,null,null,false,null,null,null,null,null,null,null,null,null,null,null,1,2,"","",""]
[18,"Herstellung von Koks","Koks","Massenbilanz",null,"Massenbilanzmethodik, Artikel 25",{"$f":"EUconst_NA","v":"n.r."},null,null,null,null,null,null,null,null,"n.r.","Koks: Massenbilanz",null,"ConvF_Koks: Massenbilanz",null,null,null,null,null,null,true,null,null,null,null,null,null,null,null,null,null,null,"","","","",""]
[19,"Röstung oder Sinterung von Metallerz","Metallerz","Prozess (Methode A): nur Karbonat",null,"Standardmethodik: Prozess, Artikel 24 Absatz 2",1,{"$f":"Translations!$B$1127","v":"Standardwert UF = 1"},{"$f":"Translations!$B$527","v":"Laboranalysen"},null,null,null,null,null,null,1,"Metallerz: Prozess (Methode A): nur Karbonat",null,"ConvF_Metallerz: Prozess (Methode A): nur Karbonat",null,null,null,null,null,null,false,null,null,null,null,null,null,null,null,null,null,null,1,2,"","",""]
[20,"Röstung oder Sinterung von Metallerz","Metallerz","Prozess (Methode A): Gemisch (Karbonat + Nicht-Karbonat)",null,"Standardmethodik: Prozess, Artikel 24 Absatz 2",1,{"$f":"Translations!$B$1127","v":"Standardwert UF = 1"},{"$f":"Translations!$B$527","v":"Laboranalysen"},null,null,null,null,null,null,1,"Metallerz: Prozess (Methode A): Gemisch (Karbonat + Nicht-Karbonat)",null,"ConvF_Metallerz: Prozess (Methode A): Gemisch (Karbonat + Nicht-Karbonat)",null,null,null,null,null,null,false,null,null,null,null,null,null,null,null,null,null,null,1,2,"","",""]
[21,{"$f":"B645","v":"Röstung oder Sinterung von Metallerz"},"Metallerz","Prozess (Methode A): Nicht-Karbonat",null,"Standardmethodik: Prozess, Artikel 24 Absatz 2",1,{"$f":"Translations!$B$1127","v":"Standardwert UF = 1"},{"$f":"Translations!$B$527","v":"Laboranalysen"},null,null,null,null,null,null,1,"Metallerz: Prozess (Methode A): Nicht-Karbonat",null,"ConvF_Metallerz: Prozess (Methode A): Nicht-Karbonat",null,null,null,null,null,null,false,null,null,null,null,null,null,null,null,null,null,null,1,2,"","",""]
[22,"Röstung oder Sinterung von Metallerz","Metallerz","Prozess (Methode B): Oxid-Output",null,"Standardmethodik: Prozess, Artikel 24 Absatz 2",1,{"$f":"Translations!$B$1127","v":"Standardwert UF = 1"},{"$f":"Translations!$B$527","v":"Laboranalysen"},null,null,null,null,null,null,1,"Metallerz: Prozess (Methode B): Oxid-Output",null,"ConvF_Metallerz: Prozess (Methode B): Oxid-Output",null,null,null,null,null,null,false,null,null,null,null,null,null,null,null,null,null,null,1,2,"","",""]
[23,"Röstung oder Sinterung von Metallerz","Metallerz","Massenbilanz",null,"Massenbilanzmethodik, Artikel 25",{"$f":"EUconst_NA","v":"n.r."},null,null,null,null,null,null,null,null,"n.r.","Metallerz: Massenbilanz",null,"ConvF_Metallerz: Massenbilanz",null,null,null,null,null,null,true,null,null,null,null,null,null,null,null,null,null,null,"","","","",""]
[24,"Herstellung von Eisen oder Stahl","Eisen und Stahl","Brennstoff als Prozess-Input",null,"Standardmethodik: Brennstoff, Artikel 24 Absatz 1",{"$f":"EUconst_NA","v":"n.r."},null,null,null,null,null,null,null,null,"n.r.","Eisen und Stahl: Brennstoff als Prozess-Input",null,"ConvF_Eisen und Stahl: Brennstoff als Prozess-Input",null,null,null,null,null,null,true,null,null,null,null,null,null,null,null,null,null,null,"","","","",""]
[25,"Herstellung von Eisen oder Stahl","Eisen und Stahl","Prozess (Methode A): nur Karbonat",null,"Standardmethodik: Prozess, Artikel 24 Absatz 2",1,{"$f":"Translations!$B$1127","v":"Standardwert UF = 1"},{"$f":"Translations!$B$527","v":"Laboranalysen"},null,null,null,null,null,null,1,"Eisen und Stahl: Prozess (Methode A): nur Karbonat",null,"ConvF_Eisen und Stahl: Prozess (Methode A): nur Karbonat",null,null,null,null,null,null,false,null,null,null,null,null,null,null,null,null,null,null,1,2,"","",""]
[26,"Herstellung von Eisen oder Stahl","Eisen und Stahl","Prozess (Methode A): Gemisch (Karbonat + Nicht-Karbonat)",null,"Standardmethodik: Prozess, Artikel 24 Absatz 2",1,{"$f":"Translations!$B$1127","v":"Standardwert UF = 1"},{"$f":"Translations!$B$527","v":"Laboranalysen"},null,null,null,null,null,null,1,"Eisen und Stahl: Prozess (Methode A): Gemisch (Karbonat + Nicht-Karbonat)",null,"ConvF_Eisen und Stahl: Prozess (Methode A): Gemisch (Karbonat + Nicht-Karbonat)",null,null,null,null,null,null,false,null,null,null,null,null,null,null,null,null,null,null,1,2,"","",""]
[27,"Herstellung von Eisen oder Stahl","Eisen und Stahl","Prozess (Methode A): Nicht-Karbonat",null,"Standardmethodik: Prozess, Artikel 24 Absatz 2",1,{"$f":"Translations!$B$1127","v":"Standardwert UF = 1"},{"$f":"Translations!$B$527","v":"Laboranalysen"},null,null,null,null,null,null,1,"Eisen und Stahl: Prozess (Methode A): Nicht-Karbonat",null,"ConvF_Eisen und Stahl: Prozess (Methode A): Nicht-Karbonat",null,null,null,null,null,null,false,null,null,null,null,null,null,null,null,null,null,null,1,2,"","",""]
[28,"Herstellung von Eisen oder Stahl","Eisen und Stahl","Prozess (Methode B): Oxid-Output",null,"Standardmethodik: Prozess, Artikel 24 Absatz 2",1,{"$f":"Translations!$B$1127","v":"Standardwert UF = 1"},{"$f":"Translations!$B$527","v":"Laboranalysen"},null,null,null,null,null,null,1,"Eisen und Stahl: Prozess (Methode B): Oxid-Output",null,"ConvF_Eisen und Stahl: Prozess (Methode B): Oxid-Output",null,null,null,null,null,null,false,null,null,null,null,null,null,null,null,null,null,null,1,2,"","",""]
[29,"Herstellung von Eisen oder Stahl","Eisen und Stahl","Massenbilanz",null,"Massenbilanzmethodik, Artikel 25",{"$f":"EUconst_NA","v":"n.r."},null,null,null,null,null,null,null,null,"n.r.","Eisen und Stahl: Massenbilanz",null,"ConvF_Eisen und Stahl: Massenbilanz",null,null,null,null,null,null,true,null,null,null,null,null,null,null,null,null,null,null,"","","","",""]
[30,"Herstellung von Zementklinker","Zementklinker","Ofen-Input-Betrachtung (Methode A)",null,"Standardmethodik: Prozess, Artikel 24 Absatz 2",1,{"$f":"Translations!$B$1127","v":"Standardwert UF = 1"},{"$f":"Translations!$B$527","v":"Laboranalysen"},null,null,null,null,null,null,1,"Zementklinker: Ofen-Input-Betrachtung (Methode A)",null,"ConvF_Zementklinker: Ofen-Input-Betrachtung (Methode A)",null,null,null,null,null,null,false,null,null,null,null,null,null,null,null,null,null,null,1,2,"","",""]
[31,"Herstellung von Zementklinker","Zementklinker","Klinker-Output (Methode B)",null,"Standardmethodik: Prozess, Artikel 24 Absatz 2",1,{"$f":"Translations!$B$1127","v":"Standardwert UF = 1"},{"$f":"Translations!$B$527","v":"Laboranalysen"},null,null,null,null,null,null,1,"Zementklinker: Klinker-Output (Methode B)",null,"ConvF_Zementklinker: Klinker-Output (Methode B)",null,null,null,null,null,null,false,null,null,null,null,null,null,null,null,null,null,null,1,2,"","",""]
[32,"Herstellung von Zementklinker","Zementklinker","Zementofenstaub (CKD)",null,"Standardmethodik: Prozess, Artikel 24 Absatz 2",{"$f":"EUconst_NA","v":"n.r."},null,null,null,null,null,null,null,null,"n.r.","Zementklinker: Zementofenstaub (CKD)",null,"ConvF_Zementklinker: Zementofenstaub (CKD)",null,null,null,null,null,null,true,null,null,null,null,null,null,null,null,null,null,null,"","","","",""]
[33,"Herstellung von Zementklinker","Zementklinker","Nicht-karbonatischer Kohlenstoff",null,{"$f":"F657","v":"Standardmethodik: Prozess, Artikel 24 Absatz 2"},1,{"$f":"Translations!$B$1127","v":"Standardwert UF = 1"},{"$f":"Translations!$B$1085","v":"Best-Practice"},null,null,null,null,null,null,1,"Zementklinker: Nicht-karbonatischer Kohlenstoff",null,"ConvF_Zementklinker: Nicht-karbonatischer Kohlenstoff",null,null,null,null,null,null,false,null,null,null,null,null,null,null,null,null,null,null,1,2,"","",""]
[34,"Herstellung von Kalk oder Brennen von Dolomit/Magnesit","Kalk / Dolomit / Magnesit","Prozess (Methode A): nur Karbonat",null,"Standardmethodik: Prozess, Artikel 24 Absatz 2",1,{"$f":"Translations!$B$1127","v":"Standardwert UF = 1"},{"$f":"Translations!$B$527","v":"Laboranalysen"},null,null,null,null,null,null,1,"Kalk / Dolomit / Magnesit: Prozess (Methode A): nur Karbonat",null,{"$f":"EUconst_CNTR_ConversionFactor&Q730","v":"ConvF_Kalk / Dolomit / Magnesit: Prozess (Methode A): nur Karbonat"},null,null,null,null,null,null,false,null,null,null,null,null,null,null,null,null,null,null,1,2,"","",""]
[35,"Herstellung von Kalk oder Brennen von Dolomit/Magnesit","Kalk / Dolomit / Magnesit","Prozess (Methode A): Gemisch (Karbonat + Nicht-Karbonat)",null,"Standardmethodik: Prozess, Artikel 24 Absatz 2",1,{"$f":"Translations!$B$1127","v":"Standardwert UF = 1"},{"$f":"Translations!$B$527","v":"Laboranalysen"},null,null,null,null,null,null,1,"Kalk / Dolomit / Magnesit: Prozess (Methode A): Gemisch (Karbonat + Nicht-Karbonat)",null,"ConvF_Kalk / Dolomit / Magnesit: Prozess (Methode A): Gemisch (Karbonat + Nicht-Karbonat)",null,null,null,null,null,null,false,null,null,null,null,null,null,null,null,null,null,null,1,2,"","",""]
[36,"Herstellung von Kalk oder Brennen von Dolomit/Magnesit","Kalk / Dolomit / Magnesit","Prozess (Methode A): Nicht-Karbonat",null,"Standardmethodik: Prozess, Artikel 24 Absatz 2",1,{"$f":"Translations!$B$1127","v":"Standardwert UF = 1"},{"$f":"Translations!$B$1085","v":"Best-Practice"},null,null,null,null,null,null,1,"Kalk / Dolomit / Magnesit: Prozess (Methode A): Nicht-Karbonat",null,"ConvF_Kalk / Dolomit / Magnesit: Prozess (Methode A): Nicht-Karbonat",null,null,null,null,null,null,false,null,null,null,null,null,null,null,null,null,null,null,1,2,"","",""]
[37,"Herstellung von Kalk oder Brennen von Dolomit/Magnesit","Kalk / Dolomit / Magnesit","Prozess (Methode B): Oxid-Output",null,"Standardmethodik: Prozess, Artikel 24 Absatz 2",1,{"$f":"Translations!$B$1127","v":"Standardwert UF = 1"},{"$f":"Translations!$B$527","v":"Laboranalysen"},null,null,null,null,null,null,1,"Kalk / Dolomit / Magnesit: Prozess (Methode B): Oxid-Output",null,"ConvF_Kalk / Dolomit / Magnesit: Prozess (Methode B): Oxid-Output",null,null,null,null,null,null,false,null,null,null,null,null,null,null,null,null,null,null,1,2,"","",""]
[38,"Herstellung von Kalk oder Brennen von Dolomit/Magnesit","Kalk / Dolomit / Magnesit","Ofenstaub (Methode B)",null,"Standardmethodik: Prozess, Artikel 24 Absatz 2",1,{"$f":"Translations!$B$1127","v":"Standardwert UF = 1"},{"$f":"Translations!$B$527","v":"Laboranalysen"},null,null,null,null,null,null,1,"Kalk / Dolomit / Magnesit: Ofenstaub (Methode B)",null,"ConvF_Kalk / Dolomit / Magnesit: Ofenstaub (Methode B)",null,null,null,null,null,null,false,null,null,null,null,null,null,null,null,null,null,null,1,2,"","",""]
[39,"Herstellung von Glas","Glas und Mineralwolle","Prozess (Methode A): nur Karbonat",null,"Standardmethodik: Prozess, Artikel 24 Absatz 2",{"$f":"EUconst_NA","v":"n.r."},null,null,null,null,null,null,null,null,"n.r.","Glas und Mineralwolle: Prozess (Methode A): nur Karbonat",null,"ConvF_Glas und Mineralwolle: Prozess (Methode A): nur Karbonat",null,null,null,null,null,null,true,null,null,null,null,null,null,null,null,null,null,null,"","","","",""]
[40,"Herstellung von Glas","Glas und Mineralwolle","Prozess (Methode A): Gemisch (Karbonat + Nicht-Karbonat)",null,"Standardmethodik: Prozess, Artikel 24 Absatz 2",{"$f":"EUconst_NA","v":"n.r."},null,null,null,null,null,null,null,null,"n.r.","Glas und Mineralwolle: Prozess (Methode A): Gemisch (Karbonat + Nicht-Karbonat)",null,"ConvF_Glas und Mineralwolle: Prozess (Methode A): Gemisch (Karbonat + Nicht-Karbonat)",null,null,null,null,null,null,true,null,null,null,null,null,null,null,null,null,null,null,"","","","",""]
[41,{"$f":"B665","v":"Herstellung von Glas"},"Glas und Mineralwolle","Prozess (Methode A): Nicht-Karbonat",null,"Standardmethodik: Prozess, Artikel 24 Absatz 2",{"$f":"EUconst_NA","v":"n.r."},null,null,null,null,null,null,null,null,"n.r.","Glas und Mineralwolle: Prozess (Methode A): Nicht-Karbonat",null,"ConvF_Glas und Mineralwolle: Prozess (Methode A): Nicht-Karbonat",null,null,null,null,null,null,true,null,null,null,null,null,null,null,null,null,null,null,"","","","",""]
[42,"Herstellung von keramischen Erzeugnissen","Keramische Erzeugnisse","Prozess (Methode A): nur Karbonat",null,"Standardmethodik: Prozess, Artikel 24 Absatz 2",1,{"$f":"Translations!$B$1127","v":"Standardwert UF = 1"},{"$f":"Translations!$B$527","v":"Laboranalysen"},null,null,null,null,null,null,1,"Keramische Erzeugnisse: Prozess (Methode A): nur Karbonat",null,"ConvF_Keramische Erzeugnisse: Prozess (Methode A): nur Karbonat",null,null,null,null,null,null,false,null,null,null,null,null,null,null,null,null,null,null,1,2,"","",""]
[43,"Herstellung von keramischen Erzeugnissen","Keramische Erzeugnisse","Prozess (Methode A): Gemisch (Karbonat + Nicht-Karbonat)",null,"Standardmethodik: Prozess, Artikel 24 Absatz 2",1,{"$f":"Translations!$B$1127","v":"Standardwert UF = 1"},{"$f":"Translations!$B$527","v":"Laboranalysen"},null,null,null,null,null,null,1,"Keramische Erzeugnisse: Prozess (Methode A): Gemisch (Karbonat + Nicht-Karbonat)",null,"ConvF_Keramische Erzeugnisse: Prozess (Methode A): Gemisch (Karbonat + Nicht-Karbonat)",null,null,null,null,null,null,false,null,null,null,null,null,null,null,null,null,null,null,1,2,"","",""]
[44,"Herstellung von keramischen Erzeugnissen","Keramische Erzeugnisse","Prozess (Methode A): Nicht-Karbonat",null,"Standardmethodik: Prozess, Artikel 24 Absatz 2",1,{"$f":"Translations!$B$1127","v":"Standardwert UF = 1"},{"$f":"Translations!$B$527","v":"Laboranalysen"},null,null,null,null,null,null,1,"Keramische Erzeugnisse: Prozess (Methode A): Nicht-Karbonat",null,"ConvF_Keramische Erzeugnisse: Prozess (Methode A): Nicht-Karbonat",null,null,null,null,null,null,false,null,null,null,null,null,null,null,null,null,null,null,1,2,"","",""]
[45,"Herstellung von keramischen Erzeugnissen","Keramische Erzeugnisse","Prozess (Methode B): Oxid-Output",null,"Standardmethodik: Prozess, Artikel 24 Absatz 2",1,{"$f":"Translations!$B$1127","v":"Standardwert UF = 1"},{"$f":"Translations!$B$527","v":"Laboranalysen"},null,null,null,null,null,null,1,"Keramische Erzeugnisse: Prozess (Methode B): Oxid-Output",null,"ConvF_Keramische Erzeugnisse: Prozess (Methode B): Oxid-Output",null,null,null,null,null,null,false,null,null,null,null,null,null,null,null,null,null,null,1,2,"","",""]
[46,"Herstellung von keramischen Erzeugnissen","Keramische Erzeugnisse","Abgaswäsche",null,"Standardmethodik: Prozess, Artikel 24 Absatz 2",{"$f":"EUconst_NA","v":"n.r."},null,null,null,null,null,null,null,null,"n.r.","Keramische Erzeugnisse: Abgaswäsche",null,"ConvF_Keramische Erzeugnisse: Abgaswäsche",null,null,null,null,null,null,true,null,null,null,null,null,null,null,null,null,null,null,"","","","",""]
[47,"Herstellung von Zellstoff","Papier und Zellstoff","Ergänzungschemikalien",null,"Standardmethodik: Prozess, Artikel 24 Absatz 2","n.r.",null,null,null,null,null,null,null,null,"n.r.","Papier und Zellstoff: Ergänzungschemikalien",null,"ConvF_Papier und Zellstoff: Ergänzungschemikalien",null,null,null,null,null,null,true,null,null,null,null,null,null,null,null,null,null,null,"","","","",""]
[48,"Herstellung von Industrieruß","Industrieruß","Massenbilanzmethodik",null,"Massenbilanzmethodik, Artikel 25","n.r.",null,null,null,null,null,null,null,null,"n.r.","Industrieruß: Massenbilanzmethodik",null,"ConvF_Industrieruß: Massenbilanzmethodik",null,null,null,null,null,null,true,null,null,null,null,null,null,null,null,null,null,null,"","","","",""]
[49,"Herstellung von Ammoniak","Ammoniak","Brennstoff als Prozess-Input",null,"Standardmethodik: Brennstoff, Artikel 24 Absatz 1","n.r.",null,null,null,null,null,null,null,null,"n.r.","Ammoniak: Brennstoff als Prozess-Input",null,"ConvF_Ammoniak: Brennstoff als Prozess-Input",null,null,null,null,null,null,true,null,null,null,null,null,null,null,null,null,null,null,"","","","",""]
[50,"Herstellung von Wasserstoff und Synthesegas","Wasserstoff und Synthesegas","Brennstoff als Prozess-Input",null,"Standardmethodik: Brennstoff, Artikel 24 Absatz 1","n.r.",null,null,null,null,null,null,null,null,"n.r.","Wasserstoff und Synthesegas: Brennstoff als Prozess-Input",null,"ConvF_Wasserstoff und Synthesegas: Brennstoff als Prozess-Input",null,null,null,null,null,null,true,null,null,null,null,null,null,null,null,null,null,null,"","","","",""]
[51,"Herstellung von Wasserstoff und Synthesegas","Wasserstoff und Synthesegas","Massenbilanzmethodik",null,"Massenbilanzmethodik, Artikel 25","n.r.",null,null,null,null,null,null,null,null,"n.r.","Wasserstoff und Synthesegas: Massenbilanzmethodik",null,"ConvF_Wasserstoff und Synthesegas: Massenbilanzmethodik",null,null,null,null,null,null,true,null,null,null,null,null,null,null,null,null,null,null,"","","","",""]
[52,"Herstellung von organischen Grundchemikalien","Organische Grundchemikalien","Massenbilanzmethodik",null,"Massenbilanzmethodik, Artikel 25","n.r.",null,null,null,null,null,null,null,null,"n.r.","Organische Grundchemikalien: Massenbilanzmethodik",null,"ConvF_Organische Grundchemikalien: Massenbilanzmethodik",null,null,null,null,null,null,true,null,null,null,null,null,null,null,null,null,null,null,"","","","",""]
[53,"Herstellung oder Verarbeitung von Eisenmetallen","(Nicht)-Eisen, Sek.-Aluminium","Prozess (Methode A): nur Karbonat",null,"Standardmethodik: Prozess, Artikel 24 Absatz 2",1,{"$f":"Translations!$B$1127","v":"Standardwert UF = 1"},{"$f":"Translations!$B$527","v":"Laboranalysen"},null,null,null,null,null,null,1,"(Nicht)-Eisen, Sek.-Aluminium: Prozess (Methode A): nur Karbonat",null,"ConvF_(Nicht)-Eisen, Sek.-Aluminium: Prozess (Methode A): nur Karbonat",null,null,null,null,null,null,false,null,null,null,null,null,null,null,null,null,null,null,1,2,"","",""]
[54,"Herstellung oder Verarbeitung von Eisenmetallen","(Nicht)-Eisen, Sek.-Aluminium","Prozess (Methode A): Gemisch (Karbonat + Nicht-Karbonat)",null,"Standardmethodik: Prozess, Artikel 24 Absatz 2",1,{"$f":"Translations!$B$1127","v":"Standardwert UF = 1"},{"$f":"Translations!$B$527","v":"Laboranalysen"},null,null,null,null,null,null,1,"(Nicht)-Eisen, Sek.-Aluminium: Prozess (Methode A): Gemisch (Karbonat + Nicht-Karbonat)",null,"ConvF_(Nicht)-Eisen, Sek.-Aluminium: Prozess (Methode A): Gemisch (Karbonat + Nicht-Karbonat)",null,null,null,null,null,null,false,null,null,null,null,null,null,null,null,null,null,null,1,2,"","",""]
[55,"Herstellung oder Verarbeitung von Eisenmetallen","(Nicht)-Eisen, Sek.-Aluminium","Prozess (Methode A): Nicht-Karbonat",null,"Standardmethodik: Prozess, Artikel 24 Absatz 2",1,{"$f":"Translations!$B$1127","v":"Standardwert UF = 1"},{"$f":"Translations!$B$527","v":"Laboranalysen"},null,null,null,null,null,null,1,"(Nicht)-Eisen, Sek.-Aluminium: Prozess (Methode A): Nicht-Karbonat",null,"ConvF_(Nicht)-Eisen, Sek.-Aluminium: Prozess (Methode A): Nicht-Karbonat",null,null,null,null,null,null,false,null,null,null,null,null,null,null,null,null,null,null,1,2,"","",""]
[56,"Herstellung oder Verarbeitung von Eisenmetallen","(Nicht)-Eisen, Sek.-Aluminium","Prozess (Methode B): Oxid-Output",null,"Standardmethodik: Prozess, Artikel 24 Absatz 2",1,{"$f":"Translations!$B$1127","v":"Standardwert UF = 1"},{"$f":"Translations!$B$527","v":"Laboranalysen"},null,null,null,null,null,null,1,"(Nicht)-Eisen, Sek.-Aluminium: Prozess (Methode B): Oxid-Output",null,"ConvF_(Nicht)-Eisen, Sek.-Aluminium: Prozess (Methode B): Oxid-Output",null,null,null,null,null,null,false,null,null,null,null,null,null,null,null,null,null,null,1,2,"","",""]
[57,"Herstellung oder Verarbeitung von Eisenmetallen","(Nicht)-Eisen, Sek.-Aluminium","Massenbilanzmethodik",null,"Massenbilanzmethodik, Artikel 25",{"$f":"EUconst_NA","v":"n.r."},null,null,null,null,null,null,null,null,{"$f":"G753","v":"n.r."},"(Nicht)-Eisen, Sek.-Aluminium: Massenbilanzmethodik",null,"ConvF_(Nicht)-Eisen, Sek.-Aluminium: Massenbilanzmethodik",null,null,null,null,null,null,true,null,null,null,null,null,null,null,null,null,null,null,"","","","",""]
[58,"Herstellung von Soda und Natriumbicarbonat","Soda / Natriumbicarbonat","Massenbilanzmethodik",null,"Massenbilanzmethodik, Artikel 25","n.r.",null,null,null,null,null,null,null,null,{"$f":"G754","v":"n.r."},"Soda / Natriumbicarbonat: Massenbilanzmethodik",null,"ConvF_Soda / Natriumbicarbonat: Massenbilanzmethodik",null,null,null,null,null,null,true,null,null,null,null,null,null,null,null,null,null,null,"","","","",""]
[59,"Herstellung von Primäraluminium","Primäraluminium","Massenbilanzmethodik",null,"Massenbilanzmethodik, Artikel 25","n.r.",null,null,null,null,null,null,null,null,{"$f":"G755","v":"n.r."},"Primäraluminium: Massenbilanzmethodik",null,"ConvF_Primäraluminium: Massenbilanzmethodik",null,null,null,null,null,null,{"$f":"IF(G755=EUconst_NA,TRUE,FALSE)","v":true},null,null,null,null,null,null,null,null,null,null,null,"","","","",""]
[60,"Herstellung von Primäraluminium","Primäraluminium","PFC-Emissionen (Steigungsmethode)",null,"Berechnung mit Sonderbestimmungen für PFC (Anhang IV Abschnitt 8)","n.r.",null,null,null,null,null,null,null,null,{"$f":"G756","v":"n.r."},"Primäraluminium: PFC-Emissionen (Steigungsmethode)",null,"ConvF_Primäraluminium: PFC-Emissionen (Steigungsmethode)",null,null,null,null,null,null,true,null,null,null,null,null,null,null,null,null,null,null,"","","","",""]
[61,{"$f":"B685","v":"Herstellung von Primäraluminium"},"Primäraluminium","PFC-Emissionen (Überspannungsmethode)",null,"Berechnung mit Sonderbestimmungen für PFC (Anhang IV Abschnitt 8)","n.r.",null,null,null,null,null,null,null,null,{"$f":"G757","v":"n.r."},"Primäraluminium: PFC-Emissionen (Überspannungsmethode)",null,"ConvF_Primäraluminium: PFC-Emissionen (Überspannungsmethode)",null,null,null,null,null,null,true,null,null,null,null,null,null,null,null,null,null,null,"","","","",""]
[62,"Abscheidung von Treibhausgasen gemäß der Richtlinie 2009/31/EG","CCS: Abscheidung","Weitergeleitetes CO2",null,{"$f":"F686","v":"Massenbilanzmethodik, Artikel 25"},"n.r.",null,null,null,null,null,null,null,null,{"$f":"G758","v":"n.r."},{"$f":"C758 & \": \" &D758","v":"CCS: Abscheidung: Weitergeleitetes CO2"},null,{"$f":"EUconst_CNTR_ConversionFactor&Q758","v":"ConvF_CCS: Abscheidung: Weitergeleitetes CO2"},null,null,null,null,null,null,{"$f":"IF(G758=EUconst_NA,TRUE,FALSE)","v":true}]
[63,"Transport von Treibhausgasen gemäß der Richtlinie 2009/31/EG","CCS: Transport","Weitergeleitetes CO2",null,"Massenbilanzmethodik, Artikel 25","n.r.",null,null,null,null,null,null,null,null,"n.r.","CCS: Transport: Weitergeleitetes CO2",null,"ConvF_CCS: Transport: Weitergeleitetes CO2",null,null,null,null,null,null,true]
[64,"Transport von Treibhausgasen gemäß der Richtlinie 2009/31/EG","CCS: Transport","CO2-Leckagen",null,"Standardmethodik: Prozess, Artikel 24 Absatz 2","n.r.",null,null,null,null,null,null,null,null,"n.r.","CCS: Transport: CO2-Leckagen",null,"ConvF_CCS: Transport: CO2-Leckagen",null,null,null,null,null,null,true]
[65,"Transport von Treibhausgasen gemäß der Richtlinie 2009/31/EG","CCS: Transport","CO2-Ablass",null,"Standardmethodik: Prozess, Artikel 24 Absatz 2","n.r.",null,null,null,null,null,null,null,null,"n.r.","CCS: Transport: CO2-Ablass",null,"ConvF_CCS: Transport: CO2-Ablass",null,null,null,null,null,null,true]
[66,"Transport von Treibhausgasen gemäß der Richtlinie 2009/31/EG","CCS: Transport","Diffuse CO2 Emissionen",null,"Standardmethodik: Prozess, Artikel 24 Absatz 2","n.r.",null,null,null,null,null,null,null,null,"n.r.","CCS: Transport: Diffuse CO2 Emissionen",null,"ConvF_CCS: Transport: Diffuse CO2 Emissionen",null,null,null,null,null,null,true]
[67,"Lagerung von Treibhausgasen gemäß der Richtlinie 2009/31/EG","CCS: Speicherung","Weitergeleitetes CO2",null,"Massenbilanzmethodik, Artikel 25","n.r.",null,null,null,null,null,null,null,null,"n.r.","CCS: Speicherung: Weitergeleitetes CO2",null,"ConvF_CCS: Speicherung: Weitergeleitetes CO2",null,null,null,null,null,null,true]
[68,"Lagerung von Treibhausgasen gemäß der Richtlinie 2009/31/EG","CCS: Speicherung","CO2-Ablass",null,"Standardmethodik: Prozess, Artikel 24 Absatz 2","n.r.",null,null,null,null,null,null,null,null,"n.r.","CCS: Speicherung: CO2-Ablass",null,"ConvF_CCS: Speicherung: CO2-Ablass",null,null,null,null,null,null,true]
[69,"Lagerung von Treibhausgasen gemäß der Richtlinie 2009/31/EG","CCS: Speicherung","CO2-Leckagen",null,"Standardmethodik: Prozess, Artikel 24 Absatz 2","n.r.",null,null,null,null,null,null,null,null,"n.r.","CCS: Speicherung: CO2-Leckagen",null,"ConvF_CCS: Speicherung: CO2-Leckagen",null,null,null,null,null,null,true]
[70,"Lagerung von Treibhausgasen gemäß der Richtlinie 2009/31/EG","CCS: Speicherung","Diffuse CO2 Emissionen",null,"Standardmethodik: Prozess, Artikel 24 Absatz 2","n.r.",null,null,null,null,null,null,null,null,"n.r.","CCS: Speicherung: Diffuse CO2 Emissionen",null,"ConvF_CCS: Speicherung: Diffuse CO2 Emissionen",null,null,null,null,null,null,true]
[null,null,null,null,null,null,null,null,null,null,null,null,null,null,null,null,null,null,null,null,null,null,null,null,null,{"$f":"IF(G767=EUconst_NA,TRUE,FALSE)","v":false}]
["CCU ",null,{"$f":"Translations!$B$957","v":"Kurzbezeichnung"},{"$f":"Translations!$B$958","v":"Teilmaßnahme"},{"$f":"Translations!$B$389","v":"Parameter"},{"$f":"Translations!$B$959","v":"Quellentyp"},{"$f":"Translations!$B$960","v":"Minimum"},1,2,"2a",{"$f":"Translations!$B$928","v":"2b"},3,"3a","3b",4,{"$f":"Translations!$B$961","v":"Maximum"},null,null,null,null,null,null,null,null,null,{"$f":"Translations!$B$962","v":"Schattieren?"},null,null,null,null,null,null,null,null,null,null,"1=default value, 2=lab",1,2,"2a",{"$f":"Translations!$B$928","v":"2b"},3,"3a","3b"]
[null,null,"CCU","Process inputs & outputs",{"$f":"Translations!$B$974","v":"Jedes Input- und Outputmaterial [t]"},{"$f":"EUconst_MassBalance","v":"Massenbilanzmethodik, Artikel 25"},4,{"$f":"Translations!$B$966","v":"± 7,5 %"},{"$f":"Translations!$B$967","v":"± 5,0 %"},null,null,{"$f":"Translations!$B$968","v":"± 2,5 %"},null,null,{"$f":"Translations!$B$969","v":"± 1,5 %"},4,{"$f":"C769 & \": \" &D769","v":"CCU: Process inputs & outputs"},null,{"$f":"EUconst_CNTR_ActivityData&Q769","v":"ActivityData_CCU: Process inputs & outputs"},null,null,null,null,null,null,null,null,null,null,null,null,null,null,null,null,null,null,"","","","","","",""]
[null,null,{"$f":"C769","v":"CCU"},"Process inputs & outputs",null,"Massenbilanzmethodik, Artikel 25",{"$f":"EUconst_NA","v":"n.r."},null,null,null,null,null,null,null,null,{"$f":"G770","v":"n.r."},{"$f":"C770 & \": \" &D770","v":"CCU: Process inputs & outputs"},null,{"$f":"EUconst_CNTR_EF&Q770","v":"EF_CCU: Process inputs & outputs"},null,null,null,null,null,null,null,null,null,null,null,null,null,null,null,null,null,null,"","","","","","",""]
[null,null,"CCU","Process inputs & outputs",null,"Massenbilanzmethodik, Artikel 25",3,{"$f":"Translations!$B$493","v":"Standardwerte Typ I:"},null,{"$f":"Translations!$B$528","v":"Standardwerte Typ II"},{"$f":"Translations!$B$1109","v":"Gegebenfalls Rechnungsunterlagen"},{"$f":"Translations!$B$527","v":"Laboranalysen"},null,null,null,{"$f":"IF(G771=EUconst_NA,EUconst_NA,IF(ISBLANK(J771),COUNTA(H771:O771),COUNTA(H771,J771,L771)))","v":3},"CCU: Process inputs & outputs",null,{"$f":"EUconst_CNTR_NCV&Q771","v":"NCV_CCU: Process inputs & outputs"},null,null,null,null,null,null,null,null,null,null,null,null,null,null,null,null,null,null,1,1,1,2,2]
[null,null,"CCU","Process inputs & outputs",null,"Massenbilanzmethodik, Artikel 25",3,{"$f":"Translations!$B$493","v":"Standardwerte Typ I:"},null,{"$f":"Translations!$B$528","v":"Standardwerte Typ II"},{"$f":"Translations!$B$1061","v":"Ermittelte Proxywerte (soweit zutreffend)"},{"$f":"Translations!$B$527","v":"Laboranalysen"},null,null,null,{"$f":"IF(G772=EUconst_NA,EUconst_NA,IF(ISBLANK(J772),COUNTA(H772:O772),COUNTA(H772,J772,L772)))","v":3},"CCU: Process inputs & outputs",null,{"$f":"EUconst_CNTR_CarbonContent&Q772","v":"CarbC_CCU: Process inputs & outputs"},null,null,null,null,null,null,null,null,null,null,null,null,null,null,null,null,null,null,1,1,1,2,2]
[null,null,"CCU","Process inputs & outputs",null,"Massenbilanzmethodik, Artikel 25",3,{"$f":"Translations!$B$505","v":"Biomasse-anteil Typ I"},{"$f":"Translations!$B$510","v":"Biomasse-anteil Typ II"},null,null,null,{"$f":"Translations!$B$1266","v":"Analyse des Biomasseanteils"},"Mass balance, e.g. in accordance with Article 30(1) of RED II",null,3,"CCU: Process inputs & outputs",null,{"$f":"EUconst_CNTR_BiomassContent&Q773","v":"BioC_CCU: Process inputs & outputs"},null,null,null,null,null,null,null,null,null,null,null,null,null,null,null,null,null,null,1,"","","","",2,3]
[null,null,"CCU","Process inputs & outputs",null,"Massenbilanzmethodik, Artikel 25",{"$f":"EUconst_NA","v":"n.r."},null,null,null,null,null,null,null,null,{"$f":"G774","v":"n.r."},"CCU: Process inputs & outputs",null,{"$f":"EUconst_CNTR_OxidationFactor&Q774","v":"OxF_CCU: Process inputs & outputs"},null,null,null,null,null,null,null,null,null,null,null,null,null,null,null,null,null,null,"","","","","","",""]
[null,null,"CCU","Process inputs & outputs",null,"Massenbilanzmethodik, Artikel 25",{"$f":"EUconst_NA","v":"n.r."},null,null,null,null,null,null,null,null,{"$f":"G775","v":"n.r."},"CCU: Process inputs & outputs",null,{"$f":"EUconst_CNTR_ConversionFactor&Q775","v":"ConvF_CCU: Process inputs & outputs"},null,null,null,null,null,null,null,null,null,null,null,null,null,null,null,null,null,null,"","","","","","",""]
[null,null,null,null,null,null,null,null,null,null,null,null,null,null,null,null,null,null,null,null,null,null,null,null,null,null,null,null,null,null,null,null,null,null,null,null,null,"","","","","","",""]
[null,{"$f":"Translations!$B$1131","v":"Messung"},null,null,null,null,{"$f":"Translations!$B$960","v":"Minimum"},1,2,"2a",{"$f":"Translations!$B$928","v":"2b"},3,"3a","3b",4,{"$f":"Translations!$B$961","v":"Maximum"}]
[null,{"$f":"B51","v":"CO2"},null,null,null,null,2,{"$f":"Translations!$B$1132","v":"± 10,0 %"},{"$f":"Translations!$B$966","v":"± 7,5 %"},null,null,{"$f":"Translations!$B$967","v":"± 5,0 %"},null,null,{"$f":"Translations!$B$968","v":"± 2,5 %"},{"$f":"IF(G778=EUconst_NA,EUconst_NA,IF(ISBLANK(J778),COUNTA(H778:O778),COUNTA(H778,J778,L778)))","v":4}]
[null,{"$f":"C51","v":"N2O"},null,null,null,null,2,{"$f":"Translations!$B$1132","v":"± 10,0 %"},{"$f":"Translations!$B$966","v":"± 7,5 %"},null,null,{"$f":"Translations!$B$967","v":"± 5,0 %"},null,null,{"$f":"EUconst_NA","v":"n.r."},3]
[null,{"$f":"D51","v":"Weiterleitung von CO2 "},null,null,null,null,2,{"$f":"Translations!$B$1132","v":"± 10,0 %"},{"$f":"Translations!$B$966","v":"± 7,5 %"},null,null,{"$f":"Translations!$B$967","v":"± 5,0 %"},null,null,{"$f":"Translations!$B$968","v":"± 2,5 %"},{"$f":"IF(G780=EUconst_NA,EUconst_NA,IF(ISBLANK(J780),COUNTA(H780:O780),COUNTA(H780,J780,L780)))","v":4}]
[null,{"$f":"Translations!$B$1241","v":"Weiterleitung von N2O"},null,null,null,null,2,{"$f":"Translations!$B$1132","v":"± 10,0 %"},{"$f":"Translations!$B$966","v":"± 7,5 %"},null,null,{"$f":"Translations!$B$967","v":"± 5,0 %"},null,null,{"$f":"EUconst_NA","v":"n.r."},3]
[]
[]
[]
[]
[]
[]
[]
[]
[]
[]
[null,{"$f":"Translations!$B$1267","v":"Ebenenumwandlung"},null,{"$f":"Translations!$B$1133","v":"Ebenen"}]
[null,null,1,1]
[null,null,2,2]
[null,null,3,"2a"]
[null,null,4,{"$f":"Translations!$B$928","v":"2b"}]
[null,null,5,3]
[null,null,6,"3a"]
[null,null,7,"3b"]
[null,null,8,4]
[{"$f":"Translations!$B$1134","v":"Berechnung – anwendbare Ebenen"}]
[null,{"$f":"Translations!$B$1135","v":"Kleinemittent"},{"$f":"Translations!$B$1136","v":"Kategorie"},{"$f":"Translations!$B$1137","v":"Stoffstromkategorie"},null,{"$f":"Translations!$B$1138","v":"Meldung"}]
[null,{"$f":"EUconst_CNTR_SmallEmitter","v":"SmallEmitter_"},"A",1,{"$f":"B803 & C803 & \"_\" & D803","v":"SmallEmitter_A_1"},{"$f":"Translations!$B$1139","v":"Artikel 47 Absatz 6 Anlage mit geringen Emissionen (Kleinemittent): zur Bestimmung von Tätigkeitsdaten und Berechnungsfaktoren kann für alle Stoffströme als Minimum Ebene 1 angewandt werden, es sei denn, eine höhere Genauigkeit ist ohne zusätzlichen Aufwand für den Anlageninhaber erreichbar, ohne dass nachgewiesen werden muss, dass die Anwendung höherer Ebenen technisch nicht machbar ist oder zu unverhältnismäßigen Kosten führen wird."}]
[null,{"$f":"EUconst_CNTR_SmallEmitter","v":"SmallEmitter_"},"A",2,{"$f":"B804 & C804 & \"_\" & D804","v":"SmallEmitter_A_2"},{"$f":"Translations!$B$1139","v":"Artikel 47 Absatz 6 Anlage mit geringen Emissionen (Kleinemittent): zur Bestimmung von Tätigkeitsdaten und Berechnungsfaktoren kann für alle Stoffströme als Minimum Ebene 1 angewandt werden, es sei denn, eine höhere Genauigkeit ist ohne zusätzlichen Aufwand für den Anlageninhaber erreichbar, ohne dass nachgewiesen werden muss, dass die Anwendung höherer Ebenen technisch nicht machbar ist oder zu unverhältnismäßigen Kosten führen wird."}]
[null,{"$f":"EUconst_CNTR_SmallEmitter","v":"SmallEmitter_"},"A",3,"SmallEmitter_A_3",{"$f":"Translations!$B$1142","v":"Artikel 26 Absatz 3 De-minimis-Stoffstrom: Für die Bestimmung der Tätigkeitsdaten und der einzelnen Berechnungsfaktoren können konservative Schätzungen anstelle von Ebenen verwendet werden, es sei denn, eine festgelegte Ebene ist ohne zusätzlichen Aufwand erreichbar."}]
[null,{"$f":"EUconst_CNTR_NoSmallEmitter","v":"NoSmallEmitter_"},"A",1,"NoSmallEmitter_A_1",{"$f":"Translations!$B$1140","v":"Artikel 26 Absatz 1: Es sind mindestens die angezeigten Mindestebenen anzuwenden.  \nSie können jedoch eine Ebene um bis zu zwei Stufen unterhalb der jeweiligen Ebene anwenden (mit Ebene 1 als Minimum), wenn Sie der zuständigen Behörde zu deren Zufriedenheit nachweisen können, dass die gemäß Unterabsatz 1 anzuwendende Ebene technisch nicht machbar ist oder zu unverhältnismäßigen Kosten führen wird."}]
[null,"NoSmallEmitter_","A",2,"NoSmallEmitter_A_2",{"$f":"Translations!$B$1141","v":"Artikel 26 Absatz 2 emissionsschwacher Stoffstrom: Für die Bestimmung der Tätigkeitsdaten und die einzelnen Berechnungsfaktoren ist die höchste Ebene anzuwenden, die technisch machbar ist und nicht zu unverhältnismäßigen Kosten führen wird, mit Ebene 1 als Minimum."}]
[null,"NoSmallEmitter_","A",3,"NoSmallEmitter_A_3",{"$f":"Translations!$B$1142","v":"Artikel 26 Absatz 3 De-minimis-Stoffstrom: Für die Bestimmung der Tätigkeitsdaten und der einzelnen Berechnungsfaktoren können konservative Schätzungen anstelle von Ebenen verwendet werden, es sei denn, eine festgelegte Ebene ist ohne zusätzlichen Aufwand erreichbar."}]
[null,"NoSmallEmitter_","B",1,"NoSmallEmitter_B_1",{"$f":"Translations!$B$453","v":"Artikel 26 Absatz 1: Es sind mindestens die angezeigten Mindestebenen anwendbar. \nSie können jedoch eine Ebene um bis zu zwei Stufen unterhalb der jeweiligen Ebene anwenden (mit Ebene 1 als Minimum), wenn Sie der zuständigen Behörde zu deren Zufriedenheit nachweisen können, dass die gemäß Unterabsatz 1 vorgeschriebene Ebene technisch nicht machbar ist oder zu unverhältnismäßigen Kosten führen wird."}]
[null,"NoSmallEmitter_","B",2,"NoSmallEmitter_B_2",{"$f":"Translations!$B$1141","v":"Artikel 26 Absatz 2 emissionsschwacher Stoffstrom: Für die Bestimmung der Tätigkeitsdaten und die einzelnen Berechnungsfaktoren ist die höchste Ebene anzuwenden, die technisch machbar ist und nicht zu unverhältnismäßigen Kosten führen wird, mit Ebene 1 als Minimum."}]
[null,"NoSmallEmitter_","B",3,"NoSmallEmitter_B_3",{"$f":"Translations!$B$1142","v":"Artikel 26 Absatz 3 De-minimis-Stoffstrom: Für die Bestimmung der Tätigkeitsdaten und der einzelnen Berechnungsfaktoren können konservative Schätzungen anstelle von Ebenen verwendet werden, es sei denn, eine festgelegte Ebene ist ohne zusätzlichen Aufwand erreichbar."}]
[null,"NoSmallEmitter_","C",1,"NoSmallEmitter_C_1",{"$f":"Translations!$B$1143","v":"Artikel 26 Absatz 1: Es sind mindestens die angezeigten Mindestebenen anwendbar. \nSie können jedoch eine Ebene um eine Stufe unterhalb der jeweiligen Ebene anwenden (mit Ebene 1 als Minimum), wenn Sie der zuständigen Behörden zu deren Zufriedenheit nachweisen können, dass die gemäß Unterabsatz 1 vorgeschriebene Ebene technisch nicht machbar ist oder zu unverhältnismäßigen Kosten führen wird."}]
[null,"NoSmallEmitter_","C",2,"NoSmallEmitter_C_2",{"$f":"Translations!$B$1141","v":"Artikel 26 Absatz 2 emissionsschwacher Stoffstrom: Für die Bestimmung der Tätigkeitsdaten und die einzelnen Berechnungsfaktoren ist die höchste Ebene anzuwenden, die technisch machbar ist und nicht zu unverhältnismäßigen Kosten führen wird, mit Ebene 1 als Minimum."}]
[null,"NoSmallEmitter_","C",3,"NoSmallEmitter_C_3",{"$f":"Translations!$B$1142","v":"Artikel 26 Absatz 3 De-minimis-Stoffstrom: Für die Bestimmung der Tätigkeitsdaten und der einzelnen Berechnungsfaktoren können konservative Schätzungen anstelle von Ebenen verwendet werden, es sei denn, eine festgelegte Ebene ist ohne zusätzlichen Aufwand erreichbar."}]
[{"$f":"Translations!$B$1144","v":"Messung – anwendbare Ebenen"}]
[null,null,null,{"$f":"Translations!$B$1145","v":"Kategorie der Emissionsquelle"},null,{"$f":"Translations!$B$1138","v":"Meldung"}]
[null,{"$f":"EUconst_CNTR_SmallEmitter","v":"SmallEmitter_"},null,1,{"$f":"B817 & \"_\" & D817","v":"SmallEmitter__1"},{"$f":"Translations!$B$1268","v":"Anlage mit geringen Emissionen / große Emissionsquelle: Sie können Ebene 1 anwenden, es sei denn, eine höhere Genauigkeit ist ohne zusätzlichen Aufwand für den Anlagenbetreiber erreichbar."}]
[null,{"$f":"EUconst_CNTR_SmallEmitter","v":"SmallEmitter_"},null,2,{"$f":"B818 & \"_\" & D818","v":"SmallEmitter__2"},{"$f":"Translations!$B$1269","v":"Anlage mit geringen Emissionen / kleine Emissionsquelle: Sie können Ebene 1 anwenden, es sei denn, eine höhere Genauigkeit ist ohne zusätzlichen Aufwand für den Anlagenbetreiber erreichbar."}]
[null,{"$f":"EUconst_CNTR_NoSmallEmitter","v":"NoSmallEmitter_"},null,1,{"$f":"B819 & \"_\" & D819","v":"NoSmallEmitter__1"},{"$f":"Translations!$B$1270","v":"Große Emissionsquelle: Es ist mindestens die angezeigte Ebene anzuwenden. Sie können jedoch die nächstniedrigere Ebenenstufe anwenden (mit Ebene 1 als Minimum), wenn Sie der zuständigen Behörden zu deren Zufriedenheit nachweisen können, dass die gemäß Unterabsatz 1 vorgeschriebene Ebene technisch nicht machbar ist oder zu unverhältnismäßigen Kosten führen wird."}]
[null,{"$f":"EUconst_CNTR_NoSmallEmitter","v":"NoSmallEmitter_"},null,2,{"$f":"B820 & \"_\" & D820","v":"NoSmallEmitter__2"},{"$f":"Translations!$B$1271","v":"Kleine Emissionsquelle: Sie können eine niedrigere Ebenenstufe anwenden (mit Ebene 1 als Minimum), wenn Sie nachweisen können, dass die Anwendung dieser Ebene technisch nicht machbar ist oder zu unverhältnismäßigen Kosten führen wird."}]
[]
[]
["<END of list>"]

{"sheet":"Translations","index":19,"n_rows":1382,"n_cols":4,"rows_kept":1382,"cut":false,"hidden":true,"merged":[]}
["Number","TEXT (Language Version)","English Version (Original)"]
[1,"MONITORINGKONZEPT FÜR JÄHRLICHE EMISSIONEN"]
[2,"INHALT"]
[3,"Die Namen der Arbeitsblätter sind fett, die Namen der einzelnen Abschnitte normal gedruckt."]
[4,"a_Inhalt"]
[5,"b_Leitlinien und Modalitäten"]
[6,"A. Versionen des Monitoringkonzepts"]
[7,"Liste der Versionen des Monitoringkonzepts"]
[8,"B. Identität des Inhabers und der Anlage"]
[9,"Angaben zum Inhaber"]
[10,"Angaben zur Anlage"]
[11,"Kontaktangaben "]
[12,"C. Beschreibung der Anlage"]
[13,"Angaben zu den Tätigkeiten der Anlage"]
[14,"Angaben zu den Emissionen"]
[15,"D. Auf Berechnungen beruhende Methodiken"]
[16,"Berechnung: Für weitere Eingaben im nächsten Arbeitsblatt erforderliche Daten"]
[17,"E. Stoffströme"]
[18,"Angaben zu den auf die Aktivitätsdaten und Berechnungsfaktoren angewandten Ebenen"]
[19,"F. Auf Messungen beruhende Methodiken"]
[20,"Messung der CO2- und der N2O-Emissionen "]
[21,"Angaben zu den Messstellen"]
[22,"Verwaltung und Verfahren für auf Messungen beruhende Methodiken"]
[23,"G. Fall-back-Methodiken"]
[24,"Beschreibung der Fall-back-Methodik"]
[25,"H. N2O-Emissionen"]
[26,"Verwaltung und Verfahren für die Überwachung von N2O-Emissionen"]
[27,"I. Bestimmung von PFC-Emissionen aus der Primäraluminiumproduktion"]
[28,"Bestimmung von PFC-Emissionen"]
[29,"Einzelheiten zur Überwachung der Stoffströme von PFC-Emissionen"]
[30,"Management und schriftliche Verfahren für die Überwachung von PFC"]
[31,"J. Bestimmung von weitergeleitetem oder inhärentem CO2 "]
[32,"Bestimmung von inhärentem und weitergeleitetem CO2"]
[33,"Sachdienliche Angaben zu den für die Beförderung von CO2 genutzten Pipelinesystemen"]
[34,"Sachdienliche Angaben zu Anlagen für die geologische Speicherung von CO2 "]
[35,"K. Verwaltung und Kontrolle"]
[36,"Verwaltung "]
[37,"Datenflussaktivitäten"]
[38,"Kontrollaktivitäten"]
[39,"Liste der verwendeten Definitionen und Abkürzungen"]
[40,"Zusätzliche Informationen"]
[41,"Betriebsänderungen"]
[42,"L. Weitere mitgliedstaatspezifische Angaben"]
[43,"Anmerkungen"]
[44,"Informationen zu dieser Datei:"]
[45,"Einreicher dieses Monitoringkonzepts:"]
[46,"Name der Anlage:"]
[47,"Kennung der Anlage:"]
[48,"Nummer der Version dieses Monitoringkonzepts:"]
[49,"Wenn Ihre zuständige Behörde die Einreichung einer unterzeichneten Papierausfertigung des Monitoringkonzepts verlangt, nutzen Sie bitte den folgenden Platz für Datum und Unterschrift:"]
[50,"Datum"]
[51,"Name und Unterschrift der rechtlich zuständigen Person"]
[52,"Angaben zur Version der Vorlage:"]
[53,"Ersteller der Vorlage:"]
[54,"Datum der Veröffentlichung:"]
[55,"Sprachversion:"]
[56,"Referenzdateiname:"]
[57,"b. \nGuide-lines"]
[58,"Navigationsbereich:"]
[59,"Inhaltsverzeichnis"]
[60,"Vorheriges Blatt"]
[61,"Nächstes Blatt"]
[62,"Blattanfang"]
[63,"Blattende"]
[64,"LEITLINIEN UND MODALITÄTEN"]
[65,"Gemäß Emissionszertifikategesetz (EZG 2011) müssen die Inhaber von Anlagen, die in das Europäische System für den Handel mit Treibhausgasemissionszertifikaten (EU-EHS) einbezogen sind, über eine gültige Genehmigung zur Emissionen von Treibhausgasen (THG) verfügen, die von der zuständigen Behörde erteilt wurde, und ihre Emissionen überwachen und darüber berichten. Diese Berichte müssen von einer unabhängigen, akkreditierten Prüfstelle geprüft werden."]
[66,"Die Richtlinie ist abrufbar unter:"]
[67,"http://eur-lex.europa.eu/LexUriServ/LexUriServ.do?uri=CONSLEG:2003L0087:20090625:DE:PDF"]
[68,"In der Verordnung über die Überwachung und Berichterstattung (Verordnung (EU) Nr. 601/2012 der Kommission vom 21. Juni 2012) („Monitoring-Verordnung“, im Folgenden „MVO\") sind die Überwachung und Berichterstattung näher geregelt. Die MVO ist abrufbar unter:"]
[69,"http://eur-lex.europa.eu/LexUriServ/LexUriServ.do?uri=OJ:L:2012:181:0030:0104:DE:PDF"]
[70,"Artikel 12 MVO enthält die spezifischen Anforderungen an den Inhalt und die Übermittlung des Monitoringkonzepts und seiner Aktualisierungen. In Artikel 12 wird die Bedeutung des Monitoringkonzepts mit folgenden Worten betont:"]
[71,"„Das Monitoringkonzept besteht aus einer ausführlichen, vollständigen und transparenten Dokumentation der Überwachungsmethodik für eine bestimmte Anlage oder einen bestimmten Luftfahrzeugbetreiber und enthält mindestens die in Anhang I aufgeführten Angaben.“"]
[72,"Außerdem hat Artikel 74 Absatz 1 folgenden Wortlaut:"]
[73,"„Die Mitgliedstaaten können vorschreiben, dass die Anlagenbetreiber und Luftfahrzeugbetreiber für die Übermittlung von Monitoringkonzepten und Änderungen des Monitoringkonzepts sowie für die Übermittlung der jährlichen Emissionsberichte, der Tonnenkilometerberichte, der Prüfberichte und der Verbesserungsberichte elektronische Vorlagen oder spezifische Dateiformate verwenden müssen. \n Diese von den Mitgliedstaaten festgelegten Vorlagen und spezifischen Dateiformate enthalten mindestens die Informationen, die in den von der Kommission veröffentlichten elektronischen Vorlagen und Spezifikationen für ein Dateiformat enthalten sind.“"]
[74,"Bei der vorliegenden Datei handelt es sich um die von den Dienststellen der Europäischen Kommission erstellte Vorlage für die Monitoringkonzepte von Anlagen; sie entspricht den Anforderungen des Anhangs I und enthält weitere Anforderungen, die dem Inhaber helfen nachzuweisen, dass er die MVO beachtet. In bestimmten, im Folgenden näher beschriebenen Fällen kann die zuständige Behörde eines Mitgliedstaats in begrenztem Umfang Anpassungen für eigene Zwecke vorgenommen haben. "]
[75,"Außerdem können die Mitgliedstaaten nach der MVO (Artikel 13) für „einfache“ Anlagen vereinfachte und standardisierte Vorlagen für Monitoringkonzepte entwickeln. "]
[76,"„Die Mitgliedstaaten können Anlagen- und Luftfahrzeugbetreibern unbeschadet des Artikels 12 Absatz 3 die Verwendung von standardisierten oder vereinfachten Monitoringkonzepten gestatten. \n Zu diesem Zweck können die Mitgliedstaaten Vorlagen für diese Monitoringkonzepte, einschließlich einer Beschreibung der Datenfluss- und Kontrollverfahren gemäß Artikel 58 bzw. Artikel 59, veröffentlichen, denen von der Kommission veröffentlichte Vorlagen und Leitfäden zugrunde liegen.“"]
[77,"Nach Maßgabe des Leitfadens Nr. 1 der Kommission („General guidance for installations“) sollten solche standardisierten Vorlagen bereitgestellt werden, indem gegebenenfalls Standardformulierungen in die vorliegende Vorlage eingebaut werden."]
[78,"Wenn Ihre Anlage in Einklang mit den Anforderungen des Leitfadens Nr. 1 für ein solches vereinfachtes und/oder standardisiertes Monitoringkonzept in Betracht kommt, konsultieren Sie bitte Ihre zuständige Behörde oder deren Website, um zu erfahren, ob Ihr Mitgliedstaat solche vereinfachten Vorlagen bereitstellt."]
[79,"Alle Leitfäden der Kommission zur Verordnung über die Überwachung und Berichterstattung sind abrufbar unter:"]
[80,"https://climate.ec.europa.eu/eu-action/eu-emissions-trading-system-eu-ets/monitoring-reporting-and-verification_en"]
[81,"Vor Ausfüllen dieser Vorlage sollten Sie"]
[82,"aufmerksam die Anweisungen lesen;"]
[83,"feststellen, welche die für Ihre Anlage zuständige Behörde in dem Mitgliedstaat ist, in dem sich die Anlage befindet (ein Mitgliedstaat kann mehrere zuständige Behörden haben). „Mitgliedstaat“ bedeutet hier alle am EU-EHS beteiligten Staaten, nicht nur die EU-Mitgliedstaaten."]
[84,"die Website der zuständigen Behörde konsultieren oder sich direkt an die zuständige Behörde wenden, um festzustellen, ob Ihnen die richtige Vorlagenversion vorliegt. Auf der ersten Seite dieser Datei ist die Version der Vorlage (und besonders der Name der Referenzunterlage) klar bezeichnet."]
[85,"die Anforderungen Ihres Mitgliedstaats prüfen, da er möglicherweise verlangt, dass ein alternatives System, z. B. internetbasierte Formulare an Stelle von Kalkulationstabellen, verwendet wird."]
[86,"Dieses Monitoringkonzept ist Ihrer zuständigen Behörde an folgende Anschrift zuzusenden:"]
[87,"Ausführliche Adresse, vom Mitgliedstaat anzugeben"]
[88,"Die zuständige Behörde kann sich an Sie wenden, um Änderungen Ihres Monitoringkonzepts zu erörtern, damit die genaue und zuverlässige Überwachung und Berichterstattung betreffend die jährlichen Emissionen in Einklang mit den allgemeinen und besonderen Bestimmungen der MVO sichergestellt ist. Unbeschadet Artikel 16 Absatz 1 MVO verwenden Sie nach Mitteilung der Genehmigung durch die zuständige Behörde die letzte genehmigte Version des Monitoringkonzepts als die Methodik für die Bestimmung der jährlichen Emissionen und für die Umsetzung der Datenerfassungs- und Datenbearbeitungstätigkeiten sowie für Kontrollaktivitäten. Dieses Monitoringkonzept dient auch als Bezugsrahmen für die Überprüfung Ihres jährlichen Emissionsberichts."]
[89,"Sie müssen der zuständigen Behörde umgehend Vorschläge für erhebliche Änderungen des Monitoringkonzepts übermitteln. Jede erhebliche Änderung Ihrer Überwachungsmethodik bedarf gemäß den Artikeln 14 und 15 MVO der Genehmigung der zuständigen Behörde. Wenn Sie (in Einklang mit Artikel 15) vernünftigerweise davon ausgehen können, dass notwendige Aktualisierungen des Monitoringkonzepts nicht erheblich sind, können Sie (mit Zustimmung der zuständigen Behörde) der zuständigen Behörde diese Aktualisierungen gebündelt einmal im Jahr bis zu der in diesem Artikel genannten Frist übermitteln."]
[90,"Sie müssen alle Änderungen des Monitoringkonzepts in Einklang mit Artikel 16 MVO anwenden und Aufzeichnungen darüber führen."]
[91,"Wenden Sie sich an Ihre zuständige Behörde, wenn Sie Unterstützung bei der Erstellung Ihres Monitoringkonzepts benötigen. Einige Mitgliedstaaten haben Leitfäden erarbeitet, die Ihnen hierbei helfen können."]
[92,"Vertraulichkeitserklärung - Die Angaben in diesem Antrag können im Rahmen der Auskunftspflicht, unter anderem gemäß Richtlinie 2003/4/EG über den Zugang der Öffentlichkeit zu Umweltinformationen, öffentlich bekannt gegeben werden. Wenn Sie im Zusammenhang mit Ihrem Antrag gemachte Angaben als vertrauliche Geschäftsinformationen behandelt wissen möchten, teilen Sie dies bitte Ihrer zuständigen Behörde mit. Nach den Bestimmungen der Richtlinie 2003/4/EG kann die zuständige Behörde jedoch auch dann zur Offenlegung verpflichtet sein, wenn der Antragsteller um vertrauliche Behandlung seiner Angaben ersucht."]
[93,"Informationsquellen:"]
[94,"EU-Websites:"]
[95,"EU-Recht:"]
[96,"http://eur-lex.europa.eu/de/index.htm"]
[97,"Allgemeine Informationen zum EU-EHS:"]
[98,"https://climate.ec.europa.eu/eu-action/eu-emissions-trading-system-eu-ets_en"]
[99,"Überwachung und Berichterstattung im Rahmen des EU-EHS: "]
[100,"Sonstige Websites:"]
[101,"https://www.bmluk.gv.at/themen/klima-und-umwelt/klima/eu_emissionshandel.html"]
[102,"Helpdesk:"]
[103,"<vom Mitgliedstaat anzugeben, sofern vorhanden>"]
[104,"Hinweise zur Bearbeitung dieser Datei:"]
[105,"Diese Vorlage wurde entwickelt, um dem in der MVO verlangten Mindestinhalt eines Monitoringkonzepts gerecht zu werden. Die Inhaber sollten sich daher beim Ausfüllen auf die MVO und gegebenenfalls die zusätzlichen mitgliedstaatlichen Bestimmungen stützen."]
[106,"Es wird empfohlen, die Datei der Reihenfolge nach durchzuarbeiten. Einige Funktionen zur Unterstützung beim Ausfüllen des Formulars hängen von bereits eingegebenen Daten ab; zum Beispiel ändert sich die Farbe der Zellen, wenn keine Eingabe erforderlich ist (siehe nachstehende Erläuterung der Farbcodierung)."]
[107,"In einigen Feldern können Sie eine von mehreren vordefinierten Angaben auswählen. Für die Auswahl aus einer solchen „Drop-down-Liste“ klicken Sie entweder mit der Maus auf den kleinen Pfeil am rechten Rand der Zelle, oder Sie wählen die Zelle aus und drücken die Tastenkombination „Alt+Pfeil-nach-unten“. Bei einigen Feldern ist es trotz vorhandener Dropdown-Liste möglich, eigene Angaben einzugeben. Dies ist der Fall, wenn die Dropdown-Liste leere Listeneinträge enthält."]
[108,"Farbcodierung und Schriftarten:"]
[109,"Schwarzer Text in Fettdruck:"]
[110,"Dieser Text gehört zur Vorlage der Kommission. Er sollte unverändert beibehalten werden."]
[111,"Kleinerer kursiver Text:"]
[112,"Dieser Text enthält nähere Erläuterungen. Die Mitgliedstaaten können in mitgliedstaatspezifischen Versionen der Vorlage nähere Erklärungen hinzufügen."]
[113,"Gelbe Felder: obligatorische Angaben. Ist der Punkt für die Anlage nicht relevant, ist jedoch keine Eingabe erforderlich."]
[114,"Hellgelbe Felder: fakultative Angaben."]
[115,"Grüne Felder: automatisch berechnete Ergebnisse. Roter Text: Fehlermeldungen (fehlende Daten usw.)."]
[116,"Schraffierte Felder: keine Eingabe, da bereits in einem anderen Feld eine Eingabe vorgenommen wurde."]
[117,"Grau schattierte Bereiche: von den Mitgliedstaaten auszufüllen, bevor die landesspezifisch angepasste Version der Vorlage veröffentlicht wird."]
[118,"Hellgraue Bereiche: Navigation und Hyperlinks."]
[119,"Die Navigationsleisten im oberen Bereich aller Arbeitsblätter enthalten Hyperlinks für schnelle Wechsel zu einzelnen Eingabeabschnitten. Die erste Zeile („Inhaltsverzeichnis“, „Vorheriges Arbeitsblatt“, „Nächstes Arbeitsblatt“, „Zusammenfassung“) sowie die Links „Zum Anfang des Arbeitsblatts“ und „Zum Ende des Arbeitsblatts“ sind für alle Arbeitsblätter identisch. Je nach Arbeitsblatt werden weitere Menüpunkte angezeigt."]
[120,"Mit Ausnahme der gelben Felder ist diese Vorlage für die Dateneingabe gesperrt. Aus Gründen der Transparenz wurde jedoch kein Passwort festgelegt. So können alle Formeln vollständig angezeigt werden. Wird diese Datei zur Dateneingabe verwendet, empfiehlt es sich, den Schutz aktiviert zu lassen. Die Arbeitsblätter sollten nur ungeschützt sein, wenn die Gültigkeit der Formeln überprüft werden soll. Es wird empfohlen, diese Überprüfung in einer separaten Datei durchzuführen."]
[121,"Um die Formeln gegen unbeabsichtigte Änderungen zu schützen, die in der Regel zu falschen und irreführenden Ergebnissen führen, \nist es äußerst wichtig, NICHT die Funktion AUSSCHNEIDEN UND EINFÜGEN zu VERWENDEN. \nWenn Sie Daten verschieben möchten, kopieren Sie sie zunächst mit der Funktion KOPIEREN und fügen Sie sie mit EINFÜGEN ein; danach löschen Sie die Daten im ursprünglichen (falschen) Feld."]
[122,"Die Datenfelder wurden nicht für spezielle Zahlen- oder andere Formate optimiert. Der Arbeitsblatt-Schutz wurde allerdings so eingerichtet, dass Sie Ihre eigenen Formate verwenden können. Insbesondere können Sie die Zahl der angezeigten Dezimalstellen festlegen. Die Zahl der angezeigten Dezimalstellen ist grundsätzlich unabhängig von der Genauigkeit der Berechnung. Die Option „Genauigkeit wie angezeigt“ von MS Excel sollte grundsätzlich deaktiviert sein. Weitere Einzelheiten zu diesem Thema finden Sie in der Hilfefunktion von MS Excel."]
[123,"HAFTUNGSAUSSCHLUSS: Alle Formeln wurden sorgfältig erarbeitet. Fehler können jedoch nicht vollständig ausgeschlossen werden. \nWie bereits erwähnt, ist vollständige Transparenz für eine Überprüfung der Korrektheit der Berechnungen gewährleistet. Weder die Autoren dieser Datei noch die Europäische Kommission können für mögliche Schadensersatzansprüche aufgrund falscher oder irreführender Ergebnisse aus den bereitgestellten Berechnungen haftbar gemacht werden. \nDer Nutzer dieser Datei (d. h. der Inhaber von EU-EHS-Anlagen) allein ist dafür verantwortlich sicherzustellen, dass der zuständigen Behörde korrekte Daten mitgeteilt werden."]
[124,"In vielen Fällen werden Sie in dieser Vorlage aufgefordert, Beschreibungen der Anlage, ihrer Funktionsweise und Ihrer speziellen Überwachungsmethodiken einzugeben. In diesen Fällen werden Textfelder für die Eingabe angeboten, die manchmal zu klein für die Angaben sein können, die sie eingeben wollen."]
[125,"In solchen Fällen fügen Sie Ihre Angaben (Text, Formeln, Referenzdaten, Diagramme und Zeichnungen) bitte als gesonderte Dateien bei, wenn Sie die Vorlage der zuständigen Behörde übermitteln. Sie werden dann aufgefordert, die Referenz der Datei anzugeben. Bitte geben Sie in solchen Fällen den Dateinamen der Anlage an. Es empfiehlt sich darüber hinaus, in die Referenz das Datum der letzten Änderung der Unterlage aufzunehmen und unmittelbar in die druckbare Datei einen deutlich lesbaren Hinweis auf dieses Datum einzufügen."]
[126,"Die zuständige Behörde kann die zulässigen Dateiformate einschränken. Bitte verwenden Sie nur die gängigsten Büro-Dateiarten wie .doc, .xls, .pdf. Über weitere zulässige Dateiformate erteilt die zuständige Behörde oder deren Website Auskunft."]
[127,"Diese Datei enthält Makros für einige Funktionen (Hinzufügen von Posten in Listen und Beispiele anzeigen bzw. nicht anzeigen). Wenn auf Ihrem Computer Makros deaktiviert sind, können Sie die Vorlage zwar verwenden, aber ohne diese Funktionen.  \nAls Nachweis dafür, dass die Makros keine Viren enthalten, wurden sie elektronisch signiert. Bitte informieren Sie sich auf der Website der Kommission oder der zuständigen Behörde darüber, wie sie die Authentizität der Vorlagendatei überprüfen können."]
[128,"Hier finden Sie mitgliedstaatenspezifische Anleitungen:"]
[129,"A. \nMP Versions"]
[130,"Dieses Arbeitsblatt dient dazu, die aktuelle Version des Monitoringkonzepts nachzuverfolgen. Jede Version des Monitoringkonzepts sollte eine einmalige Versionsnummer und ein Bezugsdatum haben. "]
[131,"Je nach den Bestimmungen des Mitgliedstaats wird die Unterlage entweder in ihrer jeweils aktualisierten Version der zuständigen Behörde vorgelegt, oder der Inhaber erfasst allein die einzelnen Versionen. Der Inhaber sollte auf jeden Fall in seinen Akten eine Kopie jeder Version des Monitoringkonzepts aufbewahren."]
[132,"Der Status des Monitoringkonzepts am Bezugsdatum sollte in der Spalte „Status“ beschrieben werden. Statusmöglichkeiten sind unter anderem „der zuständigen Behörde vorgelegt“, „von der zuständigen Behörde genehmigt“, „Arbeitsentwurf“ usw."]
[133,"Bitte beachten Sie, dass die Emissionen Ihrer Anlage stets in Einklang mit der zuletzt genehmigten Version des Monitoringkonzepts überwacht werden müssen, ausgenommen die Fälle, in denen der zuständigen Behörde bereits eine Aktualisierung des Monitoringkonzepts vorgelegt wurde und die Genehmigung noch aussteht. Gemäß Artikel 16 Absatz 1 MVO muss in solchen Fällen die Überwachung parallel unter Anwendung sowohl des zuletzt genehmigten als auch des zuletzt zur Genehmigung vorgelegten Monitoringkonzepts vorgenommen werden."]
[134,"Für die Anzeige/Unterdrückung von Beispielen drücken Sie bitte die Taste „Beispiele“ im Navigationsbereich.",null,"; 'I_PFC'!$D$68"]
[135,"Versionsnr."]
[136,"Bezugsdatum"]
[137,"Status am Bezugsdatum"]
[138,"Kapitel, in denen Änderungen vorgenommen wurden.  \nKurze Erläuterung der Änderungen"]
[139,"der zuständigen Behörde vorgelegt"]
[140,"Neues Monitoringkonzept, um den Bestimmungen der MVO nachzukommen."]
[141,"mit Anmerkungen zurückgeschickt"]
[142,"Die zuständige Behörde hat für die Stoffströme 1 und 2 einige Berichtigungen vorgenommen. Die Datenflussverfahren sollten vor der Wiedereinreichung verbessert werden."]
[143,"Monitoringkonzept entsprechend den Vorschlägen der zuständigen Behörde geändert. Außerdem neuer Stoffstrom 4 eingefügt (Holzplattenabfälle, verunreinigt mit ca. 5 % fossilem Anteil)."]
[144,"von der zuständigen Behörde genehmigt"]
[145,"Ohne Änderungen genehmigt. Der Inhaber hat die Papierfassung zusammen mit der aktualisierten Genehmigung erhalten, so dass die Authentizität des Inhalts der elektronisch zurückgeschickten Datei des Monitoringkonzepts sichergestellt ist."]
[146,"Auf „+“ klicken, um weitere Versionen des Monitoringkonzepts einzufügen"]
[147,"B. \nOperatorInst ID"]
[148,"Inhaber"]
[149,"Anlage"]
[150,"Kontaktangaben"]
[151,"Zuständige Behörde"]
[152,"Mitgliedstaat"]
[153,"Nummer des Genehmigungsbescheides gemäß § 4 EZG"]
[154,"Kennnummer des Mitgliedstaats/der zuständigen Behörde"]
[155,"Name des Inhabers"]
[156,"Aktuelle Version des Monitoringkonzepts"]
[157,"Hinweis: Diese Nummer wird auch auf dem Deckblatt dieser Datei angezeigt."]
[158,"Name und Standort der Anlage:"]
[159,"Name der Anlage (falls Neuanlage):"]
[160,"Kennung der Anlage (BBBnnn):"]
[161,"EPRTR (wenn relevant):"]
[162,"Gegebenenfalls mitgliedstaatspezifische Anweisungen zur Benennung von Anlagen."]
[163,"Anschrift / Standort der Anlage:"]
[164,"Anschrift Zeile 1:"]
[165,"Anschrift Zeile 2:"]
[166,"Ort:"]
[167,"Bundesland:"]
[168,"Postleitzahl:"]
[169,"Land:"]
[170,"Koordinaten des Haupteingangs zum Anlagengelände (optional):"]
[171,"Gegebenenfalls mitgliedstaatspezifische Anweisungen zu Koordinatenangaben."]
[172,"Ansprechpartner für Ihr Monitoringkonzept:"]
[173,"Es wäre hilfreich, einen direkten Ansprechpartner zur Klärung etwaiger Fragen zu Ihrem Monitoringkonzept zu haben. Die von Ihnen angegebene Person sollte befugt sein, im Namen des Inhabers zu handeln. "]
[174,"Primärer Ansprechpartner:"]
[175,"Titel:"]
[176,"Vorname:"]
[177,"Nachname:"]
[178,"Funktion:"]
[179,"Firmenname (Falls nicht mit Inhaber identisch):"]
[180,"Telefonnummer:"]
[181,"E-Mail-Adresse:"]
[182,"Alternativer Ansprechpartner:"]
[183,"C. \nInstallation Description"]
[184,"Anlagentätigkeiten"]
[185,"Überwachungsmethodiken"]
[186,"Emissionsquellen und -punkte"]
[187,"Messstellen"]
[188,"Stoffströme"]
[189,"Ausgeschlossene Tätigkeiten"]
[190,"Bitte beschreiben Sie Ihre Anlage in diesem Arbeitsblatt. Die hier eingegebenen Informationen schaffen die Grundlage für die notwendigen ausführlichen Eingaben in den folgenden Arbeitsblättern."]
[191,"So werden namentlich im Arbeitsblatt E_SourceStreams die Stoffströme und im Arbeitsblatt F_MeasurementBasedApproaches die Messstellen näher beschrieben."]
[192,"Beschreibung der Anlage und ihrer Tätigkeiten:"]
[193,"Beschreiben Sie hier kurz das Anlagengelände und die Anlage sowie den Standort der Anlage im Anlagengelände.  Diese Beschreibung sollte auch eine nichttechnische Zusammenfassung der in der Anlage ausgeführten Tätigkeiten umfassen, in der auf jede Tätigkeit und auf die im Rahmen jeder Tätigkeit genutzten technischen Einheiten kurz eingegangen wird.  Die Beschreibung sollte insbesondere Teile der Anlage identifizieren und erläutern, die nicht vom Antragsteller betrieben werden, oder Teile, für die angenommen wird, dass sie nicht unter das EU-EHS fallen."]
[194,"Diese Beschreibung sollte den Zusammenhang herstellen, der erforderlich ist, um zu verstehen, wie zur Berechnung der Emissionen auch auf Angaben in anderen Teilen dieser Vorlage zurückgegriffen wird. Sie kann so kurz sein wie das Beispiel in Abschnitt 7 Buchstabe a des Arbeitsblatts D_CalculationBasedApproaches.",null,"; 'J2_PermCCU'!$E$18"]
[195,"Name und Referenz der Unterlage mit dem Diagramm der Stoffströme:"]
[196,"Ein einfaches Diagramm der Emissionsquellen, Stoffströme, Probenahmestellen und Messgeräte kann für die Beschreibung der Tätigkeiten hilfreich sein.  Wenn Sie über ein solches Diagramm verfügen, geben Sie hier eine Referenz (Dateiname, Datum) an und fügen Sie eine Kopie bei, wenn Sie dieses Monitoringkonzept Ihrer zuständigen Behörde vorlegen."]
[197,"In einigen Fällen kann die zuständige Behörde dies spezifisch vorschreiben."]
[198,"Liste der in der Anlage durchgeführten Tätigkeiten gemäß Anhang I und III Emissionszertifikategesetz 2011:"]
[199,"Bitte geben Sie die folgenden technischen Einzelheiten zu jeder Tätigkeit gemäß Anhang I und III Emissionszertifikategesetz 2011 an, die in Ihrer Anlage durchgeführt wird."]
[200,"Bitte geben Sie auch die Kapazität jeder einschlägigen in Anhang I genannten Tätigkeit in Ihrer Anlage an."]
[201,"„Kapazität“ bedeutet in diesen Zusammenhang:"]
[202,"die Feuerungswärmeleistung (für Tätigkeiten, deren Einbeziehung in das EU-EHS vom 20 MW-Schwellenwert abhängt) - das ist die Brennstoffmenge, die in der Anlage maximal im Dauerbetrieb verbrannt werden kann, multipliziert mit dem Heizwert des Brennstoffs, ausgedrückt in Megawatt Wärme -;"]
[203,"die Produktionskapazität für diejenigen Tätigkeiten gemäß Anhang I, bei denen die Produktionskapazität ausschlaggebend für die Einbeziehung in das EU-EHS ist. "]
[204,"Bitte vergewissern Sie sich, dass die Grenzen der Anlage korrekt angegeben sind und mit Anhang I der EU-EHS-Richtlinie in Einklang stehen. Weitere Informationen finden Sie in den einschlägigen Abschnitten im Leitfaden der Kommission über die Interpretation von Anhang I unter:"]
[205,"http://ec.europa.eu/clima/policies/ets/docs/guidance_interpretation_en.pdf  "]
[206,"Die hier eingetragene Liste liegt in den nachfolgenden Tabellen als Drop-down-Liste vor, wenn für die Beschreibung der Anlage eine Bezugnahme auf die Tätigkeit erforderlich ist."]
[207,"Ref. der Tätigkeit      (T1, T2…)"]
[208,"Tätigkeit gemäß Anhang I und III"]
[209,"Gesamt-kapazität der Tätigkeit "]
[210,"Kapazitäts-einheiten"]
[211,"Emittierte THG"]
[212,"Herstellung von Zementklinker"]
[213,"Tonnen pro Tag"]
[214,"Verbrennung von Brennstoffen"]
[215,"MW (Wärme)"]
[216,"Geschätzte Jahresemissionen:"]
[217,"Bitte geben Sie hier die durchschnittlichen Jahresemissionen Ihrer Anlage an. Diese Angabe ist für die Kategorisierung der Anlage gemäß Artikel 19 MVO notwendig. Verwenden sie die Daten zu den geprüften durchschnittlichen Jahresemissionen aus der vorigen Handelsperiode ODER, falls diese Daten nicht vorliegen oder nicht geeignet sind, eine konservative Schätzung der durchschnittlichen Jahresemissionen, einschließlich weitergeleitetes CO2, aber ohne CO2 aus Biomasse."]
[218,"Anhand der Kategorie, die sich daraus ergibt, werden die Mindestebenenanforderungen in Abschnitt 8 (Stoffströme) ermittelt."]
[219,"Geschätzte Jahresemissionen"]
[220,"Anlagenkategorie gemäß Artikel 19 MVO"]
[221,"Anlage mit geringen Emissionen?"]
[222,"Wenn die Anlage die Kriterien für Anlagen mit geringen Emissionen gemäß der Definition in Artikel 47 MVO erfüllt, wählen Sie hier bitte „WAHR“."]
[223,"Gemäß dem genannten Artikel kann der Inhaber für eine Anlage, in der keine mit N2O-Emissionen verbundenen Tätigkeiten durchgeführt werden, ein vereinfachtes Monitoringkonzept vorlegen, wenn nachgewiesen werden kann, dass "]
[224,"die geprüften durchschnittlichen Jahresemissionen der Anlage in der vorangegangenen Handelsperiode weniger als 25 000 Tonnen CO2(Äq) pro Jahr betrugen oder"]
[225,"einer konservativen Schätzung zufolge die Emissionen in den kommenden fünf Jahren weniger als 25 000 Tonnen CO2(Äq) pro Jahr betragen werden."]
[226,"Hinweis: Die vorgenannten Daten schließen weitergeleitetes CO2, nicht jedoch CO2 aus Biomasse ein."]
[227,"Sollte Ihre Wahl hier im Widerspruch zu der Menge der geschätzten Emissionen unter Buchstabe d stehen, erscheint eine entsprechende Meldung. Bitte tragen Sie unten eine angemessene Begründung ein."]
[228,"Wenn es sich bei Ihrer Anlage um eine Anlage mit geringen Emissionen gemäß Artikel 47 MVO handelt, gelten mehrere Vereinfachungen für das Monitoringkonzept."]
[229,"Begründung des Schätzwerts"]
[230,"Steht Ihre Einstufung der Anlage als Anlage mit geringen Emissionen im Widerspruch zu Ihren Angaben unter Buchstabe d oder beruhen diese Angaben nicht auf geprüften Emissionen, sondern auf einer konservativen Schätzung, begründen Sie dies hier bitte kurz. "]
[231,"Vorgeschlagene Überwachungsmethodiken:"]
[232,"Bitte bestätigen Sie, dass Sie vorschlagen, eine der folgenden Überwachungsmethodiken anzuwenden:"]
[233,"Gemäß Artikel 21 können die Emissionen entweder anhand einer auf Berechnungen beruhenden Methodik („Berechnung“) oder einer auf Messung beruhenden Methodik („Messung“) ermittelt werden, es sei denn, in der MVO ist die Verwendung einer bestimmten Methodik vorgeschrieben."]
[234,"Hinweis: Mit Billigung der zuständigen Behörde kann der Anlageninhaber für verschiedene Quellen auf Messung und auf Berechnung beruhende Methodiken kombinieren.  Der Inhaber muss sicherstellen und nachweisen, dass es dabei weder zu Lücken noch zu Doppelerfassungen von mitzuteilenden Emissionen kommt. "]
[235,"Bitte lassen Sie diese Felder keinesfalls leer, da die Eingaben hier bedingte Formatierungen bewirken, die Sie durch das gesamte Formular führen."]
[236,"Auf Berechnungen beruhende Methodik für CO2:"]
[237,"Auf Messungen beruhende Methodik für CO2:"]
[238,"Fall-back-Methodik (Artikel 22):"]
[239,"Überwachung von N2O-Emissionen:"]
[240,"Überwachung von PFC-Emissionen:"]
[241,"Überwachung von weitergeleitetem/inhärentem CO2 und CCS:"]
[242,"Bitte vergewissern Sie sich, dass Sie die die einzelnen Methodiken betreffenden Abschnitte dieses Arbeitsblatts vollständig ausgefüllt haben, bevor Sie zum Arbeitsblatt „K_ManagementControl“ (Abschnitte 20 bis 25) übergehen, das obligatorisch für alle Anlagen ausgefüllt werden muss."]
[243,"Emissionsquellen:"]
[244,"Gemäß Anhang I der MVO müssen die Monitoringkonzepte eine Beschreibung der zu überwachenden Anlage und ihrer zu überwachenden Tätigkeiten enthalten, einschließlich einer Liste der Emissionsquellen und Stoffströme.  Die Angaben in dieser Vorlage sollten sich auf eine einzige Anlage und auf die in dieser Anlage durchgeführten Tätigkeiten gemäß Anhang I beziehen. Bitte geben Sie in diesen Abschnitt jede Tätigkeit ein, die in Ihrer Anlage durchgeführt wird, und schließen Sie damit zusammenhängende Tätigkeiten aus, die von anderen Inhabern durchgeführt werden."]
[245,"Die Referenz der Tätigkeit in der letzten Spalte bezieht sich auf die Referenz der Tätigkeit in Abschnitt 5 Buchstabe c. Gehört eine Emissionsquelle zu mehr als einer Tätigkeit, geben Sie bitte je nach Fall „A1, A2“ oder „A1 – A3“ oder vergleichbare Angaben ein."]
[246,"Diese Liste erscheint in den folgenden Buchstaben (c, d und e) als Drop-down-Liste, wenn eine Bezugnahme auf die jeweiligen Emissionsquellen erforderlich ist."]
[247,"Ref. Emissions-quelle \nEQ1, EQ2, ..."]
[248,"Emissionsquelle (Name, Beschreibung)"]
[249,"Ref. Tätigkeit"]
[250,"Zementklinkerofen (Dekarbonisieren von Rohmehl, Verbrennung von Brennstoffen)"]
[251,"Kohlegefeuerter Kessel (Verbrennung von Brennstoffen)"]
[252,"Kohlegefeuerter Kessel (Zersetzung von Kalk für die Abgaswäsche)"]
[253,"Auf „+“ klicken, um weitere Emissionsquellen einzufügen"]
[254,"Emissionspunkte und emittierte THG:"]
[255,"Bitte führen Sie alle einschlägigen Emissionspunkte (einschließlich diffuser Emissionsquellen) mit einer kurzen Beschreibung auf."]
[256,"Bitte wählen Sie auch die Anhang-I-Tätigkeiten, die Emissionsquellen und die emittierten THG aus den Drop-down-Listen aus, die sich auf die in Abschnitt 5 Buchstabe c eingegebenen Daten beziehen. Ist mehr als eine Tätigkeit oder Emissionsquelle betroffen, geben Sie bitte beispielsweise „A1, A2“ ein."]
[257,"Diese Liste erscheint in den folgenden Buchstaben d und e als Drop-down-Liste, wenn eine Bezugnahme auf den jeweiligen Emissionspunkt erforderlich ist."]
[258,"Ref. Emissions-punkt \nEP1, EP2, ..."]
[259,"Beschreibung des Emissionspunkts"]
[260,"Ref.      Emissions-quelle"]
[261,"Kamin 1 (kohlegefeuerter Kessel)"]
[262,"Kamin 2 (Zementofen)"]
[263,"Auf „+“ klicken, um weitere Emissionspunkte einzufügen"]
[264,"Messstellen bei Systemen für kontinuierliche Messung:"]
[265,"Damit in dieser Vorlage automatisch Emissionsquellenkategorien vorgeschlagen werden können, müssen zuerst alle Emissionsquellen bestimmt werden, auf die auf Messung beruhende Methodiken angewandt werden."]
[266,"Bitte führen Sie alle Messstellen, an denen THG durch Systeme für kontinuierliche Emissionsmessung gemessen werden, mit einer kurzen Beschreibung auf. Dies schließt Messstellen in Pipelinesystemen ein, über die CO2 zwecks geologischer Speicherung weitergeleitet wird."]
[267,"Haben Sie in Abschnitt 6 Buchstabe a angegeben, dass keine auf Messung basierenden Methodiken verwendet werden, sind keine Angaben erforderlich."]
[268,"Geben Sie zu jeder Messstelle auch einen Schätzwert für die jeweiligen Jahresemissionen an. Diese Angabe ist für die Bestimmung der anwendbaren Ebene erforderlich."]
[269,"Gemäß Artikel 41 Absatz 1 kann für jede Emissionsquelle, aus der jährlich weniger als 5000 Tonnen CO2(Äq) emittiert werden oder die für weniger als 10 % der jährlichen Gesamtemissionen der Anlage verantwortlich ist, wobei der jeweils absolut höhere Emissionswert maßgebend ist („emissionsschwache“ Emissionsquelle), eine geringere Ebenenanforderung zugelassen werden."]
[270,"Die übrigen Emissionsquellen werden als emissionsstarke Emissionsquellen eingestuft."]
[271,"Wird eine auf Berechnungen beruhende Methodik angewandt, so sind diese geschätzten Emissionen auch für die Kategorisierung der berechneten Stoffströme unter Buchstabe f wichtig. "]
[272,"Ref. Messstelle\nM1, M2, …"]
[273,"Beschreibung"]
[274,"Ref. Emissionspunkt"]
[275,"Geschätzte Emissionen           [t CO2Äq / Jahr]"]
[276,"Mögliche Kategorie"]
[277,"Gemessene THG"]
[278,"Kamin eines kohlebefeuerten Kessels, Messplattform A"]
[279,"Auf „+“ klicken, um weitere Messstellen einzufügen"]
[280,"Relevante Stoffströme:"]
[281,"Bitte führen Sie hier alle Stoffströme (Brennstoffe, Materialien, Produkte usw.) auf, die in Ihrer Anlage mit auf Berechnungen beruhenden Methodiken (Standardmethodik oder Massenbilanzmethodik) überwacht werden sollen. Die Definition des Begriffs „Stoffstrom“ finden Sie im Leitfaden Nr. 1 („General guidance for installations”). Die Definition von Stoffströmen im Zusammenhang mit PFC finden Sie unter Abschnitt 14 Buchstabe c des Arbeitsblatts \"I_PFC\"."]
[282,"Ordnen Sie als nächstes den Stoffstrom einer der angegebenen Kategorien zu und geben Sie zur genaueren Identifikation einen Namen für den Stoffstrom ein. Bei Brennstoffen wie z. B. \"Erdgas\" oder \"Heizöl Leicht\" kann die Eingabe entfallen. Die Stoffströme können Bezeichnungen erhalten wie z. B. \"Polnische Kohle\" bei der Kategorie \"Steinkohle\"."]
[283,"Der Stoffstromtyp ist als ein Regelwerk zu verstehen, das nach Maßgabe der MVO angewandt wird. Diese Einstufung bildet die Grundlage für weitere Verpflichtungen, z. B. die anzuwendenden Ebenen."]
[284,"Die Drop-down-Liste für die Auswahl der Art des Stoffstroms beruht auf den in Abschnitt 5 Buchstabe c ausgewählten Tätigkeiten. Die Eingabe hier ist erforderlich, um die anwendbare Mindestebene im Arbeitsblatt „E_SourceStreams“ zu bestimmen."]
[285,"Damit die zuständige Behörde die Funktionsweise Ihrer Anlage vollständig verstehen kann, wählen Sie bitte aus den jeweiligen Drop-down-Listen die Anhang-I-Tätigkeiten, die Emissionsquellen und die Emissionspunkte aus, die jedem Stoffstrom entsprechen. Ist mehr als eine Tätigkeit oder Emissionsquelle betroffen, geben Sie bitte beispielsweise „A1, A2“ ein."]
[286,"Ref. Stoffstrom S1, S2, …"]
[287,"Bezeichnung des Stoffstroms"]
[288,"Stoffstromtyp"]
[289,"Rohmehl"]
[290,"Zementklinker: Ofen-Input-Betrachtung (Methode A)"]
[291,"T01: Zementklinkerproduktion"]
[292,"EQ01: Zementklinkerofen (Dekarbonisieren von Rohmehl, Verbrennung von Brennstoffen)"]
[293,"EP02: Kamin 2 (Zementofen)"]
[294,"Heizöl schwer"]
[295,"Verbrennung: Andere gasförmige und flüssige Brennstoffe"]
[296,"Auf „+“ klicken, um weitere Stoffströme einzufügen"]
[297,"Geschätzte Emissionen und Stoffstromkategorien:"]
[298,"Bitte geben Sie hier zu jedem Stoffstrom (auf Berechnungen beruhende Methodik, einschließlich PFC) die geschätzten Emissionen ein und wählen sie eine geeignete Stoffstromkategorie. "]
[299,"Die Daten für die Stoffstromreferenzen und die vollständige Bezeichnung des Stoffstroms (Bezeichnung des Stoffstroms und Stoffstromtyp) werden automatisch aus Buchstabe b übernommen."]
[300,"Verlassen Stoffströme eine Massenbilanz, so sind die Emissionen als negative Werte einzugeben."]
[301,"Hintergrund: Gemäß Artikel 19 Absatz 3 können Sie jeden Stoffstrom als „emissionsstarken“, „emissionsschwachen“ oder „De-minimis“-Stoffstrom einstufen."]
[302,"„Emissionsschwache“ Stoffströme sind kumuliert für weniger als 5000 Tonnen an fossilem CO2 pro Jahr oder für weniger als 10 % (bis zu einem maximalen Gesamtanteil von 100 000 Tonnen fossilem CO2/Jahr) verantwortlich, wobei der jeweils absolut höhere Wert maßgebend ist."]
[303,"„De-minimis“-Stoffströme sind kumuliert für weniger als 1000 Tonnen an fossilem CO2 pro Jahr oder für weniger als 2 % (bis zu einem maximalen Gesamtanteil von 20 000 Tonnen fossilem CO2/Jahr) verantwortlich, wobei der jeweils absolut höhere Wert maßgebend ist."]
[304,"„Emissionsstarke“ Stoffströme sind alle Stoffströme, die nicht als „emissionsschwach“ oder „De-minimis“-Stoffstrom eingestuft werden."]
[305,"Für die Massenbilanz von Stoffströmen werden die absoluten Werte für die Einstufung berücksichtigt."]
[306,"Um die Auswahl der geeigneten Kategorie zu erleichtern, wird die mögliche Kategorie für jeden Stoffstrom automatisch in dem grünen Feld angezeigt."]
[307,"Diese automatische Anzeige stellt lediglich Informationen über die mögliche Kategorie jedes Stoffstroms für sich genommen bereit. Wird einer der vorstehend genannten Schwellenwerte überschritten, werden die möglichen Kategorien nicht geändert, es erscheint jedoch eine Fehlermeldung. In diesem Fall wählen Sie bitte zumindest die nächsthöhere Kategorie aus."]
[308,"Nachdem Sie die geschätzten Emissionen für alle Stoffströme eingegeben haben, wird die Summe mit den Jahresemissionen insgesamt in Abschnitt 5 Buchstabe d verglichen. Beträgt die Differenz zwischen den geschätzten Emissionen und den Jahresemissionen insgesamt mehr als 5 %, so erscheint automatisch eine Fehlermeldung. "]
[309,"Vollständige Bezeichnung des Stoffstroms (Bezeichnung und Typ)"]
[310,"Ausgewählte Kategorie"]
[311,"Rohmehl; Zementklinker: Ofen-Input-Betrachtung (Methode A)"]
[312,"Emissionsstark"]
[313,"Heizöl schwer; Verbrennung: Andere gasförmige und flüssige Brennstoffe"]
[314,"Fehlermeldung (Summe der emissionsschwachen Stoffströme):"]
[315,"Fehlermeldung (Summe der De-minimis-Stoffströme):"]
[316,"Fehlermeldung (Gesamtemissionen,\nDifferenz zu Abschnitt 5 Buchstabe d):"]
[317,"Gegebenenfalls nicht in das EU-EHS einbezogene Teile und Tätigkeiten der Anlage:"]
[318,"Bitte machen Sie nähere Angabe zu etwa nicht in das EU-EHS einbezogenen Teilen oder Tätigkeiten der Anlage, wenn die für diese Tätigkeiten verwendeten Brennstoffe oder Materialien durch die Messgeräte erfasst werden, die auch für Anhang-I-Tätigkeiten eingesetzt werden."]
[319,"Weitere Informationen finden Sie unter den Buchstaben b, c und e. "]
[320,"Ref.\nEmissions-quelle"]
[321,"Stoffströme (Brennstoffe/Materialien)"]
[322,"Emissionsquellen"]
[323,"Emissionspunkte"]
[324,"Erdgas (wird durch die Anlage zu einem externen Verbraucher geleitet)"]
[325,"Verschiedene Kessel (jeweils < 3 MW Wärme)"]
[326,"Kamin einer angebundenen Anlage (Heizung eines benachbarten Krankenhauses)"]
[327,"Auf „+“ klicken, um weitere vom EU-EHS ausgenommene Tätigkeiten einzufügen"]
[328,"D. \nCalculation Approach"]
[329,"Messgeräte"]
[330,"Informationsquellen"]
[331,"Labors"]
[332,"Verfahren"]
[333,"Bitte geben Sie in dieses Arbeitsblatt die Informationen ein, die für auf Berechnungen beruhende Methodiken erforderlich sind. Die hier eingegebenen Informationen werden für die detaillierten Eingaben im folgenden Arbeitsblatt (E_SourceStreams) als Referenz herangezogen."]
[334,"So sind namentlich die Liste der Messgeräte für die Überwachung der Tätigkeitsdaten und die Liste der Informationsquellen für die Bestimmung der Standardwerte der Berechnungsfaktoren gemäß Artikel 31 erforderlich. Die Analysemethoden werden herangezogen, wenn für die Bestimmung der Berechnungsfaktoren Analysen vorgenommen werden müssen."]
[335,"Gegebenenfalls Beschreibung der auf Berechnungen beruhenden Methodik für die Überwachung der CO2-Emissionen Ihrer Anlage:"]
[336,"Bitte beschreiben Sie in der Textbox kurz die auf Berechnungen beruhende Methodik, einschließlich Formeln, anhand der Sie Ihre jährlichen CO2-Emissionen bestimmen."]
[337,"Ist die Beschreibung zu komplex (z. B. komplexe Formeln), können Sie die Beschreibung in einer gesonderten Unterlage in einem von der zuständigen Behörde akzeptierten Format vorlegen. In diesem Fall geben Sie hier bitte die Referenz der Datei an (Dateiname und Datum)."]
[338,"Diese Beschreibung sollte die Zusammenhänge herstellen, die erforderlich sind, um zu verstehen, wie zur Berechnung der Emissionen auch auf Angaben in anderen Teilen dieser Vorlage zurückgegriffen wird. Sie kann so kurz sein wie das Beispiel."]
[339,"Die in dieser Anlage verwendete, auf Berechnungen beruhende Methodik läuft grundsätzlich wie folgt ab:"]
[340,"a) werden für die Berechnungsfaktoren Standardwerte verwendet, so werden für jeden Stoffstrom (Erdgas, Heizöl schwer und alle emissionsschwachen Stoffströme) die Tätigkeitsdaten erst addiert, dann wird die Berechnungsformel gemäß Artikel 24 Absatz 1 angewandt;"]
[341,"b) werden für die Berechnungsfaktoren Analysewerte verwendet, so wird für jeden Stoffstrom (Kohle, Rohmehl) erst die Berechnungsformel gemäß Artikel 24 Absatz 1 auf die Tätigkeitsdaten und Berechnungsfaktoren jeder Charge angewandt, auf die sich die Analysen beziehen. Die so berechneten Emissionen je Charge werden dann addiert und ergeben den Jahresemissionswert des Stoffstroms;"]
[342,"c) in unter Buchstabe b genannten Fällen werden gewichtete Durchschnittsberechnungsfaktoren für die Berichterstattung bestimmt;"]
[343,"d) die Emissionen aller Stoffströme werden addiert und ergeben die Jahresemissionen der Anlage."]
[344,"Für feste Brennstoffe wird die Chargenmessung gemäß Artikel 27 Absatz 2 verwendet. Alle anderen Stoffströme werden durch kontinuierliche Messung überwacht."]
[345,"Alle Einzelheiten zu den Stoffströmen (Bestimmung der Tätigkeitsdaten, Bestimmung der Berechnungsfaktoren) werden in anderen Abschnitten dieses Monitoringkonzepts behandelt."]
[346,"Spezifikation und Standort der Messsysteme für die Bestimmung der Tätigkeitsdaten für Stoffströme:"]
[347,"Bitte beschreiben Sie die Spezifikation und den Standort des für die einzelnen Stoffströme zu verwendenden Messsystems, wenn Emissionen durch Berechnung ermittelt werden."]
[348,"Unter „Standort“ sollten sie angeben, wo in der Anlage das Messgerät angebracht ist und wie es im Arbeitsablaufdiagramm ausgewiesen ist."]
[349,"Bitte geben Sie zu jedem Messgerät die angegebene Messunsicherheit ein, einschließlich des mit dieser Unsicherheit zusammenhängenden Messbereichs wie in den Spezifikationen des Herstellers angegeben. In einigen Fällen kann die Messunsicherheit für zwei verschiedene Messbereiche angegeben sein. Bitte geben Sie in diesem Fall beide ein."]
[350,"Der typische Arbeitsbereich bezieht sich auf den Bereich, für den das betreffende Messgerät in der Regel in Ihrer Anlage genutzt wird."]
[351,"Alle für die Emissionsüberwachung relevanten Messgeräte sollten beschrieben werden, einschließlich untergeordnete Messgeräte und Messgeräte, mit denen die Mengen abgezogen werden, die außerhalb der Anlagengrenzen verwendet werden. Die Messgeräte für die kontinuierliche Emissionsmessung sind in Abschnitt 9 Buchstabe c des Arbeitsblatts F_MeasurementBasedApproaches anzugeben. "]
[352,"„Messgerättyp“: Bitte wählen Sie den zutreffenden Typ aus der Drop-down-Liste aus oder geben Sie einen eher zutreffenden Typ ein."]
[353,"Die Liste der hier angegebenen Messgeräte wird unter Buchstabe b des Arbeitsblatts E_SourceStreams  für jeden Stoffstrom als Drop-down-Liste angezeigt, aus der die verwendeten Messgeräte auszuwählen sind."]
[354,"Im Fall von Gasdurchflussmessern beziehen Sie sich auf Nm3/h, wenn die Druck-Temperatur-Kompensation ins Gerät integriert ist, und auf m3 im Betriebszustand, wenn die Druck-Temperatur-Kompensation in einem gesonderten Gerät erfolgt. Im letztgenannten Fall führen Sie bitte auch diese gesonderten Geräte auf."]
[355,"Alle Geräte müssen anhand einer einmaligen Kennnummer (z. B. Seriennummer des Geräts) eindeutig identifizierbar sein. Der Austausch von Geräten (z. B. infolge einer Beschädigung) wird jedoch nicht als erhebliche Änderung des Monitoringkonzepts im Sinne von Artikel 15 Absatz 3 erachtet. Die einmalige Kennnummer sollte daher getrennt vom Monitoringkonzept dokumentiert werden. Bitte achten Sie darauf, für diesen Zweck ein geeignetes schriftliches Verfahren einzuführen."]
[356,"Ref."]
[357,"Messgerättyp:"]
[358,"Standort (interne Kennnummer)"]
[359,"Messbereich"]
[360,"Angegebene \nUnsicherheit \n(+/-%)"]
[361,"Typischer Arbeitsbereich"]
[362,"Einheit"]
[363,"Untergrenze"]
[364,"Obergrenze"]
[365,"Drehkolbenzähler"]
[366,"Brückenwaage"]
[367,"Auf „+“ klicken, um weitere Messgeräte einzufügen"]
[368,"Name und Referenz der Unterlagen zur Unsicherheitsbewertung:"]
[369,"Gemäß Artikel 12 müssen Sie den Nachweis der Konformität der angewandten Ebenen erbringen. Bitte geben Sie hier Referenzen von Unsicherheitsberechnungen und/oder Schaubildern an. "]
[370,"Gemäß Artikel 47 Absatz 3 braucht eine Anlage mit geringen Emissionen der zuständigen Behörde diese Unterlage nicht zu übermitteln."]
[371,"Liste der Informationsquellen für Standardwerte der Berechnungsfaktoren:"]
[372,"Bitte geben Sie alle relevanten Informationsquellen an, aus denen Sie gemäß Artikel 31 Standardwerte für die Berechnungsfaktoren ableiten. "]
[373,"Diese Quellen sind in der Regel statisch, z. B. die nationale THG-Inventur, IPCC, Anhang VI MVO, Handbook of Chemistry and Physics usw."]
[374,"Ändern sich die Standardwerte von einem Jahr zum anderen, so gibt der Inhaber als maßgebliche Quelle für diesen Wert eine dynamische Quelle an, wie die Website der zuständigen Behörde."]
[375,"Diese Liste wird in Tabelle g des Arbeitsblatts E_SourceStreams als Drop-down-Liste angezeigt, damit die Informationsquellen den jeweiligen Berechnungsfaktoren für jeden Stoffstrom zugewiesen werden können."]
[376,"Ref. Informations-quelle"]
[377,"Beschreibung der Informationsquelle "]
[378,"Nationale THG-Inventur, wird jährlich aktualisiert (siehe http:/Dummy.address.test). Es wird der neueste, 2011 veröffentlichte Wert herangezogen."]
[379,"Handbook of Chemistry and Physics, 92. Ausgabe, http://www.hbcpnetbase.com/"]
[380,"Hu- und EF-Analyse des Stoffstroms „Heizöl schwer\" vom August 2011"]
[381,"Auf „+“ klicken, um weitere Informationsquellen einzufügen"]
[382,"Für Analysen für Berechnungsfaktoren herangezogene Laboratorien und Methoden:"]
[383,"Bitte geben Sie ein, welche Methoden gegebenenfalls, je nach gewählter Ebene, für die Analyse von Brennstoffen und Materialien zwecks Bestimmung aller Berechnungsfaktoren verwendet werden. Ist das Labor nicht gemäß EN ISO/IEC 17025 akkreditiert, müssen sie gemäß Artikel 34 den Nachweis erbringen, dass das Labor technisch kompetent ist. Bitte geben Sie hierfür die Referenz einer beiliegenden Unterlage an."]
[384,"Werden Online-Gaschromatographen oder extraktive oder nicht extraktive Gasanalysatoren verwendet, ist Artikel 32 zu beachten."]
[385,"Diese Liste wird in Tabelle g des Arbeitsblatts E_SourceStreams als Drop-down-Liste angezeigt, damit die Analyseverfahren den jeweiligen Berechnungsfaktoren für jeden Stoffstrom zugewiesen werden können."]
[386,"Ref. Lab."]
[387,"Name des Labors"]
[388,"Parameter"]
[389,"Analyseverfahren \n(einschließlich Referenz des Verfahrens und kurzer Beschreibung der Methode)"]
[390,"Ist das Labor gemäß EN ISO/IEC 17025 für diese Analyse akkreditiert?"]
[391,"Falls nein, Referenz des vorzulegenden Nachweises angeben."]
[392,"Beispiel Labor"]
[393,"C-Gehalt"]
[394,"EN 15104:2011. Siehe Verfahren ANA-1233/UBA"]
[395,"Beispiel Labor 2"]
[396,"Biomassegehalt"]
[397,"EN 15440:2011 . einige Abweichungen in Bezug auf Probegröße und Behandlung. Siehe Verfahren ANA-1234/UBA"]
[398,"Lab_competence.pdf, 2/3/2012"]
[399,"Auf „+“ klicken, um weitere Verfahren und Labors einzufügen"]
[400,"Beschreibung der schriftlichen Verfahren für Analysen:"]
[401,"Angaben zu den schriftlichen Verfahren für die in der Tabelle in Abschnitt 7 Buchstabe e aufgeführten Analysen. Die Beschreibung sollte die wesentlichen Parameter und durchgeführten Schritte enthalten."]
[402,"Werden mehrere Verfahren für ähnliche Zwecke, aber unterschiedliche Stoffströme oder Parameter verwendet, Angaben zum übergeordneten Verfahren, das die gemeinsamen Elemente und die Qualitätssicherung der angewandten Methoden umfasst. "]
[403,"Sie können hier dann entweder Verweise auf die einzelnen untergeordneten Verfahren angeben, oder jedes einschlägige Verfahren gesondert beschreiben. Im letzteren Fall verwenden Sie bitte die Schaltfläche „Verfahren einfügen“ am Ende dieses Arbeitsblatts. Bitte gewährleisten Sie, dass in Abschnitt 8 Tabelle g eindeutige Verweise auf das jeweilige (untergeordnete) Verfahren gegeben werden können."]
[404,"Bezeichnung des Verfahrens"]
[405,"Analyse des Hu fester und flüssiger Brennstoffe."]
[406,"Referenz des Verfahrens"]
[407,"Feste Brennstoffe: ANA 1-1/UBA; Flüssige Brennstoffe: ANA 1-2/UBA;  Vergleich durch externes (akkreditiertes) Laboratorium: ANA 1-3/ext"]
[408,"Referenz Diagramm (falls zutreffend)"]
[409,"n.r."]
[410,"Kurzbeschreibung des Verfahrens"]
[411,"Verwendung des Bomben-Kalorimeterverfahrens. Die geeignete Probengröße beruht auf der Erfahrung aus früheren Messungen vergleichbarer Materialien. \nDie Proben werden in trockenem Zustand (mindestens 6 Std. bei 120 °C getrocknet) verwendet. Hu wird durch Berechnung um Feuchtigkeitsgehalt berichtigt."]
[412,"Feste Brennstoffe: Standardverfahren. Flüssige Brennstoffe: Nur leicht angepasste Standardverfahren; Proben werden nicht getrocknet."]
[413,"Für das Verfahren und damit generierte Daten zuständige Stelle oder Abteilung"]
[414,"Firmenlabor – Abteilungsleiter. Vertretung: Betriebsverantwortlicher für Gesundheitsschutz, Arbeitssicherheit, Umweltmanagement und Qualitätsmanagement (HSEQ)."]
[415,"Aufbewahrungsort der Aufzeichnungen"]
[416,"Papierfassung: Laborbüro, Regal 27/9, Ordner (EHS 01-ANA-yyyy“ (yyyy ist das laufende Jahr). \nElektronisch: “P:\\EHS_MRV\\labs\\EHS_01-ANA-yyyy.xls”"]
[417,"Bezeichnung des eingesetzten IT-Systems (soweit anwendbar)"]
[418,"Internes Logbuch des Labors (Datenbank MS Access): Probennummern und Herkunft/Bezeichnung der Probe sind zusammen mit den Ergebnissen erfasst."]
[419,"Liste der angewandten EN oder anderer Normen (soweit zutreffend)"]
[420,"EN 14918:2009 mit Anpassungen zwecks Anwendung auf Nicht-Biomasse und flüssige Brennstoffe."]
[421,"Beschreibung des Verfahrens für Probenahmepläne für Analysezwecke:"]
[422,"Die nachstehenden Verfahren sollten die Elemente eines Probenahmeplans gemäß Artikel 33 umfassen.  Eine Kopie des Verfahrens sollte der zuständigen Behörde zusammen mit dem Monitoringkonzept vorgelegt werden."]
[423,"Beschreibung des Verfahrens zur Prüfung der Eignung des Probenahmeplans:"]
[424,"Beschreibung des Verfahren für die Bestandsschätzung am Beginn/Ende des Berichtsjahrs (soweit anwendbar):"]
[425,"Bitte beschreiben Sie, nach welchem Verfahren Bestandsänderungen von Stoffströmen geschätzt werden, die mithilfe der Chargenmessung überwacht werden (z. B anhand von Rechnungen)."]
[426,"Beschreibung des Verfahrens für die Erfassung von in der Anlage angebrachten Geräten für die Bestimmung von Tätigkeitsdaten:"]
[427,"Dieses Verfahren ist nur relevant, wenn der Inhaber Messgeräte unter seiner Kontrolle verwendet."]
[428,"Auf „+“ klicken, um weitere Verfahren einzufügen"]
[429,"E. \nSource streams"]
[430,"6 bis 10"]
[431,"E. Stoffströme"]
[432,"Bitte beachten Sie, dass die Anweisungen nur für den ersten Stoffstrom angezeigt werden."]
[433,"Wenn Sie Daten für weitere Stoffströme anzeigen wollen, klicken Sie bitte auf die „+“‑Zeichen links (Datenkonsolidierungsfunktion)."]
[434,"Weitere Stoffströme können Sie mithilfe des Makros in Abschnitt 6 Buchstabe e des Arbeitsblatts C_InstallationDescription anfügen."]
[435,"Das Beispiel ist in den ersten Stoffstrom integriert.",null,"; 'I_PFC'!$D$69"]
[436,"Stoffstromtyp:"]
[437,"Anwendbares Verfahren gemäß MVO:"]
[438,"Parameter, für die die Unsicherheit gilt:"]
[439,"Beispiel Stoffstrom:"]
[440,"Standardmethodik: Brennstoff, Artikel 24 Absatz 1"]
[441,"Brennstoffmenge [t] oder [Nm3]"]
[442,"Der Name des Stoffstroms, der Stoffstromtyp und die Kategorie werden automatisch auf Basis Ihrer Angaben in Abschnitt 6 Buchstabe e des Datenblatts C_InstallationDescription eingesetzt."]
[443,"Wenn Sie den Stoffstrom nicht automatisch einer Kategorie (emissionsstark, emissionsschwach, De-minimis) zugeordnet haben, wird die Kategorie verwendet, die in diesem Abschnitt automatisch angezeigt wird. Ist dies der Fall, kann die Vorlage die anwendbaren Ebenen nicht korrekt angeben. Vergewissern Sie sich daher, dass Sie in dem genannten Abschnitt die richtige anwendbare Kategorie ausgewählt haben."]
[444,"Da der Stoffstromtyp eindeutig einer gemäß der MVO anwendbaren Überwachungsmethodik (Artikel 24 und 25) und den Parametern, für die die Unsicherheit der Tätigkeitsdaten gilt (Anhang II), zugewiesen werden kann, werden diese Angaben automatisch auf der Grundlage der MVO eingesetzt."]
[445,"Automatische Anleitung zu den anwendbaren Ebenen:"]
[446,"Unter den Buchstaben c und f werden die vorgeschriebenen Ebenen für Tätigkeitsdaten und Berechnungsfaktoren in den grünen Feldern auf Basis Ihrer Angaben in Abschnitt 5 Buchstaben d und e und Abschnitt 6 Buchstaben e und f angezeigt. Dies sind die Mindestebenen für emissionsstarke Stoffströme. Geringere Anforderungen können jedoch zugelassen werden. Abhängig von den nachstehend genannten Faktoren werden in der grünen Textbox geeignete Hinweise angezeigt:"]
[447,"An Anlagen mit geringen Emissionen gemäß Artikel 47 Absatz 2 werden geringere Anforderungen gerichtet;"]
[448,"die Anlagenkategorie (A, B oder C) gemäß Artikel 19;"]
[449,"an als emissionsschwache oder De-minimis-Stoffströme gemäß Artikel 19 Absatz 3 eingestufte Stoffströme werden geringere Anforderungen gerichtet."]
[450,"Die Meldung zu den anwendbaren Ebenen ist für die Tätigkeitsdaten und für alle Berechnungsfaktoren wichtig."]
[451,"Beispieldaten:"]
[452,"Artikel 26 Absatz 1: Es sind mindestens die angezeigten Mindestebenen anwendbar. \nSie können jedoch eine Ebene um bis zu zwei Stufen unterhalb der jeweiligen Ebene anwenden (mit Ebene 1 als Minimum), wenn Sie der zuständigen Behörde zu deren Zufriedenheit nachweisen können, dass die gemäß Unterabsatz 1 vorgeschriebene Ebene technisch nicht machbar ist oder zu unverhältnismäßigen Kosten führen wird."]
[453,"Tätigkeitsdaten:"]
[454,"Verfahren zur Bestimmung der Tätigkeitsdaten:"]
[455,"Bestimmungsverfahren:"]
[456,"Kontinuierliche Messung"]
[457,"Gemäß Artikel 27 Absatz 1 können die Tätigkeitsdaten für einen Stoffstrom a) durch kontinuierliche Messung am Prozess, der die Emissionen verursacht, oder b) durch Aggregation von gesondert vorgenommenen Mengenmessungen unter Berücksichtigung relevanter Bestandsveränderungen (Chargenmessung) bestimmt werden."]
[458,"Verweis auf Verfahren für die Bestandsbestimmung am Jahresende:"]
[459,"Dies ist nur relevant, wenn Sie „Chargenmessung“ als Bestimmungsverfahren gewählt haben. Bitte beachten Sie das in Abschnitt 7 Buchstabe i beschriebene Verfahren. "]
[460,"Anlagen mit geringen Emissionen (Abschnitt 5 Buchstabe e) brauchen die Bestandsbestimmung nicht in ihre Unsicherheitsbewertung einzubeziehen (Artikel 47 Absatz 5)."]
[461,"Gerät unter Kontrolle des "]
[462,"Bitte wählen Sie „Inhabers“, wenn das Messgerät unter Ihrer Kontrolle steht, und „Handelspartners“, wenn es nicht unter Ihrer Kontrolle steht."]
[463,"Ist mehr als ein Gerät relevant, wählen Sie bitte „Handelspartners\", wenn dies bei zumindest einem der für diesen Stoffstrom eingesetzten Geräte der Fall ist. Geben Sie in die Textbox unter Buchstabe b bitte jeweils an, welche Geräte unter Ihrer und welche unter der Kontrolle des Handelspartners stehen."]
[464,"Bitte bestätigen Sie, dass die Bedingungen des Artikels 29 Absatz 2 erfüllt sind:"]
[465,"Dies ist nur relevant, wenn Sie nicht der Eigner des Messgeräts sind."]
[466,"Gemäß Artikel 29 Absatz 1 dürfen Sie sich nur dann auf Geräte verlassen, die außerhalb Ihrer Kontrolle sind, wenn die Geräte die Einhaltung einer mindestens ebenso hohen Ebene wie ihre eigenen Geräte ermöglichen, verlässlichere Ergebnisse zeigen und weniger anfällig für Kontrollrisiken sind."]
[467,"Bestimmen Sie die Brennstoff- oder Materialienmenge anhand von Rechnungen?"]
[468,"Bitte bestätigen Sie, dass Handelspartner und Inhaber voneinander unabhängig sind:"]
[469,"Dies ist nur relevant, wenn Sie nicht der Eigner des Messgeräts sind. "]
[470,"Gemäß Artikel 29 Absatz 1 Buchstabe a dürfen Sie nur dann auf Rechnungen zurückgreifen, wenn die Handelspartner unabhängig voneinander sind."]
[471,"Verwendete Messgeräte:"]
[472,"Bitte wählen Sie hier eines oder mehrere der Geräte aus, die Sie in Abschnitt 7 Buchstabe b angegeben haben. "]
[473,"Werden für diesen Stoffstrom mehr als fünf Messgeräte verwendet, beispielsweise, wenn die Druck-Temperatur-Kompensation in gesonderten Geräten vorgenommen wird, erläutern Sie dies bitte in der Textbox."]
[474,"Anmerkung / Beschreibung des Vorgehens, wenn mehrere Geräte verwendet werden:"]
[475,"Bitte erläutern Sie, warum und inwieweit mehr als ein Gerät relevant sind (soweit zutreffend). Es ist z. B. möglich, dass ein Gerät erforderlich ist, um einen Nicht-EHS-Teil des Brennstoffs abzuziehen. Wiegegeräte können alternativ oder zur Bestätigung eingesetzt werden."]
[476,"Vorgeschriebene Ebene Tätigkeitsdaten:"]
[477,"Angewandte Ebene Tätigkeitsdaten:"]
[478,"Erreichte Unsicherheit:"]
[479,"Anmerkung:"]
[480,"Die Unsicherheit darf nicht mehr als ± 5,0 % betragen."]
[481,"Die Unsicherheit darf nicht mehr als ± 2,5 % betragen."]
[482,"Geeicht gemäß Maß- und Eichgesetz --> Verkehrsfehlergrenze"]
[483,"Bitte geben Sie hier die im gesamten Berichtszeitraum im Betrieb erzielte Unsicherheit in Bezug auf die vorgegebene und die angewandte Ebene an."]
[484,"Dieser Wert sollte in der Regel das Ergebnis einer Unsicherheitsbewertung sein (siehe Abschnitt 7 Buchstabe c). Gemäß Artikel 28 Absätze 2 und 3 und Artikel 29 Absatz 2 sind mehrere Vereinfachungen zulässig:"]
[485,"Sie können die für das Messgerät angegebenen Verkehrsfehler des Messgeräts oder – falls niedriger – die Unsicherheit bei der Kalibrierung, multipliziert mit einem konservativen Anpassungsfaktor, verwenden, um dem Einfluss der Unsicherheit im Betrieb Rechnung zu tragen, sofern die betreffenden Messgeräte in eine für ihre Betriebsspezifikationen geeignete Umgebung eingebaut sind, oder"]
[486,"Sie können die Verkehrsfehlergrenzen des Messgeräts als Unsicherheitswert verwenden, sofern das Messgerät gemäß Maß- und Eichgesetz geeicht ist."]
[487,"Bitte beschreiben Sie in der Textbox unter Buchstabe h wie die über den gesamten Berichtszeitraum ermittelte Unsicherheit bestimmt wird."]
[488,"Weitere Hinweise finden Sie in den Artikeln 28 und 29 MVO und in Abschnitt 5.3 des Leitfadens Nr. 1."]
[489,"Berechnungsfaktoren:"]
[490,"Gemäß Artikel 30 Absatz 1 können Berechnungsfaktoren entweder als Standardwerte oder als Analysewerte bestimmt werden. Welche der beiden Optionen herangezogen wird, wird durch die anwendbare Ebene bestimmt."]
[491,"Als Richtschnur für Sie werden die folgenden Ebenenkategorien verwendet (in Einklang mit Leitfaden Nr. 1):"]
[492,"Standardwerte Typ I:"]
[493,"Standardwerte Typ I: Entweder die in Anhang VI aufgeführten  Standardfaktoren (grundsätzlich IPCC-Werte) oder andere konstante Werte in Einklang mit Artikel 31 Absatz 1 Buchstabe d oder e, d. h. vom Lieferanten garantierte oder durch früher durchgeführte und noch immer gültige Analysen ermittelte Werte."]
[494,"Standardwerte Typ II:"]
[495,"Standardwerte Typ II: Landesspezifische Emissionsfaktoren gemäß Artikel 31 Absatz 1 Buchstaben b und c, d. h. für die nationale THG-Inventur verwendete Werte, von der zuständigen Behörde für stärker aggregierte Brennstoffarten veröffentlichte Werte oder andere von der zuständigen Behörde zugelassene Literaturwerte."]
[496,"Ermittelte Proxywerte: "]
[497,"Diese Verfahren beruhen auf empirischen Korrelationen, die mindestens einmal jährlich in Einklang mit den Bestimmungen für Laboranalysen bestimmt werden. Diese Analysen werden allerdings nur einmal jährlich durchgeführt, weshalb diese Ebene als eine niedrigere Stufe gilt als vollständige Analysen. Die Proxy-Korrelationen können beruhen auf"]
[498,"einer Dichtemessung bestimmter Öle oder Gase, einschließlich solcher, die üblicherweise in Raffinerien oder in der Stahlindustrie eingesetzt werden, oder"]
[499,"dem unteren Heizwert bestimmter Kohlearten."]
[500,"Rechnungs-unterlagen: "]
[501,"Der untere Heizwert kann aus den vom Treibstofflieferanten vorgelegten Rechnungsunterlagen hergeleitet werden, sofern er auf Basis von akzeptierten einzelstaatlichen oder internationalen Normen ermittelt wurde (gilt nur im Fall marktgängiger Brennstoffe)."]
[502,"Laboranalysen: "]
[503,"In diesem Fall gelten die Vorschriften für Analysen der Artikel 32 bis 35 uneingeschränkt."]
[504,"Biomasse-anteil Typ I"]
[505,"Es wird eine der beiden folgenden Methoden angewandt, die als äquivalent erachtet werden."]
[506,"in Einklang mit Artikel 39 Absatz 2 Verwendung eines von der Kommission veröffentlichten Standardwerts oder eines Schätzverfahrens;"]
[507,"Verwendung eines gemäß Artikel 39 Absatz 2 Unterabsatz 2 bestimmten Werts, d. h. Annahme eines rein fossilen Materials (Biomasseanteil = 0), oder Verwendung einer von der zuständigen Behörde genehmigten Schätzmethode;"]
[508,"Anwendung von Artikel 39 Absatz 3 im Falle von Erdgasnetzen, in die Biogas injiziert wird, d. h. Anwendung einer Herkunftsnachweisregelung gemäß Artikel 2 Buchstabe j und Artikel 15 der Richtlinie 2009/28/EG [Richtlinie über erneuerbare Energiequellen]. "]
[509,"Biomasse-anteil Typ II"]
[510,"Der Biomasseanteil wird gemäß Artikel 39 Absatz 1, also durch Laboranalysen bestimmt. In diesem Fall muss die zuständige Behörde die einschlägigen Normen und die Analysemethoden ausdrücklich genehmigt haben."]
[511,"Hinweis:"]
[512,"Die in nachstehender Tabelle vorgeschriebenen Ebenen betreffen stets emissionsstarke Stoffströme. Bitte entnehmen Sie der Textbox mit dem Ebenenhinweis im Kopfteil dieses Stoffstroms, ob geringere Anforderungen zulässig sind."]
[513,"In Einklang mit Artikel 26 Absatz 4 wendet der Inhaber für den Oxidationsfaktor und den Umsetzungsfaktor als Minimum die niedrigsten in Anhang II aufgeführten Ebenen an."]
[514,"Für die Berechnungsfaktoren angewandte Ebenen:"]
[515,"Berechnungsfaktoren"]
[516,"vorgeschrie-bene Ebene"]
[517,"angewandte Ebene"]
[518,"vollständiger Text für angewandte Ebene"]
[519,"Unterer Heizwert (Hu)"]
[520,"(vorläufiger) Emissionsfaktor"]
[521,"Oxidationsfaktor"]
[522,"Umsetzungsfaktor"]
[523,"Kohlenstoffgehalt"]
[524,"Biomasseanteil (soweit zutreffend)"]
[525,"vollständiger Text für angewandte Ebene"]
[526,"Laboranalysen"]
[527,"Standardwerte Typ II"]
[528,"Standardwert OF = 1 "]
[529,"n.r."]
[530,"Je nach der gewählten Ebene (Standardwerte oder Laboranalysen) müssen Sie gegebenenfalls zu jedem Berechnungsfaktor folgende Angaben machen:"]
[531,"Bei Verwendung eines Standardwerts geben Sie bitte den Wert, die Einheit und die Literaturquelle mit Verweis auf die Tabelle in Abschnitt 7 Buchstabe d des vorherigen Arbeitsblattes an. Der Wert sollte den konstanten Wert zum Zeitpunkt der Übermittlung des Monitoringkonzepts widerspiegeln."]
[532,"Ist eine Laboranalyse erforderlich, geben Sie bitte das Analyseverfahren bzw. das Labor mit Verweis auf die Tabelle in Abschnitt 7 Buchstabe e des vorherigen Arbeitsblattes, einen Verweis auf Ihren Probenahmeplan und die anzuwendende Analysehäufigkeit an."]
[533,"Einzelheiten zu den Berechnungsfaktoren:"]
[534,"Standard-wert"]
[535,"Einheit"]
[536,"Ref. Quelle"]
[537,"Ref. Analyse"]
[538,"Ref. Probenahmeplan"]
[539,"Analyse-häufigkeit"]
[540,"HU_Probe"]
[541,"Wöchentlich"]
[542,"IQ5: IPCC"]
[543,"IQ1: MVO"]
[544,"Anmerkungen und Erklärungen:"]
[545,"Anmerkungen:"]
[546,"Bitte geben Sie sachdienliche Anmerkungen unten ein. Erklärungen können insbesondere erforderlich sein in Bezug auf die Methodik zur Schätzung des Biomasseanteils, die Proxymethodik (Korrelation) usw."]
[547,"Begründung für Nichtanwendung der vorgeschriebenen Ebene:"]
[548,"Wird eine der gemäß Artikel 26 vorgeschriebenen Ebenen für Tätigkeitsdaten oder einen anwendbaren Berechnungsfaktor nicht angewandt, begründen Sie hier bitte, warum."]
[549,"Ist gemäß Artikel 26 ein Verbesserungsplan erforderlich, so sollte dieser zusammen mit diesem Monitoringkonzept und den Anlagen eingereicht werden. Werden gemäß Artikel 18 als Begründung unverhältnismäßige Kosten angeführt, so sollte deren Berechnung zusammen mit diesem Monitoringkonzept eingereicht und in der Begründung darauf Bezug genommen werden."]
[550,"F. \nMeasurement Approach"]
[551,"Emissionsmessung"]
[552,"Verwaltung und Verfahren"]
[553,"Hinweis: Dieser Abschnitt ist in Bezug auf die kontinuierliche Messung sowohl von CO2-Emissionen als auch von N2O-Emissionen auszufüllen."]
[554,"Außerdem sind hier einige der erforderlichen Angaben für die Überwachung von weitergeleitetem CO2 und inhärentem CO2 zu machen."]
[555,"Beschreibung der auf Messung beruhenden Methodik"]
[556,"Bitte beschreiben Sie in der Textbox kurz die auf Messung beruhende Methodik, anhand deren Sie Ihre jährlichen CO2- oder N2O-Emissionen bestimmen. Wird N2O gemessen, beschreiben Sie bitte auch die Methodik, nach der diese Emissionen in CO2(Äq)–Daten konvertiert werden."]
[557,"Aus Ihrer Beschreibung sollten der Typ der eingesetzten Geräte, die Messbedingungen (trocken oder feucht) und die Formeln für die Anwendung von Berichtigungsfaktoren (Druck (p), Temperatur (T), O2 und H2O) hervorgehen. Gilt die Norm EN 14181, sind die für die QAL2-Verfahren erforderlichen Kalibrierfaktoren anzugeben. Wird das Abgasvolumen berechnet, beschreiben Sie bitte kurz, nach welcher Methodik Sie das Abgasvolumen bestimmen. "]
[558,"Bitte beschreiben Sie, wie die Jahresemissionen anhand von Konzentration und Abgasstromdaten bestimmt werden; tragen Sie dabei der Frequenz der Bestimmung der Konzentration und des Abgasstromes Rechnung. Beschreiben Sie bitte auch, wie Daten ersetzt werden, wenn keine gültigen Messstundenwerte bestimmt werden können."]
[559,"Beschreiben Sie gegebenenfalls auch die Methodik, mit der Emissionen aus Biomasse (anhand einer auf Berechnung beruhenden Methodik) zwecks Subtraktion von den Gesamtemissionen bestimmt werden."]
[560,"Prozessdiagramm, wenn von der zuständigen Behörde verlangt:"]
[561,"Bitte fügen Sie ein Prozessdiagramm mit einer Liste aller relevanten Emissionspunkte bei Normbetrieb und bei Ausnahmesituationen, d. h., bei eingeschränktem Betrieb und in Übergangsphasen, einschließlich Ausfallperioden oder Phasen der Inbetriebnahme bei."]
[562,"Spezifikation und Ort der Messsysteme für Messpunkte:"]
[563,"Bitte beschreiben Sie die Spezifikation und den Ort des  Messsystems, das bei Bestimmung der Emissionen durch Messung für die einzelnen Emissionsquellen und sonst für Messpunkte für die Weiterleitung von CO2 eingesetzt wird."]
[564,"Gehen Sie auch auf Instrumente für Hilfsparameter ein, wie beispielsweise O2-Gehalt und Feuchte, und im Fall indirekter Messungen außerdem auf Geräte für die Messung der Konzentration anderer Gasbestandteile als CO2."]
[565,"Die Liste der hier angegebenen Messgeräte wird in Abschnitt 10 für jede Emissionsquelle als Drop-down-Liste angezeigt, aus der die verwendeten Messgeräte auszuwählen sind."]
[566,"Die Messfrequenz sollte die Frequenz wiedergeben, in der das Gerät Datenpunkte erzeugt, bevor die Daten zu Stundenmittelwerten oder Mittelwerten kürzerer Zeitspannen aggregiert werden."]
[567,"Messfrequenz"]
[568,"CO2-Konzentration (NDIR)"]
[569,"Kamin 1 Plattform a (Diagramm: K.1-A)"]
[570,"1 pro Sekunde"]
[571,"Durchflussmesser (Staudrucksonde)"]
[572,"Laboratorien und Methodiken für die Anwendung von kontinuierlichen Messverfahren"]
[573,"Diese Liste wird in Abschnitt 10 als Drop-down-Liste angezeigt, damit die Analysemethoden den entsprechenden Messpunkten zugewiesen werden können."]
[574,"QAL-Verfahren"]
[575,"EN 14181"]
[576,"CO2-Konzentration"]
[577,"ISO 12039"]
[578,"Bitte beachten Sie, dass die Anweisungen nur für den ersten Messpunkt angezeigt werden."]
[579,"Wenn Sie Daten für weitere Messpunkte anzeigen wollen, klicken Sie bitte auf die „+“-Zeichen links (Datenkonsolidierungsfunktion)."]
[580,"Weitere Messpunkte können Sie mithilfe des Makros in Abschnitt 6 Buchstabe d des Arbeitsblatts C_InstallationDescription anfügen."]
[581,"Das Beispiel ist beim ersten Messpunkt eingegeben."]
[582,"Betriebszustand:"]
[583,"Normbetrieb und Ausnahmesituation"]
[584,"Bitte wählen Sie hier aus, ob der Messpunkt für Messungen bei Normbetrieb oder in Ausnahmesituationen (eingeschränkter Betrieb, Übergangsphase, Ausfallperioden, Phasen der Inbetriebnahme) dient."]
[585,"Die Angaben in den grünen Feldern werden automatisch aus Abschnitt 6 Buchstabe d des Arbeitsblatts C_InstallationDescription entnommen."]
[586,"In den grünen Feldern unten werden die vorgeschriebenen Ebenen für auf Messung beruhende Methodiken auf Basis Ihrer Angaben in Abschnitt 5 Buchstabe d und Abschnitt 6 Buchstabe d angezeigt. Dies sind die Mindestebenen für Emissionsstarke Emissionsquellen. Geringere Anforderungen können jedoch zugelassen werden. Abhängig von den nachstehend genannten Faktoren werden in der grünen Textbox geeignete Hinweise angezeigt:"]
[587,"Geringere Anforderungen gelten gemäß Artikel 41 Absatz 1  für Emissionsquellen, aus denen jährlich weniger als 5000 Tonnen CO2(Äq) emittiert werden oder die für weniger als 10 % der jährlichen Gesamtemissionen der Anlage verantwortlich ist, wobei der jeweils absolut höhere Emissionswert maßgebend ist."]
[588,"Artikel 41: Es ist mindestens die angezeigte Mindestebene anzuwenden. \nNur wenn Sie der zuständigen Behörde zu deren Zufriedenheit nachweisen können, dass die Anwendung der vorgeschriebenen Ebene technisch nicht machbar ist oder zu unverhältnismäßigen Kosten führt und dass die Anwendung einer auf Berechnungen beruhenden Methodik unter Anwendung der in Artikel 26 vorgeschriebenen Ebenen technisch nicht machbar ist oder zu unverhältnismäßigen Kosten führt, darf eine nächstniedrigere Ebene angewendet werden mit Ebene 1 als Minimum."]
[589,"Geräte und Ebenen:"]
[590,"MM1: CO2 "]
[591,"MM2: Durchfluss"]
[592,"Bitte wählen Sie hier eines oder mehrere der Geräte aus, die Sie in Abschnitt 9 Buchstabe c angegeben haben."]
[593,"Werden für diesen Messpunkt mehr als fünf Messgeräte verwendet, erläutern Sie dies bitte in der Textbox."]
[594,"Vorgeschriebene Ebene:"]
[595,"Angewandte Ebene:"]
[596,"Bitte geben Sie hier die im gesamten Berichtszeitraum erzielte Gesamtunsicherheit in Bezug auf die vorgeschriebene Ebene und auf die angewandte Ebene an."]
[597,"Dieser Wert sollte in der Regel das Ergebnis einer Unsicherheitsbewertung sein (siehe Abschnitt 7 Buchstabe c). "]
[598,"Normen und Verfahren:"]
[599,"Angewandte Normen und etwaige Abweichungen davon"]
[600,"Bitte verweisen Sie gegebenenfalls auf die Tabelle in Abschnitt 9 Buchstabe e."]
[601,"Verweise auf Verfahren"]
[602,"Für die vollständige Beschreibung der angewandten Verfahren sind folgende Angaben erforderlich. Bitte verweisen Sie auf die entsprechenden schriftlichen Verfahren. Diese Verfahren sind in Abschnitt 11 kurz zu beschreiben."]
[603,"Berechnungsformeln für die Datenaggregation und zur Bestimmung der Jahresemissionen"]
[604,"Methode zur Feststellung, ob für die einzelnen Parameter gültige Stundendaten oder kürzere Referenzzeiträume berechnet werden können (unter Verwendung des Schwellenwerts gemäß Artikel 44 Absatz 2) und Methode zur Bestimmung von Ersatzwerten für fehlende Daten gemäß Artikel 45"]
[605,"Gegebenenfalls Berechnung des Abgasstroms"]
[606,"Gegebenenfalls Bestimmung von CO2 aus Biomasse, das von gemessenen CO2–Emissionen abgezogen wird"]
[607,"Gegebenenfalls flankierende Emissionsberechnungen gemäß Artikel 46"]
[608,"Bitte geben Sie sachdienliche Anmerkungen unten ein. Erläuterungen können insbesondere erforderlich sein in Bezug auf die Methodik zur Schätzung des Biomasseanteils, weitere Maßnahmen der Qualitätsbewertung/Qualitätskontrolle (QA/QC) usw."]
[609,"Wird die gemäß Artikel 41 vorgeschriebene Ebene für diesen Messpunkt nicht verwendet, ist dies hier zu begründen."]
[610,"Bei Anwendung von auf Messung beruhenden Methodiken Angaben zu den schriftlichen Verfahren mit Einzelheiten zur Methodik und zu den Berechnungsformeln, die für die Datenaggregation und die Bestimmung der CO2-Jahresemissionen verwendet werden."]
[611,"Bitte erläutern Sie die schriftlichen Verfahren gemäß Artikel 44 MVO."]
[612,"Werden mehrere Verfahren für ähnliche Zwecke, aber unterschiedliche Emissionsquellen oder Messpunkte verwendet, Angaben zum übergeordneten Verfahren, das die gemeinsamen Elemente und die Qualitätssicherung der angewandten Verfahren umfasst. "]
[613,"Sie können hier entweder Verweise auf die einzelnen untergeordneten Verfahren angeben, oder jedes einschlägige Verfahren gesondert beschreiben. Im letzteren Fall verwenden Sie bitte die Schaltfläche „Verfahren einfügen“ am Ende dieses Arbeitsblatts. Bitte gewährleisten Sie, dass eindeutige Verweise auf das jeweilige (untergeordnete) Verfahren gegeben werden können."]
[614,"Kurze Beschreibung des Verfahrens  Die Beschreibung sollte die wesentlichen Parameter und durchgeführten Schritte enthalten."]
[615,"Angaben zu den schriftlichen Verfahren mit Einzelheiten zu den Methoden zur Bestimmung der gültigen Stundendaten (oder kürzeren Referenzzeiträumen) für jeden Parameter und zur Bestimmung von Ersatzwerten für fehlende Daten."]
[616,"Bitte erläutern Sie die schriftlichen Verfahren mit Einzelheiten zu den Methoden, anhand derer bestimmt wird, ob gültige Stundendaten oder kürzere Referenzzeiträume für jeden Parameter berechnet werden können, sowie zur Methode zur Bestimmung von Ersatzwerten für fehlende Daten gemäß Artikel 45 der MVO."]
[617,"Bei Bestimmung des Abgasstroms durch Berechnung Angaben zu den schriftlichen Verfahren für diese Berechnung für jede relevante Emissionsquelle in Einklang mit Artikel 43 Absatz 5 Buchstabe a MVO."]
[618,"Bei Einbeziehung von CO2 aus Biomasse in die Emissionsmessung gegebenenfalls Angaben zu den schriftlichen Verfahren mit einer Beschreibung, wie das CO2 aus Biomasse in Einklang mit Artikel 43 Absatz 4 MVO gegebenenfalls bestimmt und von den gemessenen CO2 –Emissionen abgezogen werden soll."]
[619,"Gegebenenfalls Angaben zu dem schriftlichen Verfahren für die flankierenden Berechnungen gemäß Artikel 46 MVO."]
[620,"G. Fall-back approaches"]
[621,"Gemäß Artikel 22 MVO kann ein Anlageninhaber für ausgewählte Stoffströme oder Emissionsquellen eine nicht auf Ebenen basierende Überwachungsmethodik anwenden, sofern bestimmte in diesem Artikel genannte Bedingungen erfüllt sind.  Bitte füllen Sie diesen Abschnitt aus, wenn sie beabsichtigen, eine solche Fall-back-Methodik auf Stoffströme oder Emissionsquellen anzuwenden. Ihre zuständige Behörde kann weitere Angaben zur Begründung dieses Vorgehens verlangen."]
[622,"Wird in Einklang mit Artikel 22 MVO eine Fall-back-Überwachungsmethodik angewandt, ausführliche Beschreibung der Überwachungsmethodik, die für alle Stoffströme oder Emissionsquellen verwendet wird, für die keine auf Ebenen basierende Methodik angewandt wird."]
[623,"Bitte beschreiben Sie in der Textbox kurz die Überwachungsmethodik, einschließlich Formeln, anhand der Sie Ihre jährlichen CO2- oder CO2(Äq)-Emissionen bestimmen."]
[624,"Bitte begründen Sie kurz in Einklang mit Artikel 22 die Anwendung einer Fall-back-Methodik auf die vorgenannten Emissionsquellen."]
[625,"Sie müssen nachweisen können, dass die Gesamtunsicherheitsschwelle für die jährlichen Treibhausgasemissionen für die gesamte Anlage bei Anlagen der Kategorie A 7,5 %, bei Anlagen der Kategorie B 5,0 % und bei Anlagen der Kategorie C 2,5 % nicht überschreitet. Hinweis: Ihre zuständige Behörde kann eine ausführlichere Begründung verlangen, mit der der Nachweis erbracht wird, dass die Anwendung einer auf Ebenen beruhenden Berechnungsmethodik oder einer auf Messung beruhenden Methodik technisch nicht machbar ist oder zu unverhältnismäßigen Kosten führen würde."]
[626,"Angaben zu den schriftlichen Verfahren für die in Artikel 22 MVO vorgeschriebene jährliche Unsicherheitsanalyse."]
[627,"Hinweis: Dieser Abschnitt ist in Bezug auf die Bestimmung der N2O-Emssionen aus spezifizierten Produktionstätigkeiten in einer Anlage auszufüllen. N2O-Emissionen aus der Verbrennung von Brennstoffen sind nicht betroffen.  Bitte vergewissern Sie sich, dass Sie im Arbeitsblatt F_MeasurementBasedApproaches  entsprechende Angaben zur ihrem Messsystem eingegeben haben."]
[628,"Das vorliegende Arbeitsblatt enthält nur Vorgaben, die die CO2–Überwachung nicht berühren."]
[629,"Angaben zum schriftlichen Verfahren, einschließlich einer Beschreibung der angewandten Methode und der angewandten Parameter, zur Bestimmung der im Produktionsprozess verwendeten Materialmenge und der bei voller Auslastung verwendeten Materialhöchstmenge."]
[630,"Angaben zum schriftlichen Verfahren, einschließlich einer Beschreibung der angewandten Methode und der angewandten Parameter, zur Bestimmung der als Stunden-Output erzeugten Produktmenge, ausgedrückt als stündlich produzierte(s) Salpetersäure (100 %), Adipinsäure (100 %), Caprolactam, Glyoxal bzw. Glyoxylsäure."]
[631,"Angaben zum schriftlichen Verfahren, einschließlich einer Beschreibung der angewandten Methode und der angewandten Parameter, zur Bestimmung der N2O-Konzentration im Abgasstrom aus jeder Emissionsquelle, Messbereich und Unsicherheit der Methode sowie Angaben zu etwaigen alternativen Methoden, die anzuwenden sind, wenn die Konzentrationen aus dem Messbereich herausfallen, und zu den Situationen, in denen es dazu kommen kann."]
[632,"Angaben zum schriftlichen Verfahren, einschließlich einer Beschreibung der angewandten Berechnungsmethode, zur Bestimmung der N2O-Emissionen aus der Salpetersäure-, Adipinsäure-, Caprolactam-, Glyoxal- und Glyoxylsäureherstellung bei periodisch auftretenden, ungeminderten Quellen."]
[633,"Angaben zum schriftlichen Verfahren einschließlich einer Beschreibung der Art und Weise oder des Umfangs, in der bzw. in dem die Anlage bei unterschiedlicher Fracht funktioniert, und der Form des Betriebsmanagements."]
[634,"Informationen zu den Prozessbedingungen, die von den üblichen Betriebsbedingungen abweichen. "]
[635,"Diese Informationen sollten eine Angabe zur potenziellen Häufigkeit und Dauer derartiger Prozessbedingungen sowie eine Angabe zum Volumen der N2O-Emissionen unter abweichenden Prozessbedingungen (z. B. Ausfall der Emissionsminderungsvorrichtung) enthalten."]
[636,"I. PFC emissions"]
[637,"Hinweis: Dieser Abschnitt ist in Bezug auf die Bestimmung der Emissionen von Perfluorkohlenwasserstoffen aus der Herstellung oder Verarbeitung von Primäraluminium in einer Anlage auszufüllen.  Da hier eine auf Berechnung beruhende Methodik angewandt wird, vergewissern Sie sich bitte, dass Sie alle entsprechenden Daten (außer den im vorliegenden Datenblatt anzugebenden Einzelheiten zum Stoffstrom und zu den Verfahren) in Abschnitt 7 des Arbeitsblatts (D_CalculationBasedApproaches) eingegeben haben."]
[638,"Bitte beschreiben Sie in der Textbox kurz die Methodik, anhand der Sie Ihre PFC-Emissionen bestimmen und in jährliche CO2(Äq)-Emissionen umrechnen."]
[639,"Bitte beschreiben Sie in der Textbox kurz die Überwachungsmethodik, einschließlich Formeln, anhand der Sie Ihre jährlichen CO2(Äq)-Emissionen bestimmen."]
[640,"Bitte geben Sie die Referenz eines Prozessdiagramms mit einer Liste aller relevanten Emissionsquellen und ‑punkte bei Normbetrieb und bei Ausnahmesituationen, d. h., bei eingeschränktem Betrieb und in Übergangsphasen, einschließlich Ausfallperioden oder Phasen der Inbetriebnahme an."]
[641,"Liste der im Bezug auf PFC zu überwachenden Stoffströme:"]
[642,"Im Fall von PFC-Emissionen sind zwei Methoden (A: Steigungsmethode, B: Überspannungsmethode) zulässig.  In einer Anlage können mehrere Zelltypen vorhanden sein (z. B verschiedene Technologien oder Baujahre), die unterschiedliche Emissionsmerkmale haben können."]
[643,"Gruppen von Zellen, die nach derselben Methode überwacht werden und dieselben Emissionsmerkmale (dieselben Emissionsfaktoren) aufweisen, sollten analog zu anderen auf Berechnung beruhenden Überwachungsmethodiken als „Stoffströme“ (d. h. Überwachungseinheiten) betrachtet werden. "]
[644,"Bitte geben Sie hier gegebenenfalls eine Liste der „Stoffströme“ Ihrer Anlage, die Überwachungsmethodik und den Zell-/Anodentyp an. Die Liste wird automatisch aus Abschnitt 6 Buchstabe B des Datenblatts C_InstallationDescription übernommen."]
[645,"Diese Liste wird dann im folgenden Abschnitt verwendet, um weitere Einzelheiten zu jedem Stoffstrom festzulegen."]
[646,"Zelltyp"]
[647,"Überwachungsmethodik",null,"; 'I_PFC'!$U$49"]
[648,"In den grünen Feldern werden die vorgeschriebenen Ebenen für Tätigkeitsdaten und Berechnungsfaktoren auf Basis Ihrer Angaben In Abschnitt 5 Buchstaben d und e und Abschnitt 6 Buchstaben e und f angezeigt. Dies sind die Mindestebenen für emissionsstarke Stoffströme in Anlagen der Kategorie C. Geringere Anforderungen können jedoch zugelassen werden. Abhängig von den nachstehend genannten Faktoren werden in der grünen Textbox entsprechende Hinweise angezeigt:"]
[649,"An Anlagen mit geringen Emissionen gemäß Artikel 47 Absatz 2 werden geringere Anforderungen gerichtet;"]
[650,"die Anlagenkategorie (A, B oder C) gemäß Artikel 19;"]
[651,"Tätigkeitsdaten"]
[652,"Primäraluminiumproduktion:"]
[653,"Methode A: Zahl der Anodeneffekte/Zelltag"]
[654,"Methode A: durchschnittliche Anodeneffekt-Minuten/Häufigkeit"]
[655,"Methode B: Anodeneffekt-Überspannung je Zelle"]
[656,"Methode B: mittlere Stromeffizienz"]
[657,"Berechnungsfaktoren"]
[658,"Angewandte Ebenen"]
[659,"S(CF4) Steigungs-Emissionsfaktor"]
[660,"OVC Überspannungskoeffizient"]
[661,"F(C2F6) Gewichtungsfaktor von C2F6"]
[662,"Einzelheiten zur Ebene"]
[663,"Standard-wert oder letzter Wert"]
[664,"Datum der letzten Analyse"]
[665,"Abscheideleistung für diffuse Emissionen"]
[666,"Bestimmung der Abscheideleistung"]
[667,"Abscheideleistung"]
[668,"Bitte geben Sie unten sachdienliche Anmerkungen ein. So ist namentlich zu erklären, wie die Berechnungsfaktoren bestimmt werden, welche Messgeräte und Prozesskontrollvorrichtungen zur Bestimmung der Tätigkeitsdaten verwendet werden usw."]
[669,"Bei Anwendung eines Emissionsfaktors der Ebene 2 Angaben zum schriftlichen Verfahren mit einer Beschreibung des Zeitplans für Wiederholungsmessungen gemäß Anhang IV Abschnitt 8 MVO (Emissionsfaktoren und Abscheideleistung)."]
[670,"Bei Anwendung eines Emissionsfaktors der Ebene 2 Angaben zum Protokoll mit einer Beschreibung des schriftlichen Verfahrens für die Bestimmung der anlagenspezifischen Emissionsfaktoren für CF4 und C2F6. "]
[671,"Hinweis: Aus der Beschreibung des Verfahrens sollte auch hervorgehen, dass die Messungen über einen hinreichend langen Zeitraum für eine Konvergenz der Messwerte, mindestens aber während 72 Stunden durchgeführt werden."]
[672,"Gegebenenfalls Angaben zum schriftlichen Verfahren mit einer Beschreibung der Methodik für die Bestimmung der Abscheideleistung für diffuse Emissionen."]
[673,"J. Transferred CO2 & CCS"]
[674,"Hinweis: Dieser Abschnitt ist auszufüllen, wenn gemäß Artikel 48 MVO inhärentes CO2 als Teil eines Brennstoffs oder gemäß Artikel 49 CO2 weitergeleitet wird."]
[675,"Außerdem ist dieses Arbeitsblatt für Angaben relevant, die im Falle von unter Anhang III Emissionszertifikategesetz 2011 fallenden Tätigkeiten im Bereich der CO2-Abscheidung, des Pipelinetransports oder der geologischen Speicherung von CO2 bereitzustellen sind."]
[676,"Die Informationen zu den Messpunkten und –geräten sind im Arbeitsblatt F_MeasurementBasedApproaches anzugeben."]
[677,"Ausführliche Beschreibung der Überwachungsmethodik, anhand deren inhärentes oder weitergeleitetes CO2 bestimmt wird. "]
[678,"Dies sollte gegebenenfalls  namentlich die Mengen CO2 einschließen, die wegen der Annahme von weitergeleitetem CO2 hinzuzurechnen bzw. wegen der Weiterleitung von CO2 aus der Anlage abzuziehen sind. Bitte achten Sie darauf, dass die Berechnung mit den Artikeln 48 und 49 MVO vereinbar ist."]
[679,"Ist die Beschreibung zu komplex (z. B. komplexe Formeln oder einfachere Beschreibung durch Diagramm), können Sie die Beschreibung in einer gesonderten Unterlage in einem von der zuständigen Behörde akzeptierten Format vorlegen. In diesem Fall geben Sie hier bitte die Referenz der Datei an (Dateiname und Datum).",null,"; 'J2_PermCCU'!$E$17"]
[680,"Angaben zu den annehmenden und den weiterleitenden Anlagen"]
[681,"Bitte machen Sie hier zu jeder Anlage (oder anderen Einrichtung), von der Sie inhärentes oder weitergeleitetes CO2 annehmen oder an die Sie solches weiterleiten, folgende Angaben:"]
[682,"Name der Anlage"]
[683,"Geben Sie hier den Namen der Anlage oder Nicht-EHS-Einrichtung an, von der oder an die CO2 weitergeleitet wird. Verwenden Sie, soweit möglich, denselben Namen, den die zuständige Behörde und das Register verwenden."]
[684,"Name des Inhabers der Anlage oder Nicht-EHS-Einrichtung."]
[685,"Kennung der Anlage"]
[686,"Bei EU-EHS-Anlagen geben Sie bitte die vom Registriersystem verwendete Kennnummer der Anlage an. Im Zweifelsfall fragen Sie die zuständige Behörde nach dem korrekten Format der Kennnummer."]
[687,"Art der Weiterleitung"]
[688,"Wählen Sie aus der Drop-down-Liste aus, ob es sich um eine Weiterleitung von oder an eine Anlage oder Nicht-EHS-Einrichtung handelt und ob es um inhärentes CO2 (Artikel 48) oder weitergeleitetes CO2 (Artikel 49) nach der Definition der MVO geht."]
[689,"Messansatz"]
[690,"Gemäß Artikel 48 Absatz 3 können Sie die Menge des weitergeleiteten oder inhärenten CO2 mit ihren eigenen Geräten bestimmen oder den Messwert der anderen Anlage heranziehen, oder Sie können beide verwenden und das Ergebnis als Mittel der beiden Messwerte bestimmen. Bitte wählen Sie hier Ihr Vorgehen aus."]
[691,"Hinweis: Einzelheiten zum System der kontinuierlichen Messung, den Messstellen und den Messgeräten sind im Arbeitsblatt F_MeasurementBasedApproaches anzugeben. "]
[692,"Ref. Weiter-leitung"]
[693,"Name der Anlage"]
[694,"Kennung der Anlage"]
[695,"Auf „+“ klicken, um weitere Anlagen einzufügen"]
[696,"Stammt ein Teil des weitergeleiteten CO2 aus Biomasse oder fällt eine Anlage nur zum Teil unter die EU-EHS-Richtlinie Angaben zum schriftlichen Verfahren für die Subtraktion der Menge weitergeleitetes CO2, das nicht aus auf fossilem Kohlenstoff basierenden, unter das Emissionszertifikategesetz 2011 fallenden Tätigkeiten stammt."]
[697,"Angabe der für Ihr Transportnetz gewählten Überwachungsmethodik:"]
[698,"Gemäß Anhang IV Abschnitt 22 Teil B MVO haben Sie die Wahl zwischen zwei Methoden. Methode A sieht eine auf Messungen basierte Massenbilanz des insgesamt emittierten CO2 vor, das in das Netz eingegangen bzw. dieses verlassen hat; Methode B beruht auf der Bestimmung abgelassener und diffuser Emissionen, sowie auf Leckagen und anlagenbasierten Emissionen."]
[699,"Verweisen Sie gegebenenfalls auf die Unsicherheitsanalyse:"]
[700,"Haben Sie Methode B gewählt, müssen Sie nachweisen, dass eine Gesamtunsicherheit von höchstens 7,5 % für die Emissionen des gesamten Transportnetzes eingehalten wird und Methode B zuverlässigere Ergebnisse liefert. Bitte geben Sie hier gegebenenfalls die Referenz der beiliegenden Unterlage an."]
[701,"Gegebenenfalls Beschreibung der für die Messung von Temperatur und Druck im Transportnetz verwendeten Einrichtungen."]
[702,"Bitte führen Sie alle Einrichtungen auf, mit denen bei der Bestimmung von Emissionen aus Leckagen gemäß Anhang IV Abschnitt 22 der MVO Temperatur und Druck im Transportnetz gemessen werden."]
[703,"Referenz"]
[704,"Ort"]
[705," Messgerättyp"]
[706,"Verweis auf das Gerät"]
[707,"Auf „+“ klicken, um weitere Messgeräte einzufügen"]
[708,"Gegebenenfalls Referenz einer ausführlicheren Beschreibung:"]
[709,"Erforderlichenfalls können Sie die Liste unter Buchstabe c und eine ausführlichere Beschreibung in einer gesonderten Unterlage in einem von der zuständigen Behörde akzeptierten Format vorlegen. In diesem Fall geben Sie hier bitte die Referenz der Datei an (Dateiname und Datum)."]
[710,"Gegebenenfalls Angaben zum schriftlichen Verfahren für die Verhinderung, Ermittlung und Quantifizierung von Leckagen aus Transportnetzen."]
[711,"Für Transportnetze Angaben zu dem schriftlichen Verfahren, das gewährleistet, dass CO2 lediglich an Anlagen weitergeleitet wird, die über eine gültige Genehmigung zur Emission von Treibhausgasen verfügen oder in denen das gesamte emittierte CO2 gemäß Artikel 49 wirksam überwacht und verrechnet wird."]
[712,"Wird Methode B auf Pipelinesysteme angewandt, beschreiben Sie bitte das Verfahren, nach dem die Ergebnisse der Methode B mindestens jährlich anhand der Methode A validiert werden."]
[713,"Wird Methode B angewandt, beschreiben Sie bitte das Verfahren, nach dem diffuse Emissionen bestimmt werden."]
[714,"Wird Methode B angewandt, beschreiben Sie bitte das Verfahren, nach dem abgelassene Emissionen bestimmt werden."]
[715,"Hinweis: Im Falle der geologischen Speicherung von CO2 brauchen sowohl die Emissionen aus der Speicherstätte als auch die Abgabe von CO2 in die Wassersäule nur dann überwacht zu werden, wenn eine Leckage entdeckt wurde. Wurde keine Leckage entdeckt, braucht das Monitoringkonzept keine besonderen Überwachungsvorschriften zu enthalten. "]
[716,"Deswegen ist es äußerst wichtig, dass ein Verfahren für Sofortmaßnahmen bei Entdecken einer Leckage besteht. In diesem Fall muss das Monitoringkonzept unverzüglich aktualisiert werden."]
[717,"Angabe des Verfahrens für die regelmäßige Bewertung der Angemessenheit des Monitoringkonzepts. Machen Sie diese Angabe bitte in Abschnitt 19 Buchstabe c des Arbeitsblatts K_ManagementControl."]
[718,"Gegebenenfalls Angaben zum schriftlichen Verfahren einschließlich der Beschreibung der Methodiken für die Quantifizierung von Emissionen oder von Abgaben von CO2 in die Wassersäule aus potenziellen Leckagen sowie der angewandten und möglicherweise angepassten Methodiken für die Quantifizierung der tatsächlichen Emissionen oder Abgaben von CO2 in die Wassersäule aus Leckagen gemäß Anhang IV Abschnitt 23."]
[719,"Bitte beschreiben Sie die Methodik und das Verfahren, mit der/dem diffuse oder abgelassene Emissionen, einschließlich aus Stätten der tertiären Kohlenwasserstoffförderung, bestimmt werden. Werden keine auf Messung beruhenden Methodiken gemäß den Artikeln 41 bis 46 angewandt, so ist eine Begründung wegen unverhältnismäßiger Kosten beizulegen."]
[720,"Bitte beschreiben Sie hier gegebenenfalls das Verfahren, mit dem zwecks Berichtigung des Emissionswerts gemäß Anhang IV Abschnitt 23 Teil B Ziffer 3 MVO die Unsicherheit der Emissionen aus Leckagen bestimmt wird."]
[721,"K. \nManagement Control"]
[722,"Begriffsbestimmungen und Abkürzungen"]
[723,"Dieses Arbeitsblatt ist für alle Anlagenarten relevant."]
[724,"Bitte geben Sie in Einklang mit Artikel 61 MVO an, wer für die Überwachung von Emissionen aus der Anlage und die Berichterstattung darüber zuständig ist."]
[725,"Geben Sie bitte die entsprechenden Funktionen/Stellen an und beschreiben Sie in knapper Form die jeweilige Aufgabe bei der Überwachung und Berichterstattung. Berücksichtigen Sie hierbei bitte nur die Funktionen/Stellen mit übergeordneter Zuständigkeit und sonstige Schlüsselfunktionen (d. h. keine delegierten Zuständigkeiten)."]
[726,"Die Darstellung kann die Form eines Baumdiagramms oder eines Organigramms haben, das bei der Einreichung beigefügt wird."]
[727,"Bei vollständigem Datenfluss (und Prüfpfad) sollten sich alle Zuständigkeiten in den Beschreibungen der Verfahren wiederfinden; die Angabe weiterer Personen wäre nicht nötig."]
[728,"Funktion/Stelle"]
[729,"Zuständigkeiten"]
[730,"Angaben zum Verfahren für die Verwaltung der Zuweisung der Überwachungs- und Berichterstattungszuständigkeiten innerhalb der Anlage und für die Verwaltung der Kompetenzen des zuständigen Personals gemäß Artikel 58 Absatz 3 Buchstabe c der MVO."]
[731,"Die Beschreibung dieses Verfahren sollte deutlich machen, wie die Überwachungs- und Berichterstattungszuständigkeiten für die vorstehend genannten Rollen zugewiesen werden, wie Schulungen und Überprüfungen durchgeführt werden und wie Aufgaben so getrennt werden, dass alle maßgeblichen Daten von einer Person bestätigt werden, die nicht mit der Aufzeichnung und Erhebung der Daten befasst ist. "]
[732,"EHS-Personalverwaltung"]
[733,"• Die zuständige Person führt eine Liste des an der EHS-Datenverwaltung beteiligten Personals"]
[734,"• Die zuständige Person kommt zumindest einmal pro Jahr mit den einzelnen Beteiligten und mindestens viermal mit dem im Anhang zum Verfahren definierten Schlüsselpersonal zusammen; Ziel: Ermittlung des Schulungsbedarfs "]
[735,"• Die zuständige Person verwaltet interne und externe Schulungsmaßnahmen in Abhängigkeit vom ermittelten Schulungsbedarf."]
[736,"Für HSEQ zuständiger, stellvertretender Referatsleiter"]
[737,"Papierfassung: HSEQ-Büro, Regal 27/9, Ordner „EHS 01-P“. Elektronisch: “P:\\EHS_MRV\\manag\\EHS_01-P.xls”"]
[738,"n.r. (Normale Netzserver)"]
[739,"Angaben zum Verfahren für die regelmäßig Evaluierung der Angemessenheit des Monitoringkonzepts, die insbesondere potenzielle Maßnahmen zur Verbesserung der Überwachungsmethodik abdecken."]
[740,"Das nachstehend spezifizierte Verfahren sollte folgendes abdecken:"]
[741,"i - Überprüfung der Liste der Emissionsquellen und Stoffströme, damit die Vollständigkeit dieser Quellen und Ströme gewährleistet und sichergestellt ist, dass alle relevanten Änderungen, die die Art und Funktionsweise der Anlage betreffen, im Monitoringkonzept berücksichtigt werden;"]
[742,"ii - für die auf die einzelnen Stoffströme und Emissionsquellen angewandten Ebenen: Prüfung der Konformität mit den Unsicherheitsschwellenwerten für Tätigkeitsdaten und ggf. anderen Parametern und"]
[743,"iii - Bewertung potenzieller Maßnahmen zur Verbesserung der angewandten Überwachungsmethodik."]
[744,"Angaben zum schriftlichen Verfahren für die Datenflussaktivitäten gemäß Artikel 57 MVO."]
[745,"Werden mehrere Verfahren verwendet, Angaben zu einem übergeordneten Verfahren, das die Hauptschritte der Datenflussaktivitäten umfasst, sowie Vorlage eines Diagramms, aus dem hervorgeht, wie die Datenverwaltungsverfahren zusammenhängen (Bitte geben Sie die Referenz des Diagramms an und legen Sie es dem Monitoringkonzept bei).  Alternativ Angaben zu zusätzlichen sachdienlichen Verfahren auf einem gesonderten Blatt."]
[746,"Unter „Beschreibung der relevanten Verarbeitungsschritte“ geben Sie bitte jeden Schritt im Datenfluss von den Primärdaten bis zu den jährlichen Emissionen an, der die Sequenz der Datenflussaktivitäten und die Interaktion zwischen ihnen widerspiegelt, und fügen die Formeln und Daten für die Bestimmung von Emissionen aus den Primärdaten bei. Angaben zu allen einschlägigen elektronischen Datenverarbeitungs- und -speichersystemen und anderen Eingaben (einschließlich manueller Eingabe) und Bestätigung, der Art und Weise, wie die Ergebnisse der Datenflussaktivitäten aufgezeichnet werden."]
[747,"Liste der Primärdatenquellen"]
[748,"Beschreibung der relevanten Verarbeitungsschritte für jede spezielle Datenflussaktivität "]
[749,"Angaben zu den Verfahren für die Bewertung der inhärenten Risiken und der Kontrollrisiken gemäß Artikel 58 MVO."]
[750,"Aus der kurzen Beschreibung sollte hervorgehen, wie bei der Einrichtung eines wirksamen Kontrollsystems inhärente Risiken und Kontrollrisiken bewertet werden."]
[751,"Angaben zu den Verfahren für die Qualitätssicherung der Messeinrichtungen gemäß den Artikeln 58 und 59 MVO."]
[752,"Aus der kurzen Beschreibung sollte hervorgehen, wie alle relevanten Messeinrichtungen gegebenenfalls in regelmäßigen Abständen kalibriert und kontrolliert werden und wie verfahren wird, wenn sie die geforderte Leistung nicht erbringen."]
[753,"Angaben zu den Verfahren für die Qualitätssicherung des für die Datenflussaktivitäten verwendeten IT-Systems gemäß den Artikeln 58 und 60 MVO."]
[754,"Aus der kurzen Beschreibung sollte hervorgehen, wie das IT-System getestet und kontrolliert wird, einschließlich Zugriffskontrolle, Back-up, Wiederherstellung von Daten und Sicherheit."]
[755,"Angaben zu den Verfahren für die regelmäßige Überprüfung und Validierung von Daten gemäß den Artikeln 58 und 62 MVO."]
[756,"Aus der kurzen Beschreibung sollte hervorgehen, dass der Überprüfungs- und Validierungsprozess Folgendes umfasst: Prüfung der Vollständigkeit der Daten, Vergleich mit den  Daten aus den Vorjahren, Vergleich des gemeldeten Brennstoffverbrauchs mit den Rechnungsunterlagen, gegebenenfalls Vergleich des von den Brennstofflieferanten angegebenen Faktors mit internationalen Referenzfaktoren und Kriterien für die Ablehnung von Daten."]
[757,"Angaben zu den Verfahren für Berichtigungen und Korrekturmaßnahmen gemäß den Artikeln 58 und 63 MVO."]
[758,"Aus der kurzen Beschreibung sollte hervorgehen, welche geeigneten Maßnahmen getroffen werden, wenn festgestellt wird, dass die Datenfluss- und Kontrollaktivitäten nicht reibungslos funktionieren. Aus dem Verfahren sollte deutlich werden, wie die Gültigkeit der Ergebnisse geprüft wird und wie die Ursache des Funktionsfehlers ermittelt und der Fehler behoben wird."]
[759,"Angaben zu den Verfahren für die Kontrolle von ausgelagerten Prozessen gemäß den Artikeln 59 und 64 MVO."]
[760,"Aus der kurzen Beschreibung sollte hervorgehen, wie die Datenfluss- und Kontrollaktivitäten ausgelagerter Prozesse überprüft werden, und wie die Qualität der dabei ermittelten Daten geprüft wird."]
[761,"Angaben zu den Verfahren für das Führen von Aufzeichnungen und für die Dokumentation gemäß den Artikeln 58 und 66 MVO."]
[762,"Aus der kurzen Beschreibung sollte hervorgehen, nach welchem Verfahren Unterlagen aufbewahrt werden, namentlich in Bezug auf die in Anhang IX der MVO genannten Daten und Informationen, und wie Daten so gespeichert werden, dass die Informationen der zuständigen Behörde oder der Prüfstelle auf deren Aufforderung ohne weiteres zur Verfügung gestellt werden können."]
[763,"Angaben zu den dokumentierten Ergebnissen einer Risikobewertung, die belegt, dass die Kontrollaktivitäten und -verfahren den identifizierten Risiken angemessen sind, in Einklang mit Artikel 12 Absatz 1 Buchstabe b MVO.  (Hinweis: Gemäß Artikel 47 Absatz 3 MVO sind Anlagen mit geringen Emissionen von der Verpflichtung befreit, der zuständigen Behörde die Risikobewertung vorzulegen.)"]
[764,"Angabe der Referenz der Datei/der Unterlage, die Ihrem Monitoringkonzept beigefügt ist."]
[765,"Hat Ihre Einrichtung ein dokumentiertes Umweltmanagementsystem?"]
[766,"Bei Zertifizierung des Umweltmanagementsystems durch eine akkreditierte Stelle: Angabe der betreffenden Norm, z. B. ISO 14001, EMAS usw.:"]
[767,"Listen Sie bitte in diesem Monitoringkonzept verwendete Abkürzungen bzw. Akronyme oder Definitionen auf:"]
[768,"Abkürzung"]
[769,"Definition"]
[770,"Listen Sie im Folgenden etwaige sonstige Informationen auf, die Sie mit einreichen und die bei der Prüfung Ihres Monitoringkonzepts berücksichtigt werden sollen. Bitte stellen Sie diese soweit möglich in elektronischer Form bereit. Sie können Informationen im Format Microsoft Word, Excel oder Adobe Acrobat vorlegen."]
[771,"Es wird empfohlen, nur wesentliche Informationen zu übermitteln, um das Genehmigungsverfahren nicht zu verlangsamen. Auf die zusätzlichen Dokumente sollte klar verwiesen werden, und der Name/die Referenznummer der Datei sollten nachstehend angegeben werden. Bei Fragen wenden Sie sich erforderlichenfalls an die zuständige Behörde."]
[772,"Bitte geben Sie nachstehend den/die Dateinamen (falls in elektronischer Form) oder die Dokument-Referenznummer(n) (wenn in Papierform) an:"]
[773,"Dateiname/Referenznr."]
[774,"Dokumentenbeschreibung"]
[775,"Dieser Abschnitt ist für die Mitgliedstaaten fakultativ"]
[776,"Gemäß Artikel 24 Absatz 1 des Beschlusses 2011/278/EU der Kommission tragen die Mitgliedstaaten dafür Sorge, dass alle relevanten Informationen über geplante oder tatsächliche Änderungen der Kapazität, der Aktivitätsrate und des Betriebs einer Anlage vom Anlageninhaber bis zum 31. Dezember jedes Jahres an die zuständige Behörde übermittelt werden. Gemäß Artikel 12 Absatz 3 MVO können die Mitgliedstaaten außerdem vorschreiben, dass in das Monitoringkonzept einer Anlage Informationen aufgenommen werden, um diesen Anforderungen Genüge zu tun."]
[777,"Angaben zu dem Verfahren, das gewährleistet, dass regelmäßig geprüft wird, ob sich geplante oder tatsächliche Änderungen der Kapazität, der Aktivitätsrate oder des Betriebs der Anlage auf die Zuteilung der Anlage auswirken."]
[778,"- die Planung und Ausführung regelmäßiger Kontrollen, um zu ermitteln, ob geplante oder tatsächliche Änderungen der Kapazität, der Aktivitätsrate und des Betriebs einer Anlage nach dem Beschluss 2011/278/EU der Kommission von Belang sind, und"]
[779,"- die Verfahren, die gewährleisten, dass solche Informationen der zuständigen Behörde bis 31. Dezember jedes Jahres vorgelegt werden."]
[780,"L. Member State specific content"]
[781,"Platz für weitere Anmerkungen:"]
[782,"Standardmethodik: Prozess, Artikel 24 Absatz 2"]
[783,"Massenbilanzmethodik, Artikel 25"]
[784,"<<< Hier klicken, um mit nächstem Blatt fortzufahren >>> "]
[785,"Stoffstrom"]
[786,"Messpunkt"]
[787,"Handelspartner"]
[788,"Charge"]
[789,"Eine ausführliche Anleitung zur Dateneingabe in diesem Modul finden Sie beim ersten Auftreten dieses Eingabeabschnitts. "]
[790,"Relevant"]
[791,"Nicht relevant"]
[792,"Nicht anwendbar!"]
[793,"Unsicherheit darf nicht mehr betragen als"]
[794,"(n.r.; Verwendung eines auf Best-Practice beruhenden Schätzwerts)"]
[795,"Bitte machen Sie Angaben in diesem Abschnitt"]
[796,"Bitte fahren Sie mit den nachstehenden Punkten fort"]
[797,"Bitte geben Sie an, warum historische Daten nicht verfügbar oder nicht geeignet sind."]
[798,"Keine Ebene"]
[799,"Diese Regel gilt nicht für Anlagen mit N2O-Tätigkeiten!"]
[800,"De-minimis-Schwellenwert überschritten!"]
[801,"Schwellenwert für emissionsschwache Stoffströme überschritten!"]
[802,"Summe nicht innerhalb von 5 % der angegebenen Jahresemissionen\n(Abschnitt 6 Buchstabe c)!"]
[803,"Der zuständigen Behörde vorbehalten"]
[804,"Vom Inhaber auszufüllen"]
[805,"Österreich"]
[806,"Belgien"]
[807,"Bulgarien"]
[808,"Kroatien"]
[809,"Zypern"]
[810,"Tschechische Republik"]
[811,"Dänemark"]
[812,"Estland"]
[813,"Finnland"]
[814,"Frankreich"]
[815,"Deutschland"]
[816,"Griechenland"]
[817,"Ungarn"]
[818,"Island"]
[819,"Irland"]
[820,"Italien"]
[821,"Lettland"]
[822,"Liechtenstein"]
[823,"Litauen"]
[824,"Luxemburg"]
[825,"Malta"]
[826,"Niederlande"]
[827,"Norwegen"]
[828,"Polen"]
[829,"Portugal"]
[830,"Rumänien"]
[831,"Slowakei"]
[832,"Slowenien"]
[833,"Spanien"]
[834,"Schweden"]
[835,"Vereinigtes Königreich"]
[836,"von der zuständigen Behörde abgelehnt"]
[837,"Arbeitsentwurf"]
[838,"Relevante Abschnitte: 6 (außer Buchst. d), 7, 8, 20 bis 25"]
[839,"Relevante Abschnitte: 6 (außer Buchst. e), 9, 10, 11, 20 bis 25"]
[840,"Relevante Abschnitte: 12, 20 bis 25"]
[841,"Relevante Abschnitte: 6 (außer Buchst. e), 9, 10, 11, 13, 20 bis 25"]
[842,"Relevante Abschnitte: 6 (außer Buchst. d), 7, 14, 15, 16, 20 bis 25"]
[843,"Relevante Abschnitte: 6 (außer Buchst. e), 9, 10, 11, 17, 18, 19, 20 - 25"]
[844,"Weiterleitung von CO2 "]
[845,"Berechnung mit Sonderbestimmungen für PFC (Anhang IV Abschnitt 8)"]
[846,"Annahme von inhärentem CO2 "]
[847,"Abgabe von inhärentem CO2 an EHS-Anlage"]
[848,"Abgabe von inhärentem CO2 an Nicht-EHS-Verbraucher"]
[849,"Annahme von weitergeleitetem CO2 "]
[850,"Abgabe von weitergeleitetem CO2 "]
[851,"Verwendung eigener Geräte"]
[852,"Verwendung der Geräte der anderen Anlage"]
[853,"Verwendung der Geräte beider Partner"]
[854,"Methode A"]
[855,"Methode B"]
[856,"AnnexIActivities"]
[857,"Raffination von Mineralöl "]
[858,"Herstellung von Koks"]
[859,"Röstung oder Sinterung von Metallerz"]
[860,"Herstellung von Roheisen oder Stahl"]
[861,"Herstellung oder Verarbeitung von Eisenmetallen"]
[862,"Herstellung von Primäraluminium"]
[863,"Herstellung von Sekundäraluminium"]
[864,"Herstellung oder Verarbeitung von Nichteisenmetallen"]
[865,"Herstellung von Kalk oder Brennen von Dolomit oder Magnesit"]
[866,"Herstellung von Glas"]
[867,"Herstellung von keramischen Erzeugnissen"]
[868,"Herstellung von Mineralwolle"]
[869,"Herstellung oder Verarbeitung von Gips oder Gipskartonplatten"]
[870,"Herstellung von Zellstoff"]
[871,"Herstellung von Papier oder Karton"]
[872,"Herstellung von Industrieruß"]
[873,"Herstellung von Salpetersäure"]
[874,"Herstellung von Adipinsäure"]
[875,"Herstellung von Glyoxal und Glyoxylsäure"]
[876,"Herstellung von Ammoniak"]
[877,"Herstellung von organischen Grundchemikalien"]
[878,"Herstellung von Wasserstoff und Synthesegas"]
[879,"Herstellung von Soda und Natriumbicarbonat"]
[880,"Abscheidung von Treibhausgasen gemäß der Richtlinie 2009/31/EG"]
[881,"Beförderung von Treibhausgasen gemäß der Richtlinie 2009/31/EG"]
[882,"Speicherung von Treibhausgasen gemäß der Richtlinie 2009/31/EG"]
[883,"SpecifiedEmissions2"]
[884,"PFC"]
[885,"CO2 und N2O"]
[886,"CO2 und PFC"]
[887,"SourceCategory"]
[888,"Emissionsschwach"]
[889,"De-minimis"]
[890,"SourceCategoryCEMS"]
[891,"AnalysisFrequency"]
[892,"Kontinuierlich"]
[893,"Täglich"]
[894,"Monatlich"]
[895,"Vierteljährlich"]
[896,"Halbjährlich"]
[897,"Jährlich"]
[898,"OperationType"]
[899,"Normbetrieb"]
[900,"Ausnahmesituation"]
[901,"PFCMethods"]
[902,"Methode A - Steigungsmethode"]
[903,"Methode B - Überspannungsmethode"]
[904,"PFCCellTypes"]
[905,"Mittenbedienter Ofen mit vorgebrannten Anoden (CWPB)"]
[906,"Søderberg-Zelle mit vertikaler Anodenanordnung (VSS)"]
[907,"Seitenbedienter Ofen mit vorgebrannten Anoden (SWPB)"]
[908,"Søderberg-Zelle mit horizontaler Anodenanordnung (HSS)"]
[909,"MeteringDevices"]
[910,"Turbinenradzähler"]
[911,"Balgengaszähler"]
[912,"Wirkdruckzähler"]
[913,"Venturi-Messgerät"]
[914,"Ultraschallzähler"]
[915,"Wirbelgaszähler"]
[916,"Coriolis-Zähler"]
[917,"Ovalradzähler"]
[918,"Elektronischer Zustandsmengenumwerter (EZMU)"]
[919,"Gaschromatograph"]
[920,"Förderbandwaage"]
[921,"MeasurementTiers"]
[922,"PFCTiers"]
[923,"BiomassTiers"]
[924,"ConversionFactorTiers"]
[925,"ActivityDataTiers"]
[926,"NCVTiers"]
[927,"2b"]
[928,"EFTiers"]
[929,"CarbonContentTiers"]
[930,"Anhang III Emissionszertifikategesetz"]
[931,"Sondertätigkeiten"]
[932,"Verbrennung von Brennstoffen in Anlagen mit einer Gesamtfeuerungswärmeleistung von über 20 MW (ausgenommen Anlagen für die Verbrennung von gefährlichen oder Siedlungsabfällen)"]
[933,"Röstung oder Sinterung einschließlich Pelletierung von Metallerz (einschließlich Sulfiderz) "]
[934,"Herstellung von Roheisen oder Stahl (Primär- oder Sekundärschmelzbetrieb), einschließlich Stranggießen, mit einer Kapazität über 2,5 t pro Stunde "]
[935,"Herstellung oder Verarbeitung von Eisenmetallen (einschließlich Eisenlegierungen) bei Betrieb von Verbrennungseinheiten mit einer Gesamtfeuerungswärmeleistung von über 20 MW. Die Verarbeitung umfasst unter anderem Walzwerke, Öfen zum Wiederaufheizen, Glühöfen, Schmiedewerke, Gießereien, Beschichtungs- und Beizanlagen."]
[936,"Herstellung von Sekundäraluminium bei Betrieb von Verbrennungseinheiten mit einer Gesamtfeuerungswärmeleistung von über 20 MW"]
[937,"Herstellung oder Verarbeitung von Nichteisenmetallen einschließlich der Herstellung von Legierungen, Raffinationsprodukten, Gussprodukten usw. bei Betrieb von Verbrennungseinheiten mit einer Gesamtfeuerungswärmeleistung (einschließlich der als Reduktionsmittel verwendeten Brennstoffe) von über 20 MW"]
[938,"Herstellung von Zementklinker in Drehrohröfen mit einer Produktionskapazität von über 500 t pro Tag oder in anderen Öfen mit einer Produktionskapazität über 50 t pro Tag "]
[939,"Herstellung von Kalk oder Brennen von Dolomit oder Magnesit in Drehrohröfen oder in anderen Öfen mit einer Produktionskapazität über 50 t pro Tag "]
[940,"Herstellung von Glas einschließlich Glasfasern mit einer Schmelzkapazität von über 20 t pro Tag "]
[941,"Herstellung von keramischen Erzeugnissen durch Brennen, und zwar insbesondere von Dachziegeln, Ziegelsteinen, feuerfesten Steinen, Fliesen, Steinzeug oder Porzellan mit einer Produktionskapazität von über 75 t pro Tag "]
[942,"Herstellung von Dämmmaterial aus Mineralwolle unter Verwendung von Glas, Stein oder Schlacke mit einer Schmelzkapazität von über 20 t pro Tag "]
[943,"Trocknen oder Brennen von Gips oder Herstellung von Gipskartonplatten und sonstigen Gipserzeugnissen bei Betrieb von Verbrennungseinheiten mit einer Gesamtfeuerungswärmeleistung von über 20 MW "]
[944,"Herstellung von Zellstoff aus Holz oder anderen Faserstoffen "]
[945,"Herstellung von Papier und Karton mit einer Produktionskapazität über 20 t pro Tag "]
[946,"Herstellung von Industrieruß durch Karbonisierung organischer Stoffe wie Öle, Teere, Crack- und Destillationsrückstände bei Betrieb von Verbrennungseinheiten mit einer Gesamtfeuerungswärmeleistung von über 20 MW "]
[947,"Herstellung von organischen Grundchemikalien durch Cracken, Reformieren, partielle oder vollständige Oxidation oder ähnliche Verfahren, mit einer Produktionskapazität von über 100 t pro Tag "]
[948,"Herstellung von Wasserstoff (H2) und Synthesegas durch Reformieren oder partielle Oxidation mit einer Produktionskapazität von über 25 t pro Tag "]
[949,"Herstellung von Soda (Na2CO3) und Natriumbicarbonat (NaHCO3) "]
[950,"Abscheidung von Treibhausgasen aus unter diese Richtlinie fallenden Anlagen zwecks Beförderung und geologischer Speicherung in einer gemäß der Richtlinie 2009/31/EG genehmigten Speicherstätte"]
[951,"Beförderung von Treibhausgasen in Pipelines zwecks geologischer Speicherung in einer gemäß der Richtlinie 2009/31/EG genehmigten Speicherstätte"]
[952,"Geologische Speicherung von Treibhausgasen in einer gemäß der Richtlinie 2009/31/EG genehmigten Speicherstätte"]
[953,"Tätigkeitsdaten"]
[954,"Ebene"]
[955,"Tätigkeit",null,"; 'C_InstallationDescription'!$F$271"]
[956,"Kurzbezeichnung"]
[957,"Teilmaßnahme"]
[958,"Quellentyp"]
[959,"Minimum"]
[960,"Maximum"]
[961,"Schattieren?"]
[962,"Verbrennung von Brennstoffen und als Prozess-Input verwendete Bennstoffe"]
[963,"Verbrennung"]
[964,"Kommerzielle Standardbrennstoffe"]
[965,"± 7,5 %"]
[966,"± 5,0 %"]
[967,"± 2,5 %"]
[968,"± 1,5 %"]
[969,"Andere gasförmige und flüssige Brennstoffe"]
[970,"Feste Brennstoffe"]
[971,"Brennstoffmenge [t]"]
[972,"Gasaufbereitungsstationen"]
[973,"Jedes Input- und Outputmaterial [t]"]
[974,"Fackeln"]
[975,"Fackelgasmenge [Nm3]"]
[976,"± 17,5 %"]
[977,"± 12,5 %"]
[978,"Abgaswäsche (Karbonat)"]
[979,"Verbrauchte Karbonatmenge [t]"]
[980,"Abgaswäsche (Gips)"]
[981,"Erzeugte Gipsmenge [t]"]
[982,"Raffinerien"]
[983,"Massenbilanz"]
[984,"Regeneration von katalytischen Crackern"]
[985,"Unsicherheitsvorgaben gelten für jede Emissionsquelle separat"]
[986,"± 10,0 % (als t CO2)"]
[987,"± 7,5 % (als t CO2)"]
[988,"± 5,0 % (als t CO2)"]
[989,"± 2,5 % (als t CO2)"]
[990,"Wasserstofferzeugung"]
[991,"Eingesetzter Kohlenwasserstoff [t]"]
[992,"Koks"]
[993,"Brennstoff als Prozess-Input"]
[994,"Karbonat-Input (Methode A)"]
[995,"Carbonat-Inputmaterial [t]"]
[996,"Oxid-Output (Methode B)"]
[997,"Oxid-Output [t]"]
[998,"Röstung und Sinterung von Metallerz"]
[999,"Metallerz"]
[1000,"Karbonat-Input"]
[1001,"Karbonat-Inputmaterial und Prozessrückstände [t]"]
[1002,"Eisen- und Stahlproduktion"]
[1003,"Eisen und Stahl"]
[1004,"Jeder Massenstrom in die und aus der Anlage [t]"]
[1005,"Zementklinker"]
[1006,"Ofen-Input-Betrachtung (Methode A)"]
[1007,"Jeder relevante Ofen-Input [t]"]
[1008,"Klinker-Output (Methode B)"]
[1009,"Hergestellte Klinkermenge [t]"]
[1010,"Zementofenstaub (CKD)"]
[1011,"CKD oder Bypass-Staub [t]"]
[1012,"Nicht-karbonatischer Kohlenstoff"]
[1013,"Jedes Rohmaterial [t]"]
[1014,"± 15,0 %"]
[1015,"Herstellung von Kalk und Brennen von Dolomit oder Magnesit"]
[1016,"Kalk / Dolomit / Magnesit"]
[1017,"Karbonate (Methode A)"]
[1018,"Erdalkalimetalloxid (Methode B)"]
[1019,"Hergestellte Kalkmenge [t]"]
[1020,"Ofenstaub (Methode B)"]
[1021,"Ofenstaub [t]"]
[1022,"Herstellung von Glas und Mineralwolle"]
[1023,"Glas und Mineralwolle"]
[1024,"Karbonate (Input)"]
[1025,"Jedes (jeder) für CO2-Emissionen verantwortliche karbonathaltige Rohmaterial bzw. Zusatzstoff [t]"]
[1026,"Herstellung von keramischen Erzeugnissen"]
[1027,"Keramische Erzeugnisse"]
[1028,"Kohlenstoff-Inputs (Methode A)"]
[1029,"Jedes (jeder) für CO2-Emissionen verantwortliche karbonathaltige Rohmaterial bzw. Zusatzstoff [t]"]
[1030,"Alkalimetalloxid (Methode B)"]
[1031,"Bruttoproduktionsmenge, einschließlich Ausschuss und Scherben aus Öfen und Beförderungsmitteln [t]"]
[1032,"Abgaswäsche"]
[1033,"Verbrauchte Menge an Trocken-CaCO3 [t]"]
[1034,"Herstellung von Zellstoff und Papier"]
[1035,"Papier und Zellstoff"]
[1036,"Ergänzungschemikalien"]
[1037,"Menge an CaCO3 und Na2CO3 [t]"]
[1038,"Industrieruß"]
[1039,"Massenbilanzmethodik"]
[1040,"Ammoniak"]
[1041,"Als Prozess-Input verbrauchte Brennstoffmenge [t] oder [Nm3]"]
[1042,"Wasserstoff und Synthesegas"]
[1043,"Als Prozess-Input für die Wasserstofferzeugung verbrauchte Brennstoffmenge [t] oder [Nm3]"]
[1044,"Herstellung von organischen Grundchemikalien"]
[1045,"Organische Grundchemikalien"]
[1046,"Herstellung oder Verarbeitung von Eisen- und Nichteisenmetallen einschließlich Sekundäraluminium"]
[1047,"(Nicht)-Eisen, Sek.-Aluminium"]
[1048,"Prozessemissionen"]
[1049,"Jedes (jeder) als Prozess-Input verwendete Input-Material bzw. Prozessrückstand [t]"]
[1050,"Soda / Natriumbicarbonat"]
[1051,"Primäraluminiumproduktion"]
[1052,"Primäraluminium"]
[1053,"PFC-Emissionen (Steigungsmethode)"]
[1054,"Primäraluminiumproduktion in [t], Anodeneffekt-Minuten in [Anzahl Anodeneffekte/Zelltag] und [Anodeneffekt-Minuten/Häufigkeit]"]
[1055,"PFC-Emissionen (Überspannungsmethode)"]
[1056,"Primäraluminiumproduktion in [t], Anodeneffekt-Überspannung [mV] und Stromeffizienz [-]"]
[1057,"Massenbilanz"]
[1058,"Emissionsfaktor"]
[1059,"Standardwert?"]
[1060,"Ermittelte Proxywerte (soweit zutreffend)"]
[1061,"Der Anlageninhaber wendet an: \na) entweder die Standardfaktoren gemäß Anhang VI Abschnitt 1; \nb) andere konstante Werte gemäß Artikel 31 Absatz 1 Buchstabe d oder e, \nwenn in Anhang I Abschnitt 1 kein verbindlicher Wert vorgegeben ist."]
[1062,"Ebene 2a: Der Anlageninhaber wendet auf den jeweiligen Brennstoff/das jeweilige Material gemäß Artikel 31 Absatz 1 Buchstaben b und c länderspezifische Emissionsfaktoren an."]
[1063,"Ebene 2b: Der Anlageninhaber berechnet die Emissionsfaktoren für den Brennstoff auf der Grundlage eines der folgenden ermittelten Proxywerte, kombiniert mit einer empirischen Korrelation, wie sie gemäß den Artikeln 32 bis 35 und Artikel 39 mindestens einmal jährlich bestimmt wird:"]
[1064,"Der Anlageninhaber bestimmt den Emissionsfaktor nach den maßgeblichen Vorschriften der Artikel 32 bis 35."]
[1065,"0,00393 t CO2/Nm3."]
[1066,"Anlagenspezifische Faktoren"]
[1067,"Der Anlageninhaber legt als Referenzwert einen aus der Verbrennung von reinem Ethan errechneten Emissionsfaktor von 0,00393 t CO2/Nm3 zugrunde, der als konservativer Proxywert für Fackelgase verwendet wird."]
[1068,"Ebene 2b: Anlagenspezifische Emissionsfaktoren werden anhand der Prozessmodellierung auf Basis von Industriestandardmodellen aus einem Schätzwert des Molekulargewichts des Fackelgasstromes errechnet. Durch Betrachtung der relativen Anteile und der Molekulargewichte der jeweiligen Stoffströme wird für das Molekulargewicht des Fackelgases ein gewichteter Jahresmittelwert errechnet."]
[1069,"Standardwerte Typ I und Best-Practice"]
[1070,"Der Emissionsfaktor wird aus den stöchiometrischen Verhältniszahlen gemäß Anhang VI Abschnitt 2 bestimmt. Die CaCO3- und die MgCO3-Menge in dem betreffenden Input-Material wird nach den Best-practice-Leitlinien der Industrie bestimmt."]
[1071,"0,2558 t CO2/t Gips."]
[1072,"Der Emissionsfaktor entspricht dem stöchiometrischen Verhältnis von Trockengips (CaSO4.2H2O) zu emittiertem CO2: 0,2558 t CO2/t Gips."]
[1073,"2,9 t CO2/t verarbeitetes Input-Material"]
[1074,"Der Anlageninhaber legt einen auf Ethan beruhenden konservativen Referenzwert von 2,9 t CO2 je Tonne verarbeitetes Input-Material zugrunde."]
[1075,"Der Anlageninhaber legt einen gemäß den Artikeln 32 bis 35 bestimmten und anhand des Kohlenstoffgehalts des Einsatzgases berechneten tätigkeitsspezifischen Emissionsfaktor zugrunde."]
[1076," "]
[1077,"0,525 t CO2/t Klinker"]
[1078,"Der Anlageninhaber wendet einen Emissionsfaktor von 0,525 t CO2/t Klinker an."]
[1079,"Die Menge relevanter Metalloxide, die bei der Zersetzung von Karbonaten im Produkt anfallen, wird nach Maßgabe der Artikel 32 bis 35 bestimmt. Zur Umrechnung von Zusammensetzungsdaten in Emissionsfaktoren werden die stöchiometrischen Verhältniszahlen gemäß Anhang VI Abschnitt 2 Tabelle 3 herangezogen, wobei davon ausgegangen wird, dass alle relevanten Metalloxide aus den jeweiligen Karbonaten stammen."]
[1080,"Anhang VI Abschnitt 2 und Analysen"]
[1081,"0,525 t CO2/t Staub"]
[1082,"Der Anlageninhaber wendet einen Emissionsfaktor von 0,525 t CO2/t Staub an."]
[1083,"Der Anlageninhaber bestimmt den Emissionsfaktor (EF) mindestens ein Mal jährlich nach Maßgabe der Artikel 32 bis 35 und nach folgender Formel:"]
[1084,"Best-Practice"]
[1085,"Der Anteil an nicht karbonatischem Kohlenstoff im relevanten Rohmaterial wird nach den Best-practice-Leitlinien der Industrie geschätzt."]
[1086,"Der Anteil an nicht karbonatischem Kohlenstoff im relevanten Rohmaterial wird mindestens ein Mal jährlich nach Maßgabe der Artikel 32 bis 35 bestimmt."]
[1087,"Die Menge der relevanten Karbonate im jeweiligen Input-Material wird nach Maßgabe der Artikel 32 bis 35 bestimmt. Die Zusammensetzungsdaten werden anhand der stöchiometrischen Verhältniszahlen gemäß Anhang VI Abschnitt 2 in Emissionsfaktoren umgerechnet. "]
[1088,"Der Anlageninhaber wendet die Standardfaktoren gemäß Anhang VI Abschnitt 2 Tabelle 3 an."]
[1089,"Der Anlageninhaber wendet einen länderspezifischen Emissionsfaktor gemäß Artikel 31 Absatz 1 Buchstabe b oder c an."]
[1090,"Es sind die stöchiometrischen Verhältniszahlen gemäß Anhang VI Abschnitt 2 zugrunde zu legen. Die Reinheit des jeweiligen Input-Materials wird nach den Best-practice-Leitlinien der Industrie bestimmt."]
[1091,"Die Menge der relevanten Karbonate im jeweiligen Input-Material wird nach Maßgabe der Artikel 32 bis 35 bestimmt."]
[1092,"0,08794 t CO2/t Trockenton"]
[1093,"Für die Berechnung des Emissionsfaktors wird anstelle von Analyseergebnissen ein konservativer Wert von 0,2 Tonnen CaCO3 (entspricht 0,08794 Tonnen CO2) je Tonne Trockenton angewandt."]
[1094,"Nach den Best-practice-Leitlinien der Industrie wird unter Berücksichtigung der besonderen Merkmale der Anlage und ihrer Produktpalette ein Emissionsfaktor für jeden Stoffstrom errechnet und mindestens ein Mal jährlich aktualisiert."]
[1095,"0,09642 t CO2/t Produkt"]
[1096,"Standardwert Typ I "]
[1097,"Der Anlageninhaber wendet die stöchiometrische Verhältniszahl für CaCO3 gemäß Anhang VI Abschnitt 2 an."]
[1098,"Standardwerte Typ I und Best-Practice"]
[1099,"Es sind die stöchiometrischen Verhältniszahlen gemäß Anhang VI Abschnitt 2 zugrunde zu legen. Die Reinheit des jeweiligen Input-Materials wird nach den Best-practice-Leitlinien der Industrie bestimmt. Die errechneten Werte sind um den jeweiligen Feuchte- und Gangart-Gehalt des eingesetzten Karbonatmaterials zu bereinigen."]
[1100,"Anlagenspezifische Emissionsfaktoren"]
[1101,"Der Anlageninhaber wendet technologiespezifische Emissionsfaktoren aus Anhang IV Abschnitt 8 Tabelle 1 an."]
[1102,"Der Anlageninhaber wendet anlagenspezifische Emissionsfaktoren für CF4 und C2F6 an, die durch kontinuierliche oder periodische Feldmessungen ermittelt werden. Für die Bestimmung dieser Emissionsfaktoren greift er auf die neueste Fassung der in Abschnitt 4.4.2.4 der IPCC-Leitlinien von 2006 unter Ebene 3 genannten Leitlinien zurück. Der Anlageninhaber bestimmt die Emissionsfaktoren jeweils mit einer maximalen Unsicherheit von ±15 %."]
[1103,"Der Anlageninhaber wendet technologiespezifische Emissionsfaktoren aus Anhang IV, Abschnitt 8 Tabelle 2 an.\n"]
[1104,"Der Anlageninhaber wendet anlagenspezifische Emissionsfaktoren für CF4 [(kg CF4 / t Al) / (mV)] und C2F6 [t C2F6/ t CF4] an, die durch kontinuierliche oder periodische Feldmessungen ermittelt werden. Für die Bestimmung dieser Emissionsfaktoren greift er auf die neueste Fassung der in Abschnitt 4.4.2.4 der IPCC-Leitlinien von 2006 unter Ebene 3 genannten Leitlinien zurück. Der Anlageninhaber bestimmt die Emissionsfaktoren jeweils mit einer maximalen Unsicherheit von ±15 %."]
[1105,"Laboranalysen und stöchiometrische Werte"]
[1106,"Die Menge der relevanten Karbonate im jeweiligen Input-Material wird nach Maßgabe der Artikel 32 bis 35 bestimmt. Die Zusammensetzungsdaten werden anhand der stöchiometrischen Verhältniszahlen gemäß Anhang VI Abschnitt 2 in Emissionsfaktoren umgerechnet."]
[1107,"Hu"]
[1108,"Gegebenfalls Rechnungsunterlagen"]
[1109,"Ebene 2a: Der Anlageninhaber wendet auf den jeweiligen Brennstoff gemäß Artikel 31 Absatz 1 Buchstabe b oder c länderspezifische Emissionsfaktoren an."]
[1110,"Ebene 2b: Für kommerziell gehandelte Brennstoffe wird der aus dem Lieferschein des Brennstofflieferanten für den jeweiligen Brennstoff ersichtliche untere Heizwert angewandt, vorausgesetzt, die Werte wurden nach anerkannten nationalen oder internationalen Normen errechnet."]
[1111,"Der Anlageninhaber bestimmt den unteren Heizwert nach Maßgabe der Artikel 32 bis 35."]
[1112,"Kohlenstoffgehalt"]
[1113,"Der Anlageninhaber wendet an: \na) entweder den aus den Standardfaktoren gemäß Anhang VI Abschnitte 1 und 2 errechneten Kohlenstoffgehalt; \nb) andere konstante Werte gemäß Artikel 31 Absatz 1 Buchstabe d oder e, \nwenn in Anhang VI Abschnitte 1 und 2 kein verbindlicher Wert vorgegeben ist."]
[1114,"Ebene 2a: Der Anlageninhaber errechnet den Kohlenstoffgehalt aus den länderspezifischen Emissionsfaktoren für den jeweiligen Brennstoff oder das jeweilige Material gemäß Artikel 31 Absatz 1 Buchstabe b oder c."]
[1115,"Ebene 2b: Der Anlageninhaber errechnet den Kohlenstoffgehalt aus Emissionsfaktoren für den Brennstoff auf der Grundlage eines der folgenden ermittelten Proxywerte, kombiniert mit einer empirischen Korrelation, die gemäß den Artikel 32 bis 35 mindestens ein Mal jährlich bestimmt wird: a) einer Dichtemessung bestimmter Öle oder Gase, die beispielsweise in Raffinerien oder in der Stahlindustrie üblicherweise eingesetzt werden, b) dem unteren Heizwert bestimmter Kohlearten."]
[1116,"Der Anlageninhaber ermittelt den Kohlenstoffgehalt nach den maßgeblichen Vorschriften der Artikel 32 bis 35."]
[1117,"Biomassegehalt"]
[1118,"Der Anlageninhaber wendet einen Wert, der auf der gemäß Artikel 39 Absatz 2 Unterabsatz 1 veröffentlichten Liste steht, oder einen gemäß Artikel 39 Absatz 2 Unterabsatz 2 oder Artikel 39 Absatz 3 bestimmten Wert an."]
[1119,"Der Anlageninhaber bestimmt die spezifischen Faktoren nach Maßgabe von Artikel 39 Absatz 1."]
[1120,"Der Anlageninhaber wendet einen Oxidationsfaktor von 1 an."]
[1121,"Der Anlageninhaber wendet auf den jeweiligen Brennstoff Oxidationsfaktoren gemäß Artikel 31 Absatz 1 Buchstabe b oder c an."]
[1122,"Der Anlageninhaber berechnet die tätigkeitsspezifischen Faktoren für die jeweiligen Brennstoffe auf der Grundlage der relevanten Kohlenstoffgehalte der Asche, der Abwässer und anderer Abfallstoffe und Nebenprodukte sowie auf Basis anderer relevanter nicht vollständig oxidierter kohlenstoffhaltiger Gase, ausgenommen Kohlenmonoxid (CO). Die Zusammensetzungsdaten werden nach Maßgabe der Artikel 32 bis 35 bestimmt."]
[1123,"Anm.: Verweis auf Anhang II Abschnitt 4, doch werden an keiner Stelle Karbonate erwähnt!"]
[1124,"Der Umsetzungsfaktor wird nach den Best-practice-Leitlinien der Industrie berechnet."]
[1125,"Anm.: Mindestebene nicht anwendbar, Ebene 1 hingegen anwendbar??"]
[1126,"Standardwert UF = 1"]
[1127,"Es gilt ein Umsetzungsfaktor von 1."]
[1128,"Karbonate und anderer Kohlenstoff, die während des Prozesses abgeschieden werden, werden mit einem Umsetzungsfaktor zwischen 0 und 1 berücksichtigt. Der Anlageninhaber kann für ein oder mehrere Input-Materialien vollständige Umsetzung voraussetzen und nicht umgesetzte Materialien oder anderen Kohlenstoff dem oder den verbleibenden Input(s) zurechnen. Zusätzliche relevante chemische Produktparameter werden nach Maßgabe der Artikel 32 bis 35 bestimmt."]
[1129,"Die Menge der nicht karbonatischen Verbindungen relevanter Metalle in den Rohmaterialien, einschließlich bereits kalzinierter Materialien wie Rückstaub oder Flugasche oder anderer Materialien, wird durch Umsetzungsfaktoren mit einem Wert zwischen 0 und 1 berücksichtigt, wobei der Wert 1 einer vollständigen Umsetzung von Rohmaterialkarbonaten in Oxide entspricht. Zusätzliche relevante chemische Parameter der Prozess-Inputs werden nach Maßgabe der Artikel 32 bis 35 bestimmt."]
[1130,"Messung"]
[1131,"± 10,0 %"]
[1132,"Ebenen"]
[1133,"Berechnung – anwendbare Ebenen"]
[1134,"Kleinemittent"]
[1135,"Kategorie"]
[1136,"Stoffstromkategorie"]
[1137,"Meldung"]
[1138,"Artikel 47 Absatz 6 Anlage mit geringen Emissionen (Kleinemittent): zur Bestimmung von Tätigkeitsdaten und Berechnungsfaktoren kann für alle Stoffströme als Minimum Ebene 1 angewandt werden, es sei denn, eine höhere Genauigkeit ist ohne zusätzlichen Aufwand für den Anlageninhaber erreichbar, ohne dass nachgewiesen werden muss, dass die Anwendung höherer Ebenen technisch nicht machbar ist oder zu unverhältnismäßigen Kosten führen wird."]
[1139,"Artikel 26 Absatz 1: Es sind mindestens die angezeigten Mindestebenen anzuwenden.  \nSie können jedoch eine Ebene um bis zu zwei Stufen unterhalb der jeweiligen Ebene anwenden (mit Ebene 1 als Minimum), wenn Sie der zuständigen Behörde zu deren Zufriedenheit nachweisen können, dass die gemäß Unterabsatz 1 anzuwendende Ebene technisch nicht machbar ist oder zu unverhältnismäßigen Kosten führen wird."]
[1140,"Artikel 26 Absatz 2 emissionsschwacher Stoffstrom: Für die Bestimmung der Tätigkeitsdaten und die einzelnen Berechnungsfaktoren ist die höchste Ebene anzuwenden, die technisch machbar ist und nicht zu unverhältnismäßigen Kosten führen wird, mit Ebene 1 als Minimum."]
[1141,"Artikel 26 Absatz 3 De-minimis-Stoffstrom: Für die Bestimmung der Tätigkeitsdaten und der einzelnen Berechnungsfaktoren können konservative Schätzungen anstelle von Ebenen verwendet werden, es sei denn, eine festgelegte Ebene ist ohne zusätzlichen Aufwand erreichbar."]
[1142,"Artikel 26 Absatz 1: Es sind mindestens die angezeigten Mindestebenen anwendbar. \nSie können jedoch eine Ebene um eine Stufe unterhalb der jeweiligen Ebene anwenden (mit Ebene 1 als Minimum), wenn Sie der zuständigen Behörden zu deren Zufriedenheit nachweisen können, dass die gemäß Unterabsatz 1 vorgeschriebene Ebene technisch nicht machbar ist oder zu unverhältnismäßigen Kosten führen wird."]
[1143,"Messung – anwendbare Ebenen"]
[1144,"Kategorie der Emissionsquelle"]
[1145,"Artikel 41: Mindestens eine Ebene, die eine Stufe unterhalb der angezeigten Ebene liegt ist anzuwenden. \nNur wenn Sie der zuständigen Behörde zu deren Zufriedenheit nachweisen können, dass die Anwendung der vorgeschriebenen Ebene technisch nicht machbar ist oder zu unverhältnismäßigen Kosten führt und dass die Anwendung einer auf Berechnungen beruhenden Methodik unter Anwendung der in Artikel 26 vorgeschriebenen Ebenen technisch nicht machbar ist oder zu unverhältnismäßigen Kosten führt, darf eine nächstniedrigere Ebene angewendet werden mit Ebene 1 als Minimum."]
[1146,"Diese Vorlage für das Monitoringkonzept gibt die Ansichten der Kommissionsdienststellen zum Zeitpunkt ihrer Veröffentlichung wieder. "]
[1147,"Dies ist die endgültige Version der Vorlage für das Monitoringkonzept für stationäre Anlagen in Österreich, basierend auf der Vorlage, die der Ausschuss für Klimaänderung auf seiner Sitzung vom 7. Juni 2012 befürwortet hat."]
[1148,"Begründung für Nichtanwendung der vorgeschriebenen Ebene:"]
[1149,"Weitere Verfahren des Betreibers"]
[1500,"NEW for Phase 4 (Update 2020)","NEW for Phase 4 (Update 2020)"]
[1501,"Weitere Verfahren"]
[1502,"M. Accounting","do not translate"]
[1503,"https://eur-lex.europa.eu/eli/dir/2003/87/2018-04-08","keep"]
[1504,"In der Verordnung über die Überwachung und Berichterstattung (Durchführungsverordnung (EU) 2018/2066 der Kommission in der geänderten Fassung) („Monitoring-Verordnung“, im Folgenden „MVO“) sind die Überwachung und Berichterstattung näher geregelt. Die MVO ist abrufbar unter:"]
[1505,"https://eur-lex.europa.eu/eli/reg_impl/2018/2066/oj","keep"]
[1506,"Dies ist die endgültige Version der Vorlage für das Monitoringkonzept für Anlagen in Phase 4 des EU-EHS, die der Ausschuss für Klimaänderung im November 2020 im schriftlichen Verfahren genehmigt hat."]
[1507,"https://ec.europa.eu/clima/policies/ets/monitoring_en#tab-0-1","keep"]
[1508,"Es wird empfohlen, mit dem „Quick guide for operators of stationary installations“ (Kurzleitfaden für Betreiber ortsfester Anlagen, in englischer Sprache) und dem Leitfaden Nr. 1 zu beginnen."]
[1509,"Auf diesem Arbeitsblatt wird die aktuelle Version des Monitoringkonzepts ausgewiesen. Jede Version des Monitoringkonzepts muss eine eindeutige Versionsnummer (die nicht mit der Versionsnummer früherer Konzepte übereinstimmt) und ein Bezugsdatum haben."]
[1510,"In der Spalte „Datum der Anwendung“ ist das Datum einzutragen, ab dem die beschriebene Überwachungsmethodik angewandt wird (falls zutreffend)."]
[1511,"Datum der Anwendung"]
[1512,"Feuerungswärmeleistung in MWth (bei Kapazität in Tonnen)"]
[1513,"Beruhen die geschätzten Emissionen unter Buchstabe d bzw. e auf konservativen Schätzungen?"]
[1514,"Steht Ihre Einstufung der Anlage als Anlage mit geringen Emissionen im Widerspruch zu Ihren Angaben unter Buchstabe d oder beruhen die unter Buchstabe d angegebenen Zahlen nicht auf geprüften Emissionen, sondern auf einer konservativen Schätzung, wählen Sie bitte „WAHR“ aus und geben Sie hier eine kurze Begründung an."]
[1515,"Falls Prozessemissionen relevant sind, beschreiben Sie im Einklang mit Anhang II Abschnitt 4 der MVO bitte unmissverständlich, ob in der Berechnung anorganischer Kohlenstoff (Karbonate), organischer Kohlenstoff oder beides erfasst wird."]
[1516,"Beschreibung des Verfahrens zur Bewertung, ob Biomasse-Stoffströme Artikel 38 Absatz 5 entsprechen (falls zutreffend)"]
[1517,"Dieses Verfahren ist nur für Biomasse relevant, die den geltenden Nachhaltigkeits- und THG-Einsparkriterien der Erneuerbare-Energien-Richtlinie (2018/2001) unterliegt."]
[1518,"Beschreibung des Verfahrens zur Bestimmung der Biogasmengen anhand von Rechnungsunterlagen gemäß Artikel 39 Absatz 4 (falls zutreffend)"]
[1519,"Dieses Verfahren ist nur dann relevant, wenn der Betreiber die Verwendung von Biogas aus einem Erdgasnetz geltend machen möchte."]
[1520,"Weitere Informationen sind den Artikeln 28 und 29 MVO und Leitfaden Nr. 4 zu entnehmen; außerdem kann das „Tool for Uncertainty Assessment“ verwendet werden."]
[1521,"Standardwerte Typ I (Ebene 1):"]
[1522,"Die Standardwerte Typ I umfassen eine der folgenden Methoden:"]
[1523,"Verwendung der in Anhang VI aufgeführten Standardfaktoren (d. h. grundsätzlich IPCC-Werte) oder "]
[1524,"Sind solche Standardfaktoren nicht verfügbar, sind andere konstante Werte nach Artikel 31 Absatz 1 Buchstabe e zu verwenden, d. h. durch früher durchgeführte, aber noch gültige Analysen ermittelte Werte."]
[1525,"Standardwerte Typ II (Ebene 2):"]
[1526,"Die Standardwerte des Typs II umfassen eine der folgenden Methoden, die als äquivalent betrachtet werden:"]
[1527,"Verwendung landesspezifischer Emissionsfaktoren nach Artikel 31 Absatz 1 Buchstabe b, d. h. die für die nationale THG-Inventur verwendeten Werte, oder "]
[1528,"Verwendung anderer von der zuständigen Behörde veröffentlichter Werte für weniger stark aggregierte Brennstoffarten nach Artikel 31 Absatz 1 Buchstabe c oder anderer mit der zuständigen Behörde vereinbarter Literaturwerte oder "]
[1529,"Verwendung anderer konstanter Werte nach Artikel 31 Absatz 1 Buchstabe d, d. h. die vom Lieferanten garantierten Werte mit einem Kohlenstoffgehalt von höchstens 1 % Unsicherheit."]
[1530,"Ermittelte Proxywerte (Ebene 2b): "]
[1531,"Rechnungsunterlagen (Ebene 2b): "]
[1532,"Laboranalysen (höchste Ebene): "]
[1533,"In diesem Fall sind die Anforderungen der Artikel 32 bis 35 in Bezug auf Analysen uneingeschränkt anwendbar, einschließlich der Verwendung der „ermittelten Proxywerte“, sofern die Unsicherheit der empirischen Korrelation nicht mehr als 1/3 des Unsicherheitswerts für die anzuwendende Ebene für Tätigkeitsdaten beträgt. "]
[1534,"Bei reinen chemischen Stoffen kann die zuständige Behörde akzeptieren, dass der stöchiometrische Kohlenstoffgehalt als Einhaltung der Anforderungen einer Ebene betrachtet wird, die andernfalls Analysen erfordern würde, sofern der Anlagenbetreiber nachweisen kann, dass die Analysen zu unverhältnismäßigen Kosten und die Verwendung des stöchiometrischen Wertes nicht zur Unterschätzung der Emissionen führt."]
[1535,"Biomasseanteil Typ I (Ebene 1):"]
[1536,"Es ist eine der beiden folgenden Methoden anzuwenden, die als äquivalent erachtet werden:"]
[1537,"Verwendung der Werte, die von der zuständigen Behörde oder der Kommission für diese Art von Brennstoff oder Material veröffentlicht wurden, oder"]
[1538,"Verwendung der Werte nach Artikel 31 Absatz 1, d. h. einen Standardwert Typ I."]
[1539,"Alternativ kann der Betreiber durchgängig einen fossilen Anteil von 100 % annehmen. In diesem Fall wird keine Ebenenmethodik angewandt und es gilt ein Standardwert von 0 % Biomasseanteil. "]
[1540,"Anwendung des Artikels 39 Absätze 3 und 4 im Fall von Erdgasnetzen, in die Biogas injiziert wird, d. h., wenn es die zuständige Behörde gestattet, den Biomasseanteil anhand von Rechnungsunterlagen für Biogas mit gleichwertigem Energiegehalt zu bestimmen."]
[1541,"Biomasseanteil Typ II (Ebene 2):"]
[1542,"Der Biomasseanteil wird auf der Grundlage einer Schätzmethode in Einklang mit Artikel 39 Absatz 2 Unterabsatz 2 bestimmt, die der zuständigen Behörde zur Genehmigung vorgelegt wird, wobei Folgendes zu berücksichtigen ist:"]
[1543,"Für Brennstoffe oder Materialien aus einem Produktionsprozess mit definierten und rückverfolgbaren Input-Stoffströmen kann der Anlagenbetreiber die Schätzung auf der Grundlage einer Massenbilanz des in den Prozess eingehenden oder ihn verlassenden fossilen und Biomassekohlenstoffs vornehmen."]
[1544,"alle von der Kommission veröffentlichten Leitlinien zu weiteren anwendbaren Schätzmethoden <im Leitfaden Nr. 3 auszuführen>."]
[1545,"Analyse des Biomasseanteils (Ebene 3):"]
[1546,"In diesem Fall sind Laboranalysen im Einklang mit Artikel 39 Absatz 2 Unterabsatz 1 und den Artikeln 32 bis 35 durchzuführen."]
[1547,"Anmerkungen oder Begründung für Nichtanwendung der vorgeschriebenen Ebene:"]
[1548,"Bitte geben Sie hier sachdienliche Anmerkungen ein. Erklärungen können insbesondere erforderlich sein in Bezug auf die Methodik zur Schätzung des Biomasseanteils, die Proxymethodik (Korrelation), die Anwendung von Artikel 31 Absatz 4, Artikel 37 Absatz 2 usw."]
[1549,"Außerdem sind hier einige der erforderlichen Angaben für die Überwachung von weitergeleitetem CO2 und N2O sowie von inhärentem CO2 zu machen."]
[1550,"g CO2/Nm³"]
[1551,"Anmerkungen und Begründung für die Nichtanwendung der vorgeschriebenen Ebene:"]
[1552,"Bei Einbeziehung von CO2 aus Biomasse in die Emissionsmessung machen Sie bitte Angaben zu den schriftlichen Verfahren und beschreiben Sie, wie das CO2 aus Biomasse im Einklang mit Artikel 43 Absätze 4 und 4a MVO gegebenenfalls bestimmt und von den gemessenen CO2-Emissionen abgezogen werden soll."]
[1553,"J. Bestimmung von weitergeleitetem oder inhärentem CO2 und weitergeleitetem N2O"]
[1554,"Bestimmung von inhärentem und weitergeleitetem CO2 und N2O"]
[1555,"Hinweis: Dieser Abschnitt ist auszufüllen, wenn inhärentes CO2 als Teil eines Stoffstroms gemäß Artikel 48 MVO oder CO2 oder N2O gemäß den Artikeln 49 bzw. 50 MVO weitergeleitet wird."]
[1556,"Ausführliche Beschreibung der Überwachungsmethodik, mit der inhärentes oder weitergeleitetes CO2 oder N2O bestimmt wird "]
[1557,"Bitte beschreiben Sie in der Textbox kurz und knapp die Überwachungsmethodik, einschließlich Formeln, nach der Sie Ihre jährlichen CO2-, N2O- oder CO2(Äq)-Emissionen bestimmen."]
[1558,"Dies sollte insbesondere die Mengen CO2 und N2O einschließen, die wegen der Annahme von weitergeleitetem CO2 oder N2O hinzuzurechnen bzw. wegen der Weiterleitung von CO2(Äq) aus der Anlage abzuziehen sind. Bitte achten Sie darauf, dass die Berechnung mit den Artikeln 48, 49 und 50 MVO vereinbar ist."]
[1559,"Bitte machen Sie hier zu jeder Anlage (oder anderen Einrichtung), von der Sie inhärentes oder weitergeleitetes CO2(Äq) annehmen oder an die Sie solches weiterleiten, folgende Angaben:"]
[1560,"Geben Sie hier den Namen der Anlage oder Nicht-EHS-Einrichtung an, von der oder an die CO2(Äq) weitergeleitet wird. Verwenden Sie, soweit möglich, denselben Namen, den die zuständige Behörde und das Register verwenden."]
[1561,"Wählen Sie aus der Drop-down-Liste aus, ob es sich um eine Weiterleitung von einer Anlage oder Nicht-EHS-Einrichtung oder an eine solche handelt und ob es um inhärentes CO2 (Artikel 48) oder weitergeleitetes CO2 (Artikel 49) oder N2O (Artikel 50) nach der Definition der MVO geht."]
[1562,"Sachdienliche Angaben zu den für die Beförderung von CO2 und N2O genutzten Pipelinesystemen"]
[1563,"Gemäß Anhang IV Abschnitt 22 Teil B MVO haben Sie die Wahl zwischen zwei Methoden. Methode A sieht eine auf Messungen basierende Massenbilanz des insgesamt emittierten CO2 und N2O, das in das Netz eingegangen ist bzw. dieses verlassen hat, vor; Methode B beruht auf der Bestimmung abgelassener und diffuser Emissionen sowie auf Emissionen aus Leckagen und anlagenbasierten Emissionen."]
[1564,"Für Transportnetze: Angaben zu dem schriftlichen Verfahren, das gewährleistet, dass CO2(Äq) lediglich an Anlagen weitergeleitet wird, die über eine gültige Genehmigung zur Emission von Treibhausgasen verfügen oder in denen das gesamte emittierte CO2 oder N2O gemäß den Artikeln 49 und 50 wirksam überwacht und verbucht wird."]
[1565,"Bitte geben Sie in Einklang mit Artikel 62 MVO an, wer für die Überwachung von Emissionen aus der Anlage und die Berichterstattung darüber zuständig ist."]
[1566,"Angaben zum Verfahren für die Verwaltung und Zuweisung der Überwachungs- und Berichterstattungszuständigkeiten innerhalb der Anlage und für die Verwaltung der Kompetenzen des zuständigen Personals gemäß den Artikeln 59 und 62 MVO."]
[1567,"Verbesserungsberichte gemäß Artikel 69 Absatz 1 MVO"]
[1568,"Nichteinhaltung einer vorgeschriebenen Ebene oder Anwendung einer Fall-Back-Methodik?"]
[1569,"Wählen Sie „WAHR“, wenn bei einem Parameter eines emissionsstarken/-schwachen Stoffstroms oder einer großen/kleinen Emissionsquelle entweder die vorgeschriebenen Ebenen nicht eingehalten oder eine Fall-Back-Methodik angewandt wird (Artikel 22). In diesem Fall muss der Betreiber gemäß Artikel 69 Absatz 1 regelmäßig Verbesserungsberichte vorlegen."]
[1570,"Hinweis: Dieser Abschnitt entbindet Betreiber nicht von der Verpflichtung, einen Verbesserungsbericht gemäß Artikel 69 Absatz 4 vorzulegen. "]
[1571,"Frist für den nächsten Verbesserungsbericht gemäß Artikel 69 Absatz 1, sofern zutreffend"]
[1572,"Dieser Abschnitt ist nur relevant, wenn der Betreiber unter Buchstabe i „WAHR“ ausgewählt hat."]
[1573,"Die Verbesserungsberichte sind für Anlagen der Kategorie C jedes Jahr, der Kategorie B alle zwei Jahre und der Kategorie A alle vier Jahre zu übermitteln. "]
[1574,"Die zuständige Behörde kann diesen Zeitraum jedoch auf drei, vier bzw. fünf Jahre verlängern, wenn der Betreiber ihr gegenüber nachweist, dass die Gründe für unverhältnismäßige Kosten oder die technische Nichtmachbarkeit von Verbesserungsmaßnahmen während eines längeren Zeitraums bestehen bleiben.",null,"; 'K_ManagementControl'!$E$78"]
[1575,"Angaben zu den Verfahren für die Datenflussaktivitäten gemäß Artikel 58 MVO"]
[1576,"Angaben zu den Verfahren für die Bewertung der inhärenten Risiken und der Kontrollrisiken gemäß Artikel 59 MVO"]
[1577,"Angaben zu den Verfahren für die Qualitätssicherung der Messeinrichtungen gemäß den Artikeln 59 und 60 MVO"]
[1578,"Angaben zu den Verfahren für die Qualitätssicherung des für die Datenflussaktivitäten verwendeten IT-Systems gemäß den Artikeln 59 und 61 MVO"]
[1579,"Angaben zu den Verfahren für die regelmäßige interne Überprüfung und Validierung von Daten gemäß den Artikeln 59 und 63 MVO"]
[1580,"Angaben zu den Verfahren für Berichtigungen und Korrekturmaßnahmen gemäß den Artikeln 59 und 64 MVO"]
[1581,"Angaben zu den Verfahren für die Kontrolle von ausgelagerten Prozessen gemäß den Artikeln 59 und 65 MVO"]
[1582,"Angaben zu den Verfahren zur Schließung bestehender Datenlücken gemäß Artikel 66 MVO"]
[1583,"Hier sollte kurz und knapp beschrieben werden, wie Datenlücken durch die Verwendung einer geeigneten Schätzmethode zur Ermittlung konservativer Ersatzdaten für den betreffenden Zeitraum und den fehlenden Parameter geschlossen werden."]
[1584,"Dieses Verfahren ist nur dann obligatorisch, wenn relevante Daten fehlen; es wird jedoch empfohlen, ein solches Verfahren in jedem Fall einzuführen, um die Einhaltung der Vorschriften auch dann sicherzustellen, wenn Datenlücken auftreten."]
[1585,"Angabe der Referenz der Datei/der Unterlage, in der die Risikobewertung enthalten ist."]
[1586,"Allgemeine Informationen"]
[1587,"Stoffströme (ohne PFC)"]
[1588,"PFC-Emissionen"]
[1589,"Weitergeleitetes CO2 und N2O"]
[1590,"Weiterleitung von N2O"]
[1591,"Abgabe von weitergeleitetem CO2 (PCC)"]
[1592,"Annahme von weitergeleitetem N2O"]
[1593,"Abgabe von weitergeleitetem N2O"]
[1594,"Juni"]
[1595,"Juli"]
[1596,"August"]
[1597,"September"]
[1598,"Verordnung über die Überwachung und Berichterstattung, Anhang VI"]
[1599,"Nationale THG-Inventur"]
[1600,"GJ/t"]
[1601,"GJ/1000 Nm³"]
[1602,"t CO2/TJ"]
[1603,"t CO2/t"]
[1604,"t CO2/1000 Nm³"]
[1605,"Abgaswäsche (Harnstoff)"]
[1606,"verbrauchte Harnstoffmenge [t]"]
[1607,"Prozess (Methode A): nur Karbonat"]
[1608,"Prozess-Input [t]"]
[1609,"Prozess (Methode A): Gemisch (Karbonat + Nicht-Karbonat)"]
[1610,"Prozess (Methode A): Nicht-Karbonat"]
[1611,"Prozess (Methode B): Oxid-Output"]
[1612,"0,2558 t CO2/t Gips"]
[1613,"0,7328 t CO2/t Harnstoff"]
[1614,"Biomasseanteil",null,"; 'EUwideConstants'!$B$552"]
[1615,"Analyse des Biomasseanteils"]
[1616,"Ebenenumwandlung",null,"; 'EUwideConstants'!$B$792"]
[1617,"Anlage mit geringen Emissionen / große Emissionsquelle: Sie können Ebene 1 anwenden, es sei denn, eine höhere Genauigkeit ist ohne zusätzlichen Aufwand für den Anlagenbetreiber erreichbar."]
[1618,"Anlage mit geringen Emissionen / kleine Emissionsquelle: Sie können Ebene 1 anwenden, es sei denn, eine höhere Genauigkeit ist ohne zusätzlichen Aufwand für den Anlagenbetreiber erreichbar."]
[1619,"Große Emissionsquelle: Es ist mindestens die angezeigte Ebene anzuwenden. Sie können jedoch die nächstniedrigere Ebenenstufe anwenden (mit Ebene 1 als Minimum), wenn Sie der zuständigen Behörden zu deren Zufriedenheit nachweisen können, dass die gemäß Unterabsatz 1 vorgeschriebene Ebene technisch nicht machbar ist oder zu unverhältnismäßigen Kosten führen wird."]
[1620,"Kleine Emissionsquelle: Sie können eine niedrigere Ebenenstufe anwenden (mit Ebene 1 als Minimum), wenn Sie nachweisen können, dass die Anwendung dieser Ebene technisch nicht machbar ist oder zu unverhältnismäßigen Kosten führen wird."]
[1621,"Angaben zu den Verfahren für das Führen von Aufzeichnungen und für die Dokumentation gemäß den Artikeln 59 und 67 MVO"]
[1622,"Gemäß Artikel 19 Absatz 4 kann für jede Emissionsquelle, aus der weniger als 5000 Tonnen CO2(Äq)/Jahr emittiert werden oder die für weniger als 10 % der jährlichen Gesamtemissionen der Anlage (bis zu einem Höchstwert von 100 000 Tonnen fossilem CO2(Äq)/Jahr) verantwortlich ist, wobei der jeweils absolut höhere Emissionswert maßgebend ist („kleine Emissionsquelle“), eine geringere Ebenenanforderung zugelassen werden."]
[1623,"Verbrennung von Siedlungsabfällen"]
[1624,"Abfall"]
[1625,"Kennung der Anlage:"]
[1626,"Dies ist die endgültige Fassung der Vorlage für das Monitoringkonzept für Anlagen in Phase 4 des EU-EHS, die der Ausschuss für Klimaänderung im November 2020 im schriftlichen Verfahren genehmigt hat und am 30. November 2023 aktualisiert wurde, um relevante Elemente zur Einbeziehung von Anlagen zur Verbrennung von Siedlungsabfälle aufzunehmen."]
[1627,"Feste Brennstoffe, ausgenommen Abfälle"]
[1628,"Verbrennung von Brennstoffen in Anlagen mit einer Gesamtfeuerungswärmeleistung von über 20 MW (ausgenommen Anlagen für die Verbrennung von gefährlichen oder Siedlungsabfällen)"]
[1629,"Raffination von Mineralöl"]
[1630,"Herstellung von Koks"]
[1631,"Röstung oder Sinterung einschließlich Pelletierung von Metallerz (einschließlich Sulfiderz)"]
[1632,"Herstellung von Eisen oder Stahl (Primär- oder Sekundärschmelzbetrieb), einschließlich Stranggießen, mit einer Kapazität über 2,5 t pro Stunde"]
[1633,"Herstellung oder Verarbeitung von Eisenmetallen (einschließlich Eisenlegierungen) bei Betrieb von Verbrennungseinheiten mit einer Gesamtfeuerungswärmeleistung von über 20 MW. Die Verarbeitung umfasst unter anderem Walzwerke, Öfen zum Wiederaufheizen, Glühöfen, Schmiedewerke, Gießereien, Beschichtungs- und Beizanlagen."]
[1634,"Herstellung von Primäraluminium"]
[1635,"Herstellung von Sekundäraluminium bei Betrieb von Verbrennungseinheiten mit einer Gesamtfeuerungswärmeleistung von über 20 MW"]
[1636,"Herstellung oder Verarbeitung von Nichteisenmetallen einschließlich der Herstellung von Legierungen, Raffinationsprodukten, Gussprodukten usw. bei Betrieb von Verbrennungseinheiten mit einer Gesamtfeuerungswärmeleistung (einschließlich der als Reduktionsmittel verwendeten Brennstoffe) von über 20 MW"]
[1637,"Herstellung von Zementklinker in Drehrohröfen mit einer Produktionskapazität von über 500 t pro Tag oder in anderen Öfen mit einer Produktionskapazität über 50 t pro Tag"]
[1638,"Herstellung von Kalk oder Brennen von Dolomit oder Magnesit in Drehrohröfen oder in anderen Öfen mit einer Produktionskapazität über 50 t pro Tag"]
[1639,"Herstellung von Glas einschließlich Glasfasern mit einer Schmelzkapazität von über 20 t pro Tag"]
[1640,"Herstellung von keramischen Erzeugnissen durch Brennen, und zwar insbesondere von Dachziegeln, Ziegelsteinen, feuerfesten Steinen, Fliesen, Steinzeug oder Porzellan mit einer Produktionskapazität von über 75 t pro Tag"]
[1641,"Herstellung von Dämmmaterial aus Mineralwolle unter Verwendung von Glas, Stein oder Schlacke mit einer Schmelzkapazität von über 20 t pro Tag"]
[1642,"Trocknen oder Brennen von Gips oder Herstellung von Gipskartonplatten und sonstigen Gipserzeugnissen mit einer Produktionskapazität für gebrannten Gips oder getrockneten Sekundärgips von insgesamt über 20 t pro Tag"]
[1643,"Herstellung von Zellstoff aus Holz oder anderen Faserstoffen"]
[1644,"Herstellung von Papier und Karton mit einer Produktionskapazität über 20 t pro Tag"]
[1645,"Herstellung von Industrieruß durch Karbonisierung organischer Stoffe wie Öle, Teere, Crack- und Destillationsrückstände mit einer Produktionskapazität über 50 t pro Tag"]
[1646,"Herstellung von Salpetersäure"]
[1647,"Herstellung von Adipinsäure"]
[1648,"Herstellung von Glyoxal und Glyoxylsäure"]
[1649,"Herstellung von Ammoniak"]
[1650,"Herstellung von organischen Grundchemikalien durch Cracken, Reformieren, partielle oder vollständige Oxidation oder ähnliche Verfahren, mit einer Produktionskapazität von über 100 t pro Tag"]
[1651,"Herstellung von Wasserstoff (H2) und Synthesegas mit einer Produktionskapazität von über 5 t pro Tag"]
[1652,"Herstellung von Soda (Na2CO3) und Natriumbicarbonat (NaHCO3)"]
[1653,"Abscheidung von Treibhausgasen aus von unter diese Richtlinie fallenden Anlagen zwecks Beförderung und geologischer Speicherung in einer gemäß der Richtlinie 2009/31/EG genehmigten Speicherstätte"]
[1654,"Beförderung von Treibhausgasen zwecks geologischer Speicherung in einer gemäß der Richtlinie 2009/31/EG genehmigten Speicherstätte mit Ausnahme jener Emissionen, die unter eine andere Tätigkeit gemäß dieser Richtlinie fallen"]
[1655,"Geologische Speicherung von Treibhausgasen in einer gemäß der Richtlinie 2009/31/EG genehmigten Speicherstätte"]
[1656,"Verbrennung von Brennstoffen"]
[1657,"Raffination von Mineralöl "]
[1658,"Herstellung von Koks"]
[1659,"Röstung oder Sinterung von Metallerz"]
[1660,"Herstellung von Eisen oder Stahl"]
[1661,"Herstellung oder Verarbeitung von Eisenmetallen"]
[1662,"Herstellung von Primäraluminium"]
[1663,"Herstellung von Sekundäraluminium"]
[1664,"Herstellung oder Verarbeitung von Nichteisenmetallen"]
[1665,"Herstellung von Zementklinker"]
[1666,"Herstellung von Kalk oder Brennen von Dolomit/Magnesit"]
[1667,"Herstellung von Glas"]
[1668,"Herstellung von keramischen Erzeugnissen"]
[1669,"Herstellung von Mineralwolle"]
[1670,"Herstellung oder Verarbeitung von Gips oder Gipskartonplatten"]
[1671,"Herstellung von Zellstoff"]
[1672,"Herstellung von Papier und Karton"]
[1673,"Herstellung von Industrieruß"]
[1674,"Herstellung von Salpetersäure"]
[1675,"Herstellung von Adipinsäure"]
[1676,"Herstellung von Glyoxal und Glyoxylsäure"]
[1677,"Herstellung von Ammoniak"]
[1678,"Herstellung von organischen Grundchemikalien"]
[1679,"Herstellung von Wasserstoff und Synthesegas"]
[1680,"Herstellung von Soda und Natriumbicarbonat"]
[1681,"Abscheidung von Treibhausgasen gemäß der Richtlinie 2009/31/EG"]
[1682,"Transport von Treibhausgasen gemäß der Richtlinie 2009/31/EG"]
[1683,"Lagerung von Treibhausgasen gemäß der Richtlinie 2009/31/EG"]
[1684,"Dies ist die aktualisierte Version der Vorlage für das Monitoringkonzept für stationäre Anlagen mit Stand vom 17. Dezember 2024.",null,"b_Guidelines and conditions'!$B$19"]
[1685,"Die Mitgliedstaaten können Anlagen- und Luftfahrzeugbetreibern unbeschadet des Artikels 12 Absatz 3 die Verwendung von standardisierten oder vereinfachten Monitoringkonzepten gestatten. \nZu diesem Zweck können die Mitgliedstaaten Vorlagen für diese Monitoringkonzepte, einschließlich einer Beschreibung der Datenfluss- und Kontrollverfahren gemäß den Artikeln 58 und 59, veröffentlichen, denen von der Kommission veröffentlichte Vorlagen und Leitfäden zugrunde liegen.",null,"b_Guidelines and conditions'!$B$22"]
[1686,"Bitte geben Sie hier die durchschnittlichen Jahresemissionen Ihrer Anlage an. Diese Angabe ist für die Kategorisierung der Anlage gemäß Artikel 19 MVO notwendig. Verwenden sie die Daten zu den geprüften durchschnittlichen Jahresemissionen aus der vorigen Handelsperiode ODER, falls diese Daten nicht vorliegen oder nicht geeignet sind, eine konservative Schätzung der durchschnittlichen Jahresemissionen, einschließlich weitergeleitetes CO2, aber ohne CO2 aus Kohlenstoff der mit einem Emissionsfaktor von Null bewertet wird (Biomasse, RFNBO/RCF, SLCF). ",null,"C_InstallationDescription'!$E$66"]
[1687,"Hinweis: In Fällen, in denen die Anlage keine Emissionen verursacht (d.h. nicht einmal durch ein Notstromaggregat, Heizkessel für Büroräume usw. und auch nicht durch Emissionen aus Biomasse, RFNBO/RCF, SCLF), sind die geschätzten Emissionen gleich Null und nur dieser Abschnitt und das Blatt „K_Management“ dieses Monitoringkonzepts müssen ausgefüllt werden.",null,"C_InstallationDescription'!$E$68"]
[1688,"Hinweis: Die vorgenannten Daten schließen weitergeleitetes CO2 ein, nicht jedoch CO2 das aus Kohlenstoff mit einem Emissionsfaktor von Null stammt.",null,"C_InstallationDescription'!$E$78"]
[1689,"Überwachung von „CCU für dauerhaft gebundenes CO2“ ",null,"C_InstallationDescription'!$E$102"]
[1690,"Im Falle von Stoffströmen, die aus einer Massenbilanz herausgehen,  müssen die Emissionen als negative Werte eingetragen werden. Geht Kohlenstoff mit einem Emissionsfaktor von Null in die Massenbilanz ein, gilt Artikel 25 Absatz 3.",null,"C_InstallationDescription'!$E$213"]
[1691,"Beschreibung des Verfahrens zur Bewertung, ob Biomasse oder andere Stoffströme mit einem Emissionsfaktor von Null Artikel 38 Absatz 5, Artikel 39a Absatz 3 oder Artikel 39a Absatz 4 entsprechen (falls zutreffend)",null,"D_CalculationBasedApproaches'!$E$244"]
[1692,"Dieses Verfahren ist nur für Biomasse, RFNBOs (erneuerbare Brenn- bzw. Kraftstoffe nicht biogenen Ursprungs), RCFs (recycelte kohlenstoffhaltige Brenn- bzw. Kraftstoffe) und SLCF (synthetische kohlenstoffarme Brenn- bzw. Kraftstoffe) relevant, die den geltenden Nachhaltigkeits- und THG-Einsparkriterien der Erneuerbare-Energien-Richtlinie (2018/2001) unterliegen.",null,"D_CalculationBasedApproaches'!$E$245"]
[1693,"Beschreibung des Verfahrens zur Bestimmung der Biogasmengen anhand von Rechnungsunterlagen gemäß Artikel 39 Absatz 4, bzw. RFNBO- oder RCF-Mengen mit einem Emissionsfaktor von Null gemäß Artikel 39a Absatz 5 (falls zutreffend)",null,"D_CalculationBasedApproaches'!$E$258"]
[1694,"Dieses Verfahren ist nur relevant, wenn der Anlagenbetreiber die Verwendung von Biogas oder RFNBOs (erneuerbare Brenn- bzw. Kraftstoffe nicht biogenen Ursprungs)/RCFs (recycelte kohlenstoffhaltige Brenn- bzw. Kraftstoffe) aus einem (Erd-)Gasnetz geltend machen will.",null,"D_CalculationBasedApproaches'!$E$259"]
[1695,"Beschreibung des Verfahrens zur Ermittlung der Informationen für jeden Erwerb gemäß Artikel 75v Absatz 2 und Anhang Xa.",null,"D_CalculationBasedApproaches'!$E$272"]
[1696,"In diesem Verfahren sollte beschrieben werden, wie die erworbenen Brennstoffe von jedem einzelnen Brennstofflieferanten, die jährlich für die unter Anhang I der Richtlinie fallenden Tätigkeiten verbrauchten Mengen, die aus dem Lager entnommenen/eingelagerten Mengen und die ausgeführten Mengen erfasst werden.",null,"D_CalculationBasedApproaches'!$E$273"]
[1697,"Gegebenenfalls eine Beschreibung des Verfahrens, mit dem festgestellt wird, ob die Prozessemissionen eines Materials als Null eingestuft werden können, wenn die Anlage, die das Material herstellt, entsprechende CO2-Emissionen gemeldet hat.",null,"D_CalculationBasedApproaches'!$E$286"]
[1698,"Wo relevant (z. B. Soda, das in der Glasindustrie verwendet wird oder Harnstoff, der für DeNOx verwendet wird), beschreibt das Verfahren, wie diese Materialien die in Anhang II Abschnitt 4 letzter Unterabsatz aufgeführten Bedingungen erfüllen.",null,"D_CalculationBasedApproaches'!$E$287"]
[1699,"Anwendung des Artikels 39 Absätze 3, 4 und 5 im Fall von Erdgasnetzen, in die Biogas oder RFNBO/RCF injiziert wird, d. h., wenn es die zuständige Behörde gestattet, für den Anteil mit einem Emissionsfaktor von Null anhand von Rechnungsunterlagen für Biogas oder RFNBO/RCF mit gleichwertigem Energiegehalt zu bestimmen.",null,"E_SourceStreams'!$G$126"]
[1700,"Der Biomasseanteil wird auf der Grundlage einer Schätzmethode in Einklang mit Artikel 39 Absatz 2 Unterabsatz 2 bestimmt, die der zuständigen Behörde zur Genehmigung vorgelegt wird, wobei alle von der Kommission veröffentlichte Leitlinien für weitere anwendbare Schätzmethoden zu berücksichtigen sind (siehe Leitfaden Nr. 3).",null,"E_SourceStreams'!$F$127"]
[1701,"Analyse des Biomasseanteils (Ebene 3a):",null,"E_SourceStreams'!$E$128"]
[1702,"Massenbilanz für den Biomasseanteil (Ebene 3b):",null,"E_SourceStreams'!$E$129"]
[1703,"Biomasse: Für Brennstoffe oder Materialien aus einem Produktionsprozess mit definierten und rückverfolgbaren Input-Stoffströmen kann der Anlagenbetreiber die Schätzung auf der Grundlage einer Massenbilanz des in den Prozess eingehenden oder ihn verlassenden fossilen und Biomassekohlenstoffs vornehmen, z. B. unter Verwendung des Massenbilanzsystem gemäß Artikel 30 Absatz 1 der Richtlinie (EU) 2018/2001.",null,"E_SourceStreams'!$F$129"]
[1704,"Beschreiben Sie gegebenenfalls auch die Methodik, mit der, die Emissionen aus Brennstoffen mit einem Emmissionsfaktor von Null, eingestuft (Artikel 43 Absätze 4 bis 4c) und von den Gesamtemissionen abgezogen werden.",null,"F_MeasurementBasedApproaches'!$E$19"]
[1705,"Gegebenenfalls Bestimmung von CO2 aus Biomasse oder aus einem anderen Anteil mit einem Emissionsfaktor von Null und von den gemessenen CO2-Emissionen abgezogen wird.",null,"F_MeasurementBasedApproaches'!$F$201; 'F_MeasurementBasedApproaches'!$F$261; 'F_MeasurementBasedApproaches'!$F$319; 'F_MeasurementBasedApproaches'!$F$377; 'F_MeasurementBasedApproaches'!$F$435"]
[1706,"Außerdem ist dieses Arbeitsblatt für Angaben relevant, die im Falle von unter Anhang III Emissionszertifikategesetz 2011 fallenden Tätigkeiten im Bereich der CO2-Abscheidung, des Transports oder der geologischen Speicherung von CO2 bereitzustellen sind.",null,"J_Transferred GHG'!$D$13"]
[1707,"Je nach gewählter Überwachungsmethodik sind Angaben zu Stoffströmen in Blatt \"E_SourceStreams\" und Angaben zu den Messstellen und Messgeräten in Blatt \"F_MeasurementBasedApproaches\" zu machen.",null,"J_Transferred GHG'!$D$14"]
[1708,"Stammt ein Teil des weitergeleiteten CO2 aus Kohlenstoff mit einem Emissionsfaktor von Null (z.B. aus Biomasse) oder fällt eine Anlage nur zum Teil unter die EU-EHS-Richtlinie Angaben zum schriftlichen Verfahren für die Subtraktion der Menge weitergeleitetes CO2, das nicht aus auf fossilem Kohlenstoff basierenden, unter das Emissionszertifikategesetz 2011 fallenden Tätigkeiten stammt.",null,"J_Transferred GHG'!$E$66"]
[1709,"Sachdienliche Angaben zu der für die Beförderung von CO2 und N2O genutzte Transportinfrastruktur",null,"J_Transferred GHG'!$D$80"]
[1710,"Die CO2-Transportinfrastruktur umfasst alle Arten des CO2-Transports (Pipelines, Schiffe, Lastwagen, Züge usw.) zum Zweck der geologischen Speicherung. Bitte beschreiben Sie daher in Abschnitt C.5.a ausführlich die Organisationsstruktur, die Anzahl und Art der beteiligten Fahrzeuge, die Systemgrenzen, einschließlich aller funktional mit der Transportinfrastruktur verbundenen Nebenanlagen wie CO2-Zwischenspeicher, Booster, Verflüssigung, Vergasung, Reinigungsstationen oder Erhitzer usw.",null,"J_Transferred GHG'!$D$82"]
[1711,"Angabe der für ihre Transportinfrastruktur gewählte Überwachungsmethodik:",null,"J_Transferred GHG'!$E$84"]
[1712,"Gemäß Anhang IV Abschnitt 22 Teil B MVO haben Sie die Wahl zwischen zwei Methoden. Methode A sieht eine auf Messungen basierende Massenbilanz des insgesamt emittierten CO2 und N2O, das in die Transportinfrastruktur eingegangen ist bzw. diese verlassen hat, vor; Methode B beruht auf der Bestimmung abgelassener und diffuser Emissionen sowie auf Emissionen aus Leckagen und anlagenbasierten Emissionen.",null,"J_Transferred GHG'!$E$85"]
[1713,"Methode B wird bevorzugt, es sei denn, Sie können nachweisen, dass Methode A zu zuverlässigeren Ergebnissen mit geringerer Unsicherheit führt, ohne unverhältnismäßige hohe Kosten zu verursachen.",null,"J_Transferred GHG'!$E$86"]
[1714,"Haben Sie Methode B gewählt, müssen Sie nachweisen, dass eine Gesamtunsicherheit von höchstens 7,5 % für die Emissionen der gesamten Transportinfrastruktur eingehalten wird. Wenn Sie sich für Methode A entschieden haben, müssen Sie die unter a) genannten Gründe nachweisen. Bitte geben Sie hier gegebenenfalls die Referenz der beiliegenden Unterlage an.",null,"J_Transferred GHG'!$E$89"]
[1715,"Gegebenenfalls Beschreibung der für die Messung von Temperatur und Druck in der Transportinfrastruktur verwendeten Einrichtungen.",null,"J_Transferred GHG'!$E$91"]
[1716,"Bitte führen Sie alle Einrichtungen auf, mit denen bei der Bestimmung von Emissionen aus Leckagen gemäß Anhang IV Abschnitt 22 der MVO Temperatur und Druck in ihrer Transportinfrastruktur gemessen werden.",null,"J_Transferred GHG'!$E$92"]
[1717,"Gegebenenfalls Angaben zum schriftlichen Verfahren für die Verhinderung, Ermittlung und Quantifizierung von Leckagen aus der Transportinfrastruktur.",null,"J_Transferred GHG'!$E$114"]
[1718,"Für die Transportinfrastruktur: Angaben zu dem schriftlichen Verfahren, das gewährleistet, dass CO2(Äq) lediglich an Anlagen weitergeleitet wird, die über eine gültige Genehmigung zur Emission von Treibhausgasen verfügen oder in denen das gesamte emittierte CO2 oder N2O gemäß Artikel 49 und 50 wirksam überwacht und verbucht wird.",null,"J_Transferred GHG'!$E$127"]
[1719,"Wird Methode B auf die Transportinfrastruktur angewandt, beschreiben Sie bitte das Verfahren, nach dem die Ergebnisse der Methode B mindestens jährlich anhand der Methode A validiert werden.",null,"J_Transferred GHG'!$E$140"]
[1720,"Wird Methode A auf die Transportinfrastruktur angewandt, beschreiben Sie bitte das Verfahren, das für die Erstellung des jährlichen Verzeichnisses der CO2-Einträge und -Entnahme in und aus der CO2-Transportinfrastruktur sowie für die Überwachung des CO2 in Transit gemäß Artikel 49 Absatz 6 angewandt wird.",null,"J_Transferred GHG'!$E$179"]
[1721,"J2. CCU für permanent gebundenes CO2",null,"J2_PermCCU'!$B$2"]
[1722,"J2. In einem Produkt dauerhaft chemisch gebundenes CO2",null,"J2_PermCCU'!$C$6"]
[1723,"Bestimmung der Mengen an dauerhaft chemisch gebundenem CO2",null,"J2_PermCCU'!$D$10"]
[1724,"Anmerkung: Dieser Abschnitt ist auszufüllen, wenn CO2 gemäß Artikel 49a abgeschieden und  in einem Produkt, in dem das CO2 dauerhaft chemisch gebunden ist, verwendet wird (CCU). CO2, das in Produkten gebunden ist, die nicht den Spezifikationen des Artikels 49a entsprechen, wird hier nicht erfasst.",null,"J2_PermCCU'!$D$12"]
[1725,"Beschreiben Sie bitte ausführlich den Prozess, bei dem das CO2 dauerhaft chemisch gebunden wird. ",null,"J2_PermCCU'!$E$14"]
[1726,"Beschreiben Sie bitte kurz die Überwachungsmethodik, einschließlich der Formeln, die zur Bestimmung der jährlichen Menge des dauerhaft chemisch in einem Produkt gebundenen CO2 verwendet werden.",null,"J2_PermCCU'!$E$15"]
[1727,"Dies sollte insbesondere den Prozess, in dem das CO2 chemisch gebunden wird, die Systemgrenzen  des Prozesses, den Standort (entweder vor Ort oder in einer anderen Anlage oder Einheit), sowie die relevanten Input- und Outputmaterialien und deren chemische Zusammensetzung, insbesondere den Kohlenstoffgehalt, umfassen. Bitte stellen Sie sicher, dass diese Berechnungen in Einklang mit Artikel 49a MVO stehen.",null,"J2_PermCCU'!$E$16"]
[1728,"Beschreiben Sie das Verfahren zur Feststellung, ob ein Produkt in dem CO2 gemäß Artikel 49a Absatz 1 dieser Verordnung dauerhaft chemisch gebunden ist die Anforderungen der delegierten Verordnung gemäß Artikel 12 Absatz 3b der Richtlinie 2003/87/EG erfüllt, sowie die Arten der Verwendung dieses Produkts.",null,"J2_PermCCU'!$E$41"]
[1729,"Beschreiben Sie das Verfahren, das für die Berechnungsmethodik zur Bestimmung der dauerhaft chemisch gebundenen CO2-Mengen gemäß Artikel 49a Absatz 2 verwendet wird. ",null,"J2_PermCCU'!$E$54"]
[1730,"Die Verbesserungsberichte sind für Anlagen der Kategorie C alle zwei Jahre, der Kategorie B alle drei Jahre und der Kategorie A alle fünf Jahre zu übermitteln.",null,"K_ManagementControl'!$E$77"]
[1731,"Verbrennung von Brennstoffen in Anlagen für die Verbrennung von Siedlungsabfällen mit einer Gesamtbrennstoffwärmeleistung von mehr als 20 MW"]

{"sheet":"VersionDocumentation","index":20,"n_rows":91,"n_cols":3,"rows_kept":91,"cut":false,"hidden":true,"merged":[]}
["Info for automatic Version detection"]
["Template type:","Phase 4 Installation Monitoring Plan"]
["Version:","2025-07-11",{"$f":"IF(ISNUMBER(MATCH(B3,A18:A29,0)),VLOOKUP(B3,A18:B29,2,FALSE),\"---\")","v":"MP P4 Inst_AT_de_110725.xls"}]
["Issued by:","Austria"]
["Language:","German"]
[]
["Type list:"]
["Monitoring plan tonne-kilometre data",null,"MP TKM"]
["Monitoring plan annual emissions",null,"MP AEm"]
["Report tonne-kilometre data",null,"Report TKM"]
["Report annual emissions",null,"Report AEm"]
["Phase 3 Installation Monitoring Plan",null,"MP P3 Inst"]
["Phase 4 Installation Monitoring Plan",null,"MP P4 Inst"]
["Phase 4 Monitoring Plan Aircraft operators",null,"MP P3 Aircraft"]
["Phase 4 Monitoring Plan Aircraft t-km",null,"MP P3 TKM"]
[]
["Version list","Reference File Name","Version comments"]
["2020-08-06",{"$f":"IF(ISBLANK($A18),\"---\", VLOOKUP($B$2,$A$8:$C$15,3,0) & \"_\" & VLOOKUP($B$4,$A$32:$B$64,2,0)&\"_\"&VLOOKUP($B$5,$A$67:$B$91,2,0)&\"_\"& TEXT(DAY($A18),\"0#\")& TEXT(MONTH($A18),\"0#\")& TEXT(YEAR($A18)-2000,\"0#\")&\".xls\")","v":"MP P4 Inst_AT_de_060820.xls"},"First draft Amendments UBA based on 3rd phase template"]
["2020-11-02","MP P4 Inst_AT_de_021120.xls","2nd draft to CCC"]
["2020-11-03","MP P4 Inst_AT_de_031120.xls","updated for translations"]
["2020-12-04",{"$f":"IF(ISBLANK($A21),\"---\", VLOOKUP($B$2,$A$8:$C$15,3,0) & \"_\" & VLOOKUP($B$4,$A$32:$B$64,2,0)&\"_\"&VLOOKUP($B$5,$A$67:$B$91,2,0)&\"_\"& TEXT(DAY($A21),\"0#\")& TEXT(MONTH($A21),\"0#\")& TEXT(YEAR($A21)-2000,\"0#\")&\".xls\")","v":"MP P4 Inst_AT_de_041220.xls"},"endorsed by CCC"]
["2023-02-08","MP P4 Inst_AT_de_080223.xls","Cement EF tier fix"]
["2023-11-30","MP P4 Inst_AT_de_301123.xls","update for inclusion of muncipal waste incinerators (new Annex I activity and source stream name \"waste\")"]
["2024-12-17","MP P4 Inst_AT_de_171224.xls","update for MRR as amended incl. 2024"]
["2025-07-11","MP P4 Inst_AT_de_110725.xls","Veröffentlichung AT Version"]
[null,"---"]
[null,"---"]
[null,"---"]
[null,"---"]
[]
["Issued by:"]
["European Commission","COM"]
["Umweltbundesamt","UBA"]
["Austria","AT"]
["Belgium","BE"]
["Bulgaria","BG"]
["Croatia","HR"]
["Cyprus","CY"]
["Czech Republic","CZ"]
["Denmark","DK"]
["Estonia","EE"]
["Finland","FI"]
["France","FR"]
["Germany","DE"]
["Greece","EL"]
["Hungary","HU"]
["Iceland","IC"]
["Ireland","IE"]
["Italy","IT"]
["Latvia","LV"]
["Liechtenstein","LI"]
["Lithuania","LT"]
["Luxembourg","LU"]
["Malta","MT"]
["Netherlands","NL"]
["Norway","NO"]
["Poland","PL"]
["Portugal","PT"]
["Romania","RO"]
["Slovakia","SK"]
["Slovenia","SI"]
["Spain","ES"]
["Sweden","SE"]
["United Kingdom","UK"]
[]
["Languages list"]
["Bulgarian","bg"]
["Spanish","es"]
["Croatian","hr"]
["Czech","cs"]
["Danish","da"]
["German","de"]
["Estonian","et"]
["Greek","el"]
["English","en"]
["French","fr"]
["Icelandic","ic"]
["Italian","it"]
["Latvian","lv"]
["Lithuanian","lt"]
["Hungarian","hu"]
["Maltese","mt"]
["Norwegian","no"]
["Dutch","nl"]
["Polish","pl"]
["Portuguese","pt"]
["Romanian","ro"]
["Slovak","sk"]
["Slovenian","sl"]
["Finnish","fi"]
["Swedish","sv"]